Workbook

Sheet Riassunto
A1: SERIE A | O1: 1 giro giu
A2: ='Serie A'!A1:E1 -> VIRGY TEAM | G2: Crediti Rimasti | H2: ='Serie A'!E31 -> 507 | I2: Rimanente | J2: 4 | O2: 2 giro giu
I3: P-D-C-A | O3: 3 giro giu
O4: 1 giro set
A5: CSKA SCINA | G5: Crediti Rimasti | H5: ='Serie A'!L31 -> 530 | I5: Rimanente | J5: 4 | O5: 2 giro set
I6: P-D-C-A
A8: FLYBEARD | G8: Crediti Rimasti | H8: ='Serie A'!S31 -> 530 | I8: Rimanente | J8: 4
I9: P-D-C-A
A11: SC APPLAUSO | G11: Crediti Rimasti | H11: ='Serie A'!Z31 -> 527 | I11: Rimanente | J11: 4
I12: P-D-C-A
A14: INTERFOGAT | G14: Crediti Rimasti | H14: ='Serie A'!AG31 -> 503 | I14: Rimanente | J14: 4
I15: P-D-C-A
A17: MA BRAVISSIMI | G17: Crediti Rimasti | H17: ='Serie A'!AN31 -> 517 | I17: Rimanente | J17: 4
I18: P-D-C-A
A20: MC TOWN | G20: Crediti Rimasti | H20: ='Serie A'!AU31 -> 502 | I20: Rimanente | J20: 4
I21: P-D-C-A
A23: EVRIBADI | G23: Crediti Rimasti | H23: ='Serie A'!BB31 -> 513 | I23: Rimanente | J23: 4
I24: P-D-C-A
A26: UGF PISA | G26: Crediti Rimasti | H26: ='Serie A'!BI31 -> 536 | I26: Rimanente | J26: 4
I27: P-D-C-A
A29: LUCENSE | G29: Crediti Rimasti | H29: ='Serie A'!BP31 -> 539 | I29: Rimanente | J29: 4
I30: P-D-C-A
A33: SERIE B
A34: BISCOTTI STRIMBUSCHISTANI | G34: Crediti Rimasti | H34: ='Serie B'!E31 -> 511 | I34: Rimanente | J34: 4
I35: P-D-C-A
A37: MARCELLONA | G37: Crediti Rimasti | H37: ='Serie B'!L31 -> 517 | I37: Rimanente | J37: 4
I38: P-D-C-A
A40: CYRANO IR | G40: Crediti Rimasti | H40: ='Serie B'!S31 -> 508 | I40: Rimanente | J40: 4
I41: P-D-C-A
A43: BRIGATA GURREN | G43: Crediti Rimasti | H43: ='Serie B'!Z31 -> 507 | I43: Rimanente | J43: 4
I44: P-D-C-A
A46: TEAM AS TURBO | G46: Crediti Rimasti | H46: ='Serie B'!AG31 -> 512 | I46: Rimanente | J46: 4
I47: P-D-C-A
A49: NEDVED 11 | G49: Crediti Rimasti | H49: ='Serie B'!AN31 -> 515 | I49: Rimanente | J49: 4
I50: P-D-C-A
A52: IBRADIPOSI | G52: Crediti Rimasti | H52: ='Serie B'!AU31 -> 512 | I52: Rimanente | J52: 4
I53: P-D-C-A
A55: REAL PETARE | G55: Crediti Rimasti | H55: ='Serie B'!BB31 -> 510 | I55: Rimanente | J55: 4
I56: P-D-C-A
A58: BAYER 04 PAPPIANA | G58: Crediti Rimasti | H58: ='Serie B'!BI31 -> 510 | I58: Rimanente | J58: 4
I59: P-D-C-A
A61: REAL PAGA | G61: Crediti Rimasti | H61: ='Serie B'!BP31 -> 540 | I61: Rimanente | J61: 4
I62: P-D-C-A
A66: SERIE C
A67: AC DENTI | G67: Crediti Rimasti | H67: ='Serie C'!E31 -> 521 | I67: Rimanente | J67: 4
I68: P-D-C-A
A70: FC LEAD | G70: Crediti Rimasti | H70: ='Serie C'!L31 -> 530 | I70: Rimanente | J70: 4
I71: P-D-C-A
A73: MOJITO | G73: Crediti Rimasti | H73: ='Serie C'!S31 -> 530 | I73: Rimanente | J73: 4
I74: P-D-C-A
A76: PAUL FRANK INDUSTRIES | G76: Crediti Rimasti | H76: ='Serie C'!Z31 -> 530 | I76: Rimanente | J76: 4
I77: P-D-C-A
A79: FANTALISBON | G79: Crediti Rimasti | H79: ='Serie C'!AG31 -> 530 | I79: Rimanente | J79: 4
I80: P-D-C-A
A82: SKIACCIAK MOSCA | G82: Crediti Rimasti | H82: ='Serie C'!AN31 -> 530 | I82: Rimanente | J82: 4
I83: P-D-C-A
A85: SOLOPISA | G85: Crediti Rimasti | H85: ='Serie C'!AU31 -> 530 | I85: Rimanente | J85: 4
I86: P-D-C-A
A88: CICCIOBUCCIO | G88: Crediti Rimasti | H88: ='Serie C'!BB31 -> 519 | I88: Rimanente | J88: 4
I89: P-D-C-A
A91: BAYERN BIKERS | G91: Crediti Rimasti | H91: ='Serie C'!BI31 -> 530 | I91: Rimanente | J91: 4
I92: P-D-C-A
A94: PATATINAIKOS | G94: Crediti Rimasti | H94: ='Serie C'!BP31 -> 534 | I94: Rimanente | J94: 4
I95: P-D-C-A
A99: SERIE D
A100: LONGOBARDA | G100: Crediti Rimasti | H100: ='Serie D'!E31 -> 530 | I100: Rimanente | J100: 4
I101: P-D-C-A
A103: AS TRONZI | G103: Crediti Rimasti | H103: ='Serie D'!L31 -> 530 | I103: Rimanente | J103: 4
I104: P-D-C-A
A106: ALINGHI | G106: Crediti Rimasti | H106: ='Serie D'!S31 -> 510 | I106: Rimanente | J106: 4
I107: P-D-C-A
A109: STURM UND DRANG | G109: Crediti Rimasti | H109: ='Serie D'!Z31 -> 530 | I109: Rimanente | J109: 4
I110: P-D-C-A
A112: HERTA VERNELLO | G112: Crediti Rimasti | H112: ='Serie D'!AG31 -> 530 | I112: Rimanente | J112: 4
I113: P-D-C-A
A115: REAL MARKOTI | G115: Crediti Rimasti | H115: ='Serie D'!AN31 -> 517 | I115: Rimanente | J115: 4
I116: P-D-C-A
A118: BOCA CCIUCCO | G118: Crediti Rimasti | H118: ='Serie D'!AU31 -> 508 | I118: Rimanente | J118: 4
I119: P-D-C-A
A121: CHIAVO VERONICA | G121: Crediti Rimasti | H121: ='Serie D'!BB31 -> 530 | I121: Rimanente | J121: 4
I122: P-D-C-A
A124: DINAMO BETA HOUSE | G124: Crediti Rimasti | H124: ='Serie D'!BI31 -> 510 | I124: Rimanente | J124: 4
I125: P-D-C-A
A127: FC BENE BENE | G127: Crediti Rimasti | H127: ='Serie D'!BP31 -> 508 | I127: Rimanente | J127: 4
I128: P-D-C-A
A132: ECCELLENZA
A133: AGAINST MODERN FOOTBALL | G133: Crediti Rimasti | H133: =Eccellenza!E31 -> 530 | I133: Rimanente | J133: 4
I134: P-D-C-A
A136: PISANO DOCG | G136: Crediti Rimasti | H136: =Eccellenza!L31 -> 500 | I136: Rimanente | J136: 4
I137: P-D-C-A
A139: SAMBUCA JUNIORS | G139: Crediti Rimasti | H139: =Eccellenza!S31 -> 528 | I139: Rimanente | J139: 4
I140: P-D-C-A
A142: AS SECCO | G142: Crediti Rimasti | H142: =Eccellenza!Z31 -> 514 | I142: Rimanente | J142: 4
I143: P-D-C-A
A145: PURPLE MILE | G145: Crediti Rimasti | H145: =Eccellenza!AG31 -> 530 | I145: Rimanente | J145: 4
I146: P-D-C-A
A148: IL PRESIDENTE | G148: Crediti Rimasti | H148: =Eccellenza!AN31 -> 530 | I148: Rimanente | J148: 4
I149: P-D-C-A
A151: U BACICCIA | G151: Crediti Rimasti | H151: =Eccellenza!AU31 -> 527 | I151: Rimanente | J151: 4
I152: P-D-C-A
...

Sheet Serie A
A1: VIRGY TEAM | F1: 70.73 | H1: CSKA SCINA | M1: 71.47 | O1: FLYBEARD | T1: 72.44 | V1: SC APPLAUSO | AA1: 73.5 | AC1: INTERFOGA | AH1: 73.73 | AJ1: MA BRAVISSIMI | AO1: 73.99 | AQ1: MC TOWN | AV1: 74.04 | AX1: EVRIBADI | BC1: 74.09 | BE1: UGF PISA | BJ1: 74.59 | BL1: LUCENSE | BQ1: 75.69
A2: Ruolo | B2: Calciatore | C2: Squadra | D2: Costo | E2: Giugno | F2: Settembre | H2: Ruolo | I2: Calciatore | J2: Squadra | K2: Costo | L2: Giugno | M2: Settembre | O2: Ruolo | P2: Calciatore | Q2: Squadra | R2: Costo | S2: Giugno | T2: Settembre | V2: Ruolo | W2: Calciatore | X2: Squadra | Y2: Costo | Z2: Giugno | AA2: Settembre | AC2: Ruolo | AD2: Calciatore | AE2: Squadra | AF2: Costo | AG2: Giugno | AH2: Settembre | AJ2: Ruolo | AK2: Calciatore | AL2: Squadra | AM2: Costo | AN2: Giugno | AO2: Settembre | AQ2: Ruolo | AR2: Calciatore | AS2: Squadra | AT2: Costo | AU2: Giugno | AV2: Settembre | AX2: Ruolo | AY2: Calciatore | AZ2: Squadra | BA2: Costo | BB2: Giugno | BC2: Settembre | BE2: Ruolo | BF2: Calciatore | BG2: Squadra | BH2: Costo | BI2: Giugno | BJ2: Settembre | BL2: Ruolo | BM2: Calciatore | BN2: Squadra | BO2: Costo | BP2: Giugno | BQ2: Settembre
A3: P | B3: PERIN | D3: 2 | H3: P | I3: COLOMBI | K3: 1 | L3: =IF(H3="P",IF(K3<5,"SI","NO"),IF(H3="D",IF(K3<9,"SI","NO"),IF(H3="C",IF(K3<17,"SI","NO"),IF(H3="A",IF(K3<31,"SI","NO"))))) -> SI | M3: =IF(H3="P",IF(K3<3,"SI","NO"),IF(H3="D",IF(K3<5,"SI","NO"),IF(H3="C",IF(K3<9,"SI","NO"),IF(H3="A",IF(K3<16,"SI","NO"))))) -> SI | O3: P | P3: SIRIGU | R3: 32 | S3: =IF(O3="P",IF(R3<5,"SI","NO"),IF(O3="D",IF(R3<9,"SI","NO"),IF(O3="C",IF(R3<17,"SI","NO"),IF(O3="A",IF(R3<31,"SI","NO"))))) -> NO | T3: =IF(O3="P",IF(R3<3,"SI","NO"),IF(O3="D",IF(R3<5,"SI","NO"),IF(O3="C",IF(R3<9,"SI","NO"),IF(O3="A",IF(R3<16,"SI","NO"))))) -> NO | V3: P | W3: SEPE | Y3: 4 | Z3: =IF(V3="P",IF(Y3<5,"SI","NO"),IF(V3="D",IF(Y3<9,"SI","NO"),IF(V3="C",IF(Y3<17,"SI","NO"),IF(V3="A",IF(Y3<31,"SI","NO"))))) -> SI | AA3: =IF(V3="P",IF(Y3<3,"SI","NO"),IF(V3="D",IF(Y3<5,"SI","NO"),IF(V3="C",IF(Y3<9,"SI","NO"),IF(V3="A",IF(Y3<16,"SI","NO"))))) -> NO | AC3: P | AD3: CRAGNO | AF3: 5 | AG3: =IF(AC3="P",IF(AF3<5,"SI","NO"),IF(AC3="D",IF(AF3<9,"SI","NO"),IF(AC3="C",IF(AF3<17,"SI","NO"),IF(AC3="A",IF(AF3<31,"SI","NO"))))) -> NO | AH3: =IF(AC3="P",IF(AF3<3,"SI","NO"),IF(AC3="D",IF(AF3<5,"SI","NO"),IF(AC3="C",IF(AF3<9,"SI","NO"),IF(AC3="A",IF(AF3<16,"SI","NO"))))) -> NO | AJ3: P | AK3: OSPINA | AM3: 1 | AQ3: P | AR3: SZCZESNY | AT3: 50 | AU3: =IF(AQ3="P",IF(AT3<5,"SI","NO"),IF(AQ3="D",IF(AT3<9,"SI","NO"),IF(AQ3="C",IF(AT3<17,"SI","NO"),IF(AQ3="A",IF(AT3<31,"SI","NO"))))) -> NO | AV3: =IF(AQ3="P",IF(AT3<3,"SI","NO"),IF(AQ3="D",IF(AT3<5,"SI","NO"),IF(AQ3="C",IF(AT3<9,"SI","NO"),IF(AQ3="A",IF(AT3<16,"SI","NO"))))) -> NO | AX3: P | AY3: HANDANOVIC | BA3: 59 | BB3: =IF(AX3="P",IF(BA3<5,"SI","NO"),IF(AX3="D",IF(BA3<9,"SI","NO"),IF(AX3="C",IF(BA3<17,"SI","NO"),IF(AX3="A",IF(BA3<31,"SI","NO"))))) -> NO | BC3: =IF(AX3="P",IF(BA3<3,"SI","NO"),IF(AX3="D",IF(BA3<5,"SI","NO"),IF(AX3="C",IF(BA3<9,"SI","NO"),IF(AX3="A",IF(BA3<16,"SI","NO"))))) -> NO | BE3: P | BF3: DRAGOWSKI | BH3: 10 | BI3: =IF(BE3="P",IF(BH3<5,"SI","NO"),IF(BE3="D",IF(BH3<9,"SI","NO"),IF(BE3="C",IF(BH3<17,"SI","NO"),IF(BE3="A",IF(BH3<31,"SI","NO"))))) -> NO | BJ3: =IF(BE3="P",IF(BH3<3,"SI","NO"),IF(BE3="D",IF(BH3<5,"SI","NO"),IF(BE3="C",IF(BH3<9,"SI","NO"),IF(BE3="A",IF(BH3<16,"SI","NO"))))) -> NO | BL3: P | BM3: HANDANOVIC | BO3: 50 | BP3: =IF(BL3="P",IF(BO3<5,"SI","NO"),IF(BL3="D",IF(BO3<9,"SI","NO"),IF(BL3="C",IF(BO3<17,"SI","NO"),IF(BL3="A",IF(BO3<31,"SI","NO"))))) -> NO | BQ3: =IF(BL3="P",IF(BO3<3,"SI","NO"),IF(BL3="D",IF(BO3<5,"SI","NO"),IF(BL3="C",IF(BO3<9,"SI","NO"),IF(BL3="A",IF(BO3<16,"SI","NO"))))) -> NO
A4: P | B4: MONTIPO' | D4: 1 | E4: =IF(A4="P",IF(D4<5,"SI","NO"),IF(A4="D",IF(D4<9,"SI","NO"),IF(A4="C",IF(D4<17,"SI","NO"),IF(A4="A",IF(D4<31,"SI","NO"))))) -> SI | F4: =IF(A4="P",IF(D4<3,"SI","NO"),IF(A4="D",IF(D4<5,"SI","NO"),IF(A4="C",IF(D4<9,"SI","NO"),IF(A4="A",IF(D4<16,"SI","NO"))))) -> SI | H4: P | I4: SEPE | K4: 2 | L4: =IF(H4="P",IF(K4<5,"SI","NO"),IF(H4="D",IF(K4<9,"SI","NO"),IF(H4="C",IF(K4<17,"SI","NO"),IF(H4="A",IF(K4<31,"SI","NO"))))) -> SI | M4: =IF(H4="P",IF(K4<3,"SI","NO"),IF(H4="D",IF(K4<5,"SI","NO"),IF(H4="C",IF(K4<9,"SI","NO"),IF(H4="A",IF(K4<16,"SI","NO"))))) -> SI | O4: P | P4: DRAGOWSKI | R4: 21 | S4: =IF(O4="P",IF(R4<5,"SI","NO"),IF(O4="D",IF(R4<9,"SI","NO"),IF(O4="C",IF(R4<17,"SI","NO"),IF(O4="A",IF(R4<31,"SI","NO"))))) -> NO | T4: =IF(O4="P",IF(R4<3,"SI","NO"),IF(O4="D",IF(R4<5,"SI","NO"),IF(O4="C",IF(R4<9,"SI","NO"),IF(O4="A",IF(R4<16,"SI","NO"))))) -> NO | V4: P | W4: SKORUPSKI | Y4: 2 | Z4: =IF(V4="P",IF(Y4<5,"SI","NO"),IF(V4="D",IF(Y4<9,"SI","NO"),IF(V4="C",IF(Y4<17,"SI","NO"),IF(V4="A",IF(Y4<31,"SI","NO"))))) -> SI | AA4: =IF(V4="P",IF(Y4<3,"SI","NO"),IF(V4="D",IF(Y4<5,"SI","NO"),IF(V4="C",IF(Y4<9,"SI","NO"),IF(V4="A",IF(Y4<16,"SI","NO"))))) -> SI | AC4: P | AD4: SKORUPSKI | AF4: 1 | AG4: =IF(AC4="P",IF(AF4<5,"SI","NO"),IF(AC4="D",IF(AF4<9,"SI","NO"),IF(AC4="C",IF(AF4<17,"SI","NO"),IF(AC4="A",IF(AF4<31,"SI","NO"))))) -> SI | AH4: =IF(AC4="P",IF(AF4<3,"SI","NO"),IF(AC4="D",IF(AF4<5,"SI","NO"),IF(AC4="C",IF(AF4<9,"SI","NO"),IF(AC4="A",IF(AF4<16,"SI","NO"))))) -> SI | AJ4: P | AK4: MERET | AM4: 17 | AN4: =IF(AJ4="P",IF(AM4<5,"SI","NO"),IF(AJ4="D",IF(AM4<9,"SI","NO"),IF(AJ4="C",IF(AM4<17,"SI","NO"),IF(AJ4="A",IF(AM4<31,"SI","NO"))))) -> NO | AO4: =IF(AJ4="P",IF(AM4<3,"SI","NO"),IF(AJ4="D",IF(AM4<5,"SI","NO"),IF(AJ4="C",IF(AM4<9,"SI","NO"),IF(AJ4="A",IF(AM4<16,"SI","NO"))))) -> NO | AQ4: P | AR4: CONSIGLI | AT4: 1 | AU4: =IF(AQ4="P",IF(AT4<5,"SI","NO"),IF(AQ4="D",IF(AT4<9,"SI","NO"),IF(AQ4="C",IF(AT4<17,"SI","NO"),IF(AQ4="A",IF(AT4<31,"SI","NO"))))) -> SI | AV4: =IF(AQ4="P",IF(AT4<3,"SI","NO"),IF(AQ4="D",IF(AT4<5,"SI","NO"),IF(AQ4="C",IF(AT4<9,"SI","NO"),IF(AQ4="A",IF(AT4<16,"SI","NO"))))) -> SI | AX4: P | AY4: RADU | BA4: 1 | BB4: =IF(AX4="P",IF(BA4<5,"SI","NO"),IF(AX4="D",IF(BA4<9,"SI","NO"),IF(AX4="C",IF(BA4<17,"SI","NO"),IF(AX4="A",IF(BA4<31,"SI","NO"))))) -> SI | BC4: =IF(AX4="P",IF(BA4<3,"SI","NO"),IF(AX4="D",IF(BA4<5,"SI","NO"),IF(AX4="C",IF(BA4<9,"SI","NO"),IF(AX4="A",IF(BA4<16,"SI","NO"))))) -> SI | BE4: P | BF4: TERRACCIANO | BH4: 1 | BI4: =IF(BE4="P",IF(BH4<5,"SI","NO"),IF(BE4="D",IF(BH4<9,"SI","NO"),IF(BE4="C",IF(BH4<17,"SI","NO"),IF(BE4="A",IF(BH4<31,"SI","NO"))))) -> SI | BJ4: =IF(BE4="P",IF(BH4<3,"SI","NO"),IF(BE4="D",IF(BH4<5,"SI","NO"),IF(BE4="C",IF(BH4<9,"SI","NO"),IF(BE4="A",IF(BH4<16,"SI","NO"))))) -> SI | BL4: P | BM4: RADU | BO4: 1 | BP4: =IF(BL4="P",IF(BO4<5,"SI","NO"),IF(BL4="D",IF(BO4<9,"SI","NO"),IF(BL4="C",IF(BO4<17,"SI","NO"),IF(BL4="A",IF(BO4<31,"SI","NO"))))) -> SI | BQ4: =IF(BL4="P",IF(BO4<3,"SI","NO"),IF(BL4="D",IF(BO4<5,"SI","NO"),IF(BL4="C",IF(BO4<9,"SI","NO"),IF(BL4="A",IF(BO4<16,"SI","NO"))))) -> SI
A5: P | B5: CORDAZ | D5: 1 | E5: =IF(A5="P",IF(D5<5,"SI","NO"),IF(A5="D",IF(D5<9,"SI","NO"),IF(A5="C",IF(D5<17,"SI","NO"),IF(A5="A",IF(D5<31,"SI","NO"))))) -> SI | F5: =IF(A5="P",IF(D5<3,"SI","NO"),IF(A5="D",IF(D5<5,"SI","NO"),IF(A5="C",IF(D5<9,"SI","NO"),IF(A5="A",IF(D5<16,"SI","NO"))))) -> SI | H5: P | I5: REINA | K5: 1 | L5: =IF(H5="P",IF(K5<5,"SI","NO"),IF(H5="D",IF(K5<9,"SI","NO"),IF(H5="C",IF(K5<17,"SI","NO"),IF(H5="A",IF(K5<31,"SI","NO"))))) -> SI | M5: =IF(H5="P",IF(K5<3,"SI","NO"),IF(H5="D",IF(K5<5,"SI","NO"),IF(H5="C",IF(K5<9,"SI","NO"),IF(H5="A",IF(K5<16,"SI","NO"))))) -> SI | O5: P | P5: MUSSO | R5: 4 | S5: =IF(O5="P",IF(R5<5,"SI","NO"),IF(O5="D",IF(R5<9,"SI","NO"),IF(O5="C",IF(R5<17,"SI","NO"),IF(O5="A",IF(R5<31,"SI","NO"))))) -> SI | T5: =IF(O5="P",IF(R5<3,"SI","NO"),IF(O5="D",IF(R5<5,"SI","NO"),IF(O5="C",IF(R5<9,"SI","NO"),IF(O5="A",IF(R5<16,"SI","NO"))))) -> NO | V5: P | W5: PROVEDEL | Y5: 1 | Z5: =IF(V5="P",IF(Y5<5,"SI","NO"),IF(V5="D",IF(Y5<9,"SI","NO"),IF(V5="C",IF(Y5<17,"SI","NO"),IF(V5="A",IF(Y5<31,"SI","NO"))))) -> SI | AA5: =IF(V5="P",IF(Y5<3,"SI","NO"),IF(V5="D",IF(Y5<5,"SI","NO"),IF(V5="C",IF(Y5<9,"SI","NO"),IF(V5="A",IF(Y5<16,"SI","NO"))))) -> SI | AC5: P | AD5: AUDERO | AF5: 1 | AG5: =IF(AC5="P",IF(AF5<5,"SI","NO"),IF(AC5="D",IF(AF5<9,"SI","NO"),IF(AC5="C",IF(AF5<17,"SI","NO"),IF(AC5="A",IF(AF5<31,"SI","NO"))))) -> SI | AH5: =IF(AC5="P",IF(AF5<3,"SI","NO"),IF(AC5="D",IF(AF5<5,"SI","NO"),IF(AC5="C",IF(AF5<9,"SI","NO"),IF(AC5="A",IF(AF5<16,"SI","NO"))))) -> SI | AJ5: P | AK5: CONTINI | AM5: 1 | AN5: =IF(AJ5="P",IF(AM5<5,"SI","NO"),IF(AJ5="D",IF(AM5<9,"SI","NO"),IF(AJ5="C",IF(AM5<17,"SI","NO"),IF(AJ5="A",IF(AM5<31,"SI","NO"))))) -> SI | AO5: =IF(AJ5="P",IF(AM5<3,"SI","NO"),IF(AJ5="D",IF(AM5<5,"SI","NO"),IF(AJ5="C",IF(AM5<9,"SI","NO"),IF(AJ5="A",IF(AM5<16,"SI","NO"))))) -> SI | AQ5: P | AR5: BUFFON | AT5: 1 | AU5: =IF(AQ5="P",IF(AT5<5,"SI","NO"),IF(AQ5="D",IF(AT5<9,"SI","NO"),IF(AQ5="C",IF(AT5<17,"SI","NO"),IF(AQ5="A",IF(AT5<31,"SI","NO"))))) -> SI | AV5: =IF(AQ5="P",IF(AT5<3,"SI","NO"),IF(AQ5="D",IF(AT5<5,"SI","NO"),IF(AQ5="C",IF(AT5<9,"SI","NO"),IF(AQ5="A",IF(AT5<16,"SI","NO"))))) -> SI | AX5: P | AY5: PADELLI | BA5: 1 | BB5: =IF(AX5="P",IF(BA5<5,"SI","NO"),IF(AX5="D",IF(BA5<9,"SI","NO"),IF(AX5="C",IF(BA5<17,"SI","NO"),IF(AX5="A",IF(BA5<31,"SI","NO"))))) -> SI | BC5: =IF(AX5="P",IF(BA5<3,"SI","NO"),IF(AX5="D",IF(BA5<5,"SI","NO"),IF(AX5="C",IF(BA5<9,"SI","NO"),IF(AX5="A",IF(BA5<16,"SI","NO"))))) -> SI | BE5: P | BF5: MONTIPO' | BH5: 1 | BI5: =IF(BE5="P",IF(BH5<5,"SI","NO"),IF(BE5="D",IF(BH5<9,"SI","NO"),IF(BE5="C",IF(BH5<17,"SI","NO"),IF(BE5="A",IF(BH5<31,"SI","NO"))))) -> SI | BJ5: =IF(BE5="P",IF(BH5<3,"SI","NO"),IF(BE5="D",IF(BH5<5,"SI","NO"),IF(BE5="C",IF(BH5<9,"SI","NO"),IF(BE5="A",IF(BH5<16,"SI","NO"))))) -> SI | BL5: P | BM5: PADELLI | BO5: 1 | BP5: =IF(BL5="P",IF(BO5<5,"SI","NO"),IF(BL5="D",IF(BO5<9,"SI","NO"),IF(BL5="C",IF(BO5<17,"SI","NO"),IF(BL5="A",IF(BO5<31,"SI","NO"))))) -> SI | BQ5: =IF(BL5="P",IF(BO5<3,"SI","NO"),IF(BL5="D",IF(BO5<5,"SI","NO"),IF(BL5="C",IF(BO5<9,"SI","NO"),IF(BL5="A",IF(BO5<16,"SI","NO"))))) -> SI
A6: D | B6: CALDARA | D6: 1 | H6: D | I6: GAGLIOLO | K6: 1 | O6: D | P6: DE VRIJ | R6: 30 | S6: =IF(O6="P",IF(R6<5,"SI","NO"),IF(O6="D",IF(R6<9,"SI","NO"),IF(O6="C",IF(R6<17,"SI","NO"),IF(O6="A",IF(R6<31,"SI","NO"))))) -> NO | T6: =IF(O6="P",IF(R6<3,"SI","NO"),IF(O6="D",IF(R6<5,"SI","NO"),IF(O6="C",IF(R6<9,"SI","NO"),IF(O6="A",IF(R6<16,"SI","NO"))))) -> NO | V6: D | W6: CONTI | Y6: 1 | Z6: =IF(V6="P",IF(Y6<5,"SI","NO"),IF(V6="D",IF(Y6<9,"SI","NO"),IF(V6="C",IF(Y6<17,"SI","NO"),IF(V6="A",IF(Y6<31,"SI","NO"))))) -> SI | AA6: =IF(V6="P",IF(Y6<3,"SI","NO"),IF(V6="D",IF(Y6<5,"SI","NO"),IF(V6="C",IF(Y6<9,"SI","NO"),IF(V6="A",IF(Y6<16,"SI","NO"))))) -> SI | AC6: D | AD6: SPINAZZOLA | AF6: 2 | AJ6: D | AK6: LYANCO | AM6: 1 | AN6: =IF(AJ6="P",IF(AM6<5,"SI","NO"),IF(AJ6="D",IF(AM6<9,"SI","NO"),IF(AJ6="C",IF(AM6<17,"SI","NO"),IF(AJ6="A",IF(AM6<31,"SI","NO"))))) -> SI | AO6: =IF(AJ6="P",IF(AM6<3,"SI","NO"),IF(AJ6="D",IF(AM6<5,"SI","NO"),IF(AJ6="C",IF(AM6<9,"SI","NO"),IF(AJ6="A",IF(AM6<16,"SI","NO"))))) -> SI | AQ6: D | AR6: TOLOI | AT6: 8 | AX6: D | AY6: D'AMBROSIO | BA6: 4 | BE6: D | BF6: HERNANDEZ T. | BH6: 1 | BL6: D | BM6: FARAONI | BO6: 7
A7: D | B7: HERNANDEZ T. | D7: 50 | E7: =IF(A7="P",IF(D7<5,"SI","NO"),IF(A7="D",IF(D7<9,"SI","NO"),IF(A7="C",IF(D7<17,"SI","NO"),IF(A7="A",IF(D7<31,"SI","NO"))))) -> NO | F7: =IF(A7="P",IF(D7<3,"SI","NO"),IF(A7="D",IF(D7<5,"SI","NO"),IF(A7="C",IF(D7<9,"SI","NO"),IF(A7="A",IF(D7<16,"SI","NO"))))) -> NO | H7: D | I7: RECA | K7: 2 | L7: =IF(H7="P",IF(K7<5,"SI","NO"),IF(H7="D",IF(K7<9,"SI","NO"),IF(H7="C",IF(K7<17,"SI","NO"),IF(H7="A",IF(K7<31,"SI","NO"))))) -> SI | M7: =IF(H7="P",IF(K7<3,"SI","NO"),IF(H7="D",IF(K7<5,"SI","NO"),IF(H7="C",IF(K7<9,"SI","NO"),IF(H7="A",IF(K7<16,"SI","NO"))))) -> SI | O7: D | P7: DANILO | R7: 8 | S7: =IF(O7="P",IF(R7<5,"SI","NO"),IF(O7="D",IF(R7<9,"SI","NO"),IF(O7="C",IF(R7<17,"SI","NO"),IF(O7="A",IF(R7<31,"SI","NO"))))) -> SI | T7: =IF(O7="P",IF(R7<3,"SI","NO"),IF(O7="D",IF(R7<5,"SI","NO"),IF(O7="C",IF(R7<9,"SI","NO"),IF(O7="A",IF(R7<16,"SI","NO"))))) -> NO | V7: D | W7: DI LORENZO | Y7: 16 | Z7: =IF(V7="P",IF(Y7<5,"SI","NO"),IF(V7="D",IF(Y7<9,"SI","NO"),IF(V7="C",IF(Y7<17,"SI","NO"),IF(V7="A",IF(Y7<31,"SI","NO"))))) -> NO | AA7: =IF(V7="P",IF(Y7<3,"SI","NO"),IF(V7="D",IF(Y7<5,"SI","NO"),IF(V7="C",IF(Y7<9,"SI","NO"),IF(V7="A",IF(Y7<16,"SI","NO"))))) -> NO | AC7: D | AD7: ALEX SANDRO | AF7: 18 | AG7: =IF(AC7="P",IF(AF7<5,"SI","NO"),IF(AC7="D",IF(AF7<9,"SI","NO"),IF(AC7="C",IF(AF7<17,"SI","NO"),IF(AC7="A",IF(AF7<31,"SI","NO"))))) -> NO | AH7: =IF(AC7="P",IF(AF7<3,"SI","NO"),IF(AC7="D",IF(AF7<5,"SI","NO"),IF(AC7="C",IF(AF7<9,"SI","NO"),IF(AC7="A",IF(AF7<16,"SI","NO"))))) -> NO | AJ7: D | AK7: HAKIMI | AM7: 48 | AN7: =IF(AJ7="P",IF(AM7<5,"SI","NO"),IF(AJ7="D",IF(AM7<9,"SI","NO"),IF(AJ7="C",IF(AM7<17,"SI","NO"),IF(AJ7="A",IF(AM7<31,"SI","NO"))))) -> NO | AO7: =IF(AJ7="P",IF(AM7<3,"SI","NO"),IF(AJ7="D",IF(AM7<5,"SI","NO"),IF(AJ7="C",IF(AM7<9,"SI","NO"),IF(AJ7="A",IF(AM7<16,"SI","NO"))))) -> NO | AQ7: D | AR7: CRISCITO | AT7: 16 | AU7: =IF(AQ7="P",IF(AT7<5,"SI","NO"),IF(AQ7="D",IF(AT7<9,"SI","NO"),IF(AQ7="C",IF(AT7<17,"SI","NO"),IF(AQ7="A",IF(AT7<31,"SI","NO"))))) -> NO | AV7: =IF(AQ7="P",IF(AT7<3,"SI","NO"),IF(AQ7="D",IF(AT7<5,"SI","NO"),IF(AQ7="C",IF(AT7<9,"SI","NO"),IF(AQ7="A",IF(AT7<16,"SI","NO"))))) -> NO | AX7: D | AY7: ACERBI | BA7: 40 | BB7: =IF(AX7="P",IF(BA7<5,"SI","NO"),IF(AX7="D",IF(BA7<9,"SI","NO"),IF(AX7="C",IF(BA7<17,"SI","NO"),IF(AX7="A",IF(BA7<31,"SI","NO"))))) -> NO | BC7: =IF(AX7="P",IF(BA7<3,"SI","NO"),IF(AX7="D",IF(BA7<5,"SI","NO"),IF(AX7="C",IF(BA7<9,"SI","NO"),IF(AX7="A",IF(BA7<16,"SI","NO"))))) -> NO | BE7: D | BF7: ALEX SANDRO | BH7: 11 | BI7: =IF(BE7="P",IF(BH7<5,"SI","NO"),IF(BE7="D",IF(BH7<9,"SI","NO"),IF(BE7="C",IF(BH7<17,"SI","NO"),IF(BE7="A",IF(BH7<31,"SI","NO"))))) -> NO | BJ7: =IF(BE7="P",IF(BH7<3,"SI","NO"),IF(BE7="D",IF(BH7<5,"SI","NO"),IF(BE7="C",IF(BH7<9,"SI","NO"),IF(BE7="A",IF(BH7<16,"SI","NO"))))) -> NO | BL7: D | BM7: ACERBI | BO7: 24 | BP7: =IF(BL7="P",IF(BO7<5,"SI","NO"),IF(BL7="D",IF(BO7<9,"SI","NO"),IF(BL7="C",IF(BO7<17,"SI","NO"),IF(BL7="A",IF(BO7<31,"SI","NO"))))) -> NO | BQ7: =IF(BL7="P",IF(BO7<3,"SI","NO"),IF(BL7="D",IF(BO7<5,"SI","NO"),IF(BL7="C",IF(BO7<9,"SI","NO"),IF(BL7="A",IF(BO7<16,"SI","NO"))))) -> NO
A8: D | B8: YOSHIDA | D8: 9 | E8: =IF(A8="P",IF(D8<5,"SI","NO"),IF(A8="D",IF(D8<9,"SI","NO"),IF(A8="C",IF(D8<17,"SI","NO"),IF(A8="A",IF(D8<31,"SI","NO"))))) -> NO | F8: =IF(A8="P",IF(D8<3,"SI","NO"),IF(A8="D",IF(D8<5,"SI","NO"),IF(A8="C",IF(D8<9,"SI","NO"),IF(A8="A",IF(D8<16,"SI","NO"))))) -> NO | H8: D | I8: CALDIROLA | K8: 2 | L8: =IF(H8="P",IF(K8<5,"SI","NO"),IF(H8="D",IF(K8<9,"SI","NO"),IF(H8="C",IF(K8<17,"SI","NO"),IF(H8="A",IF(K8<31,"SI","NO"))))) -> SI | M8: =IF(H8="P",IF(K8<3,"SI","NO"),IF(H8="D",IF(K8<5,"SI","NO"),IF(H8="C",IF(K8<9,"SI","NO"),IF(H8="A",IF(K8<16,"SI","NO"))))) -> SI | O8: D | P8: MANOLAS | R8: 17 | S8: =IF(O8="P",IF(R8<5,"SI","NO"),IF(O8="D",IF(R8<9,"SI","NO"),IF(O8="C",IF(R8<17,"SI","NO"),IF(O8="A",IF(R8<31,"SI","NO"))))) -> NO | T8: =IF(O8="P",IF(R8<3,"SI","NO"),IF(O8="D",IF(R8<5,"SI","NO"),IF(O8="C",IF(R8<9,"SI","NO"),IF(O8="A",IF(R8<16,"SI","NO"))))) -> NO | V8: D | W8: YOUNG | Y8: 9 | Z8: =IF(V8="P",IF(Y8<5,"SI","NO"),IF(V8="D",IF(Y8<9,"SI","NO"),IF(V8="C",IF(Y8<17,"SI","NO"),IF(V8="A",IF(Y8<31,"SI","NO"))))) -> NO | AA8: =IF(V8="P",IF(Y8<3,"SI","NO"),IF(V8="D",IF(Y8<5,"SI","NO"),IF(V8="C",IF(Y8<9,"SI","NO"),IF(V8="A",IF(Y8<16,"SI","NO"))))) -> NO | AC8: D | AD8: BONUCCI | AF8: 26 | AG8: =IF(AC8="P",IF(AF8<5,"SI","NO"),IF(AC8="D",IF(AF8<9,"SI","NO"),IF(AC8="C",IF(AF8<17,"SI","NO"),IF(AC8="A",IF(AF8<31,"SI","NO"))))) -> NO | AH8: =IF(AC8="P",IF(AF8<3,"SI","NO"),IF(AC8="D",IF(AF8<5,"SI","NO"),IF(AC8="C",IF(AF8<9,"SI","NO"),IF(AC8="A",IF(AF8<16,"SI","NO"))))) -> NO | AJ8: D | AK8: GOSENS | AM8: 51 | AN8: =IF(AJ8="P",IF(AM8<5,"SI","NO"),IF(AJ8="D",IF(AM8<9,"SI","NO"),IF(AJ8="C",IF(AM8<17,"SI","NO"),IF(AJ8="A",IF(AM8<31,"SI","NO"))))) -> NO | AO8: =IF(AJ8="P",IF(AM8<3,"SI","NO"),IF(AJ8="D",IF(AM8<5,"SI","NO"),IF(AJ8="C",IF(AM8<9,"SI","NO"),IF(AJ8="A",IF(AM8<16,"SI","NO"))))) -> NO | AQ8: D | AR8: BIRAGHI | AT8: 27 | AU8: =IF(AQ8="P",IF(AT8<5,"SI","NO"),IF(AQ8="D",IF(AT8<9,"SI","NO"),IF(AQ8="C",IF(AT8<17,"SI","NO"),IF(AQ8="A",IF(AT8<31,"SI","NO"))))) -> NO | AV8: =IF(AQ8="P",IF(AT8<3,"SI","NO"),IF(AQ8="D",IF(AT8<5,"SI","NO"),IF(AQ8="C",IF(AT8<9,"SI","NO"),IF(AQ8="A",IF(AT8<16,"SI","NO"))))) -> NO | AX8: D | AY8: CHIELLINI | BA8: 15 | BB8: =IF(AX8="P",IF(BA8<5,"SI","NO"),IF(AX8="D",IF(BA8<9,"SI","NO"),IF(AX8="C",IF(BA8<17,"SI","NO"),IF(AX8="A",IF(BA8<31,"SI","NO"))))) -> NO | BC8: =IF(AX8="P",IF(BA8<3,"SI","NO"),IF(AX8="D",IF(BA8<5,"SI","NO"),IF(AX8="C",IF(BA8<9,"SI","NO"),IF(AX8="A",IF(BA8<16,"SI","NO"))))) -> NO | BE8: D | BF8: TOMIYASU | BH8: 6 | BI8: =IF(BE8="P",IF(BH8<5,"SI","NO"),IF(BE8="D",IF(BH8<9,"SI","NO"),IF(BE8="C",IF(BH8<17,"SI","NO"),IF(BE8="A",IF(BH8<31,"SI","NO"))))) -> SI | BJ8: =IF(BE8="P",IF(BH8<3,"SI","NO"),IF(BE8="D",IF(BH8<5,"SI","NO"),IF(BE8="C",IF(BH8<9,"SI","NO"),IF(BE8="A",IF(BH8<16,"SI","NO"))))) -> NO | BL8: D | BM8: GOSENS | BO8: 41 | BP8: =IF(BL8="P",IF(BO8<5,"SI","NO"),IF(BL8="D",IF(BO8<9,"SI","NO"),IF(BL8="C",IF(BO8<17,"SI","NO"),IF(BL8="A",IF(BO8<31,"SI","NO"))))) -> NO | BQ8: =IF(BL8="P",IF(BO8<3,"SI","NO"),IF(BL8="D",IF(BO8<5,"SI","NO"),IF(BL8="C",IF(BO8<9,"SI","NO"),IF(BL8="A",IF(BO8<16,"SI","NO"))))) -> NO
A9: D | B9: DALOT | D9: 3 | E9: =IF(A9="P",IF(D9<5,"SI","NO"),IF(A9="D",IF(D9<9,"SI","NO"),IF(A9="C",IF(D9<17,"SI","NO"),IF(A9="A",IF(D9<31,"SI","NO"))))) -> SI | F9: =IF(A9="P",IF(D9<3,"SI","NO"),IF(A9="D",IF(D9<5,"SI","NO"),IF(A9="C",IF(D9<9,"SI","NO"),IF(A9="A",IF(D9<16,"SI","NO"))))) -> SI | H9: D | I9: CZYBORRA | K9: 7 | L9: =IF(H9="P",IF(K9<5,"SI","NO"),IF(H9="D",IF(K9<9,"SI","NO"),IF(H9="C",IF(K9<17,"SI","NO"),IF(H9="A",IF(K9<31,"SI","NO"))))) -> SI | M9: =IF(H9="P",IF(K9<3,"SI","NO"),IF(H9="D",IF(K9<5,"SI","NO"),IF(H9="C",IF(K9<9,"SI","NO"),IF(H9="A",IF(K9<16,"SI","NO"))))) -> NO | O9: D | P9: MILENKOVIC | R9: 27 | S9: =IF(O9="P",IF(R9<5,"SI","NO"),IF(O9="D",IF(R9<9,"SI","NO"),IF(O9="C",IF(R9<17,"SI","NO"),IF(O9="A",IF(R9<31,"SI","NO"))))) -> NO | T9: =IF(O9="P",IF(R9<3,"SI","NO"),IF(O9="D",IF(R9<5,"SI","NO"),IF(O9="C",IF(R9<9,"SI","NO"),IF(O9="A",IF(R9<16,"SI","NO"))))) -> NO | V9: D | W9: SAMIR | Y9: 2 | Z9: =IF(V9="P",IF(Y9<5,"SI","NO"),IF(V9="D",IF(Y9<9,"SI","NO"),IF(V9="C",IF(Y9<17,"SI","NO"),IF(V9="A",IF(Y9<31,"SI","NO"))))) -> SI | AA9: =IF(V9="P",IF(Y9<3,"SI","NO"),IF(V9="D",IF(Y9<5,"SI","NO"),IF(V9="C",IF(Y9<9,"SI","NO"),IF(V9="A",IF(Y9<16,"SI","NO"))))) -> SI | AC9: D | AD9: ZAPPACOSTA | AF9: 8 | AG9: =IF(AC9="P",IF(AF9<5,"SI","NO"),IF(AC9="D",IF(AF9<9,"SI","NO"),IF(AC9="C",IF(AF9<17,"SI","NO"),IF(AC9="A",IF(AF9<31,"SI","NO"))))) -> SI | AH9: =IF(AC9="P",IF(AF9<3,"SI","NO"),IF(AC9="D",IF(AF9<5,"SI","NO"),IF(AC9="C",IF(AF9<9,"SI","NO"),IF(AC9="A",IF(AF9<16,"SI","NO"))))) -> NO | AJ9: D | AK9: KARSDORP | AM9: 26 | AN9: =IF(AJ9="P",IF(AM9<5,"SI","NO"),IF(AJ9="D",IF(AM9<9,"SI","NO"),IF(AJ9="C",IF(AM9<17,"SI","NO"),IF(AJ9="A",IF(AM9<31,"SI","NO"))))) -> NO | AO9: =IF(AJ9="P",IF(AM9<3,"SI","NO"),IF(AJ9="D",IF(AM9<5,"SI","NO"),IF(AJ9="C",IF(AM9<9,"SI","NO"),IF(AJ9="A",IF(AM9<16,"SI","NO"))))) -> NO | AQ9: D | AR9: DIMARCO | AT9: 31 | AU9: =IF(AQ9="P",IF(AT9<5,"SI","NO"),IF(AQ9="D",IF(AT9<9,"SI","NO"),IF(AQ9="C",IF(AT9<17,"SI","NO"),IF(AQ9="A",IF(AT9<31,"SI","NO"))))) -> NO | AV9: =IF(AQ9="P",IF(AT9<3,"SI","NO"),IF(AQ9="D",IF(AT9<5,"SI","NO"),IF(AQ9="C",IF(AT9<9,"SI","NO"),IF(AQ9="A",IF(AT9<16,"SI","NO"))))) -> NO | AX9: D | AY9: BREMER | BA9: 2 | BB9: =IF(AX9="P",IF(BA9<5,"SI","NO"),IF(AX9="D",IF(BA9<9,"SI","NO"),IF(AX9="C",IF(BA9<17,"SI","NO"),IF(AX9="A",IF(BA9<31,"SI","NO"))))) -> SI | BC9: =IF(AX9="P",IF(BA9<3,"SI","NO"),IF(AX9="D",IF(BA9<5,"SI","NO"),IF(AX9="C",IF(BA9<9,"SI","NO"),IF(AX9="A",IF(BA9<16,"SI","NO"))))) -> SI | BE9: D | BF9: IZZO | BH9: 2 | BI9: =IF(BE9="P",IF(BH9<5,"SI","NO"),IF(BE9="D",IF(BH9<9,"SI","NO"),IF(BE9="C",IF(BH9<17,"SI","NO"),IF(BE9="A",IF(BH9<31,"SI","NO"))))) -> SI | BJ9: =IF(BE9="P",IF(BH9<3,"SI","NO"),IF(BE9="D",IF(BH9<5,"SI","NO"),IF(BE9="C",IF(BH9<9,"SI","NO"),IF(BE9="A",IF(BH9<16,"SI","NO"))))) -> SI | BL9: D | BM9: DANILO LAR. | BO9: 1 | BP9: =IF(BL9="P",IF(BO9<5,"SI","NO"),IF(BL9="D",IF(BO9<9,"SI","NO"),IF(BL9="C",IF(BO9<17,"SI","NO"),IF(BL9="A",IF(BO9<31,"SI","NO"))))) -> SI | BQ9: =IF(BL9="P",IF(BO9<3,"SI","NO"),IF(BL9="D",IF(BO9<5,"SI","NO"),IF(BL9="C",IF(BO9<9,"SI","NO"),IF(BL9="A",IF(BO9<16,"SI","NO"))))) -> SI
A10: D | B10: DI LORENZO | D10: 20 | E10: =IF(A10="P",IF(D10<5,"SI","NO"),IF(A10="D",IF(D10<9,"SI","NO"),IF(A10="C",IF(D10<17,"SI","NO"),IF(A10="A",IF(D10<31,"SI","NO"))))) -> NO | F10: =IF(A10="P",IF(D10<3,"SI","NO"),IF(A10="D",IF(D10<5,"SI","NO"),IF(A10="C",IF(D10<9,"SI","NO"),IF(A10="A",IF(D10<16,"SI","NO"))))) -> NO | H10: D | I10: FERRARI G. | K10: 4 | L10: =IF(H10="P",IF(K10<5,"SI","NO"),IF(H10="D",IF(K10<9,"SI","NO"),IF(H10="C",IF(K10<17,"SI","NO"),IF(H10="A",IF(K10<31,"SI","NO"))))) -> SI | M10: =IF(H10="P",IF(K10<3,"SI","NO"),IF(H10="D",IF(K10<5,"SI","NO"),IF(H10="C",IF(K10<9,"SI","NO"),IF(H10="A",IF(K10<16,"SI","NO"))))) -> SI | O10: D | P10: DE LIGT | R10: 21 | S10: =IF(O10="P",IF(R10<5,"SI","NO"),IF(O10="D",IF(R10<9,"SI","NO"),IF(O10="C",IF(R10<17,"SI","NO"),IF(O10="A",IF(R10<31,"SI","NO"))))) -> NO | T10: =IF(O10="P",IF(R10<3,"SI","NO"),IF(O10="D",IF(R10<5,"SI","NO"),IF(O10="C",IF(R10<9,"SI","NO"),IF(O10="A",IF(R10<16,"SI","NO"))))) -> NO | V10: D | W10: MANCINI | Y10: 9 | Z10: =IF(V10="P",IF(Y10<5,"SI","NO"),IF(V10="D",IF(Y10<9,"SI","NO"),IF(V10="C",IF(Y10<17,"SI","NO"),IF(V10="A",IF(Y10<31,"SI","NO"))))) -> NO | AA10: =IF(V10="P",IF(Y10<3,"SI","NO"),IF(V10="D",IF(Y10<5,"SI","NO"),IF(V10="C",IF(Y10<9,"SI","NO"),IF(V10="A",IF(Y10<16,"SI","NO"))))) -> NO | AC10: D | AD10: YOUNG | AF10: 15 | AG10: =IF(AC10="P",IF(AF10<5,"SI","NO"),IF(AC10="D",IF(AF10<9,"SI","NO"),IF(AC10="C",IF(AF10<17,"SI","NO"),IF(AC10="A",IF(AF10<31,"SI","NO"))))) -> NO | AH10: =IF(AC10="P",IF(AF10<3,"SI","NO"),IF(AC10="D",IF(AF10<5,"SI","NO"),IF(AC10="C",IF(AF10<9,"SI","NO"),IF(AC10="A",IF(AF10<16,"SI","NO"))))) -> NO | AJ10: D | AK10: SAMIR | AM10: 2 | AN10: =IF(AJ10="P",IF(AM10<5,"SI","NO"),IF(AJ10="D",IF(AM10<9,"SI","NO"),IF(AJ10="C",IF(AM10<17,"SI","NO"),IF(AJ10="A",IF(AM10<31,"SI","NO"))))) -> SI | AO10: =IF(AJ10="P",IF(AM10<3,"SI","NO"),IF(AJ10="D",IF(AM10<5,"SI","NO"),IF(AJ10="C",IF(AM10<9,"SI","NO"),IF(AJ10="A",IF(AM10<16,"SI","NO"))))) -> SI | AQ10: D | AR10: MARIO RUI | AT10: 8 | AU10: =IF(AQ10="P",IF(AT10<5,"SI","NO"),IF(AQ10="D",IF(AT10<9,"SI","NO"),IF(AQ10="C",IF(AT10<17,"SI","NO"),IF(AQ10="A",IF(AT10<31,"SI","NO"))))) -> SI | AV10: =IF(AQ10="P",IF(AT10<3,"SI","NO"),IF(AQ10="D",IF(AT10<5,"SI","NO"),IF(AQ10="C",IF(AT10<9,"SI","NO"),IF(AQ10="A",IF(AT10<16,"SI","NO"))))) -> NO | AX10: D | AY10: AUGELLO | BA10: 1 | BB10: =IF(AX10="P",IF(BA10<5,"SI","NO"),IF(AX10="D",IF(BA10<9,"SI","NO"),IF(AX10="C",IF(BA10<17,"SI","NO"),IF(AX10="A",IF(BA10<31,"SI","NO"))))) -> SI | BC10: =IF(AX10="P",IF(BA10<3,"SI","NO"),IF(AX10="D",IF(BA10<5,"SI","NO"),IF(AX10="C",IF(BA10<9,"SI","NO"),IF(AX10="A",IF(BA10<16,"SI","NO"))))) -> SI | BE10: D | BF10: CALABRIA | BH10: 2 | BI10: =IF(BE10="P",IF(BH10<5,"SI","NO"),IF(BE10="D",IF(BH10<9,"SI","NO"),IF(BE10="C",IF(BH10<17,"SI","NO"),IF(BE10="A",IF(BH10<31,"SI","NO"))))) -> SI | BJ10: =IF(BE10="P",IF(BH10<3,"SI","NO"),IF(BE10="D",IF(BH10<5,"SI","NO"),IF(BE10="C",IF(BH10<9,"SI","NO"),IF(BE10="A",IF(BH10<16,"SI","NO"))))) -> SI | BL10: D | BM10: MAEHLE | BO10: 13 | BP10: =IF(BL10="P",IF(BO10<5,"SI","NO"),IF(BL10="D",IF(BO10<9,"SI","NO"),IF(BL10="C",IF(BO10<17,"SI","NO"),IF(BL10="A",IF(BO10<31,"SI","NO"))))) -> NO | BQ10: =IF(BL10="P",IF(BO10<3,"SI","NO"),IF(BL10="D",IF(BO10<5,"SI","NO"),IF(BL10="C",IF(BO10<9,"SI","NO"),IF(BL10="A",IF(BO10<16,"SI","NO"))))) -> NO
A11: D | B11: CALABRIA | D11: 3 | E11: =IF(A11="P",IF(D11<5,"SI","NO"),IF(A11="D",IF(D11<9,"SI","NO"),IF(A11="C",IF(D11<17,"SI","NO"),IF(A11="A",IF(D11<31,"SI","NO"))))) -> SI | F11: =IF(A11="P",IF(D11<3,"SI","NO"),IF(A11="D",IF(D11<5,"SI","NO"),IF(A11="C",IF(D11<9,"SI","NO"),IF(A11="A",IF(D11<16,"SI","NO"))))) -> SI | H11: D | I11: STRYGER LARSEN | K11: 9 | L11: =IF(H11="P",IF(K11<5,"SI","NO"),IF(H11="D",IF(K11<9,"SI","NO"),IF(H11="C",IF(K11<17,"SI","NO"),IF(H11="A",IF(K11<31,"SI","NO"))))) -> NO | M11: =IF(H11="P",IF(K11<3,"SI","NO"),IF(H11="D",IF(K11<5,"SI","NO"),IF(H11="C",IF(K11<9,"SI","NO"),IF(H11="A",IF(K11<16,"SI","NO"))))) -> NO | O11: D | P11: MAKSIMOVIC | R11: 1 | S11: =IF(O11="P",IF(R11<5,"SI","NO"),IF(O11="D",IF(R11<9,"SI","NO"),IF(O11="C",IF(R11<17,"SI","NO"),IF(O11="A",IF(R11<31,"SI","NO"))))) -> SI | T11: =IF(O11="P",IF(R11<3,"SI","NO"),IF(O11="D",IF(R11<5,"SI","NO"),IF(O11="C",IF(R11<9,"SI","NO"),IF(O11="A",IF(R11<16,"SI","NO"))))) -> SI | V11: D | W11: GUNTER | Y11: 1 | Z11: =IF(V11="P",IF(Y11<5,"SI","NO"),IF(V11="D",IF(Y11<9,"SI","NO"),IF(V11="C",IF(Y11<17,"SI","NO"),IF(V11="A",IF(Y11<31,"SI","NO"))))) -> SI | AA11: =IF(V11="P",IF(Y11<3,"SI","NO"),IF(V11="D",IF(Y11<5,"SI","NO"),IF(V11="C",IF(Y11<9,"SI","NO"),IF(V11="A",IF(Y11<16,"SI","NO"))))) -> SI | AC11: D | AD11: SINGO | AF11: 17 | AG11: =IF(AC11="P",IF(AF11<5,"SI","NO"),IF(AC11="D",IF(AF11<9,"SI","NO"),IF(AC11="C",IF(AF11<17,"SI","NO"),IF(AC11="A",IF(AF11<31,"SI","NO"))))) -> NO | AH11: =IF(AC11="P",IF(AF11<3,"SI","NO"),IF(AC11="D",IF(AF11<5,"SI","NO"),IF(AC11="C",IF(AF11<9,"SI","NO"),IF(AC11="A",IF(AF11<16,"SI","NO"))))) -> NO | AJ11: D | AK11: MAEHLE | AM11: 4 | AN11: =IF(AJ11="P",IF(AM11<5,"SI","NO"),IF(AJ11="D",IF(AM11<9,"SI","NO"),IF(AJ11="C",IF(AM11<17,"SI","NO"),IF(AJ11="A",IF(AM11<31,"SI","NO"))))) -> SI | AO11: =IF(AJ11="P",IF(AM11<3,"SI","NO"),IF(AJ11="D",IF(AM11<5,"SI","NO"),IF(AJ11="C",IF(AM11<9,"SI","NO"),IF(AJ11="A",IF(AM11<16,"SI","NO"))))) -> SI | AQ11: D | AR11: PEREIRA P. | AT11: 1 | AU11: =IF(AQ11="P",IF(AT11<5,"SI","NO"),IF(AQ11="D",IF(AT11<9,"SI","NO"),IF(AQ11="C",IF(AT11<17,"SI","NO"),IF(AQ11="A",IF(AT11<31,"SI","NO"))))) -> SI | AV11: =IF(AQ11="P",IF(AT11<3,"SI","NO"),IF(AQ11="D",IF(AT11<5,"SI","NO"),IF(AQ11="C",IF(AT11<9,"SI","NO"),IF(AQ11="A",IF(AT11<16,"SI","NO"))))) -> SI | AX11: D | AY11: PEZZELLA GER. | BA11: 13 | BB11: =IF(AX11="P",IF(BA11<5,"SI","NO"),IF(AX11="D",IF(BA11<9,"SI","NO"),IF(AX11="C",IF(BA11<17,"SI","NO"),IF(AX11="A",IF(BA11<31,"SI","NO"))))) -> NO | BC11: =IF(AX11="P",IF(BA11<3,"SI","NO"),IF(AX11="D",IF(BA11<5,"SI","NO"),IF(AX11="C",IF(BA11<9,"SI","NO"),IF(AX11="A",IF(BA11<16,"SI","NO"))))) -> NO | BE11: D | BF11: DIMARCO | BH11: 15 | BI11: =IF(BE11="P",IF(BH11<5,"SI","NO"),IF(BE11="D",IF(BH11<9,"SI","NO"),IF(BE11="C",IF(BH11<17,"SI","NO"),IF(BE11="A",IF(BH11<31,"SI","NO"))))) -> NO | BJ11: =IF(BE11="P",IF(BH11<3,"SI","NO"),IF(BE11="D",IF(BH11<5,"SI","NO"),IF(BE11="C",IF(BH11<9,"SI","NO"),IF(BE11="A",IF(BH11<16,"SI","NO"))))) -> NO | BL11: D | BM11: DJIMSITI | BO11: 3 | BP11: =IF(BL11="P",IF(BO11<5,"SI","NO"),IF(BL11="D",IF(BO11<9,"SI","NO"),IF(BL11="C",IF(BO11<17,"SI","NO"),IF(BL11="A",IF(BO11<31,"SI","NO"))))) -> SI | BQ11: =IF(BL11="P",IF(BO11<3,"SI","NO"),IF(BL11="D",IF(BO11<5,"SI","NO"),IF(BL11="C",IF(BO11<9,"SI","NO"),IF(BL11="A",IF(BO11<16,"SI","NO"))))) -> SI
A12: D | B12: MANCINI | D12: 7 | E12: =IF(A12="P",IF(D12<5,"SI","NO"),IF(A12="D",IF(D12<9,"SI","NO"),IF(A12="C",IF(D12<17,"SI","NO"),IF(A12="A",IF(D12<31,"SI","NO"))))) -> SI | F12: =IF(A12="P",IF(D12<3,"SI","NO"),IF(A12="D",IF(D12<5,"SI","NO"),IF(A12="C",IF(D12<9,"SI","NO"),IF(A12="A",IF(D12<16,"SI","NO"))))) -> NO | H12: D | I12: LETIZIA | K12: 1 | L12: =IF(H12="P",IF(K12<5,"SI","NO"),IF(H12="D",IF(K12<9,"SI","NO"),IF(H12="C",IF(K12<17,"SI","NO"),IF(H12="A",IF(K12<31,"SI","NO"))))) -> SI | M12: =IF(H12="P",IF(K12<3,"SI","NO"),IF(H12="D",IF(K12<5,"SI","NO"),IF(H12="C",IF(K12<9,"SI","NO"),IF(H12="A",IF(K12<16,"SI","NO"))))) -> SI | O12: D | P12: RUGANI | R12: 5 | S12: =IF(O12="P",IF(R12<5,"SI","NO"),IF(O12="D",IF(R12<9,"SI","NO"),IF(O12="C",IF(R12<17,"SI","NO"),IF(O12="A",IF(R12<31,"SI","NO"))))) -> SI | T12: =IF(O12="P",IF(R12<3,"SI","NO"),IF(O12="D",IF(R12<5,"SI","NO"),IF(O12="C",IF(R12<9,"SI","NO"),IF(O12="A",IF(R12<16,"SI","NO"))))) -> NO | V12: D | W12: DANILO | Y12: 3 | Z12: =IF(V12="P",IF(Y12<5,"SI","NO"),IF(V12="D",IF(Y12<9,"SI","NO"),IF(V12="C",IF(Y12<17,"SI","NO"),IF(V12="A",IF(Y12<31,"SI","NO"))))) -> SI | AA12: =IF(V12="P",IF(Y12<3,"SI","NO"),IF(V12="D",IF(Y12<5,"SI","NO"),IF(V12="C",IF(Y12<9,"SI","NO"),IF(V12="A",IF(Y12<16,"SI","NO"))))) -> SI | AC12: D | AD12: ANSALDI | AF12: 14 | AG12: =IF(AC12="P",IF(AF12<5,"SI","NO"),IF(AC12="D",IF(AF12<9,"SI","NO"),IF(AC12="C",IF(AF12<17,"SI","NO"),IF(AC12="A",IF(AF12<31,"SI","NO"))))) -> NO | AH12: =IF(AC12="P",IF(AF12<3,"SI","NO"),IF(AC12="D",IF(AF12<5,"SI","NO"),IF(AC12="C",IF(AF12<9,"SI","NO"),IF(AC12="A",IF(AF12<16,"SI","NO"))))) -> NO | AJ12: D | AK12: DARMIAN | AM12: 4 | AN12: =IF(AJ12="P",IF(AM12<5,"SI","NO"),IF(AJ12="D",IF(AM12<9,"SI","NO"),IF(AJ12="C",IF(AM12<17,"SI","NO"),IF(AJ12="A",IF(AM12<31,"SI","NO"))))) -> SI | AO12: =IF(AJ12="P",IF(AM12<3,"SI","NO"),IF(AJ12="D",IF(AM12<5,"SI","NO"),IF(AJ12="C",IF(AM12<9,"SI","NO"),IF(AJ12="A",IF(AM12<16,"SI","NO"))))) -> SI | AQ12: D | AR12: CUADRADO | AT12: 1 | AX12: D | AY12: GLIK | BA12: 1 | BB12: =IF(AX12="P",IF(BA12<5,"SI","NO"),IF(AX12="D",IF(BA12<9,"SI","NO"),IF(AX12="C",IF(BA12<17,"SI","NO"),IF(AX12="A",IF(BA12<31,"SI","NO"))))) -> SI | BC12: =IF(AX12="P",IF(BA12<3,"SI","NO"),IF(AX12="D",IF(BA12<5,"SI","NO"),IF(AX12="C",IF(BA12<9,"SI","NO"),IF(AX12="A",IF(BA12<16,"SI","NO"))))) -> SI | BE12: D | BF12: YOSHIDA | BH12: 1 | BI12: =IF(BE12="P",IF(BH12<5,"SI","NO"),IF(BE12="D",IF(BH12<9,"SI","NO"),IF(BE12="C",IF(BH12<17,"SI","NO"),IF(BE12="A",IF(BH12<31,"SI","NO"))))) -> SI | BJ12: =IF(BE12="P",IF(BH12<3,"SI","NO"),IF(BE12="D",IF(BH12<5,"SI","NO"),IF(BE12="C",IF(BH12<9,"SI","NO"),IF(BE12="A",IF(BH12<16,"SI","NO"))))) -> SI | BL12: D | BM12: DARMIAN | BO12: 1 | BP12: =IF(BL12="P",IF(BO12<5,"SI","NO"),IF(BL12="D",IF(BO12<9,"SI","NO"),IF(BL12="C",IF(BO12<17,"SI","NO"),IF(BL12="A",IF(BO12<31,"SI","NO"))))) -> SI | BQ12: =IF(BL12="P",IF(BO12<3,"SI","NO"),IF(BL12="D",IF(BO12<5,"SI","NO"),IF(BL12="C",IF(BO12<9,"SI","NO"),IF(BL12="A",IF(BO12<16,"SI","NO"))))) -> SI
A13: D | B13: SMALLING | D13: 5 | E13: =IF(A13="P",IF(D13<5,"SI","NO"),IF(A13="D",IF(D13<9,"SI","NO"),IF(A13="C",IF(D13<17,"SI","NO"),IF(A13="A",IF(D13<31,"SI","NO"))))) -> SI | F13: =IF(A13="P",IF(D13<3,"SI","NO"),IF(A13="D",IF(D13<5,"SI","NO"),IF(A13="C",IF(D13<9,"SI","NO"),IF(A13="A",IF(D13<16,"SI","NO"))))) -> NO | H13: D | I13: NUYTINCK | K13: 1 | L13: =IF(H13="P",IF(K13<5,"SI","NO"),IF(H13="D",IF(K13<9,"SI","NO"),IF(H13="C",IF(K13<17,"SI","NO"),IF(H13="A",IF(K13<31,"SI","NO"))))) -> SI | M13: =IF(H13="P",IF(K13<3,"SI","NO"),IF(H13="D",IF(K13<5,"SI","NO"),IF(H13="C",IF(K13<9,"SI","NO"),IF(H13="A",IF(K13<16,"SI","NO"))))) -> SI | O13: D | P13: COLLEY | R13: 1 | S13: =IF(O13="P",IF(R13<5,"SI","NO"),IF(O13="D",IF(R13<9,"SI","NO"),IF(O13="C",IF(R13<17,"SI","NO"),IF(O13="A",IF(R13<31,"SI","NO"))))) -> SI | T13: =IF(O13="P",IF(R13<3,"SI","NO"),IF(O13="D",IF(R13<5,"SI","NO"),IF(O13="C",IF(R13<9,"SI","NO"),IF(O13="A",IF(R13<16,"SI","NO"))))) -> SI | V13: D | W13: LYKOGIANNIS | Y13: 1 | Z13: =IF(V13="P",IF(Y13<5,"SI","NO"),IF(V13="D",IF(Y13<9,"SI","NO"),IF(V13="C",IF(Y13<17,"SI","NO"),IF(V13="A",IF(Y13<31,"SI","NO"))))) -> SI | AA13: =IF(V13="P",IF(Y13<3,"SI","NO"),IF(V13="D",IF(Y13<5,"SI","NO"),IF(V13="C",IF(Y13<9,"SI","NO"),IF(V13="A",IF(Y13<16,"SI","NO"))))) -> SI | AC13: D | AD13: FRABOTTA | AF13: 1 | AG13: =IF(AC13="P",IF(AF13<5,"SI","NO"),IF(AC13="D",IF(AF13<9,"SI","NO"),IF(AC13="C",IF(AF13<17,"SI","NO"),IF(AC13="A",IF(AF13<31,"SI","NO"))))) -> SI | AH13: =IF(AC13="P",IF(AF13<3,"SI","NO"),IF(AC13="D",IF(AF13<5,"SI","NO"),IF(AC13="C",IF(AF13<9,"SI","NO"),IF(AC13="A",IF(AF13<16,"SI","NO"))))) -> SI | AJ13: D | AK13: IZZO | AM13: 5 | AN13: =IF(AJ13="P",IF(AM13<5,"SI","NO"),IF(AJ13="D",IF(AM13<9,"SI","NO"),IF(AJ13="C",IF(AM13<17,"SI","NO"),IF(AJ13="A",IF(AM13<31,"SI","NO"))))) -> SI | AO13: =IF(AJ13="P",IF(AM13<3,"SI","NO"),IF(AJ13="D",IF(AM13<5,"SI","NO"),IF(AJ13="C",IF(AM13<9,"SI","NO"),IF(AJ13="A",IF(AM13<16,"SI","NO"))))) -> NO | AQ13: D | AR13: MALCUIT | AT13: 1 | AU13: =IF(AQ13="P",IF(AT13<5,"SI","NO"),IF(AQ13="D",IF(AT13<9,"SI","NO"),IF(AQ13="C",IF(AT13<17,"SI","NO"),IF(AQ13="A",IF(AT13<31,"SI","NO"))))) -> SI | AV13: =IF(AQ13="P",IF(AT13<3,"SI","NO"),IF(AQ13="D",IF(AT13<5,"SI","NO"),IF(AQ13="C",IF(AT13<9,"SI","NO"),IF(AQ13="A",IF(AT13<16,"SI","NO"))))) -> SI | AX13: D | AY13: SKRINIAR | BA13: 28 | BB13: =IF(AX13="P",IF(BA13<5,"SI","NO"),IF(AX13="D",IF(BA13<9,"SI","NO"),IF(AX13="C",IF(BA13<17,"SI","NO"),IF(AX13="A",IF(BA13<31,"SI","NO"))))) -> NO | BC13: =IF(AX13="P",IF(BA13<3,"SI","NO"),IF(AX13="D",IF(BA13<5,"SI","NO"),IF(AX13="C",IF(BA13<9,"SI","NO"),IF(AX13="A",IF(BA13<16,"SI","NO"))))) -> NO | BE13: D | BF13: MARTINEZ QUARTA | BH13: 1 | BI13: =IF(BE13="P",IF(BH13<5,"SI","NO"),IF(BE13="D",IF(BH13<9,"SI","NO"),IF(BE13="C",IF(BH13<17,"SI","NO"),IF(BE13="A",IF(BH13<31,"SI","NO"))))) -> SI | BJ13: =IF(BE13="P",IF(BH13<3,"SI","NO"),IF(BE13="D",IF(BH13<5,"SI","NO"),IF(BE13="C",IF(BH13<9,"SI","NO"),IF(BE13="A",IF(BH13<16,"SI","NO"))))) -> SI | BL13: D | BM13: HYSAJ | BO13: 1 | BP13: =IF(BL13="P",IF(BO13<5,"SI","NO"),IF(BL13="D",IF(BO13<9,"SI","NO"),IF(BL13="C",IF(BO13<17,"SI","NO"),IF(BL13="A",IF(BO13<31,"SI","NO"))))) -> SI | BQ13: =IF(BL13="P",IF(BO13<3,"SI","NO"),IF(BL13="D",IF(BO13<5,"SI","NO"),IF(BL13="C",IF(BO13<9,"SI","NO"),IF(BL13="A",IF(BO13<16,"SI","NO"))))) -> SI
A14: C | B14: CALHANOGLU | D14: 5 | H14: C | I14: DE PAUL | K14: 33 | L14: =IF(H14="P",IF(K14<5,"SI","NO"),IF(H14="D",IF(K14<9,"SI","NO"),IF(H14="C",IF(K14<17,"SI","NO"),IF(H14="A",IF(K14<31,"SI","NO"))))) -> NO | M14: =IF(H14="P",IF(K14<3,"SI","NO"),IF(H14="D",IF(K14<5,"SI","NO"),IF(H14="C",IF(K14<9,"SI","NO"),IF(H14="A",IF(K14<16,"SI","NO"))))) -> NO | O14: C | P14: BARELLA | R14: 30 | S14: =IF(O14="P",IF(R14<5,"SI","NO"),IF(O14="D",IF(R14<9,"SI","NO"),IF(O14="C",IF(R14<17,"SI","NO"),IF(O14="A",IF(R14<31,"SI","NO"))))) -> NO | T14: =IF(O14="P",IF(R14<3,"SI","NO"),IF(O14="D",IF(R14<5,"SI","NO"),IF(O14="C",IF(R14<9,"SI","NO"),IF(O14="A",IF(R14<16,"SI","NO"))))) -> NO | V14: C | W14: STROOTMAN | Y14: 14 | Z14: =IF(V14="P",IF(Y14<5,"SI","NO"),IF(V14="D",IF(Y14<9,"SI","NO"),IF(V14="C",IF(Y14<17,"SI","NO"),IF(V14="A",IF(Y14<31,"SI","NO"))))) -> SI | AA14: =IF(V14="P",IF(Y14<3,"SI","NO"),IF(V14="D",IF(Y14<5,"SI","NO"),IF(V14="C",IF(Y14<9,"SI","NO"),IF(V14="A",IF(Y14<16,"SI","NO"))))) -> NO | AC14: C | AD14: ZANIOLO | AF14: 10 | AJ14: C | AK14: VERDI | AM14: 1 | AQ14: C | AR14: TAMEZE | AT14: 5 | AU14: =IF(AQ14="P",IF(AT14<5,"SI","NO"),IF(AQ14="D",IF(AT14<9,"SI","NO"),IF(AQ14="C",IF(AT14<17,"SI","NO"),IF(AQ14="A",IF(AT14<31,"SI","NO"))))) -> SI | AV14: =IF(AQ14="P",IF(AT14<3,"SI","NO"),IF(AQ14="D",IF(AT14<5,"SI","NO"),IF(AQ14="C",IF(AT14<9,"SI","NO"),IF(AQ14="A",IF(AT14<16,"SI","NO"))))) -> SI | AX14: C | AY14: NANDEZ | BA14: 2 | BE14: C | BF14: ZANIOLO | BH14: 16 | BL14: C | BM14: LOCATELLI | BO14: 1
A15: C | B15: MARIN | D15: 1 | E15: =IF(A15="P",IF(D15<5,"SI","NO"),IF(A15="D",IF(D15<9,"SI","NO"),IF(A15="C",IF(D15<17,"SI","NO"),IF(A15="A",IF(D15<31,"SI","NO"))))) -> SI | F15: =IF(A15="P",IF(D15<3,"SI","NO"),IF(A15="D",IF(D15<5,"SI","NO"),IF(A15="C",IF(D15<9,"SI","NO"),IF(A15="A",IF(D15<16,"SI","NO"))))) -> SI | H15: C | I15: KUCKA | K15: 16 | L15: =IF(H15="P",IF(K15<5,"SI","NO"),IF(H15="D",IF(K15<9,"SI","NO"),IF(H15="C",IF(K15<17,"SI","NO"),IF(H15="A",IF(K15<31,"SI","NO"))))) -> SI | M15: =IF(H15="P",IF(K15<3,"SI","NO"),IF(H15="D",IF(K15<5,"SI","NO"),IF(H15="C",IF(K15<9,"SI","NO"),IF(H15="A",IF(K15<16,"SI","NO"))))) -> NO | O15: C | P15: LUIS ALBERTO | R15: 57 | S15: =IF(O15="P",IF(R15<5,"SI","NO"),IF(O15="D",IF(R15<9,"SI","NO"),IF(O15="C",IF(R15<17,"SI","NO"),IF(O15="A",IF(R15<31,"SI","NO"))))) -> NO | T15: =IF(O15="P",IF(R15<3,"SI","NO"),IF(O15="D",IF(R15<5,"SI","NO"),IF(O15="C",IF(R15<9,"SI","NO"),IF(O15="A",IF(R15<16,"SI","NO"))))) -> NO | V15: C | W15: ZIELINSKI | Y15: 20 | Z15: =IF(V15="P",IF(Y15<5,"SI","NO"),IF(V15="D",IF(Y15<9,"SI","NO"),IF(V15="C",IF(Y15<17,"SI","NO"),IF(V15="A",IF(Y15<31,"SI","NO"))))) -> NO | AA15: =IF(V15="P",IF(Y15<3,"SI","NO"),IF(V15="D",IF(Y15<5,"SI","NO"),IF(V15="C",IF(Y15<9,"SI","NO"),IF(V15="A",IF(Y15<16,"SI","NO"))))) -> NO | AC15: C | AD15: KOVALENKO | AF15: 6 | AG15: =IF(AC15="P",IF(AF15<5,"SI","NO"),IF(AC15="D",IF(AF15<9,"SI","NO"),IF(AC15="C",IF(AF15<17,"SI","NO"),IF(AC15="A",IF(AF15<31,"SI","NO"))))) -> SI | AH15: =IF(AC15="P",IF(AF15<3,"SI","NO"),IF(AC15="D",IF(AF15<5,"SI","NO"),IF(AC15="C",IF(AF15<9,"SI","NO"),IF(AC15="A",IF(AF15<16,"SI","NO"))))) -> SI | AJ15: C | AK15: MKHITARYAN | AM15: 56 | AN15: =IF(AJ15="P",IF(AM15<5,"SI","NO"),IF(AJ15="D",IF(AM15<9,"SI","NO"),IF(AJ15="C",IF(AM15<17,"SI","NO"),IF(AJ15="A",IF(AM15<31,"SI","NO"))))) -> NO | AO15: =IF(AJ15="P",IF(AM15<3,"SI","NO"),IF(AJ15="D",IF(AM15<5,"SI","NO"),IF(AJ15="C",IF(AM15<9,"SI","NO"),IF(AJ15="A",IF(AM15<16,"SI","NO"))))) -> NO | AQ15: C | AR15: BONAVENTURA | AT15: 24 | AU15: =IF(AQ15="P",IF(AT15<5,"SI","NO"),IF(AQ15="D",IF(AT15<9,"SI","NO"),IF(AQ15="C",IF(AT15<17,"SI","NO"),IF(AQ15="A",IF(AT15<31,"SI","NO"))))) -> NO | AV15: =IF(AQ15="P",IF(AT15<3,"SI","NO"),IF(AQ15="D",IF(AT15<5,"SI","NO"),IF(AQ15="C",IF(AT15<9,"SI","NO"),IF(AQ15="A",IF(AT15<16,"SI","NO"))))) -> NO | AX15: C | AY15: VIDAL | BA15: 38 | BB15: =IF(AX15="P",IF(BA15<5,"SI","NO"),IF(AX15="D",IF(BA15<9,"SI","NO"),IF(AX15="C",IF(BA15<17,"SI","NO"),IF(AX15="A",IF(BA15<31,"SI","NO"))))) -> NO | BC15: =IF(AX15="P",IF(BA15<3,"SI","NO"),IF(AX15="D",IF(BA15<5,"SI","NO"),IF(AX15="C",IF(BA15<9,"SI","NO"),IF(AX15="A",IF(BA15<16,"SI","NO"))))) -> NO | BE15: C | BF15: BONAVENTURA | BH15: 12 | BI15: =IF(BE15="P",IF(BH15<5,"SI","NO"),IF(BE15="D",IF(BH15<9,"SI","NO"),IF(BE15="C",IF(BH15<17,"SI","NO"),IF(BE15="A",IF(BH15<31,"SI","NO"))))) -> SI | BJ15: =IF(BE15="P",IF(BH15<3,"SI","NO"),IF(BE15="D",IF(BH15<5,"SI","NO"),IF(BE15="C",IF(BH15<9,"SI","NO"),IF(BE15="A",IF(BH15<16,"SI","NO"))))) -> NO | BL15: C | BM15: KUCKA | BO15: 18 | BP15: =IF(BL15="P",IF(BO15<5,"SI","NO"),IF(BL15="D",IF(BO15<9,"SI","NO"),IF(BL15="C",IF(BO15<17,"SI","NO"),IF(BL15="A",IF(BO15<31,"SI","NO"))))) -> NO | BQ15: =IF(BL15="P",IF(BO15<3,"SI","NO"),IF(BL15="D",IF(BO15<5,"SI","NO"),IF(BL15="C",IF(BO15<9,"SI","NO"),IF(BL15="A",IF(BO15<16,"SI","NO"))))) -> NO
A16: C | B16: BARAK | D16: 2 | E16: =IF(A16="P",IF(D16<5,"SI","NO"),IF(A16="D",IF(D16<9,"SI","NO"),IF(A16="C",IF(D16<17,"SI","NO"),IF(A16="A",IF(D16<31,"SI","NO"))))) -> SI | F16: =IF(A16="P",IF(D16<3,"SI","NO"),IF(A16="D",IF(D16<5,"SI","NO"),IF(A16="C",IF(D16<9,"SI","NO"),IF(A16="A",IF(D16<16,"SI","NO"))))) -> SI | H16: C | I16: ZIELINSKI | K16: 26 | L16: =IF(H16="P",IF(K16<5,"SI","NO"),IF(H16="D",IF(K16<9,"SI","NO"),IF(H16="C",IF(K16<17,"SI","NO"),IF(H16="A",IF(K16<31,"SI","NO"))))) -> NO | M16: =IF(H16="P",IF(K16<3,"SI","NO"),IF(H16="D",IF(K16<5,"SI","NO"),IF(H16="C",IF(K16<9,"SI","NO"),IF(H16="A",IF(K16<16,"SI","NO"))))) -> NO | O16: C | P16: ARTHUR | R16: 13 | S16: =IF(O16="P",IF(R16<5,"SI","NO"),IF(O16="D",IF(R16<9,"SI","NO"),IF(O16="C",IF(R16<17,"SI","NO"),IF(O16="A",IF(R16<31,"SI","NO"))))) -> SI | T16: =IF(O16="P",IF(R16<3,"SI","NO"),IF(O16="D",IF(R16<5,"SI","NO"),IF(O16="C",IF(R16<9,"SI","NO"),IF(O16="A",IF(R16<16,"SI","NO"))))) -> NO | V16: C | W16: DE PAUL | Y16: 50 | Z16: =IF(V16="P",IF(Y16<5,"SI","NO"),IF(V16="D",IF(Y16<9,"SI","NO"),IF(V16="C",IF(Y16<17,"SI","NO"),IF(V16="A",IF(Y16<31,"SI","NO"))))) -> NO | AA16: =IF(V16="P",IF(Y16<3,"SI","NO"),IF(V16="D",IF(Y16<5,"SI","NO"),IF(V16="C",IF(Y16<9,"SI","NO"),IF(V16="A",IF(Y16<16,"SI","NO"))))) -> NO | AC16: C | AD16: CHIESA | AF16: 41 | AG16: =IF(AC16="P",IF(AF16<5,"SI","NO"),IF(AC16="D",IF(AF16<9,"SI","NO"),IF(AC16="C",IF(AF16<17,"SI","NO"),IF(AC16="A",IF(AF16<31,"SI","NO"))))) -> NO | AH16: =IF(AC16="P",IF(AF16<3,"SI","NO"),IF(AC16="D",IF(AF16<5,"SI","NO"),IF(AC16="C",IF(AF16<9,"SI","NO"),IF(AC16="A",IF(AF16<16,"SI","NO"))))) -> NO | AJ16: C | AK16: DIAZ B. | AM16: 18 | AN16: =IF(AJ16="P",IF(AM16<5,"SI","NO"),IF(AJ16="D",IF(AM16<9,"SI","NO"),IF(AJ16="C",IF(AM16<17,"SI","NO"),IF(AJ16="A",IF(AM16<31,"SI","NO"))))) -> NO | AO16: =IF(AJ16="P",IF(AM16<3,"SI","NO"),IF(AJ16="D",IF(AM16<5,"SI","NO"),IF(AJ16="C",IF(AM16<9,"SI","NO"),IF(AJ16="A",IF(AM16<16,"SI","NO"))))) -> NO | AQ16: C | AR16: CANDREVA | AT16: 27 | AU16: =IF(AQ16="P",IF(AT16<5,"SI","NO"),IF(AQ16="D",IF(AT16<9,"SI","NO"),IF(AQ16="C",IF(AT16<17,"SI","NO"),IF(AQ16="A",IF(AT16<31,"SI","NO"))))) -> NO | AV16: =IF(AQ16="P",IF(AT16<3,"SI","NO"),IF(AQ16="D",IF(AT16<5,"SI","NO"),IF(AQ16="C",IF(AT16<9,"SI","NO"),IF(AQ16="A",IF(AT16<16,"SI","NO"))))) -> NO | AX16: C | AY16: RUIZ | BA16: 19 | BB16: =IF(AX16="P",IF(BA16<5,"SI","NO"),IF(AX16="D",IF(BA16<9,"SI","NO"),IF(AX16="C",IF(BA16<17,"SI","NO"),IF(AX16="A",IF(BA16<31,"SI","NO"))))) -> NO | BC16: =IF(AX16="P",IF(BA16<3,"SI","NO"),IF(AX16="D",IF(BA16<5,"SI","NO"),IF(AX16="C",IF(BA16<9,"SI","NO"),IF(AX16="A",IF(BA16<16,"SI","NO"))))) -> NO | BE16: C | BF16: CALHANOGLU | BH16: 80 | BI16: =IF(BE16="P",IF(BH16<5,"SI","NO"),IF(BE16="D",IF(BH16<9,"SI","NO"),IF(BE16="C",IF(BH16<17,"SI","NO"),IF(BE16="A",IF(BH16<31,"SI","NO"))))) -> NO | BJ16: =IF(BE16="P",IF(BH16<3,"SI","NO"),IF(BE16="D",IF(BH16<5,"SI","NO"),IF(BE16="C",IF(BH16<9,"SI","NO"),IF(BE16="A",IF(BH16<16,"SI","NO"))))) -> NO | BL16: C | BM16: MIRANCHUK | BO16: 16 | BP16: =IF(BL16="P",IF(BO16<5,"SI","NO"),IF(BL16="D",IF(BO16<9,"SI","NO"),IF(BL16="C",IF(BO16<17,"SI","NO"),IF(BL16="A",IF(BO16<31,"SI","NO"))))) -> SI | BQ16: =IF(BL16="P",IF(BO16<3,"SI","NO"),IF(BL16="D",IF(BO16<5,"SI","NO"),IF(BL16="C",IF(BO16<9,"SI","NO"),IF(BL16="A",IF(BO16<16,"SI","NO"))))) -> NO
A17: C | B17: LOCATELLI | D17: 15 | E17: =IF(A17="P",IF(D17<5,"SI","NO"),IF(A17="D",IF(D17<9,"SI","NO"),IF(A17="C",IF(D17<17,"SI","NO"),IF(A17="A",IF(D17<31,"SI","NO"))))) -> SI | F17: =IF(A17="P",IF(D17<3,"SI","NO"),IF(A17="D",IF(D17<5,"SI","NO"),IF(A17="C",IF(D17<9,"SI","NO"),IF(A17="A",IF(D17<16,"SI","NO"))))) -> NO | H17: C | I17: TRAORE' HJ. | K17: 8 | L17: =IF(H17="P",IF(K17<5,"SI","NO"),IF(H17="D",IF(K17<9,"SI","NO"),IF(H17="C",IF(K17<17,"SI","NO"),IF(H17="A",IF(K17<31,"SI","NO"))))) -> SI | M17: =IF(H17="P",IF(K17<3,"SI","NO"),IF(H17="D",IF(K17<5,"SI","NO"),IF(H17="C",IF(K17<9,"SI","NO"),IF(H17="A",IF(K17<16,"SI","NO"))))) -> SI | O17: C | P17: KULUSEVSKI | R17: 3 | V17: C | W17: LAZZARI | Y17: 12 | Z17: =IF(V17="P",IF(Y17<5,"SI","NO"),IF(V17="D",IF(Y17<9,"SI","NO"),IF(V17="C",IF(Y17<17,"SI","NO"),IF(V17="A",IF(Y17<31,"SI","NO"))))) -> SI | AA17: =IF(V17="P",IF(Y17<3,"SI","NO"),IF(V17="D",IF(Y17<5,"SI","NO"),IF(V17="C",IF(Y17<9,"SI","NO"),IF(V17="A",IF(Y17<16,"SI","NO"))))) -> NO | AC17: C | AD17: MIRANCHUK | AF17: 25 | AG17: =IF(AC17="P",IF(AF17<5,"SI","NO"),IF(AC17="D",IF(AF17<9,"SI","NO"),IF(AC17="C",IF(AF17<17,"SI","NO"),IF(AC17="A",IF(AF17<31,"SI","NO"))))) -> NO | AH17: =IF(AC17="P",IF(AF17<3,"SI","NO"),IF(AC17="D",IF(AF17<5,"SI","NO"),IF(AC17="C",IF(AF17<9,"SI","NO"),IF(AC17="A",IF(AF17<16,"SI","NO"))))) -> NO | AJ17: C | AK17: DE ROON | AM17: 9 | AN17: =IF(AJ17="P",IF(AM17<5,"SI","NO"),IF(AJ17="D",IF(AM17<9,"SI","NO"),IF(AJ17="C",IF(AM17<17,"SI","NO"),IF(AJ17="A",IF(AM17<31,"SI","NO"))))) -> SI | AO17: =IF(AJ17="P",IF(AM17<3,"SI","NO"),IF(AJ17="D",IF(AM17<5,"SI","NO"),IF(AJ17="C",IF(AM17<9,"SI","NO"),IF(AJ17="A",IF(AM17<16,"SI","NO"))))) -> NO | AQ17: C | AR17: POLITANO | AT17: 20 | AU17: =IF(AQ17="P",IF(AT17<5,"SI","NO"),IF(AQ17="D",IF(AT17<9,"SI","NO"),IF(AQ17="C",IF(AT17<17,"SI","NO"),IF(AQ17="A",IF(AT17<31,"SI","NO"))))) -> NO | AV17: =IF(AQ17="P",IF(AT17<3,"SI","NO"),IF(AQ17="D",IF(AT17<5,"SI","NO"),IF(AQ17="C",IF(AT17<9,"SI","NO"),IF(AQ17="A",IF(AT17<16,"SI","NO"))))) -> NO | AX17: C | AY17: KESSIE' | BA17: 16 | BB17: =IF(AX17="P",IF(BA17<5,"SI","NO"),IF(AX17="D",IF(BA17<9,"SI","NO"),IF(AX17="C",IF(BA17<17,"SI","NO"),IF(AX17="A",IF(BA17<31,"SI","NO"))))) -> SI | BC17: =IF(AX17="P",IF(BA17<3,"SI","NO"),IF(AX17="D",IF(BA17<5,"SI","NO"),IF(AX17="C",IF(BA17<9,"SI","NO"),IF(AX17="A",IF(BA17<16,"SI","NO"))))) -> NO | BE17: C | BF17: PELLEGRINI LO. | BH17: 35 | BI17: =IF(BE17="P",IF(BH17<5,"SI","NO"),IF(BE17="D",IF(BH17<9,"SI","NO"),IF(BE17="C",IF(BH17<17,"SI","NO"),IF(BE17="A",IF(BH17<31,"SI","NO"))))) -> NO | BJ17: =IF(BE17="P",IF(BH17<3,"SI","NO"),IF(BE17="D",IF(BH17<5,"SI","NO"),IF(BE17="C",IF(BH17<9,"SI","NO"),IF(BE17="A",IF(BH17<16,"SI","NO"))))) -> NO | BL17: C | BM17: SORIANO | BO17: 29 | BP17: =IF(BL17="P",IF(BO17<5,"SI","NO"),IF(BL17="D",IF(BO17<9,"SI","NO"),IF(BL17="C",IF(BO17<17,"SI","NO"),IF(BL17="A",IF(BO17<31,"SI","NO"))))) -> NO | BQ17: =IF(BL17="P",IF(BO17<3,"SI","NO"),IF(BL17="D",IF(BO17<5,"SI","NO"),IF(BL17="C",IF(BO17<9,"SI","NO"),IF(BL17="A",IF(BO17<16,"SI","NO"))))) -> NO
A18: C | B18: FREULER | D18: 10 | E18: =IF(A18="P",IF(D18<5,"SI","NO"),IF(A18="D",IF(D18<9,"SI","NO"),IF(A18="C",IF(D18<17,"SI","NO"),IF(A18="A",IF(D18<31,"SI","NO"))))) -> SI | F18: =IF(A18="P",IF(D18<3,"SI","NO"),IF(A18="D",IF(D18<5,"SI","NO"),IF(A18="C",IF(D18<9,"SI","NO"),IF(A18="A",IF(D18<16,"SI","NO"))))) -> NO | H18: C | I18: ZACCAGNI | K18: 4 | L18: =IF(H18="P",IF(K18<5,"SI","NO"),IF(H18="D",IF(K18<9,"SI","NO"),IF(H18="C",IF(K18<17,"SI","NO"),IF(H18="A",IF(K18<31,"SI","NO"))))) -> SI | M18: =IF(H18="P",IF(K18<3,"SI","NO"),IF(H18="D",IF(K18<5,"SI","NO"),IF(H18="C",IF(K18<9,"SI","NO"),IF(H18="A",IF(K18<16,"SI","NO"))))) -> SI | O18: C | P18: BENNACER | R18: 1 | S18: =IF(O18="P",IF(R18<5,"SI","NO"),IF(O18="D",IF(R18<9,"SI","NO"),IF(O18="C",IF(R18<17,"SI","NO"),IF(O18="A",IF(R18<31,"SI","NO"))))) -> SI | T18: =IF(O18="P",IF(R18<3,"SI","NO"),IF(O18="D",IF(R18<5,"SI","NO"),IF(O18="C",IF(R18<9,"SI","NO"),IF(O18="A",IF(R18<16,"SI","NO"))))) -> SI | V18: C | W18: SENSI | Y18: 7 | Z18: =IF(V18="P",IF(Y18<5,"SI","NO"),IF(V18="D",IF(Y18<9,"SI","NO"),IF(V18="C",IF(Y18<17,"SI","NO"),IF(V18="A",IF(Y18<31,"SI","NO"))))) -> SI | AA18: =IF(V18="P",IF(Y18<3,"SI","NO"),IF(V18="D",IF(Y18<5,"SI","NO"),IF(V18="C",IF(Y18<9,"SI","NO"),IF(V18="A",IF(Y18<16,"SI","NO"))))) -> SI | AC18: C | AD18: PELLEGRINI LO | AF18: 29 | AG18: =IF(AC18="P",IF(AF18<5,"SI","NO"),IF(AC18="D",IF(AF18<9,"SI","NO"),IF(AC18="C",IF(AF18<17,"SI","NO"),IF(AC18="A",IF(AF18<31,"SI","NO"))))) -> NO | AH18: =IF(AC18="P",IF(AF18<3,"SI","NO"),IF(AC18="D",IF(AF18<5,"SI","NO"),IF(AC18="C",IF(AF18<9,"SI","NO"),IF(AC18="A",IF(AF18<16,"SI","NO"))))) -> NO | AJ18: C | AK18: SAELEMAEKERS | AM18: 5 | AN18: =IF(AJ18="P",IF(AM18<5,"SI","NO"),IF(AJ18="D",IF(AM18<9,"SI","NO"),IF(AJ18="C",IF(AM18<17,"SI","NO"),IF(AJ18="A",IF(AM18<31,"SI","NO"))))) -> SI | AO18: =IF(AJ18="P",IF(AM18<3,"SI","NO"),IF(AJ18="D",IF(AM18<5,"SI","NO"),IF(AJ18="C",IF(AM18<9,"SI","NO"),IF(AJ18="A",IF(AM18<16,"SI","NO"))))) -> SI | AQ18: C | AR18: CASTILLEJO | AT18: 9 | AU18: =IF(AQ18="P",IF(AT18<5,"SI","NO"),IF(AQ18="D",IF(AT18<9,"SI","NO"),IF(AQ18="C",IF(AT18<17,"SI","NO"),IF(AQ18="A",IF(AT18<31,"SI","NO"))))) -> SI | AV18: =IF(AQ18="P",IF(AT18<3,"SI","NO"),IF(AQ18="D",IF(AT18<5,"SI","NO"),IF(AQ18="C",IF(AT18<9,"SI","NO"),IF(AQ18="A",IF(AT18<16,"SI","NO"))))) -> NO | AX18: C | AY18: BENTANCUR | BA18: 14 | BB18: =IF(AX18="P",IF(BA18<5,"SI","NO"),IF(AX18="D",IF(BA18<9,"SI","NO"),IF(AX18="C",IF(BA18<17,"SI","NO"),IF(AX18="A",IF(BA18<31,"SI","NO"))))) -> SI | BC18: =IF(AX18="P",IF(BA18<3,"SI","NO"),IF(AX18="D",IF(BA18<5,"SI","NO"),IF(AX18="C",IF(BA18<9,"SI","NO"),IF(AX18="A",IF(BA18<16,"SI","NO"))))) -> NO | BE18: C | BF18: PULGAR | BH18: 6 | BI18: =IF(BE18="P",IF(BH18<5,"SI","NO"),IF(BE18="D",IF(BH18<9,"SI","NO"),IF(BE18="C",IF(BH18<17,"SI","NO"),IF(BE18="A",IF(BH18<31,"SI","NO"))))) -> SI | BJ18: =IF(BE18="P",IF(BH18<3,"SI","NO"),IF(BE18="D",IF(BH18<5,"SI","NO"),IF(BE18="C",IF(BH18<9,"SI","NO"),IF(BE18="A",IF(BH18<16,"SI","NO"))))) -> SI | BL18: C | BM18: TRAORE' HJ. | BO18: 1 | BP18: =IF(BL18="P",IF(BO18<5,"SI","NO"),IF(BL18="D",IF(BO18<9,"SI","NO"),IF(BL18="C",IF(BO18<17,"SI","NO"),IF(BL18="A",IF(BO18<31,"SI","NO"))))) -> SI | BQ18: =IF(BL18="P",IF(BO18<3,"SI","NO"),IF(BL18="D",IF(BO18<5,"SI","NO"),IF(BL18="C",IF(BO18<9,"SI","NO"),IF(BL18="A",IF(BO18<16,"SI","NO"))))) -> SI
A19: C | B19: PESSINA | D19: 40 | E19: =IF(A19="P",IF(D19<5,"SI","NO"),IF(A19="D",IF(D19<9,"SI","NO"),IF(A19="C",IF(D19<17,"SI","NO"),IF(A19="A",IF(D19<31,"SI","NO"))))) -> NO | F19: =IF(A19="P",IF(D19<3,"SI","NO"),IF(A19="D",IF(D19<5,"SI","NO"),IF(A19="C",IF(D19<9,"SI","NO"),IF(A19="A",IF(D19<16,"SI","NO"))))) -> NO | H19: C | I19: JANKTO | K19: 1 | L19: =IF(H19="P",IF(K19<5,"SI","NO"),IF(H19="D",IF(K19<9,"SI","NO"),IF(H19="C",IF(K19<17,"SI","NO"),IF(H19="A",IF(K19<31,"SI","NO"))))) -> SI | M19: =IF(H19="P",IF(K19<3,"SI","NO"),IF(H19="D",IF(K19<5,"SI","NO"),IF(H19="C",IF(K19<9,"SI","NO"),IF(H19="A",IF(K19<16,"SI","NO"))))) -> SI | O19: C | P19: ILIC | R19: 1 | S19: =IF(O19="P",IF(R19<5,"SI","NO"),IF(O19="D",IF(R19<9,"SI","NO"),IF(O19="C",IF(R19<17,"SI","NO"),IF(O19="A",IF(R19<31,"SI","NO"))))) -> SI | T19: =IF(O19="P",IF(R19<3,"SI","NO"),IF(O19="D",IF(R19<5,"SI","NO"),IF(O19="C",IF(R19<9,"SI","NO"),IF(O19="A",IF(R19<16,"SI","NO"))))) -> SI | V19: C | W19: VIDAL | Y19: 43 | Z19: =IF(V19="P",IF(Y19<5,"SI","NO"),IF(V19="D",IF(Y19<9,"SI","NO"),IF(V19="C",IF(Y19<17,"SI","NO"),IF(V19="A",IF(Y19<31,"SI","NO"))))) -> NO | AA19: =IF(V19="P",IF(Y19<3,"SI","NO"),IF(V19="D",IF(Y19<5,"SI","NO"),IF(V19="C",IF(Y19<9,"SI","NO"),IF(V19="A",IF(Y19<16,"SI","NO"))))) -> NO | AC19: C | AD19: ZAJC | AF19: 7 | AG19: =IF(AC19="P",IF(AF19<5,"SI","NO"),IF(AC19="D",IF(AF19<9,"SI","NO"),IF(AC19="C",IF(AF19<17,"SI","NO"),IF(AC19="A",IF(AF19<31,"SI","NO"))))) -> SI | AH19: =IF(AC19="P",IF(AF19<3,"SI","NO"),IF(AC19="D",IF(AF19<5,"SI","NO"),IF(AC19="C",IF(AF19<9,"SI","NO"),IF(AC19="A",IF(AF19<16,"SI","NO"))))) -> SI | AJ19: C | AK19: VIOLA | AM19: 18 | AN19: =IF(AJ19="P",IF(AM19<5,"SI","NO"),IF(AJ19="D",IF(AM19<9,"SI","NO"),IF(AJ19="C",IF(AM19<17,"SI","NO"),IF(AJ19="A",IF(AM19<31,"SI","NO"))))) -> NO | AO19: =IF(AJ19="P",IF(AM19<3,"SI","NO"),IF(AJ19="D",IF(AM19<5,"SI","NO"),IF(AJ19="C",IF(AM19<9,"SI","NO"),IF(AJ19="A",IF(AM19<16,"SI","NO"))))) -> NO | AQ19: C | AR19: DJURICIC | AT19: 33 | AU19: =IF(AQ19="P",IF(AT19<5,"SI","NO"),IF(AQ19="D",IF(AT19<9,"SI","NO"),IF(AQ19="C",IF(AT19<17,"SI","NO"),IF(AQ19="A",IF(AT19<31,"SI","NO"))))) -> NO | AV19: =IF(AQ19="P",IF(AT19<3,"SI","NO"),IF(AQ19="D",IF(AT19<5,"SI","NO"),IF(AQ19="C",IF(AT19<9,"SI","NO"),IF(AQ19="A",IF(AT19<16,"SI","NO"))))) -> NO | AX19: C | AY19: ELMAS | BA19: 2 | BB19: =IF(AX19="P",IF(BA19<5,"SI","NO"),IF(AX19="D",IF(BA19<9,"SI","NO"),IF(AX19="C",IF(BA19<17,"SI","NO"),IF(AX19="A",IF(BA19<31,"SI","NO"))))) -> SI | BC19: =IF(AX19="P",IF(BA19<3,"SI","NO"),IF(AX19="D",IF(BA19<5,"SI","NO"),IF(AX19="C",IF(BA19<9,"SI","NO"),IF(AX19="A",IF(BA19<16,"SI","NO"))))) -> SI | BE19: C | BF19: MARIN | BH19: 1 | BI19: =IF(BE19="P",IF(BH19<5,"SI","NO"),IF(BE19="D",IF(BH19<9,"SI","NO"),IF(BE19="C",IF(BH19<17,"SI","NO"),IF(BE19="A",IF(BH19<31,"SI","NO"))))) -> SI | BJ19: =IF(BE19="P",IF(BH19<3,"SI","NO"),IF(BE19="D",IF(BH19<5,"SI","NO"),IF(BE19="C",IF(BH19<9,"SI","NO"),IF(BE19="A",IF(BH19<16,"SI","NO"))))) -> SI | BL19: C | BM19: BARAK | BO19: 2 | BP19: =IF(BL19="P",IF(BO19<5,"SI","NO"),IF(BL19="D",IF(BO19<9,"SI","NO"),IF(BL19="C",IF(BO19<17,"SI","NO"),IF(BL19="A",IF(BO19<31,"SI","NO"))))) -> SI | BQ19: =IF(BL19="P",IF(BO19<3,"SI","NO"),IF(BL19="D",IF(BO19<5,"SI","NO"),IF(BL19="C",IF(BO19<9,"SI","NO"),IF(BL19="A",IF(BO19<16,"SI","NO"))))) -> SI
A20: C | B20: BENALI | D20: 1 | E20: =IF(A20="P",IF(D20<5,"SI","NO"),IF(A20="D",IF(D20<9,"SI","NO"),IF(A20="C",IF(D20<17,"SI","NO"),IF(A20="A",IF(D20<31,"SI","NO"))))) -> SI | F20: =IF(A20="P",IF(D20<3,"SI","NO"),IF(A20="D",IF(D20<5,"SI","NO"),IF(A20="C",IF(D20<9,"SI","NO"),IF(A20="A",IF(D20<16,"SI","NO"))))) -> SI | H20: C | I20: LOPEZ M. | K20: 1 | L20: =IF(H20="P",IF(K20<5,"SI","NO"),IF(H20="D",IF(K20<9,"SI","NO"),IF(H20="C",IF(K20<17,"SI","NO"),IF(H20="A",IF(K20<31,"SI","NO"))))) -> SI | M20: =IF(H20="P",IF(K20<3,"SI","NO"),IF(H20="D",IF(K20<5,"SI","NO"),IF(H20="C",IF(K20<9,"SI","NO"),IF(H20="A",IF(K20<16,"SI","NO"))))) -> SI | O20: C | P20: RABIOT | R20: 1 | S20: =IF(O20="P",IF(R20<5,"SI","NO"),IF(O20="D",IF(R20<9,"SI","NO"),IF(O20="C",IF(R20<17,"SI","NO"),IF(O20="A",IF(R20<31,"SI","NO"))))) -> SI | T20: =IF(O20="P",IF(R20<3,"SI","NO"),IF(O20="D",IF(R20<5,"SI","NO"),IF(O20="C",IF(R20<9,"SI","NO"),IF(O20="A",IF(R20<16,"SI","NO"))))) -> SI | V20: C | W20: BAKAYOKO | Y20: 2 | Z20: =IF(V20="P",IF(Y20<5,"SI","NO"),IF(V20="D",IF(Y20<9,"SI","NO"),IF(V20="C",IF(Y20<17,"SI","NO"),IF(V20="A",IF(Y20<31,"SI","NO"))))) -> SI | AA20: =IF(V20="P",IF(Y20<3,"SI","NO"),IF(V20="D",IF(Y20<5,"SI","NO"),IF(V20="C",IF(Y20<9,"SI","NO"),IF(V20="A",IF(Y20<16,"SI","NO"))))) -> SI | AC20: C | AD20: PERISIC | AF20: 13 | AG20: =IF(AC20="P",IF(AF20<5,"SI","NO"),IF(AC20="D",IF(AF20<9,"SI","NO"),IF(AC20="C",IF(AF20<17,"SI","NO"),IF(AC20="A",IF(AF20<31,"SI","NO"))))) -> SI | AH20: =IF(AC20="P",IF(AF20<3,"SI","NO"),IF(AC20="D",IF(AF20<5,"SI","NO"),IF(AC20="C",IF(AF20<9,"SI","NO"),IF(AC20="A",IF(AF20<16,"SI","NO"))))) -> NO | AJ20: C | AK20: MIGUEL VELOSO | AM20: 2 | AN20: =IF(AJ20="P",IF(AM20<5,"SI","NO"),IF(AJ20="D",IF(AM20<9,"SI","NO"),IF(AJ20="C",IF(AM20<17,"SI","NO"),IF(AJ20="A",IF(AM20<31,"SI","NO"))))) -> SI | AO20: =IF(AJ20="P",IF(AM20<3,"SI","NO"),IF(AJ20="D",IF(AM20<5,"SI","NO"),IF(AJ20="C",IF(AM20<9,"SI","NO"),IF(AJ20="A",IF(AM20<16,"SI","NO"))))) -> SI | AQ20: C | AR20: DAMSGAARD | AT20: 1 | AU20: =IF(AQ20="P",IF(AT20<5,"SI","NO"),IF(AQ20="D",IF(AT20<9,"SI","NO"),IF(AQ20="C",IF(AT20<17,"SI","NO"),IF(AQ20="A",IF(AT20<31,"SI","NO"))))) -> SI | AV20: =IF(AQ20="P",IF(AT20<3,"SI","NO"),IF(AQ20="D",IF(AT20<5,"SI","NO"),IF(AQ20="C",IF(AT20<9,"SI","NO"),IF(AQ20="A",IF(AT20<16,"SI","NO"))))) -> SI | AX20: C | AY20: POBEGA | BA20: 1 | BB20: =IF(AX20="P",IF(BA20<5,"SI","NO"),IF(AX20="D",IF(BA20<9,"SI","NO"),IF(AX20="C",IF(BA20<17,"SI","NO"),IF(AX20="A",IF(BA20<31,"SI","NO"))))) -> SI | BC20: =IF(AX20="P",IF(BA20<3,"SI","NO"),IF(AX20="D",IF(BA20<5,"SI","NO"),IF(AX20="C",IF(BA20<9,"SI","NO"),IF(AX20="A",IF(BA20<16,"SI","NO"))))) -> SI | BE20: C | BF20: ELMAS | BH20: 1 | BI20: =IF(BE20="P",IF(BH20<5,"SI","NO"),IF(BE20="D",IF(BH20<9,"SI","NO"),IF(BE20="C",IF(BH20<17,"SI","NO"),IF(BE20="A",IF(BH20<31,"SI","NO"))))) -> SI | BJ20: =IF(BE20="P",IF(BH20<3,"SI","NO"),IF(BE20="D",IF(BH20<5,"SI","NO"),IF(BE20="C",IF(BH20<9,"SI","NO"),IF(BE20="A",IF(BH20<16,"SI","NO"))))) -> SI | BL20: C | BM20: VECINO | BO20: 1 | BP20: =IF(BL20="P",IF(BO20<5,"SI","NO"),IF(BL20="D",IF(BO20<9,"SI","NO"),IF(BL20="C",IF(BO20<17,"SI","NO"),IF(BL20="A",IF(BO20<31,"SI","NO"))))) -> SI | BQ20: =IF(BL20="P",IF(BO20<3,"SI","NO"),IF(BL20="D",IF(BO20<5,"SI","NO"),IF(BL20="C",IF(BO20<9,"SI","NO"),IF(BL20="A",IF(BO20<16,"SI","NO"))))) -> SI
A21: C | B21: CRISTANTE | D21: 3 | E21: =IF(A21="P",IF(D21<5,"SI","NO"),IF(A21="D",IF(D21<9,"SI","NO"),IF(A21="C",IF(D21<17,"SI","NO"),IF(A21="A",IF(D21<31,"SI","NO"))))) -> SI | F21: =IF(A21="P",IF(D21<3,"SI","NO"),IF(A21="D",IF(D21<5,"SI","NO"),IF(A21="C",IF(D21<9,"SI","NO"),IF(A21="A",IF(D21<16,"SI","NO"))))) -> SI | H21: C | I21: CALLEJON | K21: 1 | L21: =IF(H21="P",IF(K21<5,"SI","NO"),IF(H21="D",IF(K21<9,"SI","NO"),IF(H21="C",IF(K21<17,"SI","NO"),IF(H21="A",IF(K21<31,"SI","NO"))))) -> SI | M21: =IF(H21="P",IF(K21<3,"SI","NO"),IF(H21="D",IF(K21<5,"SI","NO"),IF(H21="C",IF(K21<9,"SI","NO"),IF(H21="A",IF(K21<16,"SI","NO"))))) -> SI | O21: C | P21: BAKAYOKO | R21: 1 | S21: =IF(O21="P",IF(R21<5,"SI","NO"),IF(O21="D",IF(R21<9,"SI","NO"),IF(O21="C",IF(R21<17,"SI","NO"),IF(O21="A",IF(R21<31,"SI","NO"))))) -> SI | T21: =IF(O21="P",IF(R21<3,"SI","NO"),IF(O21="D",IF(R21<5,"SI","NO"),IF(O21="C",IF(R21<9,"SI","NO"),IF(O21="A",IF(R21<16,"SI","NO"))))) -> SI | V21: C | W21: DAMSGAARD | Y21: 5 | Z21: =IF(V21="P",IF(Y21<5,"SI","NO"),IF(V21="D",IF(Y21<9,"SI","NO"),IF(V21="C",IF(Y21<17,"SI","NO"),IF(V21="A",IF(Y21<31,"SI","NO"))))) -> SI | AA21: =IF(V21="P",IF(Y21<3,"SI","NO"),IF(V21="D",IF(Y21<5,"SI","NO"),IF(V21="C",IF(Y21<9,"SI","NO"),IF(V21="A",IF(Y21<16,"SI","NO"))))) -> SI | AC21: C | AD21: STROOTMAN | AF21: 15 | AG21: =IF(AC21="P",IF(AF21<5,"SI","NO"),IF(AC21="D",IF(AF21<9,"SI","NO"),IF(AC21="C",IF(AF21<17,"SI","NO"),IF(AC21="A",IF(AF21<31,"SI","NO"))))) -> SI | AH21: =IF(AC21="P",IF(AF21<3,"SI","NO"),IF(AC21="D",IF(AF21<5,"SI","NO"),IF(AC21="C",IF(AF21<9,"SI","NO"),IF(AC21="A",IF(AF21<16,"SI","NO"))))) -> NO | AJ21: C | AK21: THORSBY | AM21: 1 | AN21: =IF(AJ21="P",IF(AM21<5,"SI","NO"),IF(AJ21="D",IF(AM21<9,"SI","NO"),IF(AJ21="C",IF(AM21<17,"SI","NO"),IF(AJ21="A",IF(AM21<31,"SI","NO"))))) -> SI | AO21: =IF(AJ21="P",IF(AM21<3,"SI","NO"),IF(AJ21="D",IF(AM21<5,"SI","NO"),IF(AJ21="C",IF(AM21<9,"SI","NO"),IF(AJ21="A",IF(AM21<16,"SI","NO"))))) -> SI | AQ21: C | AR21: IONITA | AT21: 2 | AU21: =IF(AQ21="P",IF(AT21<5,"SI","NO"),IF(AQ21="D",IF(AT21<9,"SI","NO"),IF(AQ21="C",IF(AT21<17,"SI","NO"),IF(AQ21="A",IF(AT21<31,"SI","NO"))))) -> SI | AV21: =IF(AQ21="P",IF(AT21<3,"SI","NO"),IF(AQ21="D",IF(AT21<5,"SI","NO"),IF(AQ21="C",IF(AT21<9,"SI","NO"),IF(AQ21="A",IF(AT21<16,"SI","NO"))))) -> SI | AX21: C | AY21: MILINKOVIC-SAVIC | BA21: 50 | BB21: =IF(AX21="P",IF(BA21<5,"SI","NO"),IF(AX21="D",IF(BA21<9,"SI","NO"),IF(AX21="C",IF(BA21<17,"SI","NO"),IF(AX21="A",IF(BA21<31,"SI","NO"))))) -> NO | BC21: =IF(AX21="P",IF(BA21<3,"SI","NO"),IF(AX21="D",IF(BA21<5,"SI","NO"),IF(AX21="C",IF(BA21<9,"SI","NO"),IF(AX21="A",IF(BA21<16,"SI","NO"))))) -> NO | BE21: C | BF21: TAMEZE | BH21: 1 | BI21: =IF(BE21="P",IF(BH21<5,"SI","NO"),IF(BE21="D",IF(BH21<9,"SI","NO"),IF(BE21="C",IF(BH21<17,"SI","NO"),IF(BE21="A",IF(BH21<31,"SI","NO"))))) -> SI | BJ21: =IF(BE21="P",IF(BH21<3,"SI","NO"),IF(BE21="D",IF(BH21<5,"SI","NO"),IF(BE21="C",IF(BH21<9,"SI","NO"),IF(BE21="A",IF(BH21<16,"SI","NO"))))) -> SI | BL21: C | BM21: MCKENNIE | BO21: 1 | BP21: =IF(BL21="P",IF(BO21<5,"SI","NO"),IF(BL21="D",IF(BO21<9,"SI","NO"),IF(BL21="C",IF(BO21<17,"SI","NO"),IF(BL21="A",IF(BO21<31,"SI","NO"))))) -> SI | BQ21: =IF(BL21="P",IF(BO21<3,"SI","NO"),IF(BL21="D",IF(BO21<5,"SI","NO"),IF(BL21="C",IF(BO21<9,"SI","NO"),IF(BL21="A",IF(BO21<16,"SI","NO"))))) -> SI
A22: A | B22: SANABRIA | D22: 29 | E22: =IF(A22="P",IF(D22<5,"SI","NO"),IF(A22="D",IF(D22<9,"SI","NO"),IF(A22="C",IF(D22<17,"SI","NO"),IF(A22="A",IF(D22<31,"SI","NO"))))) -> SI | F22: =IF(A22="P",IF(D22<3,"SI","NO"),IF(A22="D",IF(D22<5,"SI","NO"),IF(A22="C",IF(D22<9,"SI","NO"),IF(A22="A",IF(D22<16,"SI","NO"))))) -> NO | H22: A | I22: DESTRO | K22: 65 | L22: =IF(H22="P",IF(K22<5,"SI","NO"),IF(H22="D",IF(K22<9,"SI","NO"),IF(H22="C",IF(K22<17,"SI","NO"),IF(H22="A",IF(K22<31,"SI","NO"))))) -> NO | M22: =IF(H22="P",IF(K22<3,"SI","NO"),IF(H22="D",IF(K22<5,"SI","NO"),IF(H22="C",IF(K22<9,"SI","NO"),IF(H22="A",IF(K22<16,"SI","NO"))))) -> NO | O22: A | P22: JOAO PEDRO | R22: 16 | V22: A | W22: GERVINHO | Y22: 17 | Z22: =IF(V22="P",IF(Y22<5,"SI","NO"),IF(V22="D",IF(Y22<9,"SI","NO"),IF(V22="C",IF(Y22<17,"SI","NO"),IF(V22="A",IF(Y22<31,"SI","NO"))))) -> SI | AA22: =IF(V22="P",IF(Y22<3,"SI","NO"),IF(V22="D",IF(Y22<5,"SI","NO"),IF(V22="C",IF(Y22<9,"SI","NO"),IF(V22="A",IF(Y22<16,"SI","NO"))))) -> NO | AC22: A | AD22: KOUAME' | AF22: 1 | AG22: =IF(AC22="P",IF(AF22<5,"SI","NO"),IF(AC22="D",IF(AF22<9,"SI","NO"),IF(AC22="C",IF(AF22<17,"SI","NO"),IF(AC22="A",IF(AF22<31,"SI","NO"))))) -> SI | AH22: =IF(AC22="P",IF(AF22<3,"SI","NO"),IF(AC22="D",IF(AF22<5,"SI","NO"),IF(AC22="C",IF(AF22<9,"SI","NO"),IF(AC22="A",IF(AF22<16,"SI","NO"))))) -> SI | AJ22: A | AK22: BARROW | AM22: 34 | AN22: =IF(AJ22="P",IF(AM22<5,"SI","NO"),IF(AJ22="D",IF(AM22<9,"SI","NO"),IF(AJ22="C",IF(AM22<17,"SI","NO"),IF(AJ22="A",IF(AM22<31,"SI","NO"))))) -> NO | AO22: =IF(AJ22="P",IF(AM22<3,"SI","NO"),IF(AJ22="D",IF(AM22<5,"SI","NO"),IF(AJ22="C",IF(AM22<9,"SI","NO"),IF(AJ22="A",IF(AM22<16,"SI","NO"))))) -> NO | AQ22: A | AR22: LUKAKU | AT22: 205 | AU22: =IF(AQ22="P",IF(AT22<5,"SI","NO"),IF(AQ22="D",IF(AT22<9,"SI","NO"),IF(AQ22="C",IF(AT22<17,"SI","NO"),IF(AQ22="A",IF(AT22<31,"SI","NO"))))) -> NO | AV22: =IF(AQ22="P",IF(AT22<3,"SI","NO"),IF(AQ22="D",IF(AT22<5,"SI","NO"),IF(AQ22="C",IF(AT22<9,"SI","NO"),IF(AQ22="A",IF(AT22<16,"SI","NO"))))) -> NO | AX22: A | AY22: BOGA | BA22: 1 | BE22: A | BF22: DEULOFEU | BH22: 1 | BI22: =IF(BE22="P",IF(BH22<5,"SI","NO"),IF(BE22="D",IF(BH22<9,"SI","NO"),IF(BE22="C",IF(BH22<17,"SI","NO"),IF(BE22="A",IF(BH22<31,"SI","NO"))))) -> SI | BJ22: =IF(BE22="P",IF(BH22<3,"SI","NO"),IF(BE22="D",IF(BH22<5,"SI","NO"),IF(BE22="C",IF(BH22<9,"SI","NO"),IF(BE22="A",IF(BH22<16,"SI","NO"))))) -> SI | BL22: A | BM22: REBIC | BO22: 10
A23: A | B23: CAPUTO | D23: 150 | E23: =IF(A23="P",IF(D23<5,"SI","NO"),IF(A23="D",IF(D23<9,"SI","NO"),IF(A23="C",IF(D23<17,"SI","NO"),IF(A23="A",IF(D23<31,"SI","NO"))))) -> NO | F23: =IF(A23="P",IF(D23<3,"SI","NO"),IF(A23="D",IF(D23<5,"SI","NO"),IF(A23="C",IF(D23<9,"SI","NO"),IF(A23="A",IF(D23<16,"SI","NO"))))) -> NO | H23: A | I23: IBRAHIMOVIC | K23: 200 | L23: =IF(H23="P",IF(K23<5,"SI","NO"),IF(H23="D",IF(K23<9,"SI","NO"),IF(H23="C",IF(K23<17,"SI","NO"),IF(H23="A",IF(K23<31,"SI","NO"))))) -> NO | M23: =IF(H23="P",IF(K23<3,"SI","NO"),IF(H23="D",IF(K23<5,"SI","NO"),IF(H23="C",IF(K23<9,"SI","NO"),IF(H23="A",IF(K23<16,"SI","NO"))))) -> NO | O23: A | P23: ZAPATA D. | R23: 151 | S23: =IF(O23="P",IF(R23<5,"SI","NO"),IF(O23="D",IF(R23<9,"SI","NO"),IF(O23="C",IF(R23<17,"SI","NO"),IF(O23="A",IF(R23<31,"SI","NO"))))) -> NO | T23: =IF(O23="P",IF(R23<3,"SI","NO"),IF(O23="D",IF(R23<5,"SI","NO"),IF(O23="C",IF(R23<9,"SI","NO"),IF(O23="A",IF(R23<16,"SI","NO"))))) -> NO | V23: A | W23: LUKAKU | Y23: 241 | Z23: =IF(V23="P",IF(Y23<5,"SI","NO"),IF(V23="D",IF(Y23<9,"SI","NO"),IF(V23="C",IF(Y23<17,"SI","NO"),IF(V23="A",IF(Y23<31,"SI","NO"))))) -> NO | AA23: =IF(V23="P",IF(Y23<3,"SI","NO"),IF(V23="D",IF(Y23<5,"SI","NO"),IF(V23="C",IF(Y23<9,"SI","NO"),IF(V23="A",IF(Y23<16,"SI","NO"))))) -> NO | AC23: A | AD23: DZEKO | AF23: 151 | AG23: =IF(AC23="P",IF(AF23<5,"SI","NO"),IF(AC23="D",IF(AF23<9,"SI","NO"),IF(AC23="C",IF(AF23<17,"SI","NO"),IF(AC23="A",IF(AF23<31,"SI","NO"))))) -> NO | AH23: =IF(AC23="P",IF(AF23<3,"SI","NO"),IF(AC23="D",IF(AF23<5,"SI","NO"),IF(AC23="C",IF(AF23<9,"SI","NO"),IF(AC23="A",IF(AF23<16,"SI","NO"))))) -> NO | AJ23: A | AK23: IMMOBILE | AM23: 239 | AN23: =IF(AJ23="P",IF(AM23<5,"SI","NO"),IF(AJ23="D",IF(AM23<9,"SI","NO"),IF(AJ23="C",IF(AM23<17,"SI","NO"),IF(AJ23="A",IF(AM23<31,"SI","NO"))))) -> NO | AO23: =IF(AJ23="P",IF(AM23<3,"SI","NO"),IF(AJ23="D",IF(AM23<5,"SI","NO"),IF(AJ23="C",IF(AM23<9,"SI","NO"),IF(AJ23="A",IF(AM23<16,"SI","NO"))))) -> NO | AQ23: A | AR23: BERARDI | AT23: 50 | AU23: =IF(AQ23="P",IF(AT23<5,"SI","NO"),IF(AQ23="D",IF(AT23<9,"SI","NO"),IF(AQ23="C",IF(AT23<17,"SI","NO"),IF(AQ23="A",IF(AT23<31,"SI","NO"))))) -> NO | AV23: =IF(AQ23="P",IF(AT23<3,"SI","NO"),IF(AQ23="D",IF(AT23<5,"SI","NO"),IF(AQ23="C",IF(AT23<9,"SI","NO"),IF(AQ23="A",IF(AT23<16,"SI","NO"))))) -> NO | AX23: A | AY23: RIBERY | BA23: 36 | BB23: =IF(AX23="P",IF(BA23<5,"SI","NO"),IF(AX23="D",IF(BA23<9,"SI","NO"),IF(AX23="C",IF(BA23<17,"SI","NO"),IF(AX23="A",IF(BA23<31,"SI","NO"))))) -> NO | BC23: =IF(AX23="P",IF(BA23<3,"SI","NO"),IF(AX23="D",IF(BA23<5,"SI","NO"),IF(AX23="C",IF(BA23<9,"SI","NO"),IF(AX23="A",IF(BA23<16,"SI","NO"))))) -> NO | BE23: A | BF23: BELOTTI | BH23: 99 | BI23: =IF(BE23="P",IF(BH23<5,"SI","NO"),IF(BE23="D",IF(BH23<9,"SI","NO"),IF(BE23="C",IF(BH23<17,"SI","NO"),IF(BE23="A",IF(BH23<31,"SI","NO"))))) -> NO | BJ23: =IF(BE23="P",IF(BH23<3,"SI","NO"),IF(BE23="D",IF(BH23<5,"SI","NO"),IF(BE23="C",IF(BH23<9,"SI","NO"),IF(BE23="A",IF(BH23<16,"SI","NO"))))) -> NO | BL23: A | BM23: MURIEL | BO23: 160 | BP23: =IF(BL23="P",IF(BO23<5,"SI","NO"),IF(BL23="D",IF(BO23<9,"SI","NO"),IF(BL23="C",IF(BO23<17,"SI","NO"),IF(BL23="A",IF(BO23<31,"SI","NO"))))) -> NO | BQ23: =IF(BL23="P",IF(BO23<3,"SI","NO"),IF(BL23="D",IF(BO23<5,"SI","NO"),IF(BL23="C",IF(BO23<9,"SI","NO"),IF(BL23="A",IF(BO23<16,"SI","NO"))))) -> NO
A24: A | B24: CORREA | D24: 25 | E24: =IF(A24="P",IF(D24<5,"SI","NO"),IF(A24="D",IF(D24<9,"SI","NO"),IF(A24="C",IF(D24<17,"SI","NO"),IF(A24="A",IF(D24<31,"SI","NO"))))) -> SI | F24: =IF(A24="P",IF(D24<3,"SI","NO"),IF(A24="D",IF(D24<5,"SI","NO"),IF(A24="C",IF(D24<9,"SI","NO"),IF(A24="A",IF(D24<16,"SI","NO"))))) -> NO | H24: A | I24: NZOLA | K24: 33 | L24: =IF(H24="P",IF(K24<5,"SI","NO"),IF(H24="D",IF(K24<9,"SI","NO"),IF(H24="C",IF(K24<17,"SI","NO"),IF(H24="A",IF(K24<31,"SI","NO"))))) -> NO | M24: =IF(H24="P",IF(K24<3,"SI","NO"),IF(H24="D",IF(K24<5,"SI","NO"),IF(H24="C",IF(K24<9,"SI","NO"),IF(H24="A",IF(K24<16,"SI","NO"))))) -> NO | O24: A | P24: EL SHAARAWY | R24: 51 | S24: =IF(O24="P",IF(R24<5,"SI","NO"),IF(O24="D",IF(R24<9,"SI","NO"),IF(O24="C",IF(R24<17,"SI","NO"),IF(O24="A",IF(R24<31,"SI","NO"))))) -> NO | T24: =IF(O24="P",IF(R24<3,"SI","NO"),IF(O24="D",IF(R24<5,"SI","NO"),IF(O24="C",IF(R24<9,"SI","NO"),IF(O24="A",IF(R24<16,"SI","NO"))))) -> NO | V24: A | W24: MORATA | Y24: 51 | Z24: =IF(V24="P",IF(Y24<5,"SI","NO"),IF(V24="D",IF(Y24<9,"SI","NO"),IF(V24="C",IF(Y24<17,"SI","NO"),IF(V24="A",IF(Y24<31,"SI","NO"))))) -> NO | AA24: =IF(V24="P",IF(Y24<3,"SI","NO"),IF(V24="D",IF(Y24<5,"SI","NO"),IF(V24="C",IF(Y24<9,"SI","NO"),IF(V24="A",IF(Y24<16,"SI","NO"))))) -> NO | AC24: A | AD24: MURIEL | AF24: 72 | AG24: =IF(AC24="P",IF(AF24<5,"SI","NO"),IF(AC24="D",IF(AF24<9,"SI","NO"),IF(AC24="C",IF(AF24<17,"SI","NO"),IF(AC24="A",IF(AF24<31,"SI","NO"))))) -> NO | AH24: =IF(AC24="P",IF(AF24<3,"SI","NO"),IF(AC24="D",IF(AF24<5,"SI","NO"),IF(AC24="C",IF(AF24<9,"SI","NO"),IF(AC24="A",IF(AF24<16,"SI","NO"))))) -> NO | AJ24: A | AK24: LAPADULA | AM24: 16 | AN24: =IF(AJ24="P",IF(AM24<5,"SI","NO"),IF(AJ24="D",IF(AM24<9,"SI","NO"),IF(AJ24="C",IF(AM24<17,"SI","NO"),IF(AJ24="A",IF(AM24<31,"SI","NO"))))) -> SI | AO24: =IF(AJ24="P",IF(AM24<3,"SI","NO"),IF(AJ24="D",IF(AM24<5,"SI","NO"),IF(AJ24="C",IF(AM24<9,"SI","NO"),IF(AJ24="A",IF(AM24<16,"SI","NO"))))) -> NO | AQ24: A | AR24: LOZANO | AT24: 31 | AU24: =IF(AQ24="P",IF(AT24<5,"SI","NO"),IF(AQ24="D",IF(AT24<9,"SI","NO"),IF(AQ24="C",IF(AT24<17,"SI","NO"),IF(AQ24="A",IF(AT24<31,"SI","NO"))))) -> NO | AV24: =IF(AQ24="P",IF(AT24<3,"SI","NO"),IF(AQ24="D",IF(AT24<5,"SI","NO"),IF(AQ24="C",IF(AT24<9,"SI","NO"),IF(AQ24="A",IF(AT24<16,"SI","NO"))))) -> NO | AX24: A | AY24: MERTENS | BA24: 78 | BB24: =IF(AX24="P",IF(BA24<5,"SI","NO"),IF(AX24="D",IF(BA24<9,"SI","NO"),IF(AX24="C",IF(BA24<17,"SI","NO"),IF(AX24="A",IF(BA24<31,"SI","NO"))))) -> NO | BC24: =IF(AX24="P",IF(BA24<3,"SI","NO"),IF(AX24="D",IF(BA24<5,"SI","NO"),IF(AX24="C",IF(BA24<9,"SI","NO"),IF(AX24="A",IF(BA24<16,"SI","NO"))))) -> NO | BE24: A | BF24: BERARDI | BH24: 101 | BI24: =IF(BE24="P",IF(BH24<5,"SI","NO"),IF(BE24="D",IF(BH24<9,"SI","NO"),IF(BE24="C",IF(BH24<17,"SI","NO"),IF(BE24="A",IF(BH24<31,"SI","NO"))))) -> NO | BJ24: =IF(BE24="P",IF(BH24<3,"SI","NO"),IF(BE24="D",IF(BH24<5,"SI","NO"),IF(BE24="C",IF(BH24<9,"SI","NO"),IF(BE24="A",IF(BH24<16,"SI","NO"))))) -> NO | BL24: A | BM24: QUAGLIARELLA | BO24: 74 | BP24: =IF(BL24="P",IF(BO24<5,"SI","NO"),IF(BL24="D",IF(BO24<9,"SI","NO"),IF(BL24="C",IF(BO24<17,"SI","NO"),IF(BL24="A",IF(BO24<31,"SI","NO"))))) -> NO | BQ24: =IF(BL24="P",IF(BO24<3,"SI","NO"),IF(BL24="D",IF(BO24<5,"SI","NO"),IF(BL24="C",IF(BO24<9,"SI","NO"),IF(BL24="A",IF(BO24<16,"SI","NO"))))) -> NO
A25: A | B25: LASAGNA | D25: 12 | E25: =IF(A25="P",IF(D25<5,"SI","NO"),IF(A25="D",IF(D25<9,"SI","NO"),IF(A25="C",IF(D25<17,"SI","NO"),IF(A25="A",IF(D25<31,"SI","NO"))))) -> SI | F25: =IF(A25="P",IF(D25<3,"SI","NO"),IF(A25="D",IF(D25<5,"SI","NO"),IF(A25="C",IF(D25<9,"SI","NO"),IF(A25="A",IF(D25<16,"SI","NO"))))) -> SI | H25: A | I25: SIMY | K25: 8 | L25: =IF(H25="P",IF(K25<5,"SI","NO"),IF(H25="D",IF(K25<9,"SI","NO"),IF(H25="C",IF(K25<17,"SI","NO"),IF(H25="A",IF(K25<31,"SI","NO"))))) -> SI | M25: =IF(H25="P",IF(K25<3,"SI","NO"),IF(H25="D",IF(K25<5,"SI","NO"),IF(H25="C",IF(K25<9,"SI","NO"),IF(H25="A",IF(K25<16,"SI","NO"))))) -> SI | O25: A | P25: PEDRO | R25: 28 | S25: =IF(O25="P",IF(R25<5,"SI","NO"),IF(O25="D",IF(R25<9,"SI","NO"),IF(O25="C",IF(R25<17,"SI","NO"),IF(O25="A",IF(R25<31,"SI","NO"))))) -> SI | T25: =IF(O25="P",IF(R25<3,"SI","NO"),IF(O25="D",IF(R25<5,"SI","NO"),IF(O25="C",IF(R25<9,"SI","NO"),IF(O25="A",IF(R25<16,"SI","NO"))))) -> NO | V25: A | W25: CORREA | Y25: 15 | Z25: =IF(V25="P",IF(Y25<5,"SI","NO"),IF(V25="D",IF(Y25<9,"SI","NO"),IF(V25="C",IF(Y25<17,"SI","NO"),IF(V25="A",IF(Y25<31,"SI","NO"))))) -> SI | AA25: =IF(V25="P",IF(Y25<3,"SI","NO"),IF(V25="D",IF(Y25<5,"SI","NO"),IF(V25="C",IF(Y25<9,"SI","NO"),IF(V25="A",IF(Y25<16,"SI","NO"))))) -> SI | AC25: A | AD25: SANCHEZ | AF25: 21 | AG25: =IF(AC25="P",IF(AF25<5,"SI","NO"),IF(AC25="D",IF(AF25<9,"SI","NO"),IF(AC25="C",IF(AF25<17,"SI","NO"),IF(AC25="A",IF(AF25<31,"SI","NO"))))) -> SI | AH25: =IF(AC25="P",IF(AF25<3,"SI","NO"),IF(AC25="D",IF(AF25<5,"SI","NO"),IF(AC25="C",IF(AF25<9,"SI","NO"),IF(AC25="A",IF(AF25<16,"SI","NO"))))) -> NO | AJ25: A | AK25: ZAZA | AM25: 2 | AN25: =IF(AJ25="P",IF(AM25<5,"SI","NO"),IF(AJ25="D",IF(AM25<9,"SI","NO"),IF(AJ25="C",IF(AM25<17,"SI","NO"),IF(AJ25="A",IF(AM25<31,"SI","NO"))))) -> SI | AO25: =IF(AJ25="P",IF(AM25<3,"SI","NO"),IF(AJ25="D",IF(AM25<5,"SI","NO"),IF(AJ25="C",IF(AM25<9,"SI","NO"),IF(AJ25="A",IF(AM25<16,"SI","NO"))))) -> SI | AQ25: A | AR25: MESSIAS | AT25: 1 | AU25: =IF(AQ25="P",IF(AT25<5,"SI","NO"),IF(AQ25="D",IF(AT25<9,"SI","NO"),IF(AQ25="C",IF(AT25<17,"SI","NO"),IF(AQ25="A",IF(AT25<31,"SI","NO"))))) -> SI | AV25: =IF(AQ25="P",IF(AT25<3,"SI","NO"),IF(AQ25="D",IF(AT25<5,"SI","NO"),IF(AQ25="C",IF(AT25<9,"SI","NO"),IF(AQ25="A",IF(AT25<16,"SI","NO"))))) -> SI | AX25: A | AY25: VLAHOVIC | BA25: 25 | BB25: =IF(AX25="P",IF(BA25<5,"SI","NO"),IF(AX25="D",IF(BA25<9,"SI","NO"),IF(AX25="C",IF(BA25<17,"SI","NO"),IF(AX25="A",IF(BA25<31,"SI","NO"))))) -> SI | BC25: =IF(AX25="P",IF(BA25<3,"SI","NO"),IF(AX25="D",IF(BA25<5,"SI","NO"),IF(AX25="C",IF(BA25<9,"SI","NO"),IF(AX25="A",IF(BA25<16,"SI","NO"))))) -> NO | BE25: A | BF25: JOAO PEDRO | BH25: 57 | BI25: =IF(BE25="P",IF(BH25<5,"SI","NO"),IF(BE25="D",IF(BH25<9,"SI","NO"),IF(BE25="C",IF(BH25<17,"SI","NO"),IF(BE25="A",IF(BH25<31,"SI","NO"))))) -> NO | BJ25: =IF(BE25="P",IF(BH25<3,"SI","NO"),IF(BE25="D",IF(BH25<5,"SI","NO"),IF(BE25="C",IF(BH25<9,"SI","NO"),IF(BE25="A",IF(BH25<16,"SI","NO"))))) -> NO | BL25: A | BM25: MANDZUKIC | BO25: 2 | BP25: =IF(BL25="P",IF(BO25<5,"SI","NO"),IF(BL25="D",IF(BO25<9,"SI","NO"),IF(BL25="C",IF(BO25<17,"SI","NO"),IF(BL25="A",IF(BO25<31,"SI","NO"))))) -> SI | BQ25: =IF(BL25="P",IF(BO25<3,"SI","NO"),IF(BL25="D",IF(BO25<5,"SI","NO"),IF(BL25="C",IF(BO25<9,"SI","NO"),IF(BL25="A",IF(BO25<16,"SI","NO"))))) -> SI
A26: A | B26: GERVINHO | D26: 5 | E26: =IF(A26="P",IF(D26<5,"SI","NO"),IF(A26="D",IF(D26<9,"SI","NO"),IF(A26="C",IF(D26<17,"SI","NO"),IF(A26="A",IF(D26<31,"SI","NO"))))) -> SI | F26: =IF(A26="P",IF(D26<3,"SI","NO"),IF(A26="D",IF(D26<5,"SI","NO"),IF(A26="C",IF(D26<9,"SI","NO"),IF(A26="A",IF(D26<16,"SI","NO"))))) -> SI | H26: A | I26: CAPRARI | K26: 1 | L26: =IF(H26="P",IF(K26<5,"SI","NO"),IF(H26="D",IF(K26<9,"SI","NO"),IF(H26="C",IF(K26<17,"SI","NO"),IF(H26="A",IF(K26<31,"SI","NO"))))) -> SI | M26: =IF(H26="P",IF(K26<3,"SI","NO"),IF(H26="D",IF(K26<5,"SI","NO"),IF(H26="C",IF(K26<9,"SI","NO"),IF(H26="A",IF(K26<16,"SI","NO"))))) -> SI | O26: A | P26: RAFAEL LEAO | R26: 14 | S26: =IF(O26="P",IF(R26<5,"SI","NO"),IF(O26="D",IF(R26<9,"SI","NO"),IF(O26="C",IF(R26<17,"SI","NO"),IF(O26="A",IF(R26<31,"SI","NO"))))) -> SI | T26: =IF(O26="P",IF(R26<3,"SI","NO"),IF(O26="D",IF(R26<5,"SI","NO"),IF(O26="C",IF(R26<9,"SI","NO"),IF(O26="A",IF(R26<16,"SI","NO"))))) -> SI | V26: A | W26: MESSIAS | Y26: 9 | Z26: =IF(V26="P",IF(Y26<5,"SI","NO"),IF(V26="D",IF(Y26<9,"SI","NO"),IF(V26="C",IF(Y26<17,"SI","NO"),IF(V26="A",IF(Y26<31,"SI","NO"))))) -> SI | AA26: =IF(V26="P",IF(Y26<3,"SI","NO"),IF(V26="D",IF(Y26<5,"SI","NO"),IF(V26="C",IF(Y26<9,"SI","NO"),IF(V26="A",IF(Y26<16,"SI","NO"))))) -> SI | AC26: A | AD26: ILICIC | AF26: 38 | AG26: =IF(AC26="P",IF(AF26<5,"SI","NO"),IF(AC26="D",IF(AF26<9,"SI","NO"),IF(AC26="C",IF(AF26<17,"SI","NO"),IF(AC26="A",IF(AF26<31,"SI","NO"))))) -> NO | AH26: =IF(AC26="P",IF(AF26<3,"SI","NO"),IF(AC26="D",IF(AF26<5,"SI","NO"),IF(AC26="C",IF(AF26<9,"SI","NO"),IF(AC26="A",IF(AF26<16,"SI","NO"))))) -> NO | AJ26: A | AK26: DI CARMINE | AM26: 1 | AN26: =IF(AJ26="P",IF(AM26<5,"SI","NO"),IF(AJ26="D",IF(AM26<9,"SI","NO"),IF(AJ26="C",IF(AM26<17,"SI","NO"),IF(AJ26="A",IF(AM26<31,"SI","NO"))))) -> SI | AO26: =IF(AJ26="P",IF(AM26<3,"SI","NO"),IF(AJ26="D",IF(AM26<5,"SI","NO"),IF(AJ26="C",IF(AM26<9,"SI","NO"),IF(AJ26="A",IF(AM26<16,"SI","NO"))))) -> SI | AQ26: A | AR26: KEITA B. | AT26: 4 | AU26: =IF(AQ26="P",IF(AT26<5,"SI","NO"),IF(AQ26="D",IF(AT26<9,"SI","NO"),IF(AQ26="C",IF(AT26<17,"SI","NO"),IF(AQ26="A",IF(AT26<31,"SI","NO"))))) -> SI | AV26: =IF(AQ26="P",IF(AT26<3,"SI","NO"),IF(AQ26="D",IF(AT26<5,"SI","NO"),IF(AQ26="C",IF(AT26<9,"SI","NO"),IF(AQ26="A",IF(AT26<16,"SI","NO"))))) -> SI | AX26: A | AY26: PETAGNA | BA26: 1 | BB26: =IF(AX26="P",IF(BA26<5,"SI","NO"),IF(AX26="D",IF(BA26<9,"SI","NO"),IF(AX26="C",IF(BA26<17,"SI","NO"),IF(AX26="A",IF(BA26<31,"SI","NO"))))) -> SI | BC26: =IF(AX26="P",IF(BA26<3,"SI","NO"),IF(AX26="D",IF(BA26<5,"SI","NO"),IF(AX26="C",IF(BA26<9,"SI","NO"),IF(AX26="A",IF(BA26<16,"SI","NO"))))) -> SI | BE26: A | BF26: PEDRO | BH26: 47 | BI26: =IF(BE26="P",IF(BH26<5,"SI","NO"),IF(BE26="D",IF(BH26<9,"SI","NO"),IF(BE26="C",IF(BH26<17,"SI","NO"),IF(BE26="A",IF(BH26<31,"SI","NO"))))) -> NO | BJ26: =IF(BE26="P",IF(BH26<3,"SI","NO"),IF(BE26="D",IF(BH26<5,"SI","NO"),IF(BE26="C",IF(BH26<9,"SI","NO"),IF(BE26="A",IF(BH26<16,"SI","NO"))))) -> NO | BL26: A | BM26: ORSOLINI | BO26: 25 | BP26: =IF(BL26="P",IF(BO26<5,"SI","NO"),IF(BL26="D",IF(BO26<9,"SI","NO"),IF(BL26="C",IF(BO26<17,"SI","NO"),IF(BL26="A",IF(BO26<31,"SI","NO"))))) -> SI | BQ26: =IF(BL26="P",IF(BO26<3,"SI","NO"),IF(BL26="D",IF(BO26<5,"SI","NO"),IF(BL26="C",IF(BO26<9,"SI","NO"),IF(BL26="A",IF(BO26<16,"SI","NO"))))) -> NO
A27: A | B27: CAICEDO | D27: 28 | E27: =IF(A27="P",IF(D27<5,"SI","NO"),IF(A27="D",IF(D27<9,"SI","NO"),IF(A27="C",IF(D27<17,"SI","NO"),IF(A27="A",IF(D27<31,"SI","NO"))))) -> SI | F27: =IF(A27="P",IF(D27<3,"SI","NO"),IF(A27="D",IF(D27<5,"SI","NO"),IF(A27="C",IF(D27<9,"SI","NO"),IF(A27="A",IF(D27<16,"SI","NO"))))) -> NO | H27: A | I27: MAN | K27: 2 | L27: =IF(H27="P",IF(K27<5,"SI","NO"),IF(H27="D",IF(K27<9,"SI","NO"),IF(H27="C",IF(K27<17,"SI","NO"),IF(H27="A",IF(K27<31,"SI","NO"))))) -> SI | M27: =IF(H27="P",IF(K27<3,"SI","NO"),IF(H27="D",IF(K27<5,"SI","NO"),IF(H27="C",IF(K27<9,"SI","NO"),IF(H27="A",IF(K27<16,"SI","NO"))))) -> SI | O27: A | P27: LAMMERS | R27: 3 | S27: =IF(O27="P",IF(R27<5,"SI","NO"),IF(O27="D",IF(R27<9,"SI","NO"),IF(O27="C",IF(R27<17,"SI","NO"),IF(O27="A",IF(R27<31,"SI","NO"))))) -> SI | T27: =IF(O27="P",IF(R27<3,"SI","NO"),IF(O27="D",IF(R27<5,"SI","NO"),IF(O27="C",IF(R27<9,"SI","NO"),IF(O27="A",IF(R27<16,"SI","NO"))))) -> SI | V27: A | W27: GALABINOV | Y27: 1 | Z27: =IF(V27="P",IF(Y27<5,"SI","NO"),IF(V27="D",IF(Y27<9,"SI","NO"),IF(V27="C",IF(Y27<17,"SI","NO"),IF(V27="A",IF(Y27<31,"SI","NO"))))) -> SI | AA27: =IF(V27="P",IF(Y27<3,"SI","NO"),IF(V27="D",IF(Y27<5,"SI","NO"),IF(V27="C",IF(Y27<9,"SI","NO"),IF(V27="A",IF(Y27<16,"SI","NO"))))) -> SI | AC27: A | AD27: MAYORAL | AF27: 1 | AG27: =IF(AC27="P",IF(AF27<5,"SI","NO"),IF(AC27="D",IF(AF27<9,"SI","NO"),IF(AC27="C",IF(AF27<17,"SI","NO"),IF(AC27="A",IF(AF27<31,"SI","NO"))))) -> SI | AH27: =IF(AC27="P",IF(AF27<3,"SI","NO"),IF(AC27="D",IF(AF27<5,"SI","NO"),IF(AC27="C",IF(AF27<9,"SI","NO"),IF(AC27="A",IF(AF27<16,"SI","NO"))))) -> SI | AJ27: A | AK27: GALABINOV | AM27: 1 | AN27: =IF(AJ27="P",IF(AM27<5,"SI","NO"),IF(AJ27="D",IF(AM27<9,"SI","NO"),IF(AJ27="C",IF(AM27<17,"SI","NO"),IF(AJ27="A",IF(AM27<31,"SI","NO"))))) -> SI | AO27: =IF(AJ27="P",IF(AM27<3,"SI","NO"),IF(AJ27="D",IF(AM27<5,"SI","NO"),IF(AJ27="C",IF(AM27<9,"SI","NO"),IF(AJ27="A",IF(AM27<16,"SI","NO"))))) -> SI | AQ27: A | AR27: SCAMACCA | AT27: 1 | AU27: =IF(AQ27="P",IF(AT27<5,"SI","NO"),IF(AQ27="D",IF(AT27<9,"SI","NO"),IF(AQ27="C",IF(AT27<17,"SI","NO"),IF(AQ27="A",IF(AT27<31,"SI","NO"))))) -> SI | AV27: =IF(AQ27="P",IF(AT27<3,"SI","NO"),IF(AQ27="D",IF(AT27<5,"SI","NO"),IF(AQ27="C",IF(AT27<9,"SI","NO"),IF(AQ27="A",IF(AT27<16,"SI","NO"))))) -> SI | AX27: A | AY27: OSIMHEN | BA27: 60 | BB27: =IF(AX27="P",IF(BA27<5,"SI","NO"),IF(AX27="D",IF(BA27<9,"SI","NO"),IF(AX27="C",IF(BA27<17,"SI","NO"),IF(AX27="A",IF(BA27<31,"SI","NO"))))) -> NO | BC27: =IF(AX27="P",IF(BA27<3,"SI","NO"),IF(AX27="D",IF(BA27<5,"SI","NO"),IF(AX27="C",IF(BA27<9,"SI","NO"),IF(AX27="A",IF(BA27<16,"SI","NO"))))) -> NO | BE27: A | BF27: MAYORAL | BH27: 1 | BI27: =IF(BE27="P",IF(BH27<5,"SI","NO"),IF(BE27="D",IF(BH27<9,"SI","NO"),IF(BE27="C",IF(BH27<17,"SI","NO"),IF(BE27="A",IF(BH27<31,"SI","NO"))))) -> SI | BJ27: =IF(BE27="P",IF(BH27<3,"SI","NO"),IF(BE27="D",IF(BH27<5,"SI","NO"),IF(BE27="C",IF(BH27<9,"SI","NO"),IF(BE27="A",IF(BH27<16,"SI","NO"))))) -> SI | BL27: A | BM27: KEITA B. | BO27: 15 | BP27: =IF(BL27="P",IF(BO27<5,"SI","NO"),IF(BL27="D",IF(BO27<9,"SI","NO"),IF(BL27="C",IF(BO27<17,"SI","NO"),IF(BL27="A",IF(BO27<31,"SI","NO"))))) -> SI | BQ27: =IF(BL27="P",IF(BO27<3,"SI","NO"),IF(BL27="D",IF(BO27<5,"SI","NO"),IF(BL27="C",IF(BO27<9,"SI","NO"),IF(BL27="A",IF(BO27<16,"SI","NO"))))) -> SI
A28: Crediti Residui | C28: Rimanente | E28: 7 | H28: Crediti Residui | J28: Rimanente | L28: 30 | O28: Crediti Residui | Q28: Rimanente | S28: 30 | V28: Crediti Residui | X28: Rimanente | Z28: 27 | AC28: Crediti Residui | AE28: Rimanente | AG28: 3 | AJ28: Crediti Residui | AL28: Rimanente | AN28: 17 | AQ28: Crediti Residui | AS28: Rimanente | AU28: 1 | AX28: Crediti Residui | AZ28: Rimanente | BB28: 11 | BE28: Crediti Residui | BG28: Rimanente | BI28: 30 | BL28: Crediti Residui | BN28: Rimanente | BP28: 30
C29: Nuovi | E29: 500 | J29: Nuovi | L29: 500 | Q29: Nuovi | S29: 500 | X29: Nuovi | Z29: 500 | AE29: Nuovi | AG29: 500 | AL29: Nuovi | AN29: 500 | AS29: Nuovi | AU29: 501 | AZ29: Nuovi | BB29: 502 | BG29: Nuovi | BI29: 506 | BN29: Nuovi | BP29: 509
C30: Conferme | E30: =SUM(E3:E27) -> 0 | F30: =SUM(F3:F27) -> 0 | J30: Conferme | L30: =SUM(L3:L27) -> 0 | M30: =SUM(M3:M27) -> 0 | Q30: Conferme | S30: =SUM(S3:S27) -> 0 | T30: =SUM(T3:T27) -> 0 | X30: Conferme | Z30: =SUM(Z3:Z27) -> 0 | AA30: =SUM(AA3:AA27) -> 0 | AE30: Conferme | AG30: =SUM(AG3:AG27) -> 0 | AH30: =SUM(AH3:AH27) -> 0 | AL30: Conferme | AN30: =SUM(AN3:AN27) -> 0 | AO30: =SUM(AO3:AO27) -> 0 | AS30: Conferme | AU30: =SUM(AU3:AU27) -> 0 | AV30: =SUM(AV3:AV27) -> 0 | AZ30: Conferme | BB30: =SUM(BB3:BB27) -> 0 | BC30: =SUM(BC3:BC27) -> 0 | BG30: Conferme | BI30: =SUM(BI3:BI27) -> 0 | BJ30: =SUM(BJ3:BJ27) -> 0 | BN30: Conferme | BP30: =SUM(BP3:BP27) -> 0 | BQ30: =SUM(BQ3:BQ27) -> 0
C31: Totali | E31: =SUM(E28:E29)-SUM(E30:F30) -> 507 | J31: Totali | L31: =SUM(L28:L29)-SUM(L30:M30) -> 530 | Q31: Totali | S31: =SUM(S28:S29)-SUM(S30:T30) -> 530 | X31: Totali | Z31: =SUM(Z28:Z29)-SUM(Z30:AA30) -> 527 | AE31: Totali | AG31: =SUM(AG28:AG29)-SUM(AG30:AH30) -> 503 | AL31: Totali | AN31: =SUM(AN28:AN29)-SUM(AN30:AO30) -> 517 | AS31: Totali | AU31: =SUM(AU28:AU29)-SUM(AU30:AV30) -> 502 | AZ31: Totali | BB31: =SUM(BB28:BB29)-SUM(BB30:BC30) -> 513 | BG31: Totali | BI31: =SUM(BI28:BI29)-SUM(BI30:BJ30) -> 536 | BN31: Totali | BP31: =SUM(BP28:BP29)-SUM(BP30:BQ30) -> 539

Sheet Serie B
A1: BISCOTTI STRIMBUSCHISTANI | F1: 69.46 | H1: MARCELLONA | M1: 69.89 | O1: CYRANO IR | T1: 70.51 | V1: BRIGATA GURREN | AA1: 70.89 | AC1: TEAM AS TURBO | AH1: 71.49 | AJ1: NEDVED 11 | AO1: 71.73 | AQ1: IBRADIPOSI | AV1: 71.9 | AX1: REAL PETARE | BC1: 72.71 | BE1: BAYER 04 PAPPIANA | BJ1: 75.69 | BL1: REAL PAGA | BQ1: 76.84
A2: Ruolo | B2: Calciatore | C2: Squadra | D2: Costo | E2: Giugno | F2: Settembre | H2: Ruolo | I2: Calciatore | J2: Squadra | K2: Costo | L2: Giugno | M2: Settembre | O2: Ruolo | P2: Calciatore | Q2: Squadra | R2: Costo | S2: Giugno | T2: Settembre | V2: Ruolo | W2: Calciatore | X2: Squadra | Y2: Costo | Z2: Giugno | AA2: Settembre | AC2: Ruolo | AD2: Calciatore | AE2: Squadra | AF2: Costo | AG2: Giugno | AH2: Settembre | AJ2: Ruolo | AK2: Calciatore | AL2: Squadra | AM2: Costo | AN2: Giugno | AO2: Settembre | AQ2: Ruolo | AR2: Calciatore | AS2: Squadra | AT2: Costo | AU2: Giugno | AV2: Settembre | AX2: Ruolo | AY2: Calciatore | AZ2: Squadra | BA2: Costo | BB2: Giugno | BC2: Settembre | BE2: Ruolo | BF2: Calciatore | BG2: Squadra | BH2: Costo | BI2: Giugno | BJ2: Settembre | BL2: Ruolo | BM2: Calciatore | BN2: Squadra | BO2: Costo | BP2: Giugno | BQ2: Settembre
A3: P | B3: MIRANTE | D3: 1 | H3: P | I3: DONNARUMMA G. | K3: 45 | L3: =IF(H3="P",IF(K3<5,"SI","NO"),IF(H3="D",IF(K3<9,"SI","NO"),IF(H3="C",IF(K3<17,"SI","NO"),IF(H3="A",IF(K3<31,"SI","NO"))))) -> NO | M3: =IF(H3="P",IF(K3<3,"SI","NO"),IF(H3="D",IF(K3<5,"SI","NO"),IF(H3="C",IF(K3<9,"SI","NO"),IF(H3="A",IF(K3<16,"SI","NO"))))) -> NO | O3: P | P3: SILVESTRI | R3: 1 | V3: P | W3: SILVESTRI | Y3: 1 | AC3: P | AD3: SIRIGU | AF3: 21 | AG3: =IF(AC3="P",IF(AF3<5,"SI","NO"),IF(AC3="D",IF(AF3<9,"SI","NO"),IF(AC3="C",IF(AF3<17,"SI","NO"),IF(AC3="A",IF(AF3<31,"SI","NO"))))) -> NO | AH3: =IF(AC3="P",IF(AF3<3,"SI","NO"),IF(AC3="D",IF(AF3<5,"SI","NO"),IF(AC3="C",IF(AF3<9,"SI","NO"),IF(AC3="A",IF(AF3<16,"SI","NO"))))) -> NO | AJ3: P | AK3: OSPINA | AM3: 1 | AQ3: P | AR3: CONSIGLI | AT3: 1 | AX3: P | AY3: SZCZESNY | BA3: 47 | BB3: =IF(AX3="P",IF(BA3<5,"SI","NO"),IF(AX3="D",IF(BA3<9,"SI","NO"),IF(AX3="C",IF(BA3<17,"SI","NO"),IF(AX3="A",IF(BA3<31,"SI","NO"))))) -> NO | BC3: =IF(AX3="P",IF(BA3<3,"SI","NO"),IF(AX3="D",IF(BA3<5,"SI","NO"),IF(AX3="C",IF(BA3<9,"SI","NO"),IF(AX3="A",IF(BA3<16,"SI","NO"))))) -> NO | BE3: P | BF3: CRAGNO | BH3: 1 | BL3: P | BM3: DRAGOWSKI | BO3: 25 | BP3: =IF(BL3="P",IF(BO3<5,"SI","NO"),IF(BL3="D",IF(BO3<9,"SI","NO"),IF(BL3="C",IF(BO3<17,"SI","NO"),IF(BL3="A",IF(BO3<31,"SI","NO"))))) -> NO | BQ3: =IF(BL3="P",IF(BO3<3,"SI","NO"),IF(BL3="D",IF(BO3<5,"SI","NO"),IF(BL3="C",IF(BO3<9,"SI","NO"),IF(BL3="A",IF(BO3<16,"SI","NO"))))) -> NO
A4: P | B4: PAU LOPEZ | D4: 3 | E4: =IF(A4="P",IF(D4<5,"SI","NO"),IF(A4="D",IF(D4<9,"SI","NO"),IF(A4="C",IF(D4<17,"SI","NO"),IF(A4="A",IF(D4<31,"SI","NO"))))) -> SI | F4: =IF(A4="P",IF(D4<3,"SI","NO"),IF(A4="D",IF(D4<5,"SI","NO"),IF(A4="C",IF(D4<9,"SI","NO"),IF(A4="A",IF(D4<16,"SI","NO"))))) -> NO | H4: P | I4: TATARUSANU | K4: 1 | L4: =IF(H4="P",IF(K4<5,"SI","NO"),IF(H4="D",IF(K4<9,"SI","NO"),IF(H4="C",IF(K4<17,"SI","NO"),IF(H4="A",IF(K4<31,"SI","NO"))))) -> SI | M4: =IF(H4="P",IF(K4<3,"SI","NO"),IF(H4="D",IF(K4<5,"SI","NO"),IF(H4="C",IF(K4<9,"SI","NO"),IF(H4="A",IF(K4<16,"SI","NO"))))) -> SI | O4: P | P4: GOLLINI | R4: 33 | S4: =IF(O4="P",IF(R4<5,"SI","NO"),IF(O4="D",IF(R4<9,"SI","NO"),IF(O4="C",IF(R4<17,"SI","NO"),IF(O4="A",IF(R4<31,"SI","NO"))))) -> NO | T4: =IF(O4="P",IF(R4<3,"SI","NO"),IF(O4="D",IF(R4<5,"SI","NO"),IF(O4="C",IF(R4<9,"SI","NO"),IF(O4="A",IF(R4<16,"SI","NO"))))) -> NO | V4: P | W4: MIRANTE | Y4: 21 | Z4: =IF(V4="P",IF(Y4<5,"SI","NO"),IF(V4="D",IF(Y4<9,"SI","NO"),IF(V4="C",IF(Y4<17,"SI","NO"),IF(V4="A",IF(Y4<31,"SI","NO"))))) -> NO | AA4: =IF(V4="P",IF(Y4<3,"SI","NO"),IF(V4="D",IF(Y4<5,"SI","NO"),IF(V4="C",IF(Y4<9,"SI","NO"),IF(V4="A",IF(Y4<16,"SI","NO"))))) -> NO | AC4: P | AD4: GOLLINI | AF4: 11 | AG4: =IF(AC4="P",IF(AF4<5,"SI","NO"),IF(AC4="D",IF(AF4<9,"SI","NO"),IF(AC4="C",IF(AF4<17,"SI","NO"),IF(AC4="A",IF(AF4<31,"SI","NO"))))) -> NO | AH4: =IF(AC4="P",IF(AF4<3,"SI","NO"),IF(AC4="D",IF(AF4<5,"SI","NO"),IF(AC4="C",IF(AF4<9,"SI","NO"),IF(AC4="A",IF(AF4<16,"SI","NO"))))) -> NO | AJ4: P | AK4: MERET | AM4: 11 | AN4: =IF(AJ4="P",IF(AM4<5,"SI","NO"),IF(AJ4="D",IF(AM4<9,"SI","NO"),IF(AJ4="C",IF(AM4<17,"SI","NO"),IF(AJ4="A",IF(AM4<31,"SI","NO"))))) -> NO | AO4: =IF(AJ4="P",IF(AM4<3,"SI","NO"),IF(AJ4="D",IF(AM4<5,"SI","NO"),IF(AJ4="C",IF(AM4<9,"SI","NO"),IF(AJ4="A",IF(AM4<16,"SI","NO"))))) -> NO | AQ4: P | AR4: STRAKOSHA | AT4: 32 | AU4: =IF(AQ4="P",IF(AT4<5,"SI","NO"),IF(AQ4="D",IF(AT4<9,"SI","NO"),IF(AQ4="C",IF(AT4<17,"SI","NO"),IF(AQ4="A",IF(AT4<31,"SI","NO"))))) -> NO | AV4: =IF(AQ4="P",IF(AT4<3,"SI","NO"),IF(AQ4="D",IF(AT4<5,"SI","NO"),IF(AQ4="C",IF(AT4<9,"SI","NO"),IF(AQ4="A",IF(AT4<16,"SI","NO"))))) -> NO | AX4: P | AY4: SILVESTRI | BA4: 10 | BB4: =IF(AX4="P",IF(BA4<5,"SI","NO"),IF(AX4="D",IF(BA4<9,"SI","NO"),IF(AX4="C",IF(BA4<17,"SI","NO"),IF(AX4="A",IF(BA4<31,"SI","NO"))))) -> NO | BC4: =IF(AX4="P",IF(BA4<3,"SI","NO"),IF(AX4="D",IF(BA4<5,"SI","NO"),IF(AX4="C",IF(BA4<9,"SI","NO"),IF(AX4="A",IF(BA4<16,"SI","NO"))))) -> NO | BE4: P | BF4: OSPINA | BH4: 35 | BI4: =IF(BE4="P",IF(BH4<5,"SI","NO"),IF(BE4="D",IF(BH4<9,"SI","NO"),IF(BE4="C",IF(BH4<17,"SI","NO"),IF(BE4="A",IF(BH4<31,"SI","NO"))))) -> NO | BJ4: =IF(BE4="P",IF(BH4<3,"SI","NO"),IF(BE4="D",IF(BH4<5,"SI","NO"),IF(BE4="C",IF(BH4<9,"SI","NO"),IF(BE4="A",IF(BH4<16,"SI","NO"))))) -> NO | BL4: P | BM4: TERRACCIANO | BO4: 1 | BP4: =IF(BL4="P",IF(BO4<5,"SI","NO"),IF(BL4="D",IF(BO4<9,"SI","NO"),IF(BL4="C",IF(BO4<17,"SI","NO"),IF(BL4="A",IF(BO4<31,"SI","NO"))))) -> SI | BQ4: =IF(BL4="P",IF(BO4<3,"SI","NO"),IF(BL4="D",IF(BO4<5,"SI","NO"),IF(BL4="C",IF(BO4<9,"SI","NO"),IF(BL4="A",IF(BO4<16,"SI","NO"))))) -> SI
A5: P | B5: BOER | D5: 1 | E5: =IF(A5="P",IF(D5<5,"SI","NO"),IF(A5="D",IF(D5<9,"SI","NO"),IF(A5="C",IF(D5<17,"SI","NO"),IF(A5="A",IF(D5<31,"SI","NO"))))) -> SI | F5: =IF(A5="P",IF(D5<3,"SI","NO"),IF(A5="D",IF(D5<5,"SI","NO"),IF(A5="C",IF(D5<9,"SI","NO"),IF(A5="A",IF(D5<16,"SI","NO"))))) -> SI | H5: P | I5: DONNARUMMA AN. | K5: 1 | L5: =IF(H5="P",IF(K5<5,"SI","NO"),IF(H5="D",IF(K5<9,"SI","NO"),IF(H5="C",IF(K5<17,"SI","NO"),IF(H5="A",IF(K5<31,"SI","NO"))))) -> SI | M5: =IF(H5="P",IF(K5<3,"SI","NO"),IF(H5="D",IF(K5<5,"SI","NO"),IF(H5="C",IF(K5<9,"SI","NO"),IF(H5="A",IF(K5<16,"SI","NO"))))) -> SI | O5: P | P5: SPORTIELLO | R5: 1 | S5: =IF(O5="P",IF(R5<5,"SI","NO"),IF(O5="D",IF(R5<9,"SI","NO"),IF(O5="C",IF(R5<17,"SI","NO"),IF(O5="A",IF(R5<31,"SI","NO"))))) -> SI | T5: =IF(O5="P",IF(R5<3,"SI","NO"),IF(O5="D",IF(R5<5,"SI","NO"),IF(O5="C",IF(R5<9,"SI","NO"),IF(O5="A",IF(R5<16,"SI","NO"))))) -> SI | V5: P | W5: PAU LOPEZ | Y5: 7 | Z5: =IF(V5="P",IF(Y5<5,"SI","NO"),IF(V5="D",IF(Y5<9,"SI","NO"),IF(V5="C",IF(Y5<17,"SI","NO"),IF(V5="A",IF(Y5<31,"SI","NO"))))) -> NO | AA5: =IF(V5="P",IF(Y5<3,"SI","NO"),IF(V5="D",IF(Y5<5,"SI","NO"),IF(V5="C",IF(Y5<9,"SI","NO"),IF(V5="A",IF(Y5<16,"SI","NO"))))) -> NO | AC5: P | AD5: SPORTIELLO | AF5: 1 | AG5: =IF(AC5="P",IF(AF5<5,"SI","NO"),IF(AC5="D",IF(AF5<9,"SI","NO"),IF(AC5="C",IF(AF5<17,"SI","NO"),IF(AC5="A",IF(AF5<31,"SI","NO"))))) -> SI | AH5: =IF(AC5="P",IF(AF5<3,"SI","NO"),IF(AC5="D",IF(AF5<5,"SI","NO"),IF(AC5="C",IF(AF5<9,"SI","NO"),IF(AC5="A",IF(AF5<16,"SI","NO"))))) -> SI | AJ5: P | AK5: PERIN | AM5: 1 | AN5: =IF(AJ5="P",IF(AM5<5,"SI","NO"),IF(AJ5="D",IF(AM5<9,"SI","NO"),IF(AJ5="C",IF(AM5<17,"SI","NO"),IF(AJ5="A",IF(AM5<31,"SI","NO"))))) -> SI | AO5: =IF(AJ5="P",IF(AM5<3,"SI","NO"),IF(AJ5="D",IF(AM5<5,"SI","NO"),IF(AJ5="C",IF(AM5<9,"SI","NO"),IF(AJ5="A",IF(AM5<16,"SI","NO"))))) -> SI | AQ5: P | AR5: REINA | AT5: 1 | AU5: =IF(AQ5="P",IF(AT5<5,"SI","NO"),IF(AQ5="D",IF(AT5<9,"SI","NO"),IF(AQ5="C",IF(AT5<17,"SI","NO"),IF(AQ5="A",IF(AT5<31,"SI","NO"))))) -> SI | AV5: =IF(AQ5="P",IF(AT5<3,"SI","NO"),IF(AQ5="D",IF(AT5<5,"SI","NO"),IF(AQ5="C",IF(AT5<9,"SI","NO"),IF(AQ5="A",IF(AT5<16,"SI","NO"))))) -> SI | AX5: P | AY5: SEPE | BA5: 3 | BB5: =IF(AX5="P",IF(BA5<5,"SI","NO"),IF(AX5="D",IF(BA5<9,"SI","NO"),IF(AX5="C",IF(BA5<17,"SI","NO"),IF(AX5="A",IF(BA5<31,"SI","NO"))))) -> SI | BC5: =IF(AX5="P",IF(BA5<3,"SI","NO"),IF(AX5="D",IF(BA5<5,"SI","NO"),IF(AX5="C",IF(BA5<9,"SI","NO"),IF(AX5="A",IF(BA5<16,"SI","NO"))))) -> NO | BE5: P | BF5: MERET | BH5: 12 | BI5: =IF(BE5="P",IF(BH5<5,"SI","NO"),IF(BE5="D",IF(BH5<9,"SI","NO"),IF(BE5="C",IF(BH5<17,"SI","NO"),IF(BE5="A",IF(BH5<31,"SI","NO"))))) -> NO | BJ5: =IF(BE5="P",IF(BH5<3,"SI","NO"),IF(BE5="D",IF(BH5<5,"SI","NO"),IF(BE5="C",IF(BH5<9,"SI","NO"),IF(BE5="A",IF(BH5<16,"SI","NO"))))) -> NO | BL5: P | BM5: SKORUPSKI | BO5: 7 | BP5: =IF(BL5="P",IF(BO5<5,"SI","NO"),IF(BL5="D",IF(BO5<9,"SI","NO"),IF(BL5="C",IF(BO5<17,"SI","NO"),IF(BL5="A",IF(BO5<31,"SI","NO"))))) -> NO | BQ5: =IF(BL5="P",IF(BO5<3,"SI","NO"),IF(BL5="D",IF(BO5<5,"SI","NO"),IF(BL5="C",IF(BO5<9,"SI","NO"),IF(BL5="A",IF(BO5<16,"SI","NO"))))) -> NO
A6: D | B6: HATEBOER | D6: 45 | E6: =IF(A6="P",IF(D6<5,"SI","NO"),IF(A6="D",IF(D6<9,"SI","NO"),IF(A6="C",IF(D6<17,"SI","NO"),IF(A6="A",IF(D6<31,"SI","NO"))))) -> NO | F6: =IF(A6="P",IF(D6<3,"SI","NO"),IF(A6="D",IF(D6<5,"SI","NO"),IF(A6="C",IF(D6<9,"SI","NO"),IF(A6="A",IF(D6<16,"SI","NO"))))) -> NO | H6: D | I6: DEMIRAL | K6: 2 | O6: D | P6: KUMBULLA | R6: 1 | V6: D | W6: SPINAZZOLA | Y6: 20 | Z6: =IF(V6="P",IF(Y6<5,"SI","NO"),IF(V6="D",IF(Y6<9,"SI","NO"),IF(V6="C",IF(Y6<17,"SI","NO"),IF(V6="A",IF(Y6<31,"SI","NO"))))) -> NO | AA6: =IF(V6="P",IF(Y6<3,"SI","NO"),IF(V6="D",IF(Y6<5,"SI","NO"),IF(V6="C",IF(Y6<9,"SI","NO"),IF(V6="A",IF(Y6<16,"SI","NO"))))) -> NO | AC6: D | AD6: HATEBOER | AF6: 34 | AG6: =IF(AC6="P",IF(AF6<5,"SI","NO"),IF(AC6="D",IF(AF6<9,"SI","NO"),IF(AC6="C",IF(AF6<17,"SI","NO"),IF(AC6="A",IF(AF6<31,"SI","NO"))))) -> NO | AH6: =IF(AC6="P",IF(AF6<3,"SI","NO"),IF(AC6="D",IF(AF6<5,"SI","NO"),IF(AC6="C",IF(AF6<9,"SI","NO"),IF(AC6="A",IF(AF6<16,"SI","NO"))))) -> NO | AJ6: D | AK6: MARIO RUI | AM6: 1 | AQ6: D | AR6: PEZZELLA GIU. | AT6: 2 | AU6: =IF(AQ6="P",IF(AT6<5,"SI","NO"),IF(AQ6="D",IF(AT6<9,"SI","NO"),IF(AQ6="C",IF(AT6<17,"SI","NO"),IF(AQ6="A",IF(AT6<31,"SI","NO"))))) -> SI | AV6: =IF(AQ6="P",IF(AT6<3,"SI","NO"),IF(AQ6="D",IF(AT6<5,"SI","NO"),IF(AQ6="C",IF(AT6<9,"SI","NO"),IF(AQ6="A",IF(AT6<16,"SI","NO"))))) -> SI | AX6: D | AY6: TOLOI | BA6: 3 | BE6: D | BF6: DJIMSITI | BH6: 1 | BL6: D | BM6: SPINAZZOLA | BO6: 1
A7: D | B7: ROMAGNOLI | D7: 20 | E7: =IF(A7="P",IF(D7<5,"SI","NO"),IF(A7="D",IF(D7<9,"SI","NO"),IF(A7="C",IF(D7<17,"SI","NO"),IF(A7="A",IF(D7<31,"SI","NO"))))) -> NO | F7: =IF(A7="P",IF(D7<3,"SI","NO"),IF(A7="D",IF(D7<5,"SI","NO"),IF(A7="C",IF(D7<9,"SI","NO"),IF(A7="A",IF(D7<16,"SI","NO"))))) -> NO | H7: D | I7: BONUCCI | K7: 25 | L7: =IF(H7="P",IF(K7<5,"SI","NO"),IF(H7="D",IF(K7<9,"SI","NO"),IF(H7="C",IF(K7<17,"SI","NO"),IF(H7="A",IF(K7<31,"SI","NO"))))) -> NO | M7: =IF(H7="P",IF(K7<3,"SI","NO"),IF(H7="D",IF(K7<5,"SI","NO"),IF(H7="C",IF(K7<9,"SI","NO"),IF(H7="A",IF(K7<16,"SI","NO"))))) -> NO | O7: D | P7: PALOMINO | R7: 10 | S7: =IF(O7="P",IF(R7<5,"SI","NO"),IF(O7="D",IF(R7<9,"SI","NO"),IF(O7="C",IF(R7<17,"SI","NO"),IF(O7="A",IF(R7<31,"SI","NO"))))) -> NO | T7: =IF(O7="P",IF(R7<3,"SI","NO"),IF(O7="D",IF(R7<5,"SI","NO"),IF(O7="C",IF(R7<9,"SI","NO"),IF(O7="A",IF(R7<16,"SI","NO"))))) -> NO | V7: D | W7: GLIK | Y7: 5 | Z7: =IF(V7="P",IF(Y7<5,"SI","NO"),IF(V7="D",IF(Y7<9,"SI","NO"),IF(V7="C",IF(Y7<17,"SI","NO"),IF(V7="A",IF(Y7<31,"SI","NO"))))) -> SI | AA7: =IF(V7="P",IF(Y7<3,"SI","NO"),IF(V7="D",IF(Y7<5,"SI","NO"),IF(V7="C",IF(Y7<9,"SI","NO"),IF(V7="A",IF(Y7<16,"SI","NO"))))) -> NO | AC7: D | AD7: CHIELLINI | AF7: 10 | AG7: =IF(AC7="P",IF(AF7<5,"SI","NO"),IF(AC7="D",IF(AF7<9,"SI","NO"),IF(AC7="C",IF(AF7<17,"SI","NO"),IF(AC7="A",IF(AF7<31,"SI","NO"))))) -> NO | AH7: =IF(AC7="P",IF(AF7<3,"SI","NO"),IF(AC7="D",IF(AF7<5,"SI","NO"),IF(AC7="C",IF(AF7<9,"SI","NO"),IF(AC7="A",IF(AF7<16,"SI","NO"))))) -> NO | AJ7: D | AK7: CUADRADO | AM7: 20 | AN7: =IF(AJ7="P",IF(AM7<5,"SI","NO"),IF(AJ7="D",IF(AM7<9,"SI","NO"),IF(AJ7="C",IF(AM7<17,"SI","NO"),IF(AJ7="A",IF(AM7<31,"SI","NO"))))) -> NO | AO7: =IF(AJ7="P",IF(AM7<3,"SI","NO"),IF(AJ7="D",IF(AM7<5,"SI","NO"),IF(AJ7="C",IF(AM7<9,"SI","NO"),IF(AJ7="A",IF(AM7<16,"SI","NO"))))) -> NO | AQ7: D | AR7: DE VRIJ | AT7: 23 | AU7: =IF(AQ7="P",IF(AT7<5,"SI","NO"),IF(AQ7="D",IF(AT7<9,"SI","NO"),IF(AQ7="C",IF(AT7<17,"SI","NO"),IF(AQ7="A",IF(AT7<31,"SI","NO"))))) -> NO | AV7: =IF(AQ7="P",IF(AT7<3,"SI","NO"),IF(AQ7="D",IF(AT7<5,"SI","NO"),IF(AQ7="C",IF(AT7<9,"SI","NO"),IF(AQ7="A",IF(AT7<16,"SI","NO"))))) -> NO | AX7: D | AY7: DE VRIJ | BA7: 27 | BB7: =IF(AX7="P",IF(BA7<5,"SI","NO"),IF(AX7="D",IF(BA7<9,"SI","NO"),IF(AX7="C",IF(BA7<17,"SI","NO"),IF(AX7="A",IF(BA7<31,"SI","NO"))))) -> NO | BC7: =IF(AX7="P",IF(BA7<3,"SI","NO"),IF(AX7="D",IF(BA7<5,"SI","NO"),IF(AX7="C",IF(BA7<9,"SI","NO"),IF(AX7="A",IF(BA7<16,"SI","NO"))))) -> NO | BE7: D | BF7: HATEBOER | BH7: 24 | BI7: =IF(BE7="P",IF(BH7<5,"SI","NO"),IF(BE7="D",IF(BH7<9,"SI","NO"),IF(BE7="C",IF(BH7<17,"SI","NO"),IF(BE7="A",IF(BH7<31,"SI","NO"))))) -> NO | BJ7: =IF(BE7="P",IF(BH7<3,"SI","NO"),IF(BE7="D",IF(BH7<5,"SI","NO"),IF(BE7="C",IF(BH7<9,"SI","NO"),IF(BE7="A",IF(BH7<16,"SI","NO"))))) -> NO | BL7: D | BM7: DE LIGT | BO7: 17 | BP7: =IF(BL7="P",IF(BO7<5,"SI","NO"),IF(BL7="D",IF(BO7<9,"SI","NO"),IF(BL7="C",IF(BO7<17,"SI","NO"),IF(BL7="A",IF(BO7<31,"SI","NO"))))) -> NO | BQ7: =IF(BL7="P",IF(BO7<3,"SI","NO"),IF(BL7="D",IF(BO7<5,"SI","NO"),IF(BL7="C",IF(BO7<9,"SI","NO"),IF(BL7="A",IF(BO7<16,"SI","NO"))))) -> NO
A8: D | B8: BRUNO ALVES | D8: 10 | E8: =IF(A8="P",IF(D8<5,"SI","NO"),IF(A8="D",IF(D8<9,"SI","NO"),IF(A8="C",IF(D8<17,"SI","NO"),IF(A8="A",IF(D8<31,"SI","NO"))))) -> NO | F8: =IF(A8="P",IF(D8<3,"SI","NO"),IF(A8="D",IF(D8<5,"SI","NO"),IF(A8="C",IF(D8<9,"SI","NO"),IF(A8="A",IF(D8<16,"SI","NO"))))) -> NO | H8: D | I8: KUMBULLA | K8: 6 | L8: =IF(H8="P",IF(K8<5,"SI","NO"),IF(H8="D",IF(K8<9,"SI","NO"),IF(H8="C",IF(K8<17,"SI","NO"),IF(H8="A",IF(K8<31,"SI","NO"))))) -> SI | M8: =IF(H8="P",IF(K8<3,"SI","NO"),IF(H8="D",IF(K8<5,"SI","NO"),IF(H8="C",IF(K8<9,"SI","NO"),IF(H8="A",IF(K8<16,"SI","NO"))))) -> NO | O8: D | P8: MUSACCHIO | R8: 1 | S8: =IF(O8="P",IF(R8<5,"SI","NO"),IF(O8="D",IF(R8<9,"SI","NO"),IF(O8="C",IF(R8<17,"SI","NO"),IF(O8="A",IF(R8<31,"SI","NO"))))) -> SI | T8: =IF(O8="P",IF(R8<3,"SI","NO"),IF(O8="D",IF(R8<5,"SI","NO"),IF(O8="C",IF(R8<9,"SI","NO"),IF(O8="A",IF(R8<16,"SI","NO"))))) -> SI | V8: D | W8: BIRAGHI | Y8: 19 | Z8: =IF(V8="P",IF(Y8<5,"SI","NO"),IF(V8="D",IF(Y8<9,"SI","NO"),IF(V8="C",IF(Y8<17,"SI","NO"),IF(V8="A",IF(Y8<31,"SI","NO"))))) -> NO | AA8: =IF(V8="P",IF(Y8<3,"SI","NO"),IF(V8="D",IF(Y8<5,"SI","NO"),IF(V8="C",IF(Y8<9,"SI","NO"),IF(V8="A",IF(Y8<16,"SI","NO"))))) -> NO | AC8: D | AD8: MANOLAS | AF8: 9 | AG8: =IF(AC8="P",IF(AF8<5,"SI","NO"),IF(AC8="D",IF(AF8<9,"SI","NO"),IF(AC8="C",IF(AF8<17,"SI","NO"),IF(AC8="A",IF(AF8<31,"SI","NO"))))) -> NO | AH8: =IF(AC8="P",IF(AF8<3,"SI","NO"),IF(AC8="D",IF(AF8<5,"SI","NO"),IF(AC8="C",IF(AF8<9,"SI","NO"),IF(AC8="A",IF(AF8<16,"SI","NO"))))) -> NO | AJ8: D | AK8: DE LIGT | AM8: 15 | AN8: =IF(AJ8="P",IF(AM8<5,"SI","NO"),IF(AJ8="D",IF(AM8<9,"SI","NO"),IF(AJ8="C",IF(AM8<17,"SI","NO"),IF(AJ8="A",IF(AM8<31,"SI","NO"))))) -> NO | AO8: =IF(AJ8="P",IF(AM8<3,"SI","NO"),IF(AJ8="D",IF(AM8<5,"SI","NO"),IF(AJ8="C",IF(AM8<9,"SI","NO"),IF(AJ8="A",IF(AM8<16,"SI","NO"))))) -> NO | AQ8: D | AR8: ANSALDI | AT8: 3 | AU8: =IF(AQ8="P",IF(AT8<5,"SI","NO"),IF(AQ8="D",IF(AT8<9,"SI","NO"),IF(AQ8="C",IF(AT8<17,"SI","NO"),IF(AQ8="A",IF(AT8<31,"SI","NO"))))) -> SI | AV8: =IF(AQ8="P",IF(AT8<3,"SI","NO"),IF(AQ8="D",IF(AT8<5,"SI","NO"),IF(AQ8="C",IF(AT8<9,"SI","NO"),IF(AQ8="A",IF(AT8<16,"SI","NO"))))) -> SI | AX8: D | AY8: BIRAGHI | BA8: 9 | BB8: =IF(AX8="P",IF(BA8<5,"SI","NO"),IF(AX8="D",IF(BA8<9,"SI","NO"),IF(AX8="C",IF(BA8<17,"SI","NO"),IF(AX8="A",IF(BA8<31,"SI","NO"))))) -> NO | BC8: =IF(AX8="P",IF(BA8<3,"SI","NO"),IF(AX8="D",IF(BA8<5,"SI","NO"),IF(AX8="C",IF(BA8<9,"SI","NO"),IF(AX8="A",IF(BA8<16,"SI","NO"))))) -> NO | BE8: D | BF8: SKRINIAR | BH8: 12 | BI8: =IF(BE8="P",IF(BH8<5,"SI","NO"),IF(BE8="D",IF(BH8<9,"SI","NO"),IF(BE8="C",IF(BH8<17,"SI","NO"),IF(BE8="A",IF(BH8<31,"SI","NO"))))) -> NO | BJ8: =IF(BE8="P",IF(BH8<3,"SI","NO"),IF(BE8="D",IF(BH8<5,"SI","NO"),IF(BE8="C",IF(BH8<9,"SI","NO"),IF(BE8="A",IF(BH8<16,"SI","NO"))))) -> NO | BL8: D | BM8: HAKIMI | BO8: 42 | BP8: =IF(BL8="P",IF(BO8<5,"SI","NO"),IF(BL8="D",IF(BO8<9,"SI","NO"),IF(BL8="C",IF(BO8<17,"SI","NO"),IF(BL8="A",IF(BO8<31,"SI","NO"))))) -> NO | BQ8: =IF(BL8="P",IF(BO8<3,"SI","NO"),IF(BL8="D",IF(BO8<5,"SI","NO"),IF(BL8="C",IF(BO8<9,"SI","NO"),IF(BL8="A",IF(BO8<16,"SI","NO"))))) -> NO
A9: D | B9: BASTONI | D9: 17 | E9: =IF(A9="P",IF(D9<5,"SI","NO"),IF(A9="D",IF(D9<9,"SI","NO"),IF(A9="C",IF(D9<17,"SI","NO"),IF(A9="A",IF(D9<31,"SI","NO"))))) -> NO | F9: =IF(A9="P",IF(D9<3,"SI","NO"),IF(A9="D",IF(D9<5,"SI","NO"),IF(A9="C",IF(D9<9,"SI","NO"),IF(A9="A",IF(D9<16,"SI","NO"))))) -> NO | H9: D | I9: MILENKOVIC | K9: 23 | L9: =IF(H9="P",IF(K9<5,"SI","NO"),IF(H9="D",IF(K9<9,"SI","NO"),IF(H9="C",IF(K9<17,"SI","NO"),IF(H9="A",IF(K9<31,"SI","NO"))))) -> NO | M9: =IF(H9="P",IF(K9<3,"SI","NO"),IF(H9="D",IF(K9<5,"SI","NO"),IF(H9="C",IF(K9<9,"SI","NO"),IF(H9="A",IF(K9<16,"SI","NO"))))) -> NO | O9: D | P9: IBANEZ | R9: 8 | S9: =IF(O9="P",IF(R9<5,"SI","NO"),IF(O9="D",IF(R9<9,"SI","NO"),IF(O9="C",IF(R9<17,"SI","NO"),IF(O9="A",IF(R9<31,"SI","NO"))))) -> SI | T9: =IF(O9="P",IF(R9<3,"SI","NO"),IF(O9="D",IF(R9<5,"SI","NO"),IF(O9="C",IF(R9<9,"SI","NO"),IF(O9="A",IF(R9<16,"SI","NO"))))) -> NO | V9: D | W9: GOLEMIC | Y9: 1 | Z9: =IF(V9="P",IF(Y9<5,"SI","NO"),IF(V9="D",IF(Y9<9,"SI","NO"),IF(V9="C",IF(Y9<17,"SI","NO"),IF(V9="A",IF(Y9<31,"SI","NO"))))) -> SI | AA9: =IF(V9="P",IF(Y9<3,"SI","NO"),IF(V9="D",IF(Y9<5,"SI","NO"),IF(V9="C",IF(Y9<9,"SI","NO"),IF(V9="A",IF(Y9<16,"SI","NO"))))) -> SI | AC9: D | AD9: IBANEZ | AF9: 9 | AG9: =IF(AC9="P",IF(AF9<5,"SI","NO"),IF(AC9="D",IF(AF9<9,"SI","NO"),IF(AC9="C",IF(AF9<17,"SI","NO"),IF(AC9="A",IF(AF9<31,"SI","NO"))))) -> NO | AH9: =IF(AC9="P",IF(AF9<3,"SI","NO"),IF(AC9="D",IF(AF9<5,"SI","NO"),IF(AC9="C",IF(AF9<9,"SI","NO"),IF(AC9="A",IF(AF9<16,"SI","NO"))))) -> NO | AJ9: D | AK9: TOLOI | AM9: 16 | AN9: =IF(AJ9="P",IF(AM9<5,"SI","NO"),IF(AJ9="D",IF(AM9<9,"SI","NO"),IF(AJ9="C",IF(AM9<17,"SI","NO"),IF(AJ9="A",IF(AM9<31,"SI","NO"))))) -> NO | AO9: =IF(AJ9="P",IF(AM9<3,"SI","NO"),IF(AJ9="D",IF(AM9<5,"SI","NO"),IF(AJ9="C",IF(AM9<9,"SI","NO"),IF(AJ9="A",IF(AM9<16,"SI","NO"))))) -> NO | AQ9: D | AR9: CRISCITO | AT9: 11 | AU9: =IF(AQ9="P",IF(AT9<5,"SI","NO"),IF(AQ9="D",IF(AT9<9,"SI","NO"),IF(AQ9="C",IF(AT9<17,"SI","NO"),IF(AQ9="A",IF(AT9<31,"SI","NO"))))) -> NO | AV9: =IF(AQ9="P",IF(AT9<3,"SI","NO"),IF(AQ9="D",IF(AT9<5,"SI","NO"),IF(AQ9="C",IF(AT9<9,"SI","NO"),IF(AQ9="A",IF(AT9<16,"SI","NO"))))) -> NO | AX9: D | AY9: MILENKOVIC | BA9: 22 | BB9: =IF(AX9="P",IF(BA9<5,"SI","NO"),IF(AX9="D",IF(BA9<9,"SI","NO"),IF(AX9="C",IF(BA9<17,"SI","NO"),IF(AX9="A",IF(BA9<31,"SI","NO"))))) -> NO | BC9: =IF(AX9="P",IF(BA9<3,"SI","NO"),IF(AX9="D",IF(BA9<5,"SI","NO"),IF(AX9="C",IF(BA9<9,"SI","NO"),IF(AX9="A",IF(BA9<16,"SI","NO"))))) -> NO | BE9: D | BF9: DI LORENZO | BH9: 26 | BI9: =IF(BE9="P",IF(BH9<5,"SI","NO"),IF(BE9="D",IF(BH9<9,"SI","NO"),IF(BE9="C",IF(BH9<17,"SI","NO"),IF(BE9="A",IF(BH9<31,"SI","NO"))))) -> NO | BJ9: =IF(BE9="P",IF(BH9<3,"SI","NO"),IF(BE9="D",IF(BH9<5,"SI","NO"),IF(BE9="C",IF(BH9<9,"SI","NO"),IF(BE9="A",IF(BH9<16,"SI","NO"))))) -> NO | BL9: D | BM9: GOSENS | BO9: 45 | BP9: =IF(BL9="P",IF(BO9<5,"SI","NO"),IF(BL9="D",IF(BO9<9,"SI","NO"),IF(BL9="C",IF(BO9<17,"SI","NO"),IF(BL9="A",IF(BO9<31,"SI","NO"))))) -> NO | BQ9: =IF(BL9="P",IF(BO9<3,"SI","NO"),IF(BL9="D",IF(BO9<5,"SI","NO"),IF(BL9="C",IF(BO9<9,"SI","NO"),IF(BL9="A",IF(BO9<16,"SI","NO"))))) -> NO
A10: D | B10: GODIN | D10: 16 | E10: =IF(A10="P",IF(D10<5,"SI","NO"),IF(A10="D",IF(D10<9,"SI","NO"),IF(A10="C",IF(D10<17,"SI","NO"),IF(A10="A",IF(D10<31,"SI","NO"))))) -> NO | F10: =IF(A10="P",IF(D10<3,"SI","NO"),IF(A10="D",IF(D10<5,"SI","NO"),IF(A10="C",IF(D10<9,"SI","NO"),IF(A10="A",IF(D10<16,"SI","NO"))))) -> NO | H10: D | I10: FERRARI G. | K10: 9 | L10: =IF(H10="P",IF(K10<5,"SI","NO"),IF(H10="D",IF(K10<9,"SI","NO"),IF(H10="C",IF(K10<17,"SI","NO"),IF(H10="A",IF(K10<31,"SI","NO"))))) -> NO | M10: =IF(H10="P",IF(K10<3,"SI","NO"),IF(H10="D",IF(K10<5,"SI","NO"),IF(H10="C",IF(K10<9,"SI","NO"),IF(H10="A",IF(K10<16,"SI","NO"))))) -> NO | O10: D | P10: CONTI | R10: 2 | S10: =IF(O10="P",IF(R10<5,"SI","NO"),IF(O10="D",IF(R10<9,"SI","NO"),IF(O10="C",IF(R10<17,"SI","NO"),IF(O10="A",IF(R10<31,"SI","NO"))))) -> SI | T10: =IF(O10="P",IF(R10<3,"SI","NO"),IF(O10="D",IF(R10<5,"SI","NO"),IF(O10="C",IF(R10<9,"SI","NO"),IF(O10="A",IF(R10<16,"SI","NO"))))) -> SI | V10: D | W10: BASTONI S. | Y10: 1 | Z10: =IF(V10="P",IF(Y10<5,"SI","NO"),IF(V10="D",IF(Y10<9,"SI","NO"),IF(V10="C",IF(Y10<17,"SI","NO"),IF(V10="A",IF(Y10<31,"SI","NO"))))) -> SI | AA10: =IF(V10="P",IF(Y10<3,"SI","NO"),IF(V10="D",IF(Y10<5,"SI","NO"),IF(V10="C",IF(Y10<9,"SI","NO"),IF(V10="A",IF(Y10<16,"SI","NO"))))) -> SI | AC10: D | AD10: CALDIROLA | AF10: 2 | AG10: =IF(AC10="P",IF(AF10<5,"SI","NO"),IF(AC10="D",IF(AF10<9,"SI","NO"),IF(AC10="C",IF(AF10<17,"SI","NO"),IF(AC10="A",IF(AF10<31,"SI","NO"))))) -> SI | AH10: =IF(AC10="P",IF(AF10<3,"SI","NO"),IF(AC10="D",IF(AF10<5,"SI","NO"),IF(AC10="C",IF(AF10<9,"SI","NO"),IF(AC10="A",IF(AF10<16,"SI","NO"))))) -> SI | AJ10: D | AK10: SINGO | AM10: 21 | AN10: =IF(AJ10="P",IF(AM10<5,"SI","NO"),IF(AJ10="D",IF(AM10<9,"SI","NO"),IF(AJ10="C",IF(AM10<17,"SI","NO"),IF(AJ10="A",IF(AM10<31,"SI","NO"))))) -> NO | AO10: =IF(AJ10="P",IF(AM10<3,"SI","NO"),IF(AJ10="D",IF(AM10<5,"SI","NO"),IF(AJ10="C",IF(AM10<9,"SI","NO"),IF(AJ10="A",IF(AM10<16,"SI","NO"))))) -> NO | AQ10: D | AR10: PALOMINO | AT10: 14 | AU10: =IF(AQ10="P",IF(AT10<5,"SI","NO"),IF(AQ10="D",IF(AT10<9,"SI","NO"),IF(AQ10="C",IF(AT10<17,"SI","NO"),IF(AQ10="A",IF(AT10<31,"SI","NO"))))) -> NO | AV10: =IF(AQ10="P",IF(AT10<3,"SI","NO"),IF(AQ10="D",IF(AT10<5,"SI","NO"),IF(AQ10="C",IF(AT10<9,"SI","NO"),IF(AQ10="A",IF(AT10<16,"SI","NO"))))) -> NO | AX10: D | AY10: CALABRIA | BA10: 2 | BB10: =IF(AX10="P",IF(BA10<5,"SI","NO"),IF(AX10="D",IF(BA10<9,"SI","NO"),IF(AX10="C",IF(BA10<17,"SI","NO"),IF(AX10="A",IF(BA10<31,"SI","NO"))))) -> SI | BC10: =IF(AX10="P",IF(BA10<3,"SI","NO"),IF(AX10="D",IF(BA10<5,"SI","NO"),IF(AX10="C",IF(BA10<9,"SI","NO"),IF(AX10="A",IF(BA10<16,"SI","NO"))))) -> SI | BE10: D | BF10: SINGO | BH10: 9 | BI10: =IF(BE10="P",IF(BH10<5,"SI","NO"),IF(BE10="D",IF(BH10<9,"SI","NO"),IF(BE10="C",IF(BH10<17,"SI","NO"),IF(BE10="A",IF(BH10<31,"SI","NO"))))) -> NO | BJ10: =IF(BE10="P",IF(BH10<3,"SI","NO"),IF(BE10="D",IF(BH10<5,"SI","NO"),IF(BE10="C",IF(BH10<9,"SI","NO"),IF(BE10="A",IF(BH10<16,"SI","NO"))))) -> NO | BL10: D | BM10: BERESZYNSKI | BO10: 1 | BP10: =IF(BL10="P",IF(BO10<5,"SI","NO"),IF(BL10="D",IF(BO10<9,"SI","NO"),IF(BL10="C",IF(BO10<17,"SI","NO"),IF(BL10="A",IF(BO10<31,"SI","NO"))))) -> SI | BQ10: =IF(BL10="P",IF(BO10<3,"SI","NO"),IF(BL10="D",IF(BO10<5,"SI","NO"),IF(BL10="C",IF(BO10<9,"SI","NO"),IF(BL10="A",IF(BO10<16,"SI","NO"))))) -> SI
A11: D | B11: DEMIRAL | D11: 2 | E11: =IF(A11="P",IF(D11<5,"SI","NO"),IF(A11="D",IF(D11<9,"SI","NO"),IF(A11="C",IF(D11<17,"SI","NO"),IF(A11="A",IF(D11<31,"SI","NO"))))) -> SI | F11: =IF(A11="P",IF(D11<3,"SI","NO"),IF(A11="D",IF(D11<5,"SI","NO"),IF(A11="C",IF(D11<9,"SI","NO"),IF(A11="A",IF(D11<16,"SI","NO"))))) -> SI | H11: D | I11: CZYBORRA | K11: 1 | L11: =IF(H11="P",IF(K11<5,"SI","NO"),IF(H11="D",IF(K11<9,"SI","NO"),IF(H11="C",IF(K11<17,"SI","NO"),IF(H11="A",IF(K11<31,"SI","NO"))))) -> SI | M11: =IF(H11="P",IF(K11<3,"SI","NO"),IF(H11="D",IF(K11<5,"SI","NO"),IF(H11="C",IF(K11<9,"SI","NO"),IF(H11="A",IF(K11<16,"SI","NO"))))) -> SI | O11: D | P11: ROMERO | R11: 5 | S11: =IF(O11="P",IF(R11<5,"SI","NO"),IF(O11="D",IF(R11<9,"SI","NO"),IF(O11="C",IF(R11<17,"SI","NO"),IF(O11="A",IF(R11<31,"SI","NO"))))) -> SI | T11: =IF(O11="P",IF(R11<3,"SI","NO"),IF(O11="D",IF(R11<5,"SI","NO"),IF(O11="C",IF(R11<9,"SI","NO"),IF(O11="A",IF(R11<16,"SI","NO"))))) -> NO | V11: D | W11: DAWIDOWICZ | Y11: 1 | Z11: =IF(V11="P",IF(Y11<5,"SI","NO"),IF(V11="D",IF(Y11<9,"SI","NO"),IF(V11="C",IF(Y11<17,"SI","NO"),IF(V11="A",IF(Y11<31,"SI","NO"))))) -> SI | AA11: =IF(V11="P",IF(Y11<3,"SI","NO"),IF(V11="D",IF(Y11<5,"SI","NO"),IF(V11="C",IF(Y11<9,"SI","NO"),IF(V11="A",IF(Y11<16,"SI","NO"))))) -> SI | AC11: D | AD11: ROMAGNOLI | AF11: 13 | AG11: =IF(AC11="P",IF(AF11<5,"SI","NO"),IF(AC11="D",IF(AF11<9,"SI","NO"),IF(AC11="C",IF(AF11<17,"SI","NO"),IF(AC11="A",IF(AF11<31,"SI","NO"))))) -> NO | AH11: =IF(AC11="P",IF(AF11<3,"SI","NO"),IF(AC11="D",IF(AF11<5,"SI","NO"),IF(AC11="C",IF(AF11<9,"SI","NO"),IF(AC11="A",IF(AF11<16,"SI","NO"))))) -> NO | AJ11: D | AK11: KARSDORP | AM11: 23 | AN11: =IF(AJ11="P",IF(AM11<5,"SI","NO"),IF(AJ11="D",IF(AM11<9,"SI","NO"),IF(AJ11="C",IF(AM11<17,"SI","NO"),IF(AJ11="A",IF(AM11<31,"SI","NO"))))) -> NO | AO11: =IF(AJ11="P",IF(AM11<3,"SI","NO"),IF(AJ11="D",IF(AM11<5,"SI","NO"),IF(AJ11="C",IF(AM11<9,"SI","NO"),IF(AJ11="A",IF(AM11<16,"SI","NO"))))) -> NO | AQ11: D | AR11: MULDUR | AT11: 1 | AU11: =IF(AQ11="P",IF(AT11<5,"SI","NO"),IF(AQ11="D",IF(AT11<9,"SI","NO"),IF(AQ11="C",IF(AT11<17,"SI","NO"),IF(AQ11="A",IF(AT11<31,"SI","NO"))))) -> SI | AV11: =IF(AQ11="P",IF(AT11<3,"SI","NO"),IF(AQ11="D",IF(AT11<5,"SI","NO"),IF(AQ11="C",IF(AT11<9,"SI","NO"),IF(AQ11="A",IF(AT11<16,"SI","NO"))))) -> SI | AX11: D | AY11: MARIO RUI | BA11: 3 | BB11: =IF(AX11="P",IF(BA11<5,"SI","NO"),IF(AX11="D",IF(BA11<9,"SI","NO"),IF(AX11="C",IF(BA11<17,"SI","NO"),IF(AX11="A",IF(BA11<31,"SI","NO"))))) -> SI | BC11: =IF(AX11="P",IF(BA11<3,"SI","NO"),IF(AX11="D",IF(BA11<5,"SI","NO"),IF(AX11="C",IF(BA11<9,"SI","NO"),IF(AX11="A",IF(BA11<16,"SI","NO"))))) -> SI | BE11: D | BF11: LETIZIA | BH11: 2 | BI11: =IF(BE11="P",IF(BH11<5,"SI","NO"),IF(BE11="D",IF(BH11<9,"SI","NO"),IF(BE11="C",IF(BH11<17,"SI","NO"),IF(BE11="A",IF(BH11<31,"SI","NO"))))) -> SI | BJ11: =IF(BE11="P",IF(BH11<3,"SI","NO"),IF(BE11="D",IF(BH11<5,"SI","NO"),IF(BE11="C",IF(BH11<9,"SI","NO"),IF(BE11="A",IF(BH11<16,"SI","NO"))))) -> SI | BL11: D | BM11: GUNTER | BO11: 1 | BP11: =IF(BL11="P",IF(BO11<5,"SI","NO"),IF(BL11="D",IF(BO11<9,"SI","NO"),IF(BL11="C",IF(BO11<17,"SI","NO"),IF(BL11="A",IF(BO11<31,"SI","NO"))))) -> SI | BQ11: =IF(BL11="P",IF(BO11<3,"SI","NO"),IF(BL11="D",IF(BO11<5,"SI","NO"),IF(BL11="C",IF(BO11<9,"SI","NO"),IF(BL11="A",IF(BO11<16,"SI","NO"))))) -> SI
A12: D | B12: ZAPPA | D12: 1 | E12: =IF(A12="P",IF(D12<5,"SI","NO"),IF(A12="D",IF(D12<9,"SI","NO"),IF(A12="C",IF(D12<17,"SI","NO"),IF(A12="A",IF(D12<31,"SI","NO"))))) -> SI | F12: =IF(A12="P",IF(D12<3,"SI","NO"),IF(A12="D",IF(D12<5,"SI","NO"),IF(A12="C",IF(D12<9,"SI","NO"),IF(A12="A",IF(D12<16,"SI","NO"))))) -> SI | H12: D | I12: GAGLIOLO | K12: 1 | L12: =IF(H12="P",IF(K12<5,"SI","NO"),IF(H12="D",IF(K12<9,"SI","NO"),IF(H12="C",IF(K12<17,"SI","NO"),IF(H12="A",IF(K12<31,"SI","NO"))))) -> SI | M12: =IF(H12="P",IF(K12<3,"SI","NO"),IF(H12="D",IF(K12<5,"SI","NO"),IF(H12="C",IF(K12<9,"SI","NO"),IF(H12="A",IF(K12<16,"SI","NO"))))) -> SI | O12: D | P12: TOMORI | R12: 1 | S12: =IF(O12="P",IF(R12<5,"SI","NO"),IF(O12="D",IF(R12<9,"SI","NO"),IF(O12="C",IF(R12<17,"SI","NO"),IF(O12="A",IF(R12<31,"SI","NO"))))) -> SI | T12: =IF(O12="P",IF(R12<3,"SI","NO"),IF(O12="D",IF(R12<5,"SI","NO"),IF(O12="C",IF(R12<9,"SI","NO"),IF(O12="A",IF(R12<16,"SI","NO"))))) -> SI | V12: D | W12: ZAPPACOSTA | Y12: 3 | Z12: =IF(V12="P",IF(Y12<5,"SI","NO"),IF(V12="D",IF(Y12<9,"SI","NO"),IF(V12="C",IF(Y12<17,"SI","NO"),IF(V12="A",IF(Y12<31,"SI","NO"))))) -> SI | AA12: =IF(V12="P",IF(Y12<3,"SI","NO"),IF(V12="D",IF(Y12<5,"SI","NO"),IF(V12="C",IF(Y12<9,"SI","NO"),IF(V12="A",IF(Y12<16,"SI","NO"))))) -> SI | AC12: D | AD12: CACERES | AF12: 1 | AG12: =IF(AC12="P",IF(AF12<5,"SI","NO"),IF(AC12="D",IF(AF12<9,"SI","NO"),IF(AC12="C",IF(AF12<17,"SI","NO"),IF(AC12="A",IF(AF12<31,"SI","NO"))))) -> SI | AH12: =IF(AC12="P",IF(AF12<3,"SI","NO"),IF(AC12="D",IF(AF12<5,"SI","NO"),IF(AC12="C",IF(AF12<9,"SI","NO"),IF(AC12="A",IF(AF12<16,"SI","NO"))))) -> SI | AJ12: D | AK12: RECA | AM12: 1 | AN12: =IF(AJ12="P",IF(AM12<5,"SI","NO"),IF(AJ12="D",IF(AM12<9,"SI","NO"),IF(AJ12="C",IF(AM12<17,"SI","NO"),IF(AJ12="A",IF(AM12<31,"SI","NO"))))) -> SI | AO12: =IF(AJ12="P",IF(AM12<3,"SI","NO"),IF(AJ12="D",IF(AM12<5,"SI","NO"),IF(AJ12="C",IF(AM12<9,"SI","NO"),IF(AJ12="A",IF(AM12<16,"SI","NO"))))) -> SI | AQ12: D | AR12: SKRINIAR | AT12: 9 | AU12: =IF(AQ12="P",IF(AT12<5,"SI","NO"),IF(AQ12="D",IF(AT12<9,"SI","NO"),IF(AQ12="C",IF(AT12<17,"SI","NO"),IF(AQ12="A",IF(AT12<31,"SI","NO"))))) -> NO | AV12: =IF(AQ12="P",IF(AT12<3,"SI","NO"),IF(AQ12="D",IF(AT12<5,"SI","NO"),IF(AQ12="C",IF(AT12<9,"SI","NO"),IF(AQ12="A",IF(AT12<16,"SI","NO"))))) -> NO | AX12: D | AY12: STRYGER LARSEN | BA12: 3 | BB12: =IF(AX12="P",IF(BA12<5,"SI","NO"),IF(AX12="D",IF(BA12<9,"SI","NO"),IF(AX12="C",IF(BA12<17,"SI","NO"),IF(AX12="A",IF(BA12<31,"SI","NO"))))) -> SI | BC12: =IF(AX12="P",IF(BA12<3,"SI","NO"),IF(AX12="D",IF(BA12<5,"SI","NO"),IF(AX12="C",IF(BA12<9,"SI","NO"),IF(AX12="A",IF(BA12<16,"SI","NO"))))) -> SI | BE12: D | BF12: DEMIRAL | BH12: 1 | BI12: =IF(BE12="P",IF(BH12<5,"SI","NO"),IF(BE12="D",IF(BH12<9,"SI","NO"),IF(BE12="C",IF(BH12<17,"SI","NO"),IF(BE12="A",IF(BH12<31,"SI","NO"))))) -> SI | BJ12: =IF(BE12="P",IF(BH12<3,"SI","NO"),IF(BE12="D",IF(BH12<5,"SI","NO"),IF(BE12="C",IF(BH12<9,"SI","NO"),IF(BE12="A",IF(BH12<16,"SI","NO"))))) -> SI | BL12: D | BM12: MAEHLE | BO12: 4 | BP12: =IF(BL12="P",IF(BO12<5,"SI","NO"),IF(BL12="D",IF(BO12<9,"SI","NO"),IF(BL12="C",IF(BO12<17,"SI","NO"),IF(BL12="A",IF(BO12<31,"SI","NO"))))) -> SI | BQ12: =IF(BL12="P",IF(BO12<3,"SI","NO"),IF(BL12="D",IF(BO12<5,"SI","NO"),IF(BL12="C",IF(BO12<9,"SI","NO"),IF(BL12="A",IF(BO12<16,"SI","NO"))))) -> SI
A13: D | B13: MULDUR | D13: 1 | E13: =IF(A13="P",IF(D13<5,"SI","NO"),IF(A13="D",IF(D13<9,"SI","NO"),IF(A13="C",IF(D13<17,"SI","NO"),IF(A13="A",IF(D13<31,"SI","NO"))))) -> SI | F13: =IF(A13="P",IF(D13<3,"SI","NO"),IF(A13="D",IF(D13<5,"SI","NO"),IF(A13="C",IF(D13<9,"SI","NO"),IF(A13="A",IF(D13<16,"SI","NO"))))) -> SI | H13: D | I13: RODRIGO BECAO | K13: 1 | L13: =IF(H13="P",IF(K13<5,"SI","NO"),IF(H13="D",IF(K13<9,"SI","NO"),IF(H13="C",IF(K13<17,"SI","NO"),IF(H13="A",IF(K13<31,"SI","NO"))))) -> SI | M13: =IF(H13="P",IF(K13<3,"SI","NO"),IF(H13="D",IF(K13<5,"SI","NO"),IF(H13="C",IF(K13<9,"SI","NO"),IF(H13="A",IF(K13<16,"SI","NO"))))) -> SI | O13: D | P13: RADU | R13: 1 | S13: =IF(O13="P",IF(R13<5,"SI","NO"),IF(O13="D",IF(R13<9,"SI","NO"),IF(O13="C",IF(R13<17,"SI","NO"),IF(O13="A",IF(R13<31,"SI","NO"))))) -> SI | T13: =IF(O13="P",IF(R13<3,"SI","NO"),IF(O13="D",IF(R13<5,"SI","NO"),IF(O13="C",IF(R13<9,"SI","NO"),IF(O13="A",IF(R13<16,"SI","NO"))))) -> SI | V13: D | W13: ZAPPA | Y13: 1 | Z13: =IF(V13="P",IF(Y13<5,"SI","NO"),IF(V13="D",IF(Y13<9,"SI","NO"),IF(V13="C",IF(Y13<17,"SI","NO"),IF(V13="A",IF(Y13<31,"SI","NO"))))) -> SI | AA13: =IF(V13="P",IF(Y13<3,"SI","NO"),IF(V13="D",IF(Y13<5,"SI","NO"),IF(V13="C",IF(Y13<9,"SI","NO"),IF(V13="A",IF(Y13<16,"SI","NO"))))) -> SI | AC13: D | AD13: BONIFAZI | AF13: 1 | AG13: =IF(AC13="P",IF(AF13<5,"SI","NO"),IF(AC13="D",IF(AF13<9,"SI","NO"),IF(AC13="C",IF(AF13<17,"SI","NO"),IF(AC13="A",IF(AF13<31,"SI","NO"))))) -> SI | AH13: =IF(AC13="P",IF(AF13<3,"SI","NO"),IF(AC13="D",IF(AF13<5,"SI","NO"),IF(AC13="C",IF(AF13<9,"SI","NO"),IF(AC13="A",IF(AF13<16,"SI","NO"))))) -> SI | AJ13: D | AK13: MASIELLO | AM13: 1 | AN13: =IF(AJ13="P",IF(AM13<5,"SI","NO"),IF(AJ13="D",IF(AM13<9,"SI","NO"),IF(AJ13="C",IF(AM13<17,"SI","NO"),IF(AJ13="A",IF(AM13<31,"SI","NO"))))) -> SI | AO13: =IF(AJ13="P",IF(AM13<3,"SI","NO"),IF(AJ13="D",IF(AM13<5,"SI","NO"),IF(AJ13="C",IF(AM13<9,"SI","NO"),IF(AJ13="A",IF(AM13<16,"SI","NO"))))) -> SI | AQ13: D | AR13: COLLEY | AT13: 4 | AU13: =IF(AQ13="P",IF(AT13<5,"SI","NO"),IF(AQ13="D",IF(AT13<9,"SI","NO"),IF(AQ13="C",IF(AT13<17,"SI","NO"),IF(AQ13="A",IF(AT13<31,"SI","NO"))))) -> SI | AV13: =IF(AQ13="P",IF(AT13<3,"SI","NO"),IF(AQ13="D",IF(AT13<5,"SI","NO"),IF(AQ13="C",IF(AT13<9,"SI","NO"),IF(AQ13="A",IF(AT13<16,"SI","NO"))))) -> SI | AX13: D | AY13: PELLEGRINI LU. | BA13: 3 | BB13: =IF(AX13="P",IF(BA13<5,"SI","NO"),IF(AX13="D",IF(BA13<9,"SI","NO"),IF(AX13="C",IF(BA13<17,"SI","NO"),IF(AX13="A",IF(BA13<31,"SI","NO"))))) -> SI | BC13: =IF(AX13="P",IF(BA13<3,"SI","NO"),IF(AX13="D",IF(BA13<5,"SI","NO"),IF(AX13="C",IF(BA13<9,"SI","NO"),IF(AX13="A",IF(BA13<16,"SI","NO"))))) -> SI | BE13: D | BF13: NUYTINCK | BH13: 1 | BI13: =IF(BE13="P",IF(BH13<5,"SI","NO"),IF(BE13="D",IF(BH13<9,"SI","NO"),IF(BE13="C",IF(BH13<17,"SI","NO"),IF(BE13="A",IF(BH13<31,"SI","NO"))))) -> SI | BJ13: =IF(BE13="P",IF(BH13<3,"SI","NO"),IF(BE13="D",IF(BH13<5,"SI","NO"),IF(BE13="C",IF(BH13<9,"SI","NO"),IF(BE13="A",IF(BH13<16,"SI","NO"))))) -> SI | BL13: D | BM13: ZAPPA | BO13: 1 | BP13: =IF(BL13="P",IF(BO13<5,"SI","NO"),IF(BL13="D",IF(BO13<9,"SI","NO"),IF(BL13="C",IF(BO13<17,"SI","NO"),IF(BL13="A",IF(BO13<31,"SI","NO"))))) -> SI | BQ13: =IF(BL13="P",IF(BO13<3,"SI","NO"),IF(BL13="D",IF(BO13<5,"SI","NO"),IF(BL13="C",IF(BO13<9,"SI","NO"),IF(BL13="A",IF(BO13<16,"SI","NO"))))) -> SI
A14: C | B14: MALINOVSKYI | D14: 8 | H14: C | I14: PASALIC | K14: 1 | O14: C | P14: LAZOVIC | R14: 2 | V14: C | W14: KULUSEVSKI | Y14: 15 | AC14: C | AD14: VERETOUT | AF14: 11 | AJ14: C | AK14: LUCAS LEIVA | AM14: 1 | AQ14: C | AR14: ERIKSEN | AT14: 11 | AU14: =IF(AQ14="P",IF(AT14<5,"SI","NO"),IF(AQ14="D",IF(AT14<9,"SI","NO"),IF(AQ14="C",IF(AT14<17,"SI","NO"),IF(AQ14="A",IF(AT14<31,"SI","NO"))))) -> SI | AV14: =IF(AQ14="P",IF(AT14<3,"SI","NO"),IF(AQ14="D",IF(AT14<5,"SI","NO"),IF(AQ14="C",IF(AT14<9,"SI","NO"),IF(AQ14="A",IF(AT14<16,"SI","NO"))))) -> NO | AX14: C | AY14: KULUSEVSKI | BA14: 1 | BE14: C | BF14: MALINOVSKYI | BH14: 13 | BL14: C | BM14: DE ROON | BO14: 1
A15: C | B15: SORIANO | D15: 22 | E15: =IF(A15="P",IF(D15<5,"SI","NO"),IF(A15="D",IF(D15<9,"SI","NO"),IF(A15="C",IF(D15<17,"SI","NO"),IF(A15="A",IF(D15<31,"SI","NO"))))) -> NO | F15: =IF(A15="P",IF(D15<3,"SI","NO"),IF(A15="D",IF(D15<5,"SI","NO"),IF(A15="C",IF(D15<9,"SI","NO"),IF(A15="A",IF(D15<16,"SI","NO"))))) -> NO | H15: C | I15: MILINKOVIC-SAVIC | K15: 50 | L15: =IF(H15="P",IF(K15<5,"SI","NO"),IF(H15="D",IF(K15<9,"SI","NO"),IF(H15="C",IF(K15<17,"SI","NO"),IF(H15="A",IF(K15<31,"SI","NO"))))) -> NO | M15: =IF(H15="P",IF(K15<3,"SI","NO"),IF(H15="D",IF(K15<5,"SI","NO"),IF(H15="C",IF(K15<9,"SI","NO"),IF(H15="A",IF(K15<16,"SI","NO"))))) -> NO | O15: C | P15: VILLAR | R15: 1 | S15: =IF(O15="P",IF(R15<5,"SI","NO"),IF(O15="D",IF(R15<9,"SI","NO"),IF(O15="C",IF(R15<17,"SI","NO"),IF(O15="A",IF(R15<31,"SI","NO"))))) -> SI | T15: =IF(O15="P",IF(R15<3,"SI","NO"),IF(O15="D",IF(R15<5,"SI","NO"),IF(O15="C",IF(R15<9,"SI","NO"),IF(O15="A",IF(R15<16,"SI","NO"))))) -> SI | V15: C | W15: CANDREVA | Y15: 20 | Z15: =IF(V15="P",IF(Y15<5,"SI","NO"),IF(V15="D",IF(Y15<9,"SI","NO"),IF(V15="C",IF(Y15<17,"SI","NO"),IF(V15="A",IF(Y15<31,"SI","NO"))))) -> NO | AA15: =IF(V15="P",IF(Y15<3,"SI","NO"),IF(V15="D",IF(Y15<5,"SI","NO"),IF(V15="C",IF(Y15<9,"SI","NO"),IF(V15="A",IF(Y15<16,"SI","NO"))))) -> NO | AC15: C | AD15: LUIS ALBERTO | AF15: 61 | AG15: =IF(AC15="P",IF(AF15<5,"SI","NO"),IF(AC15="D",IF(AF15<9,"SI","NO"),IF(AC15="C",IF(AF15<17,"SI","NO"),IF(AC15="A",IF(AF15<31,"SI","NO"))))) -> NO | AH15: =IF(AC15="P",IF(AF15<3,"SI","NO"),IF(AC15="D",IF(AF15<5,"SI","NO"),IF(AC15="C",IF(AF15<9,"SI","NO"),IF(AC15="A",IF(AF15<16,"SI","NO"))))) -> NO | AJ15: C | AK15: RAMSEY | AM15: 7 | AN15: =IF(AJ15="P",IF(AM15<5,"SI","NO"),IF(AJ15="D",IF(AM15<9,"SI","NO"),IF(AJ15="C",IF(AM15<17,"SI","NO"),IF(AJ15="A",IF(AM15<31,"SI","NO"))))) -> SI | AO15: =IF(AJ15="P",IF(AM15<3,"SI","NO"),IF(AJ15="D",IF(AM15<5,"SI","NO"),IF(AJ15="C",IF(AM15<9,"SI","NO"),IF(AJ15="A",IF(AM15<16,"SI","NO"))))) -> SI | AQ15: C | AR15: NAINGGOLAN | AT15: 13 | AU15: =IF(AQ15="P",IF(AT15<5,"SI","NO"),IF(AQ15="D",IF(AT15<9,"SI","NO"),IF(AQ15="C",IF(AT15<17,"SI","NO"),IF(AQ15="A",IF(AT15<31,"SI","NO"))))) -> SI | AV15: =IF(AQ15="P",IF(AT15<3,"SI","NO"),IF(AQ15="D",IF(AT15<5,"SI","NO"),IF(AQ15="C",IF(AT15<9,"SI","NO"),IF(AQ15="A",IF(AT15<16,"SI","NO"))))) -> NO | AX15: C | AY15: DE PAUL | BA15: 40 | BB15: =IF(AX15="P",IF(BA15<5,"SI","NO"),IF(AX15="D",IF(BA15<9,"SI","NO"),IF(AX15="C",IF(BA15<17,"SI","NO"),IF(AX15="A",IF(BA15<31,"SI","NO"))))) -> NO | BC15: =IF(AX15="P",IF(BA15<3,"SI","NO"),IF(AX15="D",IF(BA15<5,"SI","NO"),IF(AX15="C",IF(BA15<9,"SI","NO"),IF(AX15="A",IF(BA15<16,"SI","NO"))))) -> NO | BE15: C | BF15: LUIS ALBERTO | BH15: 53 | BI15: =IF(BE15="P",IF(BH15<5,"SI","NO"),IF(BE15="D",IF(BH15<9,"SI","NO"),IF(BE15="C",IF(BH15<17,"SI","NO"),IF(BE15="A",IF(BH15<31,"SI","NO"))))) -> NO | BJ15: =IF(BE15="P",IF(BH15<3,"SI","NO"),IF(BE15="D",IF(BH15<5,"SI","NO"),IF(BE15="C",IF(BH15<9,"SI","NO"),IF(BE15="A",IF(BH15<16,"SI","NO"))))) -> NO | BL15: C | BM15: DJURICIC | BO15: 21 | BP15: =IF(BL15="P",IF(BO15<5,"SI","NO"),IF(BL15="D",IF(BO15<9,"SI","NO"),IF(BL15="C",IF(BO15<17,"SI","NO"),IF(BL15="A",IF(BO15<31,"SI","NO"))))) -> NO | BQ15: =IF(BL15="P",IF(BO15<3,"SI","NO"),IF(BL15="D",IF(BO15<5,"SI","NO"),IF(BL15="C",IF(BO15<9,"SI","NO"),IF(BL15="A",IF(BO15<16,"SI","NO"))))) -> NO
A16: C | B16: SOTTIL | D16: 2 | E16: =IF(A16="P",IF(D16<5,"SI","NO"),IF(A16="D",IF(D16<9,"SI","NO"),IF(A16="C",IF(D16<17,"SI","NO"),IF(A16="A",IF(D16<31,"SI","NO"))))) -> SI | F16: =IF(A16="P",IF(D16<3,"SI","NO"),IF(A16="D",IF(D16<5,"SI","NO"),IF(A16="C",IF(D16<9,"SI","NO"),IF(A16="A",IF(D16<16,"SI","NO"))))) -> SI | H16: C | I16: ARTHUR | K16: 17 | L16: =IF(H16="P",IF(K16<5,"SI","NO"),IF(H16="D",IF(K16<9,"SI","NO"),IF(H16="C",IF(K16<17,"SI","NO"),IF(H16="A",IF(K16<31,"SI","NO"))))) -> NO | M16: =IF(H16="P",IF(K16<3,"SI","NO"),IF(H16="D",IF(K16<5,"SI","NO"),IF(H16="C",IF(K16<9,"SI","NO"),IF(H16="A",IF(K16<16,"SI","NO"))))) -> NO | O16: C | P16: BROZOVIC | R16: 4 | S16: =IF(O16="P",IF(R16<5,"SI","NO"),IF(O16="D",IF(R16<9,"SI","NO"),IF(O16="C",IF(R16<17,"SI","NO"),IF(O16="A",IF(R16<31,"SI","NO"))))) -> SI | T16: =IF(O16="P",IF(R16<3,"SI","NO"),IF(O16="D",IF(R16<5,"SI","NO"),IF(O16="C",IF(R16<9,"SI","NO"),IF(O16="A",IF(R16<16,"SI","NO"))))) -> SI | V16: C | W16: MKHITARYAN | Y16: 70 | Z16: =IF(V16="P",IF(Y16<5,"SI","NO"),IF(V16="D",IF(Y16<9,"SI","NO"),IF(V16="C",IF(Y16<17,"SI","NO"),IF(V16="A",IF(Y16<31,"SI","NO"))))) -> NO | AA16: =IF(V16="P",IF(Y16<3,"SI","NO"),IF(V16="D",IF(Y16<5,"SI","NO"),IF(V16="C",IF(Y16<9,"SI","NO"),IF(V16="A",IF(Y16<16,"SI","NO"))))) -> NO | AC16: C | AD16: CHIESA | AF16: 41 | AG16: =IF(AC16="P",IF(AF16<5,"SI","NO"),IF(AC16="D",IF(AF16<9,"SI","NO"),IF(AC16="C",IF(AF16<17,"SI","NO"),IF(AC16="A",IF(AF16<31,"SI","NO"))))) -> NO | AH16: =IF(AC16="P",IF(AF16<3,"SI","NO"),IF(AC16="D",IF(AF16<5,"SI","NO"),IF(AC16="C",IF(AF16<9,"SI","NO"),IF(AC16="A",IF(AF16<16,"SI","NO"))))) -> NO | AJ16: C | AK16: RAMIREZ | AM16: 8 | AN16: =IF(AJ16="P",IF(AM16<5,"SI","NO"),IF(AJ16="D",IF(AM16<9,"SI","NO"),IF(AJ16="C",IF(AM16<17,"SI","NO"),IF(AJ16="A",IF(AM16<31,"SI","NO"))))) -> SI | AO16: =IF(AJ16="P",IF(AM16<3,"SI","NO"),IF(AJ16="D",IF(AM16<5,"SI","NO"),IF(AJ16="C",IF(AM16<9,"SI","NO"),IF(AJ16="A",IF(AM16<16,"SI","NO"))))) -> SI | AQ16: C | AR16: KESSIE' | AT16: 15 | AU16: =IF(AQ16="P",IF(AT16<5,"SI","NO"),IF(AQ16="D",IF(AT16<9,"SI","NO"),IF(AQ16="C",IF(AT16<17,"SI","NO"),IF(AQ16="A",IF(AT16<31,"SI","NO"))))) -> SI | AV16: =IF(AQ16="P",IF(AT16<3,"SI","NO"),IF(AQ16="D",IF(AT16<5,"SI","NO"),IF(AQ16="C",IF(AT16<9,"SI","NO"),IF(AQ16="A",IF(AT16<16,"SI","NO"))))) -> NO | AX16: C | AY16: MILINKOVIC-SAVIC | BA16: 38 | BB16: =IF(AX16="P",IF(BA16<5,"SI","NO"),IF(AX16="D",IF(BA16<9,"SI","NO"),IF(AX16="C",IF(BA16<17,"SI","NO"),IF(AX16="A",IF(BA16<31,"SI","NO"))))) -> NO | BC16: =IF(AX16="P",IF(BA16<3,"SI","NO"),IF(AX16="D",IF(BA16<5,"SI","NO"),IF(AX16="C",IF(BA16<9,"SI","NO"),IF(AX16="A",IF(BA16<16,"SI","NO"))))) -> NO | BE16: C | BF16: MIRANCHUK | BH16: 10 | BI16: =IF(BE16="P",IF(BH16<5,"SI","NO"),IF(BE16="D",IF(BH16<9,"SI","NO"),IF(BE16="C",IF(BH16<17,"SI","NO"),IF(BE16="A",IF(BH16<31,"SI","NO"))))) -> SI | BJ16: =IF(BE16="P",IF(BH16<3,"SI","NO"),IF(BE16="D",IF(BH16<5,"SI","NO"),IF(BE16="C",IF(BH16<9,"SI","NO"),IF(BE16="A",IF(BH16<16,"SI","NO"))))) -> NO | BL16: C | BM16: CANDREVA | BO16: 17 | BP16: =IF(BL16="P",IF(BO16<5,"SI","NO"),IF(BL16="D",IF(BO16<9,"SI","NO"),IF(BL16="C",IF(BO16<17,"SI","NO"),IF(BL16="A",IF(BO16<31,"SI","NO"))))) -> NO | BQ16: =IF(BL16="P",IF(BO16<3,"SI","NO"),IF(BL16="D",IF(BO16<5,"SI","NO"),IF(BL16="C",IF(BO16<9,"SI","NO"),IF(BL16="A",IF(BO16<16,"SI","NO"))))) -> NO
A17: C | B17: PASALIC | D17: 39 | E17: =IF(A17="P",IF(D17<5,"SI","NO"),IF(A17="D",IF(D17<9,"SI","NO"),IF(A17="C",IF(D17<17,"SI","NO"),IF(A17="A",IF(D17<31,"SI","NO"))))) -> NO | F17: =IF(A17="P",IF(D17<3,"SI","NO"),IF(A17="D",IF(D17<5,"SI","NO"),IF(A17="C",IF(D17<9,"SI","NO"),IF(A17="A",IF(D17<16,"SI","NO"))))) -> NO | H17: C | I17: PEREYRA | K17: 12 | L17: =IF(H17="P",IF(K17<5,"SI","NO"),IF(H17="D",IF(K17<9,"SI","NO"),IF(H17="C",IF(K17<17,"SI","NO"),IF(H17="A",IF(K17<31,"SI","NO"))))) -> SI | M17: =IF(H17="P",IF(K17<3,"SI","NO"),IF(H17="D",IF(K17<5,"SI","NO"),IF(H17="C",IF(K17<9,"SI","NO"),IF(H17="A",IF(K17<16,"SI","NO"))))) -> NO | O17: C | P17: NAINGGOLAN | R17: 17 | S17: =IF(O17="P",IF(R17<5,"SI","NO"),IF(O17="D",IF(R17<9,"SI","NO"),IF(O17="C",IF(R17<17,"SI","NO"),IF(O17="A",IF(R17<31,"SI","NO"))))) -> NO | T17: =IF(O17="P",IF(R17<3,"SI","NO"),IF(O17="D",IF(R17<5,"SI","NO"),IF(O17="C",IF(R17<9,"SI","NO"),IF(O17="A",IF(R17<16,"SI","NO"))))) -> NO | V17: C | W17: CASTROVILLI | Y17: 37 | Z17: =IF(V17="P",IF(Y17<5,"SI","NO"),IF(V17="D",IF(Y17<9,"SI","NO"),IF(V17="C",IF(Y17<17,"SI","NO"),IF(V17="A",IF(Y17<31,"SI","NO"))))) -> NO | AA17: =IF(V17="P",IF(Y17<3,"SI","NO"),IF(V17="D",IF(Y17<5,"SI","NO"),IF(V17="C",IF(Y17<9,"SI","NO"),IF(V17="A",IF(Y17<16,"SI","NO"))))) -> NO | AC17: C | AD17: FREULER | AF17: 9 | AG17: =IF(AC17="P",IF(AF17<5,"SI","NO"),IF(AC17="D",IF(AF17<9,"SI","NO"),IF(AC17="C",IF(AF17<17,"SI","NO"),IF(AC17="A",IF(AF17<31,"SI","NO"))))) -> SI | AH17: =IF(AC17="P",IF(AF17<3,"SI","NO"),IF(AC17="D",IF(AF17<5,"SI","NO"),IF(AC17="C",IF(AF17<9,"SI","NO"),IF(AC17="A",IF(AF17<16,"SI","NO"))))) -> NO | AJ17: C | AK17: BROZOVIC | AM17: 9 | AN17: =IF(AJ17="P",IF(AM17<5,"SI","NO"),IF(AJ17="D",IF(AM17<9,"SI","NO"),IF(AJ17="C",IF(AM17<17,"SI","NO"),IF(AJ17="A",IF(AM17<31,"SI","NO"))))) -> SI | AO17: =IF(AJ17="P",IF(AM17<3,"SI","NO"),IF(AJ17="D",IF(AM17<5,"SI","NO"),IF(AJ17="C",IF(AM17<9,"SI","NO"),IF(AJ17="A",IF(AM17<16,"SI","NO"))))) -> NO | AQ17: C | AR17: BARELLA | AT17: 20 | AU17: =IF(AQ17="P",IF(AT17<5,"SI","NO"),IF(AQ17="D",IF(AT17<9,"SI","NO"),IF(AQ17="C",IF(AT17<17,"SI","NO"),IF(AQ17="A",IF(AT17<31,"SI","NO"))))) -> NO | AV17: =IF(AQ17="P",IF(AT17<3,"SI","NO"),IF(AQ17="D",IF(AT17<5,"SI","NO"),IF(AQ17="C",IF(AT17<9,"SI","NO"),IF(AQ17="A",IF(AT17<16,"SI","NO"))))) -> NO | AX17: C | AY17: RABIOT | BA17: 1 | BB17: =IF(AX17="P",IF(BA17<5,"SI","NO"),IF(AX17="D",IF(BA17<9,"SI","NO"),IF(AX17="C",IF(BA17<17,"SI","NO"),IF(AX17="A",IF(BA17<31,"SI","NO"))))) -> SI | BC17: =IF(AX17="P",IF(BA17<3,"SI","NO"),IF(AX17="D",IF(BA17<5,"SI","NO"),IF(AX17="C",IF(BA17<9,"SI","NO"),IF(AX17="A",IF(BA17<16,"SI","NO"))))) -> SI | BE17: C | BF17: DAMSGAARD | BH17: 18 | BI17: =IF(BE17="P",IF(BH17<5,"SI","NO"),IF(BE17="D",IF(BH17<9,"SI","NO"),IF(BE17="C",IF(BH17<17,"SI","NO"),IF(BE17="A",IF(BH17<31,"SI","NO"))))) -> NO | BJ17: =IF(BE17="P",IF(BH17<3,"SI","NO"),IF(BE17="D",IF(BH17<5,"SI","NO"),IF(BE17="C",IF(BH17<9,"SI","NO"),IF(BE17="A",IF(BH17<16,"SI","NO"))))) -> NO | BL17: C | BM17: BROZOVIC | BO17: 1 | BP17: =IF(BL17="P",IF(BO17<5,"SI","NO"),IF(BL17="D",IF(BO17<9,"SI","NO"),IF(BL17="C",IF(BO17<17,"SI","NO"),IF(BL17="A",IF(BO17<31,"SI","NO"))))) -> SI | BQ17: =IF(BL17="P",IF(BO17<3,"SI","NO"),IF(BL17="D",IF(BO17<5,"SI","NO"),IF(BL17="C",IF(BO17<9,"SI","NO"),IF(BL17="A",IF(BO17<16,"SI","NO"))))) -> SI
A18: C | B18: RAMIREZ | D18: 25 | E18: =IF(A18="P",IF(D18<5,"SI","NO"),IF(A18="D",IF(D18<9,"SI","NO"),IF(A18="C",IF(D18<17,"SI","NO"),IF(A18="A",IF(D18<31,"SI","NO"))))) -> NO | F18: =IF(A18="P",IF(D18<3,"SI","NO"),IF(A18="D",IF(D18<5,"SI","NO"),IF(A18="C",IF(D18<9,"SI","NO"),IF(A18="A",IF(D18<16,"SI","NO"))))) -> NO | H18: C | I18: EKDAL | K18: 1 | L18: =IF(H18="P",IF(K18<5,"SI","NO"),IF(H18="D",IF(K18<9,"SI","NO"),IF(H18="C",IF(K18<17,"SI","NO"),IF(H18="A",IF(K18<31,"SI","NO"))))) -> SI | M18: =IF(H18="P",IF(K18<3,"SI","NO"),IF(H18="D",IF(K18<5,"SI","NO"),IF(H18="C",IF(K18<9,"SI","NO"),IF(H18="A",IF(K18<16,"SI","NO"))))) -> SI | O18: C | P18: PEREYRA | R18: 18 | S18: =IF(O18="P",IF(R18<5,"SI","NO"),IF(O18="D",IF(R18<9,"SI","NO"),IF(O18="C",IF(R18<17,"SI","NO"),IF(O18="A",IF(R18<31,"SI","NO"))))) -> NO | T18: =IF(O18="P",IF(R18<3,"SI","NO"),IF(O18="D",IF(R18<5,"SI","NO"),IF(O18="C",IF(R18<9,"SI","NO"),IF(O18="A",IF(R18<16,"SI","NO"))))) -> NO | V18: C | W18: DEMME | Y18: 1 | Z18: =IF(V18="P",IF(Y18<5,"SI","NO"),IF(V18="D",IF(Y18<9,"SI","NO"),IF(V18="C",IF(Y18<17,"SI","NO"),IF(V18="A",IF(Y18<31,"SI","NO"))))) -> SI | AA18: =IF(V18="P",IF(Y18<3,"SI","NO"),IF(V18="D",IF(Y18<5,"SI","NO"),IF(V18="C",IF(Y18<9,"SI","NO"),IF(V18="A",IF(Y18<16,"SI","NO"))))) -> SI | AC18: C | AD18: NANDEZ | AF18: 5 | AG18: =IF(AC18="P",IF(AF18<5,"SI","NO"),IF(AC18="D",IF(AF18<9,"SI","NO"),IF(AC18="C",IF(AF18<17,"SI","NO"),IF(AC18="A",IF(AF18<31,"SI","NO"))))) -> SI | AH18: =IF(AC18="P",IF(AF18<3,"SI","NO"),IF(AC18="D",IF(AF18<5,"SI","NO"),IF(AC18="C",IF(AF18<9,"SI","NO"),IF(AC18="A",IF(AF18<16,"SI","NO"))))) -> SI | AJ18: C | AK18: BENTANCUR | AM18: 14 | AN18: =IF(AJ18="P",IF(AM18<5,"SI","NO"),IF(AJ18="D",IF(AM18<9,"SI","NO"),IF(AJ18="C",IF(AM18<17,"SI","NO"),IF(AJ18="A",IF(AM18<31,"SI","NO"))))) -> SI | AO18: =IF(AJ18="P",IF(AM18<3,"SI","NO"),IF(AJ18="D",IF(AM18<5,"SI","NO"),IF(AJ18="C",IF(AM18<9,"SI","NO"),IF(AJ18="A",IF(AM18<16,"SI","NO"))))) -> NO | AQ18: C | AR18: AMRABAT | AT18: 7 | AU18: =IF(AQ18="P",IF(AT18<5,"SI","NO"),IF(AQ18="D",IF(AT18<9,"SI","NO"),IF(AQ18="C",IF(AT18<17,"SI","NO"),IF(AQ18="A",IF(AT18<31,"SI","NO"))))) -> SI | AV18: =IF(AQ18="P",IF(AT18<3,"SI","NO"),IF(AQ18="D",IF(AT18<5,"SI","NO"),IF(AQ18="C",IF(AT18<9,"SI","NO"),IF(AQ18="A",IF(AT18<16,"SI","NO"))))) -> SI | AX18: C | AY18: RUIZ | BA18: 25 | BB18: =IF(AX18="P",IF(BA18<5,"SI","NO"),IF(AX18="D",IF(BA18<9,"SI","NO"),IF(AX18="C",IF(BA18<17,"SI","NO"),IF(AX18="A",IF(BA18<31,"SI","NO"))))) -> NO | BC18: =IF(AX18="P",IF(BA18<3,"SI","NO"),IF(AX18="D",IF(BA18<5,"SI","NO"),IF(AX18="C",IF(BA18<9,"SI","NO"),IF(AX18="A",IF(BA18<16,"SI","NO"))))) -> NO | BE18: C | BF18: POBEGA | BH18: 12 | BI18: =IF(BE18="P",IF(BH18<5,"SI","NO"),IF(BE18="D",IF(BH18<9,"SI","NO"),IF(BE18="C",IF(BH18<17,"SI","NO"),IF(BE18="A",IF(BH18<31,"SI","NO"))))) -> SI | BJ18: =IF(BE18="P",IF(BH18<3,"SI","NO"),IF(BE18="D",IF(BH18<5,"SI","NO"),IF(BE18="C",IF(BH18<9,"SI","NO"),IF(BE18="A",IF(BH18<16,"SI","NO"))))) -> NO | BL18: C | BM18: BERNARDESCHI | BO18: 1 | BP18: =IF(BL18="P",IF(BO18<5,"SI","NO"),IF(BL18="D",IF(BO18<9,"SI","NO"),IF(BL18="C",IF(BO18<17,"SI","NO"),IF(BL18="A",IF(BO18<31,"SI","NO"))))) -> SI | BQ18: =IF(BL18="P",IF(BO18<3,"SI","NO"),IF(BL18="D",IF(BO18<5,"SI","NO"),IF(BL18="C",IF(BO18<9,"SI","NO"),IF(BL18="A",IF(BO18<16,"SI","NO"))))) -> SI
A19: C | B19: RAMSEY | D19: 7 | E19: =IF(A19="P",IF(D19<5,"SI","NO"),IF(A19="D",IF(D19<9,"SI","NO"),IF(A19="C",IF(D19<17,"SI","NO"),IF(A19="A",IF(D19<31,"SI","NO"))))) -> SI | F19: =IF(A19="P",IF(D19<3,"SI","NO"),IF(A19="D",IF(D19<5,"SI","NO"),IF(A19="C",IF(D19<9,"SI","NO"),IF(A19="A",IF(D19<16,"SI","NO"))))) -> SI | H19: C | I19: VERDI | K19: 15 | L19: =IF(H19="P",IF(K19<5,"SI","NO"),IF(H19="D",IF(K19<9,"SI","NO"),IF(H19="C",IF(K19<17,"SI","NO"),IF(H19="A",IF(K19<31,"SI","NO"))))) -> SI | M19: =IF(H19="P",IF(K19<3,"SI","NO"),IF(H19="D",IF(K19<5,"SI","NO"),IF(H19="C",IF(K19<9,"SI","NO"),IF(H19="A",IF(K19<16,"SI","NO"))))) -> NO | O19: C | P19: MANDRAGORA | R19: 2 | S19: =IF(O19="P",IF(R19<5,"SI","NO"),IF(O19="D",IF(R19<9,"SI","NO"),IF(O19="C",IF(R19<17,"SI","NO"),IF(O19="A",IF(R19<31,"SI","NO"))))) -> SI | T19: =IF(O19="P",IF(R19<3,"SI","NO"),IF(O19="D",IF(R19<5,"SI","NO"),IF(O19="C",IF(R19<9,"SI","NO"),IF(O19="A",IF(R19<16,"SI","NO"))))) -> SI | V19: C | W19: KURTIC | Y19: 9 | Z19: =IF(V19="P",IF(Y19<5,"SI","NO"),IF(V19="D",IF(Y19<9,"SI","NO"),IF(V19="C",IF(Y19<17,"SI","NO"),IF(V19="A",IF(Y19<31,"SI","NO"))))) -> SI | AA19: =IF(V19="P",IF(Y19<3,"SI","NO"),IF(V19="D",IF(Y19<5,"SI","NO"),IF(V19="C",IF(Y19<9,"SI","NO"),IF(V19="A",IF(Y19<16,"SI","NO"))))) -> NO | AC19: C | AD19: TONALI | AF19: 6 | AG19: =IF(AC19="P",IF(AF19<5,"SI","NO"),IF(AC19="D",IF(AF19<9,"SI","NO"),IF(AC19="C",IF(AF19<17,"SI","NO"),IF(AC19="A",IF(AF19<31,"SI","NO"))))) -> SI | AH19: =IF(AC19="P",IF(AF19<3,"SI","NO"),IF(AC19="D",IF(AF19<5,"SI","NO"),IF(AC19="C",IF(AF19<9,"SI","NO"),IF(AC19="A",IF(AF19<16,"SI","NO"))))) -> SI | AJ19: C | AK19: MIGUEL VELOSO | AM19: 4 | AN19: =IF(AJ19="P",IF(AM19<5,"SI","NO"),IF(AJ19="D",IF(AM19<9,"SI","NO"),IF(AJ19="C",IF(AM19<17,"SI","NO"),IF(AJ19="A",IF(AM19<31,"SI","NO"))))) -> SI | AO19: =IF(AJ19="P",IF(AM19<3,"SI","NO"),IF(AJ19="D",IF(AM19<5,"SI","NO"),IF(AJ19="C",IF(AM19<9,"SI","NO"),IF(AJ19="A",IF(AM19<16,"SI","NO"))))) -> SI | AQ19: C | AR19: SOTTIL | AT19: 10 | AU19: =IF(AQ19="P",IF(AT19<5,"SI","NO"),IF(AQ19="D",IF(AT19<9,"SI","NO"),IF(AQ19="C",IF(AT19<17,"SI","NO"),IF(AQ19="A",IF(AT19<31,"SI","NO"))))) -> SI | AV19: =IF(AQ19="P",IF(AT19<3,"SI","NO"),IF(AQ19="D",IF(AT19<5,"SI","NO"),IF(AQ19="C",IF(AT19<9,"SI","NO"),IF(AQ19="A",IF(AT19<16,"SI","NO"))))) -> NO | AX19: C | AY19: LAZOVIC | BA19: 17 | BB19: =IF(AX19="P",IF(BA19<5,"SI","NO"),IF(AX19="D",IF(BA19<9,"SI","NO"),IF(AX19="C",IF(BA19<17,"SI","NO"),IF(AX19="A",IF(BA19<31,"SI","NO"))))) -> NO | BC19: =IF(AX19="P",IF(BA19<3,"SI","NO"),IF(AX19="D",IF(BA19<5,"SI","NO"),IF(AX19="C",IF(BA19<9,"SI","NO"),IF(AX19="A",IF(BA19<16,"SI","NO"))))) -> NO | BE19: C | BF19: ZACCAGNI | BH19: 6 | BI19: =IF(BE19="P",IF(BH19<5,"SI","NO"),IF(BE19="D",IF(BH19<9,"SI","NO"),IF(BE19="C",IF(BH19<17,"SI","NO"),IF(BE19="A",IF(BH19<31,"SI","NO"))))) -> SI | BJ19: =IF(BE19="P",IF(BH19<3,"SI","NO"),IF(BE19="D",IF(BH19<5,"SI","NO"),IF(BE19="C",IF(BH19<9,"SI","NO"),IF(BE19="A",IF(BH19<16,"SI","NO"))))) -> SI | BL19: C | BM19: MIGUEL VELOSO | BO19: 3 | BP19: =IF(BL19="P",IF(BO19<5,"SI","NO"),IF(BL19="D",IF(BO19<9,"SI","NO"),IF(BL19="C",IF(BO19<17,"SI","NO"),IF(BL19="A",IF(BO19<31,"SI","NO"))))) -> SI | BQ19: =IF(BL19="P",IF(BO19<3,"SI","NO"),IF(BL19="D",IF(BO19<5,"SI","NO"),IF(BL19="C",IF(BO19<9,"SI","NO"),IF(BL19="A",IF(BO19<16,"SI","NO"))))) -> SI
A20: C | B20: BERNARDESCHI | D20: 1 | E20: =IF(A20="P",IF(D20<5,"SI","NO"),IF(A20="D",IF(D20<9,"SI","NO"),IF(A20="C",IF(D20<17,"SI","NO"),IF(A20="A",IF(D20<31,"SI","NO"))))) -> SI | F20: =IF(A20="P",IF(D20<3,"SI","NO"),IF(A20="D",IF(D20<5,"SI","NO"),IF(A20="C",IF(D20<9,"SI","NO"),IF(A20="A",IF(D20<16,"SI","NO"))))) -> SI | H20: C | I20: BENNACER | K20: 1 | L20: =IF(H20="P",IF(K20<5,"SI","NO"),IF(H20="D",IF(K20<9,"SI","NO"),IF(H20="C",IF(K20<17,"SI","NO"),IF(H20="A",IF(K20<31,"SI","NO"))))) -> SI | M20: =IF(H20="P",IF(K20<3,"SI","NO"),IF(H20="D",IF(K20<5,"SI","NO"),IF(H20="C",IF(K20<9,"SI","NO"),IF(H20="A",IF(K20<16,"SI","NO"))))) -> SI | O20: C | P20: MCKENNIE | R20: 3 | S20: =IF(O20="P",IF(R20<5,"SI","NO"),IF(O20="D",IF(R20<9,"SI","NO"),IF(O20="C",IF(R20<17,"SI","NO"),IF(O20="A",IF(R20<31,"SI","NO"))))) -> SI | T20: =IF(O20="P",IF(R20<3,"SI","NO"),IF(O20="D",IF(R20<5,"SI","NO"),IF(O20="C",IF(R20<9,"SI","NO"),IF(O20="A",IF(R20<16,"SI","NO"))))) -> SI | V20: C | W20: ZANELLATO | Y20: 1 | Z20: =IF(V20="P",IF(Y20<5,"SI","NO"),IF(V20="D",IF(Y20<9,"SI","NO"),IF(V20="C",IF(Y20<17,"SI","NO"),IF(V20="A",IF(Y20<31,"SI","NO"))))) -> SI | AA20: =IF(V20="P",IF(Y20<3,"SI","NO"),IF(V20="D",IF(Y20<5,"SI","NO"),IF(V20="C",IF(Y20<9,"SI","NO"),IF(V20="A",IF(Y20<16,"SI","NO"))))) -> SI | AC20: C | AD20: LUKIC | AF20: 7 | AG20: =IF(AC20="P",IF(AF20<5,"SI","NO"),IF(AC20="D",IF(AF20<9,"SI","NO"),IF(AC20="C",IF(AF20<17,"SI","NO"),IF(AC20="A",IF(AF20<31,"SI","NO"))))) -> SI | AH20: =IF(AC20="P",IF(AF20<3,"SI","NO"),IF(AC20="D",IF(AF20<5,"SI","NO"),IF(AC20="C",IF(AF20<9,"SI","NO"),IF(AC20="A",IF(AF20<16,"SI","NO"))))) -> SI | AJ20: C | AK20: JANKTO | AM20: 5 | AN20: =IF(AJ20="P",IF(AM20<5,"SI","NO"),IF(AJ20="D",IF(AM20<9,"SI","NO"),IF(AJ20="C",IF(AM20<17,"SI","NO"),IF(AJ20="A",IF(AM20<31,"SI","NO"))))) -> SI | AO20: =IF(AJ20="P",IF(AM20<3,"SI","NO"),IF(AJ20="D",IF(AM20<5,"SI","NO"),IF(AJ20="C",IF(AM20<9,"SI","NO"),IF(AJ20="A",IF(AM20<16,"SI","NO"))))) -> SI | AQ20: C | AR20: GAGLIARDINI | AT20: 1 | AU20: =IF(AQ20="P",IF(AT20<5,"SI","NO"),IF(AQ20="D",IF(AT20<9,"SI","NO"),IF(AQ20="C",IF(AT20<17,"SI","NO"),IF(AQ20="A",IF(AT20<31,"SI","NO"))))) -> SI | AV20: =IF(AQ20="P",IF(AT20<3,"SI","NO"),IF(AQ20="D",IF(AT20<5,"SI","NO"),IF(AQ20="C",IF(AT20<9,"SI","NO"),IF(AQ20="A",IF(AT20<16,"SI","NO"))))) -> SI | AX20: C | AY20: BARAK | BA20: 5 | BB20: =IF(AX20="P",IF(BA20<5,"SI","NO"),IF(AX20="D",IF(BA20<9,"SI","NO"),IF(AX20="C",IF(BA20<17,"SI","NO"),IF(AX20="A",IF(BA20<31,"SI","NO"))))) -> SI | BC20: =IF(AX20="P",IF(BA20<3,"SI","NO"),IF(AX20="D",IF(BA20<5,"SI","NO"),IF(AX20="C",IF(BA20<9,"SI","NO"),IF(AX20="A",IF(BA20<16,"SI","NO"))))) -> SI | BE20: C | BF20: PEREIRA A. | BH20: 1 | BI20: =IF(BE20="P",IF(BH20<5,"SI","NO"),IF(BE20="D",IF(BH20<9,"SI","NO"),IF(BE20="C",IF(BH20<17,"SI","NO"),IF(BE20="A",IF(BH20<31,"SI","NO"))))) -> SI | BJ20: =IF(BE20="P",IF(BH20<3,"SI","NO"),IF(BE20="D",IF(BH20<5,"SI","NO"),IF(BE20="C",IF(BH20<9,"SI","NO"),IF(BE20="A",IF(BH20<16,"SI","NO"))))) -> SI | BL20: C | BM20: LUKIC | BO20: 1 | BP20: =IF(BL20="P",IF(BO20<5,"SI","NO"),IF(BL20="D",IF(BO20<9,"SI","NO"),IF(BL20="C",IF(BO20<17,"SI","NO"),IF(BL20="A",IF(BO20<31,"SI","NO"))))) -> SI | BQ20: =IF(BL20="P",IF(BO20<3,"SI","NO"),IF(BL20="D",IF(BO20<5,"SI","NO"),IF(BL20="C",IF(BO20<9,"SI","NO"),IF(BL20="A",IF(BO20<16,"SI","NO"))))) -> SI
A21: C | B21: VERRE | D21: 1 | E21: =IF(A21="P",IF(D21<5,"SI","NO"),IF(A21="D",IF(D21<9,"SI","NO"),IF(A21="C",IF(D21<17,"SI","NO"),IF(A21="A",IF(D21<31,"SI","NO"))))) -> SI | F21: =IF(A21="P",IF(D21<3,"SI","NO"),IF(A21="D",IF(D21<5,"SI","NO"),IF(A21="C",IF(D21<9,"SI","NO"),IF(A21="A",IF(D21<16,"SI","NO"))))) -> SI | H21: C | I21: OBIANG | K21: 1 | L21: =IF(H21="P",IF(K21<5,"SI","NO"),IF(H21="D",IF(K21<9,"SI","NO"),IF(H21="C",IF(K21<17,"SI","NO"),IF(H21="A",IF(K21<31,"SI","NO"))))) -> SI | M21: =IF(H21="P",IF(K21<3,"SI","NO"),IF(H21="D",IF(K21<5,"SI","NO"),IF(H21="C",IF(K21<9,"SI","NO"),IF(H21="A",IF(K21<16,"SI","NO"))))) -> SI | O21: C | P21: MARUSIC | R21: 1 | S21: =IF(O21="P",IF(R21<5,"SI","NO"),IF(O21="D",IF(R21<9,"SI","NO"),IF(O21="C",IF(R21<17,"SI","NO"),IF(O21="A",IF(R21<31,"SI","NO"))))) -> SI | T21: =IF(O21="P",IF(R21<3,"SI","NO"),IF(O21="D",IF(R21<5,"SI","NO"),IF(O21="C",IF(R21<9,"SI","NO"),IF(O21="A",IF(R21<16,"SI","NO"))))) -> SI | V21: C | W21: ZAJC | Y21: 3 | Z21: =IF(V21="P",IF(Y21<5,"SI","NO"),IF(V21="D",IF(Y21<9,"SI","NO"),IF(V21="C",IF(Y21<17,"SI","NO"),IF(V21="A",IF(Y21<31,"SI","NO"))))) -> SI | AA21: =IF(V21="P",IF(Y21<3,"SI","NO"),IF(V21="D",IF(Y21<5,"SI","NO"),IF(V21="C",IF(Y21<9,"SI","NO"),IF(V21="A",IF(Y21<16,"SI","NO"))))) -> SI | AC21: C | AD21: CRISTANTE | AF21: 1 | AG21: =IF(AC21="P",IF(AF21<5,"SI","NO"),IF(AC21="D",IF(AF21<9,"SI","NO"),IF(AC21="C",IF(AF21<17,"SI","NO"),IF(AC21="A",IF(AF21<31,"SI","NO"))))) -> SI | AH21: =IF(AC21="P",IF(AF21<3,"SI","NO"),IF(AC21="D",IF(AF21<5,"SI","NO"),IF(AC21="C",IF(AF21<9,"SI","NO"),IF(AC21="A",IF(AF21<16,"SI","NO"))))) -> SI | AJ21: C | AK21: HERNANI | AM21: 1 | AN21: =IF(AJ21="P",IF(AM21<5,"SI","NO"),IF(AJ21="D",IF(AM21<9,"SI","NO"),IF(AJ21="C",IF(AM21<17,"SI","NO"),IF(AJ21="A",IF(AM21<31,"SI","NO"))))) -> SI | AO21: =IF(AJ21="P",IF(AM21<3,"SI","NO"),IF(AJ21="D",IF(AM21<5,"SI","NO"),IF(AJ21="C",IF(AM21<9,"SI","NO"),IF(AJ21="A",IF(AM21<16,"SI","NO"))))) -> SI | AQ21: C | AR21: SAELEMAEKERS | AT21: 1 | AU21: =IF(AQ21="P",IF(AT21<5,"SI","NO"),IF(AQ21="D",IF(AT21<9,"SI","NO"),IF(AQ21="C",IF(AT21<17,"SI","NO"),IF(AQ21="A",IF(AT21<31,"SI","NO"))))) -> SI | AV21: =IF(AQ21="P",IF(AT21<3,"SI","NO"),IF(AQ21="D",IF(AT21<5,"SI","NO"),IF(AQ21="C",IF(AT21<9,"SI","NO"),IF(AQ21="A",IF(AT21<16,"SI","NO"))))) -> SI | AX21: C | AY21: BAKAYOKO | BA21: 3 | BB21: =IF(AX21="P",IF(BA21<5,"SI","NO"),IF(AX21="D",IF(BA21<9,"SI","NO"),IF(AX21="C",IF(BA21<17,"SI","NO"),IF(AX21="A",IF(BA21<31,"SI","NO"))))) -> SI | BC21: =IF(AX21="P",IF(BA21<3,"SI","NO"),IF(AX21="D",IF(BA21<5,"SI","NO"),IF(AX21="C",IF(BA21<9,"SI","NO"),IF(AX21="A",IF(BA21<16,"SI","NO"))))) -> SI | BE21: C | BF21: STROOTMAN | BH21: 25 | BI21: =IF(BE21="P",IF(BH21<5,"SI","NO"),IF(BE21="D",IF(BH21<9,"SI","NO"),IF(BE21="C",IF(BH21<17,"SI","NO"),IF(BE21="A",IF(BH21<31,"SI","NO"))))) -> NO | BJ21: =IF(BE21="P",IF(BH21<3,"SI","NO"),IF(BE21="D",IF(BH21<5,"SI","NO"),IF(BE21="C",IF(BH21<9,"SI","NO"),IF(BE21="A",IF(BH21<16,"SI","NO"))))) -> NO | BL21: C | BM21: VIOLA | BO21: 1 | BP21: =IF(BL21="P",IF(BO21<5,"SI","NO"),IF(BL21="D",IF(BO21<9,"SI","NO"),IF(BL21="C",IF(BO21<17,"SI","NO"),IF(BL21="A",IF(BO21<31,"SI","NO"))))) -> SI | BQ21: =IF(BL21="P",IF(BO21<3,"SI","NO"),IF(BL21="D",IF(BO21<5,"SI","NO"),IF(BL21="C",IF(BO21<9,"SI","NO"),IF(BL21="A",IF(BO21<16,"SI","NO"))))) -> SI
A22: A | B22: BELOTTI | D22: 150 | E22: =IF(A22="P",IF(D22<5,"SI","NO"),IF(A22="D",IF(D22<9,"SI","NO"),IF(A22="C",IF(D22<17,"SI","NO"),IF(A22="A",IF(D22<31,"SI","NO"))))) -> NO | F22: =IF(A22="P",IF(D22<3,"SI","NO"),IF(A22="D",IF(D22<5,"SI","NO"),IF(A22="C",IF(D22<9,"SI","NO"),IF(A22="A",IF(D22<16,"SI","NO"))))) -> NO | H22: A | I22: LLORENTE | K22: 55 | L22: =IF(H22="P",IF(K22<5,"SI","NO"),IF(H22="D",IF(K22<9,"SI","NO"),IF(H22="C",IF(K22<17,"SI","NO"),IF(H22="A",IF(K22<31,"SI","NO"))))) -> NO | M22: =IF(H22="P",IF(K22<3,"SI","NO"),IF(H22="D",IF(K22<5,"SI","NO"),IF(H22="C",IF(K22<9,"SI","NO"),IF(H22="A",IF(K22<16,"SI","NO"))))) -> NO | O22: A | P22: RONALDO | R22: 235 | S22: =IF(O22="P",IF(R22<5,"SI","NO"),IF(O22="D",IF(R22<9,"SI","NO"),IF(O22="C",IF(R22<17,"SI","NO"),IF(O22="A",IF(R22<31,"SI","NO"))))) -> NO | T22: =IF(O22="P",IF(R22<3,"SI","NO"),IF(O22="D",IF(R22<5,"SI","NO"),IF(O22="C",IF(R22<9,"SI","NO"),IF(O22="A",IF(R22<16,"SI","NO"))))) -> NO | V22: A | W22: MARTINEZ L. | Y22: 177 | Z22: =IF(V22="P",IF(Y22<5,"SI","NO"),IF(V22="D",IF(Y22<9,"SI","NO"),IF(V22="C",IF(Y22<17,"SI","NO"),IF(V22="A",IF(Y22<31,"SI","NO"))))) -> NO | AA22: =IF(V22="P",IF(Y22<3,"SI","NO"),IF(V22="D",IF(Y22<5,"SI","NO"),IF(V22="C",IF(Y22<9,"SI","NO"),IF(V22="A",IF(Y22<16,"SI","NO"))))) -> NO | AC22: A | AD22: BOGA | AF22: 1 | AJ22: A | AK22: SIMEONE | AM22: 27 | AQ22: A | AR22: VLAHOVIC | AT22: 1 | AX22: A | AY22: IMMOBILE | BA22: 220 | BB22: =IF(AX22="P",IF(BA22<5,"SI","NO"),IF(AX22="D",IF(BA22<9,"SI","NO"),IF(AX22="C",IF(BA22<17,"SI","NO"),IF(AX22="A",IF(BA22<31,"SI","NO"))))) -> NO | BC22: =IF(AX22="P",IF(BA22<3,"SI","NO"),IF(AX22="D",IF(BA22<5,"SI","NO"),IF(AX22="C",IF(BA22<9,"SI","NO"),IF(AX22="A",IF(BA22<16,"SI","NO"))))) -> NO | BE22: A | BF22: IBRAHIMOVIC | BH22: 205 | BI22: =IF(BE22="P",IF(BH22<5,"SI","NO"),IF(BE22="D",IF(BH22<9,"SI","NO"),IF(BE22="C",IF(BH22<17,"SI","NO"),IF(BE22="A",IF(BH22<31,"SI","NO"))))) -> NO | BJ22: =IF(BE22="P",IF(BH22<3,"SI","NO"),IF(BE22="D",IF(BH22<5,"SI","NO"),IF(BE22="C",IF(BH22<9,"SI","NO"),IF(BE22="A",IF(BH22<16,"SI","NO"))))) -> NO | BL22: A | BM22: MURIEL | BO22: 26
A23: A | B23: QUAGLIARELLA | D23: 37 | E23: =IF(A23="P",IF(D23<5,"SI","NO"),IF(A23="D",IF(D23<9,"SI","NO"),IF(A23="C",IF(D23<17,"SI","NO"),IF(A23="A",IF(D23<31,"SI","NO"))))) -> NO | F23: =IF(A23="P",IF(D23<3,"SI","NO"),IF(A23="D",IF(D23<5,"SI","NO"),IF(A23="C",IF(D23<9,"SI","NO"),IF(A23="A",IF(D23<16,"SI","NO"))))) -> NO | H23: A | I23: IMMOBILE | K23: 196 | L23: =IF(H23="P",IF(K23<5,"SI","NO"),IF(H23="D",IF(K23<9,"SI","NO"),IF(H23="C",IF(K23<17,"SI","NO"),IF(H23="A",IF(K23<31,"SI","NO"))))) -> NO | M23: =IF(H23="P",IF(K23<3,"SI","NO"),IF(H23="D",IF(K23<5,"SI","NO"),IF(H23="C",IF(K23<9,"SI","NO"),IF(H23="A",IF(K23<16,"SI","NO"))))) -> NO | O23: A | P23: DYBALA | R23: 77 | S23: =IF(O23="P",IF(R23<5,"SI","NO"),IF(O23="D",IF(R23<9,"SI","NO"),IF(O23="C",IF(R23<17,"SI","NO"),IF(O23="A",IF(R23<31,"SI","NO"))))) -> NO | T23: =IF(O23="P",IF(R23<3,"SI","NO"),IF(O23="D",IF(R23<5,"SI","NO"),IF(O23="C",IF(R23<9,"SI","NO"),IF(O23="A",IF(R23<16,"SI","NO"))))) -> NO | V23: A | W23: SIMY | Y23: 44 | Z23: =IF(V23="P",IF(Y23<5,"SI","NO"),IF(V23="D",IF(Y23<9,"SI","NO"),IF(V23="C",IF(Y23<17,"SI","NO"),IF(V23="A",IF(Y23<31,"SI","NO"))))) -> NO | AA23: =IF(V23="P",IF(Y23<3,"SI","NO"),IF(V23="D",IF(Y23<5,"SI","NO"),IF(V23="C",IF(Y23<9,"SI","NO"),IF(V23="A",IF(Y23<16,"SI","NO"))))) -> NO | AC23: A | AD23: INSIGNE | AF23: 42 | AG23: =IF(AC23="P",IF(AF23<5,"SI","NO"),IF(AC23="D",IF(AF23<9,"SI","NO"),IF(AC23="C",IF(AF23<17,"SI","NO"),IF(AC23="A",IF(AF23<31,"SI","NO"))))) -> NO | AH23: =IF(AC23="P",IF(AF23<3,"SI","NO"),IF(AC23="D",IF(AF23<5,"SI","NO"),IF(AC23="C",IF(AF23<9,"SI","NO"),IF(AC23="A",IF(AF23<16,"SI","NO"))))) -> NO | AJ23: A | AK23: RONALDO | AM23: 216 | AN23: =IF(AJ23="P",IF(AM23<5,"SI","NO"),IF(AJ23="D",IF(AM23<9,"SI","NO"),IF(AJ23="C",IF(AM23<17,"SI","NO"),IF(AJ23="A",IF(AM23<31,"SI","NO"))))) -> NO | AO23: =IF(AJ23="P",IF(AM23<3,"SI","NO"),IF(AJ23="D",IF(AM23<5,"SI","NO"),IF(AJ23="C",IF(AM23<9,"SI","NO"),IF(AJ23="A",IF(AM23<16,"SI","NO"))))) -> NO | AQ23: A | AR23: IBRAHIMOVIC | AT23: 220 | AU23: =IF(AQ23="P",IF(AT23<5,"SI","NO"),IF(AQ23="D",IF(AT23<9,"SI","NO"),IF(AQ23="C",IF(AT23<17,"SI","NO"),IF(AQ23="A",IF(AT23<31,"SI","NO"))))) -> NO | AV23: =IF(AQ23="P",IF(AT23<3,"SI","NO"),IF(AQ23="D",IF(AT23<5,"SI","NO"),IF(AQ23="C",IF(AT23<9,"SI","NO"),IF(AQ23="A",IF(AT23<16,"SI","NO"))))) -> NO | AX23: A | AY23: PALACIO | BA23: 2 | BB23: =IF(AX23="P",IF(BA23<5,"SI","NO"),IF(AX23="D",IF(BA23<9,"SI","NO"),IF(AX23="C",IF(BA23<17,"SI","NO"),IF(AX23="A",IF(BA23<31,"SI","NO"))))) -> SI | BC23: =IF(AX23="P",IF(BA23<3,"SI","NO"),IF(AX23="D",IF(BA23<5,"SI","NO"),IF(AX23="C",IF(BA23<9,"SI","NO"),IF(AX23="A",IF(BA23<16,"SI","NO"))))) -> SI | BE23: A | BF23: BERARDI | BH23: 50 | BI23: =IF(BE23="P",IF(BH23<5,"SI","NO"),IF(BE23="D",IF(BH23<9,"SI","NO"),IF(BE23="C",IF(BH23<17,"SI","NO"),IF(BE23="A",IF(BH23<31,"SI","NO"))))) -> NO | BJ23: =IF(BE23="P",IF(BH23<3,"SI","NO"),IF(BE23="D",IF(BH23<5,"SI","NO"),IF(BE23="C",IF(BH23<9,"SI","NO"),IF(BE23="A",IF(BH23<16,"SI","NO"))))) -> NO | BL23: A | BM23: OSIMHEN | BO23: 82 | BP23: =IF(BL23="P",IF(BO23<5,"SI","NO"),IF(BL23="D",IF(BO23<9,"SI","NO"),IF(BL23="C",IF(BO23<17,"SI","NO"),IF(BL23="A",IF(BO23<31,"SI","NO"))))) -> NO | BQ23: =IF(BL23="P",IF(BO23<3,"SI","NO"),IF(BL23="D",IF(BO23<5,"SI","NO"),IF(BL23="C",IF(BO23<9,"SI","NO"),IF(BL23="A",IF(BO23<16,"SI","NO"))))) -> NO
A24: A | B24: SIMEONE | D24: 23 | E24: =IF(A24="P",IF(D24<5,"SI","NO"),IF(A24="D",IF(D24<9,"SI","NO"),IF(A24="C",IF(D24<17,"SI","NO"),IF(A24="A",IF(D24<31,"SI","NO"))))) -> SI | F24: =IF(A24="P",IF(D24<3,"SI","NO"),IF(A24="D",IF(D24<5,"SI","NO"),IF(A24="C",IF(D24<9,"SI","NO"),IF(A24="A",IF(D24<16,"SI","NO"))))) -> NO | H24: A | I24: BARROW | K24: 66 | L24: =IF(H24="P",IF(K24<5,"SI","NO"),IF(H24="D",IF(K24<9,"SI","NO"),IF(H24="C",IF(K24<17,"SI","NO"),IF(H24="A",IF(K24<31,"SI","NO"))))) -> NO | M24: =IF(H24="P",IF(K24<3,"SI","NO"),IF(H24="D",IF(K24<5,"SI","NO"),IF(H24="C",IF(K24<9,"SI","NO"),IF(H24="A",IF(K24<16,"SI","NO"))))) -> NO | O24: A | P24: LLORENTE | R24: 33 | S24: =IF(O24="P",IF(R24<5,"SI","NO"),IF(O24="D",IF(R24<9,"SI","NO"),IF(O24="C",IF(R24<17,"SI","NO"),IF(O24="A",IF(R24<31,"SI","NO"))))) -> NO | T24: =IF(O24="P",IF(R24<3,"SI","NO"),IF(O24="D",IF(R24<5,"SI","NO"),IF(O24="C",IF(R24<9,"SI","NO"),IF(O24="A",IF(R24<16,"SI","NO"))))) -> NO | V24: A | W24: DESTRO | Y24: 65 | Z24: =IF(V24="P",IF(Y24<5,"SI","NO"),IF(V24="D",IF(Y24<9,"SI","NO"),IF(V24="C",IF(Y24<17,"SI","NO"),IF(V24="A",IF(Y24<31,"SI","NO"))))) -> NO | AA24: =IF(V24="P",IF(Y24<3,"SI","NO"),IF(V24="D",IF(Y24<5,"SI","NO"),IF(V24="C",IF(Y24<9,"SI","NO"),IF(V24="A",IF(Y24<16,"SI","NO"))))) -> NO | AC24: A | AD24: DZEKO | AF24: 160 | AG24: =IF(AC24="P",IF(AF24<5,"SI","NO"),IF(AC24="D",IF(AF24<9,"SI","NO"),IF(AC24="C",IF(AF24<17,"SI","NO"),IF(AC24="A",IF(AF24<31,"SI","NO"))))) -> NO | AH24: =IF(AC24="P",IF(AF24<3,"SI","NO"),IF(AC24="D",IF(AF24<5,"SI","NO"),IF(AC24="C",IF(AF24<9,"SI","NO"),IF(AC24="A",IF(AF24<16,"SI","NO"))))) -> NO | AJ24: A | AK24: OSIMHEN | AM24: 100 | AN24: =IF(AJ24="P",IF(AM24<5,"SI","NO"),IF(AJ24="D",IF(AM24<9,"SI","NO"),IF(AJ24="C",IF(AM24<17,"SI","NO"),IF(AJ24="A",IF(AM24<31,"SI","NO"))))) -> NO | AO24: =IF(AJ24="P",IF(AM24<3,"SI","NO"),IF(AJ24="D",IF(AM24<5,"SI","NO"),IF(AJ24="C",IF(AM24<9,"SI","NO"),IF(AJ24="A",IF(AM24<16,"SI","NO"))))) -> NO | AQ24: A | AR24: PETAGNA | AT24: 38 | AU24: =IF(AQ24="P",IF(AT24<5,"SI","NO"),IF(AQ24="D",IF(AT24<9,"SI","NO"),IF(AQ24="C",IF(AT24<17,"SI","NO"),IF(AQ24="A",IF(AT24<31,"SI","NO"))))) -> NO | AV24: =IF(AQ24="P",IF(AT24<3,"SI","NO"),IF(AQ24="D",IF(AT24<5,"SI","NO"),IF(AQ24="C",IF(AT24<9,"SI","NO"),IF(AQ24="A",IF(AT24<16,"SI","NO"))))) -> NO | AX24: A | AY24: MAYORAL | BA24: 45 | BB24: =IF(AX24="P",IF(BA24<5,"SI","NO"),IF(AX24="D",IF(BA24<9,"SI","NO"),IF(AX24="C",IF(BA24<17,"SI","NO"),IF(AX24="A",IF(BA24<31,"SI","NO"))))) -> NO | BC24: =IF(AX24="P",IF(BA24<3,"SI","NO"),IF(AX24="D",IF(BA24<5,"SI","NO"),IF(AX24="C",IF(BA24<9,"SI","NO"),IF(AX24="A",IF(BA24<16,"SI","NO"))))) -> NO | BE24: A | BF24: CORREA | BH24: 35 | BI24: =IF(BE24="P",IF(BH24<5,"SI","NO"),IF(BE24="D",IF(BH24<9,"SI","NO"),IF(BE24="C",IF(BH24<17,"SI","NO"),IF(BE24="A",IF(BH24<31,"SI","NO"))))) -> NO | BJ24: =IF(BE24="P",IF(BH24<3,"SI","NO"),IF(BE24="D",IF(BH24<5,"SI","NO"),IF(BE24="C",IF(BH24<9,"SI","NO"),IF(BE24="A",IF(BH24<16,"SI","NO"))))) -> NO | BL24: A | BM24: QUAGLIARELLA | BO24: 49 | BP24: =IF(BL24="P",IF(BO24<5,"SI","NO"),IF(BL24="D",IF(BO24<9,"SI","NO"),IF(BL24="C",IF(BO24<17,"SI","NO"),IF(BL24="A",IF(BO24<31,"SI","NO"))))) -> NO | BQ24: =IF(BL24="P",IF(BO24<3,"SI","NO"),IF(BL24="D",IF(BO24<5,"SI","NO"),IF(BL24="C",IF(BO24<9,"SI","NO"),IF(BL24="A",IF(BO24<16,"SI","NO"))))) -> NO
A25: A | B25: MORATA | D25: 58 | E25: =IF(A25="P",IF(D25<5,"SI","NO"),IF(A25="D",IF(D25<9,"SI","NO"),IF(A25="C",IF(D25<17,"SI","NO"),IF(A25="A",IF(D25<31,"SI","NO"))))) -> NO | F25: =IF(A25="P",IF(D25<3,"SI","NO"),IF(A25="D",IF(D25<5,"SI","NO"),IF(A25="C",IF(D25<9,"SI","NO"),IF(A25="A",IF(D25<16,"SI","NO"))))) -> NO | H25: A | I25: OKAKA | K25: 4 | L25: =IF(H25="P",IF(K25<5,"SI","NO"),IF(H25="D",IF(K25<9,"SI","NO"),IF(H25="C",IF(K25<17,"SI","NO"),IF(H25="A",IF(K25<31,"SI","NO"))))) -> SI | M25: =IF(H25="P",IF(K25<3,"SI","NO"),IF(H25="D",IF(K25<5,"SI","NO"),IF(H25="C",IF(K25<9,"SI","NO"),IF(H25="A",IF(K25<16,"SI","NO"))))) -> SI | O25: A | P25: PAVOLETTI | R25: 3 | V25: A | W25: VIGNATO | Y25: 1 | Z25: =IF(V25="P",IF(Y25<5,"SI","NO"),IF(V25="D",IF(Y25<9,"SI","NO"),IF(V25="C",IF(Y25<17,"SI","NO"),IF(V25="A",IF(Y25<31,"SI","NO"))))) -> SI | AA25: =IF(V25="P",IF(Y25<3,"SI","NO"),IF(V25="D",IF(Y25<5,"SI","NO"),IF(V25="C",IF(Y25<9,"SI","NO"),IF(V25="A",IF(Y25<16,"SI","NO"))))) -> SI | AC25: A | AD25: PAVOLETTI | AF25: 10 | AG25: =IF(AC25="P",IF(AF25<5,"SI","NO"),IF(AC25="D",IF(AF25<9,"SI","NO"),IF(AC25="C",IF(AF25<17,"SI","NO"),IF(AC25="A",IF(AF25<31,"SI","NO"))))) -> SI | AH25: =IF(AC25="P",IF(AF25<3,"SI","NO"),IF(AC25="D",IF(AF25<5,"SI","NO"),IF(AC25="C",IF(AF25<9,"SI","NO"),IF(AC25="A",IF(AF25<16,"SI","NO"))))) -> SI | AJ25: A | AK25: SANCHEZ | AM25: 20 | AN25: =IF(AJ25="P",IF(AM25<5,"SI","NO"),IF(AJ25="D",IF(AM25<9,"SI","NO"),IF(AJ25="C",IF(AM25<17,"SI","NO"),IF(AJ25="A",IF(AM25<31,"SI","NO"))))) -> SI | AO25: =IF(AJ25="P",IF(AM25<3,"SI","NO"),IF(AJ25="D",IF(AM25<5,"SI","NO"),IF(AJ25="C",IF(AM25<9,"SI","NO"),IF(AJ25="A",IF(AM25<16,"SI","NO"))))) -> NO | AQ25: A | AR25: RIBERY | AT25: 38 | AU25: =IF(AQ25="P",IF(AT25<5,"SI","NO"),IF(AQ25="D",IF(AT25<9,"SI","NO"),IF(AQ25="C",IF(AT25<17,"SI","NO"),IF(AQ25="A",IF(AT25<31,"SI","NO"))))) -> NO | AV25: =IF(AQ25="P",IF(AT25<3,"SI","NO"),IF(AQ25="D",IF(AT25<5,"SI","NO"),IF(AQ25="C",IF(AT25<9,"SI","NO"),IF(AQ25="A",IF(AT25<16,"SI","NO"))))) -> NO | AX25: A | AY25: CAPRARI | BA25: 3 | BB25: =IF(AX25="P",IF(BA25<5,"SI","NO"),IF(AX25="D",IF(BA25<9,"SI","NO"),IF(AX25="C",IF(BA25<17,"SI","NO"),IF(AX25="A",IF(BA25<31,"SI","NO"))))) -> SI | BC25: =IF(AX25="P",IF(BA25<3,"SI","NO"),IF(AX25="D",IF(BA25<5,"SI","NO"),IF(AX25="C",IF(BA25<9,"SI","NO"),IF(AX25="A",IF(BA25<16,"SI","NO"))))) -> SI | BE25: A | BF25: DEULOFEU | BH25: 2 | BI25: =IF(BE25="P",IF(BH25<5,"SI","NO"),IF(BE25="D",IF(BH25<9,"SI","NO"),IF(BE25="C",IF(BH25<17,"SI","NO"),IF(BE25="A",IF(BH25<31,"SI","NO"))))) -> SI | BJ25: =IF(BE25="P",IF(BH25<3,"SI","NO"),IF(BE25="D",IF(BH25<5,"SI","NO"),IF(BE25="C",IF(BH25<9,"SI","NO"),IF(BE25="A",IF(BH25<16,"SI","NO"))))) -> SI | BL25: A | BM25: MORATA | BO25: 55 | BP25: =IF(BL25="P",IF(BO25<5,"SI","NO"),IF(BL25="D",IF(BO25<9,"SI","NO"),IF(BL25="C",IF(BO25<17,"SI","NO"),IF(BL25="A",IF(BO25<31,"SI","NO"))))) -> NO | BQ25: =IF(BL25="P",IF(BO25<3,"SI","NO"),IF(BL25="D",IF(BO25<5,"SI","NO"),IF(BL25="C",IF(BO25<9,"SI","NO"),IF(BL25="A",IF(BO25<16,"SI","NO"))))) -> NO
A26: A | B26: BONAZZOLI | D26: 18 | E26: =IF(A26="P",IF(D26<5,"SI","NO"),IF(A26="D",IF(D26<9,"SI","NO"),IF(A26="C",IF(D26<17,"SI","NO"),IF(A26="A",IF(D26<31,"SI","NO"))))) -> SI | F26: =IF(A26="P",IF(D26<3,"SI","NO"),IF(A26="D",IF(D26<5,"SI","NO"),IF(A26="C",IF(D26<9,"SI","NO"),IF(A26="A",IF(D26<16,"SI","NO"))))) -> NO | H26: A | I26: DI CARMINE | K26: 6 | L26: =IF(H26="P",IF(K26<5,"SI","NO"),IF(H26="D",IF(K26<9,"SI","NO"),IF(H26="C",IF(K26<17,"SI","NO"),IF(H26="A",IF(K26<31,"SI","NO"))))) -> SI | M26: =IF(H26="P",IF(K26<3,"SI","NO"),IF(H26="D",IF(K26<5,"SI","NO"),IF(H26="C",IF(K26<9,"SI","NO"),IF(H26="A",IF(K26<16,"SI","NO"))))) -> SI | O26: A | P26: DEULOFEU | R26: 7 | S26: =IF(O26="P",IF(R26<5,"SI","NO"),IF(O26="D",IF(R26<9,"SI","NO"),IF(O26="C",IF(R26<17,"SI","NO"),IF(O26="A",IF(R26<31,"SI","NO"))))) -> SI | T26: =IF(O26="P",IF(R26<3,"SI","NO"),IF(O26="D",IF(R26<5,"SI","NO"),IF(O26="C",IF(R26<9,"SI","NO"),IF(O26="A",IF(R26<16,"SI","NO"))))) -> SI | V26: A | W26: GYASI | Y26: 1 | Z26: =IF(V26="P",IF(Y26<5,"SI","NO"),IF(V26="D",IF(Y26<9,"SI","NO"),IF(V26="C",IF(Y26<17,"SI","NO"),IF(V26="A",IF(Y26<31,"SI","NO"))))) -> SI | AA26: =IF(V26="P",IF(Y26<3,"SI","NO"),IF(V26="D",IF(Y26<5,"SI","NO"),IF(V26="C",IF(Y26<9,"SI","NO"),IF(V26="A",IF(Y26<16,"SI","NO"))))) -> SI | AC26: A | AD26: EL SHAARAWY | AF26: 55 | AG26: =IF(AC26="P",IF(AF26<5,"SI","NO"),IF(AC26="D",IF(AF26<9,"SI","NO"),IF(AC26="C",IF(AF26<17,"SI","NO"),IF(AC26="A",IF(AF26<31,"SI","NO"))))) -> NO | AH26: =IF(AC26="P",IF(AF26<3,"SI","NO"),IF(AC26="D",IF(AF26<5,"SI","NO"),IF(AC26="C",IF(AF26<9,"SI","NO"),IF(AC26="A",IF(AF26<16,"SI","NO"))))) -> NO | AJ26: A | AK26: PJACA | AM26: 1 | AN26: =IF(AJ26="P",IF(AM26<5,"SI","NO"),IF(AJ26="D",IF(AM26<9,"SI","NO"),IF(AJ26="C",IF(AM26<17,"SI","NO"),IF(AJ26="A",IF(AM26<31,"SI","NO"))))) -> SI | AO26: =IF(AJ26="P",IF(AM26<3,"SI","NO"),IF(AJ26="D",IF(AM26<5,"SI","NO"),IF(AJ26="C",IF(AM26<9,"SI","NO"),IF(AJ26="A",IF(AM26<16,"SI","NO"))))) -> SI | AQ26: A | AR26: KOUAME' | AT26: 41 | AU26: =IF(AQ26="P",IF(AT26<5,"SI","NO"),IF(AQ26="D",IF(AT26<9,"SI","NO"),IF(AQ26="C",IF(AT26<17,"SI","NO"),IF(AQ26="A",IF(AT26<31,"SI","NO"))))) -> NO | AV26: =IF(AQ26="P",IF(AT26<3,"SI","NO"),IF(AQ26="D",IF(AT26<5,"SI","NO"),IF(AQ26="C",IF(AT26<9,"SI","NO"),IF(AQ26="A",IF(AT26<16,"SI","NO"))))) -> NO | AX26: A | AY26: VLAHOVIC | BA26: 20 | BB26: =IF(AX26="P",IF(BA26<5,"SI","NO"),IF(AX26="D",IF(BA26<9,"SI","NO"),IF(AX26="C",IF(BA26<17,"SI","NO"),IF(AX26="A",IF(BA26<31,"SI","NO"))))) -> SI | BC26: =IF(AX26="P",IF(BA26<3,"SI","NO"),IF(AX26="D",IF(BA26<5,"SI","NO"),IF(AX26="C",IF(BA26<9,"SI","NO"),IF(AX26="A",IF(BA26<16,"SI","NO"))))) -> NO | BE26: A | BF26: SIMY | BH26: 1 | BI26: =IF(BE26="P",IF(BH26<5,"SI","NO"),IF(BE26="D",IF(BH26<9,"SI","NO"),IF(BE26="C",IF(BH26<17,"SI","NO"),IF(BE26="A",IF(BH26<31,"SI","NO"))))) -> SI | BJ26: =IF(BE26="P",IF(BH26<3,"SI","NO"),IF(BE26="D",IF(BH26<5,"SI","NO"),IF(BE26="C",IF(BH26<9,"SI","NO"),IF(BE26="A",IF(BH26<16,"SI","NO"))))) -> SI | BL26: A | BM26: JOAO PEDRO | BO26: 80 | BP26: =IF(BL26="P",IF(BO26<5,"SI","NO"),IF(BL26="D",IF(BO26<9,"SI","NO"),IF(BL26="C",IF(BO26<17,"SI","NO"),IF(BL26="A",IF(BO26<31,"SI","NO"))))) -> NO | BQ26: =IF(BL26="P",IF(BO26<3,"SI","NO"),IF(BL26="D",IF(BO26<5,"SI","NO"),IF(BL26="C",IF(BO26<9,"SI","NO"),IF(BL26="A",IF(BO26<16,"SI","NO"))))) -> NO
A27: A | B27: REBIC | D27: 61 | E27: =IF(A27="P",IF(D27<5,"SI","NO"),IF(A27="D",IF(D27<9,"SI","NO"),IF(A27="C",IF(D27<17,"SI","NO"),IF(A27="A",IF(D27<31,"SI","NO"))))) -> NO | F27: =IF(A27="P",IF(D27<3,"SI","NO"),IF(A27="D",IF(D27<5,"SI","NO"),IF(A27="C",IF(D27<9,"SI","NO"),IF(A27="A",IF(D27<16,"SI","NO"))))) -> NO | H27: A | I27: CAICEDO | K27: 5 | L27: =IF(H27="P",IF(K27<5,"SI","NO"),IF(H27="D",IF(K27<9,"SI","NO"),IF(H27="C",IF(K27<17,"SI","NO"),IF(H27="A",IF(K27<31,"SI","NO"))))) -> SI | M27: =IF(H27="P",IF(K27<3,"SI","NO"),IF(H27="D",IF(K27<5,"SI","NO"),IF(H27="C",IF(K27<9,"SI","NO"),IF(H27="A",IF(K27<16,"SI","NO"))))) -> SI | O27: A | P27: PELLE' | R27: 15 | S27: =IF(O27="P",IF(R27<5,"SI","NO"),IF(O27="D",IF(R27<9,"SI","NO"),IF(O27="C",IF(R27<17,"SI","NO"),IF(O27="A",IF(R27<31,"SI","NO"))))) -> SI | T27: =IF(O27="P",IF(R27<3,"SI","NO"),IF(O27="D",IF(R27<5,"SI","NO"),IF(O27="C",IF(R27<9,"SI","NO"),IF(O27="A",IF(R27<16,"SI","NO"))))) -> SI | V27: A | W27: DEFREL | Y27: 1 | Z27: =IF(V27="P",IF(Y27<5,"SI","NO"),IF(V27="D",IF(Y27<9,"SI","NO"),IF(V27="C",IF(Y27<17,"SI","NO"),IF(V27="A",IF(Y27<31,"SI","NO"))))) -> SI | AA27: =IF(V27="P",IF(Y27<3,"SI","NO"),IF(V27="D",IF(Y27<5,"SI","NO"),IF(V27="C",IF(Y27<9,"SI","NO"),IF(V27="A",IF(Y27<16,"SI","NO"))))) -> SI | AC27: A | AD27: RAFAEL LEAO | AF27: 5 | AG27: =IF(AC27="P",IF(AF27<5,"SI","NO"),IF(AC27="D",IF(AF27<9,"SI","NO"),IF(AC27="C",IF(AF27<17,"SI","NO"),IF(AC27="A",IF(AF27<31,"SI","NO"))))) -> SI | AH27: =IF(AC27="P",IF(AF27<3,"SI","NO"),IF(AC27="D",IF(AF27<5,"SI","NO"),IF(AC27="C",IF(AF27<9,"SI","NO"),IF(AC27="A",IF(AF27<16,"SI","NO"))))) -> SI | AJ27: A | AK27: SANABRIA | AM27: 1 | AN27: =IF(AJ27="P",IF(AM27<5,"SI","NO"),IF(AJ27="D",IF(AM27<9,"SI","NO"),IF(AJ27="C",IF(AM27<17,"SI","NO"),IF(AJ27="A",IF(AM27<31,"SI","NO"))))) -> SI | AO27: =IF(AJ27="P",IF(AM27<3,"SI","NO"),IF(AJ27="D",IF(AM27<5,"SI","NO"),IF(AJ27="C",IF(AM27<9,"SI","NO"),IF(AJ27="A",IF(AM27<16,"SI","NO"))))) -> SI | AQ27: A | AR27: LAMMERS | AT27: 16 | AU27: =IF(AQ27="P",IF(AT27<5,"SI","NO"),IF(AQ27="D",IF(AT27<9,"SI","NO"),IF(AQ27="C",IF(AT27<17,"SI","NO"),IF(AQ27="A",IF(AT27<31,"SI","NO"))))) -> SI | AV27: =IF(AQ27="P",IF(AT27<3,"SI","NO"),IF(AQ27="D",IF(AT27<5,"SI","NO"),IF(AQ27="C",IF(AT27<9,"SI","NO"),IF(AQ27="A",IF(AT27<16,"SI","NO"))))) -> NO | AX27: A | AY27: TORREGROSSA | BA27: 1 | BB27: =IF(AX27="P",IF(BA27<5,"SI","NO"),IF(AX27="D",IF(BA27<9,"SI","NO"),IF(AX27="C",IF(BA27<17,"SI","NO"),IF(AX27="A",IF(BA27<31,"SI","NO"))))) -> SI | BC27: =IF(AX27="P",IF(BA27<3,"SI","NO"),IF(AX27="D",IF(BA27<5,"SI","NO"),IF(AX27="C",IF(BA27<9,"SI","NO"),IF(AX27="A",IF(BA27<16,"SI","NO"))))) -> SI | BE27: A | BF27: PELLE' | BH27: 12 | BI27: =IF(BE27="P",IF(BH27<5,"SI","NO"),IF(BE27="D",IF(BH27<9,"SI","NO"),IF(BE27="C",IF(BH27<17,"SI","NO"),IF(BE27="A",IF(BH27<31,"SI","NO"))))) -> SI | BJ27: =IF(BE27="P",IF(BH27<3,"SI","NO"),IF(BE27="D",IF(BH27<5,"SI","NO"),IF(BE27="C",IF(BH27<9,"SI","NO"),IF(BE27="A",IF(BH27<16,"SI","NO"))))) -> SI | BL27: A | BM27: PEDRO | BO27: 35 | BP27: =IF(BL27="P",IF(BO27<5,"SI","NO"),IF(BL27="D",IF(BO27<9,"SI","NO"),IF(BL27="C",IF(BO27<17,"SI","NO"),IF(BL27="A",IF(BO27<31,"SI","NO"))))) -> NO | BQ27: =IF(BL27="P",IF(BO27<3,"SI","NO"),IF(BL27="D",IF(BO27<5,"SI","NO"),IF(BL27="C",IF(BO27<9,"SI","NO"),IF(BL27="A",IF(BO27<16,"SI","NO"))))) -> NO
A28: Crediti Residui | C28: Rimanente | E28: 11 | H28: Crediti Residui | J28: Rimanente | L28: 17 | O28: Crediti Residui | Q28: Rimanente | S28: 8 | V28: Crediti Residui | X28: Rimanente | Z28: 7 | AC28: Crediti Residui | AE28: Rimanente | AG28: 12 | AJ28: Crediti Residui | AL28: Rimanente | AN28: 15 | AQ28: Crediti Residui | AS28: Rimanente | AU28: 12 | AX28: Crediti Residui | AZ28: Rimanente | BB28: 10 | BE28: Crediti Residui | BG28: Rimanente | BI28: 2 | BL28: Crediti Residui | BN28: Rimanente | BP28: 30
C29: Nuovi | E29: 500 | J29: Nuovi | L29: 500 | Q29: Nuovi | S29: 500 | X29: Nuovi | Z29: 500 | AE29: Nuovi | AG29: 500 | AL29: Nuovi | AN29: 500 | AS29: Nuovi | AU29: 500 | AZ29: Nuovi | BB29: 500 | BG29: Nuovi | BI29: 508 | BN29: Nuovi | BP29: 510
C30: Conferme | E30: =SUM(E3:E27) -> 0 | F30: =SUM(F3:F27) -> 0 | J30: Conferme | L30: =SUM(L3:L27) -> 0 | M30: =SUM(M3:M27) -> 0 | Q30: Conferme | S30: =SUM(S3:S27) -> 0 | T30: =SUM(T3:T27) -> 0 | X30: Conferme | Z30: =SUM(Z3:Z27) -> 0 | AA30: =SUM(AA3:AA27) -> 0 | AE30: Conferme | AG30: =SUM(AG3:AG27) -> 0 | AH30: =SUM(AH3:AH27) -> 0 | AL30: Conferme | AN30: =SUM(AN3:AN27) -> 0 | AO30: =SUM(AO3:AO27) -> 0 | AS30: Conferme | AU30: =SUM(AU3:AU27) -> 0 | AV30: =SUM(AV3:AV27) -> 0 | AZ30: Conferme | BB30: =SUM(BB3:BB27) -> 0 | BC30: =SUM(BC3:BC27) -> 0 | BG30: Conferme | BI30: =SUM(BI3:BI27) -> 0 | BJ30: =SUM(BJ3:BJ27) -> 0 | BN30: Conferme | BP30: =SUM(BP3:BP27) -> 0 | BQ30: =SUM(BQ3:BQ27) -> 0
C31: Totali | E31: =SUM(E28:E29)-SUM(E30:F30) -> 511 | J31: Totali | L31: =SUM(L28:L29)-SUM(L30:M30) -> 517 | Q31: Totali | S31: =SUM(S28:S29)-SUM(S30:T30) -> 508 | X31: Totali | Z31: =SUM(Z28:Z29)-SUM(Z30:AA30) -> 507 | AE31: Totali | AG31: =SUM(AG28:AG29)-SUM(AG30:AH30) -> 512 | AL31: Totali | AN31: =SUM(AN28:AN29)-SUM(AN30:AO30) -> 515 | AS31: Totali | AU31: =SUM(AU28:AU29)-SUM(AU30:AV30) -> 512 | AZ31: Totali | BB31: =SUM(BB28:BB29)-SUM(BB30:BC30) -> 510 | BG31: Totali | BI31: =SUM(BI28:BI29)-SUM(BI30:BJ30) -> 510 | BN31: Totali | BP31: =SUM(BP28:BP29)-SUM(BP30:BQ30) -> 540

Sheet Serie C
A1: AC DENTI | F1: 70.11 | H1: FC LEAD | M1: 70.31 | O1: MOJITO | T1: 70.5 | V1: PAUL FRANK INDUSTRIES | AA1: 71.06 | AC1: FANTALISBON | AH1: 71.47 | AJ1: SKIACCIAK MOSCA | AO1: 72.04 | AQ1: SOLOPISA | AV1: 72.27 | AX1: CICCIOBUCCIO | BC1: 73.79 | BE1: BAYER BIKERS | BJ1: 73.86 | BL1: PATATINAIKOS | BQ1: 74.26
A2: Ruolo | B2: Calciatore | C2: Squadra | D2: Costo | E2: Giugno | F2: Settembre | H2: Ruolo | I2: Calciatore | J2: Squadra | K2: Costo | L2: Giugno | M2: Settembre | O2: Ruolo | P2: Calciatore | Q2: Squadra | R2: Costo | S2: Giugno | T2: Settembre | V2: Ruolo | W2: Calciatore | X2: Squadra | Y2: Costo | Z2: Giugno | AA2: Settembre | AC2: Ruolo | AD2: Calciatore | AE2: Squadra | AF2: Costo | AG2: Giugno | AH2: Settembre | AJ2: Ruolo | AK2: Calciatore | AL2: Squadra | AM2: Costo | AN2: Giugno | AO2: Settembre | AQ2: Ruolo | AR2: Calciatore | AS2: Squadra | AT2: Costo | AU2: Giugno | AV2: Settembre | AX2: Ruolo | AY2: Calciatore | AZ2: Squadra | BA2: Costo | BB2: Giugno | BC2: Settembre | BE2: Ruolo | BF2: Calciatore | BG2: Squadra | BH2: Costo | BI2: Giugno | BJ2: Settembre | BL2: Ruolo | BM2: Calciatore | BN2: Squadra | BO2: Costo | BP2: Giugno | BQ2: Settembre
A3: P | B3: SIRIGU | D3: 10 | E3: =IF(A3="P",IF(D3<5,"SI","NO"),IF(A3="D",IF(D3<9,"SI","NO"),IF(A3="C",IF(D3<17,"SI","NO"),IF(A3="A",IF(D3<31,"SI","NO"))))) -> NO | F3: =IF(A3="P",IF(D3<3,"SI","NO"),IF(A3="D",IF(D3<5,"SI","NO"),IF(A3="C",IF(D3<9,"SI","NO"),IF(A3="A",IF(D3<16,"SI","NO"))))) -> NO | H3: P | I3: HANDANOVIC | K3: 52 | L3: =IF(H3="P",IF(K3<5,"SI","NO"),IF(H3="D",IF(K3<9,"SI","NO"),IF(H3="C",IF(K3<17,"SI","NO"),IF(H3="A",IF(K3<31,"SI","NO"))))) -> NO | M3: =IF(H3="P",IF(K3<3,"SI","NO"),IF(H3="D",IF(K3<5,"SI","NO"),IF(H3="C",IF(K3<9,"SI","NO"),IF(H3="A",IF(K3<16,"SI","NO"))))) -> NO | O3: P | P3: PERIN | R3: 1 | V3: P | W3: MONTIPO' | Y3: 4 | Z3: =IF(V3="P",IF(Y3<5,"SI","NO"),IF(V3="D",IF(Y3<9,"SI","NO"),IF(V3="C",IF(Y3<17,"SI","NO"),IF(V3="A",IF(Y3<31,"SI","NO"))))) -> SI | AA3: =IF(V3="P",IF(Y3<3,"SI","NO"),IF(V3="D",IF(Y3<5,"SI","NO"),IF(V3="C",IF(Y3<9,"SI","NO"),IF(V3="A",IF(Y3<16,"SI","NO"))))) -> NO | AC3: P | AD3: MONTIPO' | AF3: 1 | AG3: =IF(AC3="P",IF(AF3<5,"SI","NO"),IF(AC3="D",IF(AF3<9,"SI","NO"),IF(AC3="C",IF(AF3<17,"SI","NO"),IF(AC3="A",IF(AF3<31,"SI","NO"))))) -> SI | AH3: =IF(AC3="P",IF(AF3<3,"SI","NO"),IF(AC3="D",IF(AF3<5,"SI","NO"),IF(AC3="C",IF(AF3<9,"SI","NO"),IF(AC3="A",IF(AF3<16,"SI","NO"))))) -> SI | AJ3: P | AK3: MIRANTE | AM3: 1 | AQ3: P | AR3: MUSSO | AT3: 2 | AX3: P | AY3: DRAGOWSKI | BA3: 21 | BB3: =IF(AX3="P",IF(BA3<5,"SI","NO"),IF(AX3="D",IF(BA3<9,"SI","NO"),IF(AX3="C",IF(BA3<17,"SI","NO"),IF(AX3="A",IF(BA3<31,"SI","NO"))))) -> NO | BC3: =IF(AX3="P",IF(BA3<3,"SI","NO"),IF(AX3="D",IF(BA3<5,"SI","NO"),IF(AX3="C",IF(BA3<9,"SI","NO"),IF(AX3="A",IF(BA3<16,"SI","NO"))))) -> NO | BE3: P | BF3: MUSSO | BH3: 1 | BL3: P | BM3: SZCZESNY | BO3: 44 | BP3: =IF(BL3="P",IF(BO3<5,"SI","NO"),IF(BL3="D",IF(BO3<9,"SI","NO"),IF(BL3="C",IF(BO3<17,"SI","NO"),IF(BL3="A",IF(BO3<31,"SI","NO"))))) -> NO | BQ3: =IF(BL3="P",IF(BO3<3,"SI","NO"),IF(BL3="D",IF(BO3<5,"SI","NO"),IF(BL3="C",IF(BO3<9,"SI","NO"),IF(BL3="A",IF(BO3<16,"SI","NO"))))) -> NO
A4: P | B4: MUSSO | D4: 4 | E4: =IF(A4="P",IF(D4<5,"SI","NO"),IF(A4="D",IF(D4<9,"SI","NO"),IF(A4="C",IF(D4<17,"SI","NO"),IF(A4="A",IF(D4<31,"SI","NO"))))) -> SI | F4: =IF(A4="P",IF(D4<3,"SI","NO"),IF(A4="D",IF(D4<5,"SI","NO"),IF(A4="C",IF(D4<9,"SI","NO"),IF(A4="A",IF(D4<16,"SI","NO"))))) -> NO | H4: P | I4: RADU | K4: 1 | L4: =IF(H4="P",IF(K4<5,"SI","NO"),IF(H4="D",IF(K4<9,"SI","NO"),IF(H4="C",IF(K4<17,"SI","NO"),IF(H4="A",IF(K4<31,"SI","NO"))))) -> SI | M4: =IF(H4="P",IF(K4<3,"SI","NO"),IF(H4="D",IF(K4<5,"SI","NO"),IF(H4="C",IF(K4<9,"SI","NO"),IF(H4="A",IF(K4<16,"SI","NO"))))) -> SI | O4: P | P4: DONNARUMMA G. | R4: 45 | S4: =IF(O4="P",IF(R4<5,"SI","NO"),IF(O4="D",IF(R4<9,"SI","NO"),IF(O4="C",IF(R4<17,"SI","NO"),IF(O4="A",IF(R4<31,"SI","NO"))))) -> NO | T4: =IF(O4="P",IF(R4<3,"SI","NO"),IF(O4="D",IF(R4<5,"SI","NO"),IF(O4="C",IF(R4<9,"SI","NO"),IF(O4="A",IF(R4<16,"SI","NO"))))) -> NO | V4: P | W4: CORDAZ | Y4: 3 | Z4: =IF(V4="P",IF(Y4<5,"SI","NO"),IF(V4="D",IF(Y4<9,"SI","NO"),IF(V4="C",IF(Y4<17,"SI","NO"),IF(V4="A",IF(Y4<31,"SI","NO"))))) -> SI | AA4: =IF(V4="P",IF(Y4<3,"SI","NO"),IF(V4="D",IF(Y4<5,"SI","NO"),IF(V4="C",IF(Y4<9,"SI","NO"),IF(V4="A",IF(Y4<16,"SI","NO"))))) -> NO | AC4: P | AD4: BUFFON | AF4: 2 | AG4: =IF(AC4="P",IF(AF4<5,"SI","NO"),IF(AC4="D",IF(AF4<9,"SI","NO"),IF(AC4="C",IF(AF4<17,"SI","NO"),IF(AC4="A",IF(AF4<31,"SI","NO"))))) -> SI | AH4: =IF(AC4="P",IF(AF4<3,"SI","NO"),IF(AC4="D",IF(AF4<5,"SI","NO"),IF(AC4="C",IF(AF4<9,"SI","NO"),IF(AC4="A",IF(AF4<16,"SI","NO"))))) -> SI | AJ4: P | AK4: AUDERO | AM4: 1 | AN4: =IF(AJ4="P",IF(AM4<5,"SI","NO"),IF(AJ4="D",IF(AM4<9,"SI","NO"),IF(AJ4="C",IF(AM4<17,"SI","NO"),IF(AJ4="A",IF(AM4<31,"SI","NO"))))) -> SI | AO4: =IF(AJ4="P",IF(AM4<3,"SI","NO"),IF(AJ4="D",IF(AM4<5,"SI","NO"),IF(AJ4="C",IF(AM4<9,"SI","NO"),IF(AJ4="A",IF(AM4<16,"SI","NO"))))) -> SI | AQ4: P | AR4: CRAGNO | AT4: 8 | AU4: =IF(AQ4="P",IF(AT4<5,"SI","NO"),IF(AQ4="D",IF(AT4<9,"SI","NO"),IF(AQ4="C",IF(AT4<17,"SI","NO"),IF(AQ4="A",IF(AT4<31,"SI","NO"))))) -> NO | AV4: =IF(AQ4="P",IF(AT4<3,"SI","NO"),IF(AQ4="D",IF(AT4<5,"SI","NO"),IF(AQ4="C",IF(AT4<9,"SI","NO"),IF(AQ4="A",IF(AT4<16,"SI","NO"))))) -> NO | AX4: P | AY4: SKORUPSKI | BA4: 15 | BB4: =IF(AX4="P",IF(BA4<5,"SI","NO"),IF(AX4="D",IF(BA4<9,"SI","NO"),IF(AX4="C",IF(BA4<17,"SI","NO"),IF(AX4="A",IF(BA4<31,"SI","NO"))))) -> NO | BC4: =IF(AX4="P",IF(BA4<3,"SI","NO"),IF(AX4="D",IF(BA4<5,"SI","NO"),IF(AX4="C",IF(BA4<9,"SI","NO"),IF(AX4="A",IF(BA4<16,"SI","NO"))))) -> NO | BE4: P | BF4: HANDANOVIC | BH4: 38 | BI4: =IF(BE4="P",IF(BH4<5,"SI","NO"),IF(BE4="D",IF(BH4<9,"SI","NO"),IF(BE4="C",IF(BH4<17,"SI","NO"),IF(BE4="A",IF(BH4<31,"SI","NO"))))) -> NO | BJ4: =IF(BE4="P",IF(BH4<3,"SI","NO"),IF(BE4="D",IF(BH4<5,"SI","NO"),IF(BE4="C",IF(BH4<9,"SI","NO"),IF(BE4="A",IF(BH4<16,"SI","NO"))))) -> NO | BL4: P | BM4: BUFFON | BO4: 2 | BP4: =IF(BL4="P",IF(BO4<5,"SI","NO"),IF(BL4="D",IF(BO4<9,"SI","NO"),IF(BL4="C",IF(BO4<17,"SI","NO"),IF(BL4="A",IF(BO4<31,"SI","NO"))))) -> SI | BQ4: =IF(BL4="P",IF(BO4<3,"SI","NO"),IF(BL4="D",IF(BO4<5,"SI","NO"),IF(BL4="C",IF(BO4<9,"SI","NO"),IF(BL4="A",IF(BO4<16,"SI","NO"))))) -> SI
A5: P | B5: SCUFFET | D5: 1 | E5: =IF(A5="P",IF(D5<5,"SI","NO"),IF(A5="D",IF(D5<9,"SI","NO"),IF(A5="C",IF(D5<17,"SI","NO"),IF(A5="A",IF(D5<31,"SI","NO"))))) -> SI | F5: =IF(A5="P",IF(D5<3,"SI","NO"),IF(A5="D",IF(D5<5,"SI","NO"),IF(A5="C",IF(D5<9,"SI","NO"),IF(A5="A",IF(D5<16,"SI","NO"))))) -> SI | H5: P | I5: PADELLI | K5: 1 | L5: =IF(H5="P",IF(K5<5,"SI","NO"),IF(H5="D",IF(K5<9,"SI","NO"),IF(H5="C",IF(K5<17,"SI","NO"),IF(H5="A",IF(K5<31,"SI","NO"))))) -> SI | M5: =IF(H5="P",IF(K5<3,"SI","NO"),IF(H5="D",IF(K5<5,"SI","NO"),IF(H5="C",IF(K5<9,"SI","NO"),IF(H5="A",IF(K5<16,"SI","NO"))))) -> SI | O5: P | P5: TATARUSANU | R5: 1 | S5: =IF(O5="P",IF(R5<5,"SI","NO"),IF(O5="D",IF(R5<9,"SI","NO"),IF(O5="C",IF(R5<17,"SI","NO"),IF(O5="A",IF(R5<31,"SI","NO"))))) -> SI | T5: =IF(O5="P",IF(R5<3,"SI","NO"),IF(O5="D",IF(R5<5,"SI","NO"),IF(O5="C",IF(R5<9,"SI","NO"),IF(O5="A",IF(R5<16,"SI","NO"))))) -> SI | V5: P | W5: OSPINA | Y5: 3 | Z5: =IF(V5="P",IF(Y5<5,"SI","NO"),IF(V5="D",IF(Y5<9,"SI","NO"),IF(V5="C",IF(Y5<17,"SI","NO"),IF(V5="A",IF(Y5<31,"SI","NO"))))) -> SI | AA5: =IF(V5="P",IF(Y5<3,"SI","NO"),IF(V5="D",IF(Y5<5,"SI","NO"),IF(V5="C",IF(Y5<9,"SI","NO"),IF(V5="A",IF(Y5<16,"SI","NO"))))) -> NO | AC5: P | AD5: CONSIGLI | AF5: 10 | AG5: =IF(AC5="P",IF(AF5<5,"SI","NO"),IF(AC5="D",IF(AF5<9,"SI","NO"),IF(AC5="C",IF(AF5<17,"SI","NO"),IF(AC5="A",IF(AF5<31,"SI","NO"))))) -> NO | AH5: =IF(AC5="P",IF(AF5<3,"SI","NO"),IF(AC5="D",IF(AF5<5,"SI","NO"),IF(AC5="C",IF(AF5<9,"SI","NO"),IF(AC5="A",IF(AF5<16,"SI","NO"))))) -> NO | AJ5: P | AK5: PAU LOPEZ | AM5: 1 | AN5: =IF(AJ5="P",IF(AM5<5,"SI","NO"),IF(AJ5="D",IF(AM5<9,"SI","NO"),IF(AJ5="C",IF(AM5<17,"SI","NO"),IF(AJ5="A",IF(AM5<31,"SI","NO"))))) -> SI | AO5: =IF(AJ5="P",IF(AM5<3,"SI","NO"),IF(AJ5="D",IF(AM5<5,"SI","NO"),IF(AJ5="C",IF(AM5<9,"SI","NO"),IF(AJ5="A",IF(AM5<16,"SI","NO"))))) -> SI | AQ5: P | AR5: AUDERO | AT5: 6 | AU5: =IF(AQ5="P",IF(AT5<5,"SI","NO"),IF(AQ5="D",IF(AT5<9,"SI","NO"),IF(AQ5="C",IF(AT5<17,"SI","NO"),IF(AQ5="A",IF(AT5<31,"SI","NO"))))) -> NO | AV5: =IF(AQ5="P",IF(AT5<3,"SI","NO"),IF(AQ5="D",IF(AT5<5,"SI","NO"),IF(AQ5="C",IF(AT5<9,"SI","NO"),IF(AQ5="A",IF(AT5<16,"SI","NO"))))) -> NO | AX5: P | AY5: SILVESTRI | BA5: 12 | BB5: =IF(AX5="P",IF(BA5<5,"SI","NO"),IF(AX5="D",IF(BA5<9,"SI","NO"),IF(AX5="C",IF(BA5<17,"SI","NO"),IF(AX5="A",IF(BA5<31,"SI","NO"))))) -> NO | BC5: =IF(AX5="P",IF(BA5<3,"SI","NO"),IF(AX5="D",IF(BA5<5,"SI","NO"),IF(AX5="C",IF(BA5<9,"SI","NO"),IF(AX5="A",IF(BA5<16,"SI","NO"))))) -> NO | BE5: P | BF5: RADU | BH5: 1 | BI5: =IF(BE5="P",IF(BH5<5,"SI","NO"),IF(BE5="D",IF(BH5<9,"SI","NO"),IF(BE5="C",IF(BH5<17,"SI","NO"),IF(BE5="A",IF(BH5<31,"SI","NO"))))) -> SI | BJ5: =IF(BE5="P",IF(BH5<3,"SI","NO"),IF(BE5="D",IF(BH5<5,"SI","NO"),IF(BE5="C",IF(BH5<9,"SI","NO"),IF(BE5="A",IF(BH5<16,"SI","NO"))))) -> SI | BL5: P | BM5: PINSOGLIO | BO5: 1 | BP5: =IF(BL5="P",IF(BO5<5,"SI","NO"),IF(BL5="D",IF(BO5<9,"SI","NO"),IF(BL5="C",IF(BO5<17,"SI","NO"),IF(BL5="A",IF(BO5<31,"SI","NO"))))) -> SI | BQ5: =IF(BL5="P",IF(BO5<3,"SI","NO"),IF(BL5="D",IF(BO5<5,"SI","NO"),IF(BL5="C",IF(BO5<9,"SI","NO"),IF(BL5="A",IF(BO5<16,"SI","NO"))))) -> SI
A6: D | B6: YOSHIDA | D6: 11 | E6: =IF(A6="P",IF(D6<5,"SI","NO"),IF(A6="D",IF(D6<9,"SI","NO"),IF(A6="C",IF(D6<17,"SI","NO"),IF(A6="A",IF(D6<31,"SI","NO"))))) -> NO | F6: =IF(A6="P",IF(D6<3,"SI","NO"),IF(A6="D",IF(D6<5,"SI","NO"),IF(A6="C",IF(D6<9,"SI","NO"),IF(A6="A",IF(D6<16,"SI","NO"))))) -> NO | H6: D | I6: D'AMBROSIO | K6: 1 | O6: D | P6: MANOLAS | R6: 11 | S6: =IF(O6="P",IF(R6<5,"SI","NO"),IF(O6="D",IF(R6<9,"SI","NO"),IF(O6="C",IF(R6<17,"SI","NO"),IF(O6="A",IF(R6<31,"SI","NO"))))) -> NO | T6: =IF(O6="P",IF(R6<3,"SI","NO"),IF(O6="D",IF(R6<5,"SI","NO"),IF(O6="C",IF(R6<9,"SI","NO"),IF(O6="A",IF(R6<16,"SI","NO"))))) -> NO | V6: D | W6: LETIZIA | Y6: 1 | Z6: =IF(V6="P",IF(Y6<5,"SI","NO"),IF(V6="D",IF(Y6<9,"SI","NO"),IF(V6="C",IF(Y6<17,"SI","NO"),IF(V6="A",IF(Y6<31,"SI","NO"))))) -> SI | AA6: =IF(V6="P",IF(Y6<3,"SI","NO"),IF(V6="D",IF(Y6<5,"SI","NO"),IF(V6="C",IF(Y6<9,"SI","NO"),IF(V6="A",IF(Y6<16,"SI","NO"))))) -> SI | AC6: D | AD6: CALDARA | AF6: 1 | AJ6: D | AK6: SMALLING | AM6: 3 | AQ6: D | AR6: BASTONI | AT6: 3 | AX6: D | AY6: YOSHIDA | BA6: 5 | BB6: =IF(AX6="P",IF(BA6<5,"SI","NO"),IF(AX6="D",IF(BA6<9,"SI","NO"),IF(AX6="C",IF(BA6<17,"SI","NO"),IF(AX6="A",IF(BA6<31,"SI","NO"))))) -> SI | BC6: =IF(AX6="P",IF(BA6<3,"SI","NO"),IF(AX6="D",IF(BA6<5,"SI","NO"),IF(AX6="C",IF(BA6<9,"SI","NO"),IF(AX6="A",IF(BA6<16,"SI","NO"))))) -> NO | BE6: D | BF6: HERNANDEZ T. | BH6: 5 | BL6: D | BM6: SMALLING | BO6: 4
A7: D | B7: BASTONI | D7: 7 | E7: =IF(A7="P",IF(D7<5,"SI","NO"),IF(A7="D",IF(D7<9,"SI","NO"),IF(A7="C",IF(D7<17,"SI","NO"),IF(A7="A",IF(D7<31,"SI","NO"))))) -> SI | F7: =IF(A7="P",IF(D7<3,"SI","NO"),IF(A7="D",IF(D7<5,"SI","NO"),IF(A7="C",IF(D7<9,"SI","NO"),IF(A7="A",IF(D7<16,"SI","NO"))))) -> NO | H7: D | I7: COLLEY | K7: 5 | L7: =IF(H7="P",IF(K7<5,"SI","NO"),IF(H7="D",IF(K7<9,"SI","NO"),IF(H7="C",IF(K7<17,"SI","NO"),IF(H7="A",IF(K7<31,"SI","NO"))))) -> SI | M7: =IF(H7="P",IF(K7<3,"SI","NO"),IF(H7="D",IF(K7<5,"SI","NO"),IF(H7="C",IF(K7<9,"SI","NO"),IF(H7="A",IF(K7<16,"SI","NO"))))) -> NO | O7: D | P7: CONTI | R7: 7 | S7: =IF(O7="P",IF(R7<5,"SI","NO"),IF(O7="D",IF(R7<9,"SI","NO"),IF(O7="C",IF(R7<17,"SI","NO"),IF(O7="A",IF(R7<31,"SI","NO"))))) -> SI | T7: =IF(O7="P",IF(R7<3,"SI","NO"),IF(O7="D",IF(R7<5,"SI","NO"),IF(O7="C",IF(R7<9,"SI","NO"),IF(O7="A",IF(R7<16,"SI","NO"))))) -> NO | V7: D | W7: GOSENS | Y7: 56 | Z7: =IF(V7="P",IF(Y7<5,"SI","NO"),IF(V7="D",IF(Y7<9,"SI","NO"),IF(V7="C",IF(Y7<17,"SI","NO"),IF(V7="A",IF(Y7<31,"SI","NO"))))) -> NO | AA7: =IF(V7="P",IF(Y7<3,"SI","NO"),IF(V7="D",IF(Y7<5,"SI","NO"),IF(V7="C",IF(Y7<9,"SI","NO"),IF(V7="A",IF(Y7<16,"SI","NO"))))) -> NO | AC7: D | AD7: ACERBI | AF7: 31 | AG7: =IF(AC7="P",IF(AF7<5,"SI","NO"),IF(AC7="D",IF(AF7<9,"SI","NO"),IF(AC7="C",IF(AF7<17,"SI","NO"),IF(AC7="A",IF(AF7<31,"SI","NO"))))) -> NO | AH7: =IF(AC7="P",IF(AF7<3,"SI","NO"),IF(AC7="D",IF(AF7<5,"SI","NO"),IF(AC7="C",IF(AF7<9,"SI","NO"),IF(AC7="A",IF(AF7<16,"SI","NO"))))) -> NO | AJ7: D | AK7: DE SILVESTRI | AM7: 1 | AN7: =IF(AJ7="P",IF(AM7<5,"SI","NO"),IF(AJ7="D",IF(AM7<9,"SI","NO"),IF(AJ7="C",IF(AM7<17,"SI","NO"),IF(AJ7="A",IF(AM7<31,"SI","NO"))))) -> SI | AO7: =IF(AJ7="P",IF(AM7<3,"SI","NO"),IF(AJ7="D",IF(AM7<5,"SI","NO"),IF(AJ7="C",IF(AM7<9,"SI","NO"),IF(AJ7="A",IF(AM7<16,"SI","NO"))))) -> SI | AQ7: D | AR7: HAKIMI | AT7: 42 | AU7: =IF(AQ7="P",IF(AT7<5,"SI","NO"),IF(AQ7="D",IF(AT7<9,"SI","NO"),IF(AQ7="C",IF(AT7<17,"SI","NO"),IF(AQ7="A",IF(AT7<31,"SI","NO"))))) -> NO | AV7: =IF(AQ7="P",IF(AT7<3,"SI","NO"),IF(AQ7="D",IF(AT7<5,"SI","NO"),IF(AQ7="C",IF(AT7<9,"SI","NO"),IF(AQ7="A",IF(AT7<16,"SI","NO"))))) -> NO | AX7: D | AY7: SPINAZZOLA | BA7: 21 | BB7: =IF(AX7="P",IF(BA7<5,"SI","NO"),IF(AX7="D",IF(BA7<9,"SI","NO"),IF(AX7="C",IF(BA7<17,"SI","NO"),IF(AX7="A",IF(BA7<31,"SI","NO"))))) -> NO | BC7: =IF(AX7="P",IF(BA7<3,"SI","NO"),IF(AX7="D",IF(BA7<5,"SI","NO"),IF(AX7="C",IF(BA7<9,"SI","NO"),IF(AX7="A",IF(BA7<16,"SI","NO"))))) -> NO | BE7: D | BF7: DE VRIJ | BH7: 35 | BI7: =IF(BE7="P",IF(BH7<5,"SI","NO"),IF(BE7="D",IF(BH7<9,"SI","NO"),IF(BE7="C",IF(BH7<17,"SI","NO"),IF(BE7="A",IF(BH7<31,"SI","NO"))))) -> NO | BJ7: =IF(BE7="P",IF(BH7<3,"SI","NO"),IF(BE7="D",IF(BH7<5,"SI","NO"),IF(BE7="C",IF(BH7<9,"SI","NO"),IF(BE7="A",IF(BH7<16,"SI","NO"))))) -> NO | BL7: D | BM7: MILENKOVIC | BO7: 33 | BP7: =IF(BL7="P",IF(BO7<5,"SI","NO"),IF(BL7="D",IF(BO7<9,"SI","NO"),IF(BL7="C",IF(BO7<17,"SI","NO"),IF(BL7="A",IF(BO7<31,"SI","NO"))))) -> NO | BQ7: =IF(BL7="P",IF(BO7<3,"SI","NO"),IF(BL7="D",IF(BO7<5,"SI","NO"),IF(BL7="C",IF(BO7<9,"SI","NO"),IF(BL7="A",IF(BO7<16,"SI","NO"))))) -> NO
A8: D | B8: ROMAGNOLI | D8: 16 | E8: =IF(A8="P",IF(D8<5,"SI","NO"),IF(A8="D",IF(D8<9,"SI","NO"),IF(A8="C",IF(D8<17,"SI","NO"),IF(A8="A",IF(D8<31,"SI","NO"))))) -> NO | F8: =IF(A8="P",IF(D8<3,"SI","NO"),IF(A8="D",IF(D8<5,"SI","NO"),IF(A8="C",IF(D8<9,"SI","NO"),IF(A8="A",IF(D8<16,"SI","NO"))))) -> NO | H8: D | I8: CACERES | K8: 3 | L8: =IF(H8="P",IF(K8<5,"SI","NO"),IF(H8="D",IF(K8<9,"SI","NO"),IF(H8="C",IF(K8<17,"SI","NO"),IF(H8="A",IF(K8<31,"SI","NO"))))) -> SI | M8: =IF(H8="P",IF(K8<3,"SI","NO"),IF(H8="D",IF(K8<5,"SI","NO"),IF(H8="C",IF(K8<9,"SI","NO"),IF(H8="A",IF(K8<16,"SI","NO"))))) -> SI | O8: D | P8: MAKSIMOVIC | R8: 1 | S8: =IF(O8="P",IF(R8<5,"SI","NO"),IF(O8="D",IF(R8<9,"SI","NO"),IF(O8="C",IF(R8<17,"SI","NO"),IF(O8="A",IF(R8<31,"SI","NO"))))) -> SI | T8: =IF(O8="P",IF(R8<3,"SI","NO"),IF(O8="D",IF(R8<5,"SI","NO"),IF(O8="C",IF(R8<9,"SI","NO"),IF(O8="A",IF(R8<16,"SI","NO"))))) -> SI | V8: D | W8: TOMIYASU | Y8: 12 | Z8: =IF(V8="P",IF(Y8<5,"SI","NO"),IF(V8="D",IF(Y8<9,"SI","NO"),IF(V8="C",IF(Y8<17,"SI","NO"),IF(V8="A",IF(Y8<31,"SI","NO"))))) -> NO | AA8: =IF(V8="P",IF(Y8<3,"SI","NO"),IF(V8="D",IF(Y8<5,"SI","NO"),IF(V8="C",IF(Y8<9,"SI","NO"),IF(V8="A",IF(Y8<16,"SI","NO"))))) -> NO | AC8: D | AD8: FARAONI | AF8: 17 | AG8: =IF(AC8="P",IF(AF8<5,"SI","NO"),IF(AC8="D",IF(AF8<9,"SI","NO"),IF(AC8="C",IF(AF8<17,"SI","NO"),IF(AC8="A",IF(AF8<31,"SI","NO"))))) -> NO | AH8: =IF(AC8="P",IF(AF8<3,"SI","NO"),IF(AC8="D",IF(AF8<5,"SI","NO"),IF(AC8="C",IF(AF8<9,"SI","NO"),IF(AC8="A",IF(AF8<16,"SI","NO"))))) -> NO | AJ8: D | AK8: FERRARI G. | AM8: 6 | AN8: =IF(AJ8="P",IF(AM8<5,"SI","NO"),IF(AJ8="D",IF(AM8<9,"SI","NO"),IF(AJ8="C",IF(AM8<17,"SI","NO"),IF(AJ8="A",IF(AM8<31,"SI","NO"))))) -> SI | AO8: =IF(AJ8="P",IF(AM8<3,"SI","NO"),IF(AJ8="D",IF(AM8<5,"SI","NO"),IF(AJ8="C",IF(AM8<9,"SI","NO"),IF(AJ8="A",IF(AM8<16,"SI","NO"))))) -> NO | AQ8: D | AR8: RUGANI | AT8: 1 | AU8: =IF(AQ8="P",IF(AT8<5,"SI","NO"),IF(AQ8="D",IF(AT8<9,"SI","NO"),IF(AQ8="C",IF(AT8<17,"SI","NO"),IF(AQ8="A",IF(AT8<31,"SI","NO"))))) -> SI | AV8: =IF(AQ8="P",IF(AT8<3,"SI","NO"),IF(AQ8="D",IF(AT8<5,"SI","NO"),IF(AQ8="C",IF(AT8<9,"SI","NO"),IF(AQ8="A",IF(AT8<16,"SI","NO"))))) -> SI | AX8: D | AY8: DJIMSITI | BA8: 20 | BB8: =IF(AX8="P",IF(BA8<5,"SI","NO"),IF(AX8="D",IF(BA8<9,"SI","NO"),IF(AX8="C",IF(BA8<17,"SI","NO"),IF(AX8="A",IF(BA8<31,"SI","NO"))))) -> NO | BC8: =IF(AX8="P",IF(BA8<3,"SI","NO"),IF(AX8="D",IF(BA8<5,"SI","NO"),IF(AX8="C",IF(BA8<9,"SI","NO"),IF(AX8="A",IF(BA8<16,"SI","NO"))))) -> NO | BE8: D | BF8: KOULIBALY | BH8: 32 | BI8: =IF(BE8="P",IF(BH8<5,"SI","NO"),IF(BE8="D",IF(BH8<9,"SI","NO"),IF(BE8="C",IF(BH8<17,"SI","NO"),IF(BE8="A",IF(BH8<31,"SI","NO"))))) -> NO | BJ8: =IF(BE8="P",IF(BH8<3,"SI","NO"),IF(BE8="D",IF(BH8<5,"SI","NO"),IF(BE8="C",IF(BH8<9,"SI","NO"),IF(BE8="A",IF(BH8<16,"SI","NO"))))) -> NO | BL8: D | BM8: YOUNG | BO8: 16 | BP8: =IF(BL8="P",IF(BO8<5,"SI","NO"),IF(BL8="D",IF(BO8<9,"SI","NO"),IF(BL8="C",IF(BO8<17,"SI","NO"),IF(BL8="A",IF(BO8<31,"SI","NO"))))) -> NO | BQ8: =IF(BL8="P",IF(BO8<3,"SI","NO"),IF(BL8="D",IF(BO8<5,"SI","NO"),IF(BL8="C",IF(BO8<9,"SI","NO"),IF(BL8="A",IF(BO8<16,"SI","NO"))))) -> NO
A9: D | B9: IBANEZ | D9: 8 | E9: =IF(A9="P",IF(D9<5,"SI","NO"),IF(A9="D",IF(D9<9,"SI","NO"),IF(A9="C",IF(D9<17,"SI","NO"),IF(A9="A",IF(D9<31,"SI","NO"))))) -> SI | F9: =IF(A9="P",IF(D9<3,"SI","NO"),IF(A9="D",IF(D9<5,"SI","NO"),IF(A9="C",IF(D9<9,"SI","NO"),IF(A9="A",IF(D9<16,"SI","NO"))))) -> NO | H9: D | I9: HYSAJ | K9: 1 | L9: =IF(H9="P",IF(K9<5,"SI","NO"),IF(H9="D",IF(K9<9,"SI","NO"),IF(H9="C",IF(K9<17,"SI","NO"),IF(H9="A",IF(K9<31,"SI","NO"))))) -> SI | M9: =IF(H9="P",IF(K9<3,"SI","NO"),IF(H9="D",IF(K9<5,"SI","NO"),IF(H9="C",IF(K9<9,"SI","NO"),IF(H9="A",IF(K9<16,"SI","NO"))))) -> SI | O9: D | P9: PEZZELLA GER. | R9: 13 | S9: =IF(O9="P",IF(R9<5,"SI","NO"),IF(O9="D",IF(R9<9,"SI","NO"),IF(O9="C",IF(R9<17,"SI","NO"),IF(O9="A",IF(R9<31,"SI","NO"))))) -> NO | T9: =IF(O9="P",IF(R9<3,"SI","NO"),IF(O9="D",IF(R9<5,"SI","NO"),IF(O9="C",IF(R9<9,"SI","NO"),IF(O9="A",IF(R9<16,"SI","NO"))))) -> NO | V9: D | W9: DIMARCO | Y9: 10 | Z9: =IF(V9="P",IF(Y9<5,"SI","NO"),IF(V9="D",IF(Y9<9,"SI","NO"),IF(V9="C",IF(Y9<17,"SI","NO"),IF(V9="A",IF(Y9<31,"SI","NO"))))) -> NO | AA9: =IF(V9="P",IF(Y9<3,"SI","NO"),IF(V9="D",IF(Y9<5,"SI","NO"),IF(V9="C",IF(Y9<9,"SI","NO"),IF(V9="A",IF(Y9<16,"SI","NO"))))) -> NO | AC9: D | AD9: RUGANI | AF9: 5 | AG9: =IF(AC9="P",IF(AF9<5,"SI","NO"),IF(AC9="D",IF(AF9<9,"SI","NO"),IF(AC9="C",IF(AF9<17,"SI","NO"),IF(AC9="A",IF(AF9<31,"SI","NO"))))) -> SI | AH9: =IF(AC9="P",IF(AF9<3,"SI","NO"),IF(AC9="D",IF(AF9<5,"SI","NO"),IF(AC9="C",IF(AF9<9,"SI","NO"),IF(AC9="A",IF(AF9<16,"SI","NO"))))) -> NO | AJ9: D | AK9: CALDIROLA | AM9: 1 | AN9: =IF(AJ9="P",IF(AM9<5,"SI","NO"),IF(AJ9="D",IF(AM9<9,"SI","NO"),IF(AJ9="C",IF(AM9<17,"SI","NO"),IF(AJ9="A",IF(AM9<31,"SI","NO"))))) -> SI | AO9: =IF(AJ9="P",IF(AM9<3,"SI","NO"),IF(AJ9="D",IF(AM9<5,"SI","NO"),IF(AJ9="C",IF(AM9<9,"SI","NO"),IF(AJ9="A",IF(AM9<16,"SI","NO"))))) -> SI | AQ9: D | AR9: D'AMBROSIO | AT9: 9 | AU9: =IF(AQ9="P",IF(AT9<5,"SI","NO"),IF(AQ9="D",IF(AT9<9,"SI","NO"),IF(AQ9="C",IF(AT9<17,"SI","NO"),IF(AQ9="A",IF(AT9<31,"SI","NO"))))) -> NO | AV9: =IF(AQ9="P",IF(AT9<3,"SI","NO"),IF(AQ9="D",IF(AT9<5,"SI","NO"),IF(AQ9="C",IF(AT9<9,"SI","NO"),IF(AQ9="A",IF(AT9<16,"SI","NO"))))) -> NO | AX9: D | AY9: MANOLAS | BA9: 14 | BB9: =IF(AX9="P",IF(BA9<5,"SI","NO"),IF(AX9="D",IF(BA9<9,"SI","NO"),IF(AX9="C",IF(BA9<17,"SI","NO"),IF(AX9="A",IF(BA9<31,"SI","NO"))))) -> NO | BC9: =IF(AX9="P",IF(BA9<3,"SI","NO"),IF(AX9="D",IF(BA9<5,"SI","NO"),IF(AX9="C",IF(BA9<9,"SI","NO"),IF(AX9="A",IF(BA9<16,"SI","NO"))))) -> NO | BE9: D | BF9: ALEX SANDRO | BH9: 22 | BI9: =IF(BE9="P",IF(BH9<5,"SI","NO"),IF(BE9="D",IF(BH9<9,"SI","NO"),IF(BE9="C",IF(BH9<17,"SI","NO"),IF(BE9="A",IF(BH9<31,"SI","NO"))))) -> NO | BJ9: =IF(BE9="P",IF(BH9<3,"SI","NO"),IF(BE9="D",IF(BH9<5,"SI","NO"),IF(BE9="C",IF(BH9<9,"SI","NO"),IF(BE9="A",IF(BH9<16,"SI","NO"))))) -> NO | BL9: D | BM9: MANCINI | BO9: 15 | BP9: =IF(BL9="P",IF(BO9<5,"SI","NO"),IF(BL9="D",IF(BO9<9,"SI","NO"),IF(BL9="C",IF(BO9<17,"SI","NO"),IF(BL9="A",IF(BO9<31,"SI","NO"))))) -> NO | BQ9: =IF(BL9="P",IF(BO9<3,"SI","NO"),IF(BL9="D",IF(BO9<5,"SI","NO"),IF(BL9="C",IF(BO9<9,"SI","NO"),IF(BL9="A",IF(BO9<16,"SI","NO"))))) -> NO
A10: D | B10: GLIK | D10: 2 | E10: =IF(A10="P",IF(D10<5,"SI","NO"),IF(A10="D",IF(D10<9,"SI","NO"),IF(A10="C",IF(D10<17,"SI","NO"),IF(A10="A",IF(D10<31,"SI","NO"))))) -> SI | F10: =IF(A10="P",IF(D10<3,"SI","NO"),IF(A10="D",IF(D10<5,"SI","NO"),IF(A10="C",IF(D10<9,"SI","NO"),IF(A10="A",IF(D10<16,"SI","NO"))))) -> SI | H10: D | I10: DANILO LAR. | K10: 2 | L10: =IF(H10="P",IF(K10<5,"SI","NO"),IF(H10="D",IF(K10<9,"SI","NO"),IF(H10="C",IF(K10<17,"SI","NO"),IF(H10="A",IF(K10<31,"SI","NO"))))) -> SI | M10: =IF(H10="P",IF(K10<3,"SI","NO"),IF(H10="D",IF(K10<5,"SI","NO"),IF(H10="C",IF(K10<9,"SI","NO"),IF(H10="A",IF(K10<16,"SI","NO"))))) -> SI | O10: D | P10: PALOMINO | R10: 15 | S10: =IF(O10="P",IF(R10<5,"SI","NO"),IF(O10="D",IF(R10<9,"SI","NO"),IF(O10="C",IF(R10<17,"SI","NO"),IF(O10="A",IF(R10<31,"SI","NO"))))) -> NO | T10: =IF(O10="P",IF(R10<3,"SI","NO"),IF(O10="D",IF(R10<5,"SI","NO"),IF(O10="C",IF(R10<9,"SI","NO"),IF(O10="A",IF(R10<16,"SI","NO"))))) -> NO | V10: D | W10: PEZZELLA GER. | Y10: 11 | Z10: =IF(V10="P",IF(Y10<5,"SI","NO"),IF(V10="D",IF(Y10<9,"SI","NO"),IF(V10="C",IF(Y10<17,"SI","NO"),IF(V10="A",IF(Y10<31,"SI","NO"))))) -> NO | AA10: =IF(V10="P",IF(Y10<3,"SI","NO"),IF(V10="D",IF(Y10<5,"SI","NO"),IF(V10="C",IF(Y10<9,"SI","NO"),IF(V10="A",IF(Y10<16,"SI","NO"))))) -> NO | AC10: D | AD10: GODIN | AF10: 16 | AG10: =IF(AC10="P",IF(AF10<5,"SI","NO"),IF(AC10="D",IF(AF10<9,"SI","NO"),IF(AC10="C",IF(AF10<17,"SI","NO"),IF(AC10="A",IF(AF10<31,"SI","NO"))))) -> NO | AH10: =IF(AC10="P",IF(AF10<3,"SI","NO"),IF(AC10="D",IF(AF10<5,"SI","NO"),IF(AC10="C",IF(AF10<9,"SI","NO"),IF(AC10="A",IF(AF10<16,"SI","NO"))))) -> NO | AJ10: D | AK10: ZAPPACOSTA | AM10: 9 | AN10: =IF(AJ10="P",IF(AM10<5,"SI","NO"),IF(AJ10="D",IF(AM10<9,"SI","NO"),IF(AJ10="C",IF(AM10<17,"SI","NO"),IF(AJ10="A",IF(AM10<31,"SI","NO"))))) -> NO | AO10: =IF(AJ10="P",IF(AM10<3,"SI","NO"),IF(AJ10="D",IF(AM10<5,"SI","NO"),IF(AJ10="C",IF(AM10<9,"SI","NO"),IF(AJ10="A",IF(AM10<16,"SI","NO"))))) -> NO | AQ10: D | AR10: AUGELLO | AT10: 1 | AU10: =IF(AQ10="P",IF(AT10<5,"SI","NO"),IF(AQ10="D",IF(AT10<9,"SI","NO"),IF(AQ10="C",IF(AT10<17,"SI","NO"),IF(AQ10="A",IF(AT10<31,"SI","NO"))))) -> SI | AV10: =IF(AQ10="P",IF(AT10<3,"SI","NO"),IF(AQ10="D",IF(AT10<5,"SI","NO"),IF(AQ10="C",IF(AT10<9,"SI","NO"),IF(AQ10="A",IF(AT10<16,"SI","NO"))))) -> SI | AX10: D | AY10: SKRINIAR | BA10: 12 | BB10: =IF(AX10="P",IF(BA10<5,"SI","NO"),IF(AX10="D",IF(BA10<9,"SI","NO"),IF(AX10="C",IF(BA10<17,"SI","NO"),IF(AX10="A",IF(BA10<31,"SI","NO"))))) -> NO | BC10: =IF(AX10="P",IF(BA10<3,"SI","NO"),IF(AX10="D",IF(BA10<5,"SI","NO"),IF(AX10="C",IF(BA10<9,"SI","NO"),IF(AX10="A",IF(BA10<16,"SI","NO"))))) -> NO | BE10: D | BF10: DALOT | BH10: 3 | BI10: =IF(BE10="P",IF(BH10<5,"SI","NO"),IF(BE10="D",IF(BH10<9,"SI","NO"),IF(BE10="C",IF(BH10<17,"SI","NO"),IF(BE10="A",IF(BH10<31,"SI","NO"))))) -> SI | BJ10: =IF(BE10="P",IF(BH10<3,"SI","NO"),IF(BE10="D",IF(BH10<5,"SI","NO"),IF(BE10="C",IF(BH10<9,"SI","NO"),IF(BE10="A",IF(BH10<16,"SI","NO"))))) -> SI | BL10: D | BM10: IBANEZ | BO10: 1 | BP10: =IF(BL10="P",IF(BO10<5,"SI","NO"),IF(BL10="D",IF(BO10<9,"SI","NO"),IF(BL10="C",IF(BO10<17,"SI","NO"),IF(BL10="A",IF(BO10<31,"SI","NO"))))) -> SI | BQ10: =IF(BL10="P",IF(BO10<3,"SI","NO"),IF(BL10="D",IF(BO10<5,"SI","NO"),IF(BL10="C",IF(BO10<9,"SI","NO"),IF(BL10="A",IF(BO10<16,"SI","NO"))))) -> SI
A11: D | B11: BRUNO ALVES | D11: 3 | E11: =IF(A11="P",IF(D11<5,"SI","NO"),IF(A11="D",IF(D11<9,"SI","NO"),IF(A11="C",IF(D11<17,"SI","NO"),IF(A11="A",IF(D11<31,"SI","NO"))))) -> SI | F11: =IF(A11="P",IF(D11<3,"SI","NO"),IF(A11="D",IF(D11<5,"SI","NO"),IF(A11="C",IF(D11<9,"SI","NO"),IF(A11="A",IF(D11<16,"SI","NO"))))) -> SI | H11: D | I11: LYKOGIANNIS | K11: 2 | L11: =IF(H11="P",IF(K11<5,"SI","NO"),IF(H11="D",IF(K11<9,"SI","NO"),IF(H11="C",IF(K11<17,"SI","NO"),IF(H11="A",IF(K11<31,"SI","NO"))))) -> SI | M11: =IF(H11="P",IF(K11<3,"SI","NO"),IF(H11="D",IF(K11<5,"SI","NO"),IF(H11="C",IF(K11<9,"SI","NO"),IF(H11="A",IF(K11<16,"SI","NO"))))) -> SI | O11: D | P11: ALEX SANDRO | R11: 13 | S11: =IF(O11="P",IF(R11<5,"SI","NO"),IF(O11="D",IF(R11<9,"SI","NO"),IF(O11="C",IF(R11<17,"SI","NO"),IF(O11="A",IF(R11<31,"SI","NO"))))) -> NO | T11: =IF(O11="P",IF(R11<3,"SI","NO"),IF(O11="D",IF(R11<5,"SI","NO"),IF(O11="C",IF(R11<9,"SI","NO"),IF(O11="A",IF(R11<16,"SI","NO"))))) -> NO | V11: D | W11: GODIN | Y11: 1 | Z11: =IF(V11="P",IF(Y11<5,"SI","NO"),IF(V11="D",IF(Y11<9,"SI","NO"),IF(V11="C",IF(Y11<17,"SI","NO"),IF(V11="A",IF(Y11<31,"SI","NO"))))) -> SI | AA11: =IF(V11="P",IF(Y11<3,"SI","NO"),IF(V11="D",IF(Y11<5,"SI","NO"),IF(V11="C",IF(Y11<9,"SI","NO"),IF(V11="A",IF(Y11<16,"SI","NO"))))) -> SI | AC11: D | AD11: ROMERO | AF11: 5 | AG11: =IF(AC11="P",IF(AF11<5,"SI","NO"),IF(AC11="D",IF(AF11<9,"SI","NO"),IF(AC11="C",IF(AF11<17,"SI","NO"),IF(AC11="A",IF(AF11<31,"SI","NO"))))) -> SI | AH11: =IF(AC11="P",IF(AF11<3,"SI","NO"),IF(AC11="D",IF(AF11<5,"SI","NO"),IF(AC11="C",IF(AF11<9,"SI","NO"),IF(AC11="A",IF(AF11<16,"SI","NO"))))) -> NO | AJ11: D | AK11: KUMBULLA | AM11: 1 | AN11: =IF(AJ11="P",IF(AM11<5,"SI","NO"),IF(AJ11="D",IF(AM11<9,"SI","NO"),IF(AJ11="C",IF(AM11<17,"SI","NO"),IF(AJ11="A",IF(AM11<31,"SI","NO"))))) -> SI | AO11: =IF(AJ11="P",IF(AM11<3,"SI","NO"),IF(AJ11="D",IF(AM11<5,"SI","NO"),IF(AJ11="C",IF(AM11<9,"SI","NO"),IF(AJ11="A",IF(AM11<16,"SI","NO"))))) -> SI | AQ11: D | AR11: STRYGER LARSEN | AT11: 3 | AU11: =IF(AQ11="P",IF(AT11<5,"SI","NO"),IF(AQ11="D",IF(AT11<9,"SI","NO"),IF(AQ11="C",IF(AT11<17,"SI","NO"),IF(AQ11="A",IF(AT11<31,"SI","NO"))))) -> SI | AV11: =IF(AQ11="P",IF(AT11<3,"SI","NO"),IF(AQ11="D",IF(AT11<5,"SI","NO"),IF(AQ11="C",IF(AT11<9,"SI","NO"),IF(AQ11="A",IF(AT11<16,"SI","NO"))))) -> SI | AX11: D | AY11: GUNTER | BA11: 8 | BB11: =IF(AX11="P",IF(BA11<5,"SI","NO"),IF(AX11="D",IF(BA11<9,"SI","NO"),IF(AX11="C",IF(BA11<17,"SI","NO"),IF(AX11="A",IF(BA11<31,"SI","NO"))))) -> SI | BC11: =IF(AX11="P",IF(BA11<3,"SI","NO"),IF(AX11="D",IF(BA11<5,"SI","NO"),IF(AX11="C",IF(BA11<9,"SI","NO"),IF(AX11="A",IF(BA11<16,"SI","NO"))))) -> NO | BE11: D | BF11: MAKSIMOVIC | BH11: 1 | BI11: =IF(BE11="P",IF(BH11<5,"SI","NO"),IF(BE11="D",IF(BH11<9,"SI","NO"),IF(BE11="C",IF(BH11<17,"SI","NO"),IF(BE11="A",IF(BH11<31,"SI","NO"))))) -> SI | BJ11: =IF(BE11="P",IF(BH11<3,"SI","NO"),IF(BE11="D",IF(BH11<5,"SI","NO"),IF(BE11="C",IF(BH11<9,"SI","NO"),IF(BE11="A",IF(BH11<16,"SI","NO"))))) -> SI | BL11: D | BM11: CALABRIA | BO11: 4 | BP11: =IF(BL11="P",IF(BO11<5,"SI","NO"),IF(BL11="D",IF(BO11<9,"SI","NO"),IF(BL11="C",IF(BO11<17,"SI","NO"),IF(BL11="A",IF(BO11<31,"SI","NO"))))) -> SI | BQ11: =IF(BL11="P",IF(BO11<3,"SI","NO"),IF(BL11="D",IF(BO11<5,"SI","NO"),IF(BL11="C",IF(BO11<9,"SI","NO"),IF(BL11="A",IF(BO11<16,"SI","NO"))))) -> SI
A12: D | B12: MUSACCHIO | D12: 1 | E12: =IF(A12="P",IF(D12<5,"SI","NO"),IF(A12="D",IF(D12<9,"SI","NO"),IF(A12="C",IF(D12<17,"SI","NO"),IF(A12="A",IF(D12<31,"SI","NO"))))) -> SI | F12: =IF(A12="P",IF(D12<3,"SI","NO"),IF(A12="D",IF(D12<5,"SI","NO"),IF(A12="C",IF(D12<9,"SI","NO"),IF(A12="A",IF(D12<16,"SI","NO"))))) -> SI | H12: D | I12: MARTINEZ QUARTA | K12: 7 | L12: =IF(H12="P",IF(K12<5,"SI","NO"),IF(H12="D",IF(K12<9,"SI","NO"),IF(H12="C",IF(K12<17,"SI","NO"),IF(H12="A",IF(K12<31,"SI","NO"))))) -> SI | M12: =IF(H12="P",IF(K12<3,"SI","NO"),IF(H12="D",IF(K12<5,"SI","NO"),IF(H12="C",IF(K12<9,"SI","NO"),IF(H12="A",IF(K12<16,"SI","NO"))))) -> NO | O12: D | P12: DANILO | R12: 6 | S12: =IF(O12="P",IF(R12<5,"SI","NO"),IF(O12="D",IF(R12<9,"SI","NO"),IF(O12="C",IF(R12<17,"SI","NO"),IF(O12="A",IF(R12<31,"SI","NO"))))) -> SI | T12: =IF(O12="P",IF(R12<3,"SI","NO"),IF(O12="D",IF(R12<5,"SI","NO"),IF(O12="C",IF(R12<9,"SI","NO"),IF(O12="A",IF(R12<16,"SI","NO"))))) -> NO | V12: D | W12: WALUKIEWICZ | Y12: 7 | Z12: =IF(V12="P",IF(Y12<5,"SI","NO"),IF(V12="D",IF(Y12<9,"SI","NO"),IF(V12="C",IF(Y12<17,"SI","NO"),IF(V12="A",IF(Y12<31,"SI","NO"))))) -> SI | AA12: =IF(V12="P",IF(Y12<3,"SI","NO"),IF(V12="D",IF(Y12<5,"SI","NO"),IF(V12="C",IF(Y12<9,"SI","NO"),IF(V12="A",IF(Y12<16,"SI","NO"))))) -> NO | AC12: D | AD12: KJAER | AF12: 11 | AG12: =IF(AC12="P",IF(AF12<5,"SI","NO"),IF(AC12="D",IF(AF12<9,"SI","NO"),IF(AC12="C",IF(AF12<17,"SI","NO"),IF(AC12="A",IF(AF12<31,"SI","NO"))))) -> NO | AH12: =IF(AC12="P",IF(AF12<3,"SI","NO"),IF(AC12="D",IF(AF12<5,"SI","NO"),IF(AC12="C",IF(AF12<9,"SI","NO"),IF(AC12="A",IF(AF12<16,"SI","NO"))))) -> NO | AJ12: D | AK12: MULCUIT | AM12: 1 | AN12: =IF(AJ12="P",IF(AM12<5,"SI","NO"),IF(AJ12="D",IF(AM12<9,"SI","NO"),IF(AJ12="C",IF(AM12<17,"SI","NO"),IF(AJ12="A",IF(AM12<31,"SI","NO"))))) -> SI | AO12: =IF(AJ12="P",IF(AM12<3,"SI","NO"),IF(AJ12="D",IF(AM12<5,"SI","NO"),IF(AJ12="C",IF(AM12<9,"SI","NO"),IF(AJ12="A",IF(AM12<16,"SI","NO"))))) -> SI | AQ12: D | AR12: ROMERO | AT12: 1 | AU12: =IF(AQ12="P",IF(AT12<5,"SI","NO"),IF(AQ12="D",IF(AT12<9,"SI","NO"),IF(AQ12="C",IF(AT12<17,"SI","NO"),IF(AQ12="A",IF(AT12<31,"SI","NO"))))) -> SI | AV12: =IF(AQ12="P",IF(AT12<3,"SI","NO"),IF(AQ12="D",IF(AT12<5,"SI","NO"),IF(AQ12="C",IF(AT12<9,"SI","NO"),IF(AQ12="A",IF(AT12<16,"SI","NO"))))) -> SI | AX12: D | AY12: ZEEGELAAR | BA12: 1 | BB12: =IF(AX12="P",IF(BA12<5,"SI","NO"),IF(AX12="D",IF(BA12<9,"SI","NO"),IF(AX12="C",IF(BA12<17,"SI","NO"),IF(AX12="A",IF(BA12<31,"SI","NO"))))) -> SI | BC12: =IF(AX12="P",IF(BA12<3,"SI","NO"),IF(AX12="D",IF(BA12<5,"SI","NO"),IF(AX12="C",IF(BA12<9,"SI","NO"),IF(AX12="A",IF(BA12<16,"SI","NO"))))) -> SI | BE12: D | BF12: MARIO RUI | BH12: 1 | BI12: =IF(BE12="P",IF(BH12<5,"SI","NO"),IF(BE12="D",IF(BH12<9,"SI","NO"),IF(BE12="C",IF(BH12<17,"SI","NO"),IF(BE12="A",IF(BH12<31,"SI","NO"))))) -> SI | BJ12: =IF(BE12="P",IF(BH12<3,"SI","NO"),IF(BE12="D",IF(BH12<5,"SI","NO"),IF(BE12="C",IF(BH12<9,"SI","NO"),IF(BE12="A",IF(BH12<16,"SI","NO"))))) -> SI | BL12: D | BM12: IZZO | BO12: 2 | BP12: =IF(BL12="P",IF(BO12<5,"SI","NO"),IF(BL12="D",IF(BO12<9,"SI","NO"),IF(BL12="C",IF(BO12<17,"SI","NO"),IF(BL12="A",IF(BO12<31,"SI","NO"))))) -> SI | BQ12: =IF(BL12="P",IF(BO12<3,"SI","NO"),IF(BL12="D",IF(BO12<5,"SI","NO"),IF(BL12="C",IF(BO12<9,"SI","NO"),IF(BL12="A",IF(BO12<16,"SI","NO"))))) -> SI
A13: D | B13: DIMARCO | D13: 20 | E13: =IF(A13="P",IF(D13<5,"SI","NO"),IF(A13="D",IF(D13<9,"SI","NO"),IF(A13="C",IF(D13<17,"SI","NO"),IF(A13="A",IF(D13<31,"SI","NO"))))) -> NO | F13: =IF(A13="P",IF(D13<3,"SI","NO"),IF(A13="D",IF(D13<5,"SI","NO"),IF(A13="C",IF(D13<9,"SI","NO"),IF(A13="A",IF(D13<16,"SI","NO"))))) -> NO | H13: D | I13: CHIRICHES | K13: 1 | L13: =IF(H13="P",IF(K13<5,"SI","NO"),IF(H13="D",IF(K13<9,"SI","NO"),IF(H13="C",IF(K13<17,"SI","NO"),IF(H13="A",IF(K13<31,"SI","NO"))))) -> SI | M13: =IF(H13="P",IF(K13<3,"SI","NO"),IF(H13="D",IF(K13<5,"SI","NO"),IF(H13="C",IF(K13<9,"SI","NO"),IF(H13="A",IF(K13<16,"SI","NO"))))) -> SI | O13: D | P13: IZZO | R13: 3 | S13: =IF(O13="P",IF(R13<5,"SI","NO"),IF(O13="D",IF(R13<9,"SI","NO"),IF(O13="C",IF(R13<17,"SI","NO"),IF(O13="A",IF(R13<31,"SI","NO"))))) -> SI | T13: =IF(O13="P",IF(R13<3,"SI","NO"),IF(O13="D",IF(R13<5,"SI","NO"),IF(O13="C",IF(R13<9,"SI","NO"),IF(O13="A",IF(R13<16,"SI","NO"))))) -> SI | V13: D | W13: LOVATO | Y13: 1 | Z13: =IF(V13="P",IF(Y13<5,"SI","NO"),IF(V13="D",IF(Y13<9,"SI","NO"),IF(V13="C",IF(Y13<17,"SI","NO"),IF(V13="A",IF(Y13<31,"SI","NO"))))) -> SI | AA13: =IF(V13="P",IF(Y13<3,"SI","NO"),IF(V13="D",IF(Y13<5,"SI","NO"),IF(V13="C",IF(Y13<9,"SI","NO"),IF(V13="A",IF(Y13<16,"SI","NO"))))) -> SI | AC13: D | AD13: YOUNG | AF13: 11 | AG13: =IF(AC13="P",IF(AF13<5,"SI","NO"),IF(AC13="D",IF(AF13<9,"SI","NO"),IF(AC13="C",IF(AF13<17,"SI","NO"),IF(AC13="A",IF(AF13<31,"SI","NO"))))) -> NO | AH13: =IF(AC13="P",IF(AF13<3,"SI","NO"),IF(AC13="D",IF(AF13<5,"SI","NO"),IF(AC13="C",IF(AF13<9,"SI","NO"),IF(AC13="A",IF(AF13<16,"SI","NO"))))) -> NO | AJ13: D | AK13: KARSDORP | AM13: 1 | AN13: =IF(AJ13="P",IF(AM13<5,"SI","NO"),IF(AJ13="D",IF(AM13<9,"SI","NO"),IF(AJ13="C",IF(AM13<17,"SI","NO"),IF(AJ13="A",IF(AM13<31,"SI","NO"))))) -> SI | AO13: =IF(AJ13="P",IF(AM13<3,"SI","NO"),IF(AJ13="D",IF(AM13<5,"SI","NO"),IF(AJ13="C",IF(AM13<9,"SI","NO"),IF(AJ13="A",IF(AM13<16,"SI","NO"))))) -> SI | AQ13: D | AR13: BERESZYNSKI | AT13: 1 | AU13: =IF(AQ13="P",IF(AT13<5,"SI","NO"),IF(AQ13="D",IF(AT13<9,"SI","NO"),IF(AQ13="C",IF(AT13<17,"SI","NO"),IF(AQ13="A",IF(AT13<31,"SI","NO"))))) -> SI | AV13: =IF(AQ13="P",IF(AT13<3,"SI","NO"),IF(AQ13="D",IF(AT13<5,"SI","NO"),IF(AQ13="C",IF(AT13<9,"SI","NO"),IF(AQ13="A",IF(AT13<16,"SI","NO"))))) -> SI | AX13: D | AY13: AUGELLO | BA13: 3 | BB13: =IF(AX13="P",IF(BA13<5,"SI","NO"),IF(AX13="D",IF(BA13<9,"SI","NO"),IF(AX13="C",IF(BA13<17,"SI","NO"),IF(AX13="A",IF(BA13<31,"SI","NO"))))) -> SI | BC13: =IF(AX13="P",IF(BA13<3,"SI","NO"),IF(AX13="D",IF(BA13<5,"SI","NO"),IF(AX13="C",IF(BA13<9,"SI","NO"),IF(AX13="A",IF(BA13<16,"SI","NO"))))) -> SI | BE13: D | BF13: HYSAJ | BH13: 1 | BI13: =IF(BE13="P",IF(BH13<5,"SI","NO"),IF(BE13="D",IF(BH13<9,"SI","NO"),IF(BE13="C",IF(BH13<17,"SI","NO"),IF(BE13="A",IF(BH13<31,"SI","NO"))))) -> SI | BJ13: =IF(BE13="P",IF(BH13<3,"SI","NO"),IF(BE13="D",IF(BH13<5,"SI","NO"),IF(BE13="C",IF(BH13<9,"SI","NO"),IF(BE13="A",IF(BH13<16,"SI","NO"))))) -> SI | BL13: D | BM13: SINGO | BO13: 8 | BP13: =IF(BL13="P",IF(BO13<5,"SI","NO"),IF(BL13="D",IF(BO13<9,"SI","NO"),IF(BL13="C",IF(BO13<17,"SI","NO"),IF(BL13="A",IF(BO13<31,"SI","NO"))))) -> SI | BQ13: =IF(BL13="P",IF(BO13<3,"SI","NO"),IF(BL13="D",IF(BO13<5,"SI","NO"),IF(BL13="C",IF(BO13<9,"SI","NO"),IF(BL13="A",IF(BO13<16,"SI","NO"))))) -> NO
A14: C | B14: JANKTO | D14: 1 | H14: C | I14: PASALIC | K14: 3 | O14: C | P14: MANDRAGORA | R14: 7 | S14: =IF(O14="P",IF(R14<5,"SI","NO"),IF(O14="D",IF(R14<9,"SI","NO"),IF(O14="C",IF(R14<17,"SI","NO"),IF(O14="A",IF(R14<31,"SI","NO"))))) -> SI | T14: =IF(O14="P",IF(R14<3,"SI","NO"),IF(O14="D",IF(R14<5,"SI","NO"),IF(O14="C",IF(R14<9,"SI","NO"),IF(O14="A",IF(R14<16,"SI","NO"))))) -> SI | V14: C | W14: PESSINA | Y14: 1 | AC14: C | AD14: BENTANCUR | AF14: 14 | AJ14: C | AK14: ERIKSEN | AM14: 16 | AQ14: C | AR14: LAZOVIC | AT14: 1 | AX14: C | AY14: AMRABAT | BA14: 7 | BE14: C | BF14: MIRANCHUK | BH14: 25 | BI14: =IF(BE14="P",IF(BH14<5,"SI","NO"),IF(BE14="D",IF(BH14<9,"SI","NO"),IF(BE14="C",IF(BH14<17,"SI","NO"),IF(BE14="A",IF(BH14<31,"SI","NO"))))) -> NO | BJ14: =IF(BE14="P",IF(BH14<3,"SI","NO"),IF(BE14="D",IF(BH14<5,"SI","NO"),IF(BE14="C",IF(BH14<9,"SI","NO"),IF(BE14="A",IF(BH14<16,"SI","NO"))))) -> NO | BL14: C | BM14: SOTTIL | BO14: 1 | BP14: =IF(BL14="P",IF(BO14<5,"SI","NO"),IF(BL14="D",IF(BO14<9,"SI","NO"),IF(BL14="C",IF(BO14<17,"SI","NO"),IF(BL14="A",IF(BO14<31,"SI","NO"))))) -> SI | BQ14: =IF(BL14="P",IF(BO14<3,"SI","NO"),IF(BL14="D",IF(BO14<5,"SI","NO"),IF(BL14="C",IF(BO14<9,"SI","NO"),IF(BL14="A",IF(BO14<16,"SI","NO"))))) -> SI
