Workbook

Sheet Riassunto
A1: SERIE A | O1: 1 giro giu
A2: ='Serie A'!A1:E1 -> VIRGY TEAM | G2: Crediti Rimasti | H2: ='Serie A'!E31 -> 507 | I2: Rimanente | J2: 4 | O2: 2 giro giu
I3: P-D-C-A | O3: 3 giro giu
O4: 1 giro set
A5: CSKA SCINA | G5: Crediti Rimasti | H5: ='Serie A'!L31 -> 530 | I5: Rimanente | J5: 4 | O5: 2 giro set
I6: P-D-C-A
A8: FLYBEARD | G8: Crediti Rimasti | H8: ='Serie A'!S31 -> 530 | I8: Rimanente | J8: 4
I9: P-D-C-A
A11: SC APPLAUSO | G11: Crediti Rimasti | H11: ='Serie A'!Z31 -> 527 | I11: Rimanente | J11: 4
I12: P-D-C-A
A14: INTERFOGAT | G14: Crediti Rimasti | H14: ='Serie A'!AG31 -> 503 | I14: Rimanente | J14: 4
I15: P-D-C-A
A17: MA BRAVISSIMI | G17: Crediti Rimasti | H17: ='Serie A'!AN31 -> 517 | I17: Rimanente | J17: 4
I18: P-D-C-A
A20: MC TOWN | G20: Crediti Rimasti | H20: ='Serie A'!AU31 -> 502 | I20: Rimanente | J20: 4
I21: P-D-C-A
A23: EVRIBADI | G23: Crediti Rimasti | H23: ='Serie A'!BB31 -> 513 | I23: Rimanente | J23: 4
I24: P-D-C-A
A26: UGF PISA | G26: Crediti Rimasti | H26: ='Serie A'!BI31 -> 536 | I26: Rimanente | J26: 4
I27: P-D-C-A
A29: LUCENSE | G29: Crediti Rimasti | H29: ='Serie A'!BP31 -> 539 | I29: Rimanente | J29: 4
I30: P-D-C-A
A33: SERIE B
A34: BISCOTTI STRIMBUSCHISTANI | G34: Crediti Rimasti | H34: ='Serie B'!E31 -> 511 | I34: Rimanente | J34: 4
I35: P-D-C-A
A37: MARCELLONA | G37: Crediti Rimasti | H37: ='Serie B'!L31 -> 517 | I37: Rimanente | J37: 4
I38: P-D-C-A
A40: CYRANO IR | G40: Crediti Rimasti | H40: ='Serie B'!S31 -> 508 | I40: Rimanente | J40: 4
I41: P-D-C-A
A43: BRIGATA GURREN | G43: Crediti Rimasti | H43: ='Serie B'!Z31 -> 507 | I43: Rimanente | J43: 4
I44: P-D-C-A
A46: TEAM AS TURBO | G46: Crediti Rimasti | H46: ='Serie B'!AG31 -> 512 | I46: Rimanente | J46: 4
I47: P-D-C-A
A49: NEDVED 11 | G49: Crediti Rimasti | H49: ='Serie B'!AN31 -> 515 | I49: Rimanente | J49: 4
I50: P-D-C-A
A52: IBRADIPOSI | G52: Crediti Rimasti | H52: ='Serie B'!AU31 -> 512 | I52: Rimanente | J52: 4
I53: P-D-C-A
A55: REAL PETARE | G55: Crediti Rimasti | H55: ='Serie B'!BB31 -> 510 | I55: Rimanente | J55: 4
I56: P-D-C-A
A58: BAYER 04 PAPPIANA | G58: Crediti Rimasti | H58: ='Serie B'!BI31 -> 510 | I58: Rimanente | J58: 4
...

Sheet Serie A
A1: VIRGY TEAM | F1: 70.73 | H1: CSKA SCINA | M1: 71.47 | O1: FLYBEARD | T1: 72.44 | V1: SC APPLAUSO | AA1: 73.5 | AC1: INTERFOGA | AH1: 73.73 | AJ1: MA BRAVISSIMI | AO1: 73.99 | AQ1: MC TOWN | AV1: 74.04 | AX1: EVRIBADI | BC1: 74.09 | BE1: UGF PISA | BJ1: 74.59 | BL1: LUCENSE | BQ1: 75.69
A2: Ruolo | B2: Calciatore | C2: Squadra | D2: Costo | E2: Giugno | F2: Settembre | H2: Ruolo | I2: Calciatore | J2: Squadra | K2: Costo | L2: Giugno | M2: Settembre | O2: Ruolo | P2: Calciatore | Q2: Squadra | R2: Costo | S2: Giugno | T2: Settembre | V2: Ruolo | W2: Calciatore | X2: Squadra | Y2: Costo | Z2: Giugno | AA2: Settembre | AC2: Ruolo | AD2: Calciatore | AE2: Squadra | AF2: Costo | AG2: Giugno | AH2: Settembre | AJ2: Ruolo | AK2: Calciatore | AL2: Squadra | AM2: Costo | AN2: Giugno | AO2: Settembre | AQ2: Ruolo | AR2: Calciatore | AS2: Squadra | AT2: Costo | AU2: Giugno | AV2: Settembre | AX2: Ruolo | AY2: Calciatore | AZ2: Squadra | BA2: Costo | BB2: Giugno | BC2: Settembre | BE2: Ruolo | BF2: Calciatore | BG2: Squadra | BH2: Costo | BI2: Giugno | BJ2: Settembre | BL2: Ruolo | BM2: Calciatore | BN2: Squadra | BO2: Costo | BP2: Giugno | BQ2: Settembre
A3: P | B3: PERIN | D3: 2 | H3: P | I3: COLOMBI | K3: 1 | L3: =IF(H3="P",IF(K3<5,"SI","NO"),IF(H3="D",IF(K3<9,"SI","NO"),IF(H3="C",IF(K3<17,"SI","NO"),IF(H3="A",IF(K3<31,"SI","NO"))))) -> SI | M3: =IF(H3="P",IF(K3<3,"SI","NO"),IF(H3="D",IF(K3<5,"SI","NO"),IF(H3="C",IF(K3<9,"SI","NO"),IF(H3="A",IF(K3<16,"SI","NO"))))) -> SI | O3: P | P3: SIRIGU | R3: 32 | S3: =IF(O3="P",IF(R3<5,"SI","NO"),IF(O3="D",IF(R3<9,"SI","NO"),IF(O3="C",IF(R3<17,"SI","NO"),IF(O3="A",IF(R3<31,"SI","NO"))))) -> NO | T3: =IF(O3="P",IF(R3<3,"SI","NO"),IF(O3="D",IF(R3<5,"SI","NO"),IF(O3="C",IF(R3<9,"SI","NO"),IF(O3="A",IF(R3<16,"SI","NO"))))) -> NO | V3: P | W3: SEPE | Y3: 4 | Z3: =IF(V3="P",IF(Y3<5,"SI","NO"),IF(V3="D",IF(Y3<9,"SI","NO"),IF(V3="C",IF(Y3<17,"SI","NO"),IF(V3="A",IF(Y3<31,"SI","NO"))))) -> SI | AA3: =IF(V3="P",IF(Y3<3,"SI","NO"),IF(V3="D",IF(Y3<5,"SI","NO"),IF(V3="C",IF(Y3<9,"SI","NO"),IF(V3="A",IF(Y3<16,"SI","NO"))))) -> NO | AC3: P | AD3: CRAGNO | AF3: 5 | AG3: =IF(AC3="P",IF(AF3<5,"SI","NO"),IF(AC3="D",IF(AF3<9,"SI","NO"),IF(AC3="C",IF(AF3<17,"SI","NO"),IF(AC3="A",IF(AF3<31,"SI","NO"))))) -> NO | AH3: =IF(AC3="P",IF(AF3<3,"SI","NO"),IF(AC3="D",IF(AF3<5,"SI","NO"),IF(AC3="C",IF(AF3<9,"SI","NO"),IF(AC3="A",IF(AF3<16,"SI","NO"))))) -> NO | AJ3: P | AK3: OSPINA | AM3: 1 | AQ3: P | AR3: SZCZESNY | AT3: 50 | AU3: =IF(AQ3="P",IF(AT3<5,"SI","NO"),IF(AQ3="D",IF(AT3<9,"SI","NO"),IF(AQ3="C",IF(AT3<17,"SI","NO"),IF(AQ3="A",IF(AT3<31,"SI","NO"))))) -> NO | AV3: =IF(AQ3="P",IF(AT3<3,"SI","NO"),IF(AQ3="D",IF(AT3<5,"SI","NO"),IF(AQ3="C",IF(AT3<9,"SI","NO"),IF(AQ3="A",IF(AT3<16,"SI","NO"))))) -> NO | AX3: P | AY3: HANDANOVIC | BA3: 59 | BB3: =IF(AX3="P",IF(BA3<5,"SI","NO"),IF(AX3="D",IF(BA3<9,"SI","NO"),IF(AX3="C",IF(BA3<17,"SI","NO"),IF(AX3="A",IF(BA3<31,"SI","NO"))))) -> NO | BC3: =IF(AX3="P",IF(BA3<3,"SI","NO"),IF(AX3="D",IF(BA3<5,"SI","NO"),IF(AX3="C",IF(BA3<9,"SI","NO"),IF(AX3="A",IF(BA3<16,"SI","NO"))))) -> NO | BE3: P | BF3: DRAGOWSKI | BH3: 10 | BI3: =IF(BE3="P",IF(BH3<5,"SI","NO"),IF(BE3="D",IF(BH3<9,"SI","NO"),IF(BE3="C",IF(BH3<17,"SI","NO"),IF(BE3="A",IF(BH3<31,"SI","NO"))))) -> NO | BJ3: =IF(BE3="P",IF(BH3<3,"SI","NO"),IF(BE3="D",IF(BH3<5,"SI","NO"),IF(BE3="C",IF(BH3<9,"SI","NO"),IF(BE3="A",IF(BH3<16,"SI","NO"))))) -> NO | BL3: P | BM3: HANDANOVIC | BO3: 50 | BP3: =IF(BL3="P",IF(BO3<5,"SI","NO"),IF(BL3="D",IF(BO3<9,"SI","NO"),IF(BL3="C",IF(BO3<17,"SI","NO"),IF(BL3="A",IF(BO3<31,"SI","NO"))))) -> NO | BQ3: =IF(BL3="P",IF(BO3<3,"SI","NO"),IF(BL3="D",IF(BO3<5,"SI","NO"),IF(BL3="C",IF(BO3<9,"SI","NO"),IF(BL3="A",IF(BO3<16,"SI","NO"))))) -> NO
A4: P | B4: MONTIPO' | D4: 1 | E4: =IF(A4="P",IF(D4<5,"SI","NO"),IF(A4="D",IF(D4<9,"SI","NO"),IF(A4="C",IF(D4<17,"SI","NO"),IF(A4="A",IF(D4<31,"SI","NO"))))) -> SI | F4: =IF(A4="P",IF(D4<3,"SI","NO"),IF(A4="D",IF(D4<5,"SI","NO"),IF(A4="C",IF(D4<9,"SI","NO"),IF(A4="A",IF(D4<16,"SI","NO"))))) -> SI | H4: P | I4: SEPE | K4: 2 | L4: =IF(H4="P",IF(K4<5,"SI","NO"),IF(H4="D",IF(K4<9,"SI","NO"),IF(H4="C",IF(K4<17,"SI","NO"),IF(H4="A",IF(K4<31,"SI","NO"))))) -> SI | M4: =IF(H4="P",IF(K4<3,"SI","NO"),IF(H4="D",IF(K4<5,"SI","NO"),IF(H4="C",IF(K4<9,"SI","NO"),IF(H4="A",IF(K4<16,"SI","NO"))))) -> SI | O4: P | P4: DRAGOWSKI | R4: 21 | S4: =IF(O4="P",IF(R4<5,"SI","NO"),IF(O4="D",IF(R4<9,"SI","NO"),IF(O4="C",IF(R4<17,"SI","NO"),IF(O4="A",IF(R4<31,"SI","NO"))))) -> NO | T4: =IF(O4="P",IF(R4<3,"SI","NO"),IF(O4="D",IF(R4<5,"SI","NO"),IF(O4="C",IF(R4<9,"SI","NO"),IF(O4="A",IF(R4<16,"SI","NO"))))) -> NO | V4: P | W4: SKORUPSKI | Y4: 2 | Z4: =IF(V4="P",IF(Y4<5,"SI","NO"),IF(V4="D",IF(Y4<9,"SI","NO"),IF(V4="C",IF(Y4<17,"SI","NO"),IF(V4="A",IF(Y4<31,"SI","NO"))))) -> SI | AA4: =IF(V4="P",IF(Y4<3,"SI","NO"),IF(V4="D",IF(Y4<5,"SI","NO"),IF(V4="C",IF(Y4<9,"SI","NO"),IF(V4="A",IF(Y4<16,"SI","NO"))))) -> SI | AC4: P | AD4: SKORUPSKI | AF4: 1 | AG4: =IF(AC4="P",IF(AF4<5,"SI","NO"),IF(AC4="D",IF(AF4<9,"SI","NO"),IF(AC4="C",IF(AF4<17,"SI","NO"),IF(AC4="A",IF(AF4<31,"SI","NO"))))) -> SI | AH4: =IF(AC4="P",IF(AF4<3,"SI","NO"),IF(AC4="D",IF(AF4<5,"SI","NO"),IF(AC4="C",IF(AF4<9,"SI","NO"),IF(AC4="A",IF(AF4<16,"SI","NO"))))) -> SI | AJ4: P | AK4: MERET | AM4: 17 | AN4: =IF(AJ4="P",IF(AM4<5,"SI","NO"),IF(AJ4="D",IF(AM4<9,"SI","NO"),IF(AJ4="C",IF(AM4<17,"SI","NO"),IF(AJ4="A",IF(AM4<31,"SI","NO"))))) -> NO | AO4: =IF(AJ4="P",IF(AM4<3,"SI","NO"),IF(AJ4="D",IF(AM4<5,"SI","NO"),IF(AJ4="C",IF(AM4<9,"SI","NO"),IF(AJ4="A",IF(AM4<16,"SI","NO"))))) -> NO | AQ4: P | AR4: CONSIGLI | AT4: 1 | AU4: =IF(AQ4="P",IF(AT4<5,"SI","NO"),IF(AQ4="D",IF(AT4<9,"SI","NO"),IF(AQ4="C",IF(AT4<17,"SI","NO"),IF(AQ4="A",IF(AT4<31,"SI","NO"))))) -> SI | AV4: =IF(AQ4="P",IF(AT4<3,"SI","NO"),IF(AQ4="D",IF(AT4<5,"SI","NO"),IF(AQ4="C",IF(AT4<9,"SI","NO"),IF(AQ4="A",IF(AT4<16,"SI","NO"))))) -> SI | AX4: P | AY4: RADU | BA4: 1 | BB4: =IF(AX4="P",IF(BA4<5,"SI","NO"),IF(AX4="D",IF(BA4<9,"SI","NO"),IF(AX4="C",IF(BA4<17,"SI","NO"),IF(AX4="A",IF(BA4<31,"SI","NO"))))) -> SI | BC4: =IF(AX4="P",IF(BA4<3,"SI","NO"),IF(AX4="D",IF(BA4<5,"SI","NO"),IF(AX4="C",IF(BA4<9,"SI","NO"),IF(AX4="A",IF(BA4<16,"SI","NO"))))) -> SI | BE4: P | BF4: TERRACCIANO | BH4: 1 | BI4: =IF(BE4="P",IF(BH4<5,"SI","NO"),IF(BE4="D",IF(BH4<9,"SI","NO"),IF(BE4="C",IF(BH4<17,"SI","NO"),IF(BE4="A",IF(BH4<31,"SI","NO"))))) -> SI | BJ4: =IF(BE4="P",IF(BH4<3,"SI","NO"),IF(BE4="D",IF(BH4<5,"SI","NO"),IF(BE4="C",IF(BH4<9,"SI","NO"),IF(BE4="A",IF(BH4<16,"SI","NO"))))) -> SI | BL4: P | BM4: RADU | BO4: 1 | BP4: =IF(BL4="P",IF(BO4<5,"SI","NO"),IF(BL4="D",IF(BO4<9,"SI","NO"),IF(BL4="C",IF(BO4<17,"SI","NO"),IF(BL4="A",IF(BO4<31,"SI","NO"))))) -> SI | BQ4: =IF(BL4="P",IF(BO4<3,"SI","NO"),IF(BL4="D",IF(BO4<5,"SI","NO"),IF(BL4="C",IF(BO4<9,"SI","NO"),IF(BL4="A",IF(BO4<16,"SI","NO"))))) -> SI
A5: P | B5: CORDAZ | D5: 1 | E5: =IF(A5="P",IF(D5<5,"SI","NO"),IF(A5="D",IF(D5<9,"SI","NO"),IF(A5="C",IF(D5<17,"SI","NO"),IF(A5="A",IF(D5<31,"SI","NO"))))) -> SI | F5: =IF(A5="P",IF(D5<3,"SI","NO"),IF(A5="D",IF(D5<5,"SI","NO"),IF(A5="C",IF(D5<9,"SI","NO"),IF(A5="A",IF(D5<16,"SI","NO"))))) -> SI | H5: P | I5: REINA | K5: 1 | L5: =IF(H5="P",IF(K5<5,"SI","NO"),IF(H5="D",IF(K5<9,"SI","NO"),IF(H5="C",IF(K5<17,"SI","NO"),IF(H5="A",IF(K5<31,"SI","NO"))))) -> SI | M5: =IF(H5="P",IF(K5<3,"SI","NO"),IF(H5="D",IF(K5<5,"SI","NO"),IF(H5="C",IF(K5<9,"SI","NO"),IF(H5="A",IF(K5<16,"SI","NO"))))) -> SI | O5: P | P5: MUSSO | R5: 4 | S5: =IF(O5="P",IF(R5<5,"SI","NO"),IF(O5="D",IF(R5<9,"SI","NO"),IF(O5="C",IF(R5<17,"SI","NO"),IF(O5="A",IF(R5<31,"SI","NO"))))) -> SI | T5: =IF(O5="P",IF(R5<3,"SI","NO"),IF(O5="D",IF(R5<5,"SI","NO"),IF(O5="C",IF(R5<9,"SI","NO"),IF(O5="A",IF(R5<16,"SI","NO"))))) -> NO | V5: P | W5: PROVEDEL | Y5: 1 | Z5: =IF(V5="P",IF(Y5<5,"SI","NO"),IF(V5="D",IF(Y5<9,"SI","NO"),IF(V5="C",IF(Y5<17,"SI","NO"),IF(V5="A",IF(Y5<31,"SI","NO"))))) -> SI | AA5: =IF(V5="P",IF(Y5<3,"SI","NO"),IF(V5="D",IF(Y5<5,"SI","NO"),IF(V5="C",IF(Y5<9,"SI","NO"),IF(V5="A",IF(Y5<16,"SI","NO"))))) -> SI | AC5: P | AD5: AUDERO | AF5: 1 | AG5: =IF(AC5="P",IF(AF5<5,"SI","NO"),IF(AC5="D",IF(AF5<9,"SI","NO"),IF(AC5="C",IF(AF5<17,"SI","NO"),IF(AC5="A",IF(AF5<31,"SI","NO"))))) -> SI | AH5: =IF(AC5="P",IF(AF5<3,"SI","NO"),IF(AC5="D",IF(AF5<5,"SI","NO"),IF(AC5="C",IF(AF5<9,"SI","NO"),IF(AC5="A",IF(AF5<16,"SI","NO"))))) -> SI | AJ5: P | AK5: CONTINI | AM5: 1 | AN5: =IF(AJ5="P",IF(AM5<5,"SI","NO"),IF(AJ5="D",IF(AM5<9,"SI","NO"),IF(AJ5="C",IF(AM5<17,"SI","NO"),IF(AJ5="A",IF(AM5<31,"SI","NO"))))) -> SI | AO5: =IF(AJ5="P",IF(AM5<3,"SI","NO"),IF(AJ5="D",IF(AM5<5,"SI","NO"),IF(AJ5="C",IF(AM5<9,"SI","NO"),IF(AJ5="A",IF(AM5<16,"SI","NO"))))) -> SI | AQ5: P | AR5: BUFFON | AT5: 1 | AU5: =IF(AQ5="P",IF(AT5<5,"SI","NO"),IF(AQ5="D",IF(AT5<9,"SI","NO"),IF(AQ5="C",IF(AT5<17,"SI","NO"),IF(AQ5="A",IF(AT5<31,"SI","NO"))))) -> SI | AV5: =IF(AQ5="P",IF(AT5<3,"SI","NO"),IF(AQ5="D",IF(AT5<5,"SI","NO"),IF(AQ5="C",IF(AT5<9,"SI","NO"),IF(AQ5="A",IF(AT5<16,"SI","NO"))))) -> SI | AX5: P | AY5: PADELLI | BA5: 1 | BB5: =IF(AX5="P",IF(BA5<5,"SI","NO"),IF(AX5="D",IF(BA5<9,"SI","NO"),IF(AX5="C",IF(BA5<17,"SI","NO"),IF(AX5="A",IF(BA5<31,"SI","NO"))))) -> SI | BC5: =IF(AX5="P",IF(BA5<3,"SI","NO"),IF(AX5="D",IF(BA5<5,"SI","NO"),IF(AX5="C",IF(BA5<9,"SI","NO"),IF(AX5="A",IF(BA5<16,"SI","NO"))))) -> SI | BE5: P | BF5: MONTIPO' | BH5: 1 | BI5: =IF(BE5="P",IF(BH5<5,"SI","NO"),IF(BE5="D",IF(BH5<9,"SI","NO"),IF(BE5="C",IF(BH5<17,"SI","NO"),IF(BE5="A",IF(BH5<31,"SI","NO"))))) -> SI | BJ5: =IF(BE5="P",IF(BH5<3,"SI","NO"),IF(BE5="D",IF(BH5<5,"SI","NO"),IF(BE5="C",IF(BH5<9,"SI","NO"),IF(BE5="A",IF(BH5<16,"SI","NO"))))) -> SI | BL5: P | BM5: PADELLI | BO5: 1 | BP5: =IF(BL5="P",IF(BO5<5,"SI","NO"),IF(BL5="D",IF(BO5<9,"SI","NO"),IF(BL5="C",IF(BO5<17,"SI","NO"),IF(BL5="A",IF(BO5<31,"SI","NO"))))) -> SI | BQ5: =IF(BL5="P",IF(BO5<3,"SI","NO"),IF(BL5="D",IF(BO5<5,"SI","NO"),IF(BL5="C",IF(BO5<9,"SI","NO"),IF(BL5="A",IF(BO5<16,"SI","NO"))))) -> SI
A6: D | B6: CALDARA | D6: 1 | H6: D | I6: GAGLIOLO | K6: 1 | O6: D | P6: DE VRIJ | R6: 30 | S6: =IF(O6="P",IF(R6<5,"SI","NO"),IF(O6="D",IF(R6<9,"SI","NO"),IF(O6="C",IF(R6<17,"SI","NO"),IF(O6="A",IF(R6<31,"SI","NO"))))) -> NO | T6: =IF(O6="P",IF(R6<3,"SI","NO"),IF(O6="D",IF(R6<5,"SI","NO"),IF(O6="C",IF(R6<9,"SI","NO"),IF(O6="A",IF(R6<16,"SI","NO"))))) -> NO | V6: D | W6: CONTI | Y6: 1 | Z6: =IF(V6="P",IF(Y6<5,"SI","NO"),IF(V6="D",IF(Y6<9,"SI","NO"),IF(V6="C",IF(Y6<17,"SI","NO"),IF(V6="A",IF(Y6<31,"SI","NO"))))) -> SI | AA6: =IF(V6="P",IF(Y6<3,"SI","NO"),IF(V6="D",IF(Y6<5,"SI","NO"),IF(V6="C",IF(Y6<9,"SI","NO"),IF(V6="A",IF(Y6<16,"SI","NO"))))) -> SI | AC6: D | AD6: SPINAZZOLA | AF6: 2 | AJ6: D | AK6: LYANCO | AM6: 1 | AN6: =IF(AJ6="P",IF(AM6<5,"SI","NO"),IF(AJ6="D",IF(AM6<9,"SI","NO"),IF(AJ6="C",IF(AM6<17,"SI","NO"),IF(AJ6="A",IF(AM6<31,"SI","NO"))))) -> SI | AO6: =IF(AJ6="P",IF(AM6<3,"SI","NO"),IF(AJ6="D",IF(AM6<5,"SI","NO"),IF(AJ6="C",IF(AM6<9,"SI","NO"),IF(AJ6="A",IF(AM6<16,"SI","NO"))))) -> SI | AQ6: D | AR6: TOLOI | AT6: 8 | AX6: D | AY6: D'AMBROSIO | BA6: 4 | BE6: D | BF6: HERNANDEZ T. | BH6: 1 | BL6: D | BM6: FARAONI | BO6: 7
A7: D | B7: HERNANDEZ T. | D7: 50 | E7: =IF(A7="P",IF(D7<5,"SI","NO"),IF(A7="D",IF(D7<9,"SI","NO"),IF(A7="C",IF(D7<17,"SI","NO"),IF(A7="A",IF(D7<31,"SI","NO"))))) -> NO | F7: =IF(A7="P",IF(D7<3,"SI","NO"),IF(A7="D",IF(D7<5,"SI","NO"),IF(A7="C",IF(D7<9,"SI","NO"),IF(A7="A",IF(D7<16,"SI","NO"))))) -> NO | H7: D | I7: RECA | K7: 2 | L7: =IF(H7="P",IF(K7<5,"SI","NO"),IF(H7="D",IF(K7<9,"SI","NO"),IF(H7="C",IF(K7<17,"SI","NO"),IF(H7="A",IF(K7<31,"SI","NO"))))) -> SI | M7: =IF(H7="P",IF(K7<3,"SI","NO"),IF(H7="D",IF(K7<5,"SI","NO"),IF(H7="C",IF(K7<9,"SI","NO"),IF(H7="A",IF(K7<16,"SI","NO"))))) -> SI | O7: D | P7: DANILO | R7: 8 | S7: =IF(O7="P",IF(R7<5,"SI","NO"),IF(O7="D",IF(R7<9,"SI","NO"),IF(O7="C",IF(R7<17,"SI","NO"),IF(O7="A",IF(R7<31,"SI","NO"))))) -> SI | T7: =IF(O7="P",IF(R7<3,"SI","NO"),IF(O7="D",IF(R7<5,"SI","NO"),IF(O7="C",IF(R7<9,"SI","NO"),IF(O7="A",IF(R7<16,"SI","NO"))))) -> NO | V7: D | W7: DI LORENZO | Y7: 16 | Z7: =IF(V7="P",IF(Y7<5,"SI","NO"),IF(V7="D",IF(Y7<9,"SI","NO"),IF(V7="C",IF(Y7<17,"SI","NO"),IF(V7="A",IF(Y7<31,"SI","NO"))))) -> NO | AA7: =IF(V7="P",IF(Y7<3,"SI","NO"),IF(V7="D",IF(Y7<5,"SI","NO"),IF(V7="C",IF(Y7<9,"SI","NO"),IF(V7="A",IF(Y7<16,"SI","NO"))))) -> NO | AC7: D | AD7: ALEX SANDRO | AF7: 18 | AG7: =IF(AC7="P",IF(AF7<5,"SI","NO"),IF(AC7="D",IF(AF7<9,"SI","NO"),IF(AC7="C",IF(AF7<17,"SI","NO"),IF(AC7="A",IF(AF7<31,"SI","NO"))))) -> NO | AH7: =IF(AC7="P",IF(AF7<3,"SI","NO"),IF(AC7="D",IF(AF7<5,"SI","NO"),IF(AC7="C",IF(AF7<9,"SI","NO"),IF(AC7="A",IF(AF7<16,"SI","NO"))))) -> NO | AJ7: D | AK7: HAKIMI | AM7: 48 | AN7: =IF(AJ7="P",IF(AM7<5,"SI","NO"),IF(AJ7="D",IF(AM7<9,"SI","NO"),IF(AJ7="C",IF(AM7<17,"SI","NO"),IF(AJ7="A",IF(AM7<31,"SI","NO"))))) -> NO | AO7: =IF(AJ7="P",IF(AM7<3,"SI","NO"),IF(AJ7="D",IF(AM7<5,"SI","NO"),IF(AJ7="C",IF(AM7<9,"SI","NO"),IF(AJ7="A",IF(AM7<16,"SI","NO"))))) -> NO | AQ7: D | AR7: CRISCITO | AT7: 16 | AU7: =IF(AQ7="P",IF(AT7<5,"SI","NO"),IF(AQ7="D",IF(AT7<9,"SI","NO"),IF(AQ7="C",IF(AT7<17,"SI","NO"),IF(AQ7="A",IF(AT7<31,"SI","NO"))))) -> NO | AV7: =IF(AQ7="P",IF(AT7<3,"SI","NO"),IF(AQ7="D",IF(AT7<5,"SI","NO"),IF(AQ7="C",IF(AT7<9,"SI","NO"),IF(AQ7="A",IF(AT7<16,"SI","NO"))))) -> NO | AX7: D | AY7: ACERBI | BA7: 40 | BB7: =IF(AX7="P",IF(BA7<5,"SI","NO"),IF(AX7="D",IF(BA7<9,"SI","NO"),IF(AX7="C",IF(BA7<17,"SI","NO"),IF(AX7="A",IF(BA7<31,"SI","NO"))))) -> NO | BC7: =IF(AX7="P",IF(BA7<3,"SI","NO"),IF(AX7="D",IF(BA7<5,"SI","NO"),IF(AX7="C",IF(BA7<9,"SI","NO"),IF(AX7="A",IF(BA7<16,"SI","NO"))))) -> NO | BE7: D | BF7: ALEX SANDRO | BH7: 11 | BI7: =IF(BE7="P",IF(BH7<5,"SI","NO"),IF(BE7="D",IF(BH7<9,"SI","NO"),IF(BE7="C",IF(BH7<17,"SI","NO"),IF(BE7="A",IF(BH7<31,"SI","NO"))))) -> NO | BJ7: =IF(BE7="P",IF(BH7<3,"SI","NO"),IF(BE7="D",IF(BH7<5,"SI","NO"),IF(BE7="C",IF(BH7<9,"SI","NO"),IF(BE7="A",IF(BH7<16,"SI","NO"))))) -> NO | BL7: D | BM7: ACERBI | BO7: 24 | BP7: =IF(BL7="P",IF(BO7<5,"SI","NO"),IF(BL7="D",IF(BO7<9,"SI","NO"),IF(BL7="C",IF(BO7<17,"SI","NO"),IF(BL7="A",IF(BO7<31,"SI","NO"))))) -> NO | BQ7: =IF(BL7="P",IF(BO7<3,"SI","NO"),IF(BL7="D",IF(BO7<5,"SI","NO"),IF(BL7="C",IF(BO7<9,"SI","NO"),IF(BL7="A",IF(BO7<16,"SI","NO"))))) -> NO
A8: D | B8: YOSHIDA | D8: 9 | E8: =IF(A8="P",IF(D8<5,"SI","NO"),IF(A8="D",IF(D8<9,"SI","NO"),IF(A8="C",IF(D8<17,"SI","NO"),IF(A8="A",IF(D8<31,"SI","NO"))))) -> NO | F8: =IF(A8="P",IF(D8<3,"SI","NO"),IF(A8="D",IF(D8<5,"SI","NO"),IF(A8="C",IF(D8<9,"SI","NO"),IF(A8="A",IF(D8<16,"SI","NO"))))) -> NO | H8: D | I8: CALDIROLA | K8: 2 | L8: =IF(H8="P",IF(K8<5,"SI","NO"),IF(H8="D",IF(K8<9,"SI","NO"),IF(H8="C",IF(K8<17,"SI","NO"),IF(H8="A",IF(K8<31,"SI","NO"))))) -> SI | M8: =IF(H8="P",IF(K8<3,"SI","NO"),IF(H8="D",IF(K8<5,"SI","NO"),IF(H8="C",IF(K8<9,"SI","NO"),IF(H8="A",IF(K8<16,"SI","NO"))))) -> SI | O8: D | P8: MANOLAS | R8: 17 | S8: =IF(O8="P",IF(R8<5,"SI","NO"),IF(O8="D",IF(R8<9,"SI","NO"),IF(O8="C",IF(R8<17,"SI","NO"),IF(O8="A",IF(R8<31,"SI","NO"))))) -> NO | T8: =IF(O8="P",IF(R8<3,"SI","NO"),IF(O8="D",IF(R8<5,"SI","NO"),IF(O8="C",IF(R8<9,"SI","NO"),IF(O8="A",IF(R8<16,"SI","NO"))))) -> NO | V8: D | W8: YOUNG | Y8: 9 | Z8: =IF(V8="P",IF(Y8<5,"SI","NO"),IF(V8="D",IF(Y8<9,"SI","NO"),IF(V8="C",IF(Y8<17,"SI","NO"),IF(V8="A",IF(Y8<31,"SI","NO"))))) -> NO | AA8: =IF(V8="P",IF(Y8<3,"SI","NO"),IF(V8="D",IF(Y8<5,"SI","NO"),IF(V8="C",IF(Y8<9,"SI","NO"),IF(V8="A",IF(Y8<16,"SI","NO"))))) -> NO | AC8: D | AD8: BONUCCI | AF8: 26 | AG8: =IF(AC8="P",IF(AF8<5,"SI","NO"),IF(AC8="D",IF(AF8<9,"SI","NO"),IF(AC8="C",IF(AF8<17,"SI","NO"),IF(AC8="A",IF(AF8<31,"SI","NO"))))) -> NO | AH8: =IF(AC8="P",IF(AF8<3,"SI","NO"),IF(AC8="D",IF(AF8<5,"SI","NO"),IF(AC8="C",IF(AF8<9,"SI","NO"),IF(AC8="A",IF(AF8<16,"SI","NO"))))) -> NO | AJ8: D | AK8: GOSENS | AM8: 51 | AN8: =IF(AJ8="P",IF(AM8<5,"SI","NO"),IF(AJ8="D",IF(AM8<9,"SI","NO"),IF(AJ8="C",IF(AM8<17,"SI","NO"),IF(AJ8="A",IF(AM8<31,"SI","NO"))))) -> NO | AO8: =IF(AJ8="P",IF(AM8<3,"SI","NO"),IF(AJ8="D",IF(AM8<5,"SI","NO"),IF(AJ8="C",IF(AM8<9,"SI","NO"),IF(AJ8="A",IF(AM8<16,"SI","NO"))))) -> NO | AQ8: D | AR8: BIRAGHI | AT8: 27 | AU8: =IF(AQ8="P",IF(AT8<5,"SI","NO"),IF(AQ8="D",IF(AT8<9,"SI","NO"),IF(AQ8="C",IF(AT8<17,"SI","NO"),IF(AQ8="A",IF(AT8<31,"SI","NO"))))) -> NO | AV8: =IF(AQ8="P",IF(AT8<3,"SI","NO"),IF(AQ8="D",IF(AT8<5,"SI","NO"),IF(AQ8="C",IF(AT8<9,"SI","NO"),IF(AQ8="A",IF(AT8<16,"SI","NO"))))) -> NO | AX8: D | AY8: CHIELLINI | BA8: 15 | BB8: =IF(AX8="P",IF(BA8<5,"SI","NO"),IF(AX8="D",IF(BA8<9,"SI","NO"),IF(AX8="C",IF(BA8<17,"SI","NO"),IF(AX8="A",IF(BA8<31,"SI","NO"))))) -> NO | BC8: =IF(AX8="P",IF(BA8<3,"SI","NO"),IF(AX8="D",IF(BA8<5,"SI","NO"),IF(AX8="C",IF(BA8<9,"SI","NO"),IF(AX8="A",IF(BA8<16,"SI","NO"))))) -> NO | BE8: D | BF8: TOMIYASU | BH8: 6 | BI8: =IF(BE8="P",IF(BH8<5,"SI","NO"),IF(BE8="D",IF(BH8<9,"SI","NO"),IF(BE8="C",IF(BH8<17,"SI","NO"),IF(BE8="A",IF(BH8<31,"SI","NO"))))) -> SI | BJ8: =IF(BE8="P",IF(BH8<3,"SI","NO"),IF(BE8="D",IF(BH8<5,"SI","NO"),IF(BE8="C",IF(BH8<9,"SI","NO"),IF(BE8="A",IF(BH8<16,"SI","NO"))))) -> NO | BL8: D | BM8: GOSENS | BO8: 41 | BP8: =IF(BL8="P",IF(BO8<5,"SI","NO"),IF(BL8="D",IF(BO8<9,"SI","NO"),IF(BL8="C",IF(BO8<17,"SI","NO"),IF(BL8="A",IF(BO8<31,"SI","NO"))))) -> NO | BQ8: =IF(BL8="P",IF(BO8<3,"SI","NO"),IF(BL8="D",IF(BO8<5,"SI","NO"),IF(BL8="C",IF(BO8<9,"SI","NO"),IF(BL8="A",IF(BO8<16,"SI","NO"))))) -> NO
A9: D | B9: DALOT | D9: 3 | E9: =IF(A9="P",IF(D9<5,"SI","NO"),IF(A9="D",IF(D9<9,"SI","NO"),IF(A9="C",IF(D9<17,"SI","NO"),IF(A9="A",IF(D9<31,"SI","NO"))))) -> SI | F9: =IF(A9="P",IF(D9<3,"SI","NO"),IF(A9="D",IF(D9<5,"SI","NO"),IF(A9="C",IF(D9<9,"SI","NO"),IF(A9="A",IF(D9<16,"SI","NO"))))) -> SI | H9: D | I9: CZYBORRA | K9: 7 | L9: =IF(H9="P",IF(K9<5,"SI","NO"),IF(H9="D",IF(K9<9,"SI","NO"),IF(H9="C",IF(K9<17,"SI","NO"),IF(H9="A",IF(K9<31,"SI","NO"))))) -> SI | M9: =IF(H9="P",IF(K9<3,"SI","NO"),IF(H9="D",IF(K9<5,"SI","NO"),IF(H9="C",IF(K9<9,"SI","NO"),IF(H9="A",IF(K9<16,"SI","NO"))))) -> NO | O9: D | P9: MILENKOVIC | R9: 27 | S9: =IF(O9="P",IF(R9<5,"SI","NO"),IF(O9="D",IF(R9<9,"SI","NO"),IF(O9="C",IF(R9<17,"SI","NO"),IF(O9="A",IF(R9<31,"SI","NO"))))) -> NO | T9: =IF(O9="P",IF(R9<3,"SI","NO"),IF(O9="D",IF(R9<5,"SI","NO"),IF(O9="C",IF(R9<9,"SI","NO"),IF(O9="A",IF(R9<16,"SI","NO"))))) -> NO | V9: D | W9: SAMIR | Y9: 2 | Z9: =IF(V9="P",IF(Y9<5,"SI","NO"),IF(V9="D",IF(Y9<9,"SI","NO"),IF(V9="C",IF(Y9<17,"SI","NO"),IF(V9="A",IF(Y9<31,"SI","NO"))))) -> SI | AA9: =IF(V9="P",IF(Y9<3,"SI","NO"),IF(V9="D",IF(Y9<5,"SI","NO"),IF(V9="C",IF(Y9<9,"SI","NO"),IF(V9="A",IF(Y9<16,"SI","NO"))))) -> SI | AC9: D | AD9: ZAPPACOSTA | AF9: 8 | AG9: =IF(AC9="P",IF(AF9<5,"SI","NO"),IF(AC9="D",IF(AF9<9,"SI","NO"),IF(AC9="C",IF(AF9<17,"SI","NO"),IF(AC9="A",IF(AF9<31,"SI","NO"))))) -> SI | AH9: =IF(AC9="P",IF(AF9<3,"SI","NO"),IF(AC9="D",IF(AF9<5,"SI","NO"),IF(AC9="C",IF(AF9<9,"SI","NO"),IF(AC9="A",IF(AF9<16,"SI","NO"))))) -> NO | AJ9: D | AK9: KARSDORP | AM9: 26 | AN9: =IF(AJ9="P",IF(AM9<5,"SI","NO"),IF(AJ9="D",IF(AM9<9,"SI","NO"),IF(AJ9="C",IF(AM9<17,"SI","NO"),IF(AJ9="A",IF(AM9<31,"SI","NO"))))) -> NO | AO9: =IF(AJ9="P",IF(AM9<3,"SI","NO"),IF(AJ9="D",IF(AM9<5,"SI","NO"),IF(AJ9="C",IF(AM9<9,"SI","NO"),IF(AJ9="A",IF(AM9<16,"SI","NO"))))) -> NO | AQ9: D | AR9: DIMARCO | AT9: 31 | AU9: =IF(AQ9="P",IF(AT9<5,"SI","NO"),IF(AQ9="D",IF(AT9<9,"SI","NO"),IF(AQ9="C",IF(AT9<17,"SI","NO"),IF(AQ9="A",IF(AT9<31,"SI","NO"))))) -> NO | AV9: =IF(AQ9="P",IF(AT9<3,"SI","NO"),IF(AQ9="D",IF(AT9<5,"SI","NO"),IF(AQ9="C",IF(AT9<9,"SI","NO"),IF(AQ9="A",IF(AT9<16,"SI","NO"))))) -> NO | AX9: D | AY9: BREMER | BA9: 2 | BB9: =IF(AX9="P",IF(BA9<5,"SI","NO"),IF(AX9="D",IF(BA9<9,"SI","NO"),IF(AX9="C",IF(BA9<17,"SI","NO"),IF(AX9="A",IF(BA9<31,"SI","NO"))))) -> SI | BC9: =IF(AX9="P",IF(BA9<3,"SI","NO"),IF(AX9="D",IF(BA9<5,"SI","NO"),IF(AX9="C",IF(BA9<9,"SI","NO"),IF(AX9="A",IF(BA9<16,"SI","NO"))))) -> SI | BE9: D | BF9: IZZO | BH9: 2 | BI9: =IF(BE9="P",IF(BH9<5,"SI","NO"),IF(BE9="D",IF(BH9<9,"SI","NO"),IF(BE9="C",IF(BH9<17,"SI","NO"),IF(BE9="A",IF(BH9<31,"SI","NO"))))) -> SI | BJ9: =IF(BE9="P",IF(BH9<3,"SI","NO"),IF(BE9="D",IF(BH9<5,"SI","NO"),IF(BE9="C",IF(BH9<9,"SI","NO"),IF(BE9="A",IF(BH9<16,"SI","NO"))))) -> SI | BL9: D | BM9: DANILO LAR. | BO9: 1 | BP9: =IF(BL9="P",IF(BO9<5,"SI","NO"),IF(BL9="D",IF(BO9<9,"SI","NO"),IF(BL9="C",IF(BO9<17,"SI","NO"),IF(BL9="A",IF(BO9<31,"SI","NO"))))) -> SI | BQ9: =IF(BL9="P",IF(BO9<3,"SI","NO"),IF(BL9="D",IF(BO9<5,"SI","NO"),IF(BL9="C",IF(BO9<9,"SI","NO"),IF(BL9="A",IF(BO9<16,"SI","NO"))))) -> SI
A10: D | B10: DI LORENZO | D10: 20 | E10: =IF(A10="P",IF(D10<5,"SI","NO"),IF(A10="D",IF(D10<9,"SI","NO"),IF(A10="C",IF(D10<17,"SI","NO"),IF(A10="A",IF(D10<31,"SI","NO"))))) -> NO | F10: =IF(A10="P",IF(D10<3,"SI","NO"),IF(A10="D",IF(D10<5,"SI","NO"),IF(A10="C",IF(D10<9,"SI","NO"),IF(A10="A",IF(D10<16,"SI","NO"))))) -> NO | H10: D | I10: FERRARI G. | K10: 4 | L10: =IF(H10="P",IF(K10<5,"SI","NO"),IF(H10="D",IF(K10<9,"SI","NO"),IF(H10="C",IF(K10<17,"SI","NO"),IF(H10="A",IF(K10<31,"SI","NO"))))) -> SI | M10: =IF(H10="P",IF(K10<3,"SI","NO"),IF(H10="D",IF(K10<5,"SI","NO"),IF(H10="C",IF(K10<9,"SI","NO"),IF(H10="A",IF(K10<16,"SI","NO"))))) -> SI | O10: D | P10: DE LIGT | R10: 21 | S10: =IF(O10="P",IF(R10<5,"SI","NO"),IF(O10="D",IF(R10<9,"SI","NO"),IF(O10="C",IF(R10<17,"SI","NO"),IF(O10="A",IF(R10<31,"SI","NO"))))) -> NO | T10: =IF(O10="P",IF(R10<3,"SI","NO"),IF(O10="D",IF(R10<5,"SI","NO"),IF(O10="C",IF(R10<9,"SI","NO"),IF(O10="A",IF(R10<16,"SI","NO"))))) -> NO | V10: D | W10: MANCINI | Y10: 9 | Z10: =IF(V10="P",IF(Y10<5,"SI","NO"),IF(V10="D",IF(Y10<9,"SI","NO"),IF(V10="C",IF(Y10<17,"SI","NO"),IF(V10="A",IF(Y10<31,"SI","NO"))))) -> NO | AA10: =IF(V10="P",IF(Y10<3,"SI","NO"),IF(V10="D",IF(Y10<5,"SI","NO"),IF(V10="C",IF(Y10<9,"SI","NO"),IF(V10="A",IF(Y10<16,"SI","NO"))))) -> NO | AC10: D | AD10: YOUNG | AF10: 15 | AG10: =IF(AC10="P",IF(AF10<5,"SI","NO"),IF(AC10="D",IF(AF10<9,"SI","NO"),IF(AC10="C",IF(AF10<17,"SI","NO"),IF(AC10="A",IF(AF10<31,"SI","NO"))))) -> NO | AH10: =IF(AC10="P",IF(AF10<3,"SI","NO"),IF(AC10="D",IF(AF10<5,"SI","NO"),IF(AC10="C",IF(AF10<9,"SI","NO"),IF(AC10="A",IF(AF10<16,"SI","NO"))))) -> NO | AJ10: D | AK10: SAMIR | AM10: 2 | AN10: =IF(AJ10="P",IF(AM10<5,"SI","NO"),IF(AJ10="D",IF(AM10<9,"SI","NO"),IF(AJ10="C",IF(AM10<17,"SI","NO"),IF(AJ10="A",IF(AM10<31,"SI","NO"))))) -> SI | AO10: =IF(AJ10="P",IF(AM10<3,"SI","NO"),IF(AJ10="D",IF(AM10<5,"SI","NO"),IF(AJ10="C",IF(AM10<9,"SI","NO"),IF(AJ10="A",IF(AM10<16,"SI","NO"))))) -> SI | AQ10: D | AR10: MARIO RUI | AT10: 8 | AU10: =IF(AQ10="P",IF(AT10<5,"SI","NO"),IF(AQ10="D",IF(AT10<9,"SI","NO"),IF(AQ10="C",IF(AT10<17,"SI","NO"),IF(AQ10="A",IF(AT10<31,"SI","NO"))))) -> SI | AV10: =IF(AQ10="P",IF(AT10<3,"SI","NO"),IF(AQ10="D",IF(AT10<5,"SI","NO"),IF(AQ10="C",IF(AT10<9,"SI","NO"),IF(AQ10="A",IF(AT10<16,"SI","NO"))))) -> NO | AX10: D | AY10: AUGELLO | BA10: 1 | BB10: =IF(AX10="P",IF(BA10<5,"SI","NO"),IF(AX10="D",IF(BA10<9,"SI","NO"),IF(AX10="C",IF(BA10<17,"SI","NO"),IF(AX10="A",IF(BA10<31,"SI","NO"))))) -> SI | BC10: =IF(AX10="P",IF(BA10<3,"SI","NO"),IF(AX10="D",IF(BA10<5,"SI","NO"),IF(AX10="C",IF(BA10<9,"SI","NO"),IF(AX10="A",IF(BA10<16,"SI","NO"))))) -> SI | BE10: D | BF10: CALABRIA | BH10: 2 | BI10: =IF(BE10="P",IF(BH10<5,"SI","NO"),IF(BE10="D",IF(BH10<9,"SI","NO"),IF(BE10="C",IF(BH10<17,"SI","NO"),IF(BE10="A",IF(BH10<31,"SI","NO"))))) -> SI | BJ10: =IF(BE10="P",IF(BH10<3,"SI","NO"),IF(BE10="D",IF(BH10<5,"SI","NO"),IF(BE10="C",IF(BH10<9,"SI","NO"),IF(BE10="A",IF(BH10<16,"SI","NO"))))) -> SI | BL10: D | BM10: MAEHLE | BO10: 13 | BP10: =IF(BL10="P",IF(BO10<5,"SI","NO"),IF(BL10="D",IF(BO10<9,"SI","NO"),IF(BL10="C",IF(BO10<17,"SI","NO"),IF(BL10="A",IF(BO10<31,"SI","NO"))))) -> NO | BQ10: =IF(BL10="P",IF(BO10<3,"SI","NO"),IF(BL10="D",IF(BO10<5,"SI","NO"),IF(BL10="C",IF(BO10<9,"SI","NO"),IF(BL10="A",IF(BO10<16,"SI","NO"))))) -> NO
A11: D | B11: CALABRIA | D11: 3 | E11: =IF(A11="P",IF(D11<5,"SI","NO"),IF(A11="D",IF(D11<9,"SI","NO"),IF(A11="C",IF(D11<17,"SI","NO"),IF(A11="A",IF(D11<31,"SI","NO"))))) -> SI | F11: =IF(A11="P",IF(D11<3,"SI","NO"),IF(A11="D",IF(D11<5,"SI","NO"),IF(A11="C",IF(D11<9,"SI","NO"),IF(A11="A",IF(D11<16,"SI","NO"))))) -> SI | H11: D | I11: STRYGER LARSEN | K11: 9 | L11: =IF(H11="P",IF(K11<5,"SI","NO"),IF(H11="D",IF(K11<9,"SI","NO"),IF(H11="C",IF(K11<17,"SI","NO"),IF(H11="A",IF(K11<31,"SI","NO"))))) -> NO | M11: =IF(H11="P",IF(K11<3,"SI","NO"),IF(H11="D",IF(K11<5,"SI","NO"),IF(H11="C",IF(K11<9,"SI","NO"),IF(H11="A",IF(K11<16,"SI","NO"))))) -> NO | O11: D | P11: MAKSIMOVIC | R11: 1 | S11: =IF(O11="P",IF(R11<5,"SI","NO"),IF(O11="D",IF(R11<9,"SI","NO"),IF(O11="C",IF(R11<17,"SI","NO"),IF(O11="A",IF(R11<31,"SI","NO"))))) -> SI | T11: =IF(O11="P",IF(R11<3,"SI","NO"),IF(O11="D",IF(R11<5,"SI","NO"),IF(O11="C",IF(R11<9,"SI","NO"),IF(O11="A",IF(R11<16,"SI","NO"))))) -> SI | V11: D | W11: GUNTER | Y11: 1 | Z11: =IF(V11="P",IF(Y11<5,"SI","NO"),IF(V11="D",IF(Y11<9,"SI","NO"),IF(V11="C",IF(Y11<17,"SI","NO"),IF(V11="A",IF(Y11<31,"SI","NO"))))) -> SI | AA11: =IF(V11="P",IF(Y11<3,"SI","NO"),IF(V11="D",IF(Y11<5,"SI","NO"),IF(V11="C",IF(Y11<9,"SI","NO"),IF(V11="A",IF(Y11<16,"SI","NO"))))) -> SI | AC11: D | AD11: SINGO | AF11: 17 | AG11: =IF(AC11="P",IF(AF11<5,"SI","NO"),IF(AC11="D",IF(AF11<9,"SI","NO"),IF(AC11="C",IF(AF11<17,"SI","NO"),IF(AC11="A",IF(AF11<31,"SI","NO"))))) -> NO | AH11: =IF(AC11="P",IF(AF11<3,"SI","NO"),IF(AC11="D",IF(AF11<5,"SI","NO"),IF(AC11="C",IF(AF11<9,"SI","NO"),IF(AC11="A",IF(AF11<16,"SI","NO"))))) -> NO | AJ11: D | AK11: MAEHLE | AM11: 4 | AN11: =IF(AJ11="P",IF(AM11<5,"SI","NO"),IF(AJ11="D",IF(AM11<9,"SI","NO"),IF(AJ11="C",IF(AM11<17,"SI","NO"),IF(AJ11="A",IF(AM11<31,"SI","NO"))))) -> SI | AO11: =IF(AJ11="P",IF(AM11<3,"SI","NO"),IF(AJ11="D",IF(AM11<5,"SI","NO"),IF(AJ11="C",IF(AM11<9,"SI","NO"),IF(AJ11="A",IF(AM11<16,"SI","NO"))))) -> SI | AQ11: D | AR11: PEREIRA P. | AT11: 1 | AU11: =IF(AQ11="P",IF(AT11<5,"SI","NO"),IF(AQ11="D",IF(AT11<9,"SI","NO"),IF(AQ11="C",IF(AT11<17,"SI","NO"),IF(AQ11="A",IF(AT11<31,"SI","NO"))))) -> SI | AV11: =IF(AQ11="P",IF(AT11<3,"SI","NO"),IF(AQ11="D",IF(AT11<5,"SI","NO"),IF(AQ11="C",IF(AT11<9,"SI","NO"),IF(AQ11="A",IF(AT11<16,"SI","NO"))))) -> SI | AX11: D | AY11: PEZZELLA GER. | BA11: 13 | BB11: =IF(AX11="P",IF(BA11<5,"SI","NO"),IF(AX11="D",IF(BA11<9,"SI","NO"),IF(AX11="C",IF(BA11<17,"SI","NO"),IF(AX11="A",IF(BA11<31,"SI","NO"))))) -> NO | BC11: =IF(AX11="P",IF(BA11<3,"SI","NO"),IF(AX11="D",IF(BA11<5,"SI","NO"),IF(AX11="C",IF(BA11<9,"SI","NO"),IF(AX11="A",IF(BA11<16,"SI","NO"))))) -> NO | BE11: D | BF11: DIMARCO | BH11: 15 | BI11: =IF(BE11="P",IF(BH11<5,"SI","NO"),IF(BE11="D",IF(BH11<9,"SI","NO"),IF(BE11="C",IF(BH11<17,"SI","NO"),IF(BE11="A",IF(BH11<31,"SI","NO"))))) -> NO | BJ11: =IF(BE11="P",IF(BH11<3,"SI","NO"),IF(BE11="D",IF(BH11<5,"SI","NO"),IF(BE11="C",IF(BH11<9,"SI","NO"),IF(BE11="A",IF(BH11<16,"SI","NO"))))) -> NO | BL11: D | BM11: DJIMSITI | BO11: 3 | BP11: =IF(BL11="P",IF(BO11<5,"SI","NO"),IF(BL11="D",IF(BO11<9,"SI","NO"),IF(BL11="C",IF(BO11<17,"SI","NO"),IF(BL11="A",IF(BO11<31,"SI","NO"))))) -> SI | BQ11: =IF(BL11="P",IF(BO11<3,"SI","NO"),IF(BL11="D",IF(BO11<5,"SI","NO"),IF(BL11="C",IF(BO11<9,"SI","NO"),IF(BL11="A",IF(BO11<16,"SI","NO"))))) -> SI
A12: D | B12: MANCINI | D12: 7 | E12: =IF(A12="P",IF(D12<5,"SI","NO"),IF(A12="D",IF(D12<9,"SI","NO"),IF(A12="C",IF(D12<17,"SI","NO"),IF(A12="A",IF(D12<31,"SI","NO"))))) -> SI | F12: =IF(A12="P",IF(D12<3,"SI","NO"),IF(A12="D",IF(D12<5,"SI","NO"),IF(A12="C",IF(D12<9,"SI","NO"),IF(A12="A",IF(D12<16,"SI","NO"))))) -> NO | H12: D | I12: LETIZIA | K12: 1 | L12: =IF(H12="P",IF(K12<5,"SI","NO"),IF(H12="D",IF(K12<9,"SI","NO"),IF(H12="C",IF(K12<17,"SI","NO"),IF(H12="A",IF(K12<31,"SI","NO"))))) -> SI | M12: =IF(H12="P",IF(K12<3,"SI","NO"),IF(H12="D",IF(K12<5,"SI","NO"),IF(H12="C",IF(K12<9,"SI","NO"),IF(H12="A",IF(K12<16,"SI","NO"))))) -> SI | O12: D | P12: RUGANI | R12: 5 | S12: =IF(O12="P",IF(R12<5,"SI","NO"),IF(O12="D",IF(R12<9,"SI","NO"),IF(O12="C",IF(R12<17,"SI","NO"),IF(O12="A",IF(R12<31,"SI","NO"))))) -> SI | T12: =IF(O12="P",IF(R12<3,"SI","NO"),IF(O12="D",IF(R12<5,"SI","NO"),IF(O12="C",IF(R12<9,"SI","NO"),IF(O12="A",IF(R12<16,"SI","NO"))))) -> NO | V12: D | W12: DANILO | Y12: 3 | Z12: =IF(V12="P",IF(Y12<5,"SI","NO"),IF(V12="D",IF(Y12<9,"SI","NO"),IF(V12="C",IF(Y12<17,"SI","NO"),IF(V12="A",IF(Y12<31,"SI","NO"))))) -> SI | AA12: =IF(V12="P",IF(Y12<3,"SI","NO"),IF(V12="D",IF(Y12<5,"SI","NO"),IF(V12="C",IF(Y12<9,"SI","NO"),IF(V12="A",IF(Y12<16,"SI","NO"))))) -> SI | AC12: D | AD12: ANSALDI | AF12: 14 | AG12: =IF(AC12="P",IF(AF12<5,"SI","NO"),IF(AC12="D",IF(AF12<9,"SI","NO"),IF(AC12="C",IF(AF12<17,"SI","NO"),IF(AC12="A",IF(AF12<31,"SI","NO"))))) -> NO | AH12: =IF(AC12="P",IF(AF12<3,"SI","NO"),IF(AC12="D",IF(AF12<5,"SI","NO"),IF(AC12="C",IF(AF12<9,"SI","NO"),IF(AC12="A",IF(AF12<16,"SI","NO"))))) -> NO | AJ12: D | AK12: DARMIAN | AM12: 4 | AN12: =IF(AJ12="P",IF(AM12<5,"SI","NO"),IF(AJ12="D",IF(AM12<9,"SI","NO"),IF(AJ12="C",IF(AM12<17,"SI","NO"),IF(AJ12="A",IF(AM12<31,"SI","NO"))))) -> SI | AO12: =IF(AJ12="P",IF(AM12<3,"SI","NO"),IF(AJ12="D",IF(AM12<5,"SI","NO"),IF(AJ12="C",IF(AM12<9,"SI","NO"),IF(AJ12="A",IF(AM12<16,"SI","NO"))))) -> SI | AQ12: D | AR12: CUADRADO | AT12: 1 | AX12: D | AY12: GLIK | BA12: 1 | BB12: =IF(AX12="P",IF(BA12<5,"SI","NO"),IF(AX12="D",IF(BA12<9,"SI","NO"),IF(AX12="C",IF(BA12<17,"SI","NO"),IF(AX12="A",IF(BA12<31,"SI","NO"))))) -> SI | BC12: =IF(AX12="P",IF(BA12<3,"SI","NO"),IF(AX12="D",IF(BA12<5,"SI","NO"),IF(AX12="C",IF(BA12<9,"SI","NO"),IF(AX12="A",IF(BA12<16,"SI","NO"))))) -> SI | BE12: D | BF12: YOSHIDA | BH12: 1 | BI12: =IF(BE12="P",IF(BH12<5,"SI","NO"),IF(BE12="D",IF(BH12<9,"SI","NO"),IF(BE12="C",IF(BH12<17,"SI","NO"),IF(BE12="A",IF(BH12<31,"SI","NO"))))) -> SI | BJ12: =IF(BE12="P",IF(BH12<3,"SI","NO"),IF(BE12="D",IF(BH12<5,"SI","NO"),IF(BE12="C",IF(BH12<9,"SI","NO"),IF(BE12="A",IF(BH12<16,"SI","NO"))))) -> SI | BL12: D | BM12: DARMIAN | BO12: 1 | BP12: =IF(BL12="P",IF(BO12<5,"SI","NO"),IF(BL12="D",IF(BO12<9,"SI","NO"),IF(BL12="C",IF(BO12<17,"SI","NO"),IF(BL12="A",IF(BO12<31,"SI","NO"))))) -> SI | BQ12: =IF(BL12="P",IF(BO12<3,"SI","NO"),IF(BL12="D",IF(BO12<5,"SI","NO"),IF(BL12="C",IF(BO12<9,"SI","NO"),IF(BL12="A",IF(BO12<16,"SI","NO"))))) -> SI
A13: D | B13: SMALLING | D13: 5 | E13: =IF(A13="P",IF(D13<5,"SI","NO"),IF(A13="D",IF(D13<9,"SI","NO"),IF(A13="C",IF(D13<17,"SI","NO"),IF(A13="A",IF(D13<31,"SI","NO"))))) -> SI | F13: =IF(A13="P",IF(D13<3,"SI","NO"),IF(A13="D",IF(D13<5,"SI","NO"),IF(A13="C",IF(D13<9,"SI","NO"),IF(A13="A",IF(D13<16,"SI","NO"))))) -> NO | H13: D | I13: NUYTINCK | K13: 1 | L13: =IF(H13="P",IF(K13<5,"SI","NO"),IF(H13="D",IF(K13<9,"SI","NO"),IF(H13="C",IF(K13<17,"SI","NO"),IF(H13="A",IF(K13<31,"SI","NO"))))) -> SI | M13: =IF(H13="P",IF(K13<3,"SI","NO"),IF(H13="D",IF(K13<5,"SI","NO"),IF(H13="C",IF(K13<9,"SI","NO"),IF(H13="A",IF(K13<16,"SI","NO"))))) -> SI | O13: D | P13: COLLEY | R13: 1 | S13: =IF(O13="P",IF(R13<5,"SI","NO"),IF(O13="D",IF(R13<9,"SI","NO"),IF(O13="C",IF(R13<17,"SI","NO"),IF(O13="A",IF(R13<31,"SI","NO"))))) -> SI | T13: =IF(O13="P",IF(R13<3,"SI","NO"),IF(O13="D",IF(R13<5,"SI","NO"),IF(O13="C",IF(R13<9,"SI","NO"),IF(O13="A",IF(R13<16,"SI","NO"))))) -> SI | V13: D | W13: LYKOGIANNIS | Y13: 1 | Z13: =IF(V13="P",IF(Y13<5,"SI","NO"),IF(V13="D",IF(Y13<9,"SI","NO"),IF(V13="C",IF(Y13<17,"SI","NO"),IF(V13="A",IF(Y13<31,"SI","NO"))))) -> SI | AA13: =IF(V13="P",IF(Y13<3,"SI","NO"),IF(V13="D",IF(Y13<5,"SI","NO"),IF(V13="C",IF(Y13<9,"SI","NO"),IF(V13="A",IF(Y13<16,"SI","NO"))))) -> SI | AC13: D | AD13: FRABOTTA | AF13: 1 | AG13: =IF(AC13="P",IF(AF13<5,"SI","NO"),IF(AC13="D",IF(AF13<9,"SI","NO"),IF(AC13="C",IF(AF13<17,"SI","NO"),IF(AC13="A",IF(AF13<31,"SI","NO"))))) -> SI | AH13: =IF(AC13="P",IF(AF13<3,"SI","NO"),IF(AC13="D",IF(AF13<5,"SI","NO"),IF(AC13="C",IF(AF13<9,"SI","NO"),IF(AC13="A",IF(AF13<16,"SI","NO"))))) -> SI | AJ13: D | AK13: IZZO | AM13: 5 | AN13: =IF(AJ13="P",IF(AM13<5,"SI","NO"),IF(AJ13="D",IF(AM13<9,"SI","NO"),IF(AJ13="C",IF(AM13<17,"SI","NO"),IF(AJ13="A",IF(AM13<31,"SI","NO"))))) -> SI | AO13: =IF(AJ13="P",IF(AM13<3,"SI","NO"),IF(AJ13="D",IF(AM13<5,"SI","NO"),IF(AJ13="C",IF(AM13<9,"SI","NO"),IF(AJ13="A",IF(AM13<16,"SI","NO"))))) -> NO | AQ13: D | AR13: MALCUIT | AT13: 1 | AU13: =IF(AQ13="P",IF(AT13<5,"SI","NO"),IF(AQ13="D",IF(AT13<9,"SI","NO"),IF(AQ13="C",IF(AT13<17,"SI","NO"),IF(AQ13="A",IF(AT13<31,"SI","NO"))))) -> SI | AV13: =IF(AQ13="P",IF(AT13<3,"SI","NO"),IF(AQ13="D",IF(AT13<5,"SI","NO"),IF(AQ13="C",IF(AT13<9,"SI","NO"),IF(AQ13="A",IF(AT13<16,"SI","NO"))))) -> SI | AX13: D | AY13: SKRINIAR | BA13: 28 | BB13: =IF(AX13="P",IF(BA13<5,"SI","NO"),IF(AX13="D",IF(BA13<9,"SI","NO"),IF(AX13="C",IF(BA13<17,"SI","NO"),IF(AX13="A",IF(BA13<31,"SI","NO"))))) -> NO | BC13: =IF(AX13="P",IF(BA13<3,"SI","NO"),IF(AX13="D",IF(BA13<5,"SI","NO"),IF(AX13="C",IF(BA13<9,"SI","NO"),IF(AX13="A",IF(BA13<16,"SI","NO"))))) -> NO | BE13: D | BF13: MARTINEZ QUARTA | BH13: 1 | BI13: =IF(BE13="P",IF(BH13<5,"SI","NO"),IF(BE13="D",IF(BH13<9,"SI","NO"),IF(BE13="C",IF(BH13<17,"SI","NO"),IF(BE13="A",IF(BH13<31,"SI","NO"))))) -> SI | BJ13: =IF(BE13="P",IF(BH13<3,"SI","NO"),IF(BE13="D",IF(BH13<5,"SI","NO"),IF(BE13="C",IF(BH13<9,"SI","NO"),IF(BE13="A",IF(BH13<16,"SI","NO"))))) -> SI | BL13: D | BM13: HYSAJ | BO13: 1 | BP13: =IF(BL13="P",IF(BO13<5,"SI","NO"),IF(BL13="D",IF(BO13<9,"SI","NO"),IF(BL13="C",IF(BO13<17,"SI","NO"),IF(BL13="A",IF(BO13<31,"SI","NO"))))) -> SI | BQ13: =IF(BL13="P",IF(BO13<3,"SI","NO"),IF(BL13="D",IF(BO13<5,"SI","NO"),IF(BL13="C",IF(BO13<9,"SI","NO"),IF(BL13="A",IF(BO13<16,"SI","NO"))))) -> SI
A14: C | B14: CALHANOGLU | D14: 5 | H14: C | I14: DE PAUL | K14: 33 | L14: =IF(H14="P",IF(K14<5,"SI","NO"),IF(H14="D",IF(K14<9,"SI","NO"),IF(H14="C",IF(K14<17,"SI","NO"),IF(H14="A",IF(K14<31,"SI","NO"))))) -> NO | M14: =IF(H14="P",IF(K14<3,"SI","NO"),IF(H14="D",IF(K14<5,"SI","NO"),IF(H14="C",IF(K14<9,"SI","NO"),IF(H14="A",IF(K14<16,"SI","NO"))))) -> NO | O14: C | P14: BARELLA | R14: 30 | S14: =IF(O14="P",IF(R14<5,"SI","NO"),IF(O14="D",IF(R14<9,"SI","NO"),IF(O14="C",IF(R14<17,"SI","NO"),IF(O14="A",IF(R14<31,"SI","NO"))))) -> NO | T14: =IF(O14="P",IF(R14<3,"SI","NO"),IF(O14="D",IF(R14<5,"SI","NO"),IF(O14="C",IF(R14<9,"SI","NO"),IF(O14="A",IF(R14<16,"SI","NO"))))) -> NO | V14: C | W14: STROOTMAN | Y14: 14 | Z14: =IF(V14="P",IF(Y14<5,"SI","NO"),IF(V14="D",IF(Y14<9,"SI","NO"),IF(V14="C",IF(Y14<17,"SI","NO"),IF(V14="A",IF(Y14<31,"SI","NO"))))) -> SI | AA14: =IF(V14="P",IF(Y14<3,"SI","NO"),IF(V14="D",IF(Y14<5,"SI","NO"),IF(V14="C",IF(Y14<9,"SI","NO"),IF(V14="A",IF(Y14<16,"SI","NO"))))) -> NO | AC14: C | AD14: ZANIOLO | AF14: 10 | AJ14: C | AK14: VERDI | AM14: 1 | AQ14: C | AR14: TAMEZE | AT14: 5 | AU14: =IF(AQ14="P",IF(AT14<5,"SI","NO"),IF(AQ14="D",IF(AT14<9,"SI","NO"),IF(AQ14="C",IF(AT14<17,"SI","NO"),IF(AQ14="A",IF(AT14<31,"SI","NO"))))) -> SI | AV14: =IF(AQ14="P",IF(AT14<3,"SI","NO"),IF(AQ14="D",IF(AT14<5,"SI","NO"),IF(AQ14="C",IF(AT14<9,"SI","NO"),IF(AQ14="A",IF(AT14<16,"SI","NO"))))) -> SI | AX14: C | AY14: NANDEZ | BA14: 2 | BE14: C | BF14: ZANIOLO | BH14: 16 | BL14: C | BM14: LOCATELLI | BO14: 1
A15: C | B15: MARIN | D15: 1 | E15: =IF(A15="P",IF(D15<5,"SI","NO"),IF(A15="D",IF(D15<9,"SI","NO"),IF(A15="C",IF(D15<17,"SI","NO"),IF(A15="A",IF(D15<31,"SI","NO"))))) -> SI | F15: =IF(A15="P",IF(D15<3,"SI","NO"),IF(A15="D",IF(D15<5,"SI","NO"),IF(A15="C",IF(D15<9,"SI","NO"),IF(A15="A",IF(D15<16,"SI","NO"))))) -> SI | H15: C | I15: KUCKA | K15: 16 | L15: =IF(H15="P",IF(K15<5,"SI","NO"),IF(H15="D",IF(K15<9,"SI","NO"),IF(H15="C",IF(K15<17,"SI","NO"),IF(H15="A",IF(K15<31,"SI","NO"))))) -> SI | M15: =IF(H15="P",IF(K15<3,"SI","NO"),IF(H15="D",IF(K15<5,"SI","NO"),IF(H15="C",IF(K15<9,"SI","NO"),IF(H15="A",IF(K15<16,"SI","NO"))))) -> NO | O15: C | P15: LUIS ALBERTO | R15: 57 | S15: =IF(O15="P",IF(R15<5,"SI","NO"),IF(O15="D",IF(R15<9,"SI","NO"),IF(O15="C",IF(R15<17,"SI","NO"),IF(O15="A",IF(R15<31,"SI","NO"))))) -> NO | T15: =IF(O15="P",IF(R15<3,"SI","NO"),IF(O15="D",IF(R15<5,"SI","NO"),IF(O15="C",IF(R15<9,"SI","NO"),IF(O15="A",IF(R15<16,"SI","NO"))))) -> NO | V15: C | W15: ZIELINSKI | Y15: 20 | Z15: =IF(V15="P",IF(Y15<5,"SI","NO"),IF(V15="D",IF(Y15<9,"SI","NO"),IF(V15="C",IF(Y15<17,"SI","NO"),IF(V15="A",IF(Y15<31,"SI","NO"))))) -> NO | AA15: =IF(V15="P",IF(Y15<3,"SI","NO"),IF(V15="D",IF(Y15<5,"SI","NO"),IF(V15="C",IF(Y15<9,"SI","NO"),IF(V15="A",IF(Y15<16,"SI","NO"))))) -> NO | AC15: C | AD15: KOVALENKO | AF15: 6 | AG15: =IF(AC15="P",IF(AF15<5,"SI","NO"),IF(AC15="D",IF(AF15<9,"SI","NO"),IF(AC15="C",IF(AF15<17,"SI","NO"),IF(AC15="A",IF(AF15<31,"SI","NO"))))) -> SI | AH15: =IF(AC15="P",IF(AF15<3,"SI","NO"),IF(AC15="D",IF(AF15<5,"SI","NO"),IF(AC15="C",IF(AF15<9,"SI","NO"),IF(AC15="A",IF(AF15<16,"SI","NO"))))) -> SI | AJ15: C | AK15: MKHITARYAN | AM15: 56 | AN15: =IF(AJ15="P",IF(AM15<5,"SI","NO"),IF(AJ15="D",IF(AM15<9,"SI","NO"),IF(AJ15="C",IF(AM15<17,"SI","NO"),IF(AJ15="A",IF(AM15<31,"SI","NO"))))) -> NO | AO15: =IF(AJ15="P",IF(AM15<3,"SI","NO"),IF(AJ15="D",IF(AM15<5,"SI","NO"),IF(AJ15="C",IF(AM15<9,"SI","NO"),IF(AJ15="A",IF(AM15<16,"SI","NO"))))) -> NO | AQ15: C | AR15: BONAVENTURA | AT15: 24 | AU15: =IF(AQ15="P",IF(AT15<5,"SI","NO"),IF(AQ15="D",IF(AT15<9,"SI","NO"),IF(AQ15="C",IF(AT15<17,"SI","NO"),IF(AQ15="A",IF(AT15<31,"SI","NO"))))) -> NO | AV15: =IF(AQ15="P",IF(AT15<3,"SI","NO"),IF(AQ15="D",IF(AT15<5,"SI","NO"),IF(AQ15="C",IF(AT15<9,"SI","NO"),IF(AQ15="A",IF(AT15<16,"SI","NO"))))) -> NO | AX15: C | AY15: VIDAL | BA15: 38 | BB15: =IF(AX15="P",IF(BA15<5,"SI","NO"),IF(AX15="D",IF(BA15<9,"SI","NO"),IF(AX15="C",IF(BA15<17,"SI","NO"),IF(AX15="A",IF(BA15<31,"SI","NO"))))) -> NO | BC15: =IF(AX15="P",IF(BA15<3,"SI","NO"),IF(AX15="D",IF(BA15<5,"SI","NO"),IF(AX15="C",IF(BA15<9,"SI","NO"),IF(AX15="A",IF(BA15<16,"SI","NO"))))) -> NO | BE15: C | BF15: BONAVENTURA | BH15: 12 | BI15: =IF(BE15="P",IF(BH15<5,"SI","NO"),IF(BE15="D",IF(BH15<9,"SI","NO"),IF(BE15="C",IF(BH15<17,"SI","NO"),IF(BE15="A",IF(BH15<31,"SI","NO"))))) -> SI | BJ15: =IF(BE15="P",IF(BH15<3,"SI","NO"),IF(BE15="D",IF(BH15<5,"SI","NO"),IF(BE15="C",IF(BH15<9,"SI","NO"),IF(BE15="A",IF(BH15<16,"SI","NO"))))) -> NO | BL15: C | BM15: KUCKA | BO15: 18 | BP15: =IF(BL15="P",IF(BO15<5,"SI","NO"),IF(BL15="D",IF(BO15<9,"SI","NO"),IF(BL15="C",IF(BO15<17,"SI","NO"),IF(BL15="A",IF(BO15<31,"SI","NO"))))) -> NO | BQ15: =IF(BL15="P",IF(BO15<3,"SI","NO"),IF(BL15="D",IF(BO15<5,"SI","NO"),IF(BL15="C",IF(BO15<9,"SI","NO"),IF(BL15="A",IF(BO15<16,"SI","NO"))))) -> NO
A16: C | B16: BARAK | D16: 2 | E16: =IF(A16="P",IF(D16<5,"SI","NO"),IF(A16="D",IF(D16<9,"SI","NO"),IF(A16="C",IF(D16<17,"SI","NO"),IF(A16="A",IF(D16<31,"SI","NO"))))) -> SI | F16: =IF(A16="P",IF(D16<3,"SI","NO"),IF(A16="D",IF(D16<5,"SI","NO"),IF(A16="C",IF(D16<9,"SI","NO"),IF(A16="A",IF(D16<16,"SI","NO"))))) -> SI | H16: C | I16: ZIELINSKI | K16: 26 | L16: =IF(H16="P",IF(K16<5,"SI","NO"),IF(H16="D",IF(K16<9,"SI","NO"),IF(H16="C",IF(K16<17,"SI","NO"),IF(H16="A",IF(K16<31,"SI","NO"))))) -> NO | M16: =IF(H16="P",IF(K16<3,"SI","NO"),IF(H16="D",IF(K16<5,"SI","NO"),IF(H16="C",IF(K16<9,"SI","NO"),IF(H16="A",IF(K16<16,"SI","NO"))))) -> NO | O16: C | P16: ARTHUR | R16: 13 | S16: =IF(O16="P",IF(R16<5,"SI","NO"),IF(O16="D",IF(R16<9,"SI","NO"),IF(O16="C",IF(R16<17,"SI","NO"),IF(O16="A",IF(R16<31,"SI","NO"))))) -> SI | T16: =IF(O16="P",IF(R16<3,"SI","NO"),IF(O16="D",IF(R16<5,"SI","NO"),IF(O16="C",IF(R16<9,"SI","NO"),IF(O16="A",IF(R16<16,"SI","NO"))))) -> NO | V16: C | W16: DE PAUL | Y16: 50 | Z16: =IF(V16="P",IF(Y16<5,"SI","NO"),IF(V16="D",IF(Y16<9,"SI","NO"),IF(V16="C",IF(Y16<17,"SI","NO"),IF(V16="A",IF(Y16<31,"SI","NO"))))) -> NO | AA16: =IF(V16="P",IF(Y16<3,"SI","NO"),IF(V16="D",IF(Y16<5,"SI","NO"),IF(V16="C",IF(Y16<9,"SI","NO"),IF(V16="A",IF(Y16<16,"SI","NO"))))) -> NO | AC16: C | AD16: CHIESA | AF16: 41 | AG16: =IF(AC16="P",IF(AF16<5,"SI","NO"),IF(AC16="D",IF(AF16<9,"SI","NO"),IF(AC16="C",IF(AF16<17,"SI","NO"),IF(AC16="A",IF(AF16<31,"SI","NO"))))) -> NO | AH16: =IF(AC16="P",IF(AF16<3,"SI","NO"),IF(AC16="D",IF(AF16<5,"SI","NO"),IF(AC16="C",IF(AF16<9,"SI","NO"),IF(AC16="A",IF(AF16<16,"SI","NO"))))) -> NO | AJ16: C | AK16: DIAZ B. | AM16: 18 | AN16: =IF(AJ16="P",IF(AM16<5,"SI","NO"),IF(AJ16="D",IF(AM16<9,"SI","NO"),IF(AJ16="C",IF(AM16<17,"SI","NO"),IF(AJ16="A",IF(AM16<31,"SI","NO"))))) -> NO | AO16: =IF(AJ16="P",IF(AM16<3,"SI","NO"),IF(AJ16="D",IF(AM16<5,"SI","NO"),IF(AJ16="C",IF(AM16<9,"SI","NO"),IF(AJ16="A",IF(AM16<16,"SI","NO"))))) -> NO | AQ16: C | AR16: CANDREVA | AT16: 27 | AU16: =IF(AQ16="P",IF(AT16<5,"SI","NO"),IF(AQ16="D",IF(AT16<9,"SI","NO"),IF(AQ16="C",IF(AT16<17,"SI","NO"),IF(AQ16="A",IF(AT16<31,"SI","NO"))))) -> NO | AV16: =IF(AQ16="P",IF(AT16<3,"SI","NO"),IF(AQ16="D",IF(AT16<5,"SI","NO"),IF(AQ16="C",IF(AT16<9,"SI","NO"),IF(AQ16="A",IF(AT16<16,"SI","NO"))))) -> NO | AX16: C | AY16: RUIZ | BA16: 19 | BB16: =IF(AX16="P",IF(BA16<5,"SI","NO"),IF(AX16="D",IF(BA16<9,"SI","NO"),IF(AX16="C",IF(BA16<17,"SI","NO"),IF(AX16="A",IF(BA16<31,"SI","NO"))))) -> NO | BC16: =IF(AX16="P",IF(BA16<3,"SI","NO"),IF(AX16="D",IF(BA16<5,"SI","NO"),IF(AX16="C",IF(BA16<9,"SI","NO"),IF(AX16="A",IF(BA16<16,"SI","NO"))))) -> NO | BE16: C | BF16: CALHANOGLU | BH16: 80 | BI16: =IF(BE16="P",IF(BH16<5,"SI","NO"),IF(BE16="D",IF(BH16<9,"SI","NO"),IF(BE16="C",IF(BH16<17,"SI","NO"),IF(BE16="A",IF(BH16<31,"SI","NO"))))) -> NO | BJ16: =IF(BE16="P",IF(BH16<3,"SI","NO"),IF(BE16="D",IF(BH16<5,"SI","NO"),IF(BE16="C",IF(BH16<9,"SI","NO"),IF(BE16="A",IF(BH16<16,"SI","NO"))))) -> NO | BL16: C | BM16: MIRANCHUK | BO16: 16 | BP16: =IF(BL16="P",IF(BO16<5,"SI","NO"),IF(BL16="D",IF(BO16<9,"SI","NO"),IF(BL16="C",IF(BO16<17,"SI","NO"),IF(BL16="A",IF(BO16<31,"SI","NO"))))) -> SI | BQ16: =IF(BL16="P",IF(BO16<3,"SI","NO"),IF(BL16="D",IF(BO16<5,"SI","NO"),IF(BL16="C",IF(BO16<9,"SI","NO"),IF(BL16="A",IF(BO16<16,"SI","NO"))))) -> NO
A17: C | B17: LOCATELLI | D17: 15 | E17: =IF(A17="P",IF(D17<5,"SI","NO"),IF(A17="D",IF(D17<9,"SI","NO"),IF(A17="C",IF(D17<17,"SI","NO"),IF(A17="A",IF(D17<31,"SI","NO"))))) -> SI | F17: =IF(A17="P",IF(D17<3,"SI","NO"),IF(A17="D",IF(D17<5,"SI","NO"),IF(A17="C",IF(D17<9,"SI","NO"),IF(A17="A",IF(D17<16,"SI","NO"))))) -> NO | H17: C | I17: TRAORE' HJ. | K17: 8 | L17: =IF(H17="P",IF(K17<5,"SI","NO"),IF(H17="D",IF(K17<9,"SI","NO"),IF(H17="C",IF(K17<17,"SI","NO"),IF(H17="A",IF(K17<31,"SI","NO"))))) -> SI | M17: =IF(H17="P",IF(K17<3,"SI","NO"),IF(H17="D",IF(K17<5,"SI","NO"),IF(H17="C",IF(K17<9,"SI","NO"),IF(H17="A",IF(K17<16,"SI","NO"))))) -> SI | O17: C | P17: KULUSEVSKI | R17: 3 | V17: C | W17: LAZZARI | Y17: 12 | Z17: =IF(V17="P",IF(Y17<5,"SI","NO"),IF(V17="D",IF(Y17<9,"SI","NO"),IF(V17="C",IF(Y17<17,"SI","NO"),IF(V17="A",IF(Y17<31,"SI","NO"))))) -> SI | AA17: =IF(V17="P",IF(Y17<3,"SI","NO"),IF(V17="D",IF(Y17<5,"SI","NO"),IF(V17="C",IF(Y17<9,"SI","NO"),IF(V17="A",IF(Y17<16,"SI","NO"))))) -> NO | AC17: C | AD17: MIRANCHUK | AF17: 25 | AG17: =IF(AC17="P",IF(AF17<5,"SI","NO"),IF(AC17="D",IF(AF17<9,"SI","NO"),IF(AC17="C",IF(AF17<17,"SI","NO"),IF(AC17="A",IF(AF17<31,"SI","NO"))))) -> NO | AH17: =IF(AC17="P",IF(AF17<3,"SI","NO"),IF(AC17="D",IF(AF17<5,"SI","NO"),IF(AC17="C",IF(AF17<9,"SI","NO"),IF(AC17="A",IF(AF17<16,"SI","NO"))))) -> NO | AJ17: C | AK17: DE ROON | AM17: 9 | AN17: =IF(AJ17="P",IF(AM17<5,"SI","NO"),IF(AJ17="D",IF(AM17<9,"SI","NO"),IF(AJ17="C",IF(AM17<17,"SI","NO"),IF(AJ17="A",IF(AM17<31,"SI","NO"))))) -> SI | AO17: =IF(AJ17="P",IF(AM17<3,"SI","NO"),IF(AJ17="D",IF(AM17<5,"SI","NO"),IF(AJ17="C",IF(AM17<9,"SI","NO"),IF(AJ17="A",IF(AM17<16,"SI","NO"))))) -> NO | AQ17: C | AR17: POLITANO | AT17: 20 | AU17: =IF(AQ17="P",IF(AT17<5,"SI","NO"),IF(AQ17="D",IF(AT17<9,"SI","NO"),IF(AQ17="C",IF(AT17<17,"SI","NO"),IF(AQ17="A",IF(AT17<31,"SI","NO"))))) -> NO | AV17: =IF(AQ17="P",IF(AT17<3,"SI","NO"),IF(AQ17="D",IF(AT17<5,"SI","NO"),IF(AQ17="C",IF(AT17<9,"SI","NO"),IF(AQ17="A",IF(AT17<16,"SI","NO"))))) -> NO | AX17: C | AY17: KESSIE' | BA17: 16 | BB17: =IF(AX17="P",IF(BA17<5,"SI","NO"),IF(AX17="D",IF(BA17<9,"SI","NO"),IF(AX17="C",IF(BA17<17,"SI","NO"),IF(AX17="A",IF(BA17<31,"SI","NO"))))) -> SI | BC17: =IF(AX17="P",IF(BA17<3,"SI","NO"),IF(AX17="D",IF(BA17<5,"SI","NO"),IF(AX17="C",IF(BA17<9,"SI","NO"),IF(AX17="A",IF(BA17<16,"SI","NO"))))) -> NO | BE17: C | BF17: PELLEGRINI LO. | BH17: 35 | BI17: =IF(BE17="P",IF(BH17<5,"SI","NO"),IF(BE17="D",IF(BH17<9,"SI","NO"),IF(BE17="C",IF(BH17<17,"SI","NO"),IF(BE17="A",IF(BH17<31,"SI","NO"))))) -> NO | BJ17: =IF(BE17="P",IF(BH17<3,"SI","NO"),IF(BE17="D",IF(BH17<5,"SI","NO"),IF(BE17="C",IF(BH17<9,"SI","NO"),IF(BE17="A",IF(BH17<16,"SI","NO"))))) -> NO | BL17: C | BM17: SORIANO | BO17: 29 | BP17: =IF(BL17="P",IF(BO17<5,"SI","NO"),IF(BL17="D",IF(BO17<9,"SI","NO"),IF(BL17="C",IF(BO17<17,"SI","NO"),IF(BL17="A",IF(BO17<31,"SI","NO"))))) -> NO | BQ17: =IF(BL17="P",IF(BO17<3,"SI","NO"),IF(BL17="D",IF(BO17<5,"SI","NO"),IF(BL17="C",IF(BO17<9,"SI","NO"),IF(BL17="A",IF(BO17<16,"SI","NO"))))) -> NO
A18: C | B18: FREULER | D18: 10 | E18: =IF(A18="P",IF(D18<5,"SI","NO"),IF(A18="D",IF(D18<9,"SI","NO"),IF(A18="C",IF(D18<17,"SI","NO"),IF(A18="A",IF(D18<31,"SI","NO"))))) -> SI | F18: =IF(A18="P",IF(D18<3,"SI","NO"),IF(A18="D",IF(D18<5,"SI","NO"),IF(A18="C",IF(D18<9,"SI","NO"),IF(A18="A",IF(D18<16,"SI","NO"))))) -> NO | H18: C | I18: ZACCAGNI | K18: 4 | L18: =IF(H18="P",IF(K18<5,"SI","NO"),IF(H18="D",IF(K18<9,"SI","NO"),IF(H18="C",IF(K18<17,"SI","NO"),IF(H18="A",IF(K18<31,"SI","NO"))))) -> SI | M18: =IF(H18="P",IF(K18<3,"SI","NO"),IF(H18="D",IF(K18<5,"SI","NO"),IF(H18="C",IF(K18<9,"SI","NO"),IF(H18="A",IF(K18<16,"SI","NO"))))) -> SI | O18: C | P18: BENNACER | R18: 1 | S18: =IF(O18="P",IF(R18<5,"SI","NO"),IF(O18="D",IF(R18<9,"SI","NO"),IF(O18="C",IF(R18<17,"SI","NO"),IF(O18="A",IF(R18<31,"SI","NO"))))) -> SI | T18: =IF(O18="P",IF(R18<3,"SI","NO"),IF(O18="D",IF(R18<5,"SI","NO"),IF(O18="C",IF(R18<9,"SI","NO"),IF(O18="A",IF(R18<16,"SI","NO"))))) -> SI | V18: C | W18: SENSI | Y18: 7 | Z18: =IF(V18="P",IF(Y18<5,"SI","NO"),IF(V18="D",IF(Y18<9,"SI","NO"),IF(V18="C",IF(Y18<17,"SI","NO"),IF(V18="A",IF(Y18<31,"SI","NO"))))) -> SI | AA18: =IF(V18="P",IF(Y18<3,"SI","NO"),IF(V18="D",IF(Y18<5,"SI","NO"),IF(V18="C",IF(Y18<9,"SI","NO"),IF(V18="A",IF(Y18<16,"SI","NO"))))) -> SI | AC18: C | AD18: PELLEGRINI LO | AF18: 29 | AG18: =IF(AC18="P",IF(AF18<5,"SI","NO"),IF(AC18="D",IF(AF18<9,"SI","NO"),IF(AC18="C",IF(AF18<17,"SI","NO"),IF(AC18="A",IF(AF18<31,"SI","NO"))))) -> NO | AH18: =IF(AC18="P",IF(AF18<3,"SI","NO"),IF(AC18="D",IF(AF18<5,"SI","NO"),IF(AC18="C",IF(AF18<9,"SI","NO"),IF(AC18="A",IF(AF18<16,"SI","NO"))))) -> NO | AJ18: C | AK18: SAELEMAEKERS | AM18: 5 | AN18: =IF(AJ18="P",IF(AM18<5,"SI","NO"),IF(AJ18="D",IF(AM18<9,"SI","NO"),IF(AJ18="C",IF(AM18<17,"SI","NO"),IF(AJ18="A",IF(AM18<31,"SI","NO"))))) -> SI | AO18: =IF(AJ18="P",IF(AM18<3,"SI","NO"),IF(AJ18="D",IF(AM18<5,"SI","NO"),IF(AJ18="C",IF(AM18<9,"SI","NO"),IF(AJ18="A",IF(AM18<16,"SI","NO"))))) -> SI | AQ18: C | AR18: CASTILLEJO | AT18: 9 | AU18: =IF(AQ18="P",IF(AT18<5,"SI","NO"),IF(AQ18="D",IF(AT18<9,"SI","NO"),IF(AQ18="C",IF(AT18<17,"SI","NO"),IF(AQ18="A",IF(AT18<31,"SI","NO"))))) -> SI | AV18: =IF(AQ18="P",IF(AT18<3,"SI","NO"),IF(AQ18="D",IF(AT18<5,"SI","NO"),IF(AQ18="C",IF(AT18<9,"SI","NO"),IF(AQ18="A",IF(AT18<16,"SI","NO"))))) -> NO | AX18: C | AY18: BENTANCUR | BA18: 14 | BB18: =IF(AX18="P",IF(BA18<5,"SI","NO"),IF(AX18="D",IF(BA18<9,"SI","NO"),IF(AX18="C",IF(BA18<17,"SI","NO"),IF(AX18="A",IF(BA18<31,"SI","NO"))))) -> SI | BC18: =IF(AX18="P",IF(BA18<3,"SI","NO"),IF(AX18="D",IF(BA18<5,"SI","NO"),IF(AX18="C",IF(BA18<9,"SI","NO"),IF(AX18="A",IF(BA18<16,"SI","NO"))))) -> NO | BE18: C | BF18: PULGAR | BH18: 6 | BI18: =IF(BE18="P",IF(BH18<5,"SI","NO"),IF(BE18="D",IF(BH18<9,"SI","NO"),IF(BE18="C",IF(BH18<17,"SI","NO"),IF(BE18="A",IF(BH18<31,"SI","NO"))))) -> SI | BJ18: =IF(BE18="P",IF(BH18<3,"SI","NO"),IF(BE18="D",IF(BH18<5,"SI","NO"),IF(BE18="C",IF(BH18<9,"SI","NO"),IF(BE18="A",IF(BH18<16,"SI","NO"))))) -> SI | BL18: C | BM18: TRAORE' HJ. | BO18: 1 | BP18: =IF(BL18="P",IF(BO18<5,"SI","NO"),IF(BL18="D",IF(BO18<9,"SI","NO"),IF(BL18="C",IF(BO18<17,"SI","NO"),IF(BL18="A",IF(BO18<31,"SI","NO"))))) -> SI | BQ18: =IF(BL18="P",IF(BO18<3,"SI","NO"),IF(BL18="D",IF(BO18<5,"SI","NO"),IF(BL18="C",IF(BO18<9,"SI","NO"),IF(BL18="A",IF(BO18<16,"SI","NO"))))) -> SI
A19: C | B19: PESSINA | D19: 40 | E19: =IF(A19="P",IF(D19<5,"SI","NO"),IF(A19="D",IF(D19<9,"SI","NO"),IF(A19="C",IF(D19<17,"SI","NO"),IF(A19="A",IF(D19<31,"SI","NO"))))) -> NO | F19: =IF(A19="P",IF(D19<3,"SI","NO"),IF(A19="D",IF(D19<5,"SI","NO"),IF(A19="C",IF(D19<9,"SI","NO"),IF(A19="A",IF(D19<16,"SI","NO"))))) -> NO | H19: C | I19: JANKTO | K19: 1 | L19: =IF(H19="P",IF(K19<5,"SI","NO"),IF(H19="D",IF(K19<9,"SI","NO"),IF(H19="C",IF(K19<17,"SI","NO"),IF(H19="A",IF(K19<31,"SI","NO"))))) -> SI | M19: =IF(H19="P",IF(K19<3,"SI","NO"),IF(H19="D",IF(K19<5,"SI","NO"),IF(H19="C",IF(K19<9,"SI","NO"),IF(H19="A",IF(K19<16,"SI","NO"))))) -> SI | O19: C | P19: ILIC | R19: 1 | S19: =IF(O19="P",IF(R19<5,"SI","NO"),IF(O19="D",IF(R19<9,"SI","NO"),IF(O19="C",IF(R19<17,"SI","NO"),IF(O19="A",IF(R19<31,"SI","NO"))))) -> SI | T19: =IF(O19="P",IF(R19<3,"SI","NO"),IF(O19="D",IF(R19<5,"SI","NO"),IF(O19="C",IF(R19<9,"SI","NO"),IF(O19="A",IF(R19<16,"SI","NO"))))) -> SI | V19: C | W19: VIDAL | Y19: 43 | Z19: =IF(V19="P",IF(Y19<5,"SI","NO"),IF(V19="D",IF(Y19<9,"SI","NO"),IF(V19="C",IF(Y19<17,"SI","NO"),IF(V19="A",IF(Y19<31,"SI","NO"))))) -> NO | AA19: =IF(V19="P",IF(Y19<3,"SI","NO"),IF(V19="D",IF(Y19<5,"SI","NO"),IF(V19="C",IF(Y19<9,"SI","NO"),IF(V19="A",IF(Y19<16,"SI","NO"))))) -> NO | AC19: C | AD19: ZAJC | AF19: 7 | AG19: =IF(AC19="P",IF(AF19<5,"SI","NO"),IF(AC19="D",IF(AF19<9,"SI","NO"),IF(AC19="C",IF(AF19<17,"SI","NO"),IF(AC19="A",IF(AF19<31,"SI","NO"))))) -> SI | AH19: =IF(AC19="P",IF(AF19<3,"SI","NO"),IF(AC19="D",IF(AF19<5,"SI","NO"),IF(AC19="C",IF(AF19<9,"SI","NO"),IF(AC19="A",IF(AF19<16,"SI","NO"))))) -> SI | AJ19: C | AK19: VIOLA | AM19: 18 | AN19: =IF(AJ19="P",IF(AM19<5,"SI","NO"),IF(AJ19="D",IF(AM19<9,"SI","NO"),IF(AJ19="C",IF(AM19<17,"SI","NO"),IF(AJ19="A",IF(AM19<31,"SI","NO"))))) -> NO | AO19: =IF(AJ19="P",IF(AM19<3,"SI","NO"),IF(AJ19="D",IF(AM19<5,"SI","NO"),IF(AJ19="C",IF(AM19<9,"SI","NO"),IF(AJ19="A",IF(AM19<16,"SI","NO"))))) -> NO | AQ19: C | AR19: DJURICIC | AT19: 33 | AU19: =IF(AQ19="P",IF(AT19<5,"SI","NO"),IF(AQ19="D",IF(AT19<9,"SI","NO"),IF(AQ19="C",IF(AT19<17,"SI","NO"),IF(AQ19="A",IF(AT19<31,"SI","NO"))))) -> NO | AV19: =IF(AQ19="P",IF(AT19<3,"SI","NO"),IF(AQ19="D",IF(AT19<5,"SI","NO"),IF(AQ19="C",IF(AT19<9,"SI","NO"),IF(AQ19="A",IF(AT19<16,"SI","NO"))))) -> NO | AX19: C | AY19: ELMAS | BA19: 2 | BB19: =IF(AX19="P",IF(BA19<5,"SI","NO"),IF(AX19="D",IF(BA19<9,"SI","NO"),IF(AX19="C",IF(BA19<17,"SI","NO"),IF(AX19="A",IF(BA19<31,"SI","NO"))))) -> SI | BC19: =IF(AX19="P",IF(BA19<3,"SI","NO"),IF(AX19="D",IF(BA19<5,"SI","NO"),IF(AX19="C",IF(BA19<9,"SI","NO"),IF(AX19="A",IF(BA19<16,"SI","NO"))))) -> SI | BE19: C | BF19: MARIN | BH19: 1 | BI19: =IF(BE19="P",IF(BH19<5,"SI","NO"),IF(BE19="D",IF(BH19<9,"SI","NO"),IF(BE19="C",IF(BH19<17,"SI","NO"),IF(BE19="A",IF(BH19<31,"SI","NO"))))) -> SI | BJ19: =IF(BE19="P",IF(BH19<3,"SI","NO"),IF(BE19="D",IF(BH19<5,"SI","NO"),IF(BE19="C",IF(BH19<9,"SI","NO"),IF(BE19="A",IF(BH19<16,"SI","NO"))))) -> SI | BL19: C | BM19: BARAK | BO19: 2 | BP19: =IF(BL19="P",IF(BO19<5,"SI","NO"),IF(BL19="D",IF(BO19<9,"SI","NO"),IF(BL19="C",IF(BO19<17,"SI","NO"),IF(BL19="A",IF(BO19<31,"SI","NO"))))) -> SI | BQ19: =IF(BL19="P",IF(BO19<3,"SI","NO"),IF(BL19="D",IF(BO19<5,"SI","NO"),IF(BL19="C",IF(BO19<9,"SI","NO"),IF(BL19="A",IF(BO19<16,"SI","NO"))))) -> SI
A20: C | B20: BENALI | D20: 1 | E20: =IF(A20="P",IF(D20<5,"SI","NO"),IF(A20="D",IF(D20<9,"SI","NO"),IF(A20="C",IF(D20<17,"SI","NO"),IF(A20="A",IF(D20<31,"SI","NO"))))) -> SI | F20: =IF(A20="P",IF(D20<3,"SI","NO"),IF(A20="D",IF(D20<5,"SI","NO"),IF(A20="C",IF(D20<9,"SI","NO"),IF(A20="A",IF(D20<16,"SI","NO"))))) -> SI | H20: C | I20: LOPEZ M. | K20: 1 | L20: =IF(H20="P",IF(K20<5,"SI","NO"),IF(H20="D",IF(K20<9,"SI","NO"),IF(H20="C",IF(K20<17,"SI","NO"),IF(H20="A",IF(K20<31,"SI","NO"))))) -> SI | M20: =IF(H20="P",IF(K20<3,"SI","NO"),IF(H20="D",IF(K20<5,"SI","NO"),IF(H20="C",IF(K20<9,"SI","NO"),IF(H20="A",IF(K20<16,"SI","NO"))))) -> SI | O20: C | P20: RABIOT | R20: 1 | S20: =IF(O20="P",IF(R20<5,"SI","NO"),IF(O20="D",IF(R20<9,"SI","NO"),IF(O20="C",IF(R20<17,"SI","NO"),IF(O20="A",IF(R20<31,"SI","NO"))))) -> SI | T20: =IF(O20="P",IF(R20<3,"SI","NO"),IF(O20="D",IF(R20<5,"SI","NO"),IF(O20="C",IF(R20<9,"SI","NO"),IF(O20="A",IF(R20<16,"SI","NO"))))) -> SI | V20: C | W20: BAKAYOKO | Y20: 2 | Z20: =IF(V20="P",IF(Y20<5,"SI","NO"),IF(V20="D",IF(Y20<9,"SI","NO"),IF(V20="C",IF(Y20<17,"SI","NO"),IF(V20="A",IF(Y20<31,"SI","NO"))))) -> SI | AA20: =IF(V20="P",IF(Y20<3,"SI","NO"),IF(V20="D",IF(Y20<5,"SI","NO"),IF(V20="C",IF(Y20<9,"SI","NO"),IF(V20="A",IF(Y20<16,"SI","NO"))))) -> SI | AC20: C | AD20: PERISIC | AF20: 13 | AG20: =IF(AC20="P",IF(AF20<5,"SI","NO"),IF(AC20="D",IF(AF20<9,"SI","NO"),IF(AC20="C",IF(AF20<17,"SI","NO"),IF(AC20="A",IF(AF20<31,"SI","NO"))))) -> SI | AH20: =IF(AC20="P",IF(AF20<3,"SI","NO"),IF(AC20="D",IF(AF20<5,"SI","NO"),IF(AC20="C",IF(AF20<9,"SI","NO"),IF(AC20="A",IF(AF20<16,"SI","NO"))))) -> NO | AJ20: C | AK20: MIGUEL VELOSO | AM20: 2 | AN20: =IF(AJ20="P",IF(AM20<5,"SI","NO"),IF(AJ20="D",IF(AM20<9,"SI","NO"),IF(AJ20="C",IF(AM20<17,"SI","NO"),IF(AJ20="A",IF(AM20<31,"SI","NO"))))) -> SI | AO20: =IF(AJ20="P",IF(AM20<3,"SI","NO"),IF(AJ20="D",IF(AM20<5,"SI","NO"),IF(AJ20="C",IF(AM20<9,"SI","NO"),IF(AJ20="A",IF(AM20<16,"SI","NO"))))) -> SI | AQ20: C | AR20: DAMSGAARD | AT20: 1 | AU20: =IF(AQ20="P",IF(AT20<5,"SI","NO"),IF(AQ20="D",IF(AT20<9,"SI","NO"),IF(AQ20="C",IF(AT20<17,"SI","NO"),IF(AQ20="A",IF(AT20<31,"SI","NO"))))) -> SI | AV20: =IF(AQ20="P",IF(AT20<3,"SI","NO"),IF(AQ20="D",IF(AT20<5,"SI","NO"),IF(AQ20="C",IF(AT20<9,"SI","NO"),IF(AQ20="A",IF(AT20<16,"SI","NO"))))) -> SI | AX20: C | AY20: POBEGA | BA20: 1 | BB20: =IF(AX20="P",IF(BA20<5,"SI","NO"),IF(AX20="D",IF(BA20<9,"SI","NO"),IF(AX20="C",IF(BA20<17,"SI","NO"),IF(AX20="A",IF(BA20<31,"SI","NO"))))) -> SI | BC20: =IF(AX20="P",IF(BA20<3,"SI","NO"),IF(AX20="D",IF(BA20<5,"SI","NO"),IF(AX20="C",IF(BA20<9,"SI","NO"),IF(AX20="A",IF(BA20<16,"SI","NO"))))) -> SI | BE20: C | BF20: ELMAS | BH20: 1 | BI20: =IF(BE20="P",IF(BH20<5,"SI","NO"),IF(BE20="D",IF(BH20<9,"SI","NO"),IF(BE20="C",IF(BH20<17,"SI","NO"),IF(BE20="A",IF(BH20<31,"SI","NO"))))) -> SI | BJ20: =IF(BE20="P",IF(BH20<3,"SI","NO"),IF(BE20="D",IF(BH20<5,"SI","NO"),IF(BE20="C",IF(BH20<9,"SI","NO"),IF(BE20="A",IF(BH20<16,"SI","NO"))))) -> SI | BL20: C | BM20: VECINO | BO20: 1 | BP20: =IF(BL20="P",IF(BO20<5,"SI","NO"),IF(BL20="D",IF(BO20<9,"SI","NO"),IF(BL20="C",IF(BO20<17,"SI","NO"),IF(BL20="A",IF(BO20<31,"SI","NO"))))) -> SI | BQ20: =IF(BL20="P",IF(BO20<3,"SI","NO"),IF(BL20="D",IF(BO20<5,"SI","NO"),IF(BL20="C",IF(BO20<9,"SI","NO"),IF(BL20="A",IF(BO20<16,"SI","NO"))))) -> SI
