Workbook

Sheet Serie A
A1: Posizione classifica | B1: Societa | C1: Crediti rimanenti | D1: Crediti Lega | E1: Crediti Scambi (inserirli con + o -) | K1: Crediti Svincoli1 | L1: Riparazione1 | M1: Crediti Svincoli2 | N1: Riparazione2 | O1: Totale1 | P1: Totale | Q1: 2019/20 | U1: Scambi
A3: 1 | C3: =RoseSerieA!B3 -> 3 | K3: =SvincoliA!$B$15 -> 0 | L3: =SvincoliA!$B$29 -> 0 | M3: =SvincoliA!$B$45 -> 0 | N3: =SvincoliA!$B$59 -> 0 | O3: =C3+D3+E3+F3+G3+H3+I3+J3+K3-L3 -> 3 | P3: =C3+D3+E3+F3+G3+H3+I3+J3+K3-L3+M3-N3 -> 3 | Q3: =ROUNDDOWN(P3/3,0) -> 1
A4: 2 | C4: =RoseSerieA!H3 -> 1 | K4: =SvincoliA!$D$15 -> 0 | L4: =SvincoliA!$D$29 -> 0 | M4: =SvincoliA!$D$45 -> 0 | N4: =SvincoliA!$D$59 -> 0 | O4: =C4+D4+E4+F4+G4+H4+I4+J4+K4-L4 -> 1 | P4: =C4+D4+E4+F4+G4+H4+I4+J4+K4-L4+M4-N4 -> 1 | Q4: =ROUNDDOWN(P4/3,0) -> 0 | V4: 1
A5: 3 | C5: =RoseSerieA!D3 -> 8 | K5: =SvincoliA!$F$15 -> 0 | L5: =SvincoliA!$F$29 -> 0 | M5: =SvincoliA!$F$45 -> 0 | N5: =SvincoliA!$F$59 -> 0 | O5: =C5+D5+E5+F5+G5+H5+I5+J5+K5-L5 -> 8 | P5: =C5+D5+E5+F5+G5+H5+I5+J5+K5-L5+M5-N5 -> 8 | Q5: =ROUNDDOWN(P5/3,0) -> 2
A6: 4 | C6: =RoseSerieA!R3 -> 28 | K6: =SvincoliA!$H$15 -> 0 | L6: =SvincoliA!$H$29 -> 0 | M6: =SvincoliA!$H$45 -> 0 | N6: =SvincoliA!$H$59 -> 0 | O6: =C6+D6+E6+F6+G6+H6+I6+J6+K6-L6 -> 28 | P6: =C6+D6+E6+F6+G6+H6+I6+J6+K6-L6+M6-N6 -> 28 | Q6: =ROUNDDOWN(P6/3,0) -> 9
A7: 5 | C7: =RoseSerieA!P3 -> 0 | K7: =SvincoliA!$J$15 -> 0 | L7: =SvincoliA!$J$29 -> 0 | M7: =SvincoliA!$J$45 -> 0 | N7: =SvincoliA!$J$59 -> 0 | O7: =C7+D7+E7+F7+G7+H7+I7+J7+K7-L7 -> 0 | P7: =C7+D7+E7+F7+G7+H7+I7+J7+K7-L7+M7-N7 -> 0 | Q7: =ROUNDDOWN(P7/3,0) -> 0
A8: 6 | C8: =RoseSerieA!F3 -> 1 | K8: =SvincoliA!$L$15 -> 0 | L8: =SvincoliA!$L$29 -> 0 | M8: =SvincoliA!$L$45 -> 0 | N8: =SvincoliA!$L$59 -> 0 | O8: =C8+D8+E8+F8+G8+H8+I8+J8+K8-L8 -> 1 | P8: =C8+D8+E8+F8+G8+H8+I8+J8+K8-L8+M8-N8 -> 1 | Q8: =ROUNDDOWN(P8/3,0) -> 0
A9: 7 | C9: =RoseSerieA!J3 -> 1 | K9: =SvincoliA!$N$15 -> 0 | L9: =SvincoliA!$N$29 -> 0 | M9: =SvincoliA!$N$45 -> 0 | N9: =SvincoliA!$N$59 -> 0 | O9: =C9+D9+E9+F9+G9+H9+I9+J9+K9-L9 -> 1 | P9: =C9+D9+E9+F9+G9+H9+I9+J9+K9-L9+M9-N9 -> 1 | Q9: =ROUNDDOWN(P9/3,0) -> 0
A10: 8 | C10: =RoseSerieA!L3 -> 26 | K10: =SvincoliA!$P$15 -> 0 | L10: =SvincoliA!$P$29 -> 0 | M10: =SvincoliA!$P$45 -> 0 | N10: =SvincoliA!$P$59 -> 0 | O10: =C10+D10+E10+F10+G10+H10+I10+J10+K10-L10 -> 26 | P10: =C10+D10+E10+F10+G10+H10+I10+J10+K10-L10+M10-N10 -> 26 | Q10: =ROUNDDOWN(P10/3,0) -> 8
A11: 9 | C11: =RoseSerieA!T3 -> 1 | K11: =SvincoliA!$R$15 -> 0 | L11: =SvincoliA!$R$29 -> 0 | M11: =SvincoliA!$R$45 -> 0 | N11: =SvincoliA!$R$59 -> 0 | O11: =C11+D11+E11+F11+G11+H11+I11+J11+K11-L11 -> 1 | P11: =C11+D11+E11+F11+G11+H11+I11+J11+K11-L11+M11-N11 -> 1 | Q11: =ROUNDDOWN(P11/3,0) -> 0
A12: 10 | C12: =RoseSerieA!N3 -> 14 | K12: =SvincoliA!$T$15 -> 0 | L12: =SvincoliA!$T$29 -> 0 | M12: =SvincoliA!$T$45 -> 0 | N12: =SvincoliA!$T$59 -> 0 | O12: =C12+D12+E12+F12+G12+H12+I12+J12+K12-L12 -> 14 | P12: =C12+D12+E12+F12+G12+H12+I12+J12+K12-L12+M12-N12 -> 14 | Q12: =ROUNDDOWN(P12/3,0) -> 4

Sheet SvincoliA
A1: ='Serie A'!B3 -> 0 | C1: ='Serie A'!B4 -> 0 | E1: ='Serie A'!B5 -> 0 | G1: ='Serie A'!B6 -> 0 | I1: ='Serie A'!B7 -> 0 | K1: ='Serie A'!B8 -> 0 | M1: ='Serie A'!B9 -> 0 | O1: ='Serie A'!B10 -> 0 | Q1: ='Serie A'!B11 -> 0 | S1: ='Serie A'!B12 -> 0 | U1: Cessioni | V1: 1 Sessione
A12: Cr.Svincoli | B12: =ROUNDDOWN(SUM(B2:B10)/2,0) -> 0 | C12: Cr.Svincoli | D12: =ROUNDDOWN(SUM(D2:D10)/2,0) -> 0 | E12: Cr.Svincoli | F12: =ROUNDDOWN(SUM(F2:F10)/2,0) -> 0 | G12: Cr.Svincoli | H12: =ROUNDDOWN(SUM(H2:H10)/2,0) -> 0 | I12: Cr.Svincoli | J12: =ROUNDDOWN(SUM(J2:J10)/2,0) -> 0 | K12: Cr.Svincoli | L12: =ROUNDDOWN(SUM(L2:L10)/2,0) -> 0 | M12: Cr.Svincoli | N12: =ROUNDDOWN(SUM(N2:N10)/2,0) -> 0 | O12: Cr.Svincoli | P12: =ROUNDDOWN(SUM(P2:P10)/2,0) -> 0 | Q12: Cr.Svincoli | R12: =ROUNDDOWN(SUM(R2:R10)/2,0) -> 0 | S12: Cr.Svincoli | T12: =ROUNDDOWN(SUM(T2:T10)/2,0) -> 0
U14: Acquisti
A24: Cr.Acquisti | B24: =SUM(B14:B22) -> 0 | C24: Cr.Acquisti | D24: =SUM(D14:D22) -> 0 | E24: Cr.Acquisti | F24: =SUM(F14:F22) -> 0 | G24: Cr.Acquisti | H24: =SUM(H14:H22) -> 0 | I24: Cr.Acquisti | J24: =SUM(J14:J22) -> 0 | K24: Cr.Acquisti | L24: =SUM(L14:L22) -> 0 | M24: Cr.Acquisti | N24: =SUM(N14:N22) -> 0 | O24: Cr.Acquisti | P24: =SUM(P14:P22) -> 0 | Q24: Cr.Acquisti | R24: =SUM(R14:R22) -> 0 | S24: Cr.Acquisti | T24: =SUM(T14:T22) -> 0
B25: ='Serie A'!O3 -> 3 | D25: ='Serie A'!O4 -> 1 | F25: ='Serie A'!O5 -> 8 | H25: ='Serie A'!O6 -> 28 | J25: ='Serie A'!O7 -> 0 | L25: ='Serie A'!O8 -> 1 | N25: ='Serie A'!O9 -> 1 | P25: ='Serie A'!O10 -> 26 | R25: ='Serie A'!O11 -> 1 | T25: ='Serie A'!O12 -> 14 | U25: Parziali Live
U26: Cessioni | V26: 2 Sessione
A37: Cr.Svincoli | B37: =ROUNDDOWN(SUM(B27:B35)/2,0) -> 0 | C37: Cr.Svincoli | D37: =ROUNDDOWN(SUM(D27:D35)/2,0) -> 0 | E37: Cr.Svincoli | F37: =ROUNDDOWN(SUM(F27:F35)/2,0) -> 0 | G37: Cr.Svincoli | H37: =ROUNDDOWN(SUM(H27:H35)/2,0) -> 0 | I37: Cr.Svincoli | J37: =ROUNDDOWN(SUM(J27:J35)/2,0) -> 0 | K37: Cr.Svincoli | L37: =ROUNDDOWN(SUM(L27:L35)/2,0) -> 0 | M37: Cr.Svincoli | N37: =ROUNDDOWN(SUM(N27:N35)/2,0) -> 0 | O37: Cr.Svincoli | P37: =ROUNDDOWN(SUM(P27:P35)/2,0) -> 0 | Q37: Cr.Svincoli | R37: =ROUNDDOWN(SUM(R27:R35)/2,0) -> 0 | S37: Cr.Svincoli | T37: =ROUNDDOWN(SUM(T27:T35)/2,0) -> 0
U39: Acquisti
B48: =SUM(B39:B47) -> 0 | D48: =SUM(D39:D47) -> 0 | F48: =SUM(F39:F47) -> 0 | H48: =SUM(H39:H47) -> 0 | J48: =SUM(J39:J47) -> 0 | L48: =SUM(L39:L47) -> 0 | N48: =SUM(N39:N47) -> 0 | P48: =SUM(P39:P47) -> 0 | R48: =SUM(R39:R47) -> 0 | T48: =SUM(T39:T47) -> 0
B49: ='Serie A'!P3 -> 3 | D49: ='Serie A'!P4 -> 1 | F49: ='Serie A'!P5 -> 8 | H49: ='Serie A'!P6 -> 28 | J49: ='Serie A'!P7 -> 0 | L49: ='Serie A'!P8 -> 1 | N49: ='Serie A'!P9 -> 1 | P49: ='Serie A'!P10 -> 26 | R49: ='Serie A'!P11 -> 1 | T49: ='Serie A'!P12 -> 14 | U49: Parziali Live

Sheet RoseMercA
A1: Tette Biscottate | C1: Cyrano IR | E1: SOLOPISA | G1: MC Town | I1: Nedved11 | K1: Evribadi | M1: Mojito FC | O1: INTERFOGAT | Q1: SJ Pardus | S1: Biscotti Strimbuschistani | W1: non confermabili 2018/19
A2: Crediti Iniz. | C2: Crediti Iniz. | E2: Crediti Iniz. | G2: FlyBeard | I2: Crediti Iniz. | K2: Crediti Iniz. | M2: Crediti Iniz. | O2: Crediti Iniz. | Q2: Crediti Iniz. | S2: Crediti Iniz. | W2: nuovi acquisti 2017/18 - febbraio
W3: nuovi acquisti 2017/18 - febbraio da scambio
C4: MIRANTE | D4: 2
B7: =+SUM(B4:B6) -> 0 | D7: =+SUM(D4:D6) -> 2 | F7: =+SUM(F4:F6) -> 0 | H7: =+SUM(H4:H6) -> 0 | J7: =+SUM(J4:J6) -> 0 | L7: =+SUM(L4:L6) -> 0 | N7: =+SUM(N4:N6) -> 0 | P7: =+SUM(P4:P6) -> 0 | R7: =+SUM(R4:R6) -> 0 | T7: =+SUM(T4:T6) -> 0
A8: BENATIA | B8: 4 | C8: FAZIO | D8: 7 | I8: PEZZELLA | J8: 4 | M8: ASAMOAH | N8: 1
B16: =+SUM(B8:B15) -> 4 | D16: =+SUM(D8:D15) -> 7 | F16: =+SUM(F8:F15) -> 0 | H16: =+SUM(H8:H15) -> 0 | J16: =+SUM(J8:J15) -> 4 | L16: =+SUM(L8:L15) -> 0 | N16: =+SUM(N8:N15) -> 1 | P16: =+SUM(P8:P15) -> 0 | R16: =+SUM(R8:R15) -> 0 | T16: =+SUM(T8:T15) -> 0
E17: BERNARDESCHI | F17: 19 | S17: ILICIC | T17: 16
B25: =+SUM(B17:B24) -> 0 | D25: =+SUM(D17:D24) -> 0 | F25: =+SUM(F17:F24) -> 19 | H25: =+SUM(H17:H24) -> 0 | J25: =+SUM(J17:J24) -> 0 | L25: =+SUM(L17:L24) -> 0 | N25: =+SUM(N17:N24) -> 0 | P25: =+SUM(P17:P24) -> 0 | R25: =+SUM(R17:R24) -> 0 | T25: =+SUM(T17:T24) -> 16
E26: POLITANO | F26: 16
B32: =+SUM(B26:B31) -> 0 | D32: =+SUM(D26:D31) -> 0 | F32: =+SUM(F26:F31) -> 16 | H32: =+SUM(H26:H31) -> 0 | J32: =+SUM(J26:J31) -> 0 | L32: =+SUM(L26:L31) -> 0 | N32: =+SUM(N26:N31) -> 0 | P32: =+SUM(P26:P31) -> 0 | R32: =+SUM(R26:R31) -> 0 | T32: =+SUM(T26:T31) -> 0

Sheet RoseSerieA
A1: Tette Biscottate | C1: Cyrano IR | E1: SOLOPISA | G1: MC Town | I1: Nedved11 | K1: Evribadi | M1: Mojito FC | O1: INTERFOGAT | Q1: SJ Pardus | S1: Biscotti Strimbuschistani | W1: non confermabili 2019/20
A2: Crediti Iniz. | B2: 512 | C2: Crediti Iniz. | D2: 505 | E2: Crediti Iniz. | F2: 511 | G2: FlyBeard | H2: 513 | I2: Crediti Iniz. | J2: 507 | K2: Crediti Iniz. | L2: 510 | M2: Crediti Iniz. | N2: 502 | O2: Crediti Iniz. | P2: 504 | Q2: Crediti Iniz. | R2: 501 | S2: Crediti Iniz. | T2: 522 | W2: nuovi acquisti 2018/19 - febbraio
B3: =B2-B7-B16-B25-B32 -> 3 | D3: =D2-D7-D16-D25-D32 -> 8 | F3: =F2-F7-F16-F25-F32 -> 1 | H3: =H2-H7-H16-H25-H32 -> 1 | J3: =J2-J7-J16-J25-J32 -> 1 | L3: =L2-L7-L16-L25-L32 -> 26 | N3: =N2-N7-N16-N25-N32 -> 14 | P3: =P2-P7-P16-P25-P32 -> 0 | R3: =R2-R7-R16-R25-R32 -> 28 | T3: =T2-T7-T16-T25-T32 -> 1 | W3: nuovi acquisti 2018/19 - febbraio da scambio
A4: BERISHA | B4: 16 | C4: MIRANTE | D4: 2 | E4: SIRIGU | F4: 21 | G4: HANDANOVIC | H4: 50 | I4: DONNARUMMA | J4: 41 | K4: SKORUPSKI | L4: 1 | M4: CONSIGLI | N4: 15 | O4: MERET | P4: 1 | Q4: SZCZESNY | R4: 56 | S4: STRAKOSHA | T4: 24 | W4: riconferma 2018/19
A5: MARCHETTI | B5: 7 | C5: LAFONT | D5: 15 | E5: MUSSO | F5: 1 | G5: PADELLI | H5: 1 | I5: REINA | J5: 1 | K5: OLSEN | L5: 47 | M5: GOMIS | N5: 1 | O5: OSPINA | P5: 6 | Q5: PERIN | R5: 7 | S5: PROTO | T5: 1 | W5: riconferma 2018/19
A6: GOLLINI | B6: 7 | C6: AUDERO | D6: 13 | E6: CRAGNO | F6: 1 | G6: PROVEDEL | H6: 1 | I6: DONNARUMMA A. | J6: 1 | K6: SPORTIELLO | L6: 2 | M6: SORRENTINO | N6: 5 | O6: KARNEZIS | P6: 1 | Q6: PINSOGLIO | R6: 1 | S6: GUERRIERI | T6: 1 | W6: riconferma 2018/19
B7: =+SUM(B4:B6) -> 30 | D7: =+SUM(D4:D6) -> 30 | F7: =+SUM(F4:F6) -> 23 | H7: =+SUM(H4:H6) -> 52 | J7: =+SUM(J4:J6) -> 43 | L7: =+SUM(L4:L6) -> 50 | N7: =+SUM(N4:N6) -> 21 | P7: =+SUM(P4:P6) -> 8 | R7: =+SUM(R4:R6) -> 64 | T7: =+SUM(T4:T6) -> 26 | W7: riconferma 2018/19
A8: BENATIA | B8: 4 | C8: FAZIO | D8: 7 | E8: HATEBOER | F8: 1 | G8: CRISCITO | H8: 11 | I8: PEZZELLA | J8: 4 | K8: CACCIATORE | L8: 1 | M8: ASAMOAH | N8: 1 | O8: DE SCIGLIO | P8: 1 | Q8: BASTOS | R8: 1 | S8: KOULIBALY | T8: 35 | W8: riconferma 2018/19
A9: MANOLAS | B9: 20 | C9: CHIELLINI | D9: 19 | E9: DE SILVESTRI | F9: 25 | G9: BIRAGHI | H9: 10 | I9: GHOULAM | J9: 12 | K9: SILVESTRE | L9: 6 | M9: FLORENZI | N9: 22 | O9: CANCELO | P9: 23 | Q9: MANCINI | R9: 10 | S9: SKRINIAR | T9: 34
A10: BONUCCI | B10: 22 | C10: ROGERIO | D10: 4 | E10: NKOULOU | F10: 10 | G10: IZZO | H10: 7 | I10: TONELLI | J10: 8 | K10: DE VRJI | L10: 21 | M10: CIONEK | N10: 3 | O10: ACERBI | P10: 18 | Q10: ALBIOL | R10: 20 | S10: ROMAGNOLI | T10: 17
A11: STRYGEN LARSEN | B11: 2 | C11: MIRANDA | D11: 5 | E11: MASIELLO | F11: 20 | G11: FERRARI G. | H11: 5 | I11: ALEXSANDRO | J11: 34 | K11: ZAMPANO | L11: 3 | M11: MILENKOVIC | N11: 2 | O11: VRSALIKO | P11: 21 | Q11: KOLAROV | R11: 40 | S11: MURRU | T11: 1
A12: TOLOI | B12: 13 | C12: HISAJ | D12: 10 | E12: LIROLA | F12: 2 | G12: CONTI | H12: 11 | I12: CALDARA | J12: 17 | K12: RODRIGUEZ | L12: 10 | M12: DANILO | N12: 4 | O12: ANSALDI | P12: 13 | Q12: OPOKU | R12: 1 | S12: BERESZINSKI | T12: 3
A13: MATTIELLO | B13: 4 | C13: ROMAGNA | D13: 2 | E13: PASQUAL | F13: 1 | G13: CALABRIA | H13: 2 | I13: MARIO RUI | J13: 8 | K13: V. HUGO | L13: 6 | M13: LUIZ FELIPE | N13: 2 | O13: D'AMBROSIO | P13: 3 | Q13: SAMIR | R13: 2 | S13: DI LORENZO | T13: 4
A14: DI MARCO | B14: 1 | C14: MARCANO | D14: 1 | E14: GOLDANIGA | F14: 1 | G14: BANI | H14: 1 | I14: ROSSETTINI | J14: 1 | K14: RECA | L14: 4 | M14: MOLINARO | N14: 1 | O14: AINA | P14: 1 | Q14: ANDERSEN | R14: 1 | S14: CACERES | T14: 1
A15: PALOMINO | B15: 1 | C15: COLLEY | D15: 3 | E15: ANTONELLI | F15: 1 | G15: DURMISI | H15: 1 | I15: LIKOGIANNIS | J15: 1 | K15: GOSENS | L15: 3 | M15: DALBERT | N15: 1 | O15: DIJKS | P15: 5 | Q15: RADU | R15: 2 | S15: SRNA | T15: 6
B16: =+SUM(B8:B15) -> 67 | D16: =+SUM(D8:D15) -> 51 | F16: =+SUM(F8:F15) -> 61 | H16: =+SUM(H8:H15) -> 48 | J16: =+SUM(J8:J15) -> 85 | L16: =+SUM(L8:L15) -> 54 | N16: =+SUM(N8:N15) -> 36 | P16: =+SUM(P8:P15) -> 85 | R16: =+SUM(R8:R15) -> 77 | T16: =+SUM(T8:T15) -> 101
A17: VERETOUT | B17: 5 | C17: CRISTANTE | D17: 9 | E17: BERNARDESCHI | F17: 19 | G17: PASTORE | H17: 40 | I17: BARELLA | J17: 3 | K17: LUIS ALBERTO | L17: 10 | M17: RINCON | N17: 1 | O17: KHEDIRA | P17: 25 | Q17: MAGNANELLI | R17: 1 | S17: ILICIC | T17: 16
A18: PERISIC | B18: 73 | C18: BOATENG | D18: 38 | E18: HAMSIK | F18: 32 | G18: CALHANOGLU | H18: 60 | I18: DOUGLAS COSTA | J18: 75 | K18: FABIAN RUIZ | L18: 15 | M18: NAINGGOLAN | N18: 60 | O18: MATUIDI | P18: 16 | Q18: DZEMAILI | R18: 30 | S18: MILINKOVIC | T18: 69
A19: PASALIC | B19: 21 | C19: BARAK | D19: 10 | E19: PAROLO | F19: 10 | G19: SAPONARA | H19: 13 | I19: CHIESA | J19: 75 | K19: GERSON | L19: 8 | M19: PJANIC | N19: 55 | O19: VERDI | P19: 24 | Q19: BROZOVIC | R19: 25 | S19: BONAVENTURA | T19: 45
A20: ZAJC | B20: 23 | C20: ALLAN | D20: 20 | E20: CUADRADO | F20: 30 | G20: JOAO PEDRO | H20: 15 | I20: FOFANA | J20: 12 | K20: ZIELINSKI | L20: 30 | M20: STROOTMAN | N20: 5 | O20: MARUSIC | P20: 16 | Q20: DE PAUL | R20: 32 | S20: JANKTO | T20: 30
A21: RADOVANOVIC | B21: 1 | C21: BIRSA | D21: 21 | E21: FREULER | F21: 13 | G21: HILJEMARK | H21: 6 | I21: KRUNIC | J21: 16 | K21: EMRE CAN | L21: 32 | M21: CORREA | N21: 5 | O21: PEROTTI | P21: 21 | Q21: LAXALT | R21: 1 | S21: GIACCHERINI | T21: 37
A22: KURTIC | B22: 4 | C22: BASELLI | D22: 5 | E22: DE ROON | F22: 5 | G22: DJURICIC | H22: 1 | I22: ROMULO | J22: 9 | K22: SORIANO | L22: 22 | M22: CAPEZZI | N22: 1 | O22: LAZZARI | P22: 4 | Q22: BENASSI | R22: 10 | S22: BAKAYOKO | T22: 10
A23: CASTRO | B23: 9 | C23: RAMIREZ | D23: 26 | E23: DE ROSSI | F23: 1 | G23: CICIRETTI | H23: 3 | I23: PULGAR | J23: 1 | K23: KESSIE | L23: 20 | M23: LAZOVIC | N23: 1 | O23: LULIC | P23: 1 | Q23: BIABIANY | R23: 1 | S23: PRAET | T23: 3
A24: STULAC | B24: 1 | C24: LUCAS LEIVA | D24: 5 | E24: NZONZI | F24: 5 | G24: GRASSI | H24: 1 | I24: DI GAUDIO | J24: 1 | K24: PELLEGRINI | L24: 1 | M24: MEITE | N24: 1 | O24: VECINO | P24: 1 | Q24: DIAWARA | R24: 1 | S24: VIVIANI | T24: 1
B25: =+SUM(B17:B24) -> 137 | D25: =+SUM(D17:D24) -> 134 | F25: =+SUM(F17:F24) -> 115 | H25: =+SUM(H17:H24) -> 139 | J25: =+SUM(J17:J24) -> 192 | L25: =+SUM(L17:L24) -> 138 | N25: =+SUM(N17:N24) -> 129 | P25: =+SUM(P17:P24) -> 108 | R25: =+SUM(R17:R24) -> 101 | T25: =+SUM(T17:T24) -> 211
A26: HIGUAIN | B26: 210 | C26: BELOTTI | D26: 130 | E26: POLITANO | F26: 16 | G26: ICARDI | H26: 208 | I26: ORSOLINI | J26: 1 | K26: ZAZA | L26: 35 | M26: MILIK | N26: 15 | O26: RONALDO | P26: 212 | Q26: LASAGNA | R26: 1 | S26: DYBALA | T26: 126
A27: PIATEK | B27: 30 | C27: INSIGNE | D27: 90 | E27: DZEKO | F27: 217 | G27: SIMEONE | H27: 61 | I27: ZAPATA | J27: 52 | K27: PJACA | L27: 21 | M27: IMMOBILE | N27: 216 | O27: BARROW | P27: 48 | Q27: KOWNACKI | R27: 20 | S27: IAGO FALQUE | T27: 16
A28: PAVOLETTI | B28: 32 | C28: MANDZUKIC | D28: 50 | E28: KEITA | F28: 21 | G28: DESTRO | H28: 1 | I28: MERTENS | J28: 100 | K28: GOMEZ | L28: 83 | M28: SUSO | N28: 50 | O28: SCHICK | P28: 8 | Q28: DEFREL | R28: 35 | S28: CAPUTO | T28: 21
A29: DJORDJEVIC | B29: 1 | C29: MACHIS | D29: 9 | E29: ANTENUCCI | F29: 26 | G29: CAPRARI | H29: 1 | I29: MARTINEZ | J29: 24 | K29: INGLESE | L29: 41 | M29: LA GUMINA | N29: 10 | O29: EL SHARAAWY | P29: 10 | Q29: QUAGLIARELLA | R29: 50 | S29: BABACAR | T29: 5
A30: PALOSCHI | B30: 1 | C30: GERVINHO | D30: 2 | E30: UNDER | F30: 25 | G30: PUSSETTO | H30: 1 | I30: FAVILLI | J30: 8 | K30: BERARDI | L30: 37 | M30: CASTILLEJO | N30: 1 | O30: DI FRANCESCO | P30: 24 | Q30: KLUIVERT | R30: 40 | S30: PETAGNA | T30: 10
A31: CERRI | B31: 1 | C31: FARIAS | D31: 1 | E31: SANTANDER | F31: 6 | G31: LAPADULA | H31: 1 | I31: CAMPBELL | J31: 1 | K31: STEPINSKI | L31: 25 | M31: FALCINELLI | N31: 10 | O31: BRIGNOLA | P31: 1 | Q31: CALLEJON | R31: 85 | S31: CUTRONE | T31: 5
B32: =+SUM(B26:B31) -> 275 | D32: =+SUM(D26:D31) -> 282 | F32: =+SUM(F26:F31) -> 311 | H32: =+SUM(H26:H31) -> 273 | J32: =+SUM(J26:J31) -> 186 | L32: =+SUM(L26:L31) -> 242 | N32: =+SUM(N26:N31) -> 302 | P32: =+SUM(P26:P31) -> 303 | R32: =+SUM(R26:R31) -> 231 | T32: =+SUM(T26:T31) -> 183
B33: 4 | D33: 8 | F33: 10 | H33: 5 | J33: 7 | L33: 2 | N33: 1 | P33: 3 | R33: 9 | T33: 6 | U33: m
B34: 8 | D34: 6 | F34: 5 | H34: 3 | J34: 7 | L34: 2 | N34: 1 | P34: 4 | R34: 10 | T34: 9 | U34: f

Sheet RoseSerieB
A1: Applauso SC | C1: AS Tronzi | E1: MaBraviiisimi FC | G1: Bayer Pappiana | I1: Flybeard | K1: FC Marcellona | M1: Ibradiposi | O1: A.C. Denti | Q1: Lucense | S1: Team As Turbo | W1: non confermabili 2019/20
A2: Crediti Iniz. | B2: 511 | C2: Crediti Iniz. | D2: 513 | E2: Crediti Iniz. | F2: 503 | G2: Crediti Iniz. | H2: 509 | I2: Crediti Iniz. | J2: 506 | K2: Crediti Iniz. | L2: 509 | M2: Crediti Iniz. | N2: 516 | O2: Crediti Iniz. | P2: 501 | Q2: Crediti Iniz. | R2: 526 | S2: Crediti Iniz. | T2: 530 | W2: nuovi acquisti 2018/19 - febbraio
A3: Crediti Rim. | B3: =B2-B7-B16-B25-B32 -> 475 | C3: Crediti | D3: =D2-D7-D16-D25-D32 -> 513 | E3: Crediti | F3: =F2-F7-F16-F25-F32 -> 497 | G3: Crediti | H3: =H2-H7-H16-H25-H32 -> 509 | I3: Crediti | J3: =J2-J7-J16-J25-J32 -> 506 | K3: Crediti | L3: =L2-L7-L16-L25-L32 -> 509 | M3: Crediti | N3: =N2-N7-N16-N25-N32 -> 508 | O3: Crediti | P3: =P2-P7-P16-P25-P32 -> 492 | Q3: Crediti | R3: =R2-R7-R16-R25-R32 -> 500 | S3: Crediti | T3: =T2-T7-T16-T25-T32 -> 520 | W3: nuovi acquisti 2018/19 - febbraio da scambio
W4: riconferma 2018/19
W5: riconferma 2018/19
W6: riconferma 2018/19
B7: =+SUM(B4:B6) -> 0 | D7: =+SUM(D4:D6) -> 0 | F7: =+SUM(F4:F6) -> 0 | H7: =+SUM(H4:H6) -> 0 | J7: =+SUM(J4:J6) -> 0 | L7: =+SUM(L4:L6) -> 0 | N7: =+SUM(N4:N6) -> 0 | P7: =+SUM(P4:P6) -> 0 | R7: =+SUM(R4:R6) -> 0 | T7: =+SUM(T4:T6) -> 0 | W7: riconferma 2018/19
M8: PEZZELLA | N8: 2 | Q8: DE VRJI | R8: 10 | S8: FLORENZI | T8: 9 | W8: riconferma 2018/19
B16: =+SUM(B8:B15) -> 0 | D16: =+SUM(D8:D15) -> 0 | F16: =+SUM(F8:F15) -> 0 | H16: =+SUM(H8:H15) -> 0 | J16: =+SUM(J8:J15) -> 0 | L16: =+SUM(L8:L15) -> 0 | N16: =+SUM(N8:N15) -> 2 | P16: =+SUM(P8:P15) -> 0 | R16: =+SUM(R8:R15) -> 10 | T16: =+SUM(T8:T15) -> 9
E17: ALLAN | F17: 6 | M17: LAZZARI | N17: 6 | Q17: BERNARDESCHI | R17: 16 | S17: LUIS ALBERTO | T17: 1
B25: =+SUM(B17:B24) -> 0 | D25: =+SUM(D17:D24) -> 0 | F25: =+SUM(F17:F24) -> 6 | H25: =+SUM(H17:H24) -> 0 | J25: =+SUM(J17:J24) -> 0 | L25: =+SUM(L17:L24) -> 0 | N25: =+SUM(N17:N24) -> 6 | P25: =+SUM(P17:P24) -> 0 | R25: =+SUM(R17:R24) -> 16 | T25: =+SUM(T17:T24) -> 1
A26: ZAPATA | B26: 36 | O26: KOWNACKY | P26: 9
B32: =+SUM(B26:B31) -> 36 | D32: =+SUM(D26:D31) -> 0 | F32: =+SUM(F26:F31) -> 0 | H32: =+SUM(H26:H31) -> 0 | J32: =+SUM(J26:J31) -> 0 | L32: =+SUM(L26:L31) -> 0 | N32: =+SUM(N26:N31) -> 0 | P32: =+SUM(P26:P31) -> 9 | R32: =+SUM(R26:R31) -> 0 | T32: =+SUM(T26:T31) -> 0

Sheet Serie B
A1: Posizione classifica | B1: Societa | C1: Crediti rimanenti | D1: Crediti Lega | E1: Crediti Scambi (inserirli con + o -) | K1: Crediti Svincoli1 | L1: Riparazione1 | M1: Crediti Svincoli2 | N1: Riparazione2 | O1: Totale1 | P1: Totale | Q1: 2019/20 | U1: Scambi
A3: 1 | C3: =RoseSerieB!B3 -> 475 | K3: =SvincoliB!$B$15 -> 0 | L3: =SvincoliB!$B$29 -> 0 | M3: =SvincoliB!$B$45 -> 0 | N3: =SvincoliB!$B$59 -> 0 | O3: =C3+D3+E3+F3+G3+H3+I3+J3+K3-L3 -> 475 | P3: =C3+D3+E3+F3+G3+H3+I3+J3+K3-L3+M3-N3 -> 475 | Q3: =ROUNDDOWN(P3/3,0) -> 158
A4: 2 | C4: =RoseSerieB!H3 -> 509 | K4: =SvincoliB!$D$15 -> 0 | L4: =SvincoliB!$D$29 -> 0 | M4: =SvincoliB!$D$45 -> 0 | N4: =SvincoliB!$D$59 -> 0 | O4: =C4+D4+E4+F4+G4+H4+I4+J4+K4-L4 -> 509 | P4: =C4+D4+E4+F4+G4+H4+I4+J4+K4-L4+M4-N4 -> 509 | Q4: =ROUNDDOWN(P4/3,0) -> 169 | V4: 1
A5: 3 | C5: =RoseSerieB!D3 -> 513 | K5: =SvincoliB!$F$15 -> 0 | L5: =SvincoliB!$F$29 -> 0 | M5: =SvincoliB!$F$45 -> 0 | N5: =SvincoliB!$F$59 -> 0 | O5: =C5+D5+E5+F5+G5+H5+I5+J5+K5-L5 -> 513 | P5: =C5+D5+E5+F5+G5+H5+I5+J5+K5-L5+M5-N5 -> 513 | Q5: =ROUNDDOWN(P5/3,0) -> 171
A6: 4 | C6: =RoseSerieB!R3 -> 500 | K6: =SvincoliB!$H$15 -> 0 | L6: =SvincoliB!$H$29 -> 0 | M6: =SvincoliB!$H$45 -> 0 | N6: =SvincoliB!$H$59 -> 0 | O6: =C6+D6+E6+F6+G6+H6+I6+J6+K6-L6 -> 500 | P6: =C6+D6+E6+F6+G6+H6+I6+J6+K6-L6+M6-N6 -> 500 | Q6: =ROUNDDOWN(P6/3,0) -> 166
A7: 5 | C7: =RoseSerieB!P3 -> 492 | K7: =SvincoliB!$J$15 -> 0 | L7: =SvincoliB!$J$29 -> 0 | M7: =SvincoliB!$J$45 -> 0 | N7: =SvincoliB!$J$59 -> 0 | O7: =C7+D7+E7+F7+G7+H7+I7+J7+K7-L7 -> 492 | P7: =C7+D7+E7+F7+G7+H7+I7+J7+K7-L7+M7-N7 -> 492 | Q7: =ROUNDDOWN(P7/3,0) -> 164
A8: 6 | C8: =RoseSerieB!F3 -> 497 | K8: =SvincoliB!$L$15 -> 0 | L8: =SvincoliB!$L$29 -> 0 | M8: =SvincoliB!$L$45 -> 0 | N8: =SvincoliB!$L$59 -> 0 | O8: =C8+D8+E8+F8+G8+H8+I8+J8+K8-L8 -> 497 | P8: =C8+D8+E8+F8+G8+H8+I8+J8+K8-L8+M8-N8 -> 497 | Q8: =ROUNDDOWN(P8/3,0) -> 165
A9: 7 | C9: =RoseSerieB!J3 -> 506 | K9: =SvincoliB!$N$15 -> 0 | L9: =SvincoliB!$N$29 -> 0 | M9: =SvincoliB!$N$45 -> 0 | N9: =SvincoliB!$N$59 -> 0 | O9: =C9+D9+E9+F9+G9+H9+I9+J9+K9-L9 -> 506 | P9: =C9+D9+E9+F9+G9+H9+I9+J9+K9-L9+M9-N9 -> 506 | Q9: =ROUNDDOWN(P9/3,0) -> 168
A10: 8 | C10: =RoseSerieB!L3 -> 509 | K10: =SvincoliB!$P$15 -> 0 | L10: =SvincoliB!$P$29 -> 0 | M10: =SvincoliB!$P$45 -> 0 | N10: =SvincoliB!$P$59 -> 0 | O10: =C10+D10+E10+F10+G10+H10+I10+J10+K10-L10 -> 509 | P10: =C10+D10+E10+F10+G10+H10+I10+J10+K10-L10+M10-N10 -> 509 | Q10: =ROUNDDOWN(P10/3,0) -> 169
A11: 9 | C11: =RoseSerieB!T3 -> 520 | K11: =SvincoliB!$R$15 -> 0 | L11: =SvincoliB!$R$29 -> 0 | M11: =SvincoliB!$R$45 -> 0 | N11: =SvincoliB!$R$59 -> 0 | O11: =C11+D11+E11+F11+G11+H11+I11+J11+K11-L11 -> 520 | P11: =C11+D11+E11+F11+G11+H11+I11+J11+K11-L11+M11-N11 -> 520 | Q11: =ROUNDDOWN(P11/3,0) -> 173
A12: 10 | C12: =RoseSerieB!N3 -> 508 | K12: =SvincoliB!$T$15 -> 0 | L12: =SvincoliB!$T$29 -> 0 | M12: =SvincoliB!$T$45 -> 0 | N12: =SvincoliB!$T$59 -> 0 | O12: =C12+D12+E12+F12+G12+H12+I12+J12+K12-L12 -> 508 | P12: =C12+D12+E12+F12+G12+H12+I12+J12+K12-L12+M12-N12 -> 508 | Q12: =ROUNDDOWN(P12/3,0) -> 169

Sheet SvincoliB
A1: ='Serie B'!B3 -> 0 | C1: ='Serie B'!B4 -> 0 | E1: ='Serie B'!B5 -> 0 | G1: ='Serie B'!B6 -> 0 | I1: ='Serie B'!B7 -> 0 | K1: ='Serie B'!B8 -> 0 | M1: ='Serie B'!B9 -> 0 | O1: ='Serie B'!B10 -> 0 | Q1: ='Serie B'!B11 -> 0 | S1: ='Serie B'!B12 -> 0 | U1: Cessioni | V1: 1 Sessione
A15: Cr.Svincoli | B15: =ROUNDDOWN(SUM(B2:B13)/2,0) -> 0 | C15: Cr.Svincoli | D15: =ROUNDDOWN(SUM(D2:D13)/2,0) -> 0 | E15: Cr.Svincoli | F15: =ROUNDDOWN(SUM(F2:F13)/2,0) -> 0 | G15: Cr.Svincoli | H15: =ROUNDDOWN(SUM(H2:H13)/2,0) -> 0 | I15: Cr.Svincoli | J15: =ROUNDDOWN(SUM(J2:J13)/2,0) -> 0 | K15: Cr.Svincoli | L15: =ROUNDDOWN(SUM(L2:L13)/2,0) -> 0 | M15: Cr.Svincoli | N15: =ROUNDDOWN(SUM(N2:N13)/2,0) -> 0 | O15: Cr.Svincoli | P15: =ROUNDDOWN(SUM(P2:P13)/2,0) -> 0 | Q15: Cr.Svincoli | R15: =ROUNDDOWN(SUM(R2:R13)/2,0) -> 0 | S15: Cr.Svincoli | T15: =ROUNDDOWN(SUM(T2:T13)/2,0) -> 0
U17: Acquisti
A29: Cr.Acquisti | B29: =SUM(B17:B28) -> 0 | C29: Cr.Acquisti | D29: =SUM(D17:D28) -> 0 | E29: Cr.Acquisti | F29: =SUM(F17:F28) -> 0 | G29: Cr.Acquisti | H29: =SUM(H17:H28) -> 0 | I29: Cr.Acquisti | J29: =SUM(J17:J28) -> 0 | K29: Cr.Acquisti | L29: =SUM(L17:L28) -> 0 | M29: Cr.Acquisti | N29: =SUM(N17:N28) -> 0 | O29: Cr.Acquisti | P29: =SUM(P17:P28) -> 0 | Q29: Cr.Acquisti | R29: =SUM(R17:R28) -> 0 | S29: Cr.Acquisti | T29: =SUM(T17:T28) -> 0
B30: ='Serie B'!O8 -> 497 | D30: ='Serie B'!O9 -> 506 | F30: ='Serie B'!O10 -> 509 | H30: ='Serie B'!O11 -> 520 | J30: ='Serie B'!O12 -> 508 | L30: ='Serie B'!O13 -> 0 | N30: ='Serie B'!O14 -> 0 | P30: ='Serie B'!O15 -> 0 | R30: ='Serie B'!O16 -> 0 | T30: ='Serie B'!O17 -> 0 | U30: Parziali Live
U31: Cessioni | V31: 2 Sessione
A45: Cr.Svincoli | B45: =ROUNDDOWN(SUM(B32:B43)/2,0) -> 0 | C45: Cr.Svincoli | D45: =ROUNDDOWN(SUM(D32:D43)/2,0) -> 0 | E45: Cr.Svincoli | F45: =ROUNDDOWN(SUM(F32:F43)/2,0) -> 0 | G45: Cr.Svincoli | H45: =ROUNDDOWN(SUM(H32:H43)/2,0) -> 0 | I45: Cr.Svincoli | J45: =ROUNDDOWN(SUM(J32:J43)/2,0) -> 0 | K45: Cr.Svincoli | L45: =ROUNDDOWN(SUM(L32:L43)/2,0) -> 0 | M45: Cr.Svincoli | N45: =ROUNDDOWN(SUM(N32:N43)/2,0) -> 0 | O45: Cr.Svincoli | P45: =ROUNDDOWN(SUM(P32:P43)/2,0) -> 0 | Q45: Cr.Svincoli | R45: =ROUNDDOWN(SUM(R32:R43)/2,0) -> 0 | S45: Cr.Svincoli | T45: =ROUNDDOWN(SUM(T32:T43)/2,0) -> 0
U47: Acquisti
A59: Cr.Acquisti | B59: =SUM(B47:B58) -> 0 | C59: Cr.Acquisti | D59: =SUM(D47:D58) -> 0 | E59: Cr.Acquisti | F59: =SUM(F47:F58) -> 0 | G59: Cr.Acquisti | H59: =SUM(H47:H58) -> 0 | I59: Cr.Acquisti | J59: =SUM(J47:J58) -> 0 | K59: Cr.Acquisti | L59: =SUM(L47:L58) -> 0 | M59: Cr.Acquisti | N59: =SUM(N47:N58) -> 0 | O59: Cr.Acquisti | P59: =SUM(P47:P58) -> 0 | Q59: Cr.Acquisti | R59: =SUM(R47:R58) -> 0 | S59: Cr.Acquisti | T59: =SUM(T47:T58) -> 0
B60: ='Serie B'!P14 -> 0 | D60: ='Serie B'!P15 -> 0 | F60: ='Serie B'!P16 -> 0 | H60: ='Serie B'!P17 -> 0 | J60: ='Serie B'!P18 -> 0 | L60: ='Serie B'!P19 -> 0 | N60: ='Serie B'!P20 -> 0 | P60: ='Serie B'!P21 -> 0 | R60: ='Serie B'!P22 -> 0 | T60: ='Serie B'!P23 -> 0 | U60: Parziali Live

Sheet RoseMercB
A1: Applauso SC | C1: AS Tronzi | E1: MaBraviiisimi FC | G1: Bayer Pappiana | I1: Flybeard | K1: FC Marcellona | M1: Ibradiposi | O1: A.C. Denti | Q1: Lucense | S1: Team As Turbo | W1: non confermabili 2019/20
A2: Crediti Iniz. | B2: 511 | C2: Crediti Iniz. | D2: 513 | E2: Crediti Iniz. | F2: 503 | G2: Crediti Iniz. | H2: 509 | I2: Crediti Iniz. | J2: 506 | K2: Crediti Iniz. | L2: 509 | M2: Crediti Iniz. | N2: 516 | O2: Crediti Iniz. | P2: 501 | Q2: Crediti Iniz. | R2: 526 | S2: Crediti Iniz. | T2: 521 | W2: nuovi acquisti 2018/19 - febbraio
A3: Crediti Rim. | C3: Crediti | E3: Crediti | G3: Crediti | I3: Crediti | K3: Crediti | M3: Crediti | O3: Crediti | Q3: Crediti | S3: Crediti | W3: nuovi acquisti 2018/19 - febbraio da scambio
R7: =+SUM(R4:R6) -> 0 | T7: =+SUM(T4:T6) -> 0
M8: PEZZELLA | N8: 2 | Q8: DE VRJI | R8: 10 | S8: FLORENZI | T8: 9
E17: ALLAN | F17: 6 | M17: LAZZARI | N17: 6 | Q17: BERNARDESCHI | R17: 16 | S17: LUIS ALBERTO | T17: 1
A26: ZAPATA | B26: 36 | O26: KOWNACKY | P26: 9

Sheet RoseSerieLP
A1: C.S. Riposa | C1: Cagnanese | E1: CSKA Scina | G1: Badbees | I1: SS Longobarda | K1: UnaJunglaCazo FC | M1: Brigata Gurren | O1: Skiacciak Mosca | Q1: UGF Pisa | S1: Virgy Team | W1: non confermabili 2019/20
A2: Crediti Iniz. | B2: 511 | C2: Crediti Iniz. | D2: 513 | E2: Crediti Iniz. | F2: 511 | G2: Crediti Iniz. | H2: 612 | I2: Crediti Iniz. | J2: 509 | K2: Crediti Iniz. | L2: 520 | M2: Crediti Iniz. | N2: 513 | O2: Crediti Iniz. | P2: 501 | Q2: Crediti Iniz. | R2: 528 | S2: Crediti Iniz. | T2: 518 | W2: nuovi acquisti 2018/19 - febbraio
A3: Crediti Rim. | B3: =B2-B7-B16-B25-B32 -> 5 | C3: Crediti | D3: =D2-D7-D16-D25-D32 -> 11 | E3: Crediti | F3: =F2-F7-F16-F25-F32 -> 9 | G3: Crediti | H3: =H2-H7-H16-H25-H32 -> 38 | I3: Crediti | J3: =J2-J7-J16-J25-J32 -> 5 | K3: Crediti | L3: =L2-L7-L16-L25-L32 -> 2 | M3: Crediti | N3: =N2-N7-N16-N25-N32 -> 75 | O3: Crediti | P3: =P2-P7-P16-P25-P32 -> 16 | Q3: Crediti | R3: =R2-R7-R16-R25-R32 -> 7 | S3: Crediti | T3: =T2-T7-T16-T25-T32 -> 31 | W3: nuovi acquisti 2018/19 - febbraio da scambio
A4: SZCZESNY | B4: 50 | C4: CONSIGLI | D4: 2 | E4: STRAKOSHA | F4: 20 | G4: BERISHA | H4: 1 | I4: SIRIGU | J4: 17 | K4: SKORUPSKI | L4: 7 | M4: HANDANOVIC | N4: 44 | O4: MERET | P4: 13 | Q4: LAFONT | R4: 19 | S4: DONNARUMMA | T4: 38 | W4: riconferma 2018/19
A5: PERIN | B5: 8 | C5: AUDERO | D5: 7 | E5: MARCHETTI | F5: 3 | G5: GOLLINI | H5: 6 | I5: SCUFFET | J5: 1 | K5: SORRENTINO | L5: 5 | M5: PADELLI | N5: 1 | O5: OSPINA | P5: 26 | Q5: DRAGOWSKY | R5: 1 | S5: REINA | T5: 1 | W5: riconferma 2018/19
A6: PINSOGLIO | B6: 1 | C6: OLSEN | D6: 33 | E6: PROTO | F6: 1 | G6: MUSSO | H6: 1 | I6: CRAGNO | J6: 1 | K6: GOMIS | L6: 3 | M6: BERNI | N6: 1 | O6: KARNEZIS | P6: 1 | Q6: SEPE | R6: 1 | S6: DONNARUMMA A. | T6: 1 | W6: riconferma 2018/19
B7: =+SUM(B4:B6) -> 59 | D7: =+SUM(D4:D6) -> 42 | F7: =+SUM(F4:F6) -> 24 | H7: =+SUM(H4:H6) -> 8 | J7: =+SUM(J4:J6) -> 19 | L7: =+SUM(L4:L6) -> 15 | N7: =+SUM(N4:N6) -> 46 | P7: =+SUM(P4:P6) -> 40 | R7: =+SUM(R4:R6) -> 21 | T7: =+SUM(T4:T6) -> 40 | W7: riconferma 2018/19
A8: ROMAGNOLI | B8: 9 | C8: MANOLAS | D8: 9 | E8: CHIELLINI | F8: 8 | G8: PEZZELLA G. | H8: 13 | I8: VICARI | J8: 1 | K8: CACCIATORE | L8: 4 | M8: SKRINIAR | N8: 7 | O8: DE SILVESTRI | P8: 1 | Q8: MARIO RUI | R8: 1 | S8: MASIELLO | T8: 10 | W8: riconferma 2018/19
A9: KOULIBALY | B9: 17 | C9: IZZO | D9: 2 | E9: ACERBI | F9: 15 | G9: BANI | H9: 1 | I9: HATEBOER | J9: 12 | K9: FAZIO | L9: 9 | M9: DIJKS | N9: 6 | O9: ALEXSANDRO | P9: 16 | Q9: CANCELO | R9: 21 | S9: ANDERSEN | T9: 3
A10: BONUCCI | B10: 15 | C10: ANSALDI | D10: 9 | E10: CRISCITO | F10: 14 | G10: NKOULOU | H10: 14 | I10: TONELLI | J10: 4 | K10: RODRIGUEZ | L10: 5 | M10: SPOLLI | N10: 2 | O10: CALDARA | P10: 11 | Q10: VRSALIKO | R10: 9 | S10: KOLAROV | T10: 27
A11: CALABRIA | B11: 6 | C11: GOSENS | D11: 6 | E11: BRUNO ALVES | F11: 2 | G11: MAGNANI | H11: 2 | I11: BONIFAZI | J11: 1 | K11: LUIZ FELIPE | L11: 3 | M11: DI LORENZO | N11: 3 | O11: FLORENZI | P11: 20 | Q11: CIONEK | R11: 1 | S11: DE VRJI | T11: 17
A12: ALBIOL | B12: 10 | C12: SILVESTRE | D12: 3 | E12: COLLEY | F12: 4 | G12: MILENKOVIC | H12: 4 | I12: FERRARI A. | J12: 1 | K12: BIRAGHI | L12: 3 | M12: FERRARI G. | N12: 3 | O12: KARSDORP | P12: 1 | Q12: SAMIR | R12: 1 | S12: RASMUSSEN | T12: 1
A13: SRNA | B13: 1 | C13: VICTOR HUGO | D13: 3 | E13: LIROLA | F13: 2 | G13: ROMAGNA | H13: 1 | I13: GAGLIOLO | J13: 1 | K13: GOLDANIGA | L13: 1 | M13: STRYGEN LARSEN | N13: 3 | O13: HYSAJ | P13: 5 | Q13: WALLACE | R13: 2 | S13: TOLOI | T13: 10
A14: GHOULAM | B14: 3 | C14: MOLINARO | D14: 2 | E14: ZAMPANO | F14: 1 | G14: ASAMOAH | H14: 7 | I14: MANCINI | J14: 4 | K14: LEMOS | L14: 1 | M14: D'AMBROSIO | N14: 1 | O14: ROGERIO | P14: 1 | Q14: MATTIELLO | R14: 1 | S14: KLAVAN | T14: 1
A15: BERESZINSKI | B15: 1 | C15: RADU | D15: 1 | E15: CONTI | F15: 4 | G15: FELIPE | H15: 1 | I15: PASQUAL | J15: 1 | K15: ZUKANOVIC | L15: 1 | M15: BENATIA | N15: 1 | O15: LYKOGIANNIS | P15: 3 | Q15: PALOMINO | R15: 1 | S15: ROSSETTINI | T15: 1
B16: =+SUM(B8:B15) -> 62 | D16: =+SUM(D8:D15) -> 35 | F16: =+SUM(F8:F15) -> 50 | H16: =+SUM(H8:H15) -> 43 | J16: =+SUM(J8:J15) -> 25 | L16: =+SUM(L8:L15) -> 27 | N16: =+SUM(N8:N15) -> 26 | P16: =+SUM(P8:P15) -> 58 | R16: =+SUM(R8:R15) -> 37 | T16: =+SUM(T8:T15) -> 70
A17: FREULER | B17: 4 | C17: BORJA VALERO | D17: 17 | E17: LUIS ALBERTO | F17: 5 | G17: CRISTANTE | H17: 4 | I17: BARELLA | J17: 9 | K17: VERETOUT | L17: 1 | M17: GIACCHERINI | N17: 10 | O17: BOATENG | P17: 42 | Q17: GRASSI | R17: 1 | S17: ZIELINSKI | T17: 40
A18: BONAVENTURA | B18: 40 | C18: PJANIC | D18: 47 | E18: JANKTO | F18: 21 | G18: DOUGLAS COSTA | H18: 57 | I18: CHIESA | J18: 59 | K18: STULAC | L18: 7 | M18: ZAJC | N18: 28 | O18: PASTORE | P18: 37 | Q18: MILINKOVIC | R18: 50 | S18: BARAK | T18: 15
A19: PERISIC | B19: 56 | C19: BIRSA | D19: 16 | E19: ALLAN | F19: 37 | G19: PASALIC | H19: 16 | I19: SAPONARA | J19: 1 | K19: NAINGOLLAN | L19: 50 | M19: PAROLO | N19: 17 | O19: KHEDIRA | P19: 24 | Q19: PULGAR | R19: 7 | S19: MEITE | T19: 7
A20: EMRE CAN | B20: 10 | C20: EYSSERIC | D20: 1 | E20: SORIANO | F20: 15 | G20: KESSIE | H20: 23 | I20: DE PAUL | J20: 28 | K20: BENASSI | L20: 14 | M20: FOFANA | N20: 10 | O20: BERNARDESCHI | P20: 21 | Q20: HAMSIK | R20: 15 | S20: BASELLI | T20: 8
A21: PEROTTI | B21: 26 | C21: DUNCAN | D21: 4 | E21: MANDRAGORA | F21: 2 | G21: MAGNANELLI | H21: 2 | I21: RAMIREZ | J21: 19 | K21: ILICIC | L21: 40 | M21: DZEMAILI | N21: 17 | O21: MATUIDI | P21: 15 | Q21: CUADRADO | R21: 12 | S21: LAZZARI | T21: 16
A22: CANDREVA | B22: 1 | C22: VECINO | D22: 4 | E22: KURTIC | F22: 6 | G22: JOAO PEDRO | H22: 8 | I22: KRUNIC | J22: 21 | K22: BROZOVIC | L22: 11 | M22: HILJEMARK | N22: 4 | O22: STROOTMAN | P22: 2 | Q22: CALHANOGLU | R22: 37 | S22: DE ROON | T22: 5
A23: LUCAS LEIVA | B23: 9 | C23: BORINI | D23: 1 | E23: CORIC | F23: 1 | G23: RINCON | H23: 5 | I23: ROMULO | J23: 18 | K23: CASTRO | L23: 11 | M23: DI GAUDIO | N23: 5 | O23: MARUSIC | P23: 7 | Q23: EKDAL | R23: 2 | S23: LULIC | T23: 5
A24: CORREA | B24: 1 | C24: DE ROSSI | D24: 4 | E24: VERDI | F24: 3 | G24: CICIRETTI | H24: 2 | I24: BENNACER | J24: 1 | K24: SODDIMO | L24: 1 | M24: PRAET | N24: 1 | O24: GERSON | P24: 7 | Q24: DIAWARA | R24: 1 | S24: FABIAN RUIZ | T24: 1
B25: =+SUM(B17:B24) -> 147 | D25: =+SUM(D17:D24) -> 94 | F25: =+SUM(F17:F24) -> 90 | H25: =+SUM(H17:H24) -> 117 | J25: =+SUM(J17:J24) -> 156 | L25: =+SUM(L17:L24) -> 135 | N25: =+SUM(N17:N24) -> 92 | P25: =+SUM(P17:P24) -> 155 | R25: =+SUM(R17:R24) -> 125 | T25: =+SUM(T17:T24) -> 97
A26: QUAGLIARELLA | B26: 101 | C26: MANDZUKIC | D26: 61 | E26: IMMOBILE | F26: 231 | G26: CUTRONE | H26: 29 | I26: LASAGNA | J26: 39 | K26: BELOTTI | L26: 145 | M26: DZEKO | N26: 227 | O26: BABACAR | P26: 1 | Q26: LJAJIC | R26: 1 | S26: UNDER | T26: 3
A27: ZAPATA | B27: 51 | C27: IAGO FALQUE | D27: 36 | E27: DEFREL | F27: 16 | G27: CRISTIANO RONALDO | H27: 226 | I27: SIMEONE | J27: 160 | K27: INSIGNE | L27: 130 | M27: POLITANO | N27: 13 | O27: MERTENS | P27: 109 | Q27: CAPUTO | R27: 50 | S27: HIGUAIN | T27: 230
A28: DI FRANCESCO | B28: 11 | C28: DYBALA | D28: 126 | E28: MILIK | F28: 88 | G28: MARTINEZ | H28: 56 | I28: BERARDI | J28: 85 | K28: CALLEJON | L28: 48 | M28: LA GUMINA | N28: 13 | O28: INGLESE | P28: 61 | Q28: ICARDI | R28: 220 | S28: CIANO | T28: 11
A29: PJACA | B29: 21 | C29: GOMEZ | D29: 103 | E29: MACHIS | F29: 1 | G29: KLUIVERT | H29: 45 | I29: STEPINSKI | J29: 18 | K29: BARROW | L29: 7 | M29: EL SHARAAWY | N29: 10 | O29: ZAZA | P29: 9 | Q29: SUSO | R29: 60 | S29: ANTENUCCI | T29: 20
A30: KEITA | B30: 53 | C30: FARIAS | D30: 4 | E30: PUSSETTO | F30: 1 | G30: KOWNACKI | H30: 5 | I30: BRIGNOLA | J30: 1 | K30: FALCINELLI | L30: 10 | M30: PETAGNA | N30: 10 | O30: FAVILLI | P30: 7 | Q30: PANDEV | R30: 6 | S30: SCHICK | T30: 15
A31: PALOSCHI | B31: 1 | C31: RIGONI | D31: 1 | E31: MIRALLAS | F31: 1 | G31: PIATEK | H31: 45 | I31: KOUAME | J31: 1 | K31: PERICA | L31: 1 | M31: PALACIO | N31: 1 | O31: PAVOLETTI | P31: 45 | Q31: GERVINHO | R31: 1 | S31: MEDEIROS | T31: 1
B32: =+SUM(B26:B31) -> 238 | D32: =+SUM(D26:D31) -> 331 | F32: =+SUM(F26:F31) -> 338 | H32: =+SUM(H26:H31) -> 406 | J32: =+SUM(J26:J31) -> 304 | L32: =+SUM(L26:L31) -> 341 | N32: =+SUM(N26:N31) -> 274 | P32: =+SUM(P26:P31) -> 232 | R32: =+SUM(R26:R31) -> 338 | T32: =+SUM(T26:T31) -> 280
B33: 7 | D33: 8 | F33: 5 | H33: 2 | J33: 6 | L33: 9 | N33: 10 | P33: 4 | R33: 1 | T33: 3 | U33: m

Sheet Serie C
A1: Posizione classifica | B1: Societa | C1: Crediti rimanenti | D1: Crediti Lega | E1: Crediti Scambi (inserirli con + o -) | K1: Crediti Svincoli1 | L1: Riparazione1 | M1: Crediti Svincoli2 | N1: Riparazione2 | O1: Totale1 | P1: Totale | Q1: 2019/20 | U1: Scambi
A3: 1 | C3: =RoseSerieLP!B3 -> 5 | K3: =SvincoliLP!$B$15 -> 0 | L3: =SvincoliLP!$B$29 -> 0 | M3: =SvincoliLP!$B$45 -> 0 | N3: =SvincoliLP!$B$59 -> 0 | O3: =C3+D3+E3+F3+G3+H3+I3+J3+K3-L3 -> 5 | P3: =C3+D3+E3+F3+G3+H3+I3+J3+K3-L3+M3-N3 -> 5 | Q3: =ROUNDDOWN(P3/3,0) -> 1
A4: 2 | C4: =RoseSerieLP!H3 -> 38 | K4: =SvincoliLP!$D$15 -> 0 | L4: =SvincoliLP!$D$29 -> 0 | M4: =SvincoliLP!$D$45 -> 0 | N4: =SvincoliLP!$D$59 -> 0 | O4: =C4+D4+E4+F4+G4+H4+I4+J4+K4-L4 -> 38 | P4: =C4+D4+E4+F4+G4+H4+I4+J4+K4-L4+M4-N4 -> 38 | Q4: =ROUNDDOWN(P4/3,0) -> 12 | V4: 1
A5: 3 | C5: =RoseSerieLP!D3 -> 11 | K5: =SvincoliLP!$F$15 -> 0 | L5: =SvincoliLP!$F$29 -> 0 | M5: =SvincoliLP!$F$45 -> 0 | N5: =SvincoliLP!$F$59 -> 0 | O5: =C5+D5+E5+F5+G5+H5+I5+J5+K5-L5 -> 11 | P5: =C5+D5+E5+F5+G5+H5+I5+J5+K5-L5+M5-N5 -> 11 | Q5: =ROUNDDOWN(P5/3,0) -> 3
A6: 4 | C6: =RoseSerieLP!R3 -> 7 | K6: =SvincoliLP!$H$15 -> 0 | L6: =SvincoliLP!$H$29 -> 0 | M6: =SvincoliLP!$H$45 -> 0 | N6: =SvincoliLP!$H$59 -> 0 | O6: =C6+D6+E6+F6+G6+H6+I6+J6+K6-L6 -> 7 | P6: =C6+D6+E6+F6+G6+H6+I6+J6+K6-L6+M6-N6 -> 7 | Q6: =ROUNDDOWN(P6/3,0) -> 2
A7: 5 | C7: =RoseSerieLP!P3 -> 16 | K7: =SvincoliLP!$J$15 -> 0 | L7: =SvincoliLP!$J$29 -> 0 | M7: =SvincoliLP!$J$45 -> 0 | N7: =SvincoliLP!$J$59 -> 0 | O7: =C7+D7+E7+F7+G7+H7+I7+J7+K7-L7 -> 16 | P7: =C7+D7+E7+F7+G7+H7+I7+J7+K7-L7+M7-N7 -> 16 | Q7: =ROUNDDOWN(P7/3,0) -> 5
A8: 6 | C8: =RoseSerieLP!F3 -> 9 | K8: =SvincoliLP!$L$15 -> 0 | L8: =SvincoliLP!$L$29 -> 0 | M8: =SvincoliLP!$L$45 -> 0 | N8: =SvincoliLP!$L$59 -> 0 | O8: =C8+D8+E8+F8+G8+H8+I8+J8+K8-L8 -> 9 | P8: =C8+D8+E8+F8+G8+H8+I8+J8+K8-L8+M8-N8 -> 9 | Q8: =ROUNDDOWN(P8/3,0) -> 3
A9: 7 | C9: =RoseSerieLP!J3 -> 5 | K9: =SvincoliLP!$N$15 -> 0 | L9: =SvincoliLP!$N$29 -> 0 | M9: =SvincoliLP!$N$45 -> 0 | N9: =SvincoliLP!$N$59 -> 0 | O9: =C9+D9+E9+F9+G9+H9+I9+J9+K9-L9 -> 5 | P9: =C9+D9+E9+F9+G9+H9+I9+J9+K9-L9+M9-N9 -> 5 | Q9: =ROUNDDOWN(P9/3,0) -> 1
A10: 8 | C10: =RoseSerieLP!L3 -> 2 | K10: =SvincoliLP!$P$15 -> 0 | L10: =SvincoliLP!$P$29 -> 0 | M10: =SvincoliLP!$P$45 -> 0 | N10: =SvincoliLP!$P$59 -> 0 | O10: =C10+D10+E10+F10+G10+H10+I10+J10+K10-L10 -> 2 | P10: =C10+D10+E10+F10+G10+H10+I10+J10+K10-L10+M10-N10 -> 2 | Q10: =ROUNDDOWN(P10/3,0) -> 0
A11: 9 | C11: =RoseSerieLP!T3 -> 31 | K11: =SvincoliLP!$R$15 -> 0 | L11: =SvincoliLP!$R$29 -> 0 | M11: =SvincoliLP!$R$45 -> 0 | N11: =SvincoliLP!$R$59 -> 0 | O11: =C11+D11+E11+F11+G11+H11+I11+J11+K11-L11 -> 31 | P11: =C11+D11+E11+F11+G11+H11+I11+J11+K11-L11+M11-N11 -> 31 | Q11: =ROUNDDOWN(P11/3,0) -> 10
A12: 10 | C12: =RoseSerieLP!N3 -> 75 | K12: =SvincoliLP!$T$15 -> 0 | L12: =SvincoliLP!$T$29 -> 0 | M12: =SvincoliLP!$T$45 -> 0 | N12: =SvincoliLP!$T$59 -> 0 | O12: =C12+D12+E12+F12+G12+H12+I12+J12+K12-L12 -> 75 | P12: =C12+D12+E12+F12+G12+H12+I12+J12+K12-L12+M12-N12 -> 75 | Q12: =ROUNDDOWN(P12/3,0) -> 25

Sheet SvincoliLP
A1: ='Serie C'!B3 -> 0 | C1: ='Serie C'!B4 -> 0 | E1: ='Serie C'!B5 -> 0 | G1: ='Serie C'!B6 -> 0 | I1: ='Serie C'!B7 -> 0 | K1: ='Serie C'!B8 -> 0 | M1: ='Serie C'!B9 -> 0 | O1: ='Serie C'!B10 -> 0 | Q1: ='Serie C'!B11 -> 0 | S1: ='Serie C'!B12 -> 0 | U1: Cessioni | V1: 1 Sessione
A12: Cr.Svincoli | B12: =ROUNDDOWN(SUM(B2:B10)/2,0) -> 0 | C12: Cr.Svincoli | D12: =ROUNDDOWN(SUM(D2:D10)/2,0) -> 0 | E12: Cr.Svincoli | F12: =ROUNDDOWN(SUM(F2:F10)/2,0) -> 0 | G12: Cr.Svincoli | H12: =ROUNDDOWN(SUM(H2:H10)/2,0) -> 0 | I12: Cr.Svincoli | J12: =ROUNDDOWN(SUM(J2:J10)/2,0) -> 0 | K12: Cr.Svincoli | L12: =ROUNDDOWN(SUM(L2:L10)/2,0) -> 0 | M12: Cr.Svincoli | N12: =ROUNDDOWN(SUM(N2:N10)/2,0) -> 0 | O12: Cr.Svincoli | P12: =ROUNDDOWN(SUM(P2:P10)/2,0) -> 0 | Q12: Cr.Svincoli | R12: =ROUNDDOWN(SUM(R2:R10)/2,0) -> 0 | S12: Cr.Svincoli | T12: =ROUNDDOWN(SUM(T2:T10)/2,0) -> 0
U14: Acquisti
A24: Cr.Acquisti | B24: =SUM(B14:B22) -> 0 | C24: Cr.Acquisti | D24: =SUM(D14:D22) -> 0 | E24: Cr.Acquisti | F24: =SUM(F14:F22) -> 0 | G24: Cr.Acquisti | H24: =SUM(H14:H22) -> 0 | I24: Cr.Acquisti | J24: =SUM(J14:J22) -> 0 | K24: Cr.Acquisti | L24: =SUM(L14:L22) -> 0 | M24: Cr.Acquisti | N24: =SUM(N14:N22) -> 0 | O24: Cr.Acquisti | P24: =SUM(P14:P22) -> 0 | Q24: Cr.Acquisti | R24: =SUM(R14:R22) -> 0 | S24: Cr.Acquisti | T24: =SUM(T14:T22) -> 0
B25: ='Serie C'!O3 -> 5 | D25: ='Serie C'!O4 -> 38 | F25: ='Serie C'!O5 -> 11 | H25: ='Serie C'!O6 -> 7 | J25: ='Serie C'!O7 -> 16 | L25: ='Serie C'!O8 -> 9 | N25: ='Serie C'!O9 -> 5 | P25: ='Serie C'!O10 -> 2 | R25: ='Serie C'!O11 -> 31 | T25: ='Serie C'!O12 -> 75 | U25: Parziali Live
U26: Cessioni | V26: 2 Sessione
B36: =SUM(B27:B35) -> 0 | D36: =SUM(D27:D35) -> 0 | F36: =SUM(F27:F35) -> 0 | H36: =SUM(H27:H35) -> 0 | J36: =SUM(J27:J35) -> 0 | L36: =SUM(L27:L35) -> 0 | N36: =SUM(N27:N35) -> 0 | P36: =SUM(P27:P35) -> 0 | R36: =SUM(R27:R35) -> 0 | T36: =SUM(T27:T35) -> 0
A37: Cr.Svincoli | B37: =ROUNDDOWN(SUM(B27:B35)/2,0) -> 0 | C37: Cr.Svincoli | D37: =ROUNDDOWN(SUM(D27:D35)/2,0) -> 0 | E37: Cr.Svincoli | F37: =ROUNDDOWN(SUM(F27:F35)/2,0) -> 0 | G37: Cr.Svincoli | H37: =ROUNDDOWN(SUM(H27:H35)/2,0) -> 0 | I37: Cr.Svincoli | J37: =ROUNDDOWN(SUM(J27:J35)/2,0) -> 0 | K37: Cr.Svincoli | L37: =ROUNDDOWN(SUM(L27:L35)/2,0) -> 0 | M37: Cr.Svincoli | N37: =ROUNDDOWN(SUM(N27:N35)/2,0) -> 0 | O37: Cr.Svincoli | P37: =ROUNDDOWN(SUM(P27:P35)/2,0) -> 0 | Q37: Cr.Svincoli | R37: =ROUNDDOWN(SUM(R27:R35)/2,0) -> 0 | S37: Cr.Svincoli | T37: =ROUNDDOWN(SUM(T27:T35)/2,0) -> 0
U39: Acquisti
A48: Cr.Acquisti | B48: =SUM(B39:B47) -> 0 | C48: Cr.Acquisti | D48: =SUM(D39:D47) -> 0 | E48: Cr.Acquisti | F48: =SUM(F39:F47) -> 0 | G48: Cr.Acquisti | H48: =SUM(H39:H47) -> 0 | I48: Cr.Acquisti | J48: =SUM(J39:J47) -> 0 | K48: Cr.Acquisti | L48: =SUM(L39:L47) -> 0 | M48: Cr.Acquisti | N48: =SUM(N39:N47) -> 0 | O48: Cr.Acquisti | P48: =SUM(P39:P47) -> 0 | Q48: Cr.Acquisti | R48: =SUM(R39:R47) -> 0 | S48: Cr.Acquisti | T48: =SUM(T39:T47) -> 0
B49: ='Serie C'!P3 -> 5 | D49: ='Serie C'!P4 -> 38 | F49: ='Serie C'!P5 -> 11 | H49: ='Serie C'!P6 -> 7 | J49: ='Serie C'!P7 -> 16 | L49: ='Serie C'!P8 -> 9 | N49: ='Serie C'!P9 -> 5 | P49: ='Serie C'!P10 -> 2 | R49: ='Serie C'!P11 -> 31 | T49: ='Serie C'!P12 -> 75 | U49: Parziali Live

Sheet RoseMercLP
A1: C.S. Riposa | C1: Fellatio | E1: CSKA Scina | G1: Badbees | I1: SS Longobarda | K1: UnaJunglaCazo FC | M1: Brigata Gurren | O1: Skiacciak Mosca | Q1: UGF Pisa | S1: Virgy Team | W1: non confermabili 2019/20
A2: Crediti Iniz. | C2: Crediti Iniz. | E2: Crediti Iniz. | G2: Crediti Iniz. | I2: Crediti Iniz. | K2: Crediti Iniz. | M2: Crediti Iniz. | O2: Crediti Iniz. | Q2: Crediti Iniz. | S2: Crediti Iniz. | W2: nuovi acquisti 2018/19 - febbraio
A3: Crediti Rim. | C3: Crediti | E3: Crediti | G3: Crediti | I3: Crediti | K3: Crediti | M3: Crediti | O3: Crediti | Q3: Crediti | S3: Crediti | W3: nuovi acquisti 2018/19 - febbraio da scambio
B7: =+SUM(B4:B6) -> 0 | D7: =+SUM(D4:D6) -> 0 | F7: =+SUM(F4:F6) -> 0 | H7: =+SUM(H4:H6) -> 0 | J7: =+SUM(J4:J6) -> 0 | L7: =+SUM(L4:L6) -> 0 | N7: =+SUM(N4:N6) -> 0 | P7: =+SUM(P4:P6) -> 0 | R7: =+SUM(R4:R6) -> 0 | T7: =+SUM(T4:T6)+1 -> 1
A8: ROMAGNOLI | B8: 9 | C8: MANOLAS | D8: 9 | M8: SKRINIAR | N8: 7 | O8: DE SILVESTRI | P8: 1 | S8: MASIELLO | T8: 10
B16: =+SUM(B8:B15) -> 9 | D16: =+SUM(D8:D15) -> 9 | F16: =+SUM(F8:F15) -> 0 | H16: =+SUM(H8:H15) -> 0 | J16: =+SUM(J8:J15) -> 0 | L16: =+SUM(L8:L15) -> 0 | N16: =+SUM(N8:N15) -> 7 | P16: =+SUM(P8:P15) -> 1 | R16: =+SUM(R8:R15) -> 0 | T16: =+SUM(T8:T15) -> 10
A17: FREULER | B17: 4 | C17: BORJA VALERO | D17: 17 | E17: LUIS ALBERTO | F17: 5 | G17: CRISTANTE | H17: 4 | I17: BARELLA | J17: 9 | K17: VERETOUT | L17: 1 | Q17: LJAJIC | R17: 1 | S17: UNDER | T17: 3
B25: =+SUM(B17:B24) -> 4 | D25: =+SUM(D17:D24) -> 17 | F25: =+SUM(F17:F24) -> 5 | H25: =+SUM(H17:H24) -> 4 | J25: =+SUM(J17:J24) -> 9 | L25: =+SUM(L17:L24) -> 1 | N25: =+SUM(N17:N24) -> 0 | P25: =+SUM(P17:P24) -> 0 | R25: =+SUM(R17:R24) -> 1 | T25: =+SUM(T17:T24) -> 3
G26: CUTRONE | H26: 29 | I26: LASAGNA | J26: 39
B32: =+SUM(B26:B31) -> 0 | D32: =+SUM(D26:D31) -> 0 | F32: =+SUM(F26:F31) -> 0 | H32: =+SUM(H26:H31) -> 29 | J32: =+SUM(J26:J31) -> 39 | L32: =+SUM(L26:L31) -> 0 | N32: =+SUM(N26:N31) -> 0 | P32: =+SUM(P26:P31) -> 0 | R32: =+SUM(R26:R31) -> 0 | T32: =+SUM(T26:T31) -> 0

Sheet Serie D
A1: Posizione classifica | B1: Societa | C1: Crediti rimanenti | D1: Crediti Lega | E1: Crediti Scambi (inserirli con + o -) | K1: Crediti Svincoli1 | L1: Riparazione1 | M1: Crediti Svincoli2 | N1: Riparazione2 | O1: Totale1 | P1: Totale | Q1: 2019/20 | U1: Scambi
A3: 1 | C3: =RoseSerieD!B3 -> 25 | K3: =SvincoliD!$B$15 -> 0 | L3: =SvincoliD!$B$29 -> 0 | M3: =SvincoliD!$B$45 -> 0 | N3: =SvincoliD!$B$59 -> 0 | O3: =C3+D3+E3+F3+G3+H3+I3+J3+K3-L3 -> 25 | P3: =C3+D3+E3+F3+G3+H3+I3+J3+K3-L3+M3-N3 -> 25 | Q3: =ROUNDDOWN(P3/3,0) -> 8
A4: 2 | C4: =RoseSerieD!H3 -> 7 | K4: =SvincoliD!$D$15 -> 0 | L4: =SvincoliD!$D$29 -> 0 | M4: =SvincoliD!$D$45 -> 0 | N4: =SvincoliD!$D$59 -> 0 | O4: =C4+D4+E4+F4+G4+H4+I4+J4+K4-L4 -> 7 | P4: =C4+D4+E4+F4+G4+H4+I4+J4+K4-L4+M4-N4 -> 7 | Q4: =ROUNDDOWN(P4/3,0) -> 2 | V4: 1
A5: 3 | C5: =RoseSerieD!D3 -> 28 | K5: =SvincoliD!$F$15 -> 0 | L5: =SvincoliD!$F$29 -> 0 | M5: =SvincoliD!$F$45 -> 0 | N5: =SvincoliD!$F$59 -> 0 | O5: =C5+D5+E5+F5+G5+H5+I5+J5+K5-L5 -> 28 | P5: =C5+D5+E5+F5+G5+H5+I5+J5+K5-L5+M5-N5 -> 28 | Q5: =ROUNDDOWN(P5/3,0) -> 9
A6: 4 | C6: =RoseSerieD!R3 -> 13 | K6: =SvincoliD!$H$15 -> 0 | L6: =SvincoliD!$H$29 -> 0 | M6: =SvincoliD!$H$45 -> 0 | N6: =SvincoliD!$H$59 -> 0 | O6: =C6+D6+E6+F6+G6+H6+I6+J6+K6-L6 -> 13 | P6: =C6+D6+E6+F6+G6+H6+I6+J6+K6-L6+M6-N6 -> 13 | Q6: =ROUNDDOWN(P6/3,0) -> 4
A7: 5 | C7: =RoseSerieD!P3 -> 0 | K7: =SvincoliD!$J$15 -> 0 | L7: =SvincoliD!$J$29 -> 0 | M7: =SvincoliD!$J$45 -> 0 | N7: =SvincoliD!$J$59 -> 0 | O7: =C7+D7+E7+F7+G7+H7+I7+J7+K7-L7 -> 0 | P7: =C7+D7+E7+F7+G7+H7+I7+J7+K7-L7+M7-N7 -> 0 | Q7: =ROUNDDOWN(P7/3,0) -> 0
A8: 6 | C8: =RoseSerieD!F3 -> 23 | K8: =SvincoliD!$L$15 -> 0 | L8: =SvincoliD!$L$29 -> 0 | M8: =SvincoliD!$L$45 -> 0 | N8: =SvincoliD!$L$59 -> 0 | O8: =C8+D8+E8+F8+G8+H8+I8+J8+K8-L8 -> 23 | P8: =C8+D8+E8+F8+G8+H8+I8+J8+K8-L8+M8-N8 -> 23 | Q8: =ROUNDDOWN(P8/3,0) -> 7
A9: 7 | C9: =RoseSerieD!J3 -> 19 | K9: =SvincoliD!$N$15 -> 0 | L9: =SvincoliD!$N$29 -> 0 | M9: =SvincoliD!$N$45 -> 0 | N9: =SvincoliD!$N$59 -> 0 | O9: =C9+D9+E9+F9+G9+H9+I9+J9+K9-L9 -> 19 | P9: =C9+D9+E9+F9+G9+H9+I9+J9+K9-L9+M9-N9 -> 19 | Q9: =ROUNDDOWN(P9/3,0) -> 6
A10: 8 | C10: =RoseSerieD!L3 -> 23 | K10: =SvincoliD!$P$15 -> 0 | L10: =SvincoliD!$P$29 -> 0 | M10: =SvincoliD!$P$45 -> 0 | N10: =SvincoliD!$P$59 -> 0 | O10: =C10+D10+E10+F10+G10+H10+I10+J10+K10-L10 -> 23 | P10: =C10+D10+E10+F10+G10+H10+I10+J10+K10-L10+M10-N10 -> 23 | Q10: =ROUNDDOWN(P10/3,0) -> 7
A11: 9 | C11: =RoseSerieD!T3 -> 35 | K11: =SvincoliD!$R$15 -> 0 | L11: =SvincoliD!$R$29 -> 0 | M11: =SvincoliD!$R$45 -> 0 | N11: =SvincoliD!$R$59 -> 0 | O11: =C11+D11+E11+F11+G11+H11+I11+J11+K11-L11 -> 35 | P11: =C11+D11+E11+F11+G11+H11+I11+J11+K11-L11+M11-N11 -> 35 | Q11: =ROUNDDOWN(P11/3,0) -> 11
A12: 10 | C12: =RoseSerieD!N3 -> 5 | K12: =SvincoliD!$T$15 -> 0 | L12: =SvincoliD!$T$29 -> 0 | M12: =SvincoliD!$T$45 -> 0 | N12: =SvincoliD!$T$59 -> 0 | O12: =C12+D12+E12+F12+G12+H12+I12+J12+K12-L12 -> 5 | P12: =C12+D12+E12+F12+G12+H12+I12+J12+K12-L12+M12-N12 -> 5 | Q12: =ROUNDDOWN(P12/3,0) -> 1

Sheet SvincoliD
A1: ='Serie D'!B3 -> 0 | C1: ='Serie D'!B4 -> 0 | E1: ='Serie D'!B5 -> 0 | G1: ='Serie D'!B6 -> 0 | I1: ='Serie D'!B7 -> 0 | K1: ='Serie D'!B8 -> 0 | M1: ='Serie D'!B9 -> 0 | O1: ='Serie D'!B10 -> 0 | Q1: ='Serie D'!B11 -> 0 | S1: ='Serie D'!B12 -> 0 | U1: Cessioni | V1: 1 Sessione
A12: Cr.Svincoli | B12: =ROUNDDOWN(SUM(B2:B10)/2,0) -> 0 | C12: Cr.Svincoli | D12: =ROUNDDOWN(SUM(D2:D10)/2,0) -> 0 | E12: Cr.Svincoli | F12: =ROUNDDOWN(SUM(F2:F10)/2,0) -> 0 | G12: Cr.Svincoli | H12: =ROUNDDOWN(SUM(H2:H10)/2,0) -> 0 | I12: Cr.Svincoli | J12: =ROUNDDOWN(SUM(J2:J10)/2,0) -> 0 | K12: Cr.Svincoli | L12: =ROUNDDOWN(SUM(L2:L10)/2,0) -> 0 | M12: Cr.Svincoli | N12: =ROUNDDOWN(SUM(N2:N10)/2,0) -> 0 | O12: Cr.Svincoli | P12: =ROUNDDOWN(SUM(P2:P10)/2,0) -> 0 | Q12: Cr.Svincoli | R12: =ROUNDDOWN(SUM(R2:R10)/2,0) -> 0 | S12: Cr.Svincoli | T12: =ROUNDDOWN(SUM(T2:T10)/2,0) -> 0
U14: Acquisti
A24: Cr.Acquisti | B24: =SUM(B14:B22) -> 0 | C24: Cr.Acquisti | D24: =SUM(D14:D22) -> 0 | E24: Cr.Acquisti | F24: =SUM(F14:F22) -> 0 | G24: Cr.Acquisti | H24: =SUM(H14:H22) -> 0 | I24: Cr.Acquisti | J24: =SUM(J14:J22) -> 0 | K24: Cr.Acquisti | L24: =SUM(L14:L22) -> 0 | M24: Cr.Acquisti | N24: =SUM(N14:N22) -> 0 | O24: Cr.Acquisti | P24: =SUM(P14:P22) -> 0 | Q24: Cr.Acquisti | R24: =SUM(R14:R22) -> 0 | S24: Cr.Acquisti | T24: =SUM(T14:T22) -> 0
B25: ='Serie D'!O3 -> 25 | D25: ='Serie D'!O4 -> 7 | F25: ='Serie D'!O5 -> 28 | H25: ='Serie D'!O6 -> 13 | J25: ='Serie D'!O7 -> 0 | L25: ='Serie D'!O8 -> 23 | N25: ='Serie D'!O9 -> 19 | P25: ='Serie D'!O10 -> 23 | R25: ='Serie D'!O11 -> 35 | T25: ='Serie D'!O12 -> 5 | U25: Parziali Live
U26: Cessioni | V26: 2 Sessione
B36: =SUM(B27:B35) -> 0 | D36: =SUM(D27:D35) -> 0 | F36: =SUM(F27:F35) -> 0 | H36: =SUM(H27:H35) -> 0 | J36: =SUM(J27:J35) -> 0 | L36: =SUM(L27:L35) -> 0 | N36: =SUM(N27:N35) -> 0 | P36: =SUM(P27:P35) -> 0 | R36: =SUM(R27:R35) -> 0 | T36: =SUM(T27:T35) -> 0
A37: Cr.Svincoli | B37: =ROUNDDOWN(SUM(B27:B35)/2,0) -> 0 | C37: Cr.Svincoli | D37: =ROUNDDOWN(SUM(D27:D35)/2,0) -> 0 | E37: Cr.Svincoli | F37: =ROUNDDOWN(SUM(F27:F35)/2,0) -> 0 | G37: Cr.Svincoli | H37: =ROUNDDOWN(SUM(H27:H35)/2,0) -> 0 | I37: Cr.Svincoli | J37: =ROUNDDOWN(SUM(J27:J35)/2,0) -> 0 | K37: Cr.Svincoli | L37: =ROUNDDOWN(SUM(L27:L35)/2,0) -> 0 | M37: Cr.Svincoli | N37: =ROUNDDOWN(SUM(N27:N35)/2,0) -> 0 | O37: Cr.Svincoli | P37: =ROUNDDOWN(SUM(P27:P35)/2,0) -> 0 | Q37: Cr.Svincoli | R37: =ROUNDDOWN(SUM(R27:R35)/2,0) -> 0 | S37: Cr.Svincoli | T37: =ROUNDDOWN(SUM(T27:T35)/2,0) -> 0
U39: Acquisti
A48: Cr.Acquisti | B48: =SUM(B39:B47) -> 0 | C48: Cr.Acquisti | D48: =SUM(D39:D47) -> 0 | E48: Cr.Acquisti | F48: =SUM(F39:F47) -> 0 | G48: Cr.Acquisti | H48: =SUM(H39:H47) -> 0 | I48: Cr.Acquisti | J48: =SUM(J39:J47) -> 0 | K48: Cr.Acquisti | L48: =SUM(L39:L47) -> 0 | M48: Cr.Acquisti | N48: =SUM(N39:N47) -> 0 | O48: Cr.Acquisti | P48: =SUM(P39:P47) -> 0 | Q48: Cr.Acquisti | R48: =SUM(R39:R47) -> 0 | S48: Cr.Acquisti | T48: =SUM(T39:T47) -> 0
B49: ='Serie D'!P3 -> 25 | D49: ='Serie D'!P4 -> 7 | F49: ='Serie D'!P5 -> 28 | H49: ='Serie D'!P6 -> 13 | J49: ='Serie D'!P7 -> 0 | L49: ='Serie D'!P8 -> 23 | N49: ='Serie D'!P9 -> 19 | P49: ='Serie D'!P10 -> 23 | R49: ='Serie D'!P11 -> 35 | T49: ='Serie D'!P12 -> 5 | U49: Parziali Live

Sheet RoseSerieD
A1: REAL PETARE | C1: REAL CHUPITO | E1: DRAKESET | G1: STURM UND DRANG | I1: BAYERN BIKERS | K1: FANTALISBON | M1: NUMBERS | O1: FC CICCIOBUCCIO | Q1: SAMBUCA JUNIORS | S1: PAUL FRANK INDUSTRIES | W1: non confermabili 2019/20
A2: Crediti Iniz. | B2: 507 | C2: Crediti Iniz. | D2: 503 | E2: Crediti Iniz. | F2: 550 | G2: Crediti Iniz. | H2: 503 | I2: Crediti Iniz. | J2: 517 | K2: Crediti Iniz. | L2: 506 | M2: Crediti Iniz. | N2: 511 | O2: Crediti Iniz. | P2: 513 | Q2: Crediti Iniz. | R2: 514 | S2: Crediti Iniz. | T2: 510 | W2: nuovi acquisti 2018/19 - febbraio
A3: Crediti Rim. | B3: =B2-B7-B16-B25-B32 -> 25 | C3: Crediti | D3: =D2-D7-D16-D25-D32 -> 28 | E3: Crediti | F3: =F2-F7-F16-F25-F32 -> 23 | G3: Crediti | H3: =H2-H7-H16-H25-H32 -> 7 | I3: Crediti | J3: =J2-J7-J16-J25-J32 -> 19 | K3: Crediti | L3: =L2-L7-L16-L25-L32 -> 23 | M3: Crediti | N3: =N2-N7-N16-N25-N32 -> 5 | O3: Crediti | P3: =P2-P7-P16-P25-P32 -> 0 | Q3: Crediti | R3: =R2-R7-R16-R25-R32 -> 13 | S3: Crediti | T3: =T2-T7-T16-T25-T32 -> 35 | W3: nuovi acquisti 2018/19 - febbraio da scambio
A4: OLSEN | B4: 22 | C4: AUDERO | D4: 10 | E4: SZCESNY | F4: 37 | G4: STRAKOSHA | H4: 15 | I4: SKORUPSKI | J4: 1 | K4: MARCHETTI | L4: 11 | M4: CONSIGLI | N4: 1 | O4: GOMIS | P4: 1 | Q4: MERET | R4: 3 | S4: LAFONT | T4: 11 | W4: riconferma 2018/19
A5: MIRANTE | B5: 1 | C5: BELEC | D5: 1 | E5: SCUFFET | F5: 1 | G5: SEPE | H5: 1 | I5: DA COSTA | J5: 1 | K5: CRAGNO | L5: 11 | M5: SPORTIELLO | N5: 1 | O5: HANDANOVIC | P5: 38 | Q5: OSPINA | R5: 6 | S5: PROVEDEL | T5: 1 | W5: riconferma 2018/19
A6: SIRIGU | B6: 15 | C6: MUSSO | D6: 1 | E6: GOLLINI | F6: 1 | G6: PROTO | H6: 1 | I6: DONNARUMMA | J6: 20 | K6: PERIN | L6: 4 | M6: PEGOLO | N6: 1 | O6: BERISHA | P6: 9 | Q6: KARNEZIS | R6: 1 | S6: SORRENTINO | T6: 2 | W6: riconferma 2018/19
B7: =+SUM(B4:B6) -> 38 | D7: =+SUM(D4:D6) -> 12 | F7: =+SUM(F4:F6) -> 39 | H7: =+SUM(H4:H6) -> 17 | J7: =+SUM(J4:J6) -> 22 | L7: =+SUM(L4:L6) -> 26 | N7: =+SUM(N4:N6) -> 3 | P7: =+SUM(P4:P6) -> 48 | R7: =+SUM(R4:R6) -> 10 | T7: =+SUM(T4:T6) -> 14 | W7: riconferma 2018/19
A8: RUGANI | B8: 1 | C8: ROMAGNOLI | D8: 7 | E8: BENATIA | F8: 4 | G8: D'AMBROSIO | H8: 5 | I8: CALABRIA | J8: 1 | K8: FAZIO | L8: 10 | M8: GHOULAM | N8: 9 | O8: DE VRJI | P8: 29 | Q8: HYSAJ | R8: 4 | S8: ALBIOL | T8: 6 | W8: riconferma 2018/19
A9: PEZZELLA | B9: 18 | C9: DANILO | D9: 1 | E9: MORETTI | F9: 3 | G9: ACERBI | H9: 14 | I9: ALEX SANDRO | J9: 24 | K9: CANCELO | L9: 36 | M9: FERRARI (SAS) | N9: 1 | O9: MANOLAS | P9: 25 | Q9: SKRINIAR | R9: 23 | S9: KOLAROV | T9: 31
A10: KOULIBALY | B10: 30 | C10: FELIPE | D10: 1 | E10: MARIO RUI | F10: 4 | G10: VRSALJKO | H10: 12 | I10: CONTI | J10: 3 | K10: DE SCIGLIO | L10: 3 | M10: ANDERSEN | N10: 1 | O10: DE SILVESTRI | P10: 9 | Q10: BONUCCI | R10: 21 | S10: ANSALDI | T10: 4
A11: TOLOI | B11: 14 | C11: LUIZ FELIPE | D11: 3 | E11: BASTOS | F11: 3 | G11: CALDARA | H11: 13 | I11: CASTAGNE | J11: 5 | K11: MASIELLO | L11: 19 | M11: KLAVAN | N11: 1 | O11: GOSENS | P11: 7 | Q11: TONELLI | R11: 8 | S11: ASAMAOH | T11: 12
A12: CACCIATORE | B12: 5 | C12: PASQUAL | D12: 2 | E12: LIROLA | F12: 1 | G12: SRNA | H12: 3 | I12: CHIELLINI | J12: 12 | K12: FLORENZI | L12: 23 | M12: DJIKS (BOL) | N12: 1 | O12: SILVESTRE | P12: 3 | Q12: VICTOR HUGO | R12: 3 | S12: CRISCITO | T12: 11
A13: GOLDANIGA | B13: 4 | C13: MURRU | D13: 1 | E13: BEREZYNSKI | F13: 1 | G13: RODRIGUEZ R | H13: 3 | I13: MUSACCHIO | J13: 3 | K13: N'KOLOU | L13: 19 | M13: LYKOGIANNIS | N13: 1 | O13: CIONEK | P13: 4 | Q13: GAGLIOLO | R13: 1 | S13: IZZO | T13: 5
A14: LISANDRO LOPEZ | B14: 1 | C14: DI MARCO | D14: 1 | E14: CACERES | F14: 1 | G14: RADU | H14: 3 | I14: ANTONELLI | J14: 1 | K14: HATABOER | L14: 9 | M14: MOLINARO | N14: 1 | O14: BIRAGHI | P14: 3 | Q14: WALLACE | R14: 1 | S14: MIRANDA | T14: 7
A15: PALOMINO | B15: 7 | C15: ZUKANOVIC | D15: 1 | E15: SAMIR | F15: 1 | G15: AINA | H15: 1 | I15: DALBERT | J15: 1 | K15: KARSDORP | L15: 1 | M15: COLLEY | N15: 1 | O15: MANCINI | P15: 1 | Q15: LEMOS | R15: 1 | S15: MILENKOVIC | T15: 2
B16: =+SUM(B8:B15) -> 80 | D16: =+SUM(D8:D15) -> 17 | F16: =+SUM(F8:F15) -> 18 | H16: =+SUM(H8:H15) -> 54 | J16: =+SUM(J8:J15) -> 50 | L16: =+SUM(L8:L15) -> 120 | N16: =+SUM(N8:N15) -> 16 | P16: =+SUM(P8:P15) -> 81 | R16: =+SUM(R8:R15) -> 62 | T16: =+SUM(T8:T15) -> 78
A17: BIRSA | B17: 11 | C17: ALLAN | D17: 1 | E17: DE PAUL | F17: 5 | G17: LUCAS LEIVA | H17: 10 | I17: BONAVENTURA | J17: 34 | K17: ILICIC | L17: 16 | M17: KRUNIC | N17: 5 | O17: LAZZARI | P17: 16 | Q17: CALHANOGLU | R17: 15 | S17: CRISTANTE | T17: 2
A18: GERSON | B18: 19 | C18: DOUGLAS COSTA | D18: 56 | E18: CHIESA | F18: 47 | G18: VERETOUT | H18: 25 | I18: BENASSI | J18: 21 | K18: PJANIC | L18: 51 | M18: VECINO | N18: 1 | O18: NAINGOLAN | P18: 40 | Q18: MILINKOVIC SAVIC | R18: 38 | S18: PERISIC | T18: 47
A19: LUIS ALBERTO | B19: 45 | C19: CICIRETTI | D19: 10 | E19: BERNARDESCHI | F19: 18 | G19: KESSIE | H19: 17 | I19: BERENGUER | J19: 2 | K19: PASALIC | L19: 29 | M19: SAPONARA | N19: 6 | O19: DZEMAILI | P19: 6 | Q19: ZAJIC | R19: 15 | S19: RUIZ | T19: 8
A20: ROMULO | B20: 6 | C20: CUADRADO | D20: 27 | E20: CAN | F20: 25 | G20: DUNCAN | H20: 2 | I20: BOATENG | J20: 31 | K20: GIACCHERINI | L20: 16 | M20: STULAC | N20: 1 | O20: MARUSIC | P20: 1 | Q20: KHEDIRA | R20: 24 | S20: PEROTTI | T20: 16
A21: FREULER | B21: 15 | C21: BARAK | D21: 1 | E21: LINETTY | F21: 4 | G21: LULIC | H21: 1 | I21: PELLEGRINI LOR | J21: 5 | K21: CORREA | L21: 9 | M21: MISSIROLI | N21: 1 | O21: ZIELINSKI | P21: 31 | Q21: KURTIC | R21: 8 | S21: JANKTO | T21: 16
A22: SORIANO | B22: 14 | C22: JOAO PEDRO | D22: 3 | E22: MATUIDI | F22: 21 | G22: EYSSERIC | H22: 1 | I22: MEITE | J22: 4 | K22: RAMIREZ | L22: 7 | M22: ROG | N22: 1 | O22: HAMSIK | P22: 30 | Q22: BARELLA | R22: 8 | S22: BROZOVIC | T22: 10
A23: DE ROON | B23: 4 | C23: BASELLI | D23: 1 | E23: PASTORE | F23: 39 | G23: BADELJ | H23: 1 | I23: BIGLIA | J23: 2 | K23: NZONZI | L23: 7 | M23: PRAET | N23: 1 | O23: VERDI | P23: 3 | Q23: LOCATELLI | R23: 2 | S23: CASTRO | T23: 7
A24: MANDROGORA | B24: 1 | C24: DIAWARA | D24: 1 | E24: GRASSI | F24: 5 | G24: SENSI | H24: 1 | I24: LAXALT | J24: 5 | K24: PESSINA | L24: 1 | M24: HILEMARK | N24: 1 | O24: FOFANA | P24: 4 | Q24: BIABIANY | R24: 1 | S24: PAROLO | T24: 7
B25: =+SUM(B17:B24) -> 115 | D25: =+SUM(D17:D24) -> 100 | F25: =+SUM(F17:F24) -> 164 | H25: =+SUM(H17:H24) -> 58 | J25: =+SUM(J17:J24) -> 104 | L25: =+SUM(L17:L24) -> 136 | N25: =+SUM(N17:N24)+4 -> 21 | P25: =+SUM(P17:P24) -> 131 | R25: =+SUM(R17:R24) -> 111 | T25: =+SUM(T17:T24) -> 113
A26: ANTENUCCI | B26: 65 | C26: CUTRONE | D26: 40 | E26: UNDER | F26: 10 | G26: POLITANO | H26: 9 | I26: ICARDI | J26: 281 | K26: EL SHARAAWY | L26: 4 | M26: C. RONALDO | N26: 301 | O26: LASAGNA | P26: 16 | Q26: CALLEYON | R26: 80 | S26: MILIK | T26: 34
A27: DZEKO | B27: 150 | C27: HIGUAIN | D27: 230 | E27: DYBALA | F27: 141 | G27: IMMOBILE | H27: 201 | I27: RIGONI | J27: 25 | K27: SUSO | L27: 65 | M27: INSIGNE | N27: 110 | O27: MERTENS | P27: 80 | Q27: GOMEZ | R27: 108 | S27: PIATEK | T27: 46
A28: STEPINSKI | B28: 25 | C28: ZAZA | D28: 23 | E28: DEFREL | F28: 21 | G28: SIMEONE | H28: 81 | I28: PALOSCHI | J28: 1 | K28: ZAPATA | L28: 80 | M28: PAVOLETTI | N28: 52 | O28: QUAGLIARELLA | P28: 58 | Q28: PJACA | R28: 15 | S28: BELOTTI | T28: 140
A29: FARIAS | B29: 7 | C29: PETAGNA | D29: 32 | E29: INGLESE | F29: 56 | G29: KEITA | H29: 31 | I29: CASTELLEJO | J29: 6 | K29: LAUTARO | L29: 26 | M29: CERRI | N29: 1 | O29: MANDZUKIC | P29: 56 | Q29: BERARDI | R29: 50 | S29: FALCINELLI | T29: 18
A30: LA GUMINA | B30: 1 | C30: DI FRANCESCO | D30: 20 | E30: IAGO FALQUE | F30: 33 | G30: BARROW | H30: 14 | I30: BABACAR | J30: 1 | K30: PANDEV | L30: 25 | M30: KOUME | N30: 1 | O30: FAVILLI | P30: 14 | Q30: CAPUTO | R30: 20 | S30: CAMPBELL | T30: 3
A31: MACHIS | B31: 1 | C31: DESTRO | D31: 1 | E31: KLUIVERT | F31: 45 | G31: PERICA | H31: 1 | I31: CIANO | J31: 7 | K31: PALACIO | L31: 1 | M31: MIRALLAS | N31: 1 | O31: LJALIC | P31: 29 | Q31: SCHICK | R31: 45 | S31: GERVINHO | T31: 29
B32: =+SUM(B26:B31) -> 249 | D32: =+SUM(D26:D31) -> 346 | F32: =+SUM(F26:F31) -> 306 | H32: =+SUM(H26:H31)+30 -> 367 | J32: =+SUM(J26:J31)+1 -> 322 | L32: =+SUM(L26:L31) -> 201 | N32: =+SUM(N26:N31) -> 466 | P32: =+SUM(P26:P31) -> 253 | R32: =+SUM(R26:R31) -> 318 | T32: =+SUM(T26:T31) -> 270

Sheet RoseMercD
A1: REAL PETARE | C1: REAL CHUPITO | E1: DRAKESET | G1: STURM UND DRANG | I1: BAYERN BIKERS | K1: FANTALISBON | M1: NUMBERS | O1: FC CICCIOBUCCIO | Q1: SAMBUCA JUNIORS | S1: PAUL FRANK INDUSTRIES | W1: non confermabili 2019/20
A2: Crediti Iniz. | C2: Crediti Iniz. | E2: Crediti Iniz. | G2: Crediti Iniz. | I2: Crediti Iniz. | K2: Crediti Iniz. | M2: Crediti Iniz. | O2: Crediti Iniz. | Q2: Crediti Iniz. | S2: Crediti Iniz. | W2: nuovi acquisti 2018/19 - febbraio
A3: Crediti Rim. | C3: Crediti | E3: Crediti | G3: Crediti | I3: Crediti | K3: Crediti | M3: Crediti | O3: Crediti | Q3: Crediti | S3: Crediti | W3: nuovi acquisti 2018/19 - febbraio da scambio
I4: SKORUPSKI | J4: 1
B7: =+SUM(B4:B6) -> 0 | D7: =+SUM(D4:D6) -> 0 | F7: =+SUM(F4:F6) -> 0 | H7: =+SUM(H4:H6) -> 0 | J7: =+SUM(J4:J6) -> 1 | L7: =+SUM(L4:L6) -> 0 | N7: =+SUM(N4:N6) -> 0 | P7: =+SUM(P4:P6) -> 0 | R7: =+SUM(R4:R6) -> 0 | T7: =+SUM(T4:T6) -> 0
A8: RUGANI | B8: 1 | C8: ROMAGNOLI | D8: 7 | G8: D'AMBROSIO | H8: 5 | I8: CALABRIA | J8: 1 | K8: FAZIO | L8: 10 | M8: GHOULAM | N8: 9 | S8: ALBIOL | T8: 6
B16: =+SUM(B8:B15) -> 1 | D16: =+SUM(D8:D15) -> 7 | F16: =+SUM(F8:F15) -> 0 | H16: =+SUM(H8:H15) -> 5 | J16: =+SUM(J8:J15) -> 1 | L16: =+SUM(L8:L15) -> 10 | N16: =+SUM(N8:N15) -> 9 | P16: =+SUM(P8:P15) -> 0 | R16: =+SUM(R8:R15) -> 0 | T16: =+SUM(T8:T15) -> 6
A17: BIRSA | B17: 11 | G17: LUCAS LEIVA | H17: 10 | K17: ILICIC | L17: 16 | O17: LAZZARI | P17: 16 | Q17: CALHANOGLU | R17: 15
B25: =+SUM(B17:B24) -> 11 | D25: =+SUM(D17:D24) -> 0 | F25: =+SUM(F17:F24) -> 0 | H25: =+SUM(H17:H24) -> 10 | J25: =+SUM(J17:J24) -> 0 | L25: =+SUM(L17:L24) -> 16 | N25: =+SUM(N17:N24)+4 -> 4 | P25: =+SUM(P17:P24) -> 16 | R25: =+SUM(R17:R24) -> 15 | T25: =+SUM(T17:T24) -> 0
C26: CUTRONE | D26: 40 | G26: POLITANO | H26: 9 | O26: LASAGNA | P26: 16 | S26: MILIK | T26: 34
B32: =+SUM(B26:B31) -> 0 | D32: =+SUM(D26:D31) -> 40 | F32: =+SUM(F26:F31) -> 0 | H32: =+SUM(H26:H31)+30 -> 39 | J32: =+SUM(J26:J31)+1 -> 1 | L32: =+SUM(L26:L31) -> 0 | N32: =+SUM(N26:N31) -> 0 | P32: =+SUM(P26:P31) -> 16 | R32: =+SUM(R26:R31) -> 0 | T32: =+SUM(T26:T31) -> 34

Sheet Eccellenza
A1: Posizione classifica | B1: Societa | C1: Crediti rimanenti | D1: Crediti Lega | E1: Crediti Scambi (inserirli con + o -) | K1: Crediti Svincoli1 | L1: Riparazione1 | M1: Crediti Svincoli2 | N1: Riparazione2 | O1: Totale1 | P1: Totale | Q1: 2019/20 | U1: Scambi
A3: 1 | C3: =RoseEcc!B3 -> 12 | K3: =SvincoliE!$B$15 -> 0 | L3: =SvincoliE!$B$29 -> 0 | M3: =SvincoliE!$B$45 -> 0 | N3: =SvincoliE!$B$59 -> 0 | O3: =C3+D3+E3+F3+G3+H3+I3+J3+K3-L3 -> 12 | P3: =C3+D3+E3+F3+G3+H3+I3+J3+K3-L3+M3-N3 -> 12 | Q3: =ROUNDDOWN(P3/3,0) -> 4
A4: 2 | C4: =RoseEcc!H3 -> 25 | K4: =SvincoliE!$D$15 -> 0 | L4: =SvincoliE!$D$29 -> 0 | M4: =SvincoliE!$D$45 -> 0 | N4: =SvincoliE!$D$59 -> 0 | O4: =C4+D4+E4+F4+G4+H4+I4+J4+K4-L4 -> 25 | P4: =C4+D4+E4+F4+G4+H4+I4+J4+K4-L4+M4-N4 -> 25 | Q4: =ROUNDDOWN(P4/3,0) -> 8 | V4: 1
A5: 3 | C5: =RoseEcc!D3 -> 11 | K5: =SvincoliE!$F$15 -> 0 | L5: =SvincoliE!$F$29 -> 0 | M5: =SvincoliE!$F$45 -> 0 | N5: =SvincoliE!$F$59 -> 0 | O5: =C5+D5+E5+F5+G5+H5+I5+J5+K5-L5 -> 11 | P5: =C5+D5+E5+F5+G5+H5+I5+J5+K5-L5+M5-N5 -> 11 | Q5: =ROUNDDOWN(P5/3,0) -> 3
A6: 4 | C6: =RoseEcc!R3 -> 0 | K6: =SvincoliE!$H$15 -> 0 | L6: =SvincoliE!$H$29 -> 0 | M6: =SvincoliE!$H$45 -> 0 | N6: =SvincoliE!$H$59 -> 0 | O6: =C6+D6+E6+F6+G6+H6+I6+J6+K6-L6 -> 0 | P6: =C6+D6+E6+F6+G6+H6+I6+J6+K6-L6+M6-N6 -> 0 | Q6: =ROUNDDOWN(P6/3,0) -> 0
A7: 5 | C7: =RoseEcc!P3 -> 33 | K7: =SvincoliE!$J$15 -> 0 | L7: =SvincoliE!$J$29 -> 0 | M7: =SvincoliE!$J$45 -> 0 | N7: =SvincoliE!$J$59 -> 0 | O7: =C7+D7+E7+F7+G7+H7+I7+J7+K7-L7 -> 33 | P7: =C7+D7+E7+F7+G7+H7+I7+J7+K7-L7+M7-N7 -> 33 | Q7: =ROUNDDOWN(P7/3,0) -> 11
A8: 6 | C8: =RoseEcc!F3 -> 45 | K8: =SvincoliE!$L$15 -> 0 | L8: =SvincoliE!$L$29 -> 0 | M8: =SvincoliE!$L$45 -> 0 | N8: =SvincoliE!$L$59 -> 0 | O8: =C8+D8+E8+F8+G8+H8+I8+J8+K8-L8 -> 45 | P8: =C8+D8+E8+F8+G8+H8+I8+J8+K8-L8+M8-N8 -> 45 | Q8: =ROUNDDOWN(P8/3,0) -> 15
A9: 7 | C9: =RoseEcc!J3 -> 2 | K9: =SvincoliE!$N$15 -> 0 | L9: =SvincoliE!$N$29 -> 0 | M9: =SvincoliE!$N$45 -> 0 | N9: =SvincoliE!$N$59 -> 0 | O9: =C9+D9+E9+F9+G9+H9+I9+J9+K9-L9 -> 2 | P9: =C9+D9+E9+F9+G9+H9+I9+J9+K9-L9+M9-N9 -> 2 | Q9: =ROUNDDOWN(P9/3,0) -> 0
A10: 8 | C10: =RoseEcc!L3 -> 9 | K10: =SvincoliE!$P$15 -> 0 | L10: =SvincoliE!$P$29 -> 0 | M10: =SvincoliE!$P$45 -> 0 | N10: =SvincoliE!$P$59 -> 0 | O10: =C10+D10+E10+F10+G10+H10+I10+J10+K10-L10 -> 9 | P10: =C10+D10+E10+F10+G10+H10+I10+J10+K10-L10+M10-N10 -> 9 | Q10: =ROUNDDOWN(P10/3,0) -> 3
A11: 9 | C11: =RoseEcc!T3 -> 15 | K11: =SvincoliE!$R$15 -> 0 | L11: =SvincoliE!$R$29 -> 0 | M11: =SvincoliE!$R$45 -> 0 | N11: =SvincoliE!$R$59 -> 0 | O11: =C11+D11+E11+F11+G11+H11+I11+J11+K11-L11 -> 15 | P11: =C11+D11+E11+F11+G11+H11+I11+J11+K11-L11+M11-N11 -> 15 | Q11: =ROUNDDOWN(P11/3,0) -> 5
A12: 10 | C12: =RoseEcc!N3 -> 128 | K12: =SvincoliE!$T$15 -> 0 | L12: =SvincoliE!$T$29 -> 0 | M12: =SvincoliE!$T$45 -> 0 | N12: =SvincoliE!$T$59 -> 0 | O12: =C12+D12+E12+F12+G12+H12+I12+J12+K12-L12 -> 128 | P12: =C12+D12+E12+F12+G12+H12+I12+J12+K12-L12+M12-N12 -> 128 | Q12: =ROUNDDOWN(P12/3,0) -> 42

Sheet SvincoliE
A1: =Eccellenza!B3 -> 0 | C1: =Eccellenza!B4 -> 0 | E1: =Eccellenza!B5 -> 0 | G1: =Eccellenza!B6 -> 0 | I1: =Eccellenza!B7 -> 0 | K1: =Eccellenza!B8 -> 0 | M1: =Eccellenza!B9 -> 0 | O1: =Eccellenza!B10 -> 0 | Q1: =Eccellenza!B11 -> 0 | S1: =Eccellenza!B12 -> 0 | U1: Cessioni | V1: 1 Sessione
A12: Cr.Svincoli | B12: =ROUNDDOWN(SUM(B2:B10)/2,0) -> 0 | C12: Cr.Svincoli | D12: =ROUNDDOWN(SUM(D2:D10)/2,0) -> 0 | E12: Cr.Svincoli | F12: =ROUNDDOWN(SUM(F2:F10)/2,0) -> 0 | G12: Cr.Svincoli | H12: =ROUNDDOWN(SUM(H2:H10)/2,0) -> 0 | I12: Cr.Svincoli | J12: =ROUNDDOWN(SUM(J2:J10)/2,0) -> 0 | K12: Cr.Svincoli | L12: =ROUNDDOWN(SUM(L2:L10)/2,0) -> 0 | M12: Cr.Svincoli | N12: =ROUNDDOWN(SUM(N2:N10)/2,0) -> 0 | O12: Cr.Svincoli | P12: =ROUNDDOWN(SUM(P2:P10)/2,0) -> 0 | Q12: Cr.Svincoli | R12: =ROUNDDOWN(SUM(R2:R10)/2,0) -> 0 | S12: Cr.Svincoli | T12: =ROUNDDOWN(SUM(T2:T10)/2,0) -> 0
U14: Acquisti
A24: Cr.Acquisti | B24: =SUM(B14:B22) -> 0 | C24: Cr.Acquisti | D24: =SUM(D14:D22) -> 0 | E24: Cr.Acquisti | F24: =SUM(F14:F22) -> 0 | G24: Cr.Acquisti | H24: =SUM(H14:H22) -> 0 | I24: Cr.Acquisti | J24: =SUM(J14:J22) -> 0 | K24: Cr.Acquisti | L24: =SUM(L14:L22) -> 0 | M24: Cr.Acquisti | N24: =SUM(N14:N22) -> 0 | O24: Cr.Acquisti | P24: =SUM(P14:P22) -> 0 | Q24: Cr.Acquisti | R24: =SUM(R14:R22) -> 0 | S24: Cr.Acquisti | T24: =SUM(T14:T22) -> 0
B25: =Eccellenza!O3 -> 12 | D25: =Eccellenza!O4 -> 25 | F25: =Eccellenza!O5 -> 11 | H25: =Eccellenza!O6 -> 0 | J25: =Eccellenza!O7 -> 33 | L25: =Eccellenza!O8 -> 45 | N25: =Eccellenza!O9 -> 2 | P25: =Eccellenza!O10 -> 9 | R25: =Eccellenza!O11 -> 15 | T25: =Eccellenza!O12 -> 128 | U25: Parziali Live
U26: Cessioni | V26: 2 Sessione
A37: Cr.Svincoli | B37: =ROUNDDOWN(SUM(B27:B35)/2,0) -> 0 | C37: Cr.Svincoli | D37: =ROUNDDOWN(SUM(D27:D35)/2,0) -> 0 | E37: Cr.Svincoli | F37: =ROUNDDOWN(SUM(F27:F35)/2,0) -> 0 | G37: Cr.Svincoli | H37: =ROUNDDOWN(SUM(H27:H35)/2,0) -> 0 | I37: Cr.Svincoli | J37: =ROUNDDOWN(SUM(J27:J35)/2,0) -> 0 | K37: Cr.Svincoli | L37: =ROUNDDOWN(SUM(L27:L35)/2,0) -> 0 | M37: Cr.Svincoli | N37: =ROUNDDOWN(SUM(N27:N35)/2,0) -> 0 | O37: Cr.Svincoli | P37: =ROUNDDOWN(SUM(P27:P35)/2,0) -> 0 | Q37: Cr.Svincoli | R37: =ROUNDDOWN(SUM(R27:R35)/2,0) -> 0 | S37: Cr.Svincoli | T37: =ROUNDDOWN(SUM(T27:T35)/2,0) -> 0
U39: Acquisti
A48: Cr.Acquisti | B48: =SUM(B39:B47) -> 0 | C48: Cr.Acquisti | D48: =SUM(D39:D47) -> 0 | E48: Cr.Acquisti | F48: =SUM(F39:F47) -> 0 | G48: Cr.Acquisti | H48: =SUM(H39:H47) -> 0 | I48: Cr.Acquisti | J48: =SUM(J39:J47) -> 0 | K48: Cr.Acquisti | L48: =SUM(L39:L47) -> 0 | M48: Cr.Acquisti | N48: =SUM(N39:N47) -> 0 | O48: Cr.Acquisti | P48: =SUM(P39:P47) -> 0 | Q48: Cr.Acquisti | R48: =SUM(R39:R47) -> 0 | S48: Cr.Acquisti | T48: =SUM(T39:T47) -> 0
B49: =Eccellenza!P3 -> 12 | D49: =Eccellenza!P4 -> 25 | F49: =Eccellenza!P5 -> 11 | H49: =Eccellenza!P6 -> 0 | J49: =Eccellenza!P7 -> 33 | L49: =Eccellenza!P8 -> 45 | N49: =Eccellenza!P9 -> 2 | P49: =Eccellenza!P10 -> 9 | R49: =Eccellenza!P11 -> 15 | T49: =Eccellenza!P12 -> 128 | U49: Parziali Live

Sheet RoseEcc
A1: FC CIPPA CEP | C1: BOCA CCIUCCO | E1: VS MODERN FOOTBALL | G1: U BACICCIA | I1: FC BENE BENE | K1: PUSSY WAGON FC | M1: GUAMESE DOC | O1: FC LEAD | Q1: US SHANGAY | S1: REAL PAGA | W1: non confermabili 2019/20
A2: Crediti Iniz. | B2: 513 | C2: Crediti Iniz. | D2: 515 | E2: Crediti Iniz. | F2: 530 | G2: Crediti Iniz. | H2: 526 | I2: Crediti Iniz. | J2: 504 | K2: Crediti Iniz. | L2: 524 | M2: Crediti Iniz. | N2: 501 | O2: Crediti Iniz. | P2: 514 | Q2: Crediti Iniz. | R2: 502 | S2: Crediti Iniz. | T2: 500 | W2: nuovi acquisti 2018/19 - febbraio
A3: Crediti Rim. | B3: =B2-B7-B16-B25-B32 -> 12 | C3: Crediti | D3: =D2-D7-D16-D25-D32 -> 11 | E3: Crediti | F3: =F2-F7-F16-F25-F32 -> 45 | G3: Crediti | H3: =H2-H7-H16-H25-H32 -> 25 | I3: Crediti | J3: =J2-J7-J16-J25-J32 -> 2 | K3: Crediti | L3: =L2-L7-L16-L25-L32 -> 9 | M3: Crediti | N3: =N2-N7-N16-N25-N32 -> 128 | O3: Crediti | P3: =P2-P7-P16-P25-P32 -> 33 | Q3: Crediti | R3: =R2-R7-R16-R25-R32 -> 0 | S3: Crediti | T3: =T2-T7-T16-T25-T32 -> 15 | W3: nuovi acquisti 2018/19 - febbraio da scambio
A4: SZCZESNY | B4: 6 | C4: BERISHA | D4: 10 | E4: SORRENTINO | F4: 10 | G4: OLSEN | H4: 30 | I4: STRAKOSHA | J4: 27 | K4: OSPINA | L4: 8 | M4: HANDANOVIC | N4: 36 | O4: MERET | P4: 32 | Q4: AUDERO | R4: 10 | S4: DONNARUMMA | T4: 32 | W4: riconferma 2018/19
A5: PERIN | B5: 8 | C5: SIRIGU | D5: 16 | E5: GOLLINI | F5: 15 | G5: MIRANTE | H5: 3 | I5: PROTO | J5: 1 | K5: LAFONT | L5: 25 | M5: PADELLI | N5: 1 | O5: MARCHETTI | P5: 9 | Q5: MUSSO | R5: 1 | S5: GOMIS | T5: 1 | W5: riconferma 2018/19
A6: CONSIGLI | B6: 8 | C6: ROSATI | D6: 1 | E6: SECULIN | F6: 1 | G6: SEPE | H6: 1 | I6: SKORUPSKI | J6: 9 | K6: DRAGOWSKI | L6: 1 | M6: BERNI | N6: 1 | O6: CRAGNO | P6: 2 | Q6: SCUFFET | R6: 1 | S6: REINA | T6: 1 | W6: riconferma 2018/19
B7: =+SUM(B4:B6) -> 22 | D7: =+SUM(D4:D6) -> 27 | F7: =+SUM(F4:F6) -> 26 | H7: =+SUM(H4:H6) -> 34 | J7: =+SUM(J4:J6) -> 37 | L7: =+SUM(L4:L6) -> 34 | N7: =+SUM(N4:N6) -> 38 | P7: =+SUM(P4:P6) -> 43 | R7: =+SUM(R4:R6) -> 12 | T7: =+SUM(T4:T6) -> 34 | W7: riconferma 2018/19
A8: DE SILVESTRI | B8: 1 | C8: FAZIO | D8: 10 | E8: VICARI | F8: 1 | G8: MARIO RUI | H8: 1 | I8: HELANDER | J8: 2 | K8: CHIELLINI | L8: 20 | M8: KARSDORP | N8: 9 | O8: PEZZELLA | P8: 6 | Q8: CALABRIA | R8: 1 | S8: TOLOI | T8: 12 | W8: riconferma 2018/19
A9: RADU | B9: 8 | C9: ALEX SANDRO | D9: 24 | E9: KOLAROV | F9: 30 | G9: DE VRJI | H9: 24 | I9: SKRINIAR | J9: 22 | K9: DI LORENZO | L9: 2 | M9: ANDERSEN | N9: 7 | O9: MASIELLO | P9: 10 | Q9: SAMIR | R9: 6 | S9: CRISCITO | T9: 12
A10: MANOLAS | B10: 20 | C10: VRSALJKO | D10: 12 | E10: ACERBI | F10: 21 | G10: CANCELO | H10: 27 | I10: KOULIBALY | J10: 25 | K10: FLORENZI | L10: 20 | M10: LARSEN | N10: 8 | O10: SRNA | P10: 5 | Q10: CALDARA | R10: 10 | S10: BIRAGHI | T10: 8
A11: HATEBOER | B11: 8 | C11: D'AMBROSIO | D11: 6 | E11: ANSALDI | F11: 6 | G11: GHOULAM | H11: 7 | I11: BONUCCI | J11: 21 | K11: BRUNO ALVES | L11: 7 | M11: ASAMOAH | N11: 15 | O11: N'KOLOU | P11: 5 | Q11: GAGLIOLO | R11: 2 | S11: DANILO | T11: 3
A12: CIONEK | B12: 2 | C12: LISANDRO LOPEZ | D12: 4 | E12: PALOMINO | F12: 4 | G12: NYUTNIK | H12: 1 | I12: ROMANGOLI | J12: 12 | K12: ALBIOL | L12: 14 | M12: HYSAJ | N12: 9 | O12: FERRARI (SAS) | P12: 4 | Q12: MANCINI | R12: 6 | S12: IZZO | T12: 4
A13: LUIZ FELIPE | B13: 6 | C13: MILENKOVIC | D13: 8 | E13: WALLACE | F13: 3 | G13: GOSENS | H13: 1 | I13: BENATIA | J13: 3 | K13: TONELLI | L13: 6 | M13: BEREZYNSKI | N13: 3 | O13: VICTOR HUGO | P13: 3 | Q13: SILVESTRE | R13: 3 | S13: CACCIATORE | T13: 5
A14: MURRU | B14: 1 | C14: MARLON | D14: 2 | E14: CACERES | F14: 4 | G14: ALI ADNAN | H14: 1 | I14: GOLDANIGA | J14: 1 | K14: BARBA | L14: 1 | M14: STRINIC | N14: 1 | O14: COLLEY | P14: 2 | Q14: CASTAGNE | R14: 1 | S14: LIROLA | T14: 3
A15: MATTIELLO | B15: 1 | C15: CEPPITELLI | D15: 1 | E15: DJOUROU | F15: 1 | G15: ZUKANOVIC | H15: 1 | I15: EKONG | J15: 1 | K15: PASQUAL | L15: 1 | M15: CONTI | N15: 3 | O15: RODRIGUREZ R | P15: 1 | Q15: DALBERT | R15: 1 | S15: MIRANDA | T15: 4
B16: =+SUM(B8:B15) -> 47 | D16: =+SUM(D8:D15) -> 67 | F16: =+SUM(F8:F15) -> 70 | H16: =+SUM(H8:H15) -> 63 | J16: =+SUM(J8:J15) -> 87 | L16: =+SUM(L8:L15) -> 71 | N16: =+SUM(N8:N15) -> 55 | P16: =+SUM(P8:P15) -> 36 | R16: =+SUM(R8:R15) -> 30 | T16: =+SUM(T8:T15) -> 51
A17: FREULER | B17: 1 | C17: VERETOUT | D17: 11 | E17: HETEMAJ | F17: 1 | G17: DOUGLAS COSTA | H17: 20 | I17: NAINGOLLAN | J17: 52 | K17: GRASSI | L17: 3 | M17: LAXALT | N17: 3 | O17: GERSON | P17: 6 | Q17: GIACCHERINI | R17: 1 | S17: CHIESA | T17: 55
A18: PERISIC | B18: 63 | C18: MILINKOVIC-SAVIC | D18: 71 | E18: DZEMAILI | F18: 8 | G18: ILICIC | H18: 16 | I18: PASALIC | J18: 12 | K18: RIGONI (CHIEVO) | L18: 1 | M18: CRISTANTE | N18: 20 | O18: MATUIDI | P18: 15 | Q18: LUIS ALBERTO | R18: 65 | S18: BOATENG | T18: 33
A19: BERNARDESCHI | B19: 17 | C19: PAROLO | D19: 8 | E19: CALHANOGLU | F19: 31 | G19: PJANIC | H19: 55 | I19: BONAVENTURA | J19: 20 | K19: BENASSI | L19: 16 | M19: LAZOVIC | N19: 1 | O19: KHEDIRA | P19: 17 | Q19: ZIELINSKI | R19: 24 | S19: ZAJC | T19: 14
A20: KESSIE | B20: 12 | C20: ALLAN | D20: 19 | E20: PASTORE | F20: 42 | G20: SORIANO | H20: 9 | I20: BROZOVIC | J20: 6 | K20: PEROTTI | L20: 12 | M20: EMRE CAN | N20: 20 | O20: DE PAUL | P20: 23 | Q20: FOFANA | R20: 6 | S20: RADOVANOVIC | T20: 1
A21: FABIAN RUIZ | B21: 12 | C21: JOAO PEDRO | D21: 12 | E21: HAMSIK | F21: 20 | G21: PRAET | H21: 11 | I21: BARELLA | J21: 9 | K21: STULAC | L21: 5 | M21: NZONZI | N21: 7 | O21: CASTRO | P21: 7 | Q21: RINCON | R21: 2 | S21: VERDI | T21: 15
A22: CUADRADO | B22: 9 | C22: MANDRAGORA | D22: 1 | E22: LULIC | F22: 5 | G22: MARUSIC | H22: 1 | I22: DJURICIC | J22: 1 | K22: JANKTO | L22: 9 | M22: EKDAL | N22: 1 | O22: PELLEGRINI | P22: 15 | Q22: LAZZARI | R22: 2 | S22: BIRSA | T22: 3
A23: PULGAR | B23: 1 | C23: LUCAS LEIVA | D23: 4 | E23: BARAK | F23: 9 | G23: SAPONARA | H23: 5 | I23: KURTIC | J23: 3 | K23: EYSSERIC | L23: 5 | M23: BAKAIOKO | N23: 1 | O23: KRUNIC | P23: 6 | Q23: CORREA | R23: 3 | S23: DE ROSSI | T23: 2
A24: RAMIREZ | B24: 5 | C24: CICIRETTI | D24: 1 | E24: BERENGUER | F24: 1 | G24: DE ROON | H24: 3 | I24: BRADARIC | J24: 1 | K24: BASELLI | L24: 3 | M24: GAGLIARDINI | N24: 1 | O24: ROMULO | P24: 5 | Q24: DI GAUDIO | R24: 1 | S24: MEITE | T24: 1
B25: =+SUM(B17:B24) -> 120 | D25: =+SUM(D17:D24) -> 127 | F25: =+SUM(F17:F24) -> 117 | H25: =+SUM(H17:H24) -> 120 | J25: =+SUM(J17:J24) -> 104 | L25: =+SUM(L17:L24) -> 54 | N25: =+SUM(N17:N24)+8 -> 62 | P25: =+SUM(P17:P24) -> 94 | R25: =+SUM(R17:R24) -> 104 | T25: =+SUM(T17:T24) -> 124
A26: HIGUAIN | B26: 215 | C26: DESTRO | D26: 32 | E26: LASAGNA | F26: 15 | G26: UNDER | H26: 1 | I26: KOWNACKI | J26: 1 | K26: RONALDO | L26: 314 | M26: EL SHARAAWY | N26: 7 | O26: MILIK | P26: 25 | Q26: DI FRANCESCO | R26: 16 | S26: DYBALA | T26: 112
A27: IAGO FALQUE | B27: 41 | C27: IMMOBILE | D27: 216 | E27: INSIGNE | F27: 100 | G27: BELOTTI | H27: 131 | I27: SANTANDER | J27: 8 | K27: FARIAS | L27: 3 | M27: KEITA | N27: 47 | O27: DZEKO | P27: 199 | Q27: ICARDI | R27: 222 | S27: INGLESE | T27: 52
A28: ANTENUCCI | B28: 27 | C28: PJACA | D28: 22 | E28: CALLEJON | F28: 65 | G28: MERTENS | H28: 80 | I28: SIMEONE | J28: 115 | K28: MACHIS | L28: 10 | M28: CUTRONE | N28: 1 | O28: PAVOLETTI | P28: 50 | Q28: MANDZUKIC | R28: 75 | S28: STEPINSKI | T28: 30
A29: DEFREL | B29: 27 | C29: PUSSETTO | D29: 1 | E29: PIATEK | F29: 35 | G29: GOMEZ | H29: 70 | I29: SUSO | J29: 74 | K29: CIANO | L29: 2 | M29: KLUIVERT | N29: 23 | O29: CAPUTO | P29: 28 | Q29: ZAZA | R29: 16 | S29: QUAGLIARELLA | T29: 70
A30: PANDEV | B30: 1 | C30: MIRALLAS | D30: 1 | E30: ZAPATA | F30: 40 | G30: THEREAU | H30: 1 | I30: BERARDI | J30: 60 | K30: RIGONI (ATAL) | L30: 26 | M30: SCHICK | N30: 40 | O30: GERVINHO | P30: 5 | Q30: FALCINELLI | R30: 26 | S30: LA GUMINA | T30: 11
A31: CAPRARI | B31: 1 | C31: PETAGNA | D31: 11 | E31: BARROW | F31: 17 | G31: PALACIO | H31: 1 | I31: POLITANO | J31: 16 | K31: FAVILLI | L31: 1 | M31: LAUTARO | N31: 100 | O31: CERRI | P31: 1 | Q31: BRIGNOLA | R31: 1 | S31: KOUME | T31: 1
B32: =+SUM(B26:B31) -> 312 | D32: =+SUM(D26:D31) -> 283 | F32: =+SUM(F26:F31) -> 272 | H32: =+SUM(H26:H31) -> 284 | J32: =+SUM(J26:J31) -> 274 | L32: =+SUM(L26:L31) -> 356 | N32: =+SUM(N26:N31) -> 218 | P32: =+SUM(P26:P31) -> 308 | R32: =+SUM(R26:R31) -> 356 | T32: =+SUM(T26:T31) -> 276

Sheet RoseMercE
A1: FC CIPPA CEP | C1: BOCA CCIUCCO | E1: VS MODERN FOOTBALL | G1: U BACICCIA | I1: FC BENE BENE | K1: PUSSY WAGON FC | M1: GUAMESE DOC | O1: FC LEAD | Q1: US SHANGAY | S1: TRANSPORTER UNITED | W1: non confermabili 2018/19
A2: Crediti Iniz. | B2: 513 | C2: Crediti Iniz. | D2: 515 | E2: Crediti Iniz. | F2: 530 | G2: Crediti Iniz. | H2: 526 | I2: Crediti Iniz. | J2: 504 | K2: Crediti Iniz. | L2: 524 | M2: Crediti Iniz. | N2: 501 | O2: Crediti Iniz. | P2: 514 | Q2: Crediti Iniz. | R2: 502 | S2: Crediti Iniz. | T2: 501 | W2: nuovi acquisti 2018/19 - febbraio
A3: Crediti Rim. | B3: =B2-B7-B16-B25-B32 -> 507 | C3: Crediti | D3: =D2-D7-D16-D25-D32 -> 472 | E3: Crediti | F3: =F2-F7-F16-F25-F32 -> 530 | G3: Crediti | H3: =H2-H7-H16-H25-H32 -> 506 | I3: Crediti | J3: =J2-J7-J16-J25-J32 -> 504 | K3: Crediti | L3: =L2-L7-L16-L25-L32 -> 524 | M3: Crediti | N3: =N2-N7-N16-N25-N32 -> 486 | O3: Crediti | P3: =P2-P7-P16-P25-P32 -> 483 | Q3: Crediti | R3: =R2-R7-R16-R25-R32 -> 501 | S3: Crediti | T3: =T2-T7-T16-T25-T32 -> 501 | W3: nuovi acquisti 2018/19 - febbraio da scambio
A4: SZCZESNY | B4: 6
B7: =+SUM(B4:B6) -> 6 | D7: =+SUM(D4:D6) -> 0 | F7: =+SUM(F4:F6) -> 0 | H7: =+SUM(H4:H6) -> 0 | J7: =+SUM(J4:J6) -> 0 | L7: =+SUM(L4:L6) -> 0 | N7: =+SUM(N4:N6) -> 0 | P7: =+SUM(P4:P6) -> 0 | R7: =+SUM(R4:R6) -> 0 | T7: =+SUM(T4:T6) -> 0
O8: PEZZELLA | P8: 6 | Q8: CALABRIA | R8: 1
B16: =+SUM(B8:B15) -> 0 | D16: =+SUM(D8:D15) -> 0 | F16: =+SUM(F8:F15) -> 0 | H16: =+SUM(H8:H15) -> 0 | J16: =+SUM(J8:J15) -> 0 | L16: =+SUM(L8:L15) -> 0 | N16: =+SUM(N8:N15) -> 0 | P16: =+SUM(P8:P15) -> 6 | R16: =+SUM(R8:R15) -> 1 | T16: =+SUM(T8:T15) -> 0
C17: VERETOUT | D17: 11 | G17: DOUGLAS COSTA | H17: 20
B25: =+SUM(B17:B24) -> 0 | D25: =+SUM(D17:D24) -> 11 | F25: =+SUM(F17:F24) -> 0 | H25: =+SUM(H17:H24) -> 20 | J25: =+SUM(J17:J24) -> 0 | L25: =+SUM(L17:L24) -> 0 | N25: =+SUM(N17:N24)+8 -> 8 | P25: =+SUM(P17:P24) -> 0 | R25: =+SUM(R17:R24) -> 0 | T25: =+SUM(T17:T24) -> 0
C26: DESTRO | D26: 32 | M26: EL SHARAAWY | N26: 7 | O26: MILIK | P26: 25
B32: =+SUM(B26:B31) -> 0 | D32: =+SUM(D26:D31) -> 32 | F32: =+SUM(F26:F31) -> 0 | H32: =+SUM(H26:H31) -> 0 | J32: =+SUM(J26:J31) -> 0 | L32: =+SUM(L26:L31) -> 0 | N32: =+SUM(N26:N31) -> 7 | P32: =+SUM(P26:P31) -> 25 | R32: =+SUM(R26:R31) -> 0 | T32: =+SUM(T26:T31) -> 0

Sheet Promozione
A1: Posizione classifica | B1: Societa | C1: Crediti rimanenti | D1: Crediti Lega | E1: Crediti Scambi (inserirli con + o -) | K1: Crediti Svincoli1 | L1: Riparazione1 | M1: Crediti Svincoli2 | N1: Riparazione2 | O1: Totale1 | P1: Totale | Q1: 2019/20 | U1: Scambi
A3: 1 | C3: =RoseProm!B3 -> 11 | K3: =SvincoliP!$B$15 -> 0 | L3: =SvincoliP!$B$29 -> 0 | M3: =SvincoliP!$B$45 -> 0 | N3: =SvincoliP!$B$59 -> 0 | O3: =C3+D3+E3+F3+G3+H3+I3+J3+K3-L3 -> 11 | P3: =C3+D3+E3+F3+G3+H3+I3+J3+K3-L3+M3-N3 -> 11 | Q3: =ROUNDDOWN(P3/3,0) -> 3
A4: 2 | C4: =RoseProm!H3 -> 0 | K4: =SvincoliP!$D$15 -> 0 | L4: =SvincoliP!$D$29 -> 0 | M4: =SvincoliP!$D$45 -> 0 | N4: =SvincoliP!$D$59 -> 0 | O4: =C4+D4+E4+F4+G4+H4+I4+J4+K4-L4 -> 0 | P4: =C4+D4+E4+F4+G4+H4+I4+J4+K4-L4+M4-N4 -> 0 | Q4: =ROUNDDOWN(P4/3,0) -> 0 | V4: 1
A5: 3 | C5: =RoseProm!D3 -> 30 | K5: =SvincoliP!$F$15 -> 0 | L5: =SvincoliP!$F$29 -> 0 | M5: =SvincoliP!$F$45 -> 0 | N5: =SvincoliP!$F$59 -> 0 | O5: =C5+D5+E5+F5+G5+H5+I5+J5+K5-L5 -> 30 | P5: =C5+D5+E5+F5+G5+H5+I5+J5+K5-L5+M5-N5 -> 30 | Q5: =ROUNDDOWN(P5/3,0) -> 10
A6: 4 | C6: =RoseProm!R3 -> 4 | K6: =SvincoliP!$H$15 -> 0 | L6: =SvincoliP!$H$29 -> 0 | M6: =SvincoliP!$H$45 -> 0 | N6: =SvincoliP!$H$59 -> 0 | O6: =C6+D6+E6+F6+G6+H6+I6+J6+K6-L6 -> 4 | P6: =C6+D6+E6+F6+G6+H6+I6+J6+K6-L6+M6-N6 -> 4 | Q6: =ROUNDDOWN(P6/3,0) -> 1
A7: 5 | C7: =RoseProm!P3 -> 1 | K7: =SvincoliP!$J$15 -> 0 | L7: =SvincoliP!$J$29 -> 0 | M7: =SvincoliP!$J$45 -> 0 | N7: =SvincoliP!$J$59 -> 0 | O7: =C7+D7+E7+F7+G7+H7+I7+J7+K7-L7 -> 1 | P7: =C7+D7+E7+F7+G7+H7+I7+J7+K7-L7+M7-N7 -> 1 | Q7: =ROUNDDOWN(P7/3,0) -> 0
A8: 6 | C8: =RoseProm!F3 -> 25 | K8: =SvincoliP!$L$15 -> 0 | L8: =SvincoliP!$L$29 -> 0 | M8: =SvincoliP!$L$45 -> 0 | N8: =SvincoliP!$L$59 -> 0 | O8: =C8+D8+E8+F8+G8+H8+I8+J8+K8-L8 -> 25 | P8: =C8+D8+E8+F8+G8+H8+I8+J8+K8-L8+M8-N8 -> 25 | Q8: =ROUNDDOWN(P8/3,0) -> 8
A9: 7 | C9: =RoseProm!J3 -> 12 | K9: =SvincoliP!$N$15 -> 0 | L9: =SvincoliP!$N$29 -> 0 | M9: =SvincoliP!$N$45 -> 0 | N9: =SvincoliP!$N$59 -> 0 | O9: =C9+D9+E9+F9+G9+H9+I9+J9+K9-L9 -> 12 | P9: =C9+D9+E9+F9+G9+H9+I9+J9+K9-L9+M9-N9 -> 12 | Q9: =ROUNDDOWN(P9/3,0) -> 4
A10: 8 | C10: =RoseProm!L3 -> 4 | K10: =SvincoliP!$P$15 -> 0 | L10: =SvincoliP!$P$29 -> 0 | M10: =SvincoliP!$P$45 -> 0 | N10: =SvincoliP!$P$59 -> 0 | O10: =C10+D10+E10+F10+G10+H10+I10+J10+K10-L10 -> 4 | P10: =C10+D10+E10+F10+G10+H10+I10+J10+K10-L10+M10-N10 -> 4 | Q10: =ROUNDDOWN(P10/3,0) -> 1
A11: 9 | C11: =RoseProm!T3 -> 26 | K11: =SvincoliP!$R$15 -> 0 | L11: =SvincoliP!$R$29 -> 0 | M11: =SvincoliP!$R$45 -> 0 | N11: =SvincoliP!$R$59 -> 0 | O11: =C11+D11+E11+F11+G11+H11+I11+J11+K11-L11 -> 26 | P11: =C11+D11+E11+F11+G11+H11+I11+J11+K11-L11+M11-N11 -> 26 | Q11: =ROUNDDOWN(P11/3,0) -> 8
A12: 10 | C12: =RoseProm!N3 -> 14 | K12: =SvincoliP!$T$15 -> 0 | L12: =SvincoliP!$T$29 -> 0 | M12: =SvincoliP!$T$45 -> 0 | N12: =SvincoliP!$T$59 -> 0 | O12: =C12+D12+E12+F12+G12+H12+I12+J12+K12-L12 -> 14 | P12: =C12+D12+E12+F12+G12+H12+I12+J12+K12-L12+M12-N12 -> 14 | Q12: =ROUNDDOWN(P12/3,0) -> 4

Sheet SvincoliP
A1: =Promozione!B3 -> 0 | C1: =Promozione!B4 -> 0 | E1: =Promozione!B5 -> 0 | G1: =Promozione!B6 -> 0 | I1: =Promozione!B7 -> 0 | K1: =Promozione!B8 -> 0 | M1: =Promozione!B9 -> 0 | O1: =Promozione!B10 -> 0 | Q1: =Promozione!B11 -> 0 | S1: =Promozione!B12 -> 0 | U1: Cessioni | V1: 1 Sessione
A12: Cr.Svincoli | B12: =ROUNDDOWN(SUM(B2:B10)/2,0) -> 0 | C12: Cr.Svincoli | D12: =ROUNDDOWN(SUM(D2:D10)/2,0) -> 0 | E12: Cr.Svincoli | F12: =ROUNDDOWN(SUM(F2:F10)/2,0) -> 0 | G12: Cr.Svincoli | H12: =ROUNDDOWN(SUM(H2:H10)/2,0) -> 0 | I12: Cr.Svincoli | J12: =ROUNDDOWN(SUM(J2:J10)/2,0) -> 0 | K12: Cr.Svincoli | L12: =ROUNDDOWN(SUM(L2:L10)/2,0) -> 0 | M12: Cr.Svincoli | N12: =ROUNDDOWN(SUM(N2:N10)/2,0) -> 0 | O12: Cr.Svincoli | P12: =ROUNDDOWN(SUM(P2:P10)/2,0) -> 0 | Q12: Cr.Svincoli | R12: =ROUNDDOWN(SUM(R2:R10)/2,0) -> 0 | S12: Cr.Svincoli | T12: =ROUNDDOWN(SUM(T2:T10)/2,0) -> 0
U14: Acquisti
A24: Cr.Acquisti | B24: =SUM(B14:B22) -> 0 | C24: Cr.Acquisti | D24: =SUM(D14:D22) -> 0 | E24: Cr.Acquisti | F24: =SUM(F14:F22) -> 0 | G24: Cr.Acquisti | H24: =SUM(H14:H22) -> 0 | I24: Cr.Acquisti | J24: =SUM(J14:J22) -> 0 | K24: Cr.Acquisti | L24: =SUM(L14:L22) -> 0 | M24: Cr.Acquisti | N24: =SUM(N14:N22) -> 0 | O24: Cr.Acquisti | P24: =SUM(P14:P22) -> 0 | Q24: Cr.Acquisti | R24: =SUM(R14:R22) -> 0 | S24: Cr.Acquisti | T24: =SUM(T14:T22) -> 0
B25: =Promozione!O3 -> 11 | D25: =Promozione!O4 -> 0 | F25: =Promozione!O5 -> 30 | H25: =Promozione!O6 -> 4 | J25: =Promozione!O7 -> 1 | L25: =Promozione!O8 -> 25 | N25: =Promozione!O9 -> 12 | P25: =Promozione!O10 -> 4 | R25: =Promozione!O11 -> 26 | T25: =Promozione!O12 -> 14 | U25: Parziali Live
U26: Cessioni | V26: 2 Sessione
A37: Cr.Svincoli | B37: =ROUNDDOWN(SUM(B27:B35)/2,0) -> 0 | C37: Cr.Svincoli | D37: =ROUNDDOWN(SUM(D27:D35)/2,0) -> 0 | E37: Cr.Svincoli | F37: =ROUNDDOWN(SUM(F27:F35)/2,0) -> 0 | G37: Cr.Svincoli | H37: =ROUNDDOWN(SUM(H27:H35)/2,0) -> 0 | I37: Cr.Svincoli | J37: =ROUNDDOWN(SUM(J27:J35)/2,0) -> 0 | K37: Cr.Svincoli | L37: =ROUNDDOWN(SUM(L27:L35)/2,0) -> 0 | M37: Cr.Svincoli | N37: =ROUNDDOWN(SUM(N27:N35)/2,0) -> 0 | O37: Cr.Svincoli | P37: =ROUNDDOWN(SUM(P27:P35)/2,0) -> 0 | Q37: Cr.Svincoli | R37: =ROUNDDOWN(SUM(R27:R35)/2,0) -> 0 | S37: Cr.Svincoli | T37: =ROUNDDOWN(SUM(T27:T35)/2,0) -> 0
U39: Acquisti
B48: =SUM(B39:B47) -> 0 | D48: =SUM(D39:D47) -> 0 | F48: =SUM(F39:F47) -> 0 | H48: =SUM(H39:H47) -> 0 | J48: =SUM(J39:J47) -> 0 | L48: =SUM(L39:L47) -> 0 | N48: =SUM(N39:N47) -> 0 | P48: =SUM(P39:P47) -> 0 | R48: =SUM(R39:R47) -> 0 | T48: =SUM(T39:T47) -> 0
B49: =Promozione!P3 -> 11 | D49: =Promozione!P4 -> 0 | F49: =Promozione!P5 -> 30 | H49: =Promozione!P6 -> 4 | J49: =Promozione!P7 -> 1 | L49: =Promozione!P8 -> 25 | N49: =Promozione!P9 -> 12 | P49: =Promozione!P10 -> 4 | R49: =Promozione!P11 -> 26 | T49: =Promozione!P12 -> 14 | U49: Parziali Live

Sheet RoseMercP
A1: A S SECCO | C1: FC Alinghi | E1: Boia Deh Lakers | G1: The Nowitzness | I1: Patatinaikos | K1: il Presidente | M1: Real Markoti | O1: Sbronsea PF | Q1: Team ajejebrazorv5 | S1: Pisano D O C G | W1: non confermabili 2018/19
A2: Crediti Iniz. | C2: Crediti Iniz. | E2: Crediti Iniz. | G2: FlyBeard | I2: Crediti Iniz. | K2: Crediti Iniz. | M2: Crediti Iniz. | O2: Crediti Iniz. | Q2: Crediti Iniz. | S2: Crediti Iniz. | W2: nuovi acquisti 2017/18 - febbraio
W3: nuovi acquisti 2017/18 - febbraio da scambio
B7: =+SUM(B4:B6) -> 0 | D7: =+SUM(D4:D6) -> 0 | F7: =+SUM(F4:F6) -> 0 | H7: =+SUM(H4:H6) -> 0 | J7: =+SUM(J4:J6) -> 0 | L7: =+SUM(L4:L6) -> 0 | N7: =+SUM(N4:N6) -> 0 | P7: =+SUM(P4:P6) -> 0 | R7: =+SUM(R4:R6) -> 0 | T7: =+SUM(T4:T6) -> 0
B16: =+SUM(B8:B15) -> 0 | D16: =+SUM(D8:D15) -> 0 | F16: =+SUM(F8:F15) -> 0 | H16: =+SUM(H8:H15) -> 0 | J16: =+SUM(J8:J15) -> 0 | L16: =+SUM(L8:L15) -> 0 | N16: =+SUM(N8:N15) -> 0 | P16: =+SUM(P8:P15) -> 0 | R16: =+SUM(R8:R15) -> 0 | T16: =+SUM(T8:T15) -> 0
B25: =+SUM(B17:B24) -> 0 | D25: =+SUM(D17:D24) -> 0 | F25: =+SUM(F17:F24) -> 0 | H25: =+SUM(H17:H24) -> 0 | J25: =+SUM(J17:J24) -> 0 | L25: =+SUM(L17:L24) -> 0 | N25: =+SUM(N17:N24) -> 0 | P25: =+SUM(P17:P24) -> 0 | R25: =+SUM(R17:R24) -> 0 | T25: =+SUM(T17:T24) -> 0
B32: =+SUM(B26:B31) -> 0 | D32: =+SUM(D26:D31) -> 0 | F32: =+SUM(F26:F31) -> 0 | H32: =+SUM(H26:H31) -> 0 | J32: =+SUM(J26:J31) -> 0 | L32: =+SUM(L26:L31) -> 0 | N32: =+SUM(N26:N31) -> 0 | P32: =+SUM(P26:P31) -> 0 | R32: =+SUM(R26:R31) -> 0 | T32: =+SUM(T26:T31) -> 0

Sheet RoseProm
A1: A S SECCO | C1: FC Alinghi | E1: Boia Deh Lakers | G1: The Nowitzness | I1: Patatinaikos | K1: il Presidente | M1: Real Markoti | O1: Sbronsea PF | Q1: AC CHIAVO VERONICA | S1: Pisano D O C G | W1: non confermabili 2019/20
A2: Crediti Iniz. | B2: 500 | C2: Crediti Iniz. | D2: 500 | E2: Crediti Iniz. | F2: 500 | G2: FlyBeard | H2: 500 | I2: Crediti Iniz. | J2: 500 | K2: Crediti Iniz. | L2: 500 | M2: Crediti Iniz. | N2: 500 | O2: Crediti Iniz. | P2: 500 | Q2: Crediti Iniz. | R2: 500 | S2: Crediti Iniz. | T2: 500 | W2: nuovi acquisti 2018/19 - febbraio
B3: =B2-B7-B16-B25-B32 -> 11 | D3: =D2-D7-D16-D25-D32 -> 30 | F3: =F2-F7-F16-F25-F32 -> 25 | H3: =H2-H7-H16-H25-H32 -> 0 | J3: =J2-J7-J16-J25-J32 -> 12 | L3: =L2-L7-L16-L25-L32 -> 4 | N3: =N2-N7-N16-N25-N32 -> 14 | P3: =P2-P7-P16-P25-P32 -> 1 | R3: =R2-R7-R16-R25-R32 -> 4 | T3: =T2-T7-T16-T25-T32 -> 26 | W3: nuovi acquisti 2018/19 - febbraio da scambio
A4: OLSEN | B4: 37 | C4: BERISHA | D4: 16 | E4: CRAGNO | F4: 5 | G4: SIRIGU | H4: 19 | I4: STRAKOSHA | J4: 19 | K4: CONSIGLI | L4: 15 | M4: DONNARUMMA | N4: 47 | O4: SZESCENY | P4: 45 | Q4: HANDANOVIC | R4: 43 | S4: LAFONT | T4: 22 | W4: riconferma 2018/19
A5: MIRANTE | B5: 1 | C5: GOLLINI | D5: 7 | E5: OSPINA | F5: 28 | G5: SKORUPSKI | H5: 4 | I5: PROTO | J5: 1 | K5: SORRENTINO | L5: 6 | M5: REINA | N5: 7 | O5: PERIN | P5: 18 | Q5: BERNI | R5: 1 | S5: DRAGOWSKI | T5: 1 | W5: riconferma 2018/19
A6: FUZATO | B6: 1 | C6: AUDERO | D6: 5 | E6: MERET | F6: 10 | G6: SPORTIELLO | H6: 2 | I6: GUERRIERI | J6: 1 | K6: MARCHETTI | L6: 20 | M6: DONNARUMMA | N6: 1 | O6: PINSOGLIO | P6: 1 | Q6: PADELLI | R6: 1 | S6: NICOLAS | T6: 1 | W6: riconferma 2018/19
B7: =+SUM(B4:B6) -> 39 | D7: =+SUM(D4:D6) -> 28 | F7: =+SUM(F4:F6) -> 43 | H7: =+SUM(H4:H6) -> 25 | J7: =+SUM(J4:J6) -> 21 | L7: =+SUM(L4:L6) -> 41 | N7: =+SUM(N4:N6) -> 55 | P7: =+SUM(P4:P6) -> 64 | R7: =+SUM(R4:R6) -> 45 | T7: =+SUM(T4:T6) -> 24 | W7: riconferma 2018/19
A8: COLLEY | B8: 8 | C8: SKRINIAR | D8: 23 | E8: CALDARA | F8: 14 | G8: ASAMOAH | H8: 14 | I8: KOLAROV | J8: 30 | K8: BONUCCI | L8: 25 | M8: DE VRJI | N8: 20 | O8: FLORENZI | P8: 12 | Q8: VICTOR HUGO | R8: 6 | S8: FAZIO | T8: 14 | W8: riconferma 2018/19
A9: CACCIATORE | B9: 8 | C9: TOLOI | D9: 16 | E9: RADU | F9: 5 | G9: ACERBI | H9: 13 | I9: CRISCITO | J9: 16 | K9: MANOLAS | L9: 15 | M9: KOULIBALY | N9: 30 | O9: CHIELLINI | P9: 14 | Q9: FERRARI | R9: 5 | S9: SAMIR | T9: 3
A10: PASQUAL | B10: 7 | C10: ROMAGNOLI | D10: 10 | E10: PALOMINO | F10: 4 | G10: HYSAJ | H10: 9 | I10: BIRAGHI | J10: 3 | K10: NKOLOU | L10: 8 | M10: DIIKS (BOLOGNA) | N10: 4 | O10: CALABRIA | P10: 6 | Q10: CIONEK | R10: 3 | S10: BENATIA | T10: 8
A11: GOLDANIGA | B11: 3 | C11: BEREZYNSKI | D11: 3 | E11: LISANDRO LOPEZ | F11: 4 | G11: VRSALJKO | H11: 12 | I11: HATEBOER | J11: 8 | K11: CONTI | L11: 6 | M11: CANCELO | N11: 27 | O11: ALEX SANDRO | P11: 21 | Q11: ROGERIO | R11: 1 | S11: ANDERSEN | T11: 3
A12: DE MAIO | B12: 2 | C12: MIRANDA | D12: 4 | E12: RODRIGUEZ R. | F12: 5 | G12: ALBIOL | H12: 10 | I12: ZUKANOVIC | J12: 3 | K12: HELANDER | L12: 1 | M12: MAGNANI | N12: 3 | O12: DE SILVESTRI | P12: 15 | Q12: ROSSETTINI | R12: 1 | S12: SRNA | T12: 2
A13: VICARI | B13: 1 | C13: MANCINI | D13: 4 | E13: LYKOGIANNIS | F13: 2 | G13: MAKSIMOVIC | H13: 3 | I13: CASTAGNE | J13: 1 | K13: ANSALDI | L13: 6 | M13: MASIELLO | N13: 16 | O13: IZZO | P13: 4 | Q13: ANTONELLI | R13: 1 | S13: MARIO RUI | T13: 6
A14: PEZZELLA GER. | B14: 6 | C14: LIROLA | D14: 2 | E14: TONELLI | F14: 2 | G14: D'AMBROSIO | H14: 1 | I14: GOSENS | J14: 1 | K14: KLAVAN | L14: 1 | M14: SILVESTRE | N14: 3 | O14: GHOULAM | P14: 4 | Q14: BRUNO ALVES | R14: 1 | S14: NUYTINK | T14: 1
A15: LUIZ FELIPE | B15: 4 | C15: MUSACCHIO | D15: 1 | E15: KARSDORP | F15: 1 | G15: CACERES | H15: 1 | I15: RECA | J15: 1 | K15: SPOLLI | L15: 1 | M15: MILENKOVIC | N15: 9 | O15: RUGANI | P15: 1 | Q15: MORETTI | R15: 1 | S15: BIRASCHI | T15: 1
B16: =+SUM(B8:B15) -> 39 | D16: =+SUM(D8:D15) -> 63 | F16: =+SUM(F8:F15) -> 37 | H16: =+SUM(H8:H15) -> 63 | J16: =+SUM(J8:J15) -> 63 | L16: =+SUM(L8:L15) -> 63 | N16: =+SUM(N8:N15) -> 112 | P16: =+SUM(P8:P15) -> 77 | R16: =+SUM(R8:R15) -> 19 | T16: =+SUM(T8:T15) -> 38
A17: DZEMAILI | B17: 17 | C17: LUIS ALBERTO | D17: 61 | E17: GIACCHERINI | F17: 23 | G17: PEROTTI | H17: 11 | I17: CALHANOGLU | J17: 60 | K17: MILINKOVIC | L17: 80 | M17: SORIANO | N17: 14 | O17: FOFANA | P17: 8 | Q17: NAINGOLLAN | R17: 54 | S17: ILICIC | T17: 48
A18: DE PAUL | B18: 22 | C18: ZIELINSKI | D18: 37 | E18: VERETOUT | F18: 34 | G18: PASALIC | H18: 22 | I18: ZAJC | J18: 16 | K18: BONAVENTURA | L18: 43 | M18: CHIESA | N18: 62 | O18: PJANIC | P18: 45 | Q18: VERDI | R18: 32 | S18: BERISHA | T18: 9
A19: PASTORE | B19: 36 | C19: FREULER | D19: 33 | E19: BROZOVIC | F19: 33 | G19: CASTRO | H19: 19 | I19: D.COSTA | J19: 66 | K19: BOATENG | L19: 40 | M19: DI GAUDIO | N19: 7 | O19: EMRE CAN | P19: 17 | Q19: HAMSIK | R19: 29 | S19: MANDRAGORA | T19: 5
A20: CRISTANTE | B20: 18 | C20: BARAK | D20: 10 | E20: PULGAR | F20: 4 | G20: JANKTO | H20: 20 | I20: GRASSI | J20: 1 | K20: RUIZ | L20: 10 | M20: PRAET | N20: 7 | O20: PERISIC | P20: 71 | Q20: HALLFREDSSON | R20: 1 | S20: KHEDIRA | T20: 32
A21: PELLEGRINI LORE | B21: 4 | C21: RAMIREZ | D21: 12 | E21: CICIRETTI | F21: 3 | G21: MEITE | H21: 1 | I21: MARUSIC | J21: 1 | K21: JOAO PEDRO | L21: 9 | M21: PAROLO | N21: 15 | O21: MATUIDI | P21: 17 | Q21: BENASSI | R21: 3 | S21: POLI | T21: 1
A22: BARELLA | B22: 26 | C22: KESSIE | D22: 15 | E22: BERNARDESCHI | F22: 19 | G22: BASELLI | H22: 7 | I22: VIVIANI | J22: 1 | K22: SAPONARA | L22: 1 | M22: LAZZARI | N22: 3 | O22: CUADRADO | P22: 22 | Q22: LEIVA | R22: 3 | S22: BIRSA | T22: 6
A23: KRUNIC | B23: 5 | C23: VECINO | D23: 1 | E23: STULAC | F23: 1 | G23: ALLAN | H23: 16 | I23: EKDAL | J23: 1 | K23: NZONZI | L23: 1 | M23: GERSON | N23: 4 | O23: DJURICIC | P23: 1 | Q23: BIGLIA | R23: 1 | S23: BEHRANI | T23: 1
A24: ROMULO | B24: 3 | C24: STROOTMAN | D24: 2 | E24: CORREA | F24: 6 | G24: LULIC | H24: 3 | I24: SENSI | J24: 1 | K24: DE ROON | L24: 1 | M24: BAKAIOKO | N24: 1 | O24: DONSAH | P24: 1 | Q24: RINCON | R24: 1 | S24: KURTIC | T24: 2
B25: =+SUM(B17:B24) -> 131 | D25: =+SUM(D17:D24) -> 171 | F25: =+SUM(F17:F24) -> 123 | H25: =+SUM(H17:H24) -> 99 | J25: =+SUM(J17:J24) -> 147 | L25: =+SUM(L17:L24) -> 185 | N25: =+SUM(N17:N24) -> 113 | P25: =+SUM(P17:P24) -> 182 | R25: =+SUM(R17:R24) -> 124 | T25: =+SUM(T17:T24) -> 104
A26: LAUTARO | B26: 34 | C26: PAVOLETTI | D26: 42 | E26: ZAPATA | F26: 51 | G26: IMMOBILE | H26: 218 | I26: DZEKO | J26: 201 | K26: DYBALA | L26: 143 | M26: BELOTTI | N26: 127 | O26: MERTENS | P26: 51 | Q26: ICARDI | R26: 214 | S26: RONALDO | T26: 228
A27: IAGO FALQUE | B27: 4 | C27: SUSO | D27: 66 | E27: MILIK | F27: 143 | G27: CAICEDO | H27: 1 | I27: CIANO | J27: 5 | K27: QUAGLIARELLA | L27: 41 | M27: CUTRONE | N27: 3 | O27: GOMEZ | P27: 75 | Q27: CAPUTO | R27: 19 | S27: CALLEJON | T27: 51
A28: HIGUAIN | B28: 199 | C28: INSIGNE | D28: 72 | E28: SIMEONE | F28: 56 | G28: ANTENUCCI | H28: 36 | I28: BERARDI | J28: 34 | K28: PJACA | L28: 15 | M28: INGLESE | N28: 55 | O28: MANDZUKIC | P28: 46 | Q28: STEPINSKI | R28: 12 | S28: PUSSETTO | T28: 1
A29: SCHICK | B29: 19 | C29: FALCINELLI | D29: 7 | E29: PIATEK | F29: 6 | G29: TEODORCYUK | H29: 3 | I29: LA GUMINA | J29: 2 | K29: DI FRANCESCO | L29: 1 | M29: KLUIVERT | N29: 15 | O29: CASTILLEJO | P29: 1 | Q29: UNDER | R29: 34 | S29: BARROW | T29: 20
A30: ZAZA | B30: 21 | C30: GERVINHO | D30: 20 | E30: KEITA | F30: 13 | G30: LASAGNA | H30: 54 | I30: FAVILLI | J30: 14 | K30: FARIAS | L30: 1 | M30: KOWNACKI | N30: 5 | O30: PALACIO | P30: 2 | Q30: DEFREL | R30: 28 | S30: MACHIS | T30: 3
A31: BABACAR | B31: 3 | C31: DESTRO | D31: 1 | E31: POLITANO | F31: 3 | G31: MEDEIROS | H31: 1 | I31: EL SHARAAWY | J31: 1 | K31: PANDEV | L31: 6 | M31: BRIGNOLA | N31: 1 | O31: LJIAIC | P31: 1 | Q31: CAPRARI | R31: 1 | S31: PETAGNA | T31: 5
B32: =+SUM(B26:B31) -> 280 | D32: =+SUM(D26:D31) -> 208 | F32: =+SUM(F26:F31) -> 272 | H32: =+SUM(H26:H31) -> 313 | J32: =+SUM(J26:J31) -> 257 | L32: =+SUM(L26:L31) -> 207 | N32: =+SUM(N26:N31) -> 206 | P32: =+SUM(P26:P31) -> 176 | R32: =+SUM(R26:R31) -> 308 | T32: =+SUM(T26:T31) -> 308
B34: 5 | D34: 9 | F34: 4 | H34: 10 | J34: 2 | L34: 7 | N34: 8 | P34: 1 | R34: 3 | T34: 6
