Workbook
Name GRUPPO_A: GIOCATORE!$E$35:$F$38
Name terza: #REF!

Sheet rif
A1: BET RUSSIA 2018
A4: SQUADRE PARTECIPANTI E GIRONI | H4: RIEPILOGO PUNTI
B7: GIRONE A | D7: GIRONE B
B8: EGITTO | D8: IRAN
B9: RUSSIA | D9: MAROCCO
B10: ARABIA SAUDITA | D10: PORTOGALLO | O10: TABELLA PUNTI
B11: URUGUAY | D11: SPAGNA | O11: 10 | Q11: Posizione squadra nella Classifica Finale
O12: 5 | Q12: Posizione squadra nella Classifica Girone
B13: GIRONE C | D13: GIRONE D | O13: 5 | Q13: Capocannoniere
B14: AUSTRALIA | D14: ARGENTINA | O14: 10 | Q14: Punti massimi aquisibili su ogni singola partita
B15: DANIMARCA | D15: CROAZIA | O15: di cui: | Q15: 3 | R15: risultato della partita (1,x,2)
B16: FRANCIA | D16: ISLANDA | Q16: 0.5 | R16: gol/nogol , pari/dispari , u/0 , tot gol , diff reti ,
B17: PERU | D17: NIGERIA | R17: segna A, segna B , combo gol , combo over
Q18: 1.5 | R18: Bonus per risultato esatto indovinato
B19: GIRONE E | D19: GIRONE F
B20: BRASILE | D20: GERMANIA
B21: COSTA RICA | D21: COREA DEL SUD
B22: SERBIA | D22: MESSICO
B23: SVIZZERA | D23: SVEZIA
B25: GIRONE G | D25: GIRONE H
B26: BELGIO | D26: COLOMBIA
B27: INGHILTERRA | D27: GIAPPONE
B28: PANAMA | D28: POLONIA
B29: TUNISIA | D29: SENEGAL
A31: SEZIONE PRONOSTICI
B34: CLASSIFICA FINALE | E34: GIRONE A | I34: GIRONE B | M34: GIRONE C | Q34: GIRONE G
A35: 1 | D35: 1 | H35: 1 | L35: 1 | P35: 1
A36: 2 | D36: 2 | H36: 2 | L36: 2 | P36: 2
A37: 3 | D37: 3 | H37: 3 | I37: IRAN | L37: 3 | P37: 3
A38: 3 | D38: 4 | H38: 4 | L38: 4 | P38: 4
B41: CAPOCANNONIERE
A42: 1 | E42: GIRONE D | I42: GIRONE E | M42: GIRONE F | Q42: GIRONE H
D43: 1 | H43: 1 | L43: 1 | P43: 1
D44: 2 | H44: 2 | L44: 2 | P44: 2
D45: 3 | H45: 3 | L45: 3 | P45: 3
D46: 4 | H46: 4 | L46: 4 | P46: 4
A50: GIRONI ELIMINATORI
A53: data | B53: girone | C53: squadra A | D53: squadra B | E53: gol A | F53: gol B | G53: risultato | H53: gol/nogol | I53: pari/dispari | J53: u/o 1,5 | K53: u/o 2,5 | L53: u/o 3,5 | M53: num. Gol | N53: segna A | O53: segna B | P53: diff reti | Q53: combo gol | R53: combo over
A54: 43265.708 | B54: A | C54: RUSSIA | D54: ARABIA SAUDITA | G54: =IF(OR(E54="",F54=""),"",IF(E54>F54,"1",IF(E54<F54,"2","X"))) | H54: =IF(OR(E54="",F54=""),"",IF(AND(E54>0,F54>0),"GOL","NOGOL")) | I54: =IF(OR(E54="",F54=""),"",IF(INT((E54+F54)/2)=(E54+F54)/2,"PARI","DISPARI")) | J54: =IF(OR(E54="",F54=""),"",IF(E54+F54>1,"OVER","UNDER")) | K54: =IF(OR(E54="",F54=""),"",IF(E54+F54>2,"OVER","UNDER")) | L54: =IF(OR(E54="",F54=""),"",IF(E54+F54>3,"OVER","UNDER")) | M54: =IF(OR(E54="",F54=""),"",E54+F54) | N54: =IF(OR(E54="",F54=""),"",IF(E54>0,"SI","NO")) | O54: =IF(OR(E54="",F54=""),"",IF(F54>0,"SI","NO")) | P54: =IF(OR(E54="",F54=""),"",E54-F54) | Q54: =IF(AND(E54="",F54=""),"",CONCATENATE(G54,"+",H54)) | R54: =IF(AND(E54="",F54=""),"",CONCATENATE(G54,"+",K54))
A55: 43266.583 | B55: A | C55: EGITTO | D55: URUGUAY | G55: =IF(OR(E55="",F55=""),"",IF(E55>F55,"1",IF(E55<F55,"2","X"))) | H55: =IF(OR(E55="",F55=""),"",IF(AND(E55>0,F55>0),"GOL","NOGOL")) | I55: =IF(OR(E55="",F55=""),"",IF(INT((E55+F55)/2)=(E55+F55)/2,"PARI","DISPARI")) | J55: =IF(OR(E55="",F55=""),"",IF(E55+F55>1,"OVER","UNDER")) | K55: =IF(OR(E55="",F55=""),"",IF(E55+F55>2,"OVER","UNDER")) | L55: =IF(OR(E55="",F55=""),"",IF(E55+F55>3,"OVER","UNDER")) | M55: =IF(OR(E55="",F55=""),"",E55+F55) | N55: =IF(OR(E55="",F55=""),"",IF(E55>0,"SI","NO")) | O55: =IF(OR(E55="",F55=""),"",IF(F55>0,"SI","NO")) | P55: =IF(OR(E55="",F55=""),"",E55-F55) | Q55: =IF(AND(E55="",F55=""),"",CONCATENATE(G55,"+",H55)) | R55: =IF(AND(E55="",F55=""),"",CONCATENATE(G55,"+",K55))
...

Sheet GIOCATORE
A1: BET RUSSIA 2018
A4: SQUADRE PARTECIPANTI E GIRONI | H4: RIEPILOGO PUNTI
B7: GIRONE A | D7: GIRONE B | I7: CONCORRENTE | V7: PUNTI TOTALI | Z7: =SUM(Z8:Z17) -> 0
B8: EGITTO | D8: IRAN | I8: EMAIL | W8: 1^ GIORNATA | Z8: =S70 -> 0
B9: RUSSIA | D9: MAROCCO | W9: 2^ GIORNATA | Z9: =S88 -> 0
B10: ARABIA SAUDITA | D10: PORTOGALLO | N10: TABELLA PUNTI | W10: 3^ GIORNATA | Z10: =S106 -> 0
B11: URUGUAY | D11: SPAGNA | N11: 20 | O11: Vincitrice del Mondiale | W11: GIRONI | Z11: =G39+K39+O39+R39+G47+K47+O47+R47 -> 0
N12: 15 | O12: Posizione squadra nella Classifica Finale | W12: OTTAVI | Z12: =S119 -> 0
B13: GIRONE C | D13: GIRONE D | N13: 5 | O13: Posizione squadra nella Classifica Girone | W13: QUARTI | Z13: =S128 -> 0
B14: AUSTRALIA | D14: ARGENTINA | N14: 8 | O14: Capocannoniere | W14: SEMIFINALI | Z14: =S134 -> 0
B15: DANIMARCA | D15: CROAZIA | N15: 10 | O15: Punti massimi aquisibili su ogni singola partita | W15: FINALI | Z15: =S140 -> 0
B16: FRANCIA | D16: ISLANDA | N16: di cui: | P16: 3 | Q16: risultato della partita (1,x,2) | W16: CLASSIFICA FINALE | Z16: =C39 -> 0
B17: PERU | D17: NIGERIA | P17: 0.5 | Q17: gol/nogol , pari/dispari , u/0 , tot gol , diff reti , | W17: CAPOCANNONIERE | Z17: =C43 -> 0
Q18: segna A, segna B , combo gol , combo over
B19: GIRONE E | D19: GIRONE F | P19: 1.5 | Q19: Bonus per risultato esatto indovinato
B20: BRASILE | D20: GERMANIA
B21: COSTA RICA | D21: COREA DEL SUD
B22: SERBIA | D22: MESSICO
B23: SVIZZERA | D23: SVEZIA
B25: GIRONE G | D25: GIRONE H
B26: BELGIO | D26: COLOMBIA
B27: INGHILTERRA | D27: GIAPPONE
B28: PANAMA | D28: POLONIA
B29: TUNISIA | D29: SENEGAL
A31: SEZIONE PRONOSTICI
B34: CLASSIFICA FINALE | C34: PUNTI | E34: GIRONE A | G34: PUNTI | I34: GIRONE B | K34: PUNTI | M34: GIRONE C | O34: PUNTI | Q34: GIRONE G | R34: PUNTI
A35: 1 | C35: =IF(B35<>rif!B35,0,IF(B35="",0,20)) -> 0 | D35: 1 | G35: =IF(E35<>rif!E35,0,IF(E35="",0,5)) -> 0 | H35: 1 | K35: =IF(I35<>rif!I35,0,IF(I35="",0,5)) -> 0 | L35: 1 | O35: =IF(M35<>rif!M35,0,IF(M35="",0,5)) -> 0 | P35: 1 | R35: =IF(Q35<>rif!Q35,0,IF(Q35="",0,5)) -> 0
A36: 2 | C36: =IF(B36<>rif!B36,0,IF(B36="",0,15)) -> 0 | D36: 2 | G36: =IF(E36<>rif!E36,0,IF(E36="",0,5)) -> 0 | H36: 2 | K36: =IF(I36<>rif!I36,0,IF(I36="",0,5)) -> 0 | L36: 2 | O36: =IF(M36<>rif!M36,0,IF(M36="",0,5)) -> 0 | P36: 2 | R36: =IF(Q36<>rif!Q36,0,IF(Q36="",0,5)) -> 0
A37: 3 | C37: =IF(B37<>rif!B37,0,IF(B37="",0,15)) -> 0 | D37: 3 | G37: =IF(E37<>rif!E37,0,IF(E37="",0,5)) -> 0 | H37: 3 | K37: =IF(I37<>rif!I37,0,IF(I37="",0,5)) -> 0 | L37: 3 | O37: =IF(M37<>rif!M37,0,IF(M37="",0,5)) -> 0 | P37: 3 | R37: =IF(Q37<>rif!Q37,0,IF(Q37="",0,5)) -> 0
A38: 3 | C38: =IF(B38<>rif!B38,0,IF(B38="",0,15)) -> 0 | D38: 4 | G38: =IF(E38<>rif!E38,0,IF(E38="",0,5)) -> 0 | H38: 4 | K38: =IF(I38<>rif!I38,0,IF(I38="",0,5)) -> 0 | L38: 4 | O38: =IF(M38<>rif!M38,0,IF(M38="",0,5)) -> 0 | P38: 4 | R38: =IF(Q38<>rif!Q38,0,IF(Q38="",0,5)) -> 0
B39: TOT: | C39: =SUM(C35:C38) -> 0 | E39: TOT: | G39: =SUM(G35:G38) -> 0 | I39: TOT: | K39: =SUM(K35:K38) -> 0 | M39: TOT: | O39: =SUM(O35:O38) -> 0 | Q39: TOT: | R39: =SUM(R35:R38) -> 0
B41: CAPOCANNONIERE | C41: PUNTI
C42: =IF(B42<>rif!B42,0,IF(B42="",0,8)) -> 0 | E42: GIRONE D | G42: PUNTI | I42: GIRONE E | K42: PUNTI | M42: GIRONE F | O42: PUNTI | Q42: GIRONE H | R42: PUNTI
B43: TOT: | C43: =SUM(C42) -> 0 | D43: 1 | G43: =IF(E43<>rif!E43,0,IF(E43="",0,5)) -> 0 | H43: 1 | K43: =IF(I43<>rif!I43,0,IF(I43="",0,5)) -> 0 | L43: 1 | O43: =IF(M43<>rif!M43,0,IF(M43="",0,5)) -> 0 | P43: 1 | R43: =IF(Q43<>rif!Q43,0,IF(Q43="",0,5)) -> 0
D44: 2 | G44: =IF(E44<>rif!E44,0,IF(E44="",0,5)) -> 0 | H44: 2 | K44: =IF(I44<>rif!I44,0,IF(I44="",0,5)) -> 0 | L44: 2 | O44: =IF(M44<>rif!M44,0,IF(M44="",0,5)) -> 0 | P44: 2 | R44: =IF(Q44<>rif!Q44,0,IF(Q44="",0,5)) -> 0
D45: 3 | G45: =IF(E45<>rif!E45,0,IF(E45="",0,5)) -> 0 | H45: 3 | K45: =IF(I45<>rif!I45,0,IF(I45="",0,5)) -> 0 | L45: 3 | O45: =IF(M45<>rif!M45,0,IF(M45="",0,5)) -> 0 | P45: 3 | R45: =IF(Q45<>rif!Q45,0,IF(Q45="",0,5)) -> 0
D46: 4 | G46: =IF(E46<>rif!E46,0,IF(E46="",0,5)) -> 0 | H46: 4 | K46: =IF(I46<>rif!I46,0,IF(I46="",0,5)) -> 0 | L46: 4 | O46: =IF(M46<>rif!M46,0,IF(M46="",0,5)) -> 0 | P46: 4 | R46: =IF(Q46<>rif!Q46,0,IF(Q46="",0,5)) -> 0
E47: TOT: | G47: =SUM(G43:G46) -> 0 | I47: TOT: | K47: =SUM(K43:K46) -> 0 | M47: TOT: | O47: =SUM(O43:O46) -> 0 | Q47: TOT: | R47: =SUM(R43:R46) -> 0
A50: GIRONI ELIMINATORI
A53: data | B53: girone | C53: squadra A | D53: squadra B | E53: gol A | F53: gol B | G53: risultato | H53: gol/nogol | I53: pari/dispari | J53: u/o 1,5 | K53: u/o 2,5 | L53: u/o 3,5 | M53: tot gol | N53: segna A | O53: segna B | P53: diff reti | Q53: combo gol | R53: combo over | S53: PUNTI
...
