Workbook
Name GRUPPO_A: GIOCATORE!$E$35:$F$38
Name terza: #REF!

Sheet rif
A1: BET RUSSIA 2018
A4: SQUADRE PARTECIPANTI E GIRONI | H4: RIEPILOGO PUNTI
B7: GIRONE A | D7: GIRONE B
B8: EGITTO | D8: IRAN
B9: RUSSIA | D9: MAROCCO
B10: ARABIA SAUDITA | D10: PORTOGALLO | O10: TABELLA PUNTI
B11: URUGUAY | D11: SPAGNA | O11: 10 | Q11: Posizione squadra nella Classifica Finale
O12: 5 | Q12: Posizione squadra nella Classifica Girone
B13: GIRONE C | D13: GIRONE D | O13: 5 | Q13: Capocannoniere
B14: AUSTRALIA | D14: ARGENTINA | O14: 10 | Q14: Punti massimi aquisibili su ogni singola partita
B15: DANIMARCA | D15: CROAZIA | O15: di cui: | Q15: 3 | R15: risultato della partita (1,x,2)
B16: FRANCIA | D16: ISLANDA | Q16: 0.5 | R16: gol/nogol , pari/dispari , u/0 , tot gol , diff reti ,
B17: PERU | D17: NIGERIA | R17: segna A, segna B , combo gol , combo over
Q18: 1.5 | R18: Bonus per risultato esatto indovinato
B19: GIRONE E | D19: GIRONE F
B20: BRASILE | D20: GERMANIA
B21: COSTA RICA | D21: COREA DEL SUD
B22: SERBIA | D22: MESSICO
B23: SVIZZERA | D23: SVEZIA
B25: GIRONE G | D25: GIRONE H
B26: BELGIO | D26: COLOMBIA
B27: INGHILTERRA | D27: GIAPPONE
B28: PANAMA | D28: POLONIA
B29: TUNISIA | D29: SENEGAL
A31: SEZIONE PRONOSTICI
B34: CLASSIFICA FINALE | E34: GIRONE A | I34: GIRONE B | M34: GIRONE C | Q34: GIRONE G
A35: 1 | D35: 1 | H35: 1 | L35: 1 | P35: 1
A36: 2 | D36: 2 | H36: 2 | L36: 2 | P36: 2
A37: 3 | D37: 3 | H37: 3 | I37: IRAN | L37: 3 | P37: 3
A38: 3 | D38: 4 | H38: 4 | L38: 4 | P38: 4
B41: CAPOCANNONIERE
A42: 1 | E42: GIRONE D | I42: GIRONE E | M42: GIRONE F | Q42: GIRONE H
D43: 1 | H43: 1 | L43: 1 | P43: 1
D44: 2 | H44: 2 | L44: 2 | P44: 2
D45: 3 | H45: 3 | L45: 3 | P45: 3
D46: 4 | H46: 4 | L46: 4 | P46: 4
A50: GIRONI ELIMINATORI
A53: data | B53: girone | C53: squadra A | D53: squadra B | E53: gol A | F53: gol B | G53: risultato | H53: gol/nogol | I53: pari/dispari | J53: u/o 1,5 | K53: u/o 2,5 | L53: u/o 3,5 | M53: num. Gol | N53: segna A | O53: segna B | P53: diff reti | Q53: combo gol | R53: combo over
A54: 43265.708 | B54: A | C54: RUSSIA | D54: ARABIA SAUDITA | G54: =IF(OR(E54="",F54=""),"",IF(E54>F54,"1",IF(E54<F54,"2","X"))) | H54: =IF(OR(E54="",F54=""),"",IF(AND(E54>0,F54>0),"GOL","NOGOL")) | I54: =IF(OR(E54="",F54=""),"",IF(INT((E54+F54)/2)=(E54+F54)/2,"PARI","DISPARI")) | J54: =IF(OR(E54="",F54=""),"",IF(E54+F54>1,"OVER","UNDER")) | K54: =IF(OR(E54="",F54=""),"",IF(E54+F54>2,"OVER","UNDER")) | L54: =IF(OR(E54="",F54=""),"",IF(E54+F54>3,"OVER","UNDER")) | M54: =IF(OR(E54="",F54=""),"",E54+F54) | N54: =IF(OR(E54="",F54=""),"",IF(E54>0,"SI","NO")) | O54: =IF(OR(E54="",F54=""),"",IF(F54>0,"SI","NO")) | P54: =IF(OR(E54="",F54=""),"",E54-F54) | Q54: =IF(AND(E54="",F54=""),"",CONCATENATE(G54,"+",H54)) | R54: =IF(AND(E54="",F54=""),"",CONCATENATE(G54,"+",K54))
A55: 43266.583 | B55: A | C55: EGITTO | D55: URUGUAY | G55: =IF(OR(E55="",F55=""),"",IF(E55>F55,"1",IF(E55<F55,"2","X"))) | H55: =IF(OR(E55="",F55=""),"",IF(AND(E55>0,F55>0),"GOL","NOGOL")) | I55: =IF(OR(E55="",F55=""),"",IF(INT((E55+F55)/2)=(E55+F55)/2,"PARI","DISPARI")) | J55: =IF(OR(E55="",F55=""),"",IF(E55+F55>1,"OVER","UNDER")) | K55: =IF(OR(E55="",F55=""),"",IF(E55+F55>2,"OVER","UNDER")) | L55: =IF(OR(E55="",F55=""),"",IF(E55+F55>3,"OVER","UNDER")) | M55: =IF(OR(E55="",F55=""),"",E55+F55) | N55: =IF(OR(E55="",F55=""),"",IF(E55>0,"SI","NO")) | O55: =IF(OR(E55="",F55=""),"",IF(F55>0,"SI","NO")) | P55: =IF(OR(E55="",F55=""),"",E55-F55) | Q55: =IF(AND(E55="",F55=""),"",CONCATENATE(G55,"+",H55)) | R55: =IF(AND(E55="",F55=""),"",CONCATENATE(G55,"+",K55))
A56: 43266.708 | B56: B | C56: MAROCCO | D56: IRAN | G56: =IF(OR(E56="",F56=""),"",IF(E56>F56,"1",IF(E56<F56,"2","X"))) | H56: =IF(OR(E56="",F56=""),"",IF(AND(E56>0,F56>0),"GOL","NOGOL")) | I56: =IF(OR(E56="",F56=""),"",IF(INT((E56+F56)/2)=(E56+F56)/2,"PARI","DISPARI")) | J56: =IF(OR(E56="",F56=""),"",IF(E56+F56>1,"OVER","UNDER")) | K56: =IF(OR(E56="",F56=""),"",IF(E56+F56>2,"OVER","UNDER")) | L56: =IF(OR(E56="",F56=""),"",IF(E56+F56>3,"OVER","UNDER")) | M56: =IF(OR(E56="",F56=""),"",E56+F56) | N56: =IF(OR(E56="",F56=""),"",IF(E56>0,"SI","NO")) | O56: =IF(OR(E56="",F56=""),"",IF(F56>0,"SI","NO")) | P56: =IF(OR(E56="",F56=""),"",E56-F56) | Q56: =IF(AND(E56="",F56=""),"",CONCATENATE(G56,"+",H56)) | R56: =IF(AND(E56="",F56=""),"",CONCATENATE(G56,"+",K56))
A57: 43266.833 | B57: B | C57: PORTOGALLO | D57: SPAGNA | G57: =IF(OR(E57="",F57=""),"",IF(E57>F57,"1",IF(E57<F57,"2","X"))) | H57: =IF(OR(E57="",F57=""),"",IF(AND(E57>0,F57>0),"GOL","NOGOL")) | I57: =IF(OR(E57="",F57=""),"",IF(INT((E57+F57)/2)=(E57+F57)/2,"PARI","DISPARI")) | J57: =IF(OR(E57="",F57=""),"",IF(E57+F57>1,"OVER","UNDER")) | K57: =IF(OR(E57="",F57=""),"",IF(E57+F57>2,"OVER","UNDER")) | L57: =IF(OR(E57="",F57=""),"",IF(E57+F57>3,"OVER","UNDER")) | M57: =IF(OR(E57="",F57=""),"",E57+F57) | N57: =IF(OR(E57="",F57=""),"",IF(E57>0,"SI","NO")) | O57: =IF(OR(E57="",F57=""),"",IF(F57>0,"SI","NO")) | P57: =IF(OR(E57="",F57=""),"",E57-F57) | Q57: =IF(AND(E57="",F57=""),"",CONCATENATE(G57,"+",H57)) | R57: =IF(AND(E57="",F57=""),"",CONCATENATE(G57,"+",K57))
A58: 43267.5 | B58: C | C58: FRANCIA | D58: AUSTRALIA | G58: =IF(OR(E58="",F58=""),"",IF(E58>F58,"1",IF(E58<F58,"2","X"))) | H58: =IF(OR(E58="",F58=""),"",IF(AND(E58>0,F58>0),"GOL","NOGOL")) | I58: =IF(OR(E58="",F58=""),"",IF(INT((E58+F58)/2)=(E58+F58)/2,"PARI","DISPARI")) | J58: =IF(OR(E58="",F58=""),"",IF(E58+F58>1,"OVER","UNDER")) | K58: =IF(OR(E58="",F58=""),"",IF(E58+F58>2,"OVER","UNDER")) | L58: =IF(OR(E58="",F58=""),"",IF(E58+F58>3,"OVER","UNDER")) | M58: =IF(OR(E58="",F58=""),"",E58+F58) | N58: =IF(OR(E58="",F58=""),"",IF(E58>0,"SI","NO")) | O58: =IF(OR(E58="",F58=""),"",IF(F58>0,"SI","NO")) | P58: =IF(OR(E58="",F58=""),"",E58-F58) | Q58: =IF(AND(E58="",F58=""),"",CONCATENATE(G58,"+",H58)) | R58: =IF(AND(E58="",F58=""),"",CONCATENATE(G58,"+",K58))
A59: 43267.625 | B59: D | C59: ARGENTINA | D59: ISLANDA | G59: =IF(OR(E59="",F59=""),"",IF(E59>F59,"1",IF(E59<F59,"2","X"))) | H59: =IF(OR(E59="",F59=""),"",IF(AND(E59>0,F59>0),"GOL","NOGOL")) | I59: =IF(OR(E59="",F59=""),"",IF(INT((E59+F59)/2)=(E59+F59)/2,"PARI","DISPARI")) | J59: =IF(OR(E59="",F59=""),"",IF(E59+F59>1,"OVER","UNDER")) | K59: =IF(OR(E59="",F59=""),"",IF(E59+F59>2,"OVER","UNDER")) | L59: =IF(OR(E59="",F59=""),"",IF(E59+F59>3,"OVER","UNDER")) | M59: =IF(OR(E59="",F59=""),"",E59+F59) | N59: =IF(OR(E59="",F59=""),"",IF(E59>0,"SI","NO")) | O59: =IF(OR(E59="",F59=""),"",IF(F59>0,"SI","NO")) | P59: =IF(OR(E59="",F59=""),"",E59-F59) | Q59: =IF(AND(E59="",F59=""),"",CONCATENATE(G59,"+",H59)) | R59: =IF(AND(E59="",F59=""),"",CONCATENATE(G59,"+",K59))
A60: 43267.75 | B60: C | C60: PERU | D60: DANIMARCA | G60: =IF(OR(E60="",F60=""),"",IF(E60>F60,"1",IF(E60<F60,"2","X"))) | H60: =IF(OR(E60="",F60=""),"",IF(AND(E60>0,F60>0),"GOL","NOGOL")) | I60: =IF(OR(E60="",F60=""),"",IF(INT((E60+F60)/2)=(E60+F60)/2,"PARI","DISPARI")) | J60: =IF(OR(E60="",F60=""),"",IF(E60+F60>1,"OVER","UNDER")) | K60: =IF(OR(E60="",F60=""),"",IF(E60+F60>2,"OVER","UNDER")) | L60: =IF(OR(E60="",F60=""),"",IF(E60+F60>3,"OVER","UNDER")) | M60: =IF(OR(E60="",F60=""),"",E60+F60) | N60: =IF(OR(E60="",F60=""),"",IF(E60>0,"SI","NO")) | O60: =IF(OR(E60="",F60=""),"",IF(F60>0,"SI","NO")) | P60: =IF(OR(E60="",F60=""),"",E60-F60) | Q60: =IF(AND(E60="",F60=""),"",CONCATENATE(G60,"+",H60)) | R60: =IF(AND(E60="",F60=""),"",CONCATENATE(G60,"+",K60))
A61: 43267.458 | B61: D | C61: CROAZIA | D61: NIGERIA | G61: =IF(OR(E61="",F61=""),"",IF(E61>F61,"1",IF(E61<F61,"2","X"))) | H61: =IF(OR(E61="",F61=""),"",IF(AND(E61>0,F61>0),"GOL","NOGOL")) | I61: =IF(OR(E61="",F61=""),"",IF(INT((E61+F61)/2)=(E61+F61)/2,"PARI","DISPARI")) | J61: =IF(OR(E61="",F61=""),"",IF(E61+F61>1,"OVER","UNDER")) | K61: =IF(OR(E61="",F61=""),"",IF(E61+F61>2,"OVER","UNDER")) | L61: =IF(OR(E61="",F61=""),"",IF(E61+F61>3,"OVER","UNDER")) | M61: =IF(OR(E61="",F61=""),"",E61+F61) | N61: =IF(OR(E61="",F61=""),"",IF(E61>0,"SI","NO")) | O61: =IF(OR(E61="",F61=""),"",IF(F61>0,"SI","NO")) | P61: =IF(OR(E61="",F61=""),"",E61-F61) | Q61: =IF(AND(E61="",F61=""),"",CONCATENATE(G61,"+",H61)) | R61: =IF(AND(E61="",F61=""),"",CONCATENATE(G61,"+",K61))
A62: 43268.583 | B62: E | C62: COSTA RICA | D62: SERBIA | G62: =IF(OR(E62="",F62=""),"",IF(E62>F62,"1",IF(E62<F62,"2","X"))) | H62: =IF(OR(E62="",F62=""),"",IF(AND(E62>0,F62>0),"GOL","NOGOL")) | I62: =IF(OR(E62="",F62=""),"",IF(INT((E62+F62)/2)=(E62+F62)/2,"PARI","DISPARI")) | J62: =IF(OR(E62="",F62=""),"",IF(E62+F62>1,"OVER","UNDER")) | K62: =IF(OR(E62="",F62=""),"",IF(E62+F62>2,"OVER","UNDER")) | L62: =IF(OR(E62="",F62=""),"",IF(E62+F62>3,"OVER","UNDER")) | M62: =IF(OR(E62="",F62=""),"",E62+F62) | N62: =IF(OR(E62="",F62=""),"",IF(E62>0,"SI","NO")) | O62: =IF(OR(E62="",F62=""),"",IF(F62>0,"SI","NO")) | P62: =IF(OR(E62="",F62=""),"",E62-F62) | Q62: =IF(AND(E62="",F62=""),"",CONCATENATE(G62,"+",H62)) | R62: =IF(AND(E62="",F62=""),"",CONCATENATE(G62,"+",K62))
A63: 43268.708 | B63: F | C63: GERMANIA | D63: MESSICO | G63: =IF(OR(E63="",F63=""),"",IF(E63>F63,"1",IF(E63<F63,"2","X"))) | H63: =IF(OR(E63="",F63=""),"",IF(AND(E63>0,F63>0),"GOL","NOGOL")) | I63: =IF(OR(E63="",F63=""),"",IF(INT((E63+F63)/2)=(E63+F63)/2,"PARI","DISPARI")) | J63: =IF(OR(E63="",F63=""),"",IF(E63+F63>1,"OVER","UNDER")) | K63: =IF(OR(E63="",F63=""),"",IF(E63+F63>2,"OVER","UNDER")) | L63: =IF(OR(E63="",F63=""),"",IF(E63+F63>3,"OVER","UNDER")) | M63: =IF(OR(E63="",F63=""),"",E63+F63) | N63: =IF(OR(E63="",F63=""),"",IF(E63>0,"SI","NO")) | O63: =IF(OR(E63="",F63=""),"",IF(F63>0,"SI","NO")) | P63: =IF(OR(E63="",F63=""),"",E63-F63) | Q63: =IF(AND(E63="",F63=""),"",CONCATENATE(G63,"+",H63)) | R63: =IF(AND(E63="",F63=""),"",CONCATENATE(G63,"+",K63))
A64: 43268.833 | B64: E | C64: BRASILE | D64: SVIZZERA | G64: =IF(OR(E64="",F64=""),"",IF(E64>F64,"1",IF(E64<F64,"2","X"))) | H64: =IF(OR(E64="",F64=""),"",IF(AND(E64>0,F64>0),"GOL","NOGOL")) | I64: =IF(OR(E64="",F64=""),"",IF(INT((E64+F64)/2)=(E64+F64)/2,"PARI","DISPARI")) | J64: =IF(OR(E64="",F64=""),"",IF(E64+F64>1,"OVER","UNDER")) | K64: =IF(OR(E64="",F64=""),"",IF(E64+F64>2,"OVER","UNDER")) | L64: =IF(OR(E64="",F64=""),"",IF(E64+F64>3,"OVER","UNDER")) | M64: =IF(OR(E64="",F64=""),"",E64+F64) | N64: =IF(OR(E64="",F64=""),"",IF(E64>0,"SI","NO")) | O64: =IF(OR(E64="",F64=""),"",IF(F64>0,"SI","NO")) | P64: =IF(OR(E64="",F64=""),"",E64-F64) | Q64: =IF(AND(E64="",F64=""),"",CONCATENATE(G64,"+",H64)) | R64: =IF(AND(E64="",F64=""),"",CONCATENATE(G64,"+",K64))
A65: 43269.583 | B65: F | C65: SVEZIA | D65: COREA DEL SUD | G65: =IF(OR(E65="",F65=""),"",IF(E65>F65,"1",IF(E65<F65,"2","X"))) | H65: =IF(OR(E65="",F65=""),"",IF(AND(E65>0,F65>0),"GOL","NOGOL")) | I65: =IF(OR(E65="",F65=""),"",IF(INT((E65+F65)/2)=(E65+F65)/2,"PARI","DISPARI")) | J65: =IF(OR(E65="",F65=""),"",IF(E65+F65>1,"OVER","UNDER")) | K65: =IF(OR(E65="",F65=""),"",IF(E65+F65>2,"OVER","UNDER")) | L65: =IF(OR(E65="",F65=""),"",IF(E65+F65>3,"OVER","UNDER")) | M65: =IF(OR(E65="",F65=""),"",E65+F65) | N65: =IF(OR(E65="",F65=""),"",IF(E65>0,"SI","NO")) | O65: =IF(OR(E65="",F65=""),"",IF(F65>0,"SI","NO")) | P65: =IF(OR(E65="",F65=""),"",E65-F65) | Q65: =IF(AND(E65="",F65=""),"",CONCATENATE(G65,"+",H65)) | R65: =IF(AND(E65="",F65=""),"",CONCATENATE(G65,"+",K65))
... A105: 43279.833 | B105: H | C105: PANAMA | D105: TUNISIA | G105: =IF(OR(E105="",F105=""),"",IF(E105>F105,"1",IF(E105<F105,"2","X"))) | H105: =IF(OR(E105="",F105=""),"",IF(AND(E105>0,F105>0),"GOL","NOGOL")) | I105: =IF(OR(E105="",F105=""),"",IF(INT((E105+F105)/2)=(E105+F105)/2,"PARI","DISPARI")) | J105: =IF(OR(E105="",F105=""),"",IF(E105+F105>1,"OVER","UNDER")) | K105: =IF(OR(E105="",F105=""),"",IF(E105+F105>2,"OVER","UNDER")) | L105: =IF(OR(E105="",F105=""),"",IF(E105+F105>3,"OVER","UNDER")) | M105: =IF(OR(E105="",F105=""),"",E105+F105) | N105: =IF(OR(E105="",F105=""),"",IF(E105>0,"SI","NO")) | O105: =IF(OR(E105="",F105=""),"",IF(F105>0,"SI","NO")) | P105: =IF(OR(E105="",F105=""),"",E105-F105) | Q105: =IF(AND(E105="",F105=""),"",CONCATENATE(G105,"+",H105)) | R105: =IF(AND(E105="",F105=""),"",CONCATENATE(G105,"+",K105))
A108: OTTAVI DI FINALE
A111: 43281.667 | G111: =IF(OR(E111="",F111=""),"",IF(E111>F111,"1",IF(E111<F111,"2","X"))) | H111: =IF(OR(E111="",F111=""),"",IF(AND(E111>0,F111>0),"GOL","NOGOL")) | I111: =IF(OR(E111="",F111=""),"",IF(INT((E111+F111)/2)=(E111+F111)/2,"PARI","DISPARI")) | J111: =IF(OR(E111="",F111=""),"",IF(E111+F111>1,"OVER","UNDER")) | K111: =IF(OR(E111="",F111=""),"",IF(E111+F111>2,"OVER","UNDER")) | L111: =IF(OR(E111="",F111=""),"",IF(E111+F111>3,"OVER","UNDER")) | M111: =IF(OR(E111="",F111=""),"",E111+F111) | N111: =IF(OR(E111="",F111=""),"",IF(E111>0,"SI","NO")) | O111: =IF(OR(E111="",F111=""),"",IF(F111>0,"SI","NO")) | P111: =IF(OR(E111="",F111=""),"",E111-F111) | Q111: =IF(AND(E111="",F111=""),"",CONCATENATE(G111,"+",H111)) | R111: =IF(AND(E111="",F111=""),"",CONCATENATE(G111,"+",K111))
A112: 43281.833 | G112: =IF(OR(E112="",F112=""),"",IF(E112>F112,"1",IF(E112<F112,"2","X"))) | H112: =IF(OR(E112="",F112=""),"",IF(AND(E112>0,F112>0),"GOL","NOGOL")) | I112: =IF(OR(E112="",F112=""),"",IF(INT((E112+F112)/2)=(E112+F112)/2,"PARI","DISPARI")) | J112: =IF(OR(E112="",F112=""),"",IF(E112+F112>1,"OVER","UNDER")) | K112: =IF(OR(E112="",F112=""),"",IF(E112+F112>2,"OVER","UNDER")) | L112: =IF(OR(E112="",F112=""),"",IF(E112+F112>3,"OVER","UNDER")) | M112: =IF(OR(E112="",F112=""),"",E112+F112) | N112: =IF(OR(E112="",F112=""),"",IF(E112>0,"SI","NO")) | O112: =IF(OR(E112="",F112=""),"",IF(F112>0,"SI","NO")) | P112: =IF(OR(E112="",F112=""),"",E112-F112) | Q112: =IF(AND(E112="",F112=""),"",CONCATENATE(G112,"+",H112)) | R112: =IF(AND(E112="",F112=""),"",CONCATENATE(G112,"+",K112))
A113: 43282.667 | G113: =IF(OR(E113="",F113=""),"",IF(E113>F113,"1",IF(E113<F113,"2","X"))) | H113: =IF(OR(E113="",F113=""),"",IF(AND(E113>0,F113>0),"GOL","NOGOL")) | I113: =IF(OR(E113="",F113=""),"",IF(INT((E113+F113)/2)=(E113+F113)/2,"PARI","DISPARI")) | J113: =IF(OR(E113="",F113=""),"",IF(E113+F113>1,"OVER","UNDER")) | K113: =IF(OR(E113="",F113=""),"",IF(E113+F113>2,"OVER","UNDER")) | L113: =IF(OR(E113="",F113=""),"",IF(E113+F113>3,"OVER","UNDER")) | M113: =IF(OR(E113="",F113=""),"",E113+F113) | N113: =IF(OR(E113="",F113=""),"",IF(E113>0,"SI","NO")) | O113: =IF(OR(E113="",F113=""),"",IF(F113>0,"SI","NO")) | P113: =IF(OR(E113="",F113=""),"",E113-F113) | Q113: =IF(AND(E113="",F113=""),"",CONCATENATE(G113,"+",H113)) | R113: =IF(AND(E113="",F113=""),"",CONCATENATE(G113,"+",K113))
A114: 43282.833 | G114: =IF(OR(E114="",F114=""),"",IF(E114>F114,"1",IF(E114<F114,"2","X"))) | H114: =IF(OR(E114="",F114=""),"",IF(AND(E114>0,F114>0),"GOL","NOGOL")) | I114: =IF(OR(E114="",F114=""),"",IF(INT((E114+F114)/2)=(E114+F114)/2,"PARI","DISPARI")) | J114: =IF(OR(E114="",F114=""),"",IF(E114+F114>1,"OVER","UNDER")) | K114: =IF(OR(E114="",F114=""),"",IF(E114+F114>2,"OVER","UNDER")) | L114: =IF(OR(E114="",F114=""),"",IF(E114+F114>3,"OVER","UNDER")) | M114: =IF(OR(E114="",F114=""),"",E114+F114) | N114: =IF(OR(E114="",F114=""),"",IF(E114>0,"SI","NO")) | O114: =IF(OR(E114="",F114=""),"",IF(F114>0,"SI","NO")) | P114: =IF(OR(E114="",F114=""),"",E114-F114) | Q114: =IF(AND(E114="",F114=""),"",CONCATENATE(G114,"+",H114)) | R114: =IF(AND(E114="",F114=""),"",CONCATENATE(G114,"+",K114))
A115: 43283.667 | G115: =IF(OR(E115="",F115=""),"",IF(E115>F115,"1",IF(E115<F115,"2","X"))) | H115: =IF(OR(E115="",F115=""),"",IF(AND(E115>0,F115>0),"GOL","NOGOL")) | I115: =IF(OR(E115="",F115=""),"",IF(INT((E115+F115)/2)=(E115+F115)/2,"PARI","DISPARI")) | J115: =IF(OR(E115="",F115=""),"",IF(E115+F115>1,"OVER","UNDER")) | K115: =IF(OR(E115="",F115=""),"",IF(E115+F115>2,"OVER","UNDER")) | L115: =IF(OR(E115="",F115=""),"",IF(E115+F115>3,"OVER","UNDER")) | M115: =IF(OR(E115="",F115=""),"",E115+F115) | N115: =IF(OR(E115="",F115=""),"",IF(E115>0,"SI","NO")) | O115: =IF(OR(E115="",F115=""),"",IF(F115>0,"SI","NO")) | P115: =IF(OR(E115="",F115=""),"",E115-F115) | Q115: =IF(AND(E115="",F115=""),"",CONCATENATE(G115,"+",H115)) | R115: =IF(AND(E115="",F115=""),"",CONCATENATE(G115,"+",K115))
A116: 43283.833 | G116: =IF(OR(E116="",F116=""),"",IF(E116>F116,"1",IF(E116<F116,"2","X"))) | H116: =IF(OR(E116="",F116=""),"",IF(AND(E116>0,F116>0),"GOL","NOGOL")) | I116: =IF(OR(E116="",F116=""),"",IF(INT((E116+F116)/2)=(E116+F116)/2,"PARI","DISPARI")) | J116: =IF(OR(E116="",F116=""),"",IF(E116+F116>1,"OVER","UNDER")) | K116: =IF(OR(E116="",F116=""),"",IF(E116+F116>2,"OVER","UNDER")) | L116: =IF(OR(E116="",F116=""),"",IF(E116+F116>3,"OVER","UNDER")) | M116: =IF(OR(E116="",F116=""),"",E116+F116) | N116: =IF(OR(E116="",F116=""),"",IF(E116>0,"SI","NO")) | O116: =IF(OR(E116="",F116=""),"",IF(F116>0,"SI","NO")) | P116: =IF(OR(E116="",F116=""),"",E116-F116) | Q116: =IF(AND(E116="",F116=""),"",CONCATENATE(G116,"+",H116)) | R116: =IF(AND(E116="",F116=""),"",CONCATENATE(G116,"+",K116))
A117: 43284.667 | G117: =IF(OR(E117="",F117=""),"",IF(E117>F117,"1",IF(E117<F117,"2","X"))) | H117: =IF(OR(E117="",F117=""),"",IF(AND(E117>0,F117>0),"GOL","NOGOL")) | I117: =IF(OR(E117="",F117=""),"",IF(INT((E117+F117)/2)=(E117+F117)/2,"PARI","DISPARI")) | J117: =IF(OR(E117="",F117=""),"",IF(E117+F117>1,"OVER","UNDER")) | K117: =IF(OR(E117="",F117=""),"",IF(E117+F117>2,"OVER","UNDER")) | L117: =IF(OR(E117="",F117=""),"",IF(E117+F117>3,"OVER","UNDER")) | M117: =IF(OR(E117="",F117=""),"",E117+F117) | N117: =IF(OR(E117="",F117=""),"",IF(E117>0,"SI","NO")) | O117: =IF(OR(E117="",F117=""),"",IF(F117>0,"SI","NO")) | P117: =IF(OR(E117="",F117=""),"",E117-F117) | Q117: =IF(AND(E117="",F117=""),"",CONCATENATE(G117,"+",H117)) | R117: =IF(AND(E117="",F117=""),"",CONCATENATE(G117,"+",K117))
A118: 43284.833 | G118: =IF(OR(E118="",F118=""),"",IF(E118>F118,"1",IF(E118<F118,"2","X"))) | H118: =IF(OR(E118="",F118=""),"",IF(AND(E118>0,F118>0),"GOL","NOGOL")) | I118: =IF(OR(E118="",F118=""),"",IF(INT((E118+F118)/2)=(E118+F118)/2,"PARI","DISPARI")) | J118: =IF(OR(E118="",F118=""),"",IF(E118+F118>1,"OVER","UNDER")) | K118: =IF(OR(E118="",F118=""),"",IF(E118+F118>2,"OVER","UNDER")) | L118: =IF(OR(E118="",F118=""),"",IF(E118+F118>3,"OVER","UNDER")) | M118: =IF(OR(E118="",F118=""),"",E118+F118) | N118: =IF(OR(E118="",F118=""),"",IF(E118>0,"SI","NO")) | O118: =IF(OR(E118="",F118=""),"",IF(F118>0,"SI","NO")) | P118: =IF(OR(E118="",F118=""),"",E118-F118) | Q118: =IF(AND(E118="",F118=""),"",CONCATENATE(G118,"+",H118)) | R118: =IF(AND(E118="",F118=""),"",CONCATENATE(G118,"+",K118))
A121: QUARTI DI FINALE
A124: 43287.667 | G124: =IF(OR(E124="",F124=""),"",IF(E124>F124,"1",IF(E124<F124,"2","X"))) | H124: =IF(OR(E124="",F124=""),"",IF(AND(E124>0,F124>0),"GOL","NOGOL")) | I124: =IF(OR(E124="",F124=""),"",IF(INT((E124+F124)/2)=(E124+F124)/2,"PARI","DISPARI")) | J124: =IF(OR(E124="",F124=""),"",IF(E124+F124>1,"OVER","UNDER")) | K124: =IF(OR(E124="",F124=""),"",IF(E124+F124>2,"OVER","UNDER")) | L124: =IF(OR(E124="",F124=""),"",IF(E124+F124>3,"OVER","UNDER")) | M124: =IF(OR(E124="",F124=""),"",E124+F124) | N124: =IF(OR(E124="",F124=""),"",IF(E124>0,"SI","NO")) | O124: =IF(OR(E124="",F124=""),"",IF(F124>0,"SI","NO")) | P124: =IF(OR(E124="",F124=""),"",E124-F124) | Q124: =IF(AND(E124="",F124=""),"",CONCATENATE(G124,"+",H124)) | R124: =IF(AND(E124="",F124=""),"",CONCATENATE(G124,"+",K124))
A125: 43287.833 | G125: =IF(OR(E125="",F125=""),"",IF(E125>F125,"1",IF(E125<F125,"2","X"))) | H125: =IF(OR(E125="",F125=""),"",IF(AND(E125>0,F125>0),"GOL","NOGOL")) | I125: =IF(OR(E125="",F125=""),"",IF(INT((E125+F125)/2)=(E125+F125)/2,"PARI","DISPARI")) | J125: =IF(OR(E125="",F125=""),"",IF(E125+F125>1,"OVER","UNDER")) | K125: =IF(OR(E125="",F125=""),"",IF(E125+F125>2,"OVER","UNDER")) | L125: =IF(OR(E125="",F125=""),"",IF(E125+F125>3,"OVER","UNDER")) | M125: =IF(OR(E125="",F125=""),"",E125+F125) | N125: =IF(OR(E125="",F125=""),"",IF(E125>0,"SI","NO")) | O125: =IF(OR(E125="",F125=""),"",IF(F125>0,"SI","NO")) | P125: =IF(OR(E125="",F125=""),"",E125-F125) | Q125: =IF(AND(E125="",F125=""),"",CONCATENATE(G125,"+",H125)) | R125: =IF(AND(E125="",F125=""),"",CONCATENATE(G125,"+",K125))
A126: 43288.667 | G126: =IF(OR(E126="",F126=""),"",IF(E126>F126,"1",IF(E126<F126,"2","X"))) | H126: =IF(OR(E126="",F126=""),"",IF(AND(E126>0,F126>0),"GOL","NOGOL")) | I126: =IF(OR(E126="",F126=""),"",IF(INT((E126+F126)/2)=(E126+F126)/2,"PARI","DISPARI")) | J126: =IF(OR(E126="",F126=""),"",IF(E126+F126>1,"OVER","UNDER")) | K126: =IF(OR(E126="",F126=""),"",IF(E126+F126>2,"OVER","UNDER")) | L126: =IF(OR(E126="",F126=""),"",IF(E126+F126>3,"OVER","UNDER")) | M126: =IF(OR(E126="",F126=""),"",E126+F126) | N126: =IF(OR(E126="",F126=""),"",IF(E126>0,"SI","NO")) | O126: =IF(OR(E126="",F126=""),"",IF(F126>0,"SI","NO")) | P126: =IF(OR(E126="",F126=""),"",E126-F126) | Q126: =IF(AND(E126="",F126=""),"",CONCATENATE(G126,"+",H126)) | R126: =IF(AND(E126="",F126=""),"",CONCATENATE(G126,"+",K126))
A127: 43288.833 | G127: =IF(OR(E127="",F127=""),"",IF(E127>F127,"1",IF(E127<F127,"2","X"))) | H127: =IF(OR(E127="",F127=""),"",IF(AND(E127>0,F127>0),"GOL","NOGOL")) | I127: =IF(OR(E127="",F127=""),"",IF(INT((E127+F127)/2)=(E127+F127)/2,"PARI","DISPARI")) | J127: =IF(OR(E127="",F127=""),"",IF(E127+F127>1,"OVER","UNDER")) | K127: =IF(OR(E127="",F127=""),"",IF(E127+F127>2,"OVER","UNDER")) | L127: =IF(OR(E127="",F127=""),"",IF(E127+F127>3,"OVER","UNDER")) | M127: =IF(OR(E127="",F127=""),"",E127+F127) | N127: =IF(OR(E127="",F127=""),"",IF(E127>0,"SI","NO")) | O127: =IF(OR(E127="",F127=""),"",IF(F127>0,"SI","NO")) | P127: =IF(OR(E127="",F127=""),"",E127-F127) | Q127: =IF(AND(E127="",F127=""),"",CONCATENATE(G127,"+",H127)) | R127: =IF(AND(E127="",F127=""),"",CONCATENATE(G127,"+",K127))
A130: SEMIFINALI
A132: 43291.833 | G132: =IF(OR(E132="",F132=""),"",IF(E132>F132,"1",IF(E132<F132,"2","X"))) | H132: =IF(OR(E132="",F132=""),"",IF(AND(E132>0,F132>0),"GOL","NOGOL")) | I132: =IF(OR(E132="",F132=""),"",IF(INT((E132+F132)/2)=(E132+F132)/2,"PARI","DISPARI")) | J132: =IF(OR(E132="",F132=""),"",IF(E132+F132>1,"OVER","UNDER")) | K132: =IF(OR(E132="",F132=""),"",IF(E132+F132>2,"OVER","UNDER")) | L132: =IF(OR(E132="",F132=""),"",IF(E132+F132>3,"OVER","UNDER")) | M132: =IF(OR(E132="",F132=""),"",E132+F132) | N132: =IF(OR(E132="",F132=""),"",IF(E132>0,"SI","NO")) | O132: =IF(OR(E132="",F132=""),"",IF(F132>0,"SI","NO")) | P132: =IF(OR(E132="",F132=""),"",E132-F132) | Q132: =IF(AND(E132="",F132=""),"",CONCATENATE(G132,"+",H132)) | R132: =IF(AND(E132="",F132=""),"",CONCATENATE(G132,"+",K132))
A133: 43292.833 | G133: =IF(OR(E133="",F133=""),"",IF(E133>F133,"1",IF(E133<F133,"2","X"))) | H133: =IF(OR(E133="",F133=""),"",IF(AND(E133>0,F133>0),"GOL","NOGOL")) | I133: =IF(OR(E133="",F133=""),"",IF(INT((E133+F133)/2)=(E133+F133)/2,"PARI","DISPARI")) | J133: =IF(OR(E133="",F133=""),"",IF(E133+F133>1,"OVER","UNDER")) | K133: =IF(OR(E133="",F133=""),"",IF(E133+F133>2,"OVER","UNDER")) | L133: =IF(OR(E133="",F133=""),"",IF(E133+F133>3,"OVER","UNDER")) | M133: =IF(OR(E133="",F133=""),"",E133+F133) | N133: =IF(OR(E133="",F133=""),"",IF(E133>0,"SI","NO")) | O133: =IF(OR(E133="",F133=""),"",IF(F133>0,"SI","NO")) | P133: =IF(OR(E133="",F133=""),"",E133-F133) | Q133: =IF(AND(E133="",F133=""),"",CONCATENATE(G133,"+",H133)) | R133: =IF(AND(E133="",F133=""),"",CONCATENATE(G133,"+",K133))
A136: FINALI
A138: 43295.667 | G138: =IF(OR(E138="",F138=""),"",IF(E138>F138,"1",IF(E138<F138,"2","X"))) | H138: =IF(OR(E138="",F138=""),"",IF(AND(E138>0,F138>0),"GOL","NOGOL")) | I138: =IF(OR(E138="",F138=""),"",IF(INT((E138+F138)/2)=(E138+F138)/2,"PARI","DISPARI")) | J138: =IF(OR(E138="",F138=""),"",IF(E138+F138>1,"OVER","UNDER")) | K138: =IF(OR(E138="",F138=""),"",IF(E138+F138>2,"OVER","UNDER")) | L138: =IF(OR(E138="",F138=""),"",IF(E138+F138>3,"OVER","UNDER")) | M138: =IF(OR(E138="",F138=""),"",E138+F138) | N138: =IF(OR(E138="",F138=""),"",IF(E138>0,"SI","NO")) | O138: =IF(OR(E138="",F138=""),"",IF(F138>0,"SI","NO")) | P138: =IF(OR(E138="",F138=""),"",E138-F138) | Q138: =IF(AND(E138="",F138=""),"",CONCATENATE(G138,"+",H138)) | R138: =IF(AND(E138="",F138=""),"",CONCATENATE(G138,"+",K138))
A139: 43296.708 | G139: =IF(OR(E139="",F139=""),"",IF(E139>F139,"1",IF(E139<F139,"2","X"))) | H139: =IF(OR(E139="",F139=""),"",IF(AND(E139>0,F139>0),"GOL","NOGOL")) | I139: =IF(OR(E139="",F139=""),"",IF(INT((E139+F139)/2)=(E139+F139)/2,"PARI","DISPARI")) | J139: =IF(OR(E139="",F139=""),"",IF(E139+F139>1,"OVER","UNDER")) | K139: =IF(OR(E139="",F139=""),"",IF(E139+F139>2,"OVER","UNDER")) | L139: =IF(OR(E139="",F139=""),"",IF(E139+F139>3,"OVER","UNDER")) | M139: =IF(OR(E139="",F139=""),"",E139+F139) | N139: =IF(OR(E139="",F139=""),"",IF(E139>0,"SI","NO")) | O139: =IF(OR(E139="",F139=""),"",IF(F139>0,"SI","NO")) | P139: =IF(OR(E139="",F139=""),"",E139-F139) | Q139: =IF(AND(E139="",F139=""),"",CONCATENATE(G139,"+",H139)) | R139: =IF(AND(E139="",F139=""),"",CONCATENATE(G139,"+",K139))

Sheet GIOCATORE
A1: BET RUSSIA 2018
A4: SQUADRE PARTECIPANTI E GIRONI | H4: RIEPILOGO PUNTI
B7: GIRONE A | D7: GIRONE B | I7: CONCORRENTE | V7: PUNTI TOTALI | Z7: =SUM(Z8:Z17) -> 0
B8: EGITTO | D8: IRAN | I8: EMAIL | W8: 1^ GIORNATA | Z8: =S70 -> 0
B9: RUSSIA | D9: MAROCCO | W9: 2^ GIORNATA | Z9: =S88 -> 0
B10: ARABIA SAUDITA | D10: PORTOGALLO | N10: TABELLA PUNTI | W10: 3^ GIORNATA | Z10: =S106 -> 0
B11: URUGUAY | D11: SPAGNA | N11: 20 | O11: Vincitrice del Mondiale | W11: GIRONI | Z11: =G39+K39+O39+R39+G47+K47+O47+R47 -> 0
N12: 15 | O12: Posizione squadra nella Classifica Finale | W12: OTTAVI | Z12: =S119 -> 0
B13: GIRONE C | D13: GIRONE D | N13: 5 | O13: Posizione squadra nella Classifica Girone | W13: QUARTI | Z13: =S128 -> 0
B14: AUSTRALIA | D14: ARGENTINA | N14: 8 | O14: Capocannoniere | W14: SEMIFINALI | Z14: =S134 -> 0
B15: DANIMARCA | D15: CROAZIA | N15: 10 | O15: Punti massimi aquisibili su ogni singola partita | W15: FINALI | Z15: =S140 -> 0
B16: FRANCIA | D16: ISLANDA | N16: di cui: | P16: 3 | Q16: risultato della partita (1,x,2) | W16: CLASSIFICA FINALE | Z16: =C39 -> 0
B17: PERU | D17: NIGERIA | P17: 0.5 | Q17: gol/nogol , pari/dispari , u/0 , tot gol , diff reti , | W17: CAPOCANNONIERE | Z17: =C43 -> 0
Q18: segna A, segna B , combo gol , combo over
B19: GIRONE E | D19: GIRONE F | P19: 1.5 | Q19: Bonus per risultato esatto indovinato
B20: BRASILE | D20: GERMANIA
B21: COSTA RICA | D21: COREA DEL SUD
B22: SERBIA | D22: MESSICO
B23: SVIZZERA | D23: SVEZIA
B25: GIRONE G | D25: GIRONE H
B26: BELGIO | D26: COLOMBIA
B27: INGHILTERRA | D27: GIAPPONE
B28: PANAMA | D28: POLONIA
B29: TUNISIA | D29: SENEGAL
A31: SEZIONE PRONOSTICI
B34: CLASSIFICA FINALE | C34: PUNTI | E34: GIRONE A | G34: PUNTI | I34: GIRONE B | K34: PUNTI | M34: GIRONE C | O34: PUNTI | Q34: GIRONE G | R34: PUNTI
A35: 1 | C35: =IF(B35<>rif!B35,0,IF(B35="",0,20)) -> 0 | D35: 1 | G35: =IF(E35<>rif!E35,0,IF(E35="",0,5)) -> 0 | H35: 1 | K35: =IF(I35<>rif!I35,0,IF(I35="",0,5)) -> 0 | L35: 1 | O35: =IF(M35<>rif!M35,0,IF(M35="",0,5)) -> 0 | P35: 1 | R35: =IF(Q35<>rif!Q35,0,IF(Q35="",0,5)) -> 0
A36: 2 | C36: =IF(B36<>rif!B36,0,IF(B36="",0,15)) -> 0 | D36: 2 | G36: =IF(E36<>rif!E36,0,IF(E36="",0,5)) -> 0 | H36: 2 | K36: =IF(I36<>rif!I36,0,IF(I36="",0,5)) -> 0 | L36: 2 | O36: =IF(M36<>rif!M36,0,IF(M36="",0,5)) -> 0 | P36: 2 | R36: =IF(Q36<>rif!Q36,0,IF(Q36="",0,5)) -> 0
A37: 3 | C37: =IF(B37<>rif!B37,0,IF(B37="",0,15)) -> 0 | D37: 3 | G37: =IF(E37<>rif!E37,0,IF(E37="",0,5)) -> 0 | H37: 3 | K37: =IF(I37<>rif!I37,0,IF(I37="",0,5)) -> 0 | L37: 3 | O37: =IF(M37<>rif!M37,0,IF(M37="",0,5)) -> 0 | P37: 3 | R37: =IF(Q37<>rif!Q37,0,IF(Q37="",0,5)) -> 0
A38: 3 | C38: =IF(B38<>rif!B38,0,IF(B38="",0,15)) -> 0 | D38: 4 | G38: =IF(E38<>rif!E38,0,IF(E38="",0,5)) -> 0 | H38: 4 | K38: =IF(I38<>rif!I38,0,IF(I38="",0,5)) -> 0 | L38: 4 | O38: =IF(M38<>rif!M38,0,IF(M38="",0,5)) -> 0 | P38: 4 | R38: =IF(Q38<>rif!Q38,0,IF(Q38="",0,5)) -> 0
B39: TOT: | C39: =SUM(C35:C38) -> 0 | E39: TOT: | G39: =SUM(G35:G38) -> 0 | I39: TOT: | K39: =SUM(K35:K38) -> 0 | M39: TOT: | O39: =SUM(O35:O38) -> 0 | Q39: TOT: | R39: =SUM(R35:R38) -> 0
B41: CAPOCANNONIERE | C41: PUNTI
C42: =IF(B42<>rif!B42,0,IF(B42="",0,8)) -> 0 | E42: GIRONE D | G42: PUNTI | I42: GIRONE E | K42: PUNTI | M42: GIRONE F | O42: PUNTI | Q42: GIRONE H | R42: PUNTI
B43: TOT: | C43: =SUM(C42) -> 0 | D43: 1 | G43: =IF(E43<>rif!E43,0,IF(E43="",0,5)) -> 0 | H43: 1 | K43: =IF(I43<>rif!I43,0,IF(I43="",0,5)) -> 0 | L43: 1 | O43: =IF(M43<>rif!M43,0,IF(M43="",0,5)) -> 0 | P43: 1 | R43: =IF(Q43<>rif!Q43,0,IF(Q43="",0,5)) -> 0
D44: 2 | G44: =IF(E44<>rif!E44,0,IF(E44="",0,5)) -> 0 | H44: 2 | K44: =IF(I44<>rif!I44,0,IF(I44="",0,5)) -> 0 | L44: 2 | O44: =IF(M44<>rif!M44,0,IF(M44="",0,5)) -> 0 | P44: 2 | R44: =IF(Q44<>rif!Q44,0,IF(Q44="",0,5)) -> 0
D45: 3 | G45: =IF(E45<>rif!E45,0,IF(E45="",0,5)) -> 0 | H45: 3 | K45: =IF(I45<>rif!I45,0,IF(I45="",0,5)) -> 0 | L45: 3 | O45: =IF(M45<>rif!M45,0,IF(M45="",0,5)) -> 0 | P45: 3 | R45: =IF(Q45<>rif!Q45,0,IF(Q45="",0,5)) -> 0
D46: 4 | G46: =IF(E46<>rif!E46,0,IF(E46="",0,5)) -> 0 | H46: 4 | K46: =IF(I46<>rif!I46,0,IF(I46="",0,5)) -> 0 | L46: 4 | O46: =IF(M46<>rif!M46,0,IF(M46="",0,5)) -> 0 | P46: 4 | R46: =IF(Q46<>rif!Q46,0,IF(Q46="",0,5)) -> 0
E47: TOT: | G47: =SUM(G43:G46) -> 0 | I47: TOT: | K47: =SUM(K43:K46) -> 0 | M47: TOT: | O47: =SUM(O43:O46) -> 0 | Q47: TOT: | R47: =SUM(R43:R46) -> 0
A50: GIRONI ELIMINATORI
A53: data | B53: girone | C53: squadra A | D53: squadra B | E53: gol A | F53: gol B | G53: risultato | H53: gol/nogol | I53: pari/dispari | J53: u/o 1,5 | K53: u/o 2,5 | L53: u/o 3,5 | M53: tot gol | N53: segna A | O53: segna B | P53: diff reti | Q53: combo gol | R53: combo over | S53: PUNTI
A54: 43265.708 | B54: A | C54: RUSSIA | D54: ARABIA SAUDITA | G54: =IF(OR(E54="",F54=""),"",IF(E54>F54,"1",IF(E54<F54,"2","X"))) | H54: =IF(OR(E54="",F54=""),"",IF(AND(E54>0,F54>0),"GOL","NOGOL")) | I54: =IF(OR(E54="",F54=""),"",IF(INT((E54+F54)/2)=(E54+F54)/2,"PARI","DISPARI")) | J54: =IF(OR(E54="",F54=""),"",IF(E54+F54>1,"OVER","UNDER")) | K54: =IF(OR(E54="",F54=""),"",IF(E54+F54>2,"OVER","UNDER")) | L54: =IF(OR(E54="",F54=""),"",IF(E54+F54>3,"OVER","UNDER")) | M54: =IF(OR(E54="",F54=""),"",E54+F54) | N54: =IF(OR(E54="",F54=""),"",IF(E54>0,"SI","NO")) | O54: =IF(OR(E54="",F54=""),"",IF(F54>0,"SI","NO")) | P54: =IF(OR(E54="",F54=""),"",E54-F54) | Q54: =IF(AND(E54="",F54=""),"",CONCATENATE(G54,"+",H54)) | R54: =IF(AND(E54="",F54=""),"",CONCATENATE(G54,"+",K54)) | S54: =IF(AND(rif!E54="",rif!F54=""),0,IF(AND(E54=rif!E54,F54=rif!F54),10,IF(G54=rif!G54,3,0)+IF(H54=rif!H54,0.5,0)+IF(I54=rif!I54,0.5,0)+IF(J54=rif!J54,0.5,0)+IF(K54=rif!K54,0.5,0)+IF(L54=rif!L54,0.5,0)+IF(M54=rif!M54,0.5,0)+IF(N54=rif!N54,0.5,0)+IF(O54=rif!O54,0.5,0)+IF(P54=rif!P54,0.5,0)+IF(Q54=rif!Q54,0.5,0)+IF(R54=rif!R54,0.5,0))) -> 0
A55: 43266.583 | B55: A | C55: EGITTO | D55: URUGUAY | G55: =IF(OR(E55="",F55=""),"",IF(E55>F55,"1",IF(E55<F55,"2","X"))) | H55: =IF(OR(E55="",F55=""),"",IF(AND(E55>0,F55>0),"GOL","NOGOL")) | I55: =IF(OR(E55="",F55=""),"",IF(INT((E55+F55)/2)=(E55+F55)/2,"PARI","DISPARI")) | J55: =IF(OR(E55="",F55=""),"",IF(E55+F55>1,"OVER","UNDER")) | K55: =IF(OR(E55="",F55=""),"",IF(E55+F55>2,"OVER","UNDER")) | L55: =IF(OR(E55="",F55=""),"",IF(E55+F55>3,"OVER","UNDER")) | M55: =IF(OR(E55="",F55=""),"",E55+F55) | N55: =IF(OR(E55="",F55=""),"",IF(E55>0,"SI","NO")) | O55: =IF(OR(E55="",F55=""),"",IF(F55>0,"SI","NO")) | P55: =IF(OR(E55="",F55=""),"",E55-F55) | Q55: =IF(AND(E55="",F55=""),"",CONCATENATE(G55,"+",H55)) | R55: =IF(AND(E55="",F55=""),"",CONCATENATE(G55,"+",K55)) | S55: =IF(AND(rif!E55="",rif!F55=""),0,IF(AND(E55=rif!E55,F55=rif!F55),10,IF(G55=rif!G55,3,0)+IF(H55=rif!H55,0.5,0)+IF(I55=rif!I55,0.5,0)+IF(J55=rif!J55,0.5,0)+IF(K55=rif!K55,0.5,0)+IF(L55=rif!L55,0.5,0)+IF(M55=rif!M55,0.5,0)+IF(N55=rif!N55,0.5,0)+IF(O55=rif!O55,0.5,0)+IF(P55=rif!P55,0.5,0)+IF(Q55=rif!Q55,0.5,0)+IF(R55=rif!R55,0.5,0))) -> 0
A56: 43266.708 | B56: B | C56: MAROCCO | D56: IRAN | G56: =IF(OR(E56="",F56=""),"",IF(E56>F56,"1",IF(E56<F56,"2","X"))) | H56: =IF(OR(E56="",F56=""),"",IF(AND(E56>0,F56>0),"GOL","NOGOL")) | I56: =IF(OR(E56="",F56=""),"",IF(INT((E56+F56)/2)=(E56+F56)/2,"PARI","DISPARI")) | J56: =IF(OR(E56="",F56=""),"",IF(E56+F56>1,"OVER","UNDER")) | K56: =IF(OR(E56="",F56=""),"",IF(E56+F56>2,"OVER","UNDER")) | L56: =IF(OR(E56="",F56=""),"",IF(E56+F56>3,"OVER","UNDER")) | M56: =IF(OR(E56="",F56=""),"",E56+F56) | N56: =IF(OR(E56="",F56=""),"",IF(E56>0,"SI","NO")) | O56: =IF(OR(E56="",F56=""),"",IF(F56>0,"SI","NO")) | P56: =IF(OR(E56="",F56=""),"",E56-F56) | Q56: =IF(AND(E56="",F56=""),"",CONCATENATE(G56,"+",H56)) | R56: =IF(AND(E56="",F56=""),"",CONCATENATE(G56,"+",K56)) | S56: =IF(AND(rif!E56="",rif!F56=""),0,IF(AND(E56=rif!E56,F56=rif!F56),10,IF(G56=rif!G56,3,0)+IF(H56=rif!H56,0.5,0)+IF(I56=rif!I56,0.5,0)+IF(J56=rif!J56,0.5,0)+IF(K56=rif!K56,0.5,0)+IF(L56=rif!L56,0.5,0)+IF(M56=rif!M56,0.5,0)+IF(N56=rif!N56,0.5,0)+IF(O56=rif!O56,0.5,0)+IF(P56=rif!P56,0.5,0)+IF(Q56=rif!Q56,0.5,0)+IF(R56=rif!R56,0.5,0))) -> 0
A57: 43266.833 | B57: B | C57: PORTOGALLO | D57: SPAGNA | G57: =IF(OR(E57="",F57=""),"",IF(E57>F57,"1",IF(E57<F57,"2","X"))) | H57: =IF(OR(E57="",F57=""),"",IF(AND(E57>0,F57>0),"GOL","NOGOL")) | I57: =IF(OR(E57="",F57=""),"",IF(INT((E57+F57)/2)=(E57+F57)/2,"PARI","DISPARI")) | J57: =IF(OR(E57="",F57=""),"",IF(E57+F57>1,"OVER","UNDER")) | K57: =IF(OR(E57="",F57=""),"",IF(E57+F57>2,"OVER","UNDER")) | L57: =IF(OR(E57="",F57=""),"",IF(E57+F57>3,"OVER","UNDER")) | M57: =IF(OR(E57="",F57=""),"",E57+F57) | N57: =IF(OR(E57="",F57=""),"",IF(E57>0,"SI","NO")) | O57: =IF(OR(E57="",F57=""),"",IF(F57>0,"SI","NO")) | P57: =IF(OR(E57="",F57=""),"",E57-F57) | Q57: =IF(AND(E57="",F57=""),"",CONCATENATE(G57,"+",H57)) | R57: =IF(AND(E57="",F57=""),"",CONCATENATE(G57,"+",K57)) | S57: =IF(AND(rif!E57="",rif!F57=""),0,IF(AND(E57=rif!E57,F57=rif!F57),10,IF(G57=rif!G57,3,0)+IF(H57=rif!H57,0.5,0)+IF(I57=rif!I57,0.5,0)+IF(J57=rif!J57,0.5,0)+IF(K57=rif!K57,0.5,0)+IF(L57=rif!L57,0.5,0)+IF(M57=rif!M57,0.5,0)+IF(N57=rif!N57,0.5,0)+IF(O57=rif!O57,0.5,0)+IF(P57=rif!P57,0.5,0)+IF(Q57=rif!Q57,0.5,0)+IF(R57=rif!R57,0.5,0))) -> 0
A58: 43267.5 | B58: C | C58: FRANCIA | D58: AUSTRALIA | G58: =IF(OR(E58="",F58=""),"",IF(E58>F58,"1",IF(E58<F58,"2","X"))) | H58: =IF(OR(E58="",F58=""),"",IF(AND(E58>0,F58>0),"GOL","NOGOL")) | I58: =IF(OR(E58="",F58=""),"",IF(INT((E58+F58)/2)=(E58+F58)/2,"PARI","DISPARI")) | J58: =IF(OR(E58="",F58=""),"",IF(E58+F58>1,"OVER","UNDER")) | K58: =IF(OR(E58="",F58=""),"",IF(E58+F58>2,"OVER","UNDER")) | L58: =IF(OR(E58="",F58=""),"",IF(E58+F58>3,"OVER","UNDER")) | M58: =IF(OR(E58="",F58=""),"",E58+F58) | N58: =IF(OR(E58="",F58=""),"",IF(E58>0,"SI","NO")) | O58: =IF(OR(E58="",F58=""),"",IF(F58>0,"SI","NO")) | P58: =IF(OR(E58="",F58=""),"",E58-F58) | Q58: =IF(AND(E58="",F58=""),"",CONCATENATE(G58,"+",H58)) | R58: =IF(AND(E58="",F58=""),"",CONCATENATE(G58,"+",K58)) | S58: =IF(AND(rif!E58="",rif!F58=""),0,IF(AND(E58=rif!E58,F58=rif!F58),10,IF(G58=rif!G58,3,0)+IF(H58=rif!H58,0.5,0)+IF(I58=rif!I58,0.5,0)+IF(J58=rif!J58,0.5,0)+IF(K58=rif!K58,0.5,0)+IF(L58=rif!L58,0.5,0)+IF(M58=rif!M58,0.5,0)+IF(N58=rif!N58,0.5,0)+IF(O58=rif!O58,0.5,0)+IF(P58=rif!P58,0.5,0)+IF(Q58=rif!Q58,0.5,0)+IF(R58=rif!R58,0.5,0))) -> 0
A59: 43267.625 | B59: D | C59: ARGENTINA | D59: ISLANDA | G59: =IF(OR(E59="",F59=""),"",IF(E59>F59,"1",IF(E59<F59,"2","X"))) | H59: =IF(OR(E59="",F59=""),"",IF(AND(E59>0,F59>0),"GOL","NOGOL")) | I59: =IF(OR(E59="",F59=""),"",IF(INT((E59+F59)/2)=(E59+F59)/2,"PARI","DISPARI")) | J59: =IF(OR(E59="",F59=""),"",IF(E59+F59>1,"OVER","UNDER")) | K59: =IF(OR(E59="",F59=""),"",IF(E59+F59>2,"OVER","UNDER")) | L59: =IF(OR(E59="",F59=""),"",IF(E59+F59>3,"OVER","UNDER")) | M59: =IF(OR(E59="",F59=""),"",E59+F59) | N59: =IF(OR(E59="",F59=""),"",IF(E59>0,"SI","NO")) | O59: =IF(OR(E59="",F59=""),"",IF(F59>0,"SI","NO")) | P59: =IF(OR(E59="",F59=""),"",E59-F59) | Q59: =IF(AND(E59="",F59=""),"",CONCATENATE(G59,"+",H59)) | R59: =IF(AND(E59="",F59=""),"",CONCATENATE(G59,"+",K59)) | S59: =IF(AND(rif!E59="",rif!F59=""),0,IF(AND(E59=rif!E59,F59=rif!F59),10,IF(G59=rif!G59,3,0)+IF(H59=rif!H59,0.5,0)+IF(I59=rif!I59,0.5,0)+IF(J59=rif!J59,0.5,0)+IF(K59=rif!K59,0.5,0)+IF(L59=rif!L59,0.5,0)+IF(M59=rif!M59,0.5,0)+IF(N59=rif!N59,0.5,0)+IF(O59=rif!O59,0.5,0)+IF(P59=rif!P59,0.5,0)+IF(Q59=rif!Q59,0.5,0)+IF(R59=rif!R59,0.5,0))) -> 0
A60: 43267.75 | B60: C | C60: PERU | D60: DANIMARCA | G60: =IF(OR(E60="",F60=""),"",IF(E60>F60,"1",IF(E60<F60,"2","X"))) | H60: =IF(OR(E60="",F60=""),"",IF(AND(E60>0,F60>0),"GOL","NOGOL")) | I60: =IF(OR(E60="",F60=""),"",IF(INT((E60+F60)/2)=(E60+F60)/2,"PARI","DISPARI")) | J60: =IF(OR(E60="",F60=""),"",IF(E60+F60>1,"OVER","UNDER")) | K60: =IF(OR(E60="",F60=""),"",IF(E60+F60>2,"OVER","UNDER")) | L60: =IF(OR(E60="",F60=""),"",IF(E60+F60>3,"OVER","UNDER")) | M60: =IF(OR(E60="",F60=""),"",E60+F60) | N60: =IF(OR(E60="",F60=""),"",IF(E60>0,"SI","NO")) | O60: =IF(OR(E60="",F60=""),"",IF(F60>0,"SI","NO")) | P60: =IF(OR(E60="",F60=""),"",E60-F60) | Q60: =IF(AND(E60="",F60=""),"",CONCATENATE(G60,"+",H60)) | R60: =IF(AND(E60="",F60=""),"",CONCATENATE(G60,"+",K60)) | S60: =IF(AND(rif!E60="",rif!F60=""),0,IF(AND(E60=rif!E60,F60=rif!F60),10,IF(G60=rif!G60,3,0)+IF(H60=rif!H60,0.5,0)+IF(I60=rif!I60,0.5,0)+IF(J60=rif!J60,0.5,0)+IF(K60=rif!K60,0.5,0)+IF(L60=rif!L60,0.5,0)+IF(M60=rif!M60,0.5,0)+IF(N60=rif!N60,0.5,0)+IF(O60=rif!O60,0.5,0)+IF(P60=rif!P60,0.5,0)+IF(Q60=rif!Q60,0.5,0)+IF(R60=rif!R60,0.5,0))) -> 0
A61: 43267.458 | B61: D | C61: CROAZIA | D61: NIGERIA | G61: =IF(OR(E61="",F61=""),"",IF(E61>F61,"1",IF(E61<F61,"2","X"))) | H61: =IF(OR(E61="",F61=""),"",IF(AND(E61>0,F61>0),"GOL","NOGOL")) | I61: =IF(OR(E61="",F61=""),"",IF(INT((E61+F61)/2)=(E61+F61)/2,"PARI","DISPARI")) | J61: =IF(OR(E61="",F61=""),"",IF(E61+F61>1,"OVER","UNDER")) | K61: =IF(OR(E61="",F61=""),"",IF(E61+F61>2,"OVER","UNDER")) | L61: =IF(OR(E61="",F61=""),"",IF(E61+F61>3,"OVER","UNDER")) | M61: =IF(OR(E61="",F61=""),"",E61+F61) | N61: =IF(OR(E61="",F61=""),"",IF(E61>0,"SI","NO")) | O61: =IF(OR(E61="",F61=""),"",IF(F61>0,"SI","NO")) | P61: =IF(OR(E61="",F61=""),"",E61-F61) | Q61: =IF(AND(E61="",F61=""),"",CONCATENATE(G61,"+",H61)) | R61: =IF(AND(E61="",F61=""),"",CONCATENATE(G61,"+",K61)) | S61: =IF(AND(rif!E61="",rif!F61=""),0,IF(AND(E61=rif!E61,F61=rif!F61),10,IF(G61=rif!G61,3,0)+IF(H61=rif!H61,0.5,0)+IF(I61=rif!I61,0.5,0)+IF(J61=rif!J61,0.5,0)+IF(K61=rif!K61,0.5,0)+IF(L61=rif!L61,0.5,0)+IF(M61=rif!M61,0.5,0)+IF(N61=rif!N61,0.5,0)+IF(O61=rif!O61,0.5,0)+IF(P61=rif!P61,0.5,0)+IF(Q61=rif!Q61,0.5,0)+IF(R61=rif!R61,0.5,0))) -> 0
A62: 43268.583 | B62: E | C62: COSTA RICA | D62: SERBIA | G62: =IF(OR(E62="",F62=""),"",IF(E62>F62,"1",IF(E62<F62,"2","X"))) | H62: =IF(OR(E62="",F62=""),"",IF(AND(E62>0,F62>0),"GOL","NOGOL")) | I62: =IF(OR(E62="",F62=""),"",IF(INT((E62+F62)/2)=(E62+F62)/2,"PARI","DISPARI")) | J62: =IF(OR(E62="",F62=""),"",IF(E62+F62>1,"OVER","UNDER")) | K62: =IF(OR(E62="",F62=""),"",IF(E62+F62>2,"OVER","UNDER")) | L62: =IF(OR(E62="",F62=""),"",IF(E62+F62>3,"OVER","UNDER")) | M62: =IF(OR(E62="",F62=""),"",E62+F62) | N62: =IF(OR(E62="",F62=""),"",IF(E62>0,"SI","NO")) | O62: =IF(OR(E62="",F62=""),"",IF(F62>0,"SI","NO")) | P62: =IF(OR(E62="",F62=""),"",E62-F62) | Q62: =IF(AND(E62="",F62=""),"",CONCATENATE(G62,"+",H62)) | R62: =IF(AND(E62="",F62=""),"",CONCATENATE(G62,"+",K62)) | S62: =IF(AND(rif!E62="",rif!F62=""),0,IF(AND(E62=rif!E62,F62=rif!F62),10,IF(G62=rif!G62,3,0)+IF(H62=rif!H62,0.5,0)+IF(I62=rif!I62,0.5,0)+IF(J62=rif!J62,0.5,0)+IF(K62=rif!K62,0.5,0)+IF(L62=rif!L62,0.5,0)+IF(M62=rif!M62,0.5,0)+IF(N62=rif!N62,0.5,0)+IF(O62=rif!O62,0.5,0)+IF(P62=rif!P62,0.5,0)+IF(Q62=rif!Q62,0.5,0)+IF(R62=rif!R62,0.5,0))) -> 0
A63: 43268.708 | B63: F | C63: GERMANIA | D63: MESSICO | G63: =IF(OR(E63="",F63=""),"",IF(E63>F63,"1",IF(E63<F63,"2","X"))) | H63: =IF(OR(E63="",F63=""),"",IF(AND(E63>0,F63>0),"GOL","NOGOL")) | I63: =IF(OR(E63="",F63=""),"",IF(INT((E63+F63)/2)=(E63+F63)/2,"PARI","DISPARI")) | J63: =IF(OR(E63="",F63=""),"",IF(E63+F63>1,"OVER","UNDER")) | K63: =IF(OR(E63="",F63=""),"",IF(E63+F63>2,"OVER","UNDER")) | L63: =IF(OR(E63="",F63=""),"",IF(E63+F63>3,"OVER","UNDER")) | M63: =IF(OR(E63="",F63=""),"",E63+F63) | N63: =IF(OR(E63="",F63=""),"",IF(E63>0,"SI","NO")) | O63: =IF(OR(E63="",F63=""),"",IF(F63>0,"SI","NO")) | P63: =IF(OR(E63="",F63=""),"",E63-F63) | Q63: =IF(AND(E63="",F63=""),"",CONCATENATE(G63,"+",H63)) | R63: =IF(AND(E63="",F63=""),"",CONCATENATE(G63,"+",K63)) | S63: =IF(AND(rif!E63="",rif!F63=""),0,IF(AND(E63=rif!E63,F63=rif!F63),10,IF(G63=rif!G63,3,0)+IF(H63=rif!H63,0.5,0)+IF(I63=rif!I63,0.5,0)+IF(J63=rif!J63,0.5,0)+IF(K63=rif!K63,0.5,0)+IF(L63=rif!L63,0.5,0)+IF(M63=rif!M63,0.5,0)+IF(N63=rif!N63,0.5,0)+IF(O63=rif!O63,0.5,0)+IF(P63=rif!P63,0.5,0)+IF(Q63=rif!Q63,0.5,0)+IF(R63=rif!R63,0.5,0))) -> 0
A64: 43268.833 | B64: E | C64: BRASILE | D64: SVIZZERA | G64: =IF(OR(E64="",F64=""),"",IF(E64>F64,"1",IF(E64<F64,"2","X"))) | H64: =IF(OR(E64="",F64=""),"",IF(AND(E64>0,F64>0),"GOL","NOGOL")) | I64: =IF(OR(E64="",F64=""),"",IF(INT((E64+F64)/2)=(E64+F64)/2,"PARI","DISPARI")) | J64: =IF(OR(E64="",F64=""),"",IF(E64+F64>1,"OVER","UNDER")) | K64: =IF(OR(E64="",F64=""),"",IF(E64+F64>2,"OVER","UNDER")) | L64: =IF(OR(E64="",F64=""),"",IF(E64+F64>3,"OVER","UNDER")) | M64: =IF(OR(E64="",F64=""),"",E64+F64) | N64: =IF(OR(E64="",F64=""),"",IF(E64>0,"SI","NO")) | O64: =IF(OR(E64="",F64=""),"",IF(F64>0,"SI","NO")) | P64: =IF(OR(E64="",F64=""),"",E64-F64) | Q64: =IF(AND(E64="",F64=""),"",CONCATENATE(G64,"+",H64)) | R64: =IF(AND(E64="",F64=""),"",CONCATENATE(G64,"+",K64)) | S64: =IF(AND(rif!E64="",rif!F64=""),0,IF(AND(E64=rif!E64,F64=rif!F64),10,IF(G64=rif!G64,3,0)+IF(H64=rif!H64,0.5,0)+IF(I64=rif!I64,0.5,0)+IF(J64=rif!J64,0.5,0)+IF(K64=rif!K64,0.5,0)+IF(L64=rif!L64,0.5,0)+IF(M64=rif!M64,0.5,0)+IF(N64=rif!N64,0.5,0)+IF(O64=rif!O64,0.5,0)+IF(P64=rif!P64,0.5,0)+IF(Q64=rif!Q64,0.5,0)+IF(R64=rif!R64,0.5,0))) -> 0
A65: 43269.583 | B65: F | C65: SVEZIA | D65: COREA DEL SUD | G65: =IF(OR(E65="",F65=""),"",IF(E65>F65,"1",IF(E65<F65,"2","X"))) | H65: =IF(OR(E65="",F65=""),"",IF(AND(E65>0,F65>0),"GOL","NOGOL")) | I65: =IF(OR(E65="",F65=""),"",IF(INT((E65+F65)/2)=(E65+F65)/2,"PARI","DISPARI")) | J65: =IF(OR(E65="",F65=""),"",IF(E65+F65>1,"OVER","UNDER")) | K65: =IF(OR(E65="",F65=""),"",IF(E65+F65>2,"OVER","UNDER")) | L65: =IF(OR(E65="",F65=""),"",IF(E65+F65>3,"OVER","UNDER")) | M65: =IF(OR(E65="",F65=""),"",E65+F65) | N65: =IF(OR(E65="",F65=""),"",IF(E65>0,"SI","NO")) | O65: =IF(OR(E65="",F65=""),"",IF(F65>0,"SI","NO")) | P65: =IF(OR(E65="",F65=""),"",E65-F65) | Q65: =IF(AND(E65="",F65=""),"",CONCATENATE(G65,"+",H65)) | R65: =IF(AND(E65="",F65=""),"",CONCATENATE(G65,"+",K65)) | S65: =IF(AND(rif!E65="",rif!F65=""),0,IF(AND(E65=rif!E65,F65=rif!F65),10,IF(G65=rif!G65,3,0)+IF(H65=rif!H65,0.5,0)+IF(I65=rif!I65,0.5,0)+IF(J65=rif!J65,0.5,0)+IF(K65=rif!K65,0.5,0)+IF(L65=rif!L65,0.5,0)+IF(M65=rif!M65,0.5,0)+IF(N65=rif!N65,0.5,0)+IF(O65=rif!O65,0.5,0)+IF(P65=rif!P65,0.5,0)+IF(Q65=rif!Q65,0.5,0)+IF(R65=rif!R65,0.5,0))) -> 0
... A69: 43270.708 | B69: H | C69: POLONIA | D69: SENEGAL | G69: =IF(OR(E69="",F69=""),"",IF(E69>F69,"1",IF(E69<F69,"2","X"))) | H69: =IF(OR(E69="",F69=""),"",IF(AND(E69>0,F69>0),"GOL","NOGOL")) | I69: =IF(OR(E69="",F69=""),"",IF(INT((E69+F69)/2)=(E69+F69)/2,"PARI","DISPARI")) | J69: =IF(OR(E69="",F69=""),"",IF(E69+F69>1,"OVER","UNDER")) | K69: =IF(OR(E69="",F69=""),"",IF(E69+F69>2,"OVER","UNDER")) | L69: =IF(OR(E69="",F69=""),"",IF(E69+F69>3,"OVER","UNDER")) | M69: =IF(OR(E69="",F69=""),"",E69+F69) | N69: =IF(OR(E69="",F69=""),"",IF(E69>0,"SI","NO")) | O69: =IF(OR(E69="",F69=""),"",IF(F69>0,"SI","NO")) | P69: =IF(OR(E69="",F69=""),"",E69-F69) | Q69: =IF(AND(E69="",F69=""),"",CONCATENATE(G69,"+",H69)) | R69: =IF(AND(E69="",F69=""),"",CONCATENATE(G69,"+",K69)) | S69: =IF(AND(rif!E69="",rif!F69=""),0,IF(AND(E69=rif!E69,F69=rif!F69),10,IF(G69=rif!G69,3,0)+IF(H69=rif!H69,0.5,0)+IF(I69=rif!I69,0.5,0)+IF(J69=rif!J69,0.5,0)+IF(K69=rif!K69,0.5,0)+IF(L69=rif!L69,0.5,0)+IF(M69=rif!M69,0.5,0)+IF(N69=rif!N69,0.5,0)+IF(O69=rif!O69,0.5,0)+IF(P69=rif!P69,0.5,0)+IF(Q69=rif!Q69,0.5,0)+IF(R69=rif!R69,0.5,0))) -> 0
S70: =SUM(S54:S69) -> 0
A72: 43270.833 | B72: A | C72: RUSSIA | D72: EGITTO | G72: =IF(OR(E72="",F72=""),"",IF(E72>F72,"1",IF(E72<F72,"2","X"))) | H72: =IF(OR(E72="",F72=""),"",IF(AND(E72>0,F72>0),"GOL","NOGOL")) | I72: =IF(OR(E72="",F72=""),"",IF(INT((E72+F72)/2)=(E72+F72)/2,"PARI","DISPARI")) | J72: =IF(OR(E72="",F72=""),"",IF(E72+F72>1,"OVER","UNDER")) | K72: =IF(OR(E72="",F72=""),"",IF(E72+F72>2,"OVER","UNDER")) | L72: =IF(OR(E72="",F72=""),"",IF(E72+F72>3,"OVER","UNDER")) | M72: =IF(OR(E72="",F72=""),"",E72+F72) | N72: =IF(OR(E72="",F72=""),"",IF(E72>0,"SI","NO")) | O72: =IF(OR(E72="",F72=""),"",IF(F72>0,"SI","NO")) | P72: =IF(OR(E72="",F72=""),"",E72-F72) | Q72: =IF(AND(E72="",F72=""),"",CONCATENATE(G72,"+",H72)) | R72: =IF(AND(E72="",F72=""),"",CONCATENATE(G72,"+",K72)) | S72: =IF(AND(rif!E72="",rif!F72=""),0,IF(AND(E72=rif!E72,F72=rif!F72),10,IF(G72=rif!G72,3,0)+IF(H72=rif!H72,0.5,0)+IF(I72=rif!I72,0.5,0)+IF(J72=rif!J72,0.5,0)+IF(K72=rif!K72,0.5,0)+IF(L72=rif!L72,0.5,0)+IF(M72=rif!M72,0.5,0)+IF(N72=rif!N72,0.5,0)+IF(O72=rif!O72,0.5,0)+IF(P72=rif!P72,0.5,0)+IF(Q72=rif!Q72,0.5,0)+IF(R72=rif!R72,0.5,0))) -> 0
A73: 43271.583 | B73: B | C73: PORTOGALLO | D73: MAROCCO | G73: =IF(OR(E73="",F73=""),"",IF(E73>F73,"1",IF(E73<F73,"2","X"))) | H73: =IF(OR(E73="",F73=""),"",IF(AND(E73>0,F73>0),"GOL","NOGOL")) | I73: =IF(OR(E73="",F73=""),"",IF(INT((E73+F73)/2)=(E73+F73)/2,"PARI","DISPARI")) | J73: =IF(OR(E73="",F73=""),"",IF(E73+F73>1,"OVER","UNDER")) | K73: =IF(OR(E73="",F73=""),"",IF(E73+F73>2,"OVER","UNDER")) | L73: =IF(OR(E73="",F73=""),"",IF(E73+F73>3,"OVER","UNDER")) | M73: =IF(OR(E73="",F73=""),"",E73+F73) | N73: =IF(OR(E73="",F73=""),"",IF(E73>0,"SI","NO")) | O73: =IF(OR(E73="",F73=""),"",IF(F73>0,"SI","NO")) | P73: =IF(OR(E73="",F73=""),"",E73-F73) | Q73: =IF(AND(E73="",F73=""),"",CONCATENATE(G73,"+",H73)) | R73: =IF(AND(E73="",F73=""),"",CONCATENATE(G73,"+",K73)) | S73: =IF(AND(rif!E73="",rif!F73=""),0,IF(AND(E73=rif!E73,F73=rif!F73),10,IF(G73=rif!G73,3,0)+IF(H73=rif!H73,0.5,0)+IF(I73=rif!I73,0.5,0)+IF(J73=rif!J73,0.5,0)+IF(K73=rif!K73,0.5,0)+IF(L73=rif!L73,0.5,0)+IF(M73=rif!M73,0.5,0)+IF(N73=rif!N73,0.5,0)+IF(O73=rif!O73,0.5,0)+IF(P73=rif!P73,0.5,0)+IF(Q73=rif!Q73,0.5,0)+IF(R73=rif!R73,0.5,0))) -> 0
A74: 43271.708 | B74: A | C74: URUGUAY | D74: ARABIA SAUDITA | G74: =IF(OR(E74="",F74=""),"",IF(E74>F74,"1",IF(E74<F74,"2","X"))) | H74: =IF(OR(E74="",F74=""),"",IF(AND(E74>0,F74>0),"GOL","NOGOL")) | I74: =IF(OR(E74="",F74=""),"",IF(INT((E74+F74)/2)=(E74+F74)/2,"PARI","DISPARI")) | J74: =IF(OR(E74="",F74=""),"",IF(E74+F74>1,"OVER","UNDER")) | K74: =IF(OR(E74="",F74=""),"",IF(E74+F74>2,"OVER","UNDER")) | L74: =IF(OR(E74="",F74=""),"",IF(E74+F74>3,"OVER","UNDER")) | M74: =IF(OR(E74="",F74=""),"",E74+F74) | N74: =IF(OR(E74="",F74=""),"",IF(E74>0,"SI","NO")) | O74: =IF(OR(E74="",F74=""),"",IF(F74>0,"SI","NO")) | P74: =IF(OR(E74="",F74=""),"",E74-F74) | Q74: =IF(AND(E74="",F74=""),"",CONCATENATE(G74,"+",H74)) | R74: =IF(AND(E74="",F74=""),"",CONCATENATE(G74,"+",K74)) | S74: =IF(AND(rif!E74="",rif!F74=""),0,IF(AND(E74=rif!E74,F74=rif!F74),10,IF(G74=rif!G74,3,0)+IF(H74=rif!H74,0.5,0)+IF(I74=rif!I74,0.5,0)+IF(J74=rif!J74,0.5,0)+IF(K74=rif!K74,0.5,0)+IF(L74=rif!L74,0.5,0)+IF(M74=rif!M74,0.5,0)+IF(N74=rif!N74,0.5,0)+IF(O74=rif!O74,0.5,0)+IF(P74=rif!P74,0.5,0)+IF(Q74=rif!Q74,0.5,0)+IF(R74=rif!R74,0.5,0))) -> 0
A75: 43271.833 | B75: B | C75: IRAN | D75: SPAGNA | G75: =IF(OR(E75="",F75=""),"",IF(E75>F75,"1",IF(E75<F75,"2","X"))) | H75: =IF(OR(E75="",F75=""),"",IF(AND(E75>0,F75>0),"GOL","NOGOL")) | I75: =IF(OR(E75="",F75=""),"",IF(INT((E75+F75)/2)=(E75+F75)/2,"PARI","DISPARI")) | J75: =IF(OR(E75="",F75=""),"",IF(E75+F75>1,"OVER","UNDER")) | K75: =IF(OR(E75="",F75=""),"",IF(E75+F75>2,"OVER","UNDER")) | L75: =IF(OR(E75="",F75=""),"",IF(E75+F75>3,"OVER","UNDER")) | M75: =IF(OR(E75="",F75=""),"",E75+F75) | N75: =IF(OR(E75="",F75=""),"",IF(E75>0,"SI","NO")) | O75: =IF(OR(E75="",F75=""),"",IF(F75>0,"SI","NO")) | P75: =IF(OR(E75="",F75=""),"",E75-F75) | Q75: =IF(AND(E75="",F75=""),"",CONCATENATE(G75,"+",H75)) | R75: =IF(AND(E75="",F75=""),"",CONCATENATE(G75,"+",K75)) | S75: =IF(AND(rif!E75="",rif!F75=""),0,IF(AND(E75=rif!E75,F75=rif!F75),10,IF(G75=rif!G75,3,0)+IF(H75=rif!H75,0.5,0)+IF(I75=rif!I75,0.5,0)+IF(J75=rif!J75,0.5,0)+IF(K75=rif!K75,0.5,0)+IF(L75=rif!L75,0.5,0)+IF(M75=rif!M75,0.5,0)+IF(N75=rif!N75,0.5,0)+IF(O75=rif!O75,0.5,0)+IF(P75=rif!P75,0.5,0)+IF(Q75=rif!Q75,0.5,0)+IF(R75=rif!R75,0.5,0))) -> 0
A76: 43272.583 | B76: C | C76: DANIMARCA | D76: AUSTRALIA | G76: =IF(OR(E76="",F76=""),"",IF(E76>F76,"1",IF(E76<F76,"2","X"))) | H76: =IF(OR(E76="",F76=""),"",IF(AND(E76>0,F76>0),"GOL","NOGOL")) | I76: =IF(OR(E76="",F76=""),"",IF(INT((E76+F76)/2)=(E76+F76)/2,"PARI","DISPARI")) | J76: =IF(OR(E76="",F76=""),"",IF(E76+F76>1,"OVER","UNDER")) | K76: =IF(OR(E76="",F76=""),"",IF(E76+F76>2,"OVER","UNDER")) | L76: =IF(OR(E76="",F76=""),"",IF(E76+F76>3,"OVER","UNDER")) | M76: =IF(OR(E76="",F76=""),"",E76+F76) | N76: =IF(OR(E76="",F76=""),"",IF(E76>0,"SI","NO")) | O76: =IF(OR(E76="",F76=""),"",IF(F76>0,"SI","NO")) | P76: =IF(OR(E76="",F76=""),"",E76-F76) | Q76: =IF(AND(E76="",F76=""),"",CONCATENATE(G76,"+",H76)) | R76: =IF(AND(E76="",F76=""),"",CONCATENATE(G76,"+",K76)) | S76: =IF(AND(rif!E76="",rif!F76=""),0,IF(AND(E76=rif!E76,F76=rif!F76),10,IF(G76=rif!G76,3,0)+IF(H76=rif!H76,0.5,0)+IF(I76=rif!I76,0.5,0)+IF(J76=rif!J76,0.5,0)+IF(K76=rif!K76,0.5,0)+IF(L76=rif!L76,0.5,0)+IF(M76=rif!M76,0.5,0)+IF(N76=rif!N76,0.5,0)+IF(O76=rif!O76,0.5,0)+IF(P76=rif!P76,0.5,0)+IF(Q76=rif!Q76,0.5,0)+IF(R76=rif!R76,0.5,0))) -> 0
A77: 43272.708 | B77: C | C77: FRANCIA | D77: PERU | G77: =IF(OR(E77="",F77=""),"",IF(E77>F77,"1",IF(E77<F77,"2","X"))) | H77: =IF(OR(E77="",F77=""),"",IF(AND(E77>0,F77>0),"GOL","NOGOL")) | I77: =IF(OR(E77="",F77=""),"",IF(INT((E77+F77)/2)=(E77+F77)/2,"PARI","DISPARI")) | J77: =IF(OR(E77="",F77=""),"",IF(E77+F77>1,"OVER","UNDER")) | K77: =IF(OR(E77="",F77=""),"",IF(E77+F77>2,"OVER","UNDER")) | L77: =IF(OR(E77="",F77=""),"",IF(E77+F77>3,"OVER","UNDER")) | M77: =IF(OR(E77="",F77=""),"",E77+F77) | N77: =IF(OR(E77="",F77=""),"",IF(E77>0,"SI","NO")) | O77: =IF(OR(E77="",F77=""),"",IF(F77>0,"SI","NO")) | P77: =IF(OR(E77="",F77=""),"",E77-F77) | Q77: =IF(AND(E77="",F77=""),"",CONCATENATE(G77,"+",H77)) | R77: =IF(AND(E77="",F77=""),"",CONCATENATE(G77,"+",K77)) | S77: =IF(AND(rif!E77="",rif!F77=""),0,IF(AND(E77=rif!E77,F77=rif!F77),10,IF(G77=rif!G77,3,0)+IF(H77=rif!H77,0.5,0)+IF(I77=rif!I77,0.5,0)+IF(J77=rif!J77,0.5,0)+IF(K77=rif!K77,0.5,0)+IF(L77=rif!L77,0.5,0)+IF(M77=rif!M77,0.5,0)+IF(N77=rif!N77,0.5,0)+IF(O77=rif!O77,0.5,0)+IF(P77=rif!P77,0.5,0)+IF(Q77=rif!Q77,0.5,0)+IF(R77=rif!R77,0.5,0))) -> 0
A78: 43272.833 | B78: D | C78: ARGENTINA | D78: CROAZIA | G78: =IF(OR(E78="",F78=""),"",IF(E78>F78,"1",IF(E78<F78,"2","X"))) | H78: =IF(OR(E78="",F78=""),"",IF(AND(E78>0,F78>0),"GOL","NOGOL")) | I78: =IF(OR(E78="",F78=""),"",IF(INT((E78+F78)/2)=(E78+F78)/2,"PARI","DISPARI")) | J78: =IF(OR(E78="",F78=""),"",IF(E78+F78>1,"OVER","UNDER")) | K78: =IF(OR(E78="",F78=""),"",IF(E78+F78>2,"OVER","UNDER")) | L78: =IF(OR(E78="",F78=""),"",IF(E78+F78>3,"OVER","UNDER")) | M78: =IF(OR(E78="",F78=""),"",E78+F78) | N78: =IF(OR(E78="",F78=""),"",IF(E78>0,"SI","NO")) | O78: =IF(OR(E78="",F78=""),"",IF(F78>0,"SI","NO")) | P78: =IF(OR(E78="",F78=""),"",E78-F78) | Q78: =IF(AND(E78="",F78=""),"",CONCATENATE(G78,"+",H78)) | R78: =IF(AND(E78="",F78=""),"",CONCATENATE(G78,"+",K78)) | S78: =IF(AND(rif!E78="",rif!F78=""),0,IF(AND(E78=rif!E78,F78=rif!F78),10,IF(G78=rif!G78,3,0)+IF(H78=rif!H78,0.5,0)+IF(I78=rif!I78,0.5,0)+IF(J78=rif!J78,0.5,0)+IF(K78=rif!K78,0.5,0)+IF(L78=rif!L78,0.5,0)+IF(M78=rif!M78,0.5,0)+IF(N78=rif!N78,0.5,0)+IF(O78=rif!O78,0.5,0)+IF(P78=rif!P78,0.5,0)+IF(Q78=rif!Q78,0.5,0)+IF(R78=rif!R78,0.5,0))) -> 0
A79: 43273.583 | B79: E | C79: BRASILE | D79: COSTA RICA | G79: =IF(OR(E79="",F79=""),"",IF(E79>F79,"1",IF(E79<F79,"2","X"))) | H79: =IF(OR(E79="",F79=""),"",IF(AND(E79>0,F79>0),"GOL","NOGOL")) | I79: =IF(OR(E79="",F79=""),"",IF(INT((E79+F79)/2)=(E79+F79)/2,"PARI","DISPARI")) | J79: =IF(OR(E79="",F79=""),"",IF(E79+F79>1,"OVER","UNDER")) | K79: =IF(OR(E79="",F79=""),"",IF(E79+F79>2,"OVER","UNDER")) | L79: =IF(OR(E79="",F79=""),"",IF(E79+F79>3,"OVER","UNDER")) | M79: =IF(OR(E79="",F79=""),"",E79+F79) | N79: =IF(OR(E79="",F79=""),"",IF(E79>0,"SI","NO")) | O79: =IF(OR(E79="",F79=""),"",IF(F79>0,"SI","NO")) | P79: =IF(OR(E79="",F79=""),"",E79-F79) | Q79: =IF(AND(E79="",F79=""),"",CONCATENATE(G79,"+",H79)) | R79: =IF(AND(E79="",F79=""),"",CONCATENATE(G79,"+",K79)) | S79: =IF(AND(rif!E79="",rif!F79=""),0,IF(AND(E79=rif!E79,F79=rif!F79),10,IF(G79=rif!G79,3,0)+IF(H79=rif!H79,0.5,0)+IF(I79=rif!I79,0.5,0)+IF(J79=rif!J79,0.5,0)+IF(K79=rif!K79,0.5,0)+IF(L79=rif!L79,0.5,0)+IF(M79=rif!M79,0.5,0)+IF(N79=rif!N79,0.5,0)+IF(O79=rif!O79,0.5,0)+IF(P79=rif!P79,0.5,0)+IF(Q79=rif!Q79,0.5,0)+IF(R79=rif!R79,0.5,0))) -> 0
A80: 43273.708 | B80: D | C80: NIGERIA | D80: ISLANDA | G80: =IF(OR(E80="",F80=""),"",IF(E80>F80,"1",IF(E80<F80,"2","X"))) | H80: =IF(OR(E80="",F80=""),"",IF(AND(E80>0,F80>0),"GOL","NOGOL")) | I80: =IF(OR(E80="",F80=""),"",IF(INT((E80+F80)/2)=(E80+F80)/2,"PARI","DISPARI")) | J80: =IF(OR(E80="",F80=""),"",IF(E80+F80>1,"OVER","UNDER")) | K80: =IF(OR(E80="",F80=""),"",IF(E80+F80>2,"OVER","UNDER")) | L80: =IF(OR(E80="",F80=""),"",IF(E80+F80>3,"OVER","UNDER")) | M80: =IF(OR(E80="",F80=""),"",E80+F80) | N80: =IF(OR(E80="",F80=""),"",IF(E80>0,"SI","NO")) | O80: =IF(OR(E80="",F80=""),"",IF(F80>0,"SI","NO")) | P80: =IF(OR(E80="",F80=""),"",E80-F80) | Q80: =IF(AND(E80="",F80=""),"",CONCATENATE(G80,"+",H80)) | R80: =IF(AND(E80="",F80=""),"",CONCATENATE(G80,"+",K80)) | S80: =IF(AND(rif!E80="",rif!F80=""),0,IF(AND(E80=rif!E80,F80=rif!F80),10,IF(G80=rif!G80,3,0)+IF(H80=rif!H80,0.5,0)+IF(I80=rif!I80,0.5,0)+IF(J80=rif!J80,0.5,0)+IF(K80=rif!K80,0.5,0)+IF(L80=rif!L80,0.5,0)+IF(M80=rif!M80,0.5,0)+IF(N80=rif!N80,0.5,0)+IF(O80=rif!O80,0.5,0)+IF(P80=rif!P80,0.5,0)+IF(Q80=rif!Q80,0.5,0)+IF(R80=rif!R80,0.5,0))) -> 0
A81: 43273.833 | B81: E | C81: SERBIA | D81: SVIZZERA | G81: =IF(OR(E81="",F81=""),"",IF(E81>F81,"1",IF(E81<F81,"2","X"))) | H81: =IF(OR(E81="",F81=""),"",IF(AND(E81>0,F81>0),"GOL","NOGOL")) | I81: =IF(OR(E81="",F81=""),"",IF(INT((E81+F81)/2)=(E81+F81)/2,"PARI","DISPARI")) | J81: =IF(OR(E81="",F81=""),"",IF(E81+F81>1,"OVER","UNDER")) | K81: =IF(OR(E81="",F81=""),"",IF(E81+F81>2,"OVER","UNDER")) | L81: =IF(OR(E81="",F81=""),"",IF(E81+F81>3,"OVER","UNDER")) | M81: =IF(OR(E81="",F81=""),"",E81+F81) | N81: =IF(OR(E81="",F81=""),"",IF(E81>0,"SI","NO")) | O81: =IF(OR(E81="",F81=""),"",IF(F81>0,"SI","NO")) | P81: =IF(OR(E81="",F81=""),"",E81-F81) | Q81: =IF(AND(E81="",F81=""),"",CONCATENATE(G81,"+",H81)) | R81: =IF(AND(E81="",F81=""),"",CONCATENATE(G81,"+",K81)) | S81: =IF(AND(rif!E81="",rif!F81=""),0,IF(AND(E81=rif!E81,F81=rif!F81),10,IF(G81=rif!G81,3,0)+IF(H81=rif!H81,0.5,0)+IF(I81=rif!I81,0.5,0)+IF(J81=rif!J81,0.5,0)+IF(K81=rif!K81,0.5,0)+IF(L81=rif!L81,0.5,0)+IF(M81=rif!M81,0.5,0)+IF(N81=rif!N81,0.5,0)+IF(O81=rif!O81,0.5,0)+IF(P81=rif!P81,0.5,0)+IF(Q81=rif!Q81,0.5,0)+IF(R81=rif!R81,0.5,0))) -> 0
A82: 43274.583 | B82: G | C82: BELGIO | D82: TUNISIA | G82: =IF(OR(E82="",F82=""),"",IF(E82>F82,"1",IF(E82<F82,"2","X"))) | H82: =IF(OR(E82="",F82=""),"",IF(AND(E82>0,F82>0),"GOL","NOGOL")) | I82: =IF(OR(E82="",F82=""),"",IF(INT((E82+F82)/2)=(E82+F82)/2,"PARI","DISPARI")) | J82: =IF(OR(E82="",F82=""),"",IF(E82+F82>1,"OVER","UNDER")) | K82: =IF(OR(E82="",F82=""),"",IF(E82+F82>2,"OVER","UNDER")) | L82: =IF(OR(E82="",F82=""),"",IF(E82+F82>3,"OVER","UNDER")) | M82: =IF(OR(E82="",F82=""),"",E82+F82) | N82: =IF(OR(E82="",F82=""),"",IF(E82>0,"SI","NO")) | O82: =IF(OR(E82="",F82=""),"",IF(F82>0,"SI","NO")) | P82: =IF(OR(E82="",F82=""),"",E82-F82) | Q82: =IF(AND(E82="",F82=""),"",CONCATENATE(G82,"+",H82)) | R82: =IF(AND(E82="",F82=""),"",CONCATENATE(G82,"+",K82)) | S82: =IF(AND(rif!E82="",rif!F82=""),0,IF(AND(E82=rif!E82,F82=rif!F82),10,IF(G82=rif!G82,3,0)+IF(H82=rif!H82,0.5,0)+IF(I82=rif!I82,0.5,0)+IF(J82=rif!J82,0.5,0)+IF(K82=rif!K82,0.5,0)+IF(L82=rif!L82,0.5,0)+IF(M82=rif!M82,0.5,0)+IF(N82=rif!N82,0.5,0)+IF(O82=rif!O82,0.5,0)+IF(P82=rif!P82,0.5,0)+IF(Q82=rif!Q82,0.5,0)+IF(R82=rif!R82,0.5,0))) -> 0
A83: 43274.708 | B83: F | C83: COREA DEL SUD | D83: MESSICO | G83: =IF(OR(E83="",F83=""),"",IF(E83>F83,"1",IF(E83<F83,"2","X"))) | H83: =IF(OR(E83="",F83=""),"",IF(AND(E83>0,F83>0),"GOL","NOGOL")) | I83: =IF(OR(E83="",F83=""),"",IF(INT((E83+F83)/2)=(E83+F83)/2,"PARI","DISPARI")) | J83: =IF(OR(E83="",F83=""),"",IF(E83+F83>1,"OVER","UNDER")) | K83: =IF(OR(E83="",F83=""),"",IF(E83+F83>2,"OVER","UNDER")) | L83: =IF(OR(E83="",F83=""),"",IF(E83+F83>3,"OVER","UNDER")) | M83: =IF(OR(E83="",F83=""),"",E83+F83) | N83: =IF(OR(E83="",F83=""),"",IF(E83>0,"SI","NO")) | O83: =IF(OR(E83="",F83=""),"",IF(F83>0,"SI","NO")) | P83: =IF(OR(E83="",F83=""),"",E83-F83) | Q83: =IF(AND(E83="",F83=""),"",CONCATENATE(G83,"+",H83)) | R83: =IF(AND(E83="",F83=""),"",CONCATENATE(G83,"+",K83)) | S83: =IF(AND(rif!E83="",rif!F83=""),0,IF(AND(E83=rif!E83,F83=rif!F83),10,IF(G83=rif!G83,3,0)+IF(H83=rif!H83,0.5,0)+IF(I83=rif!I83,0.5,0)+IF(J83=rif!J83,0.5,0)+IF(K83=rif!K83,0.5,0)+IF(L83=rif!L83,0.5,0)+IF(M83=rif!M83,0.5,0)+IF(N83=rif!N83,0.5,0)+IF(O83=rif!O83,0.5,0)+IF(P83=rif!P83,0.5,0)+IF(Q83=rif!Q83,0.5,0)+IF(R83=rif!R83,0.5,0))) -> 0
... A86: 43275.708 | B86: H | C86: GIAPPONE | D86: SENEGAL | G86: =IF(OR(E86="",F86=""),"",IF(E86>F86,"1",IF(E86<F86,"2","X"))) | H86: =IF(OR(E86="",F86=""),"",IF(AND(E86>0,F86>0),"GOL","NOGOL")) | I86: =IF(OR(E86="",F86=""),"",IF(INT((E86+F86)/2)=(E86+F86)/2,"PARI","DISPARI")) | J86: =IF(OR(E86="",F86=""),"",IF(E86+F86>1,"OVER","UNDER")) | K86: =IF(OR(E86="",F86=""),"",IF(E86+F86>2,"OVER","UNDER")) | L86: =IF(OR(E86="",F86=""),"",IF(E86+F86>3,"OVER","UNDER")) | M86: =IF(OR(E86="",F86=""),"",E86+F86) | N86: =IF(OR(E86="",F86=""),"",IF(E86>0,"SI","NO")) | O86: =IF(OR(E86="",F86=""),"",IF(F86>0,"SI","NO")) | P86: =IF(OR(E86="",F86=""),"",E86-F86) | Q86: =IF(AND(E86="",F86=""),"",CONCATENATE(G86,"+",H86)) | R86: =IF(AND(E86="",F86=""),"",CONCATENATE(G86,"+",K86)) | S86: =IF(AND(rif!E86="",rif!F86=""),0,IF(AND(E86=rif!E86,F86=rif!F86),10,IF(G86=rif!G86,3,0)+IF(H86=rif!H86,0.5,0)+IF(I86=rif!I86,0.5,0)+IF(J86=rif!J86,0.5,0)+IF(K86=rif!K86,0.5,0)+IF(L86=rif!L86,0.5,0)+IF(M86=rif!M86,0.5,0)+IF(N86=rif!N86,0.5,0)+IF(O86=rif!O86,0.5,0)+IF(P86=rif!P86,0.5,0)+IF(Q86=rif!Q86,0.5,0)+IF(R86=rif!R86,0.5,0))) -> 0
A87: 43275.833 | B87: H | C87: POLONIA | D87: COLOMBIA | G87: =IF(OR(E87="",F87=""),"",IF(E87>F87,"1",IF(E87<F87,"2","X"))) | H87: =IF(OR(E87="",F87=""),"",IF(AND(E87>0,F87>0),"GOL","NOGOL")) | I87: =IF(OR(E87="",F87=""),"",IF(INT((E87+F87)/2)=(E87+F87)/2,"PARI","DISPARI")) | J87: =IF(OR(E87="",F87=""),"",IF(E87+F87>1,"OVER","UNDER")) | K87: =IF(OR(E87="",F87=""),"",IF(E87+F87>2,"OVER","UNDER")) | L87: =IF(OR(E87="",F87=""),"",IF(E87+F87>3,"OVER","UNDER")) | M87: =IF(OR(E87="",F87=""),"",E87+F87) | N87: =IF(OR(E87="",F87=""),"",IF(E87>0,"SI","NO")) | O87: =IF(OR(E87="",F87=""),"",IF(F87>0,"SI","NO")) | P87: =IF(OR(E87="",F87=""),"",E87-F87) | Q87: =IF(AND(E87="",F87=""),"",CONCATENATE(G87,"+",H87)) | R87: =IF(AND(E87="",F87=""),"",CONCATENATE(G87,"+",K87)) | S87: =IF(AND(rif!E83="",rif!F83=""),0,IF(AND(E87=rif!E83,F87=rif!F83),10,IF(G87=rif!G83,3,0)+IF(H87=rif!H83,0.5,0)+IF(I87=rif!I83,0.5,0)+IF(J87=rif!J83,0.5,0)+IF(K87=rif!K83,0.5,0)+IF(L87=rif!L83,0.5,0)+IF(M87=rif!M83,0.5,0)+IF(N87=rif!N83,0.5,0)+IF(O87=rif!O83,0.5,0)+IF(P87=rif!P83,0.5,0)+IF(Q87=rif!Q83,0.5,0)+IF(R87=rif!R83,0.5,0))) -> 0
S88: =SUM(S72:S87) -> 0
A90: 43276.667 | B90: A | C90: ARABIA SAUDITA | D90: EGITTO | G90: =IF(OR(E90="",F90=""),"",IF(E90>F90,"1",IF(E90<F90,"2","X"))) | H90: =IF(OR(E90="",F90=""),"",IF(AND(E90>0,F90>0),"GOL","NOGOL")) | I90: =IF(OR(E90="",F90=""),"",IF(INT((E90+F90)/2)=(E90+F90)/2,"PARI","DISPARI")) | J90: =IF(OR(E90="",F90=""),"",IF(E90+F90>1,"OVER","UNDER")) | K90: =IF(OR(E90="",F90=""),"",IF(E90+F90>2,"OVER","UNDER")) | L90: =IF(OR(E90="",F90=""),"",IF(E90+F90>3,"OVER","UNDER")) | M90: =IF(OR(E90="",F90=""),"",E90+F90) | N90: =IF(OR(E90="",F90=""),"",IF(E90>0,"SI","NO")) | O90: =IF(OR(E90="",F90=""),"",IF(F90>0,"SI","NO")) | P90: =IF(OR(E90="",F90=""),"",E90-F90) | Q90: =IF(AND(E90="",F90=""),"",CONCATENATE(G90,"+",H90)) | R90: =IF(AND(E90="",F90=""),"",CONCATENATE(G90,"+",K90)) | S90: =IF(AND(rif!E90="",rif!F90=""),0,IF(AND(E90=rif!E90,F90=rif!F90),10,IF(G90=rif!G90,3,0)+IF(H90=rif!H90,0.5,0)+IF(I90=rif!I90,0.5,0)+IF(J90=rif!J90,0.5,0)+IF(K90=rif!K90,0.5,0)+IF(L90=rif!L90,0.5,0)+IF(M90=rif!M90,0.5,0)+IF(N90=rif!N90,0.5,0)+IF(O90=rif!O90,0.5,0)+IF(P90=rif!P90,0.5,0)+IF(Q90=rif!Q90,0.5,0)+IF(R90=rif!R90,0.5,0))) -> 0
A91: 43276.667 | B91: A | C91: URUGUAY | D91: RUSSIA | G91: =IF(OR(E91="",F91=""),"",IF(E91>F91,"1",IF(E91<F91,"2","X"))) | H91: =IF(OR(E91="",F91=""),"",IF(AND(E91>0,F91>0),"GOL","NOGOL")) | I91: =IF(OR(E91="",F91=""),"",IF(INT((E91+F91)/2)=(E91+F91)/2,"PARI","DISPARI")) | J91: =IF(OR(E91="",F91=""),"",IF(E91+F91>1,"OVER","UNDER")) | K91: =IF(OR(E91="",F91=""),"",IF(E91+F91>2,"OVER","UNDER")) | L91: =IF(OR(E91="",F91=""),"",IF(E91+F91>3,"OVER","UNDER")) | M91: =IF(OR(E91="",F91=""),"",E91+F91) | N91: =IF(OR(E91="",F91=""),"",IF(E91>0,"SI","NO")) | O91: =IF(OR(E91="",F91=""),"",IF(F91>0,"SI","NO")) | P91: =IF(OR(E91="",F91=""),"",E91-F91) | Q91: =IF(AND(E91="",F91=""),"",CONCATENATE(G91,"+",H91)) | R91: =IF(AND(E91="",F91=""),"",CONCATENATE(G91,"+",K91)) | S91: =IF(AND(rif!E91="",rif!F91=""),0,IF(AND(E91=rif!E91,F91=rif!F91),10,IF(G91=rif!G91,3,0)+IF(H91=rif!H91,0.5,0)+IF(I91=rif!I91,0.5,0)+IF(J91=rif!J91,0.5,0)+IF(K91=rif!K91,0.5,0)+IF(L91=rif!L91,0.5,0)+IF(M91=rif!M91,0.5,0)+IF(N91=rif!N91,0.5,0)+IF(O91=rif!O91,0.5,0)+IF(P91=rif!P91,0.5,0)+IF(Q91=rif!Q91,0.5,0)+IF(R91=rif!R91,0.5,0))) -> 0
A92: 43276.833 | B92: B | C92: IRAN | D92: PORTOGALLO | G92: =IF(OR(E92="",F92=""),"",IF(E92>F92,"1",IF(E92<F92,"2","X"))) | H92: =IF(OR(E92="",F92=""),"",IF(AND(E92>0,F92>0),"GOL","NOGOL")) | I92: =IF(OR(E92="",F92=""),"",IF(INT((E92+F92)/2)=(E92+F92)/2,"PARI","DISPARI")) | J92: =IF(OR(E92="",F92=""),"",IF(E92+F92>1,"OVER","UNDER")) | K92: =IF(OR(E92="",F92=""),"",IF(E92+F92>2,"OVER","UNDER")) | L92: =IF(OR(E92="",F92=""),"",IF(E92+F92>3,"OVER","UNDER")) | M92: =IF(OR(E92="",F92=""),"",E92+F92) | N92: =IF(OR(E92="",F92=""),"",IF(E92>0,"SI","NO")) | O92: =IF(OR(E92="",F92=""),"",IF(F92>0,"SI","NO")) | P92: =IF(OR(E92="",F92=""),"",E92-F92) | Q92: =IF(AND(E92="",F92=""),"",CONCATENATE(G92,"+",H92)) | R92: =IF(AND(E92="",F92=""),"",CONCATENATE(G92,"+",K92)) | S92: =IF(AND(rif!E92="",rif!F92=""),0,IF(AND(E92=rif!E92,F92=rif!F92),10,IF(G92=rif!G92,3,0)+IF(H92=rif!H92,0.5,0)+IF(I92=rif!I92,0.5,0)+IF(J92=rif!J92,0.5,0)+IF(K92=rif!K92,0.5,0)+IF(L92=rif!L92,0.5,0)+IF(M92=rif!M92,0.5,0)+IF(N92=rif!N92,0.5,0)+IF(O92=rif!O92,0.5,0)+IF(P92=rif!P92,0.5,0)+IF(Q92=rif!Q92,0.5,0)+IF(R92=rif!R92,0.5,0))) -> 0
A93: 43276.833 | B93: B | C93: SPAGNA | D93: MAROCCO | G93: =IF(OR(E93="",F93=""),"",IF(E93>F93,"1",IF(E93<F93,"2","X"))) | H93: =IF(OR(E93="",F93=""),"",IF(AND(E93>0,F93>0),"GOL","NOGOL")) | I93: =IF(OR(E93="",F93=""),"",IF(INT((E93+F93)/2)=(E93+F93)/2,"PARI","DISPARI")) | J93: =IF(OR(E93="",F93=""),"",IF(E93+F93>1,"OVER","UNDER")) | K93: =IF(OR(E93="",F93=""),"",IF(E93+F93>2,"OVER","UNDER")) | L93: =IF(OR(E93="",F93=""),"",IF(E93+F93>3,"OVER","UNDER")) | M93: =IF(OR(E93="",F93=""),"",E93+F93) | N93: =IF(OR(E93="",F93=""),"",IF(E93>0,"SI","NO")) | O93: =IF(OR(E93="",F93=""),"",IF(F93>0,"SI","NO")) | P93: =IF(OR(E93="",F93=""),"",E93-F93) | Q93: =IF(AND(E93="",F93=""),"",CONCATENATE(G93,"+",H93)) | R93: =IF(AND(E93="",F93=""),"",CONCATENATE(G93,"+",K93)) | S93: =IF(AND(rif!E93="",rif!F93=""),0,IF(AND(E93=rif!E93,F93=rif!F93),10,IF(G93=rif!G93,3,0)+IF(H93=rif!H93,0.5,0)+IF(I93=rif!I93,0.5,0)+IF(J93=rif!J93,0.5,0)+IF(K93=rif!K93,0.5,0)+IF(L93=rif!L93,0.5,0)+IF(M93=rif!M93,0.5,0)+IF(N93=rif!N93,0.5,0)+IF(O93=rif!O93,0.5,0)+IF(P93=rif!P93,0.5,0)+IF(Q93=rif!Q93,0.5,0)+IF(R93=rif!R93,0.5,0))) -> 0
A94: 43277.667 | B94: C | C94: AUSTRALIA | D94: PERU | G94: =IF(OR(E94="",F94=""),"",IF(E94>F94,"1",IF(E94<F94,"2","X"))) | H94: =IF(OR(E94="",F94=""),"",IF(AND(E94>0,F94>0),"GOL","NOGOL")) | I94: =IF(OR(E94="",F94=""),"",IF(INT((E94+F94)/2)=(E94+F94)/2,"PARI","DISPARI")) | J94: =IF(OR(E94="",F94=""),"",IF(E94+F94>1,"OVER","UNDER")) | K94: =IF(OR(E94="",F94=""),"",IF(E94+F94>2,"OVER","UNDER")) | L94: =IF(OR(E94="",F94=""),"",IF(E94+F94>3,"OVER","UNDER")) | M94: =IF(OR(E94="",F94=""),"",E94+F94) | N94: =IF(OR(E94="",F94=""),"",IF(E94>0,"SI","NO")) | O94: =IF(OR(E94="",F94=""),"",IF(F94>0,"SI","NO")) | P94: =IF(OR(E94="",F94=""),"",E94-F94) | Q94: =IF(AND(E94="",F94=""),"",CONCATENATE(G94,"+",H94)) | R94: =IF(AND(E94="",F94=""),"",CONCATENATE(G94,"+",K94)) | S94: =IF(AND(rif!E94="",rif!F94=""),0,IF(AND(E94=rif!E94,F94=rif!F94),10,IF(G94=rif!G94,3,0)+IF(H94=rif!H94,0.5,0)+IF(I94=rif!I94,0.5,0)+IF(J94=rif!J94,0.5,0)+IF(K94=rif!K94,0.5,0)+IF(L94=rif!L94,0.5,0)+IF(M94=rif!M94,0.5,0)+IF(N94=rif!N94,0.5,0)+IF(O94=rif!O94,0.5,0)+IF(P94=rif!P94,0.5,0)+IF(Q94=rif!Q94,0.5,0)+IF(R94=rif!R94,0.5,0))) -> 0
A95: 43277.667 | B95: C | C95: DANIMARCA | D95: FRANCIA | G95: =IF(OR(E95="",F95=""),"",IF(E95>F95,"1",IF(E95<F95,"2","X"))) | H95: =IF(OR(E95="",F95=""),"",IF(AND(E95>0,F95>0),"GOL","NOGOL")) | I95: =IF(OR(E95="",F95=""),"",IF(INT((E95+F95)/2)=(E95+F95)/2,"PARI","DISPARI")) | J95: =IF(OR(E95="",F95=""),"",IF(E95+F95>1,"OVER","UNDER")) | K95: =IF(OR(E95="",F95=""),"",IF(E95+F95>2,"OVER","UNDER")) | L95: =IF(OR(E95="",F95=""),"",IF(E95+F95>3,"OVER","UNDER")) | M95: =IF(OR(E95="",F95=""),"",E95+F95) | N95: =IF(OR(E95="",F95=""),"",IF(E95>0,"SI","NO")) | O95: =IF(OR(E95="",F95=""),"",IF(F95>0,"SI","NO")) | P95: =IF(OR(E95="",F95=""),"",E95-F95) | Q95: =IF(AND(E95="",F95=""),"",CONCATENATE(G95,"+",H95)) | R95: =IF(AND(E95="",F95=""),"",CONCATENATE(G95,"+",K95)) | S95: =IF(AND(rif!E95="",rif!F95=""),0,IF(AND(E95=rif!E95,F95=rif!F95),10,IF(G95=rif!G95,3,0)+IF(H95=rif!H95,0.5,0)+IF(I95=rif!I95,0.5,0)+IF(J95=rif!J95,0.5,0)+IF(K95=rif!K95,0.5,0)+IF(L95=rif!L95,0.5,0)+IF(M95=rif!M95,0.5,0)+IF(N95=rif!N95,0.5,0)+IF(O95=rif!O95,0.5,0)+IF(P95=rif!P95,0.5,0)+IF(Q95=rif!Q95,0.5,0)+IF(R95=rif!R95,0.5,0))) -> 0
A96: 43277.833 | B96: D | C96: NIGERIA | D96: ARGENTINA | G96: =IF(OR(E96="",F96=""),"",IF(E96>F96,"1",IF(E96<F96,"2","X"))) | H96: =IF(OR(E96="",F96=""),"",IF(AND(E96>0,F96>0),"GOL","NOGOL")) | I96: =IF(OR(E96="",F96=""),"",IF(INT((E96+F96)/2)=(E96+F96)/2,"PARI","DISPARI")) | J96: =IF(OR(E96="",F96=""),"",IF(E96+F96>1,"OVER","UNDER")) | K96: =IF(OR(E96="",F96=""),"",IF(E96+F96>2,"OVER","UNDER")) | L96: =IF(OR(E96="",F96=""),"",IF(E96+F96>3,"OVER","UNDER")) | M96: =IF(OR(E96="",F96=""),"",E96+F96) | N96: =IF(OR(E96="",F96=""),"",IF(E96>0,"SI","NO")) | O96: =IF(OR(E96="",F96=""),"",IF(F96>0,"SI","NO")) | P96: =IF(OR(E96="",F96=""),"",E96-F96) | Q96: =IF(AND(E96="",F96=""),"",CONCATENATE(G96,"+",H96)) | R96: =IF(AND(E96="",F96=""),"",CONCATENATE(G96,"+",K96)) | S96: =IF(AND(rif!E96="",rif!F96=""),0,IF(AND(E96=rif!E96,F96=rif!F96),10,IF(G96=rif!G96,3,0)+IF(H96=rif!H96,0.5,0)+IF(I96=rif!I96,0.5,0)+IF(J96=rif!J96,0.5,0)+IF(K96=rif!K96,0.5,0)+IF(L96=rif!L96,0.5,0)+IF(M96=rif!M96,0.5,0)+IF(N96=rif!N96,0.5,0)+IF(O96=rif!O96,0.5,0)+IF(P96=rif!P96,0.5,0)+IF(Q96=rif!Q96,0.5,0)+IF(R96=rif!R96,0.5,0))) -> 0
A97: 43277.833 | B97: D | C97: ISLANDA | D97: CROAZIA | G97: =IF(OR(E97="",F97=""),"",IF(E97>F97,"1",IF(E97<F97,"2","X"))) | H97: =IF(OR(E97="",F97=""),"",IF(AND(E97>0,F97>0),"GOL","NOGOL")) | I97: =IF(OR(E97="",F97=""),"",IF(INT((E97+F97)/2)=(E97+F97)/2,"PARI","DISPARI")) | J97: =IF(OR(E97="",F97=""),"",IF(E97+F97>1,"OVER","UNDER")) | K97: =IF(OR(E97="",F97=""),"",IF(E97+F97>2,"OVER","UNDER")) | L97: =IF(OR(E97="",F97=""),"",IF(E97+F97>3,"OVER","UNDER")) | M97: =IF(OR(E97="",F97=""),"",E97+F97) | N97: =IF(OR(E97="",F97=""),"",IF(E97>0,"SI","NO")) | O97: =IF(OR(E97="",F97=""),"",IF(F97>0,"SI","NO")) | P97: =IF(OR(E97="",F97=""),"",E97-F97) | Q97: =IF(AND(E97="",F97=""),"",CONCATENATE(G97,"+",H97)) | R97: =IF(AND(E97="",F97=""),"",CONCATENATE(G97,"+",K97)) | S97: =IF(AND(rif!E97="",rif!F97=""),0,IF(AND(E97=rif!E97,F97=rif!F97),10,IF(G97=rif!G97,3,0)+IF(H97=rif!H97,0.5,0)+IF(I97=rif!I97,0.5,0)+IF(J97=rif!J97,0.5,0)+IF(K97=rif!K97,0.5,0)+IF(L97=rif!L97,0.5,0)+IF(M97=rif!M97,0.5,0)+IF(N97=rif!N97,0.5,0)+IF(O97=rif!O97,0.5,0)+IF(P97=rif!P97,0.5,0)+IF(Q97=rif!Q97,0.5,0)+IF(R97=rif!R97,0.5,0))) -> 0
A98: 43278.667 | B98: E | C98: COREA DEL SUD | D98: GERMANIA | G98: =IF(OR(E98="",F98=""),"",IF(E98>F98,"1",IF(E98<F98,"2","X"))) | H98: =IF(OR(E98="",F98=""),"",IF(AND(E98>0,F98>0),"GOL","NOGOL")) | I98: =IF(OR(E98="",F98=""),"",IF(INT((E98+F98)/2)=(E98+F98)/2,"PARI","DISPARI")) | J98: =IF(OR(E98="",F98=""),"",IF(E98+F98>1,"OVER","UNDER")) | K98: =IF(OR(E98="",F98=""),"",IF(E98+F98>2,"OVER","UNDER")) | L98: =IF(OR(E98="",F98=""),"",IF(E98+F98>3,"OVER","UNDER")) | M98: =IF(OR(E98="",F98=""),"",E98+F98) | N98: =IF(OR(E98="",F98=""),"",IF(E98>0,"SI","NO")) | O98: =IF(OR(E98="",F98=""),"",IF(F98>0,"SI","NO")) | P98: =IF(OR(E98="",F98=""),"",E98-F98) | Q98: =IF(AND(E98="",F98=""),"",CONCATENATE(G98,"+",H98)) | R98: =IF(AND(E98="",F98=""),"",CONCATENATE(G98,"+",K98)) | S98: =IF(AND(rif!E98="",rif!F98=""),0,IF(AND(E98=rif!E98,F98=rif!F98),10,IF(G98=rif!G98,3,0)+IF(H98=rif!H98,0.5,0)+IF(I98=rif!I98,0.5,0)+IF(J98=rif!J98,0.5,0)+IF(K98=rif!K98,0.5,0)+IF(L98=rif!L98,0.5,0)+IF(M98=rif!M98,0.5,0)+IF(N98=rif!N98,0.5,0)+IF(O98=rif!O98,0.5,0)+IF(P98=rif!P98,0.5,0)+IF(Q98=rif!Q98,0.5,0)+IF(R98=rif!R98,0.5,0))) -> 0
A99: 43278.667 | B99: E | C99: MESSICO | D99: SVEZIA | G99: =IF(OR(E99="",F99=""),"",IF(E99>F99,"1",IF(E99<F99,"2","X"))) | H99: =IF(OR(E99="",F99=""),"",IF(AND(E99>0,F99>0),"GOL","NOGOL")) | I99: =IF(OR(E99="",F99=""),"",IF(INT((E99+F99)/2)=(E99+F99)/2,"PARI","DISPARI")) | J99: =IF(OR(E99="",F99=""),"",IF(E99+F99>1,"OVER","UNDER")) | K99: =IF(OR(E99="",F99=""),"",IF(E99+F99>2,"OVER","UNDER")) | L99: =IF(OR(E99="",F99=""),"",IF(E99+F99>3,"OVER","UNDER")) | M99: =IF(OR(E99="",F99=""),"",E99+F99) | N99: =IF(OR(E99="",F99=""),"",IF(E99>0,"SI","NO")) | O99: =IF(OR(E99="",F99=""),"",IF(F99>0,"SI","NO")) | P99: =IF(OR(E99="",F99=""),"",E99-F99) | Q99: =IF(AND(E99="",F99=""),"",CONCATENATE(G99,"+",H99)) | R99: =IF(AND(E99="",F99=""),"",CONCATENATE(G99,"+",K99)) | S99: =IF(AND(rif!E99="",rif!F99=""),0,IF(AND(E99=rif!E99,F99=rif!F99),10,IF(G99=rif!G99,3,0)+IF(H99=rif!H99,0.5,0)+IF(I99=rif!I99,0.5,0)+IF(J99=rif!J99,0.5,0)+IF(K99=rif!K99,0.5,0)+IF(L99=rif!L99,0.5,0)+IF(M99=rif!M99,0.5,0)+IF(N99=rif!N99,0.5,0)+IF(O99=rif!O99,0.5,0)+IF(P99=rif!P99,0.5,0)+IF(Q99=rif!Q99,0.5,0)+IF(R99=rif!R99,0.5,0))) -> 0
A100: 43278.833 | B100: F | C100: SVIZZERA | D100: COSTA RICA | G100: =IF(OR(E100="",F100=""),"",IF(E100>F100,"1",IF(E100<F100,"2","X"))) | H100: =IF(OR(E100="",F100=""),"",IF(AND(E100>0,F100>0),"GOL","NOGOL")) | I100: =IF(OR(E100="",F100=""),"",IF(INT((E100+F100)/2)=(E100+F100)/2,"PARI","DISPARI")) | J100: =IF(OR(E100="",F100=""),"",IF(E100+F100>1,"OVER","UNDER")) | K100: =IF(OR(E100="",F100=""),"",IF(E100+F100>2,"OVER","UNDER")) | L100: =IF(OR(E100="",F100=""),"",IF(E100+F100>3,"OVER","UNDER")) | M100: =IF(OR(E100="",F100=""),"",E100+F100) | N100: =IF(OR(E100="",F100=""),"",IF(E100>0,"SI","NO")) | O100: =IF(OR(E100="",F100=""),"",IF(F100>0,"SI","NO")) | P100: =IF(OR(E100="",F100=""),"",E100-F100) | Q100: =IF(AND(E100="",F100=""),"",CONCATENATE(G100,"+",H100)) | R100: =IF(AND(E100="",F100=""),"",CONCATENATE(G100,"+",K100)) | S100: =IF(AND(rif!E100="",rif!F100=""),0,IF(AND(E100=rif!E100,F100=rif!F100),10,IF(G100=rif!G100,3,0)+IF(H100=rif!H100,0.5,0)+IF(I100=rif!I100,0.5,0)+IF(J100=rif!J100,0.5,0)+IF(K100=rif!K100,0.5,0)+IF(L100=rif!L100,0.5,0)+IF(M100=rif!M100,0.5,0)+IF(N100=rif!N100,0.5,0)+IF(O100=rif!O100,0.5,0)+IF(P100=rif!P100,0.5,0)+IF(Q100=rif!Q100,0.5,0)+IF(R100=rif!R100,0.5,0))) -> 0
A101: 43278.833 | B101: F | C101: SERBIA | D101: BRASILE | G101: =IF(OR(E101="",F101=""),"",IF(E101>F101,"1",IF(E101<F101,"2","X"))) | H101: =IF(OR(E101="",F101=""),"",IF(AND(E101>0,F101>0),"GOL","NOGOL")) | I101: =IF(OR(E101="",F101=""),"",IF(INT((E101+F101)/2)=(E101+F101)/2,"PARI","DISPARI")) | J101: =IF(OR(E101="",F101=""),"",IF(E101+F101>1,"OVER","UNDER")) | K101: =IF(OR(E101="",F101=""),"",IF(E101+F101>2,"OVER","UNDER")) | L101: =IF(OR(E101="",F101=""),"",IF(E101+F101>3,"OVER","UNDER")) | M101: =IF(OR(E101="",F101=""),"",E101+F101) | N101: =IF(OR(E101="",F101=""),"",IF(E101>0,"SI","NO")) | O101: =IF(OR(E101="",F101=""),"",IF(F101>0,"SI","NO")) | P101: =IF(OR(E101="",F101=""),"",E101-F101) | Q101: =IF(AND(E101="",F101=""),"",CONCATENATE(G101,"+",H101)) | R101: =IF(AND(E101="",F101=""),"",CONCATENATE(G101,"+",K101)) | S101: =IF(AND(rif!E101="",rif!F101=""),0,IF(AND(E101=rif!E101,F101=rif!F101),10,IF(G101=rif!G101,3,0)+IF(H101=rif!H101,0.5,0)+IF(I101=rif!I101,0.5,0)+IF(J101=rif!J101,0.5,0)+IF(K101=rif!K101,0.5,0)+IF(L101=rif!L101,0.5,0)+IF(M101=rif!M101,0.5,0)+IF(N101=rif!N101,0.5,0)+IF(O101=rif!O101,0.5,0)+IF(P101=rif!P101,0.5,0)+IF(Q101=rif!Q101,0.5,0)+IF(R101=rif!R101,0.5,0))) -> 0
... A104: 43279.833 | B104: H | C104: INGHILTERRA | D104: BELGIO | G104: =IF(OR(E104="",F104=""),"",IF(E104>F104,"1",IF(E104<F104,"2","X"))) | H104: =IF(OR(E104="",F104=""),"",IF(AND(E104>0,F104>0),"GOL","NOGOL")) | I104: =IF(OR(E104="",F104=""),"",IF(INT((E104+F104)/2)=(E104+F104)/2,"PARI","DISPARI")) | J104: =IF(OR(E104="",F104=""),"",IF(E104+F104>1,"OVER","UNDER")) | K104: =IF(OR(E104="",F104=""),"",IF(E104+F104>2,"OVER","UNDER")) | L104: =IF(OR(E104="",F104=""),"",IF(E104+F104>3,"OVER","UNDER")) | M104: =IF(OR(E104="",F104=""),"",E104+F104) | N104: =IF(OR(E104="",F104=""),"",IF(E104>0,"SI","NO")) | O104: =IF(OR(E104="",F104=""),"",IF(F104>0,"SI","NO")) | P104: =IF(OR(E104="",F104=""),"",E104-F104) | Q104: =IF(AND(E104="",F104=""),"",CONCATENATE(G104,"+",H104)) | R104: =IF(AND(E104="",F104=""),"",CONCATENATE(G104,"+",K104)) | S104: =IF(AND(rif!E104="",rif!F104=""),0,IF(AND(E104=rif!E104,F104=rif!F104),10,IF(G104=rif!G104,3,0)+IF(H104=rif!H104,0.5,0)+IF(I104=rif!I104,0.5,0)+IF(J104=rif!J104,0.5,0)+IF(K104=rif!K104,0.5,0)+IF(L104=rif!L104,0.5,0)+IF(M104=rif!M104,0.5,0)+IF(N104=rif!N104,0.5,0)+IF(O104=rif!O104,0.5,0)+IF(P104=rif!P104,0.5,0)+IF(Q104=rif!Q104,0.5,0)+IF(R104=rif!R104,0.5,0))) -> 0
A105: 43279.833 | B105: H | C105: PANAMA | D105: TUNISIA | G105: =IF(OR(E105="",F105=""),"",IF(E105>F105,"1",IF(E105<F105,"2","X"))) | H105: =IF(OR(E105="",F105=""),"",IF(AND(E105>0,F105>0),"GOL","NOGOL")) | I105: =IF(OR(E105="",F105=""),"",IF(INT((E105+F105)/2)=(E105+F105)/2,"PARI","DISPARI")) | J105: =IF(OR(E105="",F105=""),"",IF(E105+F105>1,"OVER","UNDER")) | K105: =IF(OR(E105="",F105=""),"",IF(E105+F105>2,"OVER","UNDER")) | L105: =IF(OR(E105="",F105=""),"",IF(E105+F105>3,"OVER","UNDER")) | M105: =IF(OR(E105="",F105=""),"",E105+F105) | N105: =IF(OR(E105="",F105=""),"",IF(E105>0,"SI","NO")) | O105: =IF(OR(E105="",F105=""),"",IF(F105>0,"SI","NO")) | P105: =IF(OR(E105="",F105=""),"",E105-F105) | Q105: =IF(AND(E105="",F105=""),"",CONCATENATE(G105,"+",H105)) | R105: =IF(AND(E105="",F105=""),"",CONCATENATE(G105,"+",K105)) | S105: =IF(AND(rif!E101="",rif!F101=""),0,IF(AND(E105=rif!E101,F105=rif!F101),10,IF(G105=rif!G101,3,0)+IF(H105=rif!H101,0.5,0)+IF(I105=rif!I101,0.5,0)+IF(J105=rif!J101,0.5,0)+IF(K105=rif!K101,0.5,0)+IF(L105=rif!L101,0.5,0)+IF(M105=rif!M101,0.5,0)+IF(N105=rif!N101,0.5,0)+IF(O105=rif!O101,0.5,0)+IF(P105=rif!P101,0.5,0)+IF(Q105=rif!Q101,0.5,0)+IF(R105=rif!R101,0.5,0))) -> 0
R106: TOT: | S106: =SUM(S90:S105) -> 0
A108: OTTAVI DI FINALE
A111: 43281.667 | G111: =IF(OR(E111="",F111=""),"",IF(E111>F111,"1",IF(E111<F111,"2","X"))) | H111: =IF(OR(E111="",F111=""),"",IF(AND(E111>0,F111>0),"GOL","NOGOL")) | I111: =IF(OR(E111="",F111=""),"",IF(INT((E111+F111)/2)=(E111+F111)/2,"PARI","DISPARI")) | J111: =IF(OR(E111="",F111=""),"",IF(E111+F111>1,"OVER","UNDER")) | K111: =IF(OR(E111="",F111=""),"",IF(E111+F111>2,"OVER","UNDER")) | L111: =IF(OR(E111="",F111=""),"",IF(E111+F111>3,"OVER","UNDER")) | M111: =IF(OR(E111="",F111=""),"",E111+F111) | N111: =IF(OR(E111="",F111=""),"",IF(E111>0,"SI","NO")) | O111: =IF(OR(E111="",F111=""),"",IF(F111>0,"SI","NO")) | P111: =IF(OR(E111="",F111=""),"",E111-F111) | Q111: =IF(AND(E111="",F111=""),"",CONCATENATE(G111,"+",H111)) | R111: =IF(AND(E111="",F111=""),"",CONCATENATE(G111,"+",K111)) | S111: =IF(AND(rif!E111="",rif!F111=""),0,IF(AND(E111=rif!E111,F111=rif!F111),10,IF(G111=rif!G111,3,0)+IF(H111=rif!H111,0.5,0)+IF(I111=rif!I111,0.5,0)+IF(J111=rif!J111,0.5,0)+IF(K111=rif!K111,0.5,0)+IF(L111=rif!L111,0.5,0)+IF(M111=rif!M111,0.5,0)+IF(N111=rif!N111,0.5,0)+IF(O111=rif!O111,0.5,0)+IF(P111=rif!P111,0.5,0)+IF(Q111=rif!Q111,0.5,0)+IF(R111=rif!R111,0.5,0))) -> 0
A112: 43281.833 | G112: =IF(OR(E112="",F112=""),"",IF(E112>F112,"1",IF(E112<F112,"2","X"))) | H112: =IF(OR(E112="",F112=""),"",IF(AND(E112>0,F112>0),"GOL","NOGOL")) | I112: =IF(OR(E112="",F112=""),"",IF(INT((E112+F112)/2)=(E112+F112)/2,"PARI","DISPARI")) | J112: =IF(OR(E112="",F112=""),"",IF(E112+F112>1,"OVER","UNDER")) | K112: =IF(OR(E112="",F112=""),"",IF(E112+F112>2,"OVER","UNDER")) | L112: =IF(OR(E112="",F112=""),"",IF(E112+F112>3,"OVER","UNDER")) | M112: =IF(OR(E112="",F112=""),"",E112+F112) | N112: =IF(OR(E112="",F112=""),"",IF(E112>0,"SI","NO")) | O112: =IF(OR(E112="",F112=""),"",IF(F112>0,"SI","NO")) | P112: =IF(OR(E112="",F112=""),"",E112-F112) | Q112: =IF(AND(E112="",F112=""),"",CONCATENATE(G112,"+",H112)) | R112: =IF(AND(E112="",F112=""),"",CONCATENATE(G112,"+",K112)) | S112: =IF(AND(rif!E112="",rif!F112=""),0,IF(AND(E112=rif!E112,F112=rif!F112),10,IF(G112=rif!G112,3,0)+IF(H112=rif!H112,0.5,0)+IF(I112=rif!I112,0.5,0)+IF(J112=rif!J112,0.5,0)+IF(K112=rif!K112,0.5,0)+IF(L112=rif!L112,0.5,0)+IF(M112=rif!M112,0.5,0)+IF(N112=rif!N112,0.5,0)+IF(O112=rif!O112,0.5,0)+IF(P112=rif!P112,0.5,0)+IF(Q112=rif!Q112,0.5,0)+IF(R112=rif!R112,0.5,0))) -> 0
A113: 43282.667 | G113: =IF(OR(E113="",F113=""),"",IF(E113>F113,"1",IF(E113<F113,"2","X"))) | H113: =IF(OR(E113="",F113=""),"",IF(AND(E113>0,F113>0),"GOL","NOGOL")) | I113: =IF(OR(E113="",F113=""),"",IF(INT((E113+F113)/2)=(E113+F113)/2,"PARI","DISPARI")) | J113: =IF(OR(E113="",F113=""),"",IF(E113+F113>1,"OVER","UNDER")) | K113: =IF(OR(E113="",F113=""),"",IF(E113+F113>2,"OVER","UNDER")) | L113: =IF(OR(E113="",F113=""),"",IF(E113+F113>3,"OVER","UNDER")) | M113: =IF(OR(E113="",F113=""),"",E113+F113) | N113: =IF(OR(E113="",F113=""),"",IF(E113>0,"SI","NO")) | O113: =IF(OR(E113="",F113=""),"",IF(F113>0,"SI","NO")) | P113: =IF(OR(E113="",F113=""),"",E113-F113) | Q113: =IF(AND(E113="",F113=""),"",CONCATENATE(G113,"+",H113)) | R113: =IF(AND(E113="",F113=""),"",CONCATENATE(G113,"+",K113)) | S113: =IF(AND(rif!E113="",rif!F113=""),0,IF(AND(E113=rif!E113,F113=rif!F113),10,IF(G113=rif!G113,3,0)+IF(H113=rif!H113,0.5,0)+IF(I113=rif!I113,0.5,0)+IF(J113=rif!J113,0.5,0)+IF(K113=rif!K113,0.5,0)+IF(L113=rif!L113,0.5,0)+IF(M113=rif!M113,0.5,0)+IF(N113=rif!N113,0.5,0)+IF(O113=rif!O113,0.5,0)+IF(P113=rif!P113,0.5,0)+IF(Q113=rif!Q113,0.5,0)+IF(R113=rif!R113,0.5,0))) -> 0
A114: 43282.833 | G114: =IF(OR(E114="",F114=""),"",IF(E114>F114,"1",IF(E114<F114,"2","X"))) | H114: =IF(OR(E114="",F114=""),"",IF(AND(E114>0,F114>0),"GOL","NOGOL")) | I114: =IF(OR(E114="",F114=""),"",IF(INT((E114+F114)/2)=(E114+F114)/2,"PARI","DISPARI")) | J114: =IF(OR(E114="",F114=""),"",IF(E114+F114>1,"OVER","UNDER")) | K114: =IF(OR(E114="",F114=""),"",IF(E114+F114>2,"OVER","UNDER")) | L114: =IF(OR(E114="",F114=""),"",IF(E114+F114>3,"OVER","UNDER")) | M114: =IF(OR(E114="",F114=""),"",E114+F114) | N114: =IF(OR(E114="",F114=""),"",IF(E114>0,"SI","NO")) | O114: =IF(OR(E114="",F114=""),"",IF(F114>0,"SI","NO")) | P114: =IF(OR(E114="",F114=""),"",E114-F114) | Q114: =IF(AND(E114="",F114=""),"",CONCATENATE(G114,"+",H114)) | R114: =IF(AND(E114="",F114=""),"",CONCATENATE(G114,"+",K114)) | S114: =IF(AND(rif!E114="",rif!F114=""),0,IF(AND(E114=rif!E114,F114=rif!F114),10,IF(G114=rif!G114,3,0)+IF(H114=rif!H114,0.5,0)+IF(I114=rif!I114,0.5,0)+IF(J114=rif!J114,0.5,0)+IF(K114=rif!K114,0.5,0)+IF(L114=rif!L114,0.5,0)+IF(M114=rif!M114,0.5,0)+IF(N114=rif!N114,0.5,0)+IF(O114=rif!O114,0.5,0)+IF(P114=rif!P114,0.5,0)+IF(Q114=rif!Q114,0.5,0)+IF(R114=rif!R114,0.5,0))) -> 0
A115: 43283.667 | G115: =IF(OR(E115="",F115=""),"",IF(E115>F115,"1",IF(E115<F115,"2","X"))) | H115: =IF(OR(E115="",F115=""),"",IF(AND(E115>0,F115>0),"GOL","NOGOL")) | I115: =IF(OR(E115="",F115=""),"",IF(INT((E115+F115)/2)=(E115+F115)/2,"PARI","DISPARI")) | J115: =IF(OR(E115="",F115=""),"",IF(E115+F115>1,"OVER","UNDER")) | K115: =IF(OR(E115="",F115=""),"",IF(E115+F115>2,"OVER","UNDER")) | L115: =IF(OR(E115="",F115=""),"",IF(E115+F115>3,"OVER","UNDER")) | M115: =IF(OR(E115="",F115=""),"",E115+F115) | N115: =IF(OR(E115="",F115=""),"",IF(E115>0,"SI","NO")) | O115: =IF(OR(E115="",F115=""),"",IF(F115>0,"SI","NO")) | P115: =IF(OR(E115="",F115=""),"",E115-F115) | Q115: =IF(AND(E115="",F115=""),"",CONCATENATE(G115,"+",H115)) | R115: =IF(AND(E115="",F115=""),"",CONCATENATE(G115,"+",K115)) | S115: =IF(AND(rif!E115="",rif!F115=""),0,IF(AND(E115=rif!E115,F115=rif!F115),10,IF(G115=rif!G115,3,0)+IF(H115=rif!H115,0.5,0)+IF(I115=rif!I115,0.5,0)+IF(J115=rif!J115,0.5,0)+IF(K115=rif!K115,0.5,0)+IF(L115=rif!L115,0.5,0)+IF(M115=rif!M115,0.5,0)+IF(N115=rif!N115,0.5,0)+IF(O115=rif!O115,0.5,0)+IF(P115=rif!P115,0.5,0)+IF(Q115=rif!Q115,0.5,0)+IF(R115=rif!R115,0.5,0))) -> 0
A116: 43283.833 | G116: =IF(OR(E116="",F116=""),"",IF(E116>F116,"1",IF(E116<F116,"2","X"))) | H116: =IF(OR(E116="",F116=""),"",IF(AND(E116>0,F116>0),"GOL","NOGOL")) | I116: =IF(OR(E116="",F116=""),"",IF(INT((E116+F116)/2)=(E116+F116)/2,"PARI","DISPARI")) | J116: =IF(OR(E116="",F116=""),"",IF(E116+F116>1,"OVER","UNDER")) | K116: =IF(OR(E116="",F116=""),"",IF(E116+F116>2,"OVER","UNDER")) | L116: =IF(OR(E116="",F116=""),"",IF(E116+F116>3,"OVER","UNDER")) | M116: =IF(OR(E116="",F116=""),"",E116+F116) | N116: =IF(OR(E116="",F116=""),"",IF(E116>0,"SI","NO")) | O116: =IF(OR(E116="",F116=""),"",IF(F116>0,"SI","NO")) | P116: =IF(OR(E116="",F116=""),"",E116-F116) | Q116: =IF(AND(E116="",F116=""),"",CONCATENATE(G116,"+",H116)) | R116: =IF(AND(E116="",F116=""),"",CONCATENATE(G116,"+",K116)) | S116: =IF(AND(rif!E116="",rif!F116=""),0,IF(AND(E116=rif!E116,F116=rif!F116),10,IF(G116=rif!G116,3,0)+IF(H116=rif!H116,0.5,0)+IF(I116=rif!I116,0.5,0)+IF(J116=rif!J116,0.5,0)+IF(K116=rif!K116,0.5,0)+IF(L116=rif!L116,0.5,0)+IF(M116=rif!M116,0.5,0)+IF(N116=rif!N116,0.5,0)+IF(O116=rif!O116,0.5,0)+IF(P116=rif!P116,0.5,0)+IF(Q116=rif!Q116,0.5,0)+IF(R116=rif!R116,0.5,0))) -> 0
A117: 43284.667 | G117: =IF(OR(E117="",F117=""),"",IF(E117>F117,"1",IF(E117<F117,"2","X"))) | H117: =IF(OR(E117="",F117=""),"",IF(AND(E117>0,F117>0),"GOL","NOGOL")) | I117: =IF(OR(E117="",F117=""),"",IF(INT((E117+F117)/2)=(E117+F117)/2,"PARI","DISPARI")) | J117: =IF(OR(E117="",F117=""),"",IF(E117+F117>1,"OVER","UNDER")) | K117: =IF(OR(E117="",F117=""),"",IF(E117+F117>2,"OVER","UNDER")) | L117: =IF(OR(E117="",F117=""),"",IF(E117+F117>3,"OVER","UNDER")) | M117: =IF(OR(E117="",F117=""),"",E117+F117) | N117: =IF(OR(E117="",F117=""),"",IF(E117>0,"SI","NO")) | O117: =IF(OR(E117="",F117=""),"",IF(F117>0,"SI","NO")) | P117: =IF(OR(E117="",F117=""),"",E117-F117) | Q117: =IF(AND(E117="",F117=""),"",CONCATENATE(G117,"+",H117)) | R117: =IF(AND(E117="",F117=""),"",CONCATENATE(G117,"+",K117)) | S117: =IF(AND(rif!E117="",rif!F117=""),0,IF(AND(E117=rif!E117,F117=rif!F117),10,IF(G117=rif!G117,3,0)+IF(H117=rif!H117,0.5,0)+IF(I117=rif!I117,0.5,0)+IF(J117=rif!J117,0.5,0)+IF(K117=rif!K117,0.5,0)+IF(L117=rif!L117,0.5,0)+IF(M117=rif!M117,0.5,0)+IF(N117=rif!N117,0.5,0)+IF(O117=rif!O117,0.5,0)+IF(P117=rif!P117,0.5,0)+IF(Q117=rif!Q117,0.5,0)+IF(R117=rif!R117,0.5,0))) -> 0
A118: 43284.833 | G118: =IF(OR(E118="",F118=""),"",IF(E118>F118,"1",IF(E118<F118,"2","X"))) | H118: =IF(OR(E118="",F118=""),"",IF(AND(E118>0,F118>0),"GOL","NOGOL")) | I118: =IF(OR(E118="",F118=""),"",IF(INT((E118+F118)/2)=(E118+F118)/2,"PARI","DISPARI")) | J118: =IF(OR(E118="",F118=""),"",IF(E118+F118>1,"OVER","UNDER")) | K118: =IF(OR(E118="",F118=""),"",IF(E118+F118>2,"OVER","UNDER")) | L118: =IF(OR(E118="",F118=""),"",IF(E118+F118>3,"OVER","UNDER")) | M118: =IF(OR(E118="",F118=""),"",E118+F118) | N118: =IF(OR(E118="",F118=""),"",IF(E118>0,"SI","NO")) | O118: =IF(OR(E118="",F118=""),"",IF(F118>0,"SI","NO")) | P118: =IF(OR(E118="",F118=""),"",E118-F118) | Q118: =IF(AND(E118="",F118=""),"",CONCATENATE(G118,"+",H118)) | R118: =IF(AND(E118="",F118=""),"",CONCATENATE(G118,"+",K118)) | S118: =IF(AND(rif!E118="",rif!F118=""),0,IF(AND(E118=rif!E118,F118=rif!F118),10,IF(G118=rif!G118,3,0)+IF(H118=rif!H118,0.5,0)+IF(I118=rif!I118,0.5,0)+IF(J118=rif!J118,0.5,0)+IF(K118=rif!K118,0.5,0)+IF(L118=rif!L118,0.5,0)+IF(M118=rif!M118,0.5,0)+IF(N118=rif!N118,0.5,0)+IF(O118=rif!O118,0.5,0)+IF(P118=rif!P118,0.5,0)+IF(Q118=rif!Q118,0.5,0)+IF(R118=rif!R118,0.5,0))) -> 0
R119: TOT: | S119: =SUM(S111:S118) -> 0
A121: QUARTI DI FINALE
A124: 43287.667 | G124: =IF(OR(E124="",F124=""),"",IF(E124>F124,"1",IF(E124<F124,"2","X"))) | H124: =IF(OR(E124="",F124=""),"",IF(AND(E124>0,F124>0),"GOL","NOGOL")) | I124: =IF(OR(E124="",F124=""),"",IF(INT((E124+F124)/2)=(E124+F124)/2,"PARI","DISPARI")) | J124: =IF(OR(E124="",F124=""),"",IF(E124+F124>1,"OVER","UNDER")) | K124: =IF(OR(E124="",F124=""),"",IF(E124+F124>2,"OVER","UNDER")) | L124: =IF(OR(E124="",F124=""),"",IF(E124+F124>3,"OVER","UNDER")) | M124: =IF(OR(E124="",F124=""),"",E124+F124) | N124: =IF(OR(E124="",F124=""),"",IF(E124>0,"SI","NO")) | O124: =IF(OR(E124="",F124=""),"",IF(F124>0,"SI","NO")) | P124: =IF(OR(E124="",F124=""),"",E124-F124) | Q124: =IF(AND(E124="",F124=""),"",CONCATENATE(G124,"+",H124)) | R124: =IF(AND(E124="",F124=""),"",CONCATENATE(G124,"+",K124)) | S124: =IF(AND(rif!E124="",rif!F124=""),0,IF(AND(E124=rif!E124,F124=rif!F124),10,IF(G124=rif!G124,3,0)+IF(H124=rif!H124,0.5,0)+IF(I124=rif!I124,0.5,0)+IF(J124=rif!J124,0.5,0)+IF(K124=rif!K124,0.5,0)+IF(L124=rif!L124,0.5,0)+IF(M124=rif!M124,0.5,0)+IF(N124=rif!N124,0.5,0)+IF(O124=rif!O124,0.5,0)+IF(P124=rif!P124,0.5,0)+IF(Q124=rif!Q124,0.5,0)+IF(R124=rif!R124,0.5,0))) -> 0
A125: 43287.833 | G125: =IF(OR(E125="",F125=""),"",IF(E125>F125,"1",IF(E125<F125,"2","X"))) | H125: =IF(OR(E125="",F125=""),"",IF(AND(E125>0,F125>0),"GOL","NOGOL")) | I125: =IF(OR(E125="",F125=""),"",IF(INT((E125+F125)/2)=(E125+F125)/2,"PARI","DISPARI")) | J125: =IF(OR(E125="",F125=""),"",IF(E125+F125>1,"OVER","UNDER")) | K125: =IF(OR(E125="",F125=""),"",IF(E125+F125>2,"OVER","UNDER")) | L125: =IF(OR(E125="",F125=""),"",IF(E125+F125>3,"OVER","UNDER")) | M125: =IF(OR(E125="",F125=""),"",E125+F125) | N125: =IF(OR(E125="",F125=""),"",IF(E125>0,"SI","NO")) | O125: =IF(OR(E125="",F125=""),"",IF(F125>0,"SI","NO")) | P125: =IF(OR(E125="",F125=""),"",E125-F125) | Q125: =IF(AND(E125="",F125=""),"",CONCATENATE(G125,"+",H125)) | R125: =IF(AND(E125="",F125=""),"",CONCATENATE(G125,"+",K125)) | S125: =IF(AND(rif!E125="",rif!F125=""),0,IF(AND(E125=rif!E125,F125=rif!F125),10,IF(G125=rif!G125,3,0)+IF(H125=rif!H125,0.5,0)+IF(I125=rif!I125,0.5,0)+IF(J125=rif!J125,0.5,0)+IF(K125=rif!K125,0.5,0)+IF(L125=rif!L125,0.5,0)+IF(M125=rif!M125,0.5,0)+IF(N125=rif!N125,0.5,0)+IF(O125=rif!O125,0.5,0)+IF(P125=rif!P125,0.5,0)+IF(Q125=rif!Q125,0.5,0)+IF(R125=rif!R125,0.5,0))) -> 0
A126: 43288.667 | G126: =IF(OR(E126="",F126=""),"",IF(E126>F126,"1",IF(E126<F126,"2","X"))) | H126: =IF(OR(E126="",F126=""),"",IF(AND(E126>0,F126>0),"GOL","NOGOL")) | I126: =IF(OR(E126="",F126=""),"",IF(INT((E126+F126)/2)=(E126+F126)/2,"PARI","DISPARI")) | J126: =IF(OR(E126="",F126=""),"",IF(E126+F126>1,"OVER","UNDER")) | K126: =IF(OR(E126="",F126=""),"",IF(E126+F126>2,"OVER","UNDER")) | L126: =IF(OR(E126="",F126=""),"",IF(E126+F126>3,"OVER","UNDER")) | M126: =IF(OR(E126="",F126=""),"",E126+F126) | N126: =IF(OR(E126="",F126=""),"",IF(E126>0,"SI","NO")) | O126: =IF(OR(E126="",F126=""),"",IF(F126>0,"SI","NO")) | P126: =IF(OR(E126="",F126=""),"",E126-F126) | Q126: =IF(AND(E126="",F126=""),"",CONCATENATE(G126,"+",H126)) | R126: =IF(AND(E126="",F126=""),"",CONCATENATE(G126,"+",K126)) | S126: =IF(AND(rif!E126="",rif!F126=""),0,IF(AND(E126=rif!E126,F126=rif!F126),10,IF(G126=rif!G126,3,0)+IF(H126=rif!H126,0.5,0)+IF(I126=rif!I126,0.5,0)+IF(J126=rif!J126,0.5,0)+IF(K126=rif!K126,0.5,0)+IF(L126=rif!L126,0.5,0)+IF(M126=rif!M126,0.5,0)+IF(N126=rif!N126,0.5,0)+IF(O126=rif!O126,0.5,0)+IF(P126=rif!P126,0.5,0)+IF(Q126=rif!Q126,0.5,0)+IF(R126=rif!R126,0.5,0))) -> 0
A127: 43288.833 | G127: =IF(OR(E127="",F127=""),"",IF(E127>F127,"1",IF(E127<F127,"2","X"))) | H127: =IF(OR(E127="",F127=""),"",IF(AND(E127>0,F127>0),"GOL","NOGOL")) | I127: =IF(OR(E127="",F127=""),"",IF(INT((E127+F127)/2)=(E127+F127)/2,"PARI","DISPARI")) | J127: =IF(OR(E127="",F127=""),"",IF(E127+F127>1,"OVER","UNDER")) | K127: =IF(OR(E127="",F127=""),"",IF(E127+F127>2,"OVER","UNDER")) | L127: =IF(OR(E127="",F127=""),"",IF(E127+F127>3,"OVER","UNDER")) | M127: =IF(OR(E127="",F127=""),"",E127+F127) | N127: =IF(OR(E127="",F127=""),"",IF(E127>0,"SI","NO")) | O127: =IF(OR(E127="",F127=""),"",IF(F127>0,"SI","NO")) | P127: =IF(OR(E127="",F127=""),"",E127-F127) | Q127: =IF(AND(E127="",F127=""),"",CONCATENATE(G127,"+",H127)) | R127: =IF(AND(E127="",F127=""),"",CONCATENATE(G127,"+",K127)) | S127: =IF(AND(rif!E127="",rif!F127=""),0,IF(AND(E127=rif!E127,F127=rif!F127),10,IF(G127=rif!G127,3,0)+IF(H127=rif!H127,0.5,0)+IF(I127=rif!I127,0.5,0)+IF(J127=rif!J127,0.5,0)+IF(K127=rif!K127,0.5,0)+IF(L127=rif!L127,0.5,0)+IF(M127=rif!M127,0.5,0)+IF(N127=rif!N127,0.5,0)+IF(O127=rif!O127,0.5,0)+IF(P127=rif!P127,0.5,0)+IF(Q127=rif!Q127,0.5,0)+IF(R127=rif!R127,0.5,0))) -> 0
R128: TOT: | S128: =SUM(S124:S127) -> 0
...
