Workbook

Sheet Riassunto
A1: SERIE A | M1: 1 giro giu
A2: BISCOTTISTRIMBUSCHISTANI | E2: Crediti Rimasti | F2: ='Serie A'!E31 -> 522 | G2: Rimanente | H2: 3 | M2: 2 giro giu
G3: P-D-C-A | M3: 3 giro giu
M4: 1 giro set
A5: INTERFOGAT | E5: Crediti Rimasti | F5: ='Serie A'!L31 -> 504 | G5: Rimanente | H5: 3 | M5: 2 giro set
G6: P-D-C-A
A8: MOJITO | E8: Crediti Rimasti | F8: ='Serie A'!S31 -> 502 | G8: Rimanente | H8: 3
G9: P-D-C-A
A11: TETTE BISCOTTATE | E11: Crediti Rimasti | F11: ='Serie A'!Z31 -> 512 | G11: Rimanente | H11: 3
G12: P-D-C-A
A14: MC TOWN | E14: Crediti Rimasti | F14: ='Serie A'!AG31 -> 513 | G14: Rimanente | H14: 3
G15: P-D-C-A
A17: SJ PARDUS | E17: Crediti Rimasti | F17: ='Serie A'!AN31 -> 501 | G17: Rimanente | H17: 3
G18: P-D-C-A
A20: CYRANO | E20: Crediti Rimasti | F20: ='Serie A'!AU31 -> 505 | G20: Rimanente | H20: 3
G21: P-D-C-A
A23: NEDVED11 | E23: Crediti Rimasti | F23: ='Serie A'!BB31 -> 507 | G23: Rimanente | H23: 3
G24: P-D-C-A
A26: EVRIBADI | E26: Crediti Rimasti | F26: ='Serie A'!BI31 -> 510 | G26: Rimanente | H26: 3
G27: P-D-C-A
A29: SOLOPISA | E29: Crediti Rimasti | F29: ='Serie A'!BP31 -> 511 | G29: Rimanente | H29: 3
G30: P-D-C-A
A33: SERIE B
A34: APPLAUSO | E34: Crediti Rimasti | F34: ='Serie B'!E31 -> 511 | G34: Rimanente | H34: 3
G35: P-D-C-A
A37: BAYER PAPPIANA | E37: Crediti Rimasti | F37: ='Serie B'!L31 -> 509 | G37: Rimanente | H37: 3
G38: P-D-C-A
A40: AS TRONZI | E40: Crediti Rimasti | F40: ='Serie B'!S31 -> 513 | G40: Rimanente | H40: 3
G41: P-D-C-A
A43: FLYBEARD | E43: Crediti Rimasti | F43: ='Serie B'!Z31 -> 506 | G43: Rimanente | H43: 3
G44: P-D-C-A
A46: IBRADIPOSI | E46: Crediti Rimasti | F46: ='Serie B'!AG31 -> 516 | G46: Rimanente | H46: 3
G47: P-D-C-A
A49: MARCELLONA | E49: Crediti Rimasti | F49: ='Serie B'!AN31 -> 509 | G49: Rimanente | H49: 3
G50: P-D-C-A
A52: AC DENTI | E52: Crediti Rimasti | F52: ='Serie B'!AU31 -> 501 | G52: Rimanente | H52: 3
G53: P-D-C-A
A55: LUCENSE | E55: Crediti Rimasti | F55: ='Serie B'!BB31 -> 526 | G55: Rimanente | H55: 3
G56: P-D-C-A
A58: MA BRAVISSIMI | E58: Crediti Rimasti | F58: ='Serie B'!BI31 -> 503 | G58: Rimanente | H58: 3
...

Sheet Serie A
A1: BISCOTTISTRIMBUSCHISTANI | F1: 2555 | H1: INTERFOGAT | M1: 2559 | O1: MOJITO | T1: 2560.5 | V1: TETTEBISCOTTATE | AA1: 2578 | AC1: MCTOWN | AH1: 2584.5 | AJ1: SJ PARDUS | AO1: 2585.5 | AQ1: CYRANO | AV1: 2587.5 | AX1: NEDVED11 | BC1: 2610.5 | BE1: EVRIBADI | BJ1: 2655.5 | BL1: SOLOPISA | BQ1: 2695
A2: Ruolo | B2: Calciatore | C2: Squadra | D2: Costo | E2: Giugno | F2: Settembre | H2: Ruolo | I2: Calciatore | J2: Squadra | K2: Costo | L2: Giugno | M2: Settembre | O2: Ruolo | P2: Calciatore | Q2: Squadra | R2: Costo | S2: Giugno | T2: Settembre | V2: Ruolo | W2: Calciatore | X2: Squadra | Y2: Costo | Z2: Giugno | AA2: Settembre | AC2: Ruolo | AD2: Calciatore | AE2: Squadra | AF2: Costo | AG2: Giugno | AH2: Settembre | AJ2: Ruolo | AK2: Calciatore | AL2: Squadra | AM2: Costo | AN2: Giugno | AO2: Settembre | AQ2: Ruolo | AR2: Calciatore | AS2: Squadra | AT2: Costo | AU2: Giugno | AV2: Settembre | AX2: Ruolo | AY2: Calciatore | AZ2: Squadra | BA2: Costo | BB2: Giugno | BC2: Settembre | BE2: Ruolo | BF2: Calciatore | BG2: Squadra | BH2: Costo | BI2: Giugno | BJ2: Settembre | BL2: Ruolo | BM2: Calciatore | BN2: Squadra | BO2: Costo | BP2: Giugno | BQ2: Settembre
A3: P | B3: STRAKOSHA | C3: LAZ | D3: 25 | E3: =IF(A3="P",IF(D3<7,"SI","NO"),IF(A3="D",IF(D3<11,"SI","NO"),IF(A3="C",IF(D3<21,"SI","NO"),IF(A3="A",IF(D3<41,"SI","NO"))))) -> NO | F3: =IF(A3="P",IF(D3<4,"SI","NO"),IF(A3="D",IF(D3<6,"SI","NO"),IF(A3="C",IF(D3<11,"SI","NO"),IF(A3="A",IF(D3<21,"SI","NO"))))) -> NO | H3: P | I3: BUFFON | J3: JUV | K3: 51 | L3: =IF(H3="P",IF(K3<7,"SI","NO"),IF(H3="D",IF(K3<11,"SI","NO"),IF(H3="C",IF(K3<21,"SI","NO"),IF(H3="A",IF(K3<41,"SI","NO"))))) -> NO | M3: =IF(H3="P",IF(K3<4,"SI","NO"),IF(H3="D",IF(K3<6,"SI","NO"),IF(H3="C",IF(K3<11,"SI","NO"),IF(H3="A",IF(K3<21,"SI","NO"))))) -> NO | O3: P | P3: DONNARUMMA G | Q3: MIL | R3: 7 | S3: =IF(O3="P",IF(R3<7,"SI","NO"),IF(O3="D",IF(R3<11,"SI","NO"),IF(O3="C",IF(R3<21,"SI","NO"),IF(O3="A",IF(R3<41,"SI","NO"))))) -> NO | T3: =IF(O3="P",IF(R3<4,"SI","NO"),IF(O3="D",IF(R3<6,"SI","NO"),IF(O3="C",IF(R3<11,"SI","NO"),IF(O3="A",IF(R3<21,"SI","NO"))))) -> NO | V3: P | W3: REINA | X3: NAP | Y3: 41 | Z3: =IF(V3="P",IF(Y3<7,"SI","NO"),IF(V3="D",IF(Y3<11,"SI","NO"),IF(V3="C",IF(Y3<21,"SI","NO"),IF(V3="A",IF(Y3<41,"SI","NO"))))) -> NO | AA3: =IF(V3="P",IF(Y3<4,"SI","NO"),IF(V3="D",IF(Y3<6,"SI","NO"),IF(V3="C",IF(Y3<11,"SI","NO"),IF(V3="A",IF(Y3<21,"SI","NO"))))) -> NO | AC3: P | AD3: SIRIGU | AE3: TOR | AF3: 17 | AG3: =IF(AC3="P",IF(AF3<7,"SI","NO"),IF(AC3="D",IF(AF3<11,"SI","NO"),IF(AC3="C",IF(AF3<21,"SI","NO"),IF(AC3="A",IF(AF3<41,"SI","NO"))))) -> NO | AH3: =IF(AC3="P",IF(AF3<4,"SI","NO"),IF(AC3="D",IF(AF3<6,"SI","NO"),IF(AC3="C",IF(AF3<11,"SI","NO"),IF(AC3="A",IF(AF3<21,"SI","NO"))))) -> NO | AJ3: P | AK3: HANDANOVIC | AL3: INT | AM3: 50 | AN3: =IF(AJ3="P",IF(AM3<7,"SI","NO"),IF(AJ3="D",IF(AM3<11,"SI","NO"),IF(AJ3="C",IF(AM3<21,"SI","NO"),IF(AJ3="A",IF(AM3<41,"SI","NO"))))) -> NO | AO3: =IF(AJ3="P",IF(AM3<4,"SI","NO"),IF(AJ3="D",IF(AM3<6,"SI","NO"),IF(AJ3="C",IF(AM3<11,"SI","NO"),IF(AJ3="A",IF(AM3<21,"SI","NO"))))) -> NO | AQ3: P | AR3: CONSIGLI | AS3: SAS | AT3: 7 | AU3: =IF(AQ3="P",IF(AT3<7,"SI","NO"),IF(AQ3="D",IF(AT3<11,"SI","NO"),IF(AQ3="C",IF(AT3<21,"SI","NO"),IF(AQ3="A",IF(AT3<41,"SI","NO"))))) -> NO | AV3: =IF(AQ3="P",IF(AT3<4,"SI","NO"),IF(AQ3="D",IF(AT3<6,"SI","NO"),IF(AQ3="C",IF(AT3<11,"SI","NO"),IF(AQ3="A",IF(AT3<21,"SI","NO"))))) -> NO | AX3: P | AY3: BUFFON | AZ3: JUV | BA3: 53 | BB3: =IF(AX3="P",IF(BA3<7,"SI","NO"),IF(AX3="D",IF(BA3<11,"SI","NO"),IF(AX3="C",IF(BA3<21,"SI","NO"),IF(AX3="A",IF(BA3<41,"SI","NO"))))) -> NO | BC3: =IF(AX3="P",IF(BA3<4,"SI","NO"),IF(AX3="D",IF(BA3<6,"SI","NO"),IF(AX3="C",IF(BA3<11,"SI","NO"),IF(AX3="A",IF(BA3<21,"SI","NO"))))) -> NO | BE3: P | BF3: ALISSON | BG3: ROM | BH3: 1 | BI3: =IF(BE3="P",IF(BH3<7,"SI","NO"),IF(BE3="D",IF(BH3<11,"SI","NO"),IF(BE3="C",IF(BH3<21,"SI","NO"),IF(BE3="A",IF(BH3<41,"SI","NO"))))) -> SI | BJ3: =IF(BE3="P",IF(BH3<4,"SI","NO"),IF(BE3="D",IF(BH3<6,"SI","NO"),IF(BE3="C",IF(BH3<11,"SI","NO"),IF(BE3="A",IF(BH3<21,"SI","NO"))))) -> SI | BL3: P | BM3: SIRIGU | BN3: TOR | BO3: 23 | BP3: =IF(BL3="P",IF(BO3<7,"SI","NO"),IF(BL3="D",IF(BO3<11,"SI","NO"),IF(BL3="C",IF(BO3<21,"SI","NO"),IF(BL3="A",IF(BO3<41,"SI","NO"))))) -> NO | BQ3: =IF(BL3="P",IF(BO3<4,"SI","NO"),IF(BL3="D",IF(BO3<6,"SI","NO"),IF(BL3="C",IF(BO3<11,"SI","NO"),IF(BL3="A",IF(BO3<21,"SI","NO"))))) -> NO
A4: P | B4: VARGIC | C4: LAZ | D4: 1 | E4: =IF(A4="P",IF(D4<7,"SI","NO"),IF(A4="D",IF(D4<11,"SI","NO"),IF(A4="C",IF(D4<21,"SI","NO"),IF(A4="A",IF(D4<41,"SI","NO"))))) -> SI | F4: =IF(A4="P",IF(D4<4,"SI","NO"),IF(A4="D",IF(D4<6,"SI","NO"),IF(A4="C",IF(D4<11,"SI","NO"),IF(A4="A",IF(D4<21,"SI","NO"))))) -> SI | H4: P | I4: MERET | J4: SPA | K4: 1 | L4: =IF(H4="P",IF(K4<7,"SI","NO"),IF(H4="D",IF(K4<11,"SI","NO"),IF(H4="C",IF(K4<21,"SI","NO"),IF(H4="A",IF(K4<41,"SI","NO"))))) -> SI | M4: =IF(H4="P",IF(K4<4,"SI","NO"),IF(H4="D",IF(K4<6,"SI","NO"),IF(H4="C",IF(K4<11,"SI","NO"),IF(H4="A",IF(K4<21,"SI","NO"))))) -> SI | O4: P | P4: SPORTIELLO | Q4: FIO | R4: 10 | S4: =IF(O4="P",IF(R4<7,"SI","NO"),IF(O4="D",IF(R4<11,"SI","NO"),IF(O4="C",IF(R4<21,"SI","NO"),IF(O4="A",IF(R4<41,"SI","NO"))))) -> NO | T4: =IF(O4="P",IF(R4<4,"SI","NO"),IF(O4="D",IF(R4<6,"SI","NO"),IF(O4="C",IF(R4<11,"SI","NO"),IF(O4="A",IF(R4<21,"SI","NO"))))) -> NO | V4: P | W4: SEPE | X4: NAP | Y4: 1 | Z4: =IF(V4="P",IF(Y4<7,"SI","NO"),IF(V4="D",IF(Y4<11,"SI","NO"),IF(V4="C",IF(Y4<21,"SI","NO"),IF(V4="A",IF(Y4<41,"SI","NO"))))) -> SI | AA4: =IF(V4="P",IF(Y4<4,"SI","NO"),IF(V4="D",IF(Y4<6,"SI","NO"),IF(V4="C",IF(Y4<11,"SI","NO"),IF(V4="A",IF(Y4<21,"SI","NO"))))) -> SI | AC4: P | AD4: SORRENTINO | AE4: CHI | AF4: 10 | AG4: =IF(AC4="P",IF(AF4<7,"SI","NO"),IF(AC4="D",IF(AF4<11,"SI","NO"),IF(AC4="C",IF(AF4<21,"SI","NO"),IF(AC4="A",IF(AF4<41,"SI","NO"))))) -> NO | AH4: =IF(AC4="P",IF(AF4<4,"SI","NO"),IF(AC4="D",IF(AF4<6,"SI","NO"),IF(AC4="C",IF(AF4<11,"SI","NO"),IF(AC4="A",IF(AF4<21,"SI","NO"))))) -> NO | AJ4: P | AK4: BERNI | AL4: INT | AM4: 1 | AN4: =IF(AJ4="P",IF(AM4<7,"SI","NO"),IF(AJ4="D",IF(AM4<11,"SI","NO"),IF(AJ4="C",IF(AM4<21,"SI","NO"),IF(AJ4="A",IF(AM4<41,"SI","NO"))))) -> SI | AO4: =IF(AJ4="P",IF(AM4<4,"SI","NO"),IF(AJ4="D",IF(AM4<6,"SI","NO"),IF(AJ4="C",IF(AM4<11,"SI","NO"),IF(AJ4="A",IF(AM4<21,"SI","NO"))))) -> SI | AQ4: P | AR4: VIVIANO | AS4: SAM | AT4: 19 | AU4: =IF(AQ4="P",IF(AT4<7,"SI","NO"),IF(AQ4="D",IF(AT4<11,"SI","NO"),IF(AQ4="C",IF(AT4<21,"SI","NO"),IF(AQ4="A",IF(AT4<41,"SI","NO"))))) -> NO | AV4: =IF(AQ4="P",IF(AT4<4,"SI","NO"),IF(AQ4="D",IF(AT4<6,"SI","NO"),IF(AQ4="C",IF(AT4<11,"SI","NO"),IF(AQ4="A",IF(AT4<21,"SI","NO"))))) -> NO | AX4: P | AY4: SZCZESNY | AZ4: JUV | BA4: 7 | BB4: =IF(AX4="P",IF(BA4<7,"SI","NO"),IF(AX4="D",IF(BA4<11,"SI","NO"),IF(AX4="C",IF(BA4<21,"SI","NO"),IF(AX4="A",IF(BA4<41,"SI","NO"))))) -> NO | BC4: =IF(AX4="P",IF(BA4<4,"SI","NO"),IF(AX4="D",IF(BA4<6,"SI","NO"),IF(AX4="C",IF(BA4<11,"SI","NO"),IF(AX4="A",IF(BA4<21,"SI","NO"))))) -> NO | BE4: P | BF4: SKORUPSKI | BG4: ROM | BH4: 1 | BI4: =IF(BE4="P",IF(BH4<7,"SI","NO"),IF(BE4="D",IF(BH4<11,"SI","NO"),IF(BE4="C",IF(BH4<21,"SI","NO"),IF(BE4="A",IF(BH4<41,"SI","NO"))))) -> SI | BJ4: =IF(BE4="P",IF(BH4<4,"SI","NO"),IF(BE4="D",IF(BH4<6,"SI","NO"),IF(BE4="C",IF(BH4<11,"SI","NO"),IF(BE4="A",IF(BH4<21,"SI","NO"))))) -> SI | BL4: P | BM4: CONSIGLI | BN4: SAS | BO4: 11 | BP4: =IF(BL4="P",IF(BO4<7,"SI","NO"),IF(BL4="D",IF(BO4<11,"SI","NO"),IF(BL4="C",IF(BO4<21,"SI","NO"),IF(BL4="A",IF(BO4<41,"SI","NO"))))) -> NO | BQ4: =IF(BL4="P",IF(BO4<4,"SI","NO"),IF(BL4="D",IF(BO4<6,"SI","NO"),IF(BL4="C",IF(BO4<11,"SI","NO"),IF(BL4="A",IF(BO4<21,"SI","NO"))))) -> NO
A5: P | B5: GUERRIERI | C5: LAZ | D5: 1 | E5: =IF(A5="P",IF(D5<7,"SI","NO"),IF(A5="D",IF(D5<11,"SI","NO"),IF(A5="C",IF(D5<21,"SI","NO"),IF(A5="A",IF(D5<41,"SI","NO"))))) -> SI | F5: =IF(A5="P",IF(D5<4,"SI","NO"),IF(A5="D",IF(D5<6,"SI","NO"),IF(A5="C",IF(D5<11,"SI","NO"),IF(A5="A",IF(D5<21,"SI","NO"))))) -> SI | H5: P | I5: SZCZESNY | J5: JUV | K5: 7 | L5: =IF(H5="P",IF(K5<7,"SI","NO"),IF(H5="D",IF(K5<11,"SI","NO"),IF(H5="C",IF(K5<21,"SI","NO"),IF(H5="A",IF(K5<41,"SI","NO"))))) -> NO | M5: =IF(H5="P",IF(K5<4,"SI","NO"),IF(H5="D",IF(K5<6,"SI","NO"),IF(H5="C",IF(K5<11,"SI","NO"),IF(H5="A",IF(K5<21,"SI","NO"))))) -> NO | O5: P | P5: MERET | Q5: SPA | R5: 1 | S5: =IF(O5="P",IF(R5<7,"SI","NO"),IF(O5="D",IF(R5<11,"SI","NO"),IF(O5="C",IF(R5<21,"SI","NO"),IF(O5="A",IF(R5<41,"SI","NO"))))) -> SI | T5: =IF(O5="P",IF(R5<4,"SI","NO"),IF(O5="D",IF(R5<6,"SI","NO"),IF(O5="C",IF(R5<11,"SI","NO"),IF(O5="A",IF(R5<21,"SI","NO"))))) -> SI | V5: P | W5: RAFAEL CABRAL | X5: NAP | Y5: 1 | Z5: =IF(V5="P",IF(Y5<7,"SI","NO"),IF(V5="D",IF(Y5<11,"SI","NO"),IF(V5="C",IF(Y5<21,"SI","NO"),IF(V5="A",IF(Y5<41,"SI","NO"))))) -> SI | AA5: =IF(V5="P",IF(Y5<4,"SI","NO"),IF(V5="D",IF(Y5<6,"SI","NO"),IF(V5="C",IF(Y5<11,"SI","NO"),IF(V5="A",IF(Y5<21,"SI","NO"))))) -> SI | AC5: P | AD5: CORDAZ | AE5: CRO | AF5: 1 | AG5: =IF(AC5="P",IF(AF5<7,"SI","NO"),IF(AC5="D",IF(AF5<11,"SI","NO"),IF(AC5="C",IF(AF5<21,"SI","NO"),IF(AC5="A",IF(AF5<41,"SI","NO"))))) -> SI | AH5: =IF(AC5="P",IF(AF5<4,"SI","NO"),IF(AC5="D",IF(AF5<6,"SI","NO"),IF(AC5="C",IF(AF5<11,"SI","NO"),IF(AC5="A",IF(AF5<21,"SI","NO"))))) -> SI | AJ5: P | AK5: PADELLI | AL5: INT | AM5: 1 | AN5: =IF(AJ5="P",IF(AM5<7,"SI","NO"),IF(AJ5="D",IF(AM5<11,"SI","NO"),IF(AJ5="C",IF(AM5<21,"SI","NO"),IF(AJ5="A",IF(AM5<41,"SI","NO"))))) -> SI | AO5: =IF(AJ5="P",IF(AM5<4,"SI","NO"),IF(AJ5="D",IF(AM5<6,"SI","NO"),IF(AJ5="C",IF(AM5<11,"SI","NO"),IF(AJ5="A",IF(AM5<21,"SI","NO"))))) -> SI | AQ5: P | AR5: MIRANTE | AS5: BOL | AT5: 2 | AU5: =IF(AQ5="P",IF(AT5<7,"SI","NO"),IF(AQ5="D",IF(AT5<11,"SI","NO"),IF(AQ5="C",IF(AT5<21,"SI","NO"),IF(AQ5="A",IF(AT5<41,"SI","NO"))))) -> SI | AV5: =IF(AQ5="P",IF(AT5<4,"SI","NO"),IF(AQ5="D",IF(AT5<6,"SI","NO"),IF(AQ5="C",IF(AT5<11,"SI","NO"),IF(AQ5="A",IF(AT5<21,"SI","NO"))))) -> SI | AX5: P | AY5: PINSOGLIO | AZ5: JUV | BA5: 1 | BB5: =IF(AX5="P",IF(BA5<7,"SI","NO"),IF(AX5="D",IF(BA5<11,"SI","NO"),IF(AX5="C",IF(BA5<21,"SI","NO"),IF(AX5="A",IF(BA5<41,"SI","NO"))))) -> SI | BC5: =IF(AX5="P",IF(BA5<4,"SI","NO"),IF(AX5="D",IF(BA5<6,"SI","NO"),IF(AX5="C",IF(BA5<11,"SI","NO"),IF(AX5="A",IF(BA5<21,"SI","NO"))))) -> SI | BE5: P | BF5: LOBONT | BG5: ROM | BH5: 1 | BI5: =IF(BE5="P",IF(BH5<7,"SI","NO"),IF(BE5="D",IF(BH5<11,"SI","NO"),IF(BE5="C",IF(BH5<21,"SI","NO"),IF(BE5="A",IF(BH5<41,"SI","NO"))))) -> SI | BJ5: =IF(BE5="P",IF(BH5<4,"SI","NO"),IF(BE5="D",IF(BH5<6,"SI","NO"),IF(BE5="C",IF(BH5<11,"SI","NO"),IF(BE5="A",IF(BH5<21,"SI","NO"))))) -> SI | BL5: P | BM5: PEGOLO | BN5: SAS | BO5: 1 | BP5: =IF(BL5="P",IF(BO5<7,"SI","NO"),IF(BL5="D",IF(BO5<11,"SI","NO"),IF(BL5="C",IF(BO5<21,"SI","NO"),IF(BL5="A",IF(BO5<41,"SI","NO"))))) -> SI | BQ5: =IF(BL5="P",IF(BO5<4,"SI","NO"),IF(BL5="D",IF(BO5<6,"SI","NO"),IF(BL5="C",IF(BO5<11,"SI","NO"),IF(BL5="A",IF(BO5<21,"SI","NO"))))) -> SI
A6: D | B6: DE VRIJ | C6: LAZ | D6: 18 | E6: =IF(A6="P",IF(D6<7,"SI","NO"),IF(A6="D",IF(D6<11,"SI","NO"),IF(A6="C",IF(D6<21,"SI","NO"),IF(A6="A",IF(D6<41,"SI","NO"))))) -> NO | F6: =IF(A6="P",IF(D6<4,"SI","NO"),IF(A6="D",IF(D6<6,"SI","NO"),IF(A6="C",IF(D6<11,"SI","NO"),IF(A6="A",IF(D6<21,"SI","NO"))))) -> NO | H6: D | I6: ROMULO | J6: VER | K6: 9 | L6: =IF(H6="P",IF(K6<7,"SI","NO"),IF(H6="D",IF(K6<11,"SI","NO"),IF(H6="C",IF(K6<21,"SI","NO"),IF(H6="A",IF(K6<41,"SI","NO"))))) -> SI | M6: =IF(H6="P",IF(K6<4,"SI","NO"),IF(H6="D",IF(K6<6,"SI","NO"),IF(H6="C",IF(K6<11,"SI","NO"),IF(H6="A",IF(K6<21,"SI","NO"))))) -> NO | O6: D | P6: KOLAROV | Q6: ROM | R6: 20 | S6: =IF(O6="P",IF(R6<7,"SI","NO"),IF(O6="D",IF(R6<11,"SI","NO"),IF(O6="C",IF(R6<21,"SI","NO"),IF(O6="A",IF(R6<41,"SI","NO"))))) -> NO | T6: =IF(O6="P",IF(R6<4,"SI","NO"),IF(O6="D",IF(R6<6,"SI","NO"),IF(O6="C",IF(R6<11,"SI","NO"),IF(O6="A",IF(R6<21,"SI","NO"))))) -> NO | V6: D | W6: MASIELLO A | X6: ATA | Y6: 8 | Z6: =IF(V6="P",IF(Y6<7,"SI","NO"),IF(V6="D",IF(Y6<11,"SI","NO"),IF(V6="C",IF(Y6<21,"SI","NO"),IF(V6="A",IF(Y6<41,"SI","NO"))))) -> SI | AA6: =IF(V6="P",IF(Y6<4,"SI","NO"),IF(V6="D",IF(Y6<6,"SI","NO"),IF(V6="C",IF(Y6<11,"SI","NO"),IF(V6="A",IF(Y6<21,"SI","NO"))))) -> NO | AC6: D | AD6: CECCHERINI | AE6: CRO | AF6: 1 | AG6: =IF(AC6="P",IF(AF6<7,"SI","NO"),IF(AC6="D",IF(AF6<11,"SI","NO"),IF(AC6="C",IF(AF6<21,"SI","NO"),IF(AC6="A",IF(AF6<41,"SI","NO"))))) -> SI | AH6: =IF(AC6="P",IF(AF6<4,"SI","NO"),IF(AC6="D",IF(AF6<6,"SI","NO"),IF(AC6="C",IF(AF6<11,"SI","NO"),IF(AC6="A",IF(AF6<21,"SI","NO"))))) -> SI | AJ6: D | AK6: KOLAROV | AL6: ROM | AM6: 29 | AN6: =IF(AJ6="P",IF(AM6<7,"SI","NO"),IF(AJ6="D",IF(AM6<11,"SI","NO"),IF(AJ6="C",IF(AM6<21,"SI","NO"),IF(AJ6="A",IF(AM6<41,"SI","NO"))))) -> NO | AO6: =IF(AJ6="P",IF(AM6<4,"SI","NO"),IF(AJ6="D",IF(AM6<6,"SI","NO"),IF(AJ6="C",IF(AM6<11,"SI","NO"),IF(AJ6="A",IF(AM6<21,"SI","NO"))))) -> NO | AQ6: D | AR6: DE SILVESTRI | AS6: TOR | AT6: 6 | AU6: =IF(AQ6="P",IF(AT6<7,"SI","NO"),IF(AQ6="D",IF(AT6<11,"SI","NO"),IF(AQ6="C",IF(AT6<21,"SI","NO"),IF(AQ6="A",IF(AT6<41,"SI","NO"))))) -> SI | AV6: =IF(AQ6="P",IF(AT6<4,"SI","NO"),IF(AQ6="D",IF(AT6<6,"SI","NO"),IF(AQ6="C",IF(AT6<11,"SI","NO"),IF(AQ6="A",IF(AT6<21,"SI","NO"))))) -> NO | AX6: D | AY6: ROMULO | AZ6: VER | BA6: 10 | BB6: =IF(AX6="P",IF(BA6<7,"SI","NO"),IF(AX6="D",IF(BA6<11,"SI","NO"),IF(AX6="C",IF(BA6<21,"SI","NO"),IF(AX6="A",IF(BA6<41,"SI","NO"))))) -> SI | BC6: =IF(AX6="P",IF(BA6<4,"SI","NO"),IF(AX6="D",IF(BA6<6,"SI","NO"),IF(AX6="C",IF(BA6<11,"SI","NO"),IF(AX6="A",IF(BA6<21,"SI","NO"))))) -> NO | BE6: D | BF6: ALBIOL | BG6: NAP | BH6: 8 | BI6: =IF(BE6="P",IF(BH6<7,"SI","NO"),IF(BE6="D",IF(BH6<11,"SI","NO"),IF(BE6="C",IF(BH6<21,"SI","NO"),IF(BE6="A",IF(BH6<41,"SI","NO"))))) -> SI | BJ6: =IF(BE6="P",IF(BH6<4,"SI","NO"),IF(BE6="D",IF(BH6<6,"SI","NO"),IF(BE6="C",IF(BH6<11,"SI","NO"),IF(BE6="A",IF(BH6<21,"SI","NO"))))) -> NO | BL6: D | BM6: KOULIBALY | BN6: NAP | BO6: 18 | BP6: =IF(BL6="P",IF(BO6<7,"SI","NO"),IF(BL6="D",IF(BO6<11,"SI","NO"),IF(BL6="C",IF(BO6<21,"SI","NO"),IF(BL6="A",IF(BO6<41,"SI","NO"))))) -> NO | BQ6: =IF(BL6="P",IF(BO6<4,"SI","NO"),IF(BL6="D",IF(BO6<6,"SI","NO"),IF(BL6="C",IF(BO6<11,"SI","NO"),IF(BL6="A",IF(BO6<21,"SI","NO"))))) -> NO
A7: D | B7: MANOLAS | C7: ROM | D7: 16 | E7: =IF(A7="P",IF(D7<7,"SI","NO"),IF(A7="D",IF(D7<11,"SI","NO"),IF(A7="C",IF(D7<21,"SI","NO"),IF(A7="A",IF(D7<41,"SI","NO"))))) -> NO | F7: =IF(A7="P",IF(D7<4,"SI","NO"),IF(A7="D",IF(D7<6,"SI","NO"),IF(A7="C",IF(D7<11,"SI","NO"),IF(A7="A",IF(D7<21,"SI","NO"))))) -> NO | H7: D | I7: CANCELO | J7: INT | K7: 7 | L7: =IF(H7="P",IF(K7<7,"SI","NO"),IF(H7="D",IF(K7<11,"SI","NO"),IF(H7="C",IF(K7<21,"SI","NO"),IF(H7="A",IF(K7<41,"SI","NO"))))) -> SI | M7: =IF(H7="P",IF(K7<4,"SI","NO"),IF(H7="D",IF(K7<6,"SI","NO"),IF(H7="C",IF(K7<11,"SI","NO"),IF(H7="A",IF(K7<21,"SI","NO"))))) -> NO | O7: D | P7: ALEX SANDRO | Q7: JUV | R7: 25 | S7: =IF(O7="P",IF(R7<7,"SI","NO"),IF(O7="D",IF(R7<11,"SI","NO"),IF(O7="C",IF(R7<21,"SI","NO"),IF(O7="A",IF(R7<41,"SI","NO"))))) -> NO | T7: =IF(O7="P",IF(R7<4,"SI","NO"),IF(O7="D",IF(R7<6,"SI","NO"),IF(O7="C",IF(R7<11,"SI","NO"),IF(O7="A",IF(R7<21,"SI","NO"))))) -> NO | V7: D | W7: SKRINIAR | X7: INT | Y7: 1 | Z7: =IF(V7="P",IF(Y7<7,"SI","NO"),IF(V7="D",IF(Y7<11,"SI","NO"),IF(V7="C",IF(Y7<21,"SI","NO"),IF(V7="A",IF(Y7<41,"SI","NO"))))) -> SI | AA7: =IF(V7="P",IF(Y7<4,"SI","NO"),IF(V7="D",IF(Y7<6,"SI","NO"),IF(V7="C",IF(Y7<11,"SI","NO"),IF(V7="A",IF(Y7<21,"SI","NO"))))) -> SI | AC7: D | AD7: TOLOI | AE7: ATA | AF7: 6 | AG7: =IF(AC7="P",IF(AF7<7,"SI","NO"),IF(AC7="D",IF(AF7<11,"SI","NO"),IF(AC7="C",IF(AF7<21,"SI","NO"),IF(AC7="A",IF(AF7<41,"SI","NO"))))) -> SI | AH7: =IF(AC7="P",IF(AF7<4,"SI","NO"),IF(AC7="D",IF(AF7<6,"SI","NO"),IF(AC7="C",IF(AF7<11,"SI","NO"),IF(AC7="A",IF(AF7<21,"SI","NO"))))) -> NO | AJ7: D | AK7: KOULIBALY | AL7: NAP | AM7: 19 | AN7: =IF(AJ7="P",IF(AM7<7,"SI","NO"),IF(AJ7="D",IF(AM7<11,"SI","NO"),IF(AJ7="C",IF(AM7<21,"SI","NO"),IF(AJ7="A",IF(AM7<41,"SI","NO"))))) -> NO | AO7: =IF(AJ7="P",IF(AM7<4,"SI","NO"),IF(AJ7="D",IF(AM7<6,"SI","NO"),IF(AJ7="C",IF(AM7<11,"SI","NO"),IF(AJ7="A",IF(AM7<21,"SI","NO"))))) -> NO | AQ7: D | AR7: FAZIO | AS7: ROM | AT7: 7 | AU7: =IF(AQ7="P",IF(AT7<7,"SI","NO"),IF(AQ7="D",IF(AT7<11,"SI","NO"),IF(AQ7="C",IF(AT7<21,"SI","NO"),IF(AQ7="A",IF(AT7<41,"SI","NO"))))) -> SI | AV7: =IF(AQ7="P",IF(AT7<4,"SI","NO"),IF(AQ7="D",IF(AT7<6,"SI","NO"),IF(AQ7="C",IF(AT7<11,"SI","NO"),IF(AQ7="A",IF(AT7<21,"SI","NO"))))) -> NO | AX7: D | AY7: MARUSIC | AZ7: LAZ | BA7: 26 | BB7: =IF(AX7="P",IF(BA7<7,"SI","NO"),IF(AX7="D",IF(BA7<11,"SI","NO"),IF(AX7="C",IF(BA7<21,"SI","NO"),IF(AX7="A",IF(BA7<41,"SI","NO"))))) -> NO | BC7: =IF(AX7="P",IF(BA7<4,"SI","NO"),IF(AX7="D",IF(BA7<6,"SI","NO"),IF(AX7="C",IF(BA7<11,"SI","NO"),IF(AX7="A",IF(BA7<21,"SI","NO"))))) -> NO | BE7: D | BF7: RUGANI | BG7: JUV | BH7: 10 | BI7: =IF(BE7="P",IF(BH7<7,"SI","NO"),IF(BE7="D",IF(BH7<11,"SI","NO"),IF(BE7="C",IF(BH7<21,"SI","NO"),IF(BE7="A",IF(BH7<41,"SI","NO"))))) -> SI | BJ7: =IF(BE7="P",IF(BH7<4,"SI","NO"),IF(BE7="D",IF(BH7<6,"SI","NO"),IF(BE7="C",IF(BH7<11,"SI","NO"),IF(BE7="A",IF(BH7<21,"SI","NO"))))) -> NO | BL7: D | BM7: MASIELLO A | BN7: ATA | BO7: 6 | BP7: =IF(BL7="P",IF(BO7<7,"SI","NO"),IF(BL7="D",IF(BO7<11,"SI","NO"),IF(BL7="C",IF(BO7<21,"SI","NO"),IF(BL7="A",IF(BO7<41,"SI","NO"))))) -> SI | BQ7: =IF(BL7="P",IF(BO7<4,"SI","NO"),IF(BL7="D",IF(BO7<6,"SI","NO"),IF(BL7="C",IF(BO7<11,"SI","NO"),IF(BL7="A",IF(BO7<21,"SI","NO"))))) -> NO
A8: D | B8: BONUCCI | C8: MIL | D8: 26 | E8: =IF(A8="P",IF(D8<7,"SI","NO"),IF(A8="D",IF(D8<11,"SI","NO"),IF(A8="C",IF(D8<21,"SI","NO"),IF(A8="A",IF(D8<41,"SI","NO"))))) -> NO | F8: =IF(A8="P",IF(D8<4,"SI","NO"),IF(A8="D",IF(D8<6,"SI","NO"),IF(A8="C",IF(D8<11,"SI","NO"),IF(A8="A",IF(D8<21,"SI","NO"))))) -> NO | H8: D | I8: ROMAGNOLI A | J8: MIL | K8: 6 | L8: =IF(H8="P",IF(K8<7,"SI","NO"),IF(H8="D",IF(K8<11,"SI","NO"),IF(H8="C",IF(K8<21,"SI","NO"),IF(H8="A",IF(K8<41,"SI","NO"))))) -> SI | M8: =IF(H8="P",IF(K8<4,"SI","NO"),IF(H8="D",IF(K8<6,"SI","NO"),IF(H8="C",IF(K8<11,"SI","NO"),IF(H8="A",IF(K8<21,"SI","NO"))))) -> NO | O8: D | P8: WIDMER | Q8: UDI | R8: 2 | S8: =IF(O8="P",IF(R8<7,"SI","NO"),IF(O8="D",IF(R8<11,"SI","NO"),IF(O8="C",IF(R8<21,"SI","NO"),IF(O8="A",IF(R8<41,"SI","NO"))))) -> SI | T8: =IF(O8="P",IF(R8<4,"SI","NO"),IF(O8="D",IF(R8<6,"SI","NO"),IF(O8="C",IF(R8<11,"SI","NO"),IF(O8="A",IF(R8<21,"SI","NO"))))) -> SI | V8: D | W8: BENATIA | X8: JUV | Y8: 4 | Z8: =IF(V8="P",IF(Y8<7,"SI","NO"),IF(V8="D",IF(Y8<11,"SI","NO"),IF(V8="C",IF(Y8<21,"SI","NO"),IF(V8="A",IF(Y8<41,"SI","NO"))))) -> SI | AA8: =IF(V8="P",IF(Y8<4,"SI","NO"),IF(V8="D",IF(Y8<6,"SI","NO"),IF(V8="C",IF(Y8<11,"SI","NO"),IF(V8="A",IF(Y8<21,"SI","NO"))))) -> SI | AC8: D | AD8: FELIPE | AE8: SPA | AF8: 1 | AG8: =IF(AC8="P",IF(AF8<7,"SI","NO"),IF(AC8="D",IF(AF8<11,"SI","NO"),IF(AC8="C",IF(AF8<21,"SI","NO"),IF(AC8="A",IF(AF8<41,"SI","NO"))))) -> SI | AH8: =IF(AC8="P",IF(AF8<4,"SI","NO"),IF(AC8="D",IF(AF8<6,"SI","NO"),IF(AC8="C",IF(AF8<11,"SI","NO"),IF(AC8="A",IF(AF8<21,"SI","NO"))))) -> SI | AJ8: D | AK8: ACERBI | AL8: SAS | AM8: 19 | AN8: =IF(AJ8="P",IF(AM8<7,"SI","NO"),IF(AJ8="D",IF(AM8<11,"SI","NO"),IF(AJ8="C",IF(AM8<21,"SI","NO"),IF(AJ8="A",IF(AM8<41,"SI","NO"))))) -> NO | AO8: =IF(AJ8="P",IF(AM8<4,"SI","NO"),IF(AJ8="D",IF(AM8<6,"SI","NO"),IF(AJ8="C",IF(AM8<11,"SI","NO"),IF(AJ8="A",IF(AM8<21,"SI","NO"))))) -> NO | AQ8: D | AR8: MARIO RUI | AS8: NAP | AT8: 1 | AU8: =IF(AQ8="P",IF(AT8<7,"SI","NO"),IF(AQ8="D",IF(AT8<11,"SI","NO"),IF(AQ8="C",IF(AT8<21,"SI","NO"),IF(AQ8="A",IF(AT8<41,"SI","NO"))))) -> SI | AV8: =IF(AQ8="P",IF(AT8<4,"SI","NO"),IF(AQ8="D",IF(AT8<6,"SI","NO"),IF(AQ8="C",IF(AT8<11,"SI","NO"),IF(AQ8="A",IF(AT8<21,"SI","NO"))))) -> SI | AX8: D | AY8: PEZZELLA GER | AZ8: FIO | BA8: 4 | BB8: =IF(AX8="P",IF(BA8<7,"SI","NO"),IF(AX8="D",IF(BA8<11,"SI","NO"),IF(AX8="C",IF(BA8<21,"SI","NO"),IF(AX8="A",IF(BA8<41,"SI","NO"))))) -> SI | BC8: =IF(AX8="P",IF(BA8<4,"SI","NO"),IF(AX8="D",IF(BA8<6,"SI","NO"),IF(AX8="C",IF(BA8<11,"SI","NO"),IF(AX8="A",IF(BA8<21,"SI","NO"))))) -> SI | BE8: D | BF8: PEZZELLA GER | BG8: FIO | BH8: 6 | BI8: =IF(BE8="P",IF(BH8<7,"SI","NO"),IF(BE8="D",IF(BH8<11,"SI","NO"),IF(BE8="C",IF(BH8<21,"SI","NO"),IF(BE8="A",IF(BH8<41,"SI","NO"))))) -> SI | BJ8: =IF(BE8="P",IF(BH8<4,"SI","NO"),IF(BE8="D",IF(BH8<6,"SI","NO"),IF(BE8="C",IF(BH8<11,"SI","NO"),IF(BE8="A",IF(BH8<21,"SI","NO"))))) -> NO | BL8: D | BM8: SKRINIAR | BN8: INT | BO8: 11 | BP8: =IF(BL8="P",IF(BO8<7,"SI","NO"),IF(BL8="D",IF(BO8<11,"SI","NO"),IF(BL8="C",IF(BO8<21,"SI","NO"),IF(BL8="A",IF(BO8<41,"SI","NO"))))) -> NO | BQ8: =IF(BL8="P",IF(BO8<4,"SI","NO"),IF(BL8="D",IF(BO8<6,"SI","NO"),IF(BL8="C",IF(BO8<11,"SI","NO"),IF(BL8="A",IF(BO8<21,"SI","NO"))))) -> NO
A9: D | B9: BURDISSO | C9: TOR | D9: 3 | E9: =IF(A9="P",IF(D9<7,"SI","NO"),IF(A9="D",IF(D9<11,"SI","NO"),IF(A9="C",IF(D9<21,"SI","NO"),IF(A9="A",IF(D9<41,"SI","NO"))))) -> SI | F9: =IF(A9="P",IF(D9<4,"SI","NO"),IF(A9="D",IF(D9<6,"SI","NO"),IF(A9="C",IF(D9<11,"SI","NO"),IF(A9="A",IF(D9<21,"SI","NO"))))) -> SI | H9: D | I9: MARUSIC | J9: LAZ | K9: 38 | L9: =IF(H9="P",IF(K9<7,"SI","NO"),IF(H9="D",IF(K9<11,"SI","NO"),IF(H9="C",IF(K9<21,"SI","NO"),IF(H9="A",IF(K9<41,"SI","NO"))))) -> NO | M9: =IF(H9="P",IF(K9<4,"SI","NO"),IF(H9="D",IF(K9<6,"SI","NO"),IF(H9="C",IF(K9<11,"SI","NO"),IF(H9="A",IF(K9<21,"SI","NO"))))) -> NO | O9: D | P9: MATTIELLO | Q9: SPA | R9: 3 | S9: =IF(O9="P",IF(R9<7,"SI","NO"),IF(O9="D",IF(R9<11,"SI","NO"),IF(O9="C",IF(R9<21,"SI","NO"),IF(O9="A",IF(R9<41,"SI","NO"))))) -> SI | T9: =IF(O9="P",IF(R9<4,"SI","NO"),IF(O9="D",IF(R9<6,"SI","NO"),IF(O9="C",IF(R9<11,"SI","NO"),IF(O9="A",IF(R9<21,"SI","NO"))))) -> SI | V9: D | W9: NUYTINCK | X9: UDI | Y9: 6 | Z9: =IF(V9="P",IF(Y9<7,"SI","NO"),IF(V9="D",IF(Y9<11,"SI","NO"),IF(V9="C",IF(Y9<21,"SI","NO"),IF(V9="A",IF(Y9<41,"SI","NO"))))) -> SI | AA9: =IF(V9="P",IF(Y9<4,"SI","NO"),IF(V9="D",IF(Y9<6,"SI","NO"),IF(V9="C",IF(Y9<11,"SI","NO"),IF(V9="A",IF(Y9<21,"SI","NO"))))) -> NO | AC9: D | AD9: SILVESTRE | AE9: SAM | AF9: 4 | AG9: =IF(AC9="P",IF(AF9<7,"SI","NO"),IF(AC9="D",IF(AF9<11,"SI","NO"),IF(AC9="C",IF(AF9<21,"SI","NO"),IF(AC9="A",IF(AF9<41,"SI","NO"))))) -> SI | AH9: =IF(AC9="P",IF(AF9<4,"SI","NO"),IF(AC9="D",IF(AF9<6,"SI","NO"),IF(AC9="C",IF(AF9<11,"SI","NO"),IF(AC9="A",IF(AF9<21,"SI","NO"))))) -> SI | AJ9: D | AK9: LETIZIA | AL9: BEN | AM9: 1 | AN9: =IF(AJ9="P",IF(AM9<7,"SI","NO"),IF(AJ9="D",IF(AM9<11,"SI","NO"),IF(AJ9="C",IF(AM9<21,"SI","NO"),IF(AJ9="A",IF(AM9<41,"SI","NO"))))) -> SI | AO9: =IF(AJ9="P",IF(AM9<4,"SI","NO"),IF(AJ9="D",IF(AM9<6,"SI","NO"),IF(AJ9="C",IF(AM9<11,"SI","NO"),IF(AJ9="A",IF(AM9<21,"SI","NO"))))) -> SI | AQ9: D | AR9: DANILO | AS9: UDI | AT9: 2 | AU9: =IF(AQ9="P",IF(AT9<7,"SI","NO"),IF(AQ9="D",IF(AT9<11,"SI","NO"),IF(AQ9="C",IF(AT9<21,"SI","NO"),IF(AQ9="A",IF(AT9<41,"SI","NO"))))) -> SI | AV9: =IF(AQ9="P",IF(AT9<4,"SI","NO"),IF(AQ9="D",IF(AT9<6,"SI","NO"),IF(AQ9="C",IF(AT9<11,"SI","NO"),IF(AQ9="A",IF(AT9<21,"SI","NO"))))) -> SI | AX9: D | AY9: CALDARA | AZ9: ATA | BA9: 10 | BB9: =IF(AX9="P",IF(BA9<7,"SI","NO"),IF(AX9="D",IF(BA9<11,"SI","NO"),IF(AX9="C",IF(BA9<21,"SI","NO"),IF(AX9="A",IF(BA9<41,"SI","NO"))))) -> SI | BC9: =IF(AX9="P",IF(BA9<4,"SI","NO"),IF(AX9="D",IF(BA9<6,"SI","NO"),IF(AX9="C",IF(BA9<11,"SI","NO"),IF(AX9="A",IF(BA9<21,"SI","NO"))))) -> NO | BE9: D | BF9: CALDARA | BG9: ATA | BH9: 19 | BI9: =IF(BE9="P",IF(BH9<7,"SI","NO"),IF(BE9="D",IF(BH9<11,"SI","NO"),IF(BE9="C",IF(BH9<21,"SI","NO"),IF(BE9="A",IF(BH9<41,"SI","NO"))))) -> NO | BJ9: =IF(BE9="P",IF(BH9<4,"SI","NO"),IF(BE9="D",IF(BH9<6,"SI","NO"),IF(BE9="C",IF(BH9<11,"SI","NO"),IF(BE9="A",IF(BH9<21,"SI","NO"))))) -> NO | BL9: D | BM9: HATEBOER | BN9: ATA | BO9: 1 | BP9: =IF(BL9="P",IF(BO9<7,"SI","NO"),IF(BL9="D",IF(BO9<11,"SI","NO"),IF(BL9="C",IF(BO9<21,"SI","NO"),IF(BL9="A",IF(BO9<41,"SI","NO"))))) -> SI | BQ9: =IF(BL9="P",IF(BO9<4,"SI","NO"),IF(BL9="D",IF(BO9<6,"SI","NO"),IF(BL9="C",IF(BO9<11,"SI","NO"),IF(BL9="A",IF(BO9<21,"SI","NO"))))) -> SI
A10: D | B10: MASINA | C10: BOL | D10: 5 | E10: =IF(A10="P",IF(D10<7,"SI","NO"),IF(A10="D",IF(D10<11,"SI","NO"),IF(A10="C",IF(D10<21,"SI","NO"),IF(A10="A",IF(D10<41,"SI","NO"))))) -> SI | F10: =IF(A10="P",IF(D10<4,"SI","NO"),IF(A10="D",IF(D10<6,"SI","NO"),IF(A10="C",IF(D10<11,"SI","NO"),IF(A10="A",IF(D10<21,"SI","NO"))))) -> SI | H10: D | I10: HATEBOER | J10: ATA | K10: 4 | L10: =IF(H10="P",IF(K10<7,"SI","NO"),IF(H10="D",IF(K10<11,"SI","NO"),IF(H10="C",IF(K10<21,"SI","NO"),IF(H10="A",IF(K10<41,"SI","NO"))))) -> SI | M10: =IF(H10="P",IF(K10<4,"SI","NO"),IF(H10="D",IF(K10<6,"SI","NO"),IF(H10="C",IF(K10<11,"SI","NO"),IF(H10="A",IF(K10<21,"SI","NO"))))) -> SI | O10: D | P10: FERRARI G | Q10: SAM | R10: 1 | S10: =IF(O10="P",IF(R10<7,"SI","NO"),IF(O10="D",IF(R10<11,"SI","NO"),IF(O10="C",IF(R10<21,"SI","NO"),IF(O10="A",IF(R10<41,"SI","NO"))))) -> SI | T10: =IF(O10="P",IF(R10<4,"SI","NO"),IF(O10="D",IF(R10<6,"SI","NO"),IF(O10="C",IF(R10<11,"SI","NO"),IF(O10="A",IF(R10<21,"SI","NO"))))) -> SI | V10: D | W10: STRYGER LARSEN | X10: UDI | Y10: 1 | Z10: =IF(V10="P",IF(Y10<7,"SI","NO"),IF(V10="D",IF(Y10<11,"SI","NO"),IF(V10="C",IF(Y10<21,"SI","NO"),IF(V10="A",IF(Y10<41,"SI","NO"))))) -> SI | AA10: =IF(V10="P",IF(Y10<4,"SI","NO"),IF(V10="D",IF(Y10<6,"SI","NO"),IF(V10="C",IF(Y10<11,"SI","NO"),IF(V10="A",IF(Y10<21,"SI","NO"))))) -> SI | AC10: D | AD10: CACERES | AE10: LAZ | AF10: 4 | AG10: =IF(AC10="P",IF(AF10<7,"SI","NO"),IF(AC10="D",IF(AF10<11,"SI","NO"),IF(AC10="C",IF(AF10<21,"SI","NO"),IF(AC10="A",IF(AF10<41,"SI","NO"))))) -> SI | AH10: =IF(AC10="P",IF(AF10<4,"SI","NO"),IF(AC10="D",IF(AF10<6,"SI","NO"),IF(AC10="C",IF(AF10<11,"SI","NO"),IF(AC10="A",IF(AF10<21,"SI","NO"))))) -> SI | AJ10: D | AK10: BASTOS | AL10: LAZ | AM10: 1 | AN10: =IF(AJ10="P",IF(AM10<7,"SI","NO"),IF(AJ10="D",IF(AM10<11,"SI","NO"),IF(AJ10="C",IF(AM10<21,"SI","NO"),IF(AJ10="A",IF(AM10<41,"SI","NO"))))) -> SI | AO10: =IF(AJ10="P",IF(AM10<4,"SI","NO"),IF(AJ10="D",IF(AM10<6,"SI","NO"),IF(AJ10="C",IF(AM10<11,"SI","NO"),IF(AJ10="A",IF(AM10<21,"SI","NO"))))) -> SI | AQ10: D | AR10: RADU | AS10: LAZ | AT10: 1 | AU10: =IF(AQ10="P",IF(AT10<7,"SI","NO"),IF(AQ10="D",IF(AT10<11,"SI","NO"),IF(AQ10="C",IF(AT10<21,"SI","NO"),IF(AQ10="A",IF(AT10<41,"SI","NO"))))) -> SI | AV10: =IF(AQ10="P",IF(AT10<4,"SI","NO"),IF(AQ10="D",IF(AT10<6,"SI","NO"),IF(AQ10="C",IF(AT10<11,"SI","NO"),IF(AQ10="A",IF(AT10<21,"SI","NO"))))) -> SI | AX10: D | AY10: BENATIA | AZ10: JUV | BA10: 2 | BB10: =IF(AX10="P",IF(BA10<7,"SI","NO"),IF(AX10="D",IF(BA10<11,"SI","NO"),IF(AX10="C",IF(BA10<21,"SI","NO"),IF(AX10="A",IF(BA10<41,"SI","NO"))))) -> SI | BC10: =IF(AX10="P",IF(BA10<4,"SI","NO"),IF(AX10="D",IF(BA10<6,"SI","NO"),IF(AX10="C",IF(BA10<11,"SI","NO"),IF(AX10="A",IF(BA10<21,"SI","NO"))))) -> SI | BE10: D | BF10: CHIELLINI | BG10: JUV | BH10: 12 | BI10: =IF(BE10="P",IF(BH10<7,"SI","NO"),IF(BE10="D",IF(BH10<11,"SI","NO"),IF(BE10="C",IF(BH10<21,"SI","NO"),IF(BE10="A",IF(BH10<41,"SI","NO"))))) -> NO | BJ10: =IF(BE10="P",IF(BH10<4,"SI","NO"),IF(BE10="D",IF(BH10<6,"SI","NO"),IF(BE10="C",IF(BH10<11,"SI","NO"),IF(BE10="A",IF(BH10<21,"SI","NO"))))) -> NO | BL10: D | BM10: CACCIATORE | BN10: CHI | BO10: 3 | BP10: =IF(BL10="P",IF(BO10<7,"SI","NO"),IF(BL10="D",IF(BO10<11,"SI","NO"),IF(BL10="C",IF(BO10<21,"SI","NO"),IF(BL10="A",IF(BO10<41,"SI","NO"))))) -> SI | BQ10: =IF(BL10="P",IF(BO10<4,"SI","NO"),IF(BL10="D",IF(BO10<6,"SI","NO"),IF(BL10="C",IF(BO10<11,"SI","NO"),IF(BL10="A",IF(BO10<21,"SI","NO"))))) -> SI
A11: D | B11: BRUNO PERES | C11: ROM | D11: 6 | E11: =IF(A11="P",IF(D11<7,"SI","NO"),IF(A11="D",IF(D11<11,"SI","NO"),IF(A11="C",IF(D11<21,"SI","NO"),IF(A11="A",IF(D11<41,"SI","NO"))))) -> SI | F11: =IF(A11="P",IF(D11<4,"SI","NO"),IF(A11="D",IF(D11<6,"SI","NO"),IF(A11="C",IF(D11<11,"SI","NO"),IF(A11="A",IF(D11<21,"SI","NO"))))) -> NO | H11: D | I11: CASTAGNE | J11: ATA | K11: 1 | L11: =IF(H11="P",IF(K11<7,"SI","NO"),IF(H11="D",IF(K11<11,"SI","NO"),IF(H11="C",IF(K11<21,"SI","NO"),IF(H11="A",IF(K11<41,"SI","NO"))))) -> SI | M11: =IF(H11="P",IF(K11<4,"SI","NO"),IF(H11="D",IF(K11<6,"SI","NO"),IF(H11="C",IF(K11<11,"SI","NO"),IF(H11="A",IF(K11<21,"SI","NO"))))) -> SI | O11: D | P11: ASAMOAH | Q11: JUV | R11: 1 | S11: =IF(O11="P",IF(R11<7,"SI","NO"),IF(O11="D",IF(R11<11,"SI","NO"),IF(O11="C",IF(R11<21,"SI","NO"),IF(O11="A",IF(R11<41,"SI","NO"))))) -> SI | T11: =IF(O11="P",IF(R11<4,"SI","NO"),IF(O11="D",IF(R11<6,"SI","NO"),IF(O11="C",IF(R11<11,"SI","NO"),IF(O11="A",IF(R11<21,"SI","NO"))))) -> SI | V11: D | W11: GAMBERINI | X11: CHI | Y11: 1 | Z11: =IF(V11="P",IF(Y11<7,"SI","NO"),IF(V11="D",IF(Y11<11,"SI","NO"),IF(V11="C",IF(Y11<21,"SI","NO"),IF(V11="A",IF(Y11<41,"SI","NO"))))) -> SI | AA11: =IF(V11="P",IF(Y11<4,"SI","NO"),IF(V11="D",IF(Y11<6,"SI","NO"),IF(V11="C",IF(Y11<11,"SI","NO"),IF(V11="A",IF(Y11<21,"SI","NO"))))) -> SI | AC11: D | AD11: LUKAKU J | AE11: LAZ | AF11: 20 | AG11: =IF(AC11="P",IF(AF11<7,"SI","NO"),IF(AC11="D",IF(AF11<11,"SI","NO"),IF(AC11="C",IF(AF11<21,"SI","NO"),IF(AC11="A",IF(AF11<41,"SI","NO"))))) -> NO | AH11: =IF(AC11="P",IF(AF11<4,"SI","NO"),IF(AC11="D",IF(AF11<6,"SI","NO"),IF(AC11="C",IF(AF11<11,"SI","NO"),IF(AC11="A",IF(AF11<21,"SI","NO"))))) -> NO | AJ11: D | AK11: HOWEDES | AL11: JUV | AM11: 10 | AN11: =IF(AJ11="P",IF(AM11<7,"SI","NO"),IF(AJ11="D",IF(AM11<11,"SI","NO"),IF(AJ11="C",IF(AM11<21,"SI","NO"),IF(AJ11="A",IF(AM11<41,"SI","NO"))))) -> SI | AO11: =IF(AJ11="P",IF(AM11<4,"SI","NO"),IF(AJ11="D",IF(AM11<6,"SI","NO"),IF(AJ11="C",IF(AM11<11,"SI","NO"),IF(AJ11="A",IF(AM11<21,"SI","NO"))))) -> NO | AQ11: D | AR11: GHOULAM | AS11: NAP | AT11: 20 | AU11: =IF(AQ11="P",IF(AT11<7,"SI","NO"),IF(AQ11="D",IF(AT11<11,"SI","NO"),IF(AQ11="C",IF(AT11<21,"SI","NO"),IF(AQ11="A",IF(AT11<41,"SI","NO"))))) -> NO | AV11: =IF(AQ11="P",IF(AT11<4,"SI","NO"),IF(AQ11="D",IF(AT11<6,"SI","NO"),IF(AQ11="C",IF(AT11<11,"SI","NO"),IF(AQ11="A",IF(AT11<21,"SI","NO"))))) -> NO | AX11: D | AY11: PALOMINO | AZ11: ATA | BA11: 1 | BB11: =IF(AX11="P",IF(BA11<7,"SI","NO"),IF(AX11="D",IF(BA11<11,"SI","NO"),IF(AX11="C",IF(BA11<21,"SI","NO"),IF(AX11="A",IF(BA11<41,"SI","NO"))))) -> SI | BC11: =IF(AX11="P",IF(BA11<4,"SI","NO"),IF(AX11="D",IF(BA11<6,"SI","NO"),IF(AX11="C",IF(BA11<11,"SI","NO"),IF(AX11="A",IF(BA11<21,"SI","NO"))))) -> SI | BE11: D | BF11: D'AMBROSIO | BG11: INT | BH11: 4 | BI11: =IF(BE11="P",IF(BH11<7,"SI","NO"),IF(BE11="D",IF(BH11<11,"SI","NO"),IF(BE11="C",IF(BH11<21,"SI","NO"),IF(BE11="A",IF(BH11<41,"SI","NO"))))) -> SI | BJ11: =IF(BE11="P",IF(BH11<4,"SI","NO"),IF(BE11="D",IF(BH11<6,"SI","NO"),IF(BE11="C",IF(BH11<11,"SI","NO"),IF(BE11="A",IF(BH11<21,"SI","NO"))))) -> SI | BL11: D | BM11: SPOLLI | BN11: GEN | BO11: 1 | BP11: =IF(BL11="P",IF(BO11<7,"SI","NO"),IF(BL11="D",IF(BO11<11,"SI","NO"),IF(BL11="C",IF(BO11<21,"SI","NO"),IF(BL11="A",IF(BO11<41,"SI","NO"))))) -> SI | BQ11: =IF(BL11="P",IF(BO11<4,"SI","NO"),IF(BL11="D",IF(BO11<6,"SI","NO"),IF(BL11="C",IF(BO11<11,"SI","NO"),IF(BL11="A",IF(BO11<21,"SI","NO"))))) -> SI
A12: D | B12: FERRARI A | C12: VER | D12: 1 | E12: =IF(A12="P",IF(D12<7,"SI","NO"),IF(A12="D",IF(D12<11,"SI","NO"),IF(A12="C",IF(D12<21,"SI","NO"),IF(A12="A",IF(D12<41,"SI","NO"))))) -> SI | F12: =IF(A12="P",IF(D12<4,"SI","NO"),IF(A12="D",IF(D12<6,"SI","NO"),IF(A12="C",IF(D12<11,"SI","NO"),IF(A12="A",IF(D12<21,"SI","NO"))))) -> SI | H12: D | I12: DE SCIGLIO | J12: JUV | K12: 1 | L12: =IF(H12="P",IF(K12<7,"SI","NO"),IF(H12="D",IF(K12<11,"SI","NO"),IF(H12="C",IF(K12<21,"SI","NO"),IF(H12="A",IF(K12<41,"SI","NO"))))) -> SI | M12: =IF(H12="P",IF(K12<4,"SI","NO"),IF(H12="D",IF(K12<6,"SI","NO"),IF(H12="C",IF(K12<11,"SI","NO"),IF(H12="A",IF(K12<21,"SI","NO"))))) -> SI | O12: D | P12: ANDREOLLI | Q12: CAG | R12: 3 | S12: =IF(O12="P",IF(R12<7,"SI","NO"),IF(O12="D",IF(R12<11,"SI","NO"),IF(O12="C",IF(R12<21,"SI","NO"),IF(O12="A",IF(R12<41,"SI","NO"))))) -> SI | T12: =IF(O12="P",IF(R12<4,"SI","NO"),IF(O12="D",IF(R12<6,"SI","NO"),IF(O12="C",IF(R12<11,"SI","NO"),IF(O12="A",IF(R12<21,"SI","NO"))))) -> SI | V12: D | W12: GOLDANIGA | X12: SAS | Y12: 1 | Z12: =IF(V12="P",IF(Y12<7,"SI","NO"),IF(V12="D",IF(Y12<11,"SI","NO"),IF(V12="C",IF(Y12<21,"SI","NO"),IF(V12="A",IF(Y12<41,"SI","NO"))))) -> SI | AA12: =IF(V12="P",IF(Y12<4,"SI","NO"),IF(V12="D",IF(Y12<6,"SI","NO"),IF(V12="C",IF(Y12<11,"SI","NO"),IF(V12="A",IF(Y12<21,"SI","NO"))))) -> SI | AC12: D | AD12: BIRAGHI | AE12: FIO | AF12: 11 | AG12: =IF(AC12="P",IF(AF12<7,"SI","NO"),IF(AC12="D",IF(AF12<11,"SI","NO"),IF(AC12="C",IF(AF12<21,"SI","NO"),IF(AC12="A",IF(AF12<41,"SI","NO"))))) -> NO | AH12: =IF(AC12="P",IF(AF12<4,"SI","NO"),IF(AC12="D",IF(AF12<6,"SI","NO"),IF(AC12="C",IF(AF12<11,"SI","NO"),IF(AC12="A",IF(AF12<21,"SI","NO"))))) -> NO | AJ12: D | AK12: SILVA J | AL12: ROM | AM12: 1 | AN12: =IF(AJ12="P",IF(AM12<7,"SI","NO"),IF(AJ12="D",IF(AM12<11,"SI","NO"),IF(AJ12="C",IF(AM12<21,"SI","NO"),IF(AJ12="A",IF(AM12<41,"SI","NO"))))) -> SI | AO12: =IF(AJ12="P",IF(AM12<4,"SI","NO"),IF(AJ12="D",IF(AM12<6,"SI","NO"),IF(AJ12="C",IF(AM12<11,"SI","NO"),IF(AJ12="A",IF(AM12<21,"SI","NO"))))) -> SI | AQ12: D | AR12: JUAN JESUS | AS12: ROM | AT12: 1 | AU12: =IF(AQ12="P",IF(AT12<7,"SI","NO"),IF(AQ12="D",IF(AT12<11,"SI","NO"),IF(AQ12="C",IF(AT12<21,"SI","NO"),IF(AQ12="A",IF(AT12<41,"SI","NO"))))) -> SI | AV12: =IF(AQ12="P",IF(AT12<4,"SI","NO"),IF(AQ12="D",IF(AT12<6,"SI","NO"),IF(AQ12="C",IF(AT12<11,"SI","NO"),IF(AQ12="A",IF(AT12<21,"SI","NO"))))) -> SI | AX12: D | AY12: BURDISSO | AZ12: TOR | BA12: 1 | BB12: =IF(AX12="P",IF(BA12<7,"SI","NO"),IF(AX12="D",IF(BA12<11,"SI","NO"),IF(AX12="C",IF(BA12<21,"SI","NO"),IF(AX12="A",IF(BA12<41,"SI","NO"))))) -> SI | BC12: =IF(AX12="P",IF(BA12<4,"SI","NO"),IF(AX12="D",IF(BA12<6,"SI","NO"),IF(AX12="C",IF(BA12<11,"SI","NO"),IF(AX12="A",IF(BA12<21,"SI","NO"))))) -> SI | BE12: D | BF12: PALOMINO | BG12: ATA | BH12: 1 | BI12: =IF(BE12="P",IF(BH12<7,"SI","NO"),IF(BE12="D",IF(BH12<11,"SI","NO"),IF(BE12="C",IF(BH12<21,"SI","NO"),IF(BE12="A",IF(BH12<41,"SI","NO"))))) -> SI | BJ12: =IF(BE12="P",IF(BH12<4,"SI","NO"),IF(BE12="D",IF(BH12<6,"SI","NO"),IF(BE12="C",IF(BH12<11,"SI","NO"),IF(BE12="A",IF(BH12<21,"SI","NO"))))) -> SI | BL12: D | BM12: MASINA | BN12: BOL | BO12: 3 | BP12: =IF(BL12="P",IF(BO12<7,"SI","NO"),IF(BL12="D",IF(BO12<11,"SI","NO"),IF(BL12="C",IF(BO12<21,"SI","NO"),IF(BL12="A",IF(BO12<41,"SI","NO"))))) -> SI | BQ12: =IF(BL12="P",IF(BO12<4,"SI","NO"),IF(BL12="D",IF(BO12<6,"SI","NO"),IF(BL12="C",IF(BO12<11,"SI","NO"),IF(BL12="A",IF(BO12<21,"SI","NO"))))) -> SI
A13: D | B13: MUSACCHIO | C13: MIL | D13: 1 | E13: =IF(A13="P",IF(D13<7,"SI","NO"),IF(A13="D",IF(D13<11,"SI","NO"),IF(A13="C",IF(D13<21,"SI","NO"),IF(A13="A",IF(D13<41,"SI","NO"))))) -> SI | F13: =IF(A13="P",IF(D13<4,"SI","NO"),IF(A13="D",IF(D13<6,"SI","NO"),IF(A13="C",IF(D13<11,"SI","NO"),IF(A13="A",IF(D13<21,"SI","NO"))))) -> SI | H13: D | I13: BASTA | J13: LAZ | K13: 5 | L13: =IF(H13="P",IF(K13<7,"SI","NO"),IF(H13="D",IF(K13<11,"SI","NO"),IF(H13="C",IF(K13<21,"SI","NO"),IF(H13="A",IF(K13<41,"SI","NO"))))) -> SI | M13: =IF(H13="P",IF(K13<4,"SI","NO"),IF(H13="D",IF(K13<6,"SI","NO"),IF(H13="C",IF(K13<11,"SI","NO"),IF(H13="A",IF(K13<21,"SI","NO"))))) -> SI | O13: D | P13: CONTI | Q13: MIL | R13: 1 | S13: =IF(O13="P",IF(R13<7,"SI","NO"),IF(O13="D",IF(R13<11,"SI","NO"),IF(O13="C",IF(R13<21,"SI","NO"),IF(O13="A",IF(R13<41,"SI","NO"))))) -> SI | T13: =IF(O13="P",IF(R13<4,"SI","NO"),IF(O13="D",IF(R13<6,"SI","NO"),IF(O13="C",IF(R13<11,"SI","NO"),IF(O13="A",IF(R13<21,"SI","NO"))))) -> SI | AC13: D | AD13: LICHTSTEINER | AE13: JUV | AF13: 10 | AG13: =IF(AC13="P",IF(AF13<7,"SI","NO"),IF(AC13="D",IF(AF13<11,"SI","NO"),IF(AC13="C",IF(AF13<21,"SI","NO"),IF(AC13="A",IF(AF13<41,"SI","NO"))))) -> SI | AH13: =IF(AC13="P",IF(AF13<4,"SI","NO"),IF(AC13="D",IF(AF13<6,"SI","NO"),IF(AC13="C",IF(AF13<11,"SI","NO"),IF(AC13="A",IF(AF13<21,"SI","NO"))))) -> NO | AJ13: D | AK13: WALLACE | AL13: LAZ | AM13: 1 | AN13: =IF(AJ13="P",IF(AM13<7,"SI","NO"),IF(AJ13="D",IF(AM13<11,"SI","NO"),IF(AJ13="C",IF(AM13<21,"SI","NO"),IF(AJ13="A",IF(AM13<41,"SI","NO"))))) -> SI | AO13: =IF(AJ13="P",IF(AM13<4,"SI","NO"),IF(AJ13="D",IF(AM13<6,"SI","NO"),IF(AJ13="C",IF(AM13<11,"SI","NO"),IF(AJ13="A",IF(AM13<21,"SI","NO"))))) -> SI | AQ13: D | AR13: STRINIC | AS13: SAM | AT13: 1 | AU13: =IF(AQ13="P",IF(AT13<7,"SI","NO"),IF(AQ13="D",IF(AT13<11,"SI","NO"),IF(AQ13="C",IF(AT13<21,"SI","NO"),IF(AQ13="A",IF(AT13<41,"SI","NO"))))) -> SI | AV13: =IF(AQ13="P",IF(AT13<4,"SI","NO"),IF(AQ13="D",IF(AT13<6,"SI","NO"),IF(AQ13="C",IF(AT13<11,"SI","NO"),IF(AQ13="A",IF(AT13<21,"SI","NO"))))) -> SI | AX13: D | AY13: DE SCIGLIO | AZ13: JUV | BA13: 17 | BB13: =IF(AX13="P",IF(BA13<7,"SI","NO"),IF(AX13="D",IF(BA13<11,"SI","NO"),IF(AX13="C",IF(BA13<21,"SI","NO"),IF(AX13="A",IF(BA13<41,"SI","NO"))))) -> NO | BC13: =IF(AX13="P",IF(BA13<4,"SI","NO"),IF(AX13="D",IF(BA13<6,"SI","NO"),IF(AX13="C",IF(BA13<11,"SI","NO"),IF(AX13="A",IF(BA13<21,"SI","NO"))))) -> NO | BE13: D | BF13: CACCIATORE | BG13: CHI | BH13: 1 | BI13: =IF(BE13="P",IF(BH13<7,"SI","NO"),IF(BE13="D",IF(BH13<11,"SI","NO"),IF(BE13="C",IF(BH13<21,"SI","NO"),IF(BE13="A",IF(BH13<41,"SI","NO"))))) -> SI | BJ13: =IF(BE13="P",IF(BH13<4,"SI","NO"),IF(BE13="D",IF(BH13<6,"SI","NO"),IF(BE13="C",IF(BH13<11,"SI","NO"),IF(BE13="A",IF(BH13<21,"SI","NO"))))) -> SI | BL13: D | BM13: LICHTSTEINER | BN13: JUV | BO13: 10 | BP13: =IF(BL13="P",IF(BO13<7,"SI","NO"),IF(BL13="D",IF(BO13<11,"SI","NO"),IF(BL13="C",IF(BO13<21,"SI","NO"),IF(BL13="A",IF(BO13<41,"SI","NO"))))) -> SI | BQ13: =IF(BL13="P",IF(BO13<4,"SI","NO"),IF(BL13="D",IF(BO13<6,"SI","NO"),IF(BL13="C",IF(BO13<11,"SI","NO"),IF(BL13="A",IF(BO13<21,"SI","NO"))))) -> NO
A14: C | B14: ILICIC | C14: ATA | D14: 16 | E14: =IF(A14="P",IF(D14<7,"SI","NO"),IF(A14="D",IF(D14<11,"SI","NO"),IF(A14="C",IF(D14<21,"SI","NO"),IF(A14="A",IF(D14<41,"SI","NO"))))) -> SI | F14: =IF(A14="P",IF(D14<4,"SI","NO"),IF(A14="D",IF(D14<6,"SI","NO"),IF(A14="C",IF(D14<11,"SI","NO"),IF(A14="A",IF(D14<21,"SI","NO"))))) -> NO | H14: C | I14: ZIELINSKI | J14: NAP | K14: 16 | L14: =IF(H14="P",IF(K14<7,"SI","NO"),IF(H14="D",IF(K14<11,"SI","NO"),IF(H14="C",IF(K14<21,"SI","NO"),IF(H14="A",IF(K14<41,"SI","NO"))))) -> SI | M14: =IF(H14="P",IF(K14<4,"SI","NO"),IF(H14="D",IF(K14<6,"SI","NO"),IF(H14="C",IF(K14<11,"SI","NO"),IF(H14="A",IF(K14<21,"SI","NO"))))) -> NO | O14: C | P14: NAINGGOLAN | Q14: ROM | R14: 57 | S14: =IF(O14="P",IF(R14<7,"SI","NO"),IF(O14="D",IF(R14<11,"SI","NO"),IF(O14="C",IF(R14<21,"SI","NO"),IF(O14="A",IF(R14<41,"SI","NO"))))) -> NO | T14: =IF(O14="P",IF(R14<4,"SI","NO"),IF(O14="D",IF(R14<6,"SI","NO"),IF(O14="C",IF(R14<11,"SI","NO"),IF(O14="A",IF(R14<21,"SI","NO"))))) -> NO | V14: C | W14: VERETOUT | X14: FIO | Y14: 5 | Z14: =IF(V14="P",IF(Y14<7,"SI","NO"),IF(V14="D",IF(Y14<11,"SI","NO"),IF(V14="C",IF(Y14<21,"SI","NO"),IF(V14="A",IF(Y14<41,"SI","NO"))))) -> SI | AA14: =IF(V14="P",IF(Y14<4,"SI","NO"),IF(V14="D",IF(Y14<6,"SI","NO"),IF(V14="C",IF(Y14<11,"SI","NO"),IF(V14="A",IF(Y14<21,"SI","NO"))))) -> SI | AC14: C | AD14: PERISIC | AE14: INT | AF14: 74 | AG14: =IF(AC14="P",IF(AF14<7,"SI","NO"),IF(AC14="D",IF(AF14<11,"SI","NO"),IF(AC14="C",IF(AF14<21,"SI","NO"),IF(AC14="A",IF(AF14<41,"SI","NO"))))) -> NO | AH14: =IF(AC14="P",IF(AF14<4,"SI","NO"),IF(AC14="D",IF(AF14<6,"SI","NO"),IF(AC14="C",IF(AF14<11,"SI","NO"),IF(AC14="A",IF(AF14<21,"SI","NO"))))) -> NO | AJ14: C | AK14: RAFINHA | AL14: INT | AM14: 50 | AN14: =IF(AJ14="P",IF(AM14<7,"SI","NO"),IF(AJ14="D",IF(AM14<11,"SI","NO"),IF(AJ14="C",IF(AM14<21,"SI","NO"),IF(AJ14="A",IF(AM14<41,"SI","NO"))))) -> NO | AO14: =IF(AJ14="P",IF(AM14<4,"SI","NO"),IF(AJ14="D",IF(AM14<6,"SI","NO"),IF(AJ14="C",IF(AM14<11,"SI","NO"),IF(AJ14="A",IF(AM14<21,"SI","NO"))))) -> NO | AQ14: C | AR14: BONAVENTURA | AS14: MIL | AT14: 1 | AU14: =IF(AQ14="P",IF(AT14<7,"SI","NO"),IF(AQ14="D",IF(AT14<11,"SI","NO"),IF(AQ14="C",IF(AT14<21,"SI","NO"),IF(AQ14="A",IF(AT14<41,"SI","NO"))))) -> SI | AV14: =IF(AQ14="P",IF(AT14<4,"SI","NO"),IF(AQ14="D",IF(AT14<6,"SI","NO"),IF(AQ14="C",IF(AT14<11,"SI","NO"),IF(AQ14="A",IF(AT14<21,"SI","NO"))))) -> SI | AX14: C | AY14: IAGO FALQUE | AZ14: TOR | BA14: 41 | BB14: =IF(AX14="P",IF(BA14<7,"SI","NO"),IF(AX14="D",IF(BA14<11,"SI","NO"),IF(AX14="C",IF(BA14<21,"SI","NO"),IF(AX14="A",IF(BA14<41,"SI","NO"))))) -> NO | BC14: =IF(AX14="P",IF(BA14<4,"SI","NO"),IF(AX14="D",IF(BA14<6,"SI","NO"),IF(AX14="C",IF(BA14<11,"SI","NO"),IF(AX14="A",IF(BA14<21,"SI","NO"))))) -> NO | BE14: C | BF14: HAMSIK | BG14: NAP | BH14: 70 | BI14: =IF(BE14="P",IF(BH14<7,"SI","NO"),IF(BE14="D",IF(BH14<11,"SI","NO"),IF(BE14="C",IF(BH14<21,"SI","NO"),IF(BE14="A",IF(BH14<41,"SI","NO"))))) -> NO | BJ14: =IF(BE14="P",IF(BH14<4,"SI","NO"),IF(BE14="D",IF(BH14<6,"SI","NO"),IF(BE14="C",IF(BH14<11,"SI","NO"),IF(BE14="A",IF(BH14<21,"SI","NO"))))) -> NO | BL14: C | BM14: ILICIC | BN14: ATA | BO14: 9 | BP14: =IF(BL14="P",IF(BO14<7,"SI","NO"),IF(BL14="D",IF(BO14<11,"SI","NO"),IF(BL14="C",IF(BO14<21,"SI","NO"),IF(BL14="A",IF(BO14<41,"SI","NO"))))) -> SI | BQ14: =IF(BL14="P",IF(BO14<4,"SI","NO"),IF(BL14="D",IF(BO14<6,"SI","NO"),IF(BL14="C",IF(BO14<11,"SI","NO"),IF(BL14="A",IF(BO14<21,"SI","NO"))))) -> SI
A15: C | B15: CALHANOGLU | C15: MIL | D15: 54 | E15: =IF(A15="P",IF(D15<7,"SI","NO"),IF(A15="D",IF(D15<11,"SI","NO"),IF(A15="C",IF(D15<21,"SI","NO"),IF(A15="A",IF(D15<41,"SI","NO"))))) -> NO | F15: =IF(A15="P",IF(D15<4,"SI","NO"),IF(A15="D",IF(D15<6,"SI","NO"),IF(A15="C",IF(D15<11,"SI","NO"),IF(A15="A",IF(D15<21,"SI","NO"))))) -> NO | H15: C | I15: ALLAN | J15: NAP | K15: 11 | L15: =IF(H15="P",IF(K15<7,"SI","NO"),IF(H15="D",IF(K15<11,"SI","NO"),IF(H15="C",IF(K15<21,"SI","NO"),IF(H15="A",IF(K15<41,"SI","NO"))))) -> SI | M15: =IF(H15="P",IF(K15<4,"SI","NO"),IF(H15="D",IF(K15<6,"SI","NO"),IF(H15="C",IF(K15<11,"SI","NO"),IF(H15="A",IF(K15<21,"SI","NO"))))) -> NO | O15: C | P15: LUCAS LEIVA | Q15: LAZ | R15: 7 | S15: =IF(O15="P",IF(R15<7,"SI","NO"),IF(O15="D",IF(R15<11,"SI","NO"),IF(O15="C",IF(R15<21,"SI","NO"),IF(O15="A",IF(R15<41,"SI","NO"))))) -> SI | T15: =IF(O15="P",IF(R15<4,"SI","NO"),IF(O15="D",IF(R15<6,"SI","NO"),IF(O15="C",IF(R15<11,"SI","NO"),IF(O15="A",IF(R15<21,"SI","NO"))))) -> SI | V15: C | W15: RAMIREZ | X15: SAM | Y15: 42 | Z15: =IF(V15="P",IF(Y15<7,"SI","NO"),IF(V15="D",IF(Y15<11,"SI","NO"),IF(V15="C",IF(Y15<21,"SI","NO"),IF(V15="A",IF(Y15<41,"SI","NO"))))) -> NO | AA15: =IF(V15="P",IF(Y15<4,"SI","NO"),IF(V15="D",IF(Y15<6,"SI","NO"),IF(V15="C",IF(Y15<11,"SI","NO"),IF(V15="A",IF(Y15<21,"SI","NO"))))) -> NO | AC15: C | AD15: DOUGLAS COSTA | AE15: JUV | AF15: 51 | AG15: =IF(AC15="P",IF(AF15<7,"SI","NO"),IF(AC15="D",IF(AF15<11,"SI","NO"),IF(AC15="C",IF(AF15<21,"SI","NO"),IF(AC15="A",IF(AF15<41,"SI","NO"))))) -> NO | AH15: =IF(AC15="P",IF(AF15<4,"SI","NO"),IF(AC15="D",IF(AF15<6,"SI","NO"),IF(AC15="C",IF(AF15<11,"SI","NO"),IF(AC15="A",IF(AF15<21,"SI","NO"))))) -> NO | AJ15: C | AK15: CANDREVA | AL15: INT | AM15: 40 | AN15: =IF(AJ15="P",IF(AM15<7,"SI","NO"),IF(AJ15="D",IF(AM15<11,"SI","NO"),IF(AJ15="C",IF(AM15<21,"SI","NO"),IF(AJ15="A",IF(AM15<41,"SI","NO"))))) -> NO | AO15: =IF(AJ15="P",IF(AM15<4,"SI","NO"),IF(AJ15="D",IF(AM15<6,"SI","NO"),IF(AJ15="C",IF(AM15<11,"SI","NO"),IF(AJ15="A",IF(AM15<21,"SI","NO"))))) -> NO | AQ15: C | AR15: CRISTANTE | AS15: ATA | AT15: 9 | AU15: =IF(AQ15="P",IF(AT15<7,"SI","NO"),IF(AQ15="D",IF(AT15<11,"SI","NO"),IF(AQ15="C",IF(AT15<21,"SI","NO"),IF(AQ15="A",IF(AT15<41,"SI","NO"))))) -> SI | AV15: =IF(AQ15="P",IF(AT15<4,"SI","NO"),IF(AQ15="D",IF(AT15<6,"SI","NO"),IF(AQ15="C",IF(AT15<11,"SI","NO"),IF(AQ15="A",IF(AT15<21,"SI","NO"))))) -> SI | AX15: C | AY15: CHIESA | AZ15: FIO | BA15: 53 | BB15: =IF(AX15="P",IF(BA15<7,"SI","NO"),IF(AX15="D",IF(BA15<11,"SI","NO"),IF(AX15="C",IF(BA15<21,"SI","NO"),IF(AX15="A",IF(BA15<41,"SI","NO"))))) -> NO | BC15: =IF(AX15="P",IF(BA15<4,"SI","NO"),IF(AX15="D",IF(BA15<6,"SI","NO"),IF(AX15="C",IF(BA15<11,"SI","NO"),IF(AX15="A",IF(BA15<21,"SI","NO"))))) -> NO | BE15: C | BF15: PJANIC | BG15: JUV | BH15: 51 | BI15: =IF(BE15="P",IF(BH15<7,"SI","NO"),IF(BE15="D",IF(BH15<11,"SI","NO"),IF(BE15="C",IF(BH15<21,"SI","NO"),IF(BE15="A",IF(BH15<41,"SI","NO"))))) -> NO | BJ15: =IF(BE15="P",IF(BH15<4,"SI","NO"),IF(BE15="D",IF(BH15<6,"SI","NO"),IF(BE15="C",IF(BH15<11,"SI","NO"),IF(BE15="A",IF(BH15<21,"SI","NO"))))) -> NO | BL15: C | BM15: LJAJIC | BN15: TOR | BO15: 25 | BP15: =IF(BL15="P",IF(BO15<7,"SI","NO"),IF(BL15="D",IF(BO15<11,"SI","NO"),IF(BL15="C",IF(BO15<21,"SI","NO"),IF(BL15="A",IF(BO15<41,"SI","NO"))))) -> NO | BQ15: =IF(BL15="P",IF(BO15<4,"SI","NO"),IF(BL15="D",IF(BO15<6,"SI","NO"),IF(BL15="C",IF(BO15<11,"SI","NO"),IF(BL15="A",IF(BO15<21,"SI","NO"))))) -> NO
A16: C | B16: FELIPE ANDERSON | C16: LAZ | D16: 33 | E16: =IF(A16="P",IF(D16<7,"SI","NO"),IF(A16="D",IF(D16<11,"SI","NO"),IF(A16="C",IF(D16<21,"SI","NO"),IF(A16="A",IF(D16<41,"SI","NO"))))) -> NO | F16: =IF(A16="P",IF(D16<4,"SI","NO"),IF(A16="D",IF(D16<6,"SI","NO"),IF(A16="C",IF(D16<11,"SI","NO"),IF(A16="A",IF(D16<21,"SI","NO"))))) -> NO | H16: C | I16: BERNARDESCHI | J16: JUV | K16: 23 | L16: =IF(H16="P",IF(K16<7,"SI","NO"),IF(H16="D",IF(K16<11,"SI","NO"),IF(H16="C",IF(K16<21,"SI","NO"),IF(H16="A",IF(K16<41,"SI","NO"))))) -> NO | M16: =IF(H16="P",IF(K16<4,"SI","NO"),IF(H16="D",IF(K16<6,"SI","NO"),IF(H16="C",IF(K16<11,"SI","NO"),IF(H16="A",IF(K16<21,"SI","NO"))))) -> NO | O16: C | P16: DZEMAILI | Q16: BOL | R16: 30 | S16: =IF(O16="P",IF(R16<7,"SI","NO"),IF(O16="D",IF(R16<11,"SI","NO"),IF(O16="C",IF(R16<21,"SI","NO"),IF(O16="A",IF(R16<41,"SI","NO"))))) -> NO | T16: =IF(O16="P",IF(R16<4,"SI","NO"),IF(O16="D",IF(R16<6,"SI","NO"),IF(O16="C",IF(R16<11,"SI","NO"),IF(O16="A",IF(R16<21,"SI","NO"))))) -> NO | V16: C | W16: JANKTO | X16: UDI | Y16: 1 | Z16: =IF(V16="P",IF(Y16<7,"SI","NO"),IF(V16="D",IF(Y16<11,"SI","NO"),IF(V16="C",IF(Y16<21,"SI","NO"),IF(V16="A",IF(Y16<41,"SI","NO"))))) -> SI | AA16: =IF(V16="P",IF(Y16<4,"SI","NO"),IF(V16="D",IF(Y16<6,"SI","NO"),IF(V16="C",IF(Y16<11,"SI","NO"),IF(V16="A",IF(Y16<21,"SI","NO"))))) -> SI | AC16: C | AD16: LJAJIC | AE16: TOR | AF16: 61 | AG16: =IF(AC16="P",IF(AF16<7,"SI","NO"),IF(AC16="D",IF(AF16<11,"SI","NO"),IF(AC16="C",IF(AF16<21,"SI","NO"),IF(AC16="A",IF(AF16<41,"SI","NO"))))) -> NO | AH16: =IF(AC16="P",IF(AF16<4,"SI","NO"),IF(AC16="D",IF(AF16<6,"SI","NO"),IF(AC16="C",IF(AF16<11,"SI","NO"),IF(AC16="A",IF(AF16<21,"SI","NO"))))) -> NO | AJ16: C | AK16: DE PAUL | AL16: UDI | AM16: 26 | AN16: =IF(AJ16="P",IF(AM16<7,"SI","NO"),IF(AJ16="D",IF(AM16<11,"SI","NO"),IF(AJ16="C",IF(AM16<21,"SI","NO"),IF(AJ16="A",IF(AM16<41,"SI","NO"))))) -> NO | AO16: =IF(AJ16="P",IF(AM16<4,"SI","NO"),IF(AJ16="D",IF(AM16<6,"SI","NO"),IF(AJ16="C",IF(AM16<11,"SI","NO"),IF(AJ16="A",IF(AM16<21,"SI","NO"))))) -> NO | AQ16: C | AR16: FARAGO | AS16: CAG | AT16: 12 | AU16: =IF(AQ16="P",IF(AT16<7,"SI","NO"),IF(AQ16="D",IF(AT16<11,"SI","NO"),IF(AQ16="C",IF(AT16<21,"SI","NO"),IF(AQ16="A",IF(AT16<41,"SI","NO"))))) -> SI | AV16: =IF(AQ16="P",IF(AT16<4,"SI","NO"),IF(AQ16="D",IF(AT16<6,"SI","NO"),IF(AQ16="C",IF(AT16<11,"SI","NO"),IF(AQ16="A",IF(AT16<21,"SI","NO"))))) -> NO | AX16: C | AY16: KHEDIRA | AZ16: JUV | BA16: 17 | BB16: =IF(AX16="P",IF(BA16<7,"SI","NO"),IF(AX16="D",IF(BA16<11,"SI","NO"),IF(AX16="C",IF(BA16<21,"SI","NO"),IF(AX16="A",IF(BA16<41,"SI","NO"))))) -> SI | BC16: =IF(AX16="P",IF(BA16<4,"SI","NO"),IF(AX16="D",IF(BA16<6,"SI","NO"),IF(AX16="C",IF(BA16<11,"SI","NO"),IF(AX16="A",IF(BA16<21,"SI","NO"))))) -> NO | BE16: C | BF16: LUIS ALBERTO | BG16: LAZ | BH16: 10 | BI16: =IF(BE16="P",IF(BH16<7,"SI","NO"),IF(BE16="D",IF(BH16<11,"SI","NO"),IF(BE16="C",IF(BH16<21,"SI","NO"),IF(BE16="A",IF(BH16<41,"SI","NO"))))) -> SI | BJ16: =IF(BE16="P",IF(BH16<4,"SI","NO"),IF(BE16="D",IF(BH16<6,"SI","NO"),IF(BE16="C",IF(BH16<11,"SI","NO"),IF(BE16="A",IF(BH16<21,"SI","NO"))))) -> SI | BL16: C | BM16: ZIELINSKI | BN16: NAP | BO16: 37 | BP16: =IF(BL16="P",IF(BO16<7,"SI","NO"),IF(BL16="D",IF(BO16<11,"SI","NO"),IF(BL16="C",IF(BO16<21,"SI","NO"),IF(BL16="A",IF(BO16<41,"SI","NO"))))) -> NO | BQ16: =IF(BL16="P",IF(BO16<4,"SI","NO"),IF(BL16="D",IF(BO16<6,"SI","NO"),IF(BL16="C",IF(BO16<11,"SI","NO"),IF(BL16="A",IF(BO16<21,"SI","NO"))))) -> NO
A17: C | B17: LUCAS LEIVA | C17: LAZ | D17: 3 | E17: =IF(A17="P",IF(D17<7,"SI","NO"),IF(A17="D",IF(D17<11,"SI","NO"),IF(A17="C",IF(D17<21,"SI","NO"),IF(A17="A",IF(D17<41,"SI","NO"))))) -> SI | F17: =IF(A17="P",IF(D17<4,"SI","NO"),IF(A17="D",IF(D17<6,"SI","NO"),IF(A17="C",IF(D17<11,"SI","NO"),IF(A17="A",IF(D17<21,"SI","NO"))))) -> SI | H17: C | I17: MATUIDI | J17: JUV | K17: 30 | L17: =IF(H17="P",IF(K17<7,"SI","NO"),IF(H17="D",IF(K17<11,"SI","NO"),IF(H17="C",IF(K17<21,"SI","NO"),IF(H17="A",IF(K17<41,"SI","NO"))))) -> NO | M17: =IF(H17="P",IF(K17<4,"SI","NO"),IF(H17="D",IF(K17<6,"SI","NO"),IF(H17="C",IF(K17<11,"SI","NO"),IF(H17="A",IF(K17<21,"SI","NO"))))) -> NO | O17: C | P17: LAXALT | Q17: GEN | R17: 4 | S17: =IF(O17="P",IF(R17<7,"SI","NO"),IF(O17="D",IF(R17<11,"SI","NO"),IF(O17="C",IF(R17<21,"SI","NO"),IF(O17="A",IF(R17<41,"SI","NO"))))) -> SI | T17: =IF(O17="P",IF(R17<4,"SI","NO"),IF(O17="D",IF(R17<6,"SI","NO"),IF(O17="C",IF(R17<11,"SI","NO"),IF(O17="A",IF(R17<21,"SI","NO"))))) -> SI | V17: C | W17: DZEMAILI | X17: BOL | Y17: 37 | Z17: =IF(V17="P",IF(Y17<7,"SI","NO"),IF(V17="D",IF(Y17<11,"SI","NO"),IF(V17="C",IF(Y17<21,"SI","NO"),IF(V17="A",IF(Y17<41,"SI","NO"))))) -> NO | AA17: =IF(V17="P",IF(Y17<4,"SI","NO"),IF(V17="D",IF(Y17<6,"SI","NO"),IF(V17="C",IF(Y17<11,"SI","NO"),IF(V17="A",IF(Y17<21,"SI","NO"))))) -> NO | AC17: C | AD17: BIRSA | AE17: CHI | AF17: 30 | AG17: =IF(AC17="P",IF(AF17<7,"SI","NO"),IF(AC17="D",IF(AF17<11,"SI","NO"),IF(AC17="C",IF(AF17<21,"SI","NO"),IF(AC17="A",IF(AF17<41,"SI","NO"))))) -> NO | AH17: =IF(AC17="P",IF(AF17<4,"SI","NO"),IF(AC17="D",IF(AF17<6,"SI","NO"),IF(AC17="C",IF(AF17<11,"SI","NO"),IF(AC17="A",IF(AF17<21,"SI","NO"))))) -> NO | AJ17: C | AK17: LULIC | AL17: LAZ | AM17: 15 | AN17: =IF(AJ17="P",IF(AM17<7,"SI","NO"),IF(AJ17="D",IF(AM17<11,"SI","NO"),IF(AJ17="C",IF(AM17<21,"SI","NO"),IF(AJ17="A",IF(AM17<41,"SI","NO"))))) -> SI | AO17: =IF(AJ17="P",IF(AM17<4,"SI","NO"),IF(AJ17="D",IF(AM17<6,"SI","NO"),IF(AJ17="C",IF(AM17<11,"SI","NO"),IF(AJ17="A",IF(AM17<21,"SI","NO"))))) -> NO | AQ17: C | AR17: LAXALT | AS17: GEN | AT17: 16 | AU17: =IF(AQ17="P",IF(AT17<7,"SI","NO"),IF(AQ17="D",IF(AT17<11,"SI","NO"),IF(AQ17="C",IF(AT17<21,"SI","NO"),IF(AQ17="A",IF(AT17<41,"SI","NO"))))) -> SI | AV17: =IF(AQ17="P",IF(AT17<4,"SI","NO"),IF(AQ17="D",IF(AT17<6,"SI","NO"),IF(AQ17="C",IF(AT17<11,"SI","NO"),IF(AQ17="A",IF(AT17<21,"SI","NO"))))) -> NO | AX17: C | AY17: CANDREVA | AZ17: INT | BA17: 40 | BB17: =IF(AX17="P",IF(BA17<7,"SI","NO"),IF(AX17="D",IF(BA17<11,"SI","NO"),IF(AX17="C",IF(BA17<21,"SI","NO"),IF(AX17="A",IF(BA17<41,"SI","NO"))))) -> NO | BC17: =IF(AX17="P",IF(BA17<4,"SI","NO"),IF(AX17="D",IF(BA17<6,"SI","NO"),IF(AX17="C",IF(BA17<11,"SI","NO"),IF(AX17="A",IF(BA17<21,"SI","NO"))))) -> NO | BE17: C | BF17: BARAK | BG17: UDI | BH17: 68 | BI17: =IF(BE17="P",IF(BH17<7,"SI","NO"),IF(BE17="D",IF(BH17<11,"SI","NO"),IF(BE17="C",IF(BH17<21,"SI","NO"),IF(BE17="A",IF(BH17<41,"SI","NO"))))) -> NO | BJ17: =IF(BE17="P",IF(BH17<4,"SI","NO"),IF(BE17="D",IF(BH17<6,"SI","NO"),IF(BE17="C",IF(BH17<11,"SI","NO"),IF(BE17="A",IF(BH17<21,"SI","NO"))))) -> NO | BL17: C | BM17: BERNARDESCHI | BN17: JUV | BO17: 19 | BP17: =IF(BL17="P",IF(BO17<7,"SI","NO"),IF(BL17="D",IF(BO17<11,"SI","NO"),IF(BL17="C",IF(BO17<21,"SI","NO"),IF(BL17="A",IF(BO17<41,"SI","NO"))))) -> SI | BQ17: =IF(BL17="P",IF(BO17<4,"SI","NO"),IF(BL17="D",IF(BO17<6,"SI","NO"),IF(BL17="C",IF(BO17<11,"SI","NO"),IF(BL17="A",IF(BO17<21,"SI","NO"))))) -> NO
A18: C | B18: BENASSI | C18: FIO | D18: 5 | E18: =IF(A18="P",IF(D18<7,"SI","NO"),IF(A18="D",IF(D18<11,"SI","NO"),IF(A18="C",IF(D18<21,"SI","NO"),IF(A18="A",IF(D18<41,"SI","NO"))))) -> SI | F18: =IF(A18="P",IF(D18<4,"SI","NO"),IF(A18="D",IF(D18<6,"SI","NO"),IF(A18="C",IF(D18<11,"SI","NO"),IF(A18="A",IF(D18<21,"SI","NO"))))) -> SI | H18: C | I18: PEROTTI | J18: ROM | K18: 67 | L18: =IF(H18="P",IF(K18<7,"SI","NO"),IF(H18="D",IF(K18<11,"SI","NO"),IF(H18="C",IF(K18<21,"SI","NO"),IF(H18="A",IF(K18<41,"SI","NO"))))) -> NO | M18: =IF(H18="P",IF(K18<4,"SI","NO"),IF(H18="D",IF(K18<6,"SI","NO"),IF(H18="C",IF(K18<11,"SI","NO"),IF(H18="A",IF(K18<21,"SI","NO"))))) -> NO | O18: C | P18: DE ROON | Q18: ATA | R18: 1 | S18: =IF(O18="P",IF(R18<7,"SI","NO"),IF(O18="D",IF(R18<11,"SI","NO"),IF(O18="C",IF(R18<21,"SI","NO"),IF(O18="A",IF(R18<41,"SI","NO"))))) -> SI | T18: =IF(O18="P",IF(R18<4,"SI","NO"),IF(O18="D",IF(R18<6,"SI","NO"),IF(O18="C",IF(R18<11,"SI","NO"),IF(O18="A",IF(R18<21,"SI","NO"))))) -> SI | V18: C | W18: MISSIROLI | X18: SAS | Y18: 1 | Z18: =IF(V18="P",IF(Y18<7,"SI","NO"),IF(V18="D",IF(Y18<11,"SI","NO"),IF(V18="C",IF(Y18<21,"SI","NO"),IF(V18="A",IF(Y18<41,"SI","NO"))))) -> SI | AA18: =IF(V18="P",IF(Y18<4,"SI","NO"),IF(V18="D",IF(Y18<6,"SI","NO"),IF(V18="C",IF(Y18<11,"SI","NO"),IF(V18="A",IF(Y18<21,"SI","NO"))))) -> SI | AC18: C | AD18: LINETTY | AE18: SAM | AF18: 1 | AG18: =IF(AC18="P",IF(AF18<7,"SI","NO"),IF(AC18="D",IF(AF18<11,"SI","NO"),IF(AC18="C",IF(AF18<21,"SI","NO"),IF(AC18="A",IF(AF18<41,"SI","NO"))))) -> SI | AH18: =IF(AC18="P",IF(AF18<4,"SI","NO"),IF(AC18="D",IF(AF18<6,"SI","NO"),IF(AC18="C",IF(AF18<11,"SI","NO"),IF(AC18="A",IF(AF18<21,"SI","NO"))))) -> SI | AJ18: C | AK18: TORREIRA | AL18: SAM | AM18: 1 | AN18: =IF(AJ18="P",IF(AM18<7,"SI","NO"),IF(AJ18="D",IF(AM18<11,"SI","NO"),IF(AJ18="C",IF(AM18<21,"SI","NO"),IF(AJ18="A",IF(AM18<41,"SI","NO"))))) -> SI | AO18: =IF(AJ18="P",IF(AM18<4,"SI","NO"),IF(AJ18="D",IF(AM18<6,"SI","NO"),IF(AJ18="C",IF(AM18<11,"SI","NO"),IF(AJ18="A",IF(AM18<21,"SI","NO"))))) -> SI | AQ18: C | AR18: PELLEGRINI | AS18: ROM | AT18: 4 | AU18: =IF(AQ18="P",IF(AT18<7,"SI","NO"),IF(AQ18="D",IF(AT18<11,"SI","NO"),IF(AQ18="C",IF(AT18<21,"SI","NO"),IF(AQ18="A",IF(AT18<41,"SI","NO"))))) -> SI | AV18: =IF(AQ18="P",IF(AT18<4,"SI","NO"),IF(AQ18="D",IF(AT18<6,"SI","NO"),IF(AQ18="C",IF(AT18<11,"SI","NO"),IF(AQ18="A",IF(AT18<21,"SI","NO"))))) -> SI | AX18: C | AY18: JANKTO | AZ18: UDI | BA18: 17 | BB18: =IF(AX18="P",IF(BA18<7,"SI","NO"),IF(AX18="D",IF(BA18<11,"SI","NO"),IF(AX18="C",IF(BA18<21,"SI","NO"),IF(AX18="A",IF(BA18<41,"SI","NO"))))) -> SI | BC18: =IF(AX18="P",IF(BA18<4,"SI","NO"),IF(AX18="D",IF(BA18<6,"SI","NO"),IF(AX18="C",IF(BA18<11,"SI","NO"),IF(AX18="A",IF(BA18<21,"SI","NO"))))) -> NO | BE18: C | BF18: VECINO | BG18: INT | BH18: 38 | BI18: =IF(BE18="P",IF(BH18<7,"SI","NO"),IF(BE18="D",IF(BH18<11,"SI","NO"),IF(BE18="C",IF(BH18<21,"SI","NO"),IF(BE18="A",IF(BH18<41,"SI","NO"))))) -> NO | BJ18: =IF(BE18="P",IF(BH18<4,"SI","NO"),IF(BE18="D",IF(BH18<6,"SI","NO"),IF(BE18="C",IF(BH18<11,"SI","NO"),IF(BE18="A",IF(BH18<21,"SI","NO"))))) -> NO | BL18: C | BM18: FREULER | BN18: ATA | BO18: 1 | BP18: =IF(BL18="P",IF(BO18<7,"SI","NO"),IF(BL18="D",IF(BO18<11,"SI","NO"),IF(BL18="C",IF(BO18<21,"SI","NO"),IF(BL18="A",IF(BO18<41,"SI","NO"))))) -> SI | BQ18: =IF(BL18="P",IF(BO18<4,"SI","NO"),IF(BL18="D",IF(BO18<6,"SI","NO"),IF(BL18="C",IF(BO18<11,"SI","NO"),IF(BL18="A",IF(BO18<21,"SI","NO"))))) -> SI
