Workbook

Sheet Riassunto
A1: SERIE A | M1: 1 giro giu
A2: BISCOTTISTRIMBUSCHISTANI | E2: Crediti Rimasti | F2: ='Serie A'!E31 -> 522 | G2: Rimanente | H2: 3 | M2: 2 giro giu
G3: P-D-C-A | M3: 3 giro giu
M4: 1 giro set
A5: INTERFOGAT | E5: Crediti Rimasti | F5: ='Serie A'!L31 -> 504 | G5: Rimanente | H5: 3 | M5: 2 giro set
G6: P-D-C-A
A8: MOJITO | E8: Crediti Rimasti | F8: ='Serie A'!S31 -> 502 | G8: Rimanente | H8: 3
G9: P-D-C-A
A11: TETTE BISCOTTATE | E11: Crediti Rimasti | F11: ='Serie A'!Z31 -> 512 | G11: Rimanente | H11: 3
G12: P-D-C-A
A14: MC TOWN | E14: Crediti Rimasti | F14: ='Serie A'!AG31 -> 513 | G14: Rimanente | H14: 3
G15: P-D-C-A
A17: SJ PARDUS | E17: Crediti Rimasti | F17: ='Serie A'!AN31 -> 501 | G17: Rimanente | H17: 3
G18: P-D-C-A
A20: CYRANO | E20: Crediti Rimasti | F20: ='Serie A'!AU31 -> 505 | G20: Rimanente | H20: 3
G21: P-D-C-A
A23: NEDVED11 | E23: Crediti Rimasti | F23: ='Serie A'!BB31 -> 507 | G23: Rimanente | H23: 3
G24: P-D-C-A
A26: EVRIBADI | E26: Crediti Rimasti | F26: ='Serie A'!BI31 -> 510 | G26: Rimanente | H26: 3
G27: P-D-C-A
A29: SOLOPISA | E29: Crediti Rimasti | F29: ='Serie A'!BP31 -> 511 | G29: Rimanente | H29: 3
G30: P-D-C-A
A33: SERIE B
A34: APPLAUSO | E34: Crediti Rimasti | F34: ='Serie B'!E31 -> 511 | G34: Rimanente | H34: 3
G35: P-D-C-A
A37: BAYER PAPPIANA | E37: Crediti Rimasti | F37: ='Serie B'!L31 -> 509 | G37: Rimanente | H37: 3
G38: P-D-C-A
A40: AS TRONZI | E40: Crediti Rimasti | F40: ='Serie B'!S31 -> 513 | G40: Rimanente | H40: 3
G41: P-D-C-A
A43: FLYBEARD | E43: Crediti Rimasti | F43: ='Serie B'!Z31 -> 506 | G43: Rimanente | H43: 3
G44: P-D-C-A
A46: IBRADIPOSI | E46: Crediti Rimasti | F46: ='Serie B'!AG31 -> 516 | G46: Rimanente | H46: 3
G47: P-D-C-A
A49: MARCELLONA | E49: Crediti Rimasti | F49: ='Serie B'!AN31 -> 509 | G49: Rimanente | H49: 3
G50: P-D-C-A
A52: AC DENTI | E52: Crediti Rimasti | F52: ='Serie B'!AU31 -> 501 | G52: Rimanente | H52: 3
G53: P-D-C-A
A55: LUCENSE | E55: Crediti Rimasti | F55: ='Serie B'!BB31 -> 526 | G55: Rimanente | H55: 3
G56: P-D-C-A
A58: MA BRAVISSIMI | E58: Crediti Rimasti | F58: ='Serie B'!BI31 -> 503 | G58: Rimanente | H58: 3
G59: P-D-C-A
A61: TEAM AS TURBO | E61: Crediti Rimasti | F61: ='Serie B'!BP31 -> 530 | G61: Rimanente | H61: 3
G62: P-D-C-A
A66: SERIE C
A67: FELLATIO | E67: Crediti Rimasti | F67: ='Serie C'!E31 -> 513 | G67: Rimanente | H67: 3
G68: P-D-C-A
A70: BADBEES | E70: Crediti Rimasti | F70: ='Serie C'!L31 -> 612 | G70: Rimanente | H70: 3
G71: P-D-C-A
A73: CS RIPOSA | E73: Crediti Rimasti | F73: ='Serie C'!S31 -> 511 | G73: Rimanente | H73: 3
G74: P-D-C-A
A76: SKIACCIAK MOSCA | E76: Crediti Rimasti | F76: ='Serie C'!Z31 -> 501 | G76: Rimanente | H76: 3
G77: P-D-C-A
A79: UNAJUNGLACAZO FC | E79: Crediti Rimasti | F79: ='Serie C'!AG31 -> 520 | G79: Rimanente | H79: 3
G80: P-D-C-A
A82: LONGOBARDA | E82: Crediti Rimasti | F82: ='Serie C'!AN31 -> 509 | G82: Rimanente | H82: 3
G83: P-D-C-A
A85: BRIGATA GURREN | E85: Crediti Rimasti | F85: ='Serie C'!AU31 -> 513 | G85: Rimanente | H85: 3
G86: P-D-C-A
A88: CSKA SCINA | E88: Crediti Rimasti | F88: ='Serie C'!BB31 -> 511 | G88: Rimanente | H88: 3
G89: P-D-C-A
A91: UGF PISA | E91: Crediti Rimasti | F91: ='Serie C'!BI31 -> 528 | G91: Rimanente | H91: 3
G92: P-D-C-A
A94: VIRGY TEAM | E94: Crediti Rimasti | F94: ='Serie C'!BP31 -> 518 | G94: Rimanente | H94: 3
G95: P-D-C-A
A99: SERIE D
A100: DRAKESET | E100: Crediti Rimasti | F100: ='Serie D'!E31 -> 550 | G100: Rimanente | H100: 3
G101: P-D-C-A
A103: BAYERN BIKERS | E103: Crediti Rimasti | F103: ='Serie D'!L31 -> 517 | G103: Rimanente | H103: 3
G104: P-D-C-A
A106: AC NUMB3RS | E106: Crediti Rimasti | F106: ='Serie D'!S31 -> 511 | G106: Rimanente | H106: 3
G107: P-D-C-A
A109: REAL CHUPITO | E109: Crediti Rimasti | F109: ='Serie D'!Z31 -> 503 | G109: Rimanente | H109: 3
G110: P-D-C-A
A112: STURM UND DRANG | E112: Crediti Rimasti | F112: ='Serie D'!AG31 -> 503 | G112: Rimanente | H112: 3
G113: P-D-C-A
A115: SAMBUCA JUNIORS | E115: Crediti Rimasti | F115: ='Serie D'!AN31 -> 514 | G115: Rimanente | H115: 3
G116: P-D-C-A
A118: PAUL FRANK INDUSTRIES | E118: Crediti Rimasti | F118: ='Serie D'!AU31 -> 510 | G118: Rimanente | H118: 3
G119: P-D-C-A
A121: CICCIOBUCCIO | E121: Crediti Rimasti | F121: ='Serie D'!BB31 -> 513 | G121: Rimanente | H121: 3
G122: P-D-C-A
A124: FANTALISBON | E124: Crediti Rimasti | F124: ='Serie D'!BI31 -> 506 | G124: Rimanente | H124: 3
G125: P-D-C-A
A127: REAL PETARE | E127: Crediti Rimasti | F127: ='Serie D'!BP31 -> 507 | G127: Rimanente | H127: 3
G128: P-D-C-A
A132: ECCELLENZA
A133: GUAMESE DOC | E133: Crediti Rimasti | F133: =Eccellenza!E31 -> 501 | G133: Rimanente | H133: 3
G134: P-D-C-A
A136: TRANSPORTER UNITED | E136: Crediti Rimasti | F136: =Eccellenza!L31 -> 501 | G136: Rimanente | H136: 3
G137: P-D-C-A
A139: FC LEAD | E139: Crediti Rimasti | F139: =Eccellenza!S31 -> 514 | G139: Rimanente | H139: 3
G140: P-D-C-A
A142: AGAINST MODERN FOOTBALL | E142: Crediti Rimasti | F142: =Eccellenza!Z31 -> 530 | G142: Rimanente | H142: 3
G143: P-D-C-A
A145: PUSSY WAGON | E145: Crediti Rimasti | F145: =Eccellenza!AG31 -> 524 | G145: Rimanente | H145: 3
G146: P-D-C-A
A148: FC BENE BENE | E148: Crediti Rimasti | F148: =Eccellenza!AN31 -> 504 | G148: Rimanente | H148: 3
G149: P-D-C-A
A151: BOCA CCIUCCO | E151: Crediti Rimasti | F151: =Eccellenza!AU31 -> 515 | G151: Rimanente | H151: 3
G152: P-D-C-A
...

Sheet Serie A
A1: BISCOTTISTRIMBUSCHISTANI | F1: 2555 | H1: INTERFOGAT | M1: 2559 | O1: MOJITO | T1: 2560.5 | V1: TETTEBISCOTTATE | AA1: 2578 | AC1: MCTOWN | AH1: 2584.5 | AJ1: SJ PARDUS | AO1: 2585.5 | AQ1: CYRANO | AV1: 2587.5 | AX1: NEDVED11 | BC1: 2610.5 | BE1: EVRIBADI | BJ1: 2655.5 | BL1: SOLOPISA | BQ1: 2695
A2: Ruolo | B2: Calciatore | C2: Squadra | D2: Costo | E2: Giugno | F2: Settembre | H2: Ruolo | I2: Calciatore | J2: Squadra | K2: Costo | L2: Giugno | M2: Settembre | O2: Ruolo | P2: Calciatore | Q2: Squadra | R2: Costo | S2: Giugno | T2: Settembre | V2: Ruolo | W2: Calciatore | X2: Squadra | Y2: Costo | Z2: Giugno | AA2: Settembre | AC2: Ruolo | AD2: Calciatore | AE2: Squadra | AF2: Costo | AG2: Giugno | AH2: Settembre | AJ2: Ruolo | AK2: Calciatore | AL2: Squadra | AM2: Costo | AN2: Giugno | AO2: Settembre | AQ2: Ruolo | AR2: Calciatore | AS2: Squadra | AT2: Costo | AU2: Giugno | AV2: Settembre | AX2: Ruolo | AY2: Calciatore | AZ2: Squadra | BA2: Costo | BB2: Giugno | BC2: Settembre | BE2: Ruolo | BF2: Calciatore | BG2: Squadra | BH2: Costo | BI2: Giugno | BJ2: Settembre | BL2: Ruolo | BM2: Calciatore | BN2: Squadra | BO2: Costo | BP2: Giugno | BQ2: Settembre
A3: P | B3: STRAKOSHA | C3: LAZ | D3: 25 | E3: =IF(A3="P",IF(D3<7,"SI","NO"),IF(A3="D",IF(D3<11,"SI","NO"),IF(A3="C",IF(D3<21,"SI","NO"),IF(A3="A",IF(D3<41,"SI","NO"))))) -> NO | F3: =IF(A3="P",IF(D3<4,"SI","NO"),IF(A3="D",IF(D3<6,"SI","NO"),IF(A3="C",IF(D3<11,"SI","NO"),IF(A3="A",IF(D3<21,"SI","NO"))))) -> NO | H3: P | I3: BUFFON | J3: JUV | K3: 51 | L3: =IF(H3="P",IF(K3<7,"SI","NO"),IF(H3="D",IF(K3<11,"SI","NO"),IF(H3="C",IF(K3<21,"SI","NO"),IF(H3="A",IF(K3<41,"SI","NO"))))) -> NO | M3: =IF(H3="P",IF(K3<4,"SI","NO"),IF(H3="D",IF(K3<6,"SI","NO"),IF(H3="C",IF(K3<11,"SI","NO"),IF(H3="A",IF(K3<21,"SI","NO"))))) -> NO | O3: P | P3: DONNARUMMA G | Q3: MIL | R3: 7 | S3: =IF(O3="P",IF(R3<7,"SI","NO"),IF(O3="D",IF(R3<11,"SI","NO"),IF(O3="C",IF(R3<21,"SI","NO"),IF(O3="A",IF(R3<41,"SI","NO"))))) -> NO | T3: =IF(O3="P",IF(R3<4,"SI","NO"),IF(O3="D",IF(R3<6,"SI","NO"),IF(O3="C",IF(R3<11,"SI","NO"),IF(O3="A",IF(R3<21,"SI","NO"))))) -> NO | V3: P | W3: REINA | X3: NAP | Y3: 41 | Z3: =IF(V3="P",IF(Y3<7,"SI","NO"),IF(V3="D",IF(Y3<11,"SI","NO"),IF(V3="C",IF(Y3<21,"SI","NO"),IF(V3="A",IF(Y3<41,"SI","NO"))))) -> NO | AA3: =IF(V3="P",IF(Y3<4,"SI","NO"),IF(V3="D",IF(Y3<6,"SI","NO"),IF(V3="C",IF(Y3<11,"SI","NO"),IF(V3="A",IF(Y3<21,"SI","NO"))))) -> NO | AC3: P | AD3: SIRIGU | AE3: TOR | AF3: 17 | AG3: =IF(AC3="P",IF(AF3<7,"SI","NO"),IF(AC3="D",IF(AF3<11,"SI","NO"),IF(AC3="C",IF(AF3<21,"SI","NO"),IF(AC3="A",IF(AF3<41,"SI","NO"))))) -> NO | AH3: =IF(AC3="P",IF(AF3<4,"SI","NO"),IF(AC3="D",IF(AF3<6,"SI","NO"),IF(AC3="C",IF(AF3<11,"SI","NO"),IF(AC3="A",IF(AF3<21,"SI","NO"))))) -> NO | AJ3: P | AK3: HANDANOVIC | AL3: INT | AM3: 50 | AN3: =IF(AJ3="P",IF(AM3<7,"SI","NO"),IF(AJ3="D",IF(AM3<11,"SI","NO"),IF(AJ3="C",IF(AM3<21,"SI","NO"),IF(AJ3="A",IF(AM3<41,"SI","NO"))))) -> NO | AO3: =IF(AJ3="P",IF(AM3<4,"SI","NO"),IF(AJ3="D",IF(AM3<6,"SI","NO"),IF(AJ3="C",IF(AM3<11,"SI","NO"),IF(AJ3="A",IF(AM3<21,"SI","NO"))))) -> NO | AQ3: P | AR3: CONSIGLI | AS3: SAS | AT3: 7 | AU3: =IF(AQ3="P",IF(AT3<7,"SI","NO"),IF(AQ3="D",IF(AT3<11,"SI","NO"),IF(AQ3="C",IF(AT3<21,"SI","NO"),IF(AQ3="A",IF(AT3<41,"SI","NO"))))) -> NO | AV3: =IF(AQ3="P",IF(AT3<4,"SI","NO"),IF(AQ3="D",IF(AT3<6,"SI","NO"),IF(AQ3="C",IF(AT3<11,"SI","NO"),IF(AQ3="A",IF(AT3<21,"SI","NO"))))) -> NO | AX3: P | AY3: BUFFON | AZ3: JUV | BA3: 53 | BB3: =IF(AX3="P",IF(BA3<7,"SI","NO"),IF(AX3="D",IF(BA3<11,"SI","NO"),IF(AX3="C",IF(BA3<21,"SI","NO"),IF(AX3="A",IF(BA3<41,"SI","NO"))))) -> NO | BC3: =IF(AX3="P",IF(BA3<4,"SI","NO"),IF(AX3="D",IF(BA3<6,"SI","NO"),IF(AX3="C",IF(BA3<11,"SI","NO"),IF(AX3="A",IF(BA3<21,"SI","NO"))))) -> NO | BE3: P | BF3: ALISSON | BG3: ROM | BH3: 1 | BI3: =IF(BE3="P",IF(BH3<7,"SI","NO"),IF(BE3="D",IF(BH3<11,"SI","NO"),IF(BE3="C",IF(BH3<21,"SI","NO"),IF(BE3="A",IF(BH3<41,"SI","NO"))))) -> SI | BJ3: =IF(BE3="P",IF(BH3<4,"SI","NO"),IF(BE3="D",IF(BH3<6,"SI","NO"),IF(BE3="C",IF(BH3<11,"SI","NO"),IF(BE3="A",IF(BH3<21,"SI","NO"))))) -> SI | BL3: P | BM3: SIRIGU | BN3: TOR | BO3: 23 | BP3: =IF(BL3="P",IF(BO3<7,"SI","NO"),IF(BL3="D",IF(BO3<11,"SI","NO"),IF(BL3="C",IF(BO3<21,"SI","NO"),IF(BL3="A",IF(BO3<41,"SI","NO"))))) -> NO | BQ3: =IF(BL3="P",IF(BO3<4,"SI","NO"),IF(BL3="D",IF(BO3<6,"SI","NO"),IF(BL3="C",IF(BO3<11,"SI","NO"),IF(BL3="A",IF(BO3<21,"SI","NO"))))) -> NO
A4: P | B4: VARGIC | C4: LAZ | D4: 1 | E4: =IF(A4="P",IF(D4<7,"SI","NO"),IF(A4="D",IF(D4<11,"SI","NO"),IF(A4="C",IF(D4<21,"SI","NO"),IF(A4="A",IF(D4<41,"SI","NO"))))) -> SI | F4: =IF(A4="P",IF(D4<4,"SI","NO"),IF(A4="D",IF(D4<6,"SI","NO"),IF(A4="C",IF(D4<11,"SI","NO"),IF(A4="A",IF(D4<21,"SI","NO"))))) -> SI | H4: P | I4: MERET | J4: SPA | K4: 1 | L4: =IF(H4="P",IF(K4<7,"SI","NO"),IF(H4="D",IF(K4<11,"SI","NO"),IF(H4="C",IF(K4<21,"SI","NO"),IF(H4="A",IF(K4<41,"SI","NO"))))) -> SI | M4: =IF(H4="P",IF(K4<4,"SI","NO"),IF(H4="D",IF(K4<6,"SI","NO"),IF(H4="C",IF(K4<11,"SI","NO"),IF(H4="A",IF(K4<21,"SI","NO"))))) -> SI | O4: P | P4: SPORTIELLO | Q4: FIO | R4: 10 | S4: =IF(O4="P",IF(R4<7,"SI","NO"),IF(O4="D",IF(R4<11,"SI","NO"),IF(O4="C",IF(R4<21,"SI","NO"),IF(O4="A",IF(R4<41,"SI","NO"))))) -> NO | T4: =IF(O4="P",IF(R4<4,"SI","NO"),IF(O4="D",IF(R4<6,"SI","NO"),IF(O4="C",IF(R4<11,"SI","NO"),IF(O4="A",IF(R4<21,"SI","NO"))))) -> NO | V4: P | W4: SEPE | X4: NAP | Y4: 1 | Z4: =IF(V4="P",IF(Y4<7,"SI","NO"),IF(V4="D",IF(Y4<11,"SI","NO"),IF(V4="C",IF(Y4<21,"SI","NO"),IF(V4="A",IF(Y4<41,"SI","NO"))))) -> SI | AA4: =IF(V4="P",IF(Y4<4,"SI","NO"),IF(V4="D",IF(Y4<6,"SI","NO"),IF(V4="C",IF(Y4<11,"SI","NO"),IF(V4="A",IF(Y4<21,"SI","NO"))))) -> SI | AC4: P | AD4: SORRENTINO | AE4: CHI | AF4: 10 | AG4: =IF(AC4="P",IF(AF4<7,"SI","NO"),IF(AC4="D",IF(AF4<11,"SI","NO"),IF(AC4="C",IF(AF4<21,"SI","NO"),IF(AC4="A",IF(AF4<41,"SI","NO"))))) -> NO | AH4: =IF(AC4="P",IF(AF4<4,"SI","NO"),IF(AC4="D",IF(AF4<6,"SI","NO"),IF(AC4="C",IF(AF4<11,"SI","NO"),IF(AC4="A",IF(AF4<21,"SI","NO"))))) -> NO | AJ4: P | AK4: BERNI | AL4: INT | AM4: 1 | AN4: =IF(AJ4="P",IF(AM4<7,"SI","NO"),IF(AJ4="D",IF(AM4<11,"SI","NO"),IF(AJ4="C",IF(AM4<21,"SI","NO"),IF(AJ4="A",IF(AM4<41,"SI","NO"))))) -> SI | AO4: =IF(AJ4="P",IF(AM4<4,"SI","NO"),IF(AJ4="D",IF(AM4<6,"SI","NO"),IF(AJ4="C",IF(AM4<11,"SI","NO"),IF(AJ4="A",IF(AM4<21,"SI","NO"))))) -> SI | AQ4: P | AR4: VIVIANO | AS4: SAM | AT4: 19 | AU4: =IF(AQ4="P",IF(AT4<7,"SI","NO"),IF(AQ4="D",IF(AT4<11,"SI","NO"),IF(AQ4="C",IF(AT4<21,"SI","NO"),IF(AQ4="A",IF(AT4<41,"SI","NO"))))) -> NO | AV4: =IF(AQ4="P",IF(AT4<4,"SI","NO"),IF(AQ4="D",IF(AT4<6,"SI","NO"),IF(AQ4="C",IF(AT4<11,"SI","NO"),IF(AQ4="A",IF(AT4<21,"SI","NO"))))) -> NO | AX4: P | AY4: SZCZESNY | AZ4: JUV | BA4: 7 | BB4: =IF(AX4="P",IF(BA4<7,"SI","NO"),IF(AX4="D",IF(BA4<11,"SI","NO"),IF(AX4="C",IF(BA4<21,"SI","NO"),IF(AX4="A",IF(BA4<41,"SI","NO"))))) -> NO | BC4: =IF(AX4="P",IF(BA4<4,"SI","NO"),IF(AX4="D",IF(BA4<6,"SI","NO"),IF(AX4="C",IF(BA4<11,"SI","NO"),IF(AX4="A",IF(BA4<21,"SI","NO"))))) -> NO | BE4: P | BF4: SKORUPSKI | BG4: ROM | BH4: 1 | BI4: =IF(BE4="P",IF(BH4<7,"SI","NO"),IF(BE4="D",IF(BH4<11,"SI","NO"),IF(BE4="C",IF(BH4<21,"SI","NO"),IF(BE4="A",IF(BH4<41,"SI","NO"))))) -> SI | BJ4: =IF(BE4="P",IF(BH4<4,"SI","NO"),IF(BE4="D",IF(BH4<6,"SI","NO"),IF(BE4="C",IF(BH4<11,"SI","NO"),IF(BE4="A",IF(BH4<21,"SI","NO"))))) -> SI | BL4: P | BM4: CONSIGLI | BN4: SAS | BO4: 11 | BP4: =IF(BL4="P",IF(BO4<7,"SI","NO"),IF(BL4="D",IF(BO4<11,"SI","NO"),IF(BL4="C",IF(BO4<21,"SI","NO"),IF(BL4="A",IF(BO4<41,"SI","NO"))))) -> NO | BQ4: =IF(BL4="P",IF(BO4<4,"SI","NO"),IF(BL4="D",IF(BO4<6,"SI","NO"),IF(BL4="C",IF(BO4<11,"SI","NO"),IF(BL4="A",IF(BO4<21,"SI","NO"))))) -> NO
A5: P | B5: GUERRIERI | C5: LAZ | D5: 1 | E5: =IF(A5="P",IF(D5<7,"SI","NO"),IF(A5="D",IF(D5<11,"SI","NO"),IF(A5="C",IF(D5<21,"SI","NO"),IF(A5="A",IF(D5<41,"SI","NO"))))) -> SI | F5: =IF(A5="P",IF(D5<4,"SI","NO"),IF(A5="D",IF(D5<6,"SI","NO"),IF(A5="C",IF(D5<11,"SI","NO"),IF(A5="A",IF(D5<21,"SI","NO"))))) -> SI | H5: P | I5: SZCZESNY | J5: JUV | K5: 7 | L5: =IF(H5="P",IF(K5<7,"SI","NO"),IF(H5="D",IF(K5<11,"SI","NO"),IF(H5="C",IF(K5<21,"SI","NO"),IF(H5="A",IF(K5<41,"SI","NO"))))) -> NO | M5: =IF(H5="P",IF(K5<4,"SI","NO"),IF(H5="D",IF(K5<6,"SI","NO"),IF(H5="C",IF(K5<11,"SI","NO"),IF(H5="A",IF(K5<21,"SI","NO"))))) -> NO | O5: P | P5: MERET | Q5: SPA | R5: 1 | S5: =IF(O5="P",IF(R5<7,"SI","NO"),IF(O5="D",IF(R5<11,"SI","NO"),IF(O5="C",IF(R5<21,"SI","NO"),IF(O5="A",IF(R5<41,"SI","NO"))))) -> SI | T5: =IF(O5="P",IF(R5<4,"SI","NO"),IF(O5="D",IF(R5<6,"SI","NO"),IF(O5="C",IF(R5<11,"SI","NO"),IF(O5="A",IF(R5<21,"SI","NO"))))) -> SI | V5: P | W5: RAFAEL CABRAL | X5: NAP | Y5: 1 | Z5: =IF(V5="P",IF(Y5<7,"SI","NO"),IF(V5="D",IF(Y5<11,"SI","NO"),IF(V5="C",IF(Y5<21,"SI","NO"),IF(V5="A",IF(Y5<41,"SI","NO"))))) -> SI | AA5: =IF(V5="P",IF(Y5<4,"SI","NO"),IF(V5="D",IF(Y5<6,"SI","NO"),IF(V5="C",IF(Y5<11,"SI","NO"),IF(V5="A",IF(Y5<21,"SI","NO"))))) -> SI | AC5: P | AD5: CORDAZ | AE5: CRO | AF5: 1 | AG5: =IF(AC5="P",IF(AF5<7,"SI","NO"),IF(AC5="D",IF(AF5<11,"SI","NO"),IF(AC5="C",IF(AF5<21,"SI","NO"),IF(AC5="A",IF(AF5<41,"SI","NO"))))) -> SI | AH5: =IF(AC5="P",IF(AF5<4,"SI","NO"),IF(AC5="D",IF(AF5<6,"SI","NO"),IF(AC5="C",IF(AF5<11,"SI","NO"),IF(AC5="A",IF(AF5<21,"SI","NO"))))) -> SI | AJ5: P | AK5: PADELLI | AL5: INT | AM5: 1 | AN5: =IF(AJ5="P",IF(AM5<7,"SI","NO"),IF(AJ5="D",IF(AM5<11,"SI","NO"),IF(AJ5="C",IF(AM5<21,"SI","NO"),IF(AJ5="A",IF(AM5<41,"SI","NO"))))) -> SI | AO5: =IF(AJ5="P",IF(AM5<4,"SI","NO"),IF(AJ5="D",IF(AM5<6,"SI","NO"),IF(AJ5="C",IF(AM5<11,"SI","NO"),IF(AJ5="A",IF(AM5<21,"SI","NO"))))) -> SI | AQ5: P | AR5: MIRANTE | AS5: BOL | AT5: 2 | AU5: =IF(AQ5="P",IF(AT5<7,"SI","NO"),IF(AQ5="D",IF(AT5<11,"SI","NO"),IF(AQ5="C",IF(AT5<21,"SI","NO"),IF(AQ5="A",IF(AT5<41,"SI","NO"))))) -> SI | AV5: =IF(AQ5="P",IF(AT5<4,"SI","NO"),IF(AQ5="D",IF(AT5<6,"SI","NO"),IF(AQ5="C",IF(AT5<11,"SI","NO"),IF(AQ5="A",IF(AT5<21,"SI","NO"))))) -> SI | AX5: P | AY5: PINSOGLIO | AZ5: JUV | BA5: 1 | BB5: =IF(AX5="P",IF(BA5<7,"SI","NO"),IF(AX5="D",IF(BA5<11,"SI","NO"),IF(AX5="C",IF(BA5<21,"SI","NO"),IF(AX5="A",IF(BA5<41,"SI","NO"))))) -> SI | BC5: =IF(AX5="P",IF(BA5<4,"SI","NO"),IF(AX5="D",IF(BA5<6,"SI","NO"),IF(AX5="C",IF(BA5<11,"SI","NO"),IF(AX5="A",IF(BA5<21,"SI","NO"))))) -> SI | BE5: P | BF5: LOBONT | BG5: ROM | BH5: 1 | BI5: =IF(BE5="P",IF(BH5<7,"SI","NO"),IF(BE5="D",IF(BH5<11,"SI","NO"),IF(BE5="C",IF(BH5<21,"SI","NO"),IF(BE5="A",IF(BH5<41,"SI","NO"))))) -> SI | BJ5: =IF(BE5="P",IF(BH5<4,"SI","NO"),IF(BE5="D",IF(BH5<6,"SI","NO"),IF(BE5="C",IF(BH5<11,"SI","NO"),IF(BE5="A",IF(BH5<21,"SI","NO"))))) -> SI | BL5: P | BM5: PEGOLO | BN5: SAS | BO5: 1 | BP5: =IF(BL5="P",IF(BO5<7,"SI","NO"),IF(BL5="D",IF(BO5<11,"SI","NO"),IF(BL5="C",IF(BO5<21,"SI","NO"),IF(BL5="A",IF(BO5<41,"SI","NO"))))) -> SI | BQ5: =IF(BL5="P",IF(BO5<4,"SI","NO"),IF(BL5="D",IF(BO5<6,"SI","NO"),IF(BL5="C",IF(BO5<11,"SI","NO"),IF(BL5="A",IF(BO5<21,"SI","NO"))))) -> SI
A6: D | B6: DE VRIJ | C6: LAZ | D6: 18 | E6: =IF(A6="P",IF(D6<7,"SI","NO"),IF(A6="D",IF(D6<11,"SI","NO"),IF(A6="C",IF(D6<21,"SI","NO"),IF(A6="A",IF(D6<41,"SI","NO"))))) -> NO | F6: =IF(A6="P",IF(D6<4,"SI","NO"),IF(A6="D",IF(D6<6,"SI","NO"),IF(A6="C",IF(D6<11,"SI","NO"),IF(A6="A",IF(D6<21,"SI","NO"))))) -> NO | H6: D | I6: ROMULO | J6: VER | K6: 9 | L6: =IF(H6="P",IF(K6<7,"SI","NO"),IF(H6="D",IF(K6<11,"SI","NO"),IF(H6="C",IF(K6<21,"SI","NO"),IF(H6="A",IF(K6<41,"SI","NO"))))) -> SI | M6: =IF(H6="P",IF(K6<4,"SI","NO"),IF(H6="D",IF(K6<6,"SI","NO"),IF(H6="C",IF(K6<11,"SI","NO"),IF(H6="A",IF(K6<21,"SI","NO"))))) -> NO | O6: D | P6: KOLAROV | Q6: ROM | R6: 20 | S6: =IF(O6="P",IF(R6<7,"SI","NO"),IF(O6="D",IF(R6<11,"SI","NO"),IF(O6="C",IF(R6<21,"SI","NO"),IF(O6="A",IF(R6<41,"SI","NO"))))) -> NO | T6: =IF(O6="P",IF(R6<4,"SI","NO"),IF(O6="D",IF(R6<6,"SI","NO"),IF(O6="C",IF(R6<11,"SI","NO"),IF(O6="A",IF(R6<21,"SI","NO"))))) -> NO | V6: D | W6: MASIELLO A | X6: ATA | Y6: 8 | Z6: =IF(V6="P",IF(Y6<7,"SI","NO"),IF(V6="D",IF(Y6<11,"SI","NO"),IF(V6="C",IF(Y6<21,"SI","NO"),IF(V6="A",IF(Y6<41,"SI","NO"))))) -> SI | AA6: =IF(V6="P",IF(Y6<4,"SI","NO"),IF(V6="D",IF(Y6<6,"SI","NO"),IF(V6="C",IF(Y6<11,"SI","NO"),IF(V6="A",IF(Y6<21,"SI","NO"))))) -> NO | AC6: D | AD6: CECCHERINI | AE6: CRO | AF6: 1 | AG6: =IF(AC6="P",IF(AF6<7,"SI","NO"),IF(AC6="D",IF(AF6<11,"SI","NO"),IF(AC6="C",IF(AF6<21,"SI","NO"),IF(AC6="A",IF(AF6<41,"SI","NO"))))) -> SI | AH6: =IF(AC6="P",IF(AF6<4,"SI","NO"),IF(AC6="D",IF(AF6<6,"SI","NO"),IF(AC6="C",IF(AF6<11,"SI","NO"),IF(AC6="A",IF(AF6<21,"SI","NO"))))) -> SI | AJ6: D | AK6: KOLAROV | AL6: ROM | AM6: 29 | AN6: =IF(AJ6="P",IF(AM6<7,"SI","NO"),IF(AJ6="D",IF(AM6<11,"SI","NO"),IF(AJ6="C",IF(AM6<21,"SI","NO"),IF(AJ6="A",IF(AM6<41,"SI","NO"))))) -> NO | AO6: =IF(AJ6="P",IF(AM6<4,"SI","NO"),IF(AJ6="D",IF(AM6<6,"SI","NO"),IF(AJ6="C",IF(AM6<11,"SI","NO"),IF(AJ6="A",IF(AM6<21,"SI","NO"))))) -> NO | AQ6: D | AR6: DE SILVESTRI | AS6: TOR | AT6: 6 | AU6: =IF(AQ6="P",IF(AT6<7,"SI","NO"),IF(AQ6="D",IF(AT6<11,"SI","NO"),IF(AQ6="C",IF(AT6<21,"SI","NO"),IF(AQ6="A",IF(AT6<41,"SI","NO"))))) -> SI | AV6: =IF(AQ6="P",IF(AT6<4,"SI","NO"),IF(AQ6="D",IF(AT6<6,"SI","NO"),IF(AQ6="C",IF(AT6<11,"SI","NO"),IF(AQ6="A",IF(AT6<21,"SI","NO"))))) -> NO | AX6: D | AY6: ROMULO | AZ6: VER | BA6: 10 | BB6: =IF(AX6="P",IF(BA6<7,"SI","NO"),IF(AX6="D",IF(BA6<11,"SI","NO"),IF(AX6="C",IF(BA6<21,"SI","NO"),IF(AX6="A",IF(BA6<41,"SI","NO"))))) -> SI | BC6: =IF(AX6="P",IF(BA6<4,"SI","NO"),IF(AX6="D",IF(BA6<6,"SI","NO"),IF(AX6="C",IF(BA6<11,"SI","NO"),IF(AX6="A",IF(BA6<21,"SI","NO"))))) -> NO | BE6: D | BF6: ALBIOL | BG6: NAP | BH6: 8 | BI6: =IF(BE6="P",IF(BH6<7,"SI","NO"),IF(BE6="D",IF(BH6<11,"SI","NO"),IF(BE6="C",IF(BH6<21,"SI","NO"),IF(BE6="A",IF(BH6<41,"SI","NO"))))) -> SI | BJ6: =IF(BE6="P",IF(BH6<4,"SI","NO"),IF(BE6="D",IF(BH6<6,"SI","NO"),IF(BE6="C",IF(BH6<11,"SI","NO"),IF(BE6="A",IF(BH6<21,"SI","NO"))))) -> NO | BL6: D | BM6: KOULIBALY | BN6: NAP | BO6: 18 | BP6: =IF(BL6="P",IF(BO6<7,"SI","NO"),IF(BL6="D",IF(BO6<11,"SI","NO"),IF(BL6="C",IF(BO6<21,"SI","NO"),IF(BL6="A",IF(BO6<41,"SI","NO"))))) -> NO | BQ6: =IF(BL6="P",IF(BO6<4,"SI","NO"),IF(BL6="D",IF(BO6<6,"SI","NO"),IF(BL6="C",IF(BO6<11,"SI","NO"),IF(BL6="A",IF(BO6<21,"SI","NO"))))) -> NO
A7: D | B7: MANOLAS | C7: ROM | D7: 16 | E7: =IF(A7="P",IF(D7<7,"SI","NO"),IF(A7="D",IF(D7<11,"SI","NO"),IF(A7="C",IF(D7<21,"SI","NO"),IF(A7="A",IF(D7<41,"SI","NO"))))) -> NO | F7: =IF(A7="P",IF(D7<4,"SI","NO"),IF(A7="D",IF(D7<6,"SI","NO"),IF(A7="C",IF(D7<11,"SI","NO"),IF(A7="A",IF(D7<21,"SI","NO"))))) -> NO | H7: D | I7: CANCELO | J7: INT | K7: 7 | L7: =IF(H7="P",IF(K7<7,"SI","NO"),IF(H7="D",IF(K7<11,"SI","NO"),IF(H7="C",IF(K7<21,"SI","NO"),IF(H7="A",IF(K7<41,"SI","NO"))))) -> SI | M7: =IF(H7="P",IF(K7<4,"SI","NO"),IF(H7="D",IF(K7<6,"SI","NO"),IF(H7="C",IF(K7<11,"SI","NO"),IF(H7="A",IF(K7<21,"SI","NO"))))) -> NO | O7: D | P7: ALEX SANDRO | Q7: JUV | R7: 25 | S7: =IF(O7="P",IF(R7<7,"SI","NO"),IF(O7="D",IF(R7<11,"SI","NO"),IF(O7="C",IF(R7<21,"SI","NO"),IF(O7="A",IF(R7<41,"SI","NO"))))) -> NO | T7: =IF(O7="P",IF(R7<4,"SI","NO"),IF(O7="D",IF(R7<6,"SI","NO"),IF(O7="C",IF(R7<11,"SI","NO"),IF(O7="A",IF(R7<21,"SI","NO"))))) -> NO | V7: D | W7: SKRINIAR | X7: INT | Y7: 1 | Z7: =IF(V7="P",IF(Y7<7,"SI","NO"),IF(V7="D",IF(Y7<11,"SI","NO"),IF(V7="C",IF(Y7<21,"SI","NO"),IF(V7="A",IF(Y7<41,"SI","NO"))))) -> SI | AA7: =IF(V7="P",IF(Y7<4,"SI","NO"),IF(V7="D",IF(Y7<6,"SI","NO"),IF(V7="C",IF(Y7<11,"SI","NO"),IF(V7="A",IF(Y7<21,"SI","NO"))))) -> SI | AC7: D | AD7: TOLOI | AE7: ATA | AF7: 6 | AG7: =IF(AC7="P",IF(AF7<7,"SI","NO"),IF(AC7="D",IF(AF7<11,"SI","NO"),IF(AC7="C",IF(AF7<21,"SI","NO"),IF(AC7="A",IF(AF7<41,"SI","NO"))))) -> SI | AH7: =IF(AC7="P",IF(AF7<4,"SI","NO"),IF(AC7="D",IF(AF7<6,"SI","NO"),IF(AC7="C",IF(AF7<11,"SI","NO"),IF(AC7="A",IF(AF7<21,"SI","NO"))))) -> NO | AJ7: D | AK7: KOULIBALY | AL7: NAP | AM7: 19 | AN7: =IF(AJ7="P",IF(AM7<7,"SI","NO"),IF(AJ7="D",IF(AM7<11,"SI","NO"),IF(AJ7="C",IF(AM7<21,"SI","NO"),IF(AJ7="A",IF(AM7<41,"SI","NO"))))) -> NO | AO7: =IF(AJ7="P",IF(AM7<4,"SI","NO"),IF(AJ7="D",IF(AM7<6,"SI","NO"),IF(AJ7="C",IF(AM7<11,"SI","NO"),IF(AJ7="A",IF(AM7<21,"SI","NO"))))) -> NO | AQ7: D | AR7: FAZIO | AS7: ROM | AT7: 7 | AU7: =IF(AQ7="P",IF(AT7<7,"SI","NO"),IF(AQ7="D",IF(AT7<11,"SI","NO"),IF(AQ7="C",IF(AT7<21,"SI","NO"),IF(AQ7="A",IF(AT7<41,"SI","NO"))))) -> SI | AV7: =IF(AQ7="P",IF(AT7<4,"SI","NO"),IF(AQ7="D",IF(AT7<6,"SI","NO"),IF(AQ7="C",IF(AT7<11,"SI","NO"),IF(AQ7="A",IF(AT7<21,"SI","NO"))))) -> NO | AX7: D | AY7: MARUSIC | AZ7: LAZ | BA7: 26 | BB7: =IF(AX7="P",IF(BA7<7,"SI","NO"),IF(AX7="D",IF(BA7<11,"SI","NO"),IF(AX7="C",IF(BA7<21,"SI","NO"),IF(AX7="A",IF(BA7<41,"SI","NO"))))) -> NO | BC7: =IF(AX7="P",IF(BA7<4,"SI","NO"),IF(AX7="D",IF(BA7<6,"SI","NO"),IF(AX7="C",IF(BA7<11,"SI","NO"),IF(AX7="A",IF(BA7<21,"SI","NO"))))) -> NO | BE7: D | BF7: RUGANI | BG7: JUV | BH7: 10 | BI7: =IF(BE7="P",IF(BH7<7,"SI","NO"),IF(BE7="D",IF(BH7<11,"SI","NO"),IF(BE7="C",IF(BH7<21,"SI","NO"),IF(BE7="A",IF(BH7<41,"SI","NO"))))) -> SI | BJ7: =IF(BE7="P",IF(BH7<4,"SI","NO"),IF(BE7="D",IF(BH7<6,"SI","NO"),IF(BE7="C",IF(BH7<11,"SI","NO"),IF(BE7="A",IF(BH7<21,"SI","NO"))))) -> NO | BL7: D | BM7: MASIELLO A | BN7: ATA | BO7: 6 | BP7: =IF(BL7="P",IF(BO7<7,"SI","NO"),IF(BL7="D",IF(BO7<11,"SI","NO"),IF(BL7="C",IF(BO7<21,"SI","NO"),IF(BL7="A",IF(BO7<41,"SI","NO"))))) -> SI | BQ7: =IF(BL7="P",IF(BO7<4,"SI","NO"),IF(BL7="D",IF(BO7<6,"SI","NO"),IF(BL7="C",IF(BO7<11,"SI","NO"),IF(BL7="A",IF(BO7<21,"SI","NO"))))) -> NO
A8: D | B8: BONUCCI | C8: MIL | D8: 26 | E8: =IF(A8="P",IF(D8<7,"SI","NO"),IF(A8="D",IF(D8<11,"SI","NO"),IF(A8="C",IF(D8<21,"SI","NO"),IF(A8="A",IF(D8<41,"SI","NO"))))) -> NO | F8: =IF(A8="P",IF(D8<4,"SI","NO"),IF(A8="D",IF(D8<6,"SI","NO"),IF(A8="C",IF(D8<11,"SI","NO"),IF(A8="A",IF(D8<21,"SI","NO"))))) -> NO | H8: D | I8: ROMAGNOLI A | J8: MIL | K8: 6 | L8: =IF(H8="P",IF(K8<7,"SI","NO"),IF(H8="D",IF(K8<11,"SI","NO"),IF(H8="C",IF(K8<21,"SI","NO"),IF(H8="A",IF(K8<41,"SI","NO"))))) -> SI | M8: =IF(H8="P",IF(K8<4,"SI","NO"),IF(H8="D",IF(K8<6,"SI","NO"),IF(H8="C",IF(K8<11,"SI","NO"),IF(H8="A",IF(K8<21,"SI","NO"))))) -> NO | O8: D | P8: WIDMER | Q8: UDI | R8: 2 | S8: =IF(O8="P",IF(R8<7,"SI","NO"),IF(O8="D",IF(R8<11,"SI","NO"),IF(O8="C",IF(R8<21,"SI","NO"),IF(O8="A",IF(R8<41,"SI","NO"))))) -> SI | T8: =IF(O8="P",IF(R8<4,"SI","NO"),IF(O8="D",IF(R8<6,"SI","NO"),IF(O8="C",IF(R8<11,"SI","NO"),IF(O8="A",IF(R8<21,"SI","NO"))))) -> SI | V8: D | W8: BENATIA | X8: JUV | Y8: 4 | Z8: =IF(V8="P",IF(Y8<7,"SI","NO"),IF(V8="D",IF(Y8<11,"SI","NO"),IF(V8="C",IF(Y8<21,"SI","NO"),IF(V8="A",IF(Y8<41,"SI","NO"))))) -> SI | AA8: =IF(V8="P",IF(Y8<4,"SI","NO"),IF(V8="D",IF(Y8<6,"SI","NO"),IF(V8="C",IF(Y8<11,"SI","NO"),IF(V8="A",IF(Y8<21,"SI","NO"))))) -> SI | AC8: D | AD8: FELIPE | AE8: SPA | AF8: 1 | AG8: =IF(AC8="P",IF(AF8<7,"SI","NO"),IF(AC8="D",IF(AF8<11,"SI","NO"),IF(AC8="C",IF(AF8<21,"SI","NO"),IF(AC8="A",IF(AF8<41,"SI","NO"))))) -> SI | AH8: =IF(AC8="P",IF(AF8<4,"SI","NO"),IF(AC8="D",IF(AF8<6,"SI","NO"),IF(AC8="C",IF(AF8<11,"SI","NO"),IF(AC8="A",IF(AF8<21,"SI","NO"))))) -> SI | AJ8: D | AK8: ACERBI | AL8: SAS | AM8: 19 | AN8: =IF(AJ8="P",IF(AM8<7,"SI","NO"),IF(AJ8="D",IF(AM8<11,"SI","NO"),IF(AJ8="C",IF(AM8<21,"SI","NO"),IF(AJ8="A",IF(AM8<41,"SI","NO"))))) -> NO | AO8: =IF(AJ8="P",IF(AM8<4,"SI","NO"),IF(AJ8="D",IF(AM8<6,"SI","NO"),IF(AJ8="C",IF(AM8<11,"SI","NO"),IF(AJ8="A",IF(AM8<21,"SI","NO"))))) -> NO | AQ8: D | AR8: MARIO RUI | AS8: NAP | AT8: 1 | AU8: =IF(AQ8="P",IF(AT8<7,"SI","NO"),IF(AQ8="D",IF(AT8<11,"SI","NO"),IF(AQ8="C",IF(AT8<21,"SI","NO"),IF(AQ8="A",IF(AT8<41,"SI","NO"))))) -> SI | AV8: =IF(AQ8="P",IF(AT8<4,"SI","NO"),IF(AQ8="D",IF(AT8<6,"SI","NO"),IF(AQ8="C",IF(AT8<11,"SI","NO"),IF(AQ8="A",IF(AT8<21,"SI","NO"))))) -> SI | AX8: D | AY8: PEZZELLA GER | AZ8: FIO | BA8: 4 | BB8: =IF(AX8="P",IF(BA8<7,"SI","NO"),IF(AX8="D",IF(BA8<11,"SI","NO"),IF(AX8="C",IF(BA8<21,"SI","NO"),IF(AX8="A",IF(BA8<41,"SI","NO"))))) -> SI | BC8: =IF(AX8="P",IF(BA8<4,"SI","NO"),IF(AX8="D",IF(BA8<6,"SI","NO"),IF(AX8="C",IF(BA8<11,"SI","NO"),IF(AX8="A",IF(BA8<21,"SI","NO"))))) -> SI | BE8: D | BF8: PEZZELLA GER | BG8: FIO | BH8: 6 | BI8: =IF(BE8="P",IF(BH8<7,"SI","NO"),IF(BE8="D",IF(BH8<11,"SI","NO"),IF(BE8="C",IF(BH8<21,"SI","NO"),IF(BE8="A",IF(BH8<41,"SI","NO"))))) -> SI | BJ8: =IF(BE8="P",IF(BH8<4,"SI","NO"),IF(BE8="D",IF(BH8<6,"SI","NO"),IF(BE8="C",IF(BH8<11,"SI","NO"),IF(BE8="A",IF(BH8<21,"SI","NO"))))) -> NO | BL8: D | BM8: SKRINIAR | BN8: INT | BO8: 11 | BP8: =IF(BL8="P",IF(BO8<7,"SI","NO"),IF(BL8="D",IF(BO8<11,"SI","NO"),IF(BL8="C",IF(BO8<21,"SI","NO"),IF(BL8="A",IF(BO8<41,"SI","NO"))))) -> NO | BQ8: =IF(BL8="P",IF(BO8<4,"SI","NO"),IF(BL8="D",IF(BO8<6,"SI","NO"),IF(BL8="C",IF(BO8<11,"SI","NO"),IF(BL8="A",IF(BO8<21,"SI","NO"))))) -> NO
A9: D | B9: BURDISSO | C9: TOR | D9: 3 | E9: =IF(A9="P",IF(D9<7,"SI","NO"),IF(A9="D",IF(D9<11,"SI","NO"),IF(A9="C",IF(D9<21,"SI","NO"),IF(A9="A",IF(D9<41,"SI","NO"))))) -> SI | F9: =IF(A9="P",IF(D9<4,"SI","NO"),IF(A9="D",IF(D9<6,"SI","NO"),IF(A9="C",IF(D9<11,"SI","NO"),IF(A9="A",IF(D9<21,"SI","NO"))))) -> SI | H9: D | I9: MARUSIC | J9: LAZ | K9: 38 | L9: =IF(H9="P",IF(K9<7,"SI","NO"),IF(H9="D",IF(K9<11,"SI","NO"),IF(H9="C",IF(K9<21,"SI","NO"),IF(H9="A",IF(K9<41,"SI","NO"))))) -> NO | M9: =IF(H9="P",IF(K9<4,"SI","NO"),IF(H9="D",IF(K9<6,"SI","NO"),IF(H9="C",IF(K9<11,"SI","NO"),IF(H9="A",IF(K9<21,"SI","NO"))))) -> NO | O9: D | P9: MATTIELLO | Q9: SPA | R9: 3 | S9: =IF(O9="P",IF(R9<7,"SI","NO"),IF(O9="D",IF(R9<11,"SI","NO"),IF(O9="C",IF(R9<21,"SI","NO"),IF(O9="A",IF(R9<41,"SI","NO"))))) -> SI | T9: =IF(O9="P",IF(R9<4,"SI","NO"),IF(O9="D",IF(R9<6,"SI","NO"),IF(O9="C",IF(R9<11,"SI","NO"),IF(O9="A",IF(R9<21,"SI","NO"))))) -> SI | V9: D | W9: NUYTINCK | X9: UDI | Y9: 6 | Z9: =IF(V9="P",IF(Y9<7,"SI","NO"),IF(V9="D",IF(Y9<11,"SI","NO"),IF(V9="C",IF(Y9<21,"SI","NO"),IF(V9="A",IF(Y9<41,"SI","NO"))))) -> SI | AA9: =IF(V9="P",IF(Y9<4,"SI","NO"),IF(V9="D",IF(Y9<6,"SI","NO"),IF(V9="C",IF(Y9<11,"SI","NO"),IF(V9="A",IF(Y9<21,"SI","NO"))))) -> NO | AC9: D | AD9: SILVESTRE | AE9: SAM | AF9: 4 | AG9: =IF(AC9="P",IF(AF9<7,"SI","NO"),IF(AC9="D",IF(AF9<11,"SI","NO"),IF(AC9="C",IF(AF9<21,"SI","NO"),IF(AC9="A",IF(AF9<41,"SI","NO"))))) -> SI | AH9: =IF(AC9="P",IF(AF9<4,"SI","NO"),IF(AC9="D",IF(AF9<6,"SI","NO"),IF(AC9="C",IF(AF9<11,"SI","NO"),IF(AC9="A",IF(AF9<21,"SI","NO"))))) -> SI | AJ9: D | AK9: LETIZIA | AL9: BEN | AM9: 1 | AN9: =IF(AJ9="P",IF(AM9<7,"SI","NO"),IF(AJ9="D",IF(AM9<11,"SI","NO"),IF(AJ9="C",IF(AM9<21,"SI","NO"),IF(AJ9="A",IF(AM9<41,"SI","NO"))))) -> SI | AO9: =IF(AJ9="P",IF(AM9<4,"SI","NO"),IF(AJ9="D",IF(AM9<6,"SI","NO"),IF(AJ9="C",IF(AM9<11,"SI","NO"),IF(AJ9="A",IF(AM9<21,"SI","NO"))))) -> SI | AQ9: D | AR9: DANILO | AS9: UDI | AT9: 2 | AU9: =IF(AQ9="P",IF(AT9<7,"SI","NO"),IF(AQ9="D",IF(AT9<11,"SI","NO"),IF(AQ9="C",IF(AT9<21,"SI","NO"),IF(AQ9="A",IF(AT9<41,"SI","NO"))))) -> SI | AV9: =IF(AQ9="P",IF(AT9<4,"SI","NO"),IF(AQ9="D",IF(AT9<6,"SI","NO"),IF(AQ9="C",IF(AT9<11,"SI","NO"),IF(AQ9="A",IF(AT9<21,"SI","NO"))))) -> SI | AX9: D | AY9: CALDARA | AZ9: ATA | BA9: 10 | BB9: =IF(AX9="P",IF(BA9<7,"SI","NO"),IF(AX9="D",IF(BA9<11,"SI","NO"),IF(AX9="C",IF(BA9<21,"SI","NO"),IF(AX9="A",IF(BA9<41,"SI","NO"))))) -> SI | BC9: =IF(AX9="P",IF(BA9<4,"SI","NO"),IF(AX9="D",IF(BA9<6,"SI","NO"),IF(AX9="C",IF(BA9<11,"SI","NO"),IF(AX9="A",IF(BA9<21,"SI","NO"))))) -> NO | BE9: D | BF9: CALDARA | BG9: ATA | BH9: 19 | BI9: =IF(BE9="P",IF(BH9<7,"SI","NO"),IF(BE9="D",IF(BH9<11,"SI","NO"),IF(BE9="C",IF(BH9<21,"SI","NO"),IF(BE9="A",IF(BH9<41,"SI","NO"))))) -> NO | BJ9: =IF(BE9="P",IF(BH9<4,"SI","NO"),IF(BE9="D",IF(BH9<6,"SI","NO"),IF(BE9="C",IF(BH9<11,"SI","NO"),IF(BE9="A",IF(BH9<21,"SI","NO"))))) -> NO | BL9: D | BM9: HATEBOER | BN9: ATA | BO9: 1 | BP9: =IF(BL9="P",IF(BO9<7,"SI","NO"),IF(BL9="D",IF(BO9<11,"SI","NO"),IF(BL9="C",IF(BO9<21,"SI","NO"),IF(BL9="A",IF(BO9<41,"SI","NO"))))) -> SI | BQ9: =IF(BL9="P",IF(BO9<4,"SI","NO"),IF(BL9="D",IF(BO9<6,"SI","NO"),IF(BL9="C",IF(BO9<11,"SI","NO"),IF(BL9="A",IF(BO9<21,"SI","NO"))))) -> SI
A10: D | B10: MASINA | C10: BOL | D10: 5 | E10: =IF(A10="P",IF(D10<7,"SI","NO"),IF(A10="D",IF(D10<11,"SI","NO"),IF(A10="C",IF(D10<21,"SI","NO"),IF(A10="A",IF(D10<41,"SI","NO"))))) -> SI | F10: =IF(A10="P",IF(D10<4,"SI","NO"),IF(A10="D",IF(D10<6,"SI","NO"),IF(A10="C",IF(D10<11,"SI","NO"),IF(A10="A",IF(D10<21,"SI","NO"))))) -> SI | H10: D | I10: HATEBOER | J10: ATA | K10: 4 | L10: =IF(H10="P",IF(K10<7,"SI","NO"),IF(H10="D",IF(K10<11,"SI","NO"),IF(H10="C",IF(K10<21,"SI","NO"),IF(H10="A",IF(K10<41,"SI","NO"))))) -> SI | M10: =IF(H10="P",IF(K10<4,"SI","NO"),IF(H10="D",IF(K10<6,"SI","NO"),IF(H10="C",IF(K10<11,"SI","NO"),IF(H10="A",IF(K10<21,"SI","NO"))))) -> SI | O10: D | P10: FERRARI G | Q10: SAM | R10: 1 | S10: =IF(O10="P",IF(R10<7,"SI","NO"),IF(O10="D",IF(R10<11,"SI","NO"),IF(O10="C",IF(R10<21,"SI","NO"),IF(O10="A",IF(R10<41,"SI","NO"))))) -> SI | T10: =IF(O10="P",IF(R10<4,"SI","NO"),IF(O10="D",IF(R10<6,"SI","NO"),IF(O10="C",IF(R10<11,"SI","NO"),IF(O10="A",IF(R10<21,"SI","NO"))))) -> SI | V10: D | W10: STRYGER LARSEN | X10: UDI | Y10: 1 | Z10: =IF(V10="P",IF(Y10<7,"SI","NO"),IF(V10="D",IF(Y10<11,"SI","NO"),IF(V10="C",IF(Y10<21,"SI","NO"),IF(V10="A",IF(Y10<41,"SI","NO"))))) -> SI | AA10: =IF(V10="P",IF(Y10<4,"SI","NO"),IF(V10="D",IF(Y10<6,"SI","NO"),IF(V10="C",IF(Y10<11,"SI","NO"),IF(V10="A",IF(Y10<21,"SI","NO"))))) -> SI | AC10: D | AD10: CACERES | AE10: LAZ | AF10: 4 | AG10: =IF(AC10="P",IF(AF10<7,"SI","NO"),IF(AC10="D",IF(AF10<11,"SI","NO"),IF(AC10="C",IF(AF10<21,"SI","NO"),IF(AC10="A",IF(AF10<41,"SI","NO"))))) -> SI | AH10: =IF(AC10="P",IF(AF10<4,"SI","NO"),IF(AC10="D",IF(AF10<6,"SI","NO"),IF(AC10="C",IF(AF10<11,"SI","NO"),IF(AC10="A",IF(AF10<21,"SI","NO"))))) -> SI | AJ10: D | AK10: BASTOS | AL10: LAZ | AM10: 1 | AN10: =IF(AJ10="P",IF(AM10<7,"SI","NO"),IF(AJ10="D",IF(AM10<11,"SI","NO"),IF(AJ10="C",IF(AM10<21,"SI","NO"),IF(AJ10="A",IF(AM10<41,"SI","NO"))))) -> SI | AO10: =IF(AJ10="P",IF(AM10<4,"SI","NO"),IF(AJ10="D",IF(AM10<6,"SI","NO"),IF(AJ10="C",IF(AM10<11,"SI","NO"),IF(AJ10="A",IF(AM10<21,"SI","NO"))))) -> SI | AQ10: D | AR10: RADU | AS10: LAZ | AT10: 1 | AU10: =IF(AQ10="P",IF(AT10<7,"SI","NO"),IF(AQ10="D",IF(AT10<11,"SI","NO"),IF(AQ10="C",IF(AT10<21,"SI","NO"),IF(AQ10="A",IF(AT10<41,"SI","NO"))))) -> SI | AV10: =IF(AQ10="P",IF(AT10<4,"SI","NO"),IF(AQ10="D",IF(AT10<6,"SI","NO"),IF(AQ10="C",IF(AT10<11,"SI","NO"),IF(AQ10="A",IF(AT10<21,"SI","NO"))))) -> SI | AX10: D | AY10: BENATIA | AZ10: JUV | BA10: 2 | BB10: =IF(AX10="P",IF(BA10<7,"SI","NO"),IF(AX10="D",IF(BA10<11,"SI","NO"),IF(AX10="C",IF(BA10<21,"SI","NO"),IF(AX10="A",IF(BA10<41,"SI","NO"))))) -> SI | BC10: =IF(AX10="P",IF(BA10<4,"SI","NO"),IF(AX10="D",IF(BA10<6,"SI","NO"),IF(AX10="C",IF(BA10<11,"SI","NO"),IF(AX10="A",IF(BA10<21,"SI","NO"))))) -> SI | BE10: D | BF10: CHIELLINI | BG10: JUV | BH10: 12 | BI10: =IF(BE10="P",IF(BH10<7,"SI","NO"),IF(BE10="D",IF(BH10<11,"SI","NO"),IF(BE10="C",IF(BH10<21,"SI","NO"),IF(BE10="A",IF(BH10<41,"SI","NO"))))) -> NO | BJ10: =IF(BE10="P",IF(BH10<4,"SI","NO"),IF(BE10="D",IF(BH10<6,"SI","NO"),IF(BE10="C",IF(BH10<11,"SI","NO"),IF(BE10="A",IF(BH10<21,"SI","NO"))))) -> NO | BL10: D | BM10: CACCIATORE | BN10: CHI | BO10: 3 | BP10: =IF(BL10="P",IF(BO10<7,"SI","NO"),IF(BL10="D",IF(BO10<11,"SI","NO"),IF(BL10="C",IF(BO10<21,"SI","NO"),IF(BL10="A",IF(BO10<41,"SI","NO"))))) -> SI | BQ10: =IF(BL10="P",IF(BO10<4,"SI","NO"),IF(BL10="D",IF(BO10<6,"SI","NO"),IF(BL10="C",IF(BO10<11,"SI","NO"),IF(BL10="A",IF(BO10<21,"SI","NO"))))) -> SI
A11: D | B11: BRUNO PERES | C11: ROM | D11: 6 | E11: =IF(A11="P",IF(D11<7,"SI","NO"),IF(A11="D",IF(D11<11,"SI","NO"),IF(A11="C",IF(D11<21,"SI","NO"),IF(A11="A",IF(D11<41,"SI","NO"))))) -> SI | F11: =IF(A11="P",IF(D11<4,"SI","NO"),IF(A11="D",IF(D11<6,"SI","NO"),IF(A11="C",IF(D11<11,"SI","NO"),IF(A11="A",IF(D11<21,"SI","NO"))))) -> NO | H11: D | I11: CASTAGNE | J11: ATA | K11: 1 | L11: =IF(H11="P",IF(K11<7,"SI","NO"),IF(H11="D",IF(K11<11,"SI","NO"),IF(H11="C",IF(K11<21,"SI","NO"),IF(H11="A",IF(K11<41,"SI","NO"))))) -> SI | M11: =IF(H11="P",IF(K11<4,"SI","NO"),IF(H11="D",IF(K11<6,"SI","NO"),IF(H11="C",IF(K11<11,"SI","NO"),IF(H11="A",IF(K11<21,"SI","NO"))))) -> SI | O11: D | P11: ASAMOAH | Q11: JUV | R11: 1 | S11: =IF(O11="P",IF(R11<7,"SI","NO"),IF(O11="D",IF(R11<11,"SI","NO"),IF(O11="C",IF(R11<21,"SI","NO"),IF(O11="A",IF(R11<41,"SI","NO"))))) -> SI | T11: =IF(O11="P",IF(R11<4,"SI","NO"),IF(O11="D",IF(R11<6,"SI","NO"),IF(O11="C",IF(R11<11,"SI","NO"),IF(O11="A",IF(R11<21,"SI","NO"))))) -> SI | V11: D | W11: GAMBERINI | X11: CHI | Y11: 1 | Z11: =IF(V11="P",IF(Y11<7,"SI","NO"),IF(V11="D",IF(Y11<11,"SI","NO"),IF(V11="C",IF(Y11<21,"SI","NO"),IF(V11="A",IF(Y11<41,"SI","NO"))))) -> SI | AA11: =IF(V11="P",IF(Y11<4,"SI","NO"),IF(V11="D",IF(Y11<6,"SI","NO"),IF(V11="C",IF(Y11<11,"SI","NO"),IF(V11="A",IF(Y11<21,"SI","NO"))))) -> SI | AC11: D | AD11: LUKAKU J | AE11: LAZ | AF11: 20 | AG11: =IF(AC11="P",IF(AF11<7,"SI","NO"),IF(AC11="D",IF(AF11<11,"SI","NO"),IF(AC11="C",IF(AF11<21,"SI","NO"),IF(AC11="A",IF(AF11<41,"SI","NO"))))) -> NO | AH11: =IF(AC11="P",IF(AF11<4,"SI","NO"),IF(AC11="D",IF(AF11<6,"SI","NO"),IF(AC11="C",IF(AF11<11,"SI","NO"),IF(AC11="A",IF(AF11<21,"SI","NO"))))) -> NO | AJ11: D | AK11: HOWEDES | AL11: JUV | AM11: 10 | AN11: =IF(AJ11="P",IF(AM11<7,"SI","NO"),IF(AJ11="D",IF(AM11<11,"SI","NO"),IF(AJ11="C",IF(AM11<21,"SI","NO"),IF(AJ11="A",IF(AM11<41,"SI","NO"))))) -> SI | AO11: =IF(AJ11="P",IF(AM11<4,"SI","NO"),IF(AJ11="D",IF(AM11<6,"SI","NO"),IF(AJ11="C",IF(AM11<11,"SI","NO"),IF(AJ11="A",IF(AM11<21,"SI","NO"))))) -> NO | AQ11: D | AR11: GHOULAM | AS11: NAP | AT11: 20 | AU11: =IF(AQ11="P",IF(AT11<7,"SI","NO"),IF(AQ11="D",IF(AT11<11,"SI","NO"),IF(AQ11="C",IF(AT11<21,"SI","NO"),IF(AQ11="A",IF(AT11<41,"SI","NO"))))) -> NO | AV11: =IF(AQ11="P",IF(AT11<4,"SI","NO"),IF(AQ11="D",IF(AT11<6,"SI","NO"),IF(AQ11="C",IF(AT11<11,"SI","NO"),IF(AQ11="A",IF(AT11<21,"SI","NO"))))) -> NO | AX11: D | AY11: PALOMINO | AZ11: ATA | BA11: 1 | BB11: =IF(AX11="P",IF(BA11<7,"SI","NO"),IF(AX11="D",IF(BA11<11,"SI","NO"),IF(AX11="C",IF(BA11<21,"SI","NO"),IF(AX11="A",IF(BA11<41,"SI","NO"))))) -> SI | BC11: =IF(AX11="P",IF(BA11<4,"SI","NO"),IF(AX11="D",IF(BA11<6,"SI","NO"),IF(AX11="C",IF(BA11<11,"SI","NO"),IF(AX11="A",IF(BA11<21,"SI","NO"))))) -> SI | BE11: D | BF11: D'AMBROSIO | BG11: INT | BH11: 4 | BI11: =IF(BE11="P",IF(BH11<7,"SI","NO"),IF(BE11="D",IF(BH11<11,"SI","NO"),IF(BE11="C",IF(BH11<21,"SI","NO"),IF(BE11="A",IF(BH11<41,"SI","NO"))))) -> SI | BJ11: =IF(BE11="P",IF(BH11<4,"SI","NO"),IF(BE11="D",IF(BH11<6,"SI","NO"),IF(BE11="C",IF(BH11<11,"SI","NO"),IF(BE11="A",IF(BH11<21,"SI","NO"))))) -> SI | BL11: D | BM11: SPOLLI | BN11: GEN | BO11: 1 | BP11: =IF(BL11="P",IF(BO11<7,"SI","NO"),IF(BL11="D",IF(BO11<11,"SI","NO"),IF(BL11="C",IF(BO11<21,"SI","NO"),IF(BL11="A",IF(BO11<41,"SI","NO"))))) -> SI | BQ11: =IF(BL11="P",IF(BO11<4,"SI","NO"),IF(BL11="D",IF(BO11<6,"SI","NO"),IF(BL11="C",IF(BO11<11,"SI","NO"),IF(BL11="A",IF(BO11<21,"SI","NO"))))) -> SI
A12: D | B12: FERRARI A | C12: VER | D12: 1 | E12: =IF(A12="P",IF(D12<7,"SI","NO"),IF(A12="D",IF(D12<11,"SI","NO"),IF(A12="C",IF(D12<21,"SI","NO"),IF(A12="A",IF(D12<41,"SI","NO"))))) -> SI | F12: =IF(A12="P",IF(D12<4,"SI","NO"),IF(A12="D",IF(D12<6,"SI","NO"),IF(A12="C",IF(D12<11,"SI","NO"),IF(A12="A",IF(D12<21,"SI","NO"))))) -> SI | H12: D | I12: DE SCIGLIO | J12: JUV | K12: 1 | L12: =IF(H12="P",IF(K12<7,"SI","NO"),IF(H12="D",IF(K12<11,"SI","NO"),IF(H12="C",IF(K12<21,"SI","NO"),IF(H12="A",IF(K12<41,"SI","NO"))))) -> SI | M12: =IF(H12="P",IF(K12<4,"SI","NO"),IF(H12="D",IF(K12<6,"SI","NO"),IF(H12="C",IF(K12<11,"SI","NO"),IF(H12="A",IF(K12<21,"SI","NO"))))) -> SI | O12: D | P12: ANDREOLLI | Q12: CAG | R12: 3 | S12: =IF(O12="P",IF(R12<7,"SI","NO"),IF(O12="D",IF(R12<11,"SI","NO"),IF(O12="C",IF(R12<21,"SI","NO"),IF(O12="A",IF(R12<41,"SI","NO"))))) -> SI | T12: =IF(O12="P",IF(R12<4,"SI","NO"),IF(O12="D",IF(R12<6,"SI","NO"),IF(O12="C",IF(R12<11,"SI","NO"),IF(O12="A",IF(R12<21,"SI","NO"))))) -> SI | V12: D | W12: GOLDANIGA | X12: SAS | Y12: 1 | Z12: =IF(V12="P",IF(Y12<7,"SI","NO"),IF(V12="D",IF(Y12<11,"SI","NO"),IF(V12="C",IF(Y12<21,"SI","NO"),IF(V12="A",IF(Y12<41,"SI","NO"))))) -> SI | AA12: =IF(V12="P",IF(Y12<4,"SI","NO"),IF(V12="D",IF(Y12<6,"SI","NO"),IF(V12="C",IF(Y12<11,"SI","NO"),IF(V12="A",IF(Y12<21,"SI","NO"))))) -> SI | AC12: D | AD12: BIRAGHI | AE12: FIO | AF12: 11 | AG12: =IF(AC12="P",IF(AF12<7,"SI","NO"),IF(AC12="D",IF(AF12<11,"SI","NO"),IF(AC12="C",IF(AF12<21,"SI","NO"),IF(AC12="A",IF(AF12<41,"SI","NO"))))) -> NO | AH12: =IF(AC12="P",IF(AF12<4,"SI","NO"),IF(AC12="D",IF(AF12<6,"SI","NO"),IF(AC12="C",IF(AF12<11,"SI","NO"),IF(AC12="A",IF(AF12<21,"SI","NO"))))) -> NO | AJ12: D | AK12: SILVA J | AL12: ROM | AM12: 1 | AN12: =IF(AJ12="P",IF(AM12<7,"SI","NO"),IF(AJ12="D",IF(AM12<11,"SI","NO"),IF(AJ12="C",IF(AM12<21,"SI","NO"),IF(AJ12="A",IF(AM12<41,"SI","NO"))))) -> SI | AO12: =IF(AJ12="P",IF(AM12<4,"SI","NO"),IF(AJ12="D",IF(AM12<6,"SI","NO"),IF(AJ12="C",IF(AM12<11,"SI","NO"),IF(AJ12="A",IF(AM12<21,"SI","NO"))))) -> SI | AQ12: D | AR12: JUAN JESUS | AS12: ROM | AT12: 1 | AU12: =IF(AQ12="P",IF(AT12<7,"SI","NO"),IF(AQ12="D",IF(AT12<11,"SI","NO"),IF(AQ12="C",IF(AT12<21,"SI","NO"),IF(AQ12="A",IF(AT12<41,"SI","NO"))))) -> SI | AV12: =IF(AQ12="P",IF(AT12<4,"SI","NO"),IF(AQ12="D",IF(AT12<6,"SI","NO"),IF(AQ12="C",IF(AT12<11,"SI","NO"),IF(AQ12="A",IF(AT12<21,"SI","NO"))))) -> SI | AX12: D | AY12: BURDISSO | AZ12: TOR | BA12: 1 | BB12: =IF(AX12="P",IF(BA12<7,"SI","NO"),IF(AX12="D",IF(BA12<11,"SI","NO"),IF(AX12="C",IF(BA12<21,"SI","NO"),IF(AX12="A",IF(BA12<41,"SI","NO"))))) -> SI | BC12: =IF(AX12="P",IF(BA12<4,"SI","NO"),IF(AX12="D",IF(BA12<6,"SI","NO"),IF(AX12="C",IF(BA12<11,"SI","NO"),IF(AX12="A",IF(BA12<21,"SI","NO"))))) -> SI | BE12: D | BF12: PALOMINO | BG12: ATA | BH12: 1 | BI12: =IF(BE12="P",IF(BH12<7,"SI","NO"),IF(BE12="D",IF(BH12<11,"SI","NO"),IF(BE12="C",IF(BH12<21,"SI","NO"),IF(BE12="A",IF(BH12<41,"SI","NO"))))) -> SI | BJ12: =IF(BE12="P",IF(BH12<4,"SI","NO"),IF(BE12="D",IF(BH12<6,"SI","NO"),IF(BE12="C",IF(BH12<11,"SI","NO"),IF(BE12="A",IF(BH12<21,"SI","NO"))))) -> SI | BL12: D | BM12: MASINA | BN12: BOL | BO12: 3 | BP12: =IF(BL12="P",IF(BO12<7,"SI","NO"),IF(BL12="D",IF(BO12<11,"SI","NO"),IF(BL12="C",IF(BO12<21,"SI","NO"),IF(BL12="A",IF(BO12<41,"SI","NO"))))) -> SI | BQ12: =IF(BL12="P",IF(BO12<4,"SI","NO"),IF(BL12="D",IF(BO12<6,"SI","NO"),IF(BL12="C",IF(BO12<11,"SI","NO"),IF(BL12="A",IF(BO12<21,"SI","NO"))))) -> SI
A13: D | B13: MUSACCHIO | C13: MIL | D13: 1 | E13: =IF(A13="P",IF(D13<7,"SI","NO"),IF(A13="D",IF(D13<11,"SI","NO"),IF(A13="C",IF(D13<21,"SI","NO"),IF(A13="A",IF(D13<41,"SI","NO"))))) -> SI | F13: =IF(A13="P",IF(D13<4,"SI","NO"),IF(A13="D",IF(D13<6,"SI","NO"),IF(A13="C",IF(D13<11,"SI","NO"),IF(A13="A",IF(D13<21,"SI","NO"))))) -> SI | H13: D | I13: BASTA | J13: LAZ | K13: 5 | L13: =IF(H13="P",IF(K13<7,"SI","NO"),IF(H13="D",IF(K13<11,"SI","NO"),IF(H13="C",IF(K13<21,"SI","NO"),IF(H13="A",IF(K13<41,"SI","NO"))))) -> SI | M13: =IF(H13="P",IF(K13<4,"SI","NO"),IF(H13="D",IF(K13<6,"SI","NO"),IF(H13="C",IF(K13<11,"SI","NO"),IF(H13="A",IF(K13<21,"SI","NO"))))) -> SI | O13: D | P13: CONTI | Q13: MIL | R13: 1 | S13: =IF(O13="P",IF(R13<7,"SI","NO"),IF(O13="D",IF(R13<11,"SI","NO"),IF(O13="C",IF(R13<21,"SI","NO"),IF(O13="A",IF(R13<41,"SI","NO"))))) -> SI | T13: =IF(O13="P",IF(R13<4,"SI","NO"),IF(O13="D",IF(R13<6,"SI","NO"),IF(O13="C",IF(R13<11,"SI","NO"),IF(O13="A",IF(R13<21,"SI","NO"))))) -> SI | AC13: D | AD13: LICHTSTEINER | AE13: JUV | AF13: 10 | AG13: =IF(AC13="P",IF(AF13<7,"SI","NO"),IF(AC13="D",IF(AF13<11,"SI","NO"),IF(AC13="C",IF(AF13<21,"SI","NO"),IF(AC13="A",IF(AF13<41,"SI","NO"))))) -> SI | AH13: =IF(AC13="P",IF(AF13<4,"SI","NO"),IF(AC13="D",IF(AF13<6,"SI","NO"),IF(AC13="C",IF(AF13<11,"SI","NO"),IF(AC13="A",IF(AF13<21,"SI","NO"))))) -> NO | AJ13: D | AK13: WALLACE | AL13: LAZ | AM13: 1 | AN13: =IF(AJ13="P",IF(AM13<7,"SI","NO"),IF(AJ13="D",IF(AM13<11,"SI","NO"),IF(AJ13="C",IF(AM13<21,"SI","NO"),IF(AJ13="A",IF(AM13<41,"SI","NO"))))) -> SI | AO13: =IF(AJ13="P",IF(AM13<4,"SI","NO"),IF(AJ13="D",IF(AM13<6,"SI","NO"),IF(AJ13="C",IF(AM13<11,"SI","NO"),IF(AJ13="A",IF(AM13<21,"SI","NO"))))) -> SI | AQ13: D | AR13: STRINIC | AS13: SAM | AT13: 1 | AU13: =IF(AQ13="P",IF(AT13<7,"SI","NO"),IF(AQ13="D",IF(AT13<11,"SI","NO"),IF(AQ13="C",IF(AT13<21,"SI","NO"),IF(AQ13="A",IF(AT13<41,"SI","NO"))))) -> SI | AV13: =IF(AQ13="P",IF(AT13<4,"SI","NO"),IF(AQ13="D",IF(AT13<6,"SI","NO"),IF(AQ13="C",IF(AT13<11,"SI","NO"),IF(AQ13="A",IF(AT13<21,"SI","NO"))))) -> SI | AX13: D | AY13: DE SCIGLIO | AZ13: JUV | BA13: 17 | BB13: =IF(AX13="P",IF(BA13<7,"SI","NO"),IF(AX13="D",IF(BA13<11,"SI","NO"),IF(AX13="C",IF(BA13<21,"SI","NO"),IF(AX13="A",IF(BA13<41,"SI","NO"))))) -> NO | BC13: =IF(AX13="P",IF(BA13<4,"SI","NO"),IF(AX13="D",IF(BA13<6,"SI","NO"),IF(AX13="C",IF(BA13<11,"SI","NO"),IF(AX13="A",IF(BA13<21,"SI","NO"))))) -> NO | BE13: D | BF13: CACCIATORE | BG13: CHI | BH13: 1 | BI13: =IF(BE13="P",IF(BH13<7,"SI","NO"),IF(BE13="D",IF(BH13<11,"SI","NO"),IF(BE13="C",IF(BH13<21,"SI","NO"),IF(BE13="A",IF(BH13<41,"SI","NO"))))) -> SI | BJ13: =IF(BE13="P",IF(BH13<4,"SI","NO"),IF(BE13="D",IF(BH13<6,"SI","NO"),IF(BE13="C",IF(BH13<11,"SI","NO"),IF(BE13="A",IF(BH13<21,"SI","NO"))))) -> SI | BL13: D | BM13: LICHTSTEINER | BN13: JUV | BO13: 10 | BP13: =IF(BL13="P",IF(BO13<7,"SI","NO"),IF(BL13="D",IF(BO13<11,"SI","NO"),IF(BL13="C",IF(BO13<21,"SI","NO"),IF(BL13="A",IF(BO13<41,"SI","NO"))))) -> SI | BQ13: =IF(BL13="P",IF(BO13<4,"SI","NO"),IF(BL13="D",IF(BO13<6,"SI","NO"),IF(BL13="C",IF(BO13<11,"SI","NO"),IF(BL13="A",IF(BO13<21,"SI","NO"))))) -> NO
A14: C | B14: ILICIC | C14: ATA | D14: 16 | E14: =IF(A14="P",IF(D14<7,"SI","NO"),IF(A14="D",IF(D14<11,"SI","NO"),IF(A14="C",IF(D14<21,"SI","NO"),IF(A14="A",IF(D14<41,"SI","NO"))))) -> SI | F14: =IF(A14="P",IF(D14<4,"SI","NO"),IF(A14="D",IF(D14<6,"SI","NO"),IF(A14="C",IF(D14<11,"SI","NO"),IF(A14="A",IF(D14<21,"SI","NO"))))) -> NO | H14: C | I14: ZIELINSKI | J14: NAP | K14: 16 | L14: =IF(H14="P",IF(K14<7,"SI","NO"),IF(H14="D",IF(K14<11,"SI","NO"),IF(H14="C",IF(K14<21,"SI","NO"),IF(H14="A",IF(K14<41,"SI","NO"))))) -> SI | M14: =IF(H14="P",IF(K14<4,"SI","NO"),IF(H14="D",IF(K14<6,"SI","NO"),IF(H14="C",IF(K14<11,"SI","NO"),IF(H14="A",IF(K14<21,"SI","NO"))))) -> NO | O14: C | P14: NAINGGOLAN | Q14: ROM | R14: 57 | S14: =IF(O14="P",IF(R14<7,"SI","NO"),IF(O14="D",IF(R14<11,"SI","NO"),IF(O14="C",IF(R14<21,"SI","NO"),IF(O14="A",IF(R14<41,"SI","NO"))))) -> NO | T14: =IF(O14="P",IF(R14<4,"SI","NO"),IF(O14="D",IF(R14<6,"SI","NO"),IF(O14="C",IF(R14<11,"SI","NO"),IF(O14="A",IF(R14<21,"SI","NO"))))) -> NO | V14: C | W14: VERETOUT | X14: FIO | Y14: 5 | Z14: =IF(V14="P",IF(Y14<7,"SI","NO"),IF(V14="D",IF(Y14<11,"SI","NO"),IF(V14="C",IF(Y14<21,"SI","NO"),IF(V14="A",IF(Y14<41,"SI","NO"))))) -> SI | AA14: =IF(V14="P",IF(Y14<4,"SI","NO"),IF(V14="D",IF(Y14<6,"SI","NO"),IF(V14="C",IF(Y14<11,"SI","NO"),IF(V14="A",IF(Y14<21,"SI","NO"))))) -> SI | AC14: C | AD14: PERISIC | AE14: INT | AF14: 74 | AG14: =IF(AC14="P",IF(AF14<7,"SI","NO"),IF(AC14="D",IF(AF14<11,"SI","NO"),IF(AC14="C",IF(AF14<21,"SI","NO"),IF(AC14="A",IF(AF14<41,"SI","NO"))))) -> NO | AH14: =IF(AC14="P",IF(AF14<4,"SI","NO"),IF(AC14="D",IF(AF14<6,"SI","NO"),IF(AC14="C",IF(AF14<11,"SI","NO"),IF(AC14="A",IF(AF14<21,"SI","NO"))))) -> NO | AJ14: C | AK14: RAFINHA | AL14: INT | AM14: 50 | AN14: =IF(AJ14="P",IF(AM14<7,"SI","NO"),IF(AJ14="D",IF(AM14<11,"SI","NO"),IF(AJ14="C",IF(AM14<21,"SI","NO"),IF(AJ14="A",IF(AM14<41,"SI","NO"))))) -> NO | AO14: =IF(AJ14="P",IF(AM14<4,"SI","NO"),IF(AJ14="D",IF(AM14<6,"SI","NO"),IF(AJ14="C",IF(AM14<11,"SI","NO"),IF(AJ14="A",IF(AM14<21,"SI","NO"))))) -> NO | AQ14: C | AR14: BONAVENTURA | AS14: MIL | AT14: 1 | AU14: =IF(AQ14="P",IF(AT14<7,"SI","NO"),IF(AQ14="D",IF(AT14<11,"SI","NO"),IF(AQ14="C",IF(AT14<21,"SI","NO"),IF(AQ14="A",IF(AT14<41,"SI","NO"))))) -> SI | AV14: =IF(AQ14="P",IF(AT14<4,"SI","NO"),IF(AQ14="D",IF(AT14<6,"SI","NO"),IF(AQ14="C",IF(AT14<11,"SI","NO"),IF(AQ14="A",IF(AT14<21,"SI","NO"))))) -> SI | AX14: C | AY14: IAGO FALQUE | AZ14: TOR | BA14: 41 | BB14: =IF(AX14="P",IF(BA14<7,"SI","NO"),IF(AX14="D",IF(BA14<11,"SI","NO"),IF(AX14="C",IF(BA14<21,"SI","NO"),IF(AX14="A",IF(BA14<41,"SI","NO"))))) -> NO | BC14: =IF(AX14="P",IF(BA14<4,"SI","NO"),IF(AX14="D",IF(BA14<6,"SI","NO"),IF(AX14="C",IF(BA14<11,"SI","NO"),IF(AX14="A",IF(BA14<21,"SI","NO"))))) -> NO | BE14: C | BF14: HAMSIK | BG14: NAP | BH14: 70 | BI14: =IF(BE14="P",IF(BH14<7,"SI","NO"),IF(BE14="D",IF(BH14<11,"SI","NO"),IF(BE14="C",IF(BH14<21,"SI","NO"),IF(BE14="A",IF(BH14<41,"SI","NO"))))) -> NO | BJ14: =IF(BE14="P",IF(BH14<4,"SI","NO"),IF(BE14="D",IF(BH14<6,"SI","NO"),IF(BE14="C",IF(BH14<11,"SI","NO"),IF(BE14="A",IF(BH14<21,"SI","NO"))))) -> NO | BL14: C | BM14: ILICIC | BN14: ATA | BO14: 9 | BP14: =IF(BL14="P",IF(BO14<7,"SI","NO"),IF(BL14="D",IF(BO14<11,"SI","NO"),IF(BL14="C",IF(BO14<21,"SI","NO"),IF(BL14="A",IF(BO14<41,"SI","NO"))))) -> SI | BQ14: =IF(BL14="P",IF(BO14<4,"SI","NO"),IF(BL14="D",IF(BO14<6,"SI","NO"),IF(BL14="C",IF(BO14<11,"SI","NO"),IF(BL14="A",IF(BO14<21,"SI","NO"))))) -> SI
A15: C | B15: CALHANOGLU | C15: MIL | D15: 54 | E15: =IF(A15="P",IF(D15<7,"SI","NO"),IF(A15="D",IF(D15<11,"SI","NO"),IF(A15="C",IF(D15<21,"SI","NO"),IF(A15="A",IF(D15<41,"SI","NO"))))) -> NO | F15: =IF(A15="P",IF(D15<4,"SI","NO"),IF(A15="D",IF(D15<6,"SI","NO"),IF(A15="C",IF(D15<11,"SI","NO"),IF(A15="A",IF(D15<21,"SI","NO"))))) -> NO | H15: C | I15: ALLAN | J15: NAP | K15: 11 | L15: =IF(H15="P",IF(K15<7,"SI","NO"),IF(H15="D",IF(K15<11,"SI","NO"),IF(H15="C",IF(K15<21,"SI","NO"),IF(H15="A",IF(K15<41,"SI","NO"))))) -> SI | M15: =IF(H15="P",IF(K15<4,"SI","NO"),IF(H15="D",IF(K15<6,"SI","NO"),IF(H15="C",IF(K15<11,"SI","NO"),IF(H15="A",IF(K15<21,"SI","NO"))))) -> NO | O15: C | P15: LUCAS LEIVA | Q15: LAZ | R15: 7 | S15: =IF(O15="P",IF(R15<7,"SI","NO"),IF(O15="D",IF(R15<11,"SI","NO"),IF(O15="C",IF(R15<21,"SI","NO"),IF(O15="A",IF(R15<41,"SI","NO"))))) -> SI | T15: =IF(O15="P",IF(R15<4,"SI","NO"),IF(O15="D",IF(R15<6,"SI","NO"),IF(O15="C",IF(R15<11,"SI","NO"),IF(O15="A",IF(R15<21,"SI","NO"))))) -> SI | V15: C | W15: RAMIREZ | X15: SAM | Y15: 42 | Z15: =IF(V15="P",IF(Y15<7,"SI","NO"),IF(V15="D",IF(Y15<11,"SI","NO"),IF(V15="C",IF(Y15<21,"SI","NO"),IF(V15="A",IF(Y15<41,"SI","NO"))))) -> NO | AA15: =IF(V15="P",IF(Y15<4,"SI","NO"),IF(V15="D",IF(Y15<6,"SI","NO"),IF(V15="C",IF(Y15<11,"SI","NO"),IF(V15="A",IF(Y15<21,"SI","NO"))))) -> NO | AC15: C | AD15: DOUGLAS COSTA | AE15: JUV | AF15: 51 | AG15: =IF(AC15="P",IF(AF15<7,"SI","NO"),IF(AC15="D",IF(AF15<11,"SI","NO"),IF(AC15="C",IF(AF15<21,"SI","NO"),IF(AC15="A",IF(AF15<41,"SI","NO"))))) -> NO | AH15: =IF(AC15="P",IF(AF15<4,"SI","NO"),IF(AC15="D",IF(AF15<6,"SI","NO"),IF(AC15="C",IF(AF15<11,"SI","NO"),IF(AC15="A",IF(AF15<21,"SI","NO"))))) -> NO | AJ15: C | AK15: CANDREVA | AL15: INT | AM15: 40 | AN15: =IF(AJ15="P",IF(AM15<7,"SI","NO"),IF(AJ15="D",IF(AM15<11,"SI","NO"),IF(AJ15="C",IF(AM15<21,"SI","NO"),IF(AJ15="A",IF(AM15<41,"SI","NO"))))) -> NO | AO15: =IF(AJ15="P",IF(AM15<4,"SI","NO"),IF(AJ15="D",IF(AM15<6,"SI","NO"),IF(AJ15="C",IF(AM15<11,"SI","NO"),IF(AJ15="A",IF(AM15<21,"SI","NO"))))) -> NO | AQ15: C | AR15: CRISTANTE | AS15: ATA | AT15: 9 | AU15: =IF(AQ15="P",IF(AT15<7,"SI","NO"),IF(AQ15="D",IF(AT15<11,"SI","NO"),IF(AQ15="C",IF(AT15<21,"SI","NO"),IF(AQ15="A",IF(AT15<41,"SI","NO"))))) -> SI | AV15: =IF(AQ15="P",IF(AT15<4,"SI","NO"),IF(AQ15="D",IF(AT15<6,"SI","NO"),IF(AQ15="C",IF(AT15<11,"SI","NO"),IF(AQ15="A",IF(AT15<21,"SI","NO"))))) -> SI | AX15: C | AY15: CHIESA | AZ15: FIO | BA15: 53 | BB15: =IF(AX15="P",IF(BA15<7,"SI","NO"),IF(AX15="D",IF(BA15<11,"SI","NO"),IF(AX15="C",IF(BA15<21,"SI","NO"),IF(AX15="A",IF(BA15<41,"SI","NO"))))) -> NO | BC15: =IF(AX15="P",IF(BA15<4,"SI","NO"),IF(AX15="D",IF(BA15<6,"SI","NO"),IF(AX15="C",IF(BA15<11,"SI","NO"),IF(AX15="A",IF(BA15<21,"SI","NO"))))) -> NO | BE15: C | BF15: PJANIC | BG15: JUV | BH15: 51 | BI15: =IF(BE15="P",IF(BH15<7,"SI","NO"),IF(BE15="D",IF(BH15<11,"SI","NO"),IF(BE15="C",IF(BH15<21,"SI","NO"),IF(BE15="A",IF(BH15<41,"SI","NO"))))) -> NO | BJ15: =IF(BE15="P",IF(BH15<4,"SI","NO"),IF(BE15="D",IF(BH15<6,"SI","NO"),IF(BE15="C",IF(BH15<11,"SI","NO"),IF(BE15="A",IF(BH15<21,"SI","NO"))))) -> NO | BL15: C | BM15: LJAJIC | BN15: TOR | BO15: 25 | BP15: =IF(BL15="P",IF(BO15<7,"SI","NO"),IF(BL15="D",IF(BO15<11,"SI","NO"),IF(BL15="C",IF(BO15<21,"SI","NO"),IF(BL15="A",IF(BO15<41,"SI","NO"))))) -> NO | BQ15: =IF(BL15="P",IF(BO15<4,"SI","NO"),IF(BL15="D",IF(BO15<6,"SI","NO"),IF(BL15="C",IF(BO15<11,"SI","NO"),IF(BL15="A",IF(BO15<21,"SI","NO"))))) -> NO
A16: C | B16: FELIPE ANDERSON | C16: LAZ | D16: 33 | E16: =IF(A16="P",IF(D16<7,"SI","NO"),IF(A16="D",IF(D16<11,"SI","NO"),IF(A16="C",IF(D16<21,"SI","NO"),IF(A16="A",IF(D16<41,"SI","NO"))))) -> NO | F16: =IF(A16="P",IF(D16<4,"SI","NO"),IF(A16="D",IF(D16<6,"SI","NO"),IF(A16="C",IF(D16<11,"SI","NO"),IF(A16="A",IF(D16<21,"SI","NO"))))) -> NO | H16: C | I16: BERNARDESCHI | J16: JUV | K16: 23 | L16: =IF(H16="P",IF(K16<7,"SI","NO"),IF(H16="D",IF(K16<11,"SI","NO"),IF(H16="C",IF(K16<21,"SI","NO"),IF(H16="A",IF(K16<41,"SI","NO"))))) -> NO | M16: =IF(H16="P",IF(K16<4,"SI","NO"),IF(H16="D",IF(K16<6,"SI","NO"),IF(H16="C",IF(K16<11,"SI","NO"),IF(H16="A",IF(K16<21,"SI","NO"))))) -> NO | O16: C | P16: DZEMAILI | Q16: BOL | R16: 30 | S16: =IF(O16="P",IF(R16<7,"SI","NO"),IF(O16="D",IF(R16<11,"SI","NO"),IF(O16="C",IF(R16<21,"SI","NO"),IF(O16="A",IF(R16<41,"SI","NO"))))) -> NO | T16: =IF(O16="P",IF(R16<4,"SI","NO"),IF(O16="D",IF(R16<6,"SI","NO"),IF(O16="C",IF(R16<11,"SI","NO"),IF(O16="A",IF(R16<21,"SI","NO"))))) -> NO | V16: C | W16: JANKTO | X16: UDI | Y16: 1 | Z16: =IF(V16="P",IF(Y16<7,"SI","NO"),IF(V16="D",IF(Y16<11,"SI","NO"),IF(V16="C",IF(Y16<21,"SI","NO"),IF(V16="A",IF(Y16<41,"SI","NO"))))) -> SI | AA16: =IF(V16="P",IF(Y16<4,"SI","NO"),IF(V16="D",IF(Y16<6,"SI","NO"),IF(V16="C",IF(Y16<11,"SI","NO"),IF(V16="A",IF(Y16<21,"SI","NO"))))) -> SI | AC16: C | AD16: LJAJIC | AE16: TOR | AF16: 61 | AG16: =IF(AC16="P",IF(AF16<7,"SI","NO"),IF(AC16="D",IF(AF16<11,"SI","NO"),IF(AC16="C",IF(AF16<21,"SI","NO"),IF(AC16="A",IF(AF16<41,"SI","NO"))))) -> NO | AH16: =IF(AC16="P",IF(AF16<4,"SI","NO"),IF(AC16="D",IF(AF16<6,"SI","NO"),IF(AC16="C",IF(AF16<11,"SI","NO"),IF(AC16="A",IF(AF16<21,"SI","NO"))))) -> NO | AJ16: C | AK16: DE PAUL | AL16: UDI | AM16: 26 | AN16: =IF(AJ16="P",IF(AM16<7,"SI","NO"),IF(AJ16="D",IF(AM16<11,"SI","NO"),IF(AJ16="C",IF(AM16<21,"SI","NO"),IF(AJ16="A",IF(AM16<41,"SI","NO"))))) -> NO | AO16: =IF(AJ16="P",IF(AM16<4,"SI","NO"),IF(AJ16="D",IF(AM16<6,"SI","NO"),IF(AJ16="C",IF(AM16<11,"SI","NO"),IF(AJ16="A",IF(AM16<21,"SI","NO"))))) -> NO | AQ16: C | AR16: FARAGO | AS16: CAG | AT16: 12 | AU16: =IF(AQ16="P",IF(AT16<7,"SI","NO"),IF(AQ16="D",IF(AT16<11,"SI","NO"),IF(AQ16="C",IF(AT16<21,"SI","NO"),IF(AQ16="A",IF(AT16<41,"SI","NO"))))) -> SI | AV16: =IF(AQ16="P",IF(AT16<4,"SI","NO"),IF(AQ16="D",IF(AT16<6,"SI","NO"),IF(AQ16="C",IF(AT16<11,"SI","NO"),IF(AQ16="A",IF(AT16<21,"SI","NO"))))) -> NO | AX16: C | AY16: KHEDIRA | AZ16: JUV | BA16: 17 | BB16: =IF(AX16="P",IF(BA16<7,"SI","NO"),IF(AX16="D",IF(BA16<11,"SI","NO"),IF(AX16="C",IF(BA16<21,"SI","NO"),IF(AX16="A",IF(BA16<41,"SI","NO"))))) -> SI | BC16: =IF(AX16="P",IF(BA16<4,"SI","NO"),IF(AX16="D",IF(BA16<6,"SI","NO"),IF(AX16="C",IF(BA16<11,"SI","NO"),IF(AX16="A",IF(BA16<21,"SI","NO"))))) -> NO | BE16: C | BF16: LUIS ALBERTO | BG16: LAZ | BH16: 10 | BI16: =IF(BE16="P",IF(BH16<7,"SI","NO"),IF(BE16="D",IF(BH16<11,"SI","NO"),IF(BE16="C",IF(BH16<21,"SI","NO"),IF(BE16="A",IF(BH16<41,"SI","NO"))))) -> SI | BJ16: =IF(BE16="P",IF(BH16<4,"SI","NO"),IF(BE16="D",IF(BH16<6,"SI","NO"),IF(BE16="C",IF(BH16<11,"SI","NO"),IF(BE16="A",IF(BH16<21,"SI","NO"))))) -> SI | BL16: C | BM16: ZIELINSKI | BN16: NAP | BO16: 37 | BP16: =IF(BL16="P",IF(BO16<7,"SI","NO"),IF(BL16="D",IF(BO16<11,"SI","NO"),IF(BL16="C",IF(BO16<21,"SI","NO"),IF(BL16="A",IF(BO16<41,"SI","NO"))))) -> NO | BQ16: =IF(BL16="P",IF(BO16<4,"SI","NO"),IF(BL16="D",IF(BO16<6,"SI","NO"),IF(BL16="C",IF(BO16<11,"SI","NO"),IF(BL16="A",IF(BO16<21,"SI","NO"))))) -> NO
A17: C | B17: LUCAS LEIVA | C17: LAZ | D17: 3 | E17: =IF(A17="P",IF(D17<7,"SI","NO"),IF(A17="D",IF(D17<11,"SI","NO"),IF(A17="C",IF(D17<21,"SI","NO"),IF(A17="A",IF(D17<41,"SI","NO"))))) -> SI | F17: =IF(A17="P",IF(D17<4,"SI","NO"),IF(A17="D",IF(D17<6,"SI","NO"),IF(A17="C",IF(D17<11,"SI","NO"),IF(A17="A",IF(D17<21,"SI","NO"))))) -> SI | H17: C | I17: MATUIDI | J17: JUV | K17: 30 | L17: =IF(H17="P",IF(K17<7,"SI","NO"),IF(H17="D",IF(K17<11,"SI","NO"),IF(H17="C",IF(K17<21,"SI","NO"),IF(H17="A",IF(K17<41,"SI","NO"))))) -> NO | M17: =IF(H17="P",IF(K17<4,"SI","NO"),IF(H17="D",IF(K17<6,"SI","NO"),IF(H17="C",IF(K17<11,"SI","NO"),IF(H17="A",IF(K17<21,"SI","NO"))))) -> NO | O17: C | P17: LAXALT | Q17: GEN | R17: 4 | S17: =IF(O17="P",IF(R17<7,"SI","NO"),IF(O17="D",IF(R17<11,"SI","NO"),IF(O17="C",IF(R17<21,"SI","NO"),IF(O17="A",IF(R17<41,"SI","NO"))))) -> SI | T17: =IF(O17="P",IF(R17<4,"SI","NO"),IF(O17="D",IF(R17<6,"SI","NO"),IF(O17="C",IF(R17<11,"SI","NO"),IF(O17="A",IF(R17<21,"SI","NO"))))) -> SI | V17: C | W17: DZEMAILI | X17: BOL | Y17: 37 | Z17: =IF(V17="P",IF(Y17<7,"SI","NO"),IF(V17="D",IF(Y17<11,"SI","NO"),IF(V17="C",IF(Y17<21,"SI","NO"),IF(V17="A",IF(Y17<41,"SI","NO"))))) -> NO | AA17: =IF(V17="P",IF(Y17<4,"SI","NO"),IF(V17="D",IF(Y17<6,"SI","NO"),IF(V17="C",IF(Y17<11,"SI","NO"),IF(V17="A",IF(Y17<21,"SI","NO"))))) -> NO | AC17: C | AD17: BIRSA | AE17: CHI | AF17: 30 | AG17: =IF(AC17="P",IF(AF17<7,"SI","NO"),IF(AC17="D",IF(AF17<11,"SI","NO"),IF(AC17="C",IF(AF17<21,"SI","NO"),IF(AC17="A",IF(AF17<41,"SI","NO"))))) -> NO | AH17: =IF(AC17="P",IF(AF17<4,"SI","NO"),IF(AC17="D",IF(AF17<6,"SI","NO"),IF(AC17="C",IF(AF17<11,"SI","NO"),IF(AC17="A",IF(AF17<21,"SI","NO"))))) -> NO | AJ17: C | AK17: LULIC | AL17: LAZ | AM17: 15 | AN17: =IF(AJ17="P",IF(AM17<7,"SI","NO"),IF(AJ17="D",IF(AM17<11,"SI","NO"),IF(AJ17="C",IF(AM17<21,"SI","NO"),IF(AJ17="A",IF(AM17<41,"SI","NO"))))) -> SI | AO17: =IF(AJ17="P",IF(AM17<4,"SI","NO"),IF(AJ17="D",IF(AM17<6,"SI","NO"),IF(AJ17="C",IF(AM17<11,"SI","NO"),IF(AJ17="A",IF(AM17<21,"SI","NO"))))) -> NO | AQ17: C | AR17: LAXALT | AS17: GEN | AT17: 16 | AU17: =IF(AQ17="P",IF(AT17<7,"SI","NO"),IF(AQ17="D",IF(AT17<11,"SI","NO"),IF(AQ17="C",IF(AT17<21,"SI","NO"),IF(AQ17="A",IF(AT17<41,"SI","NO"))))) -> SI | AV17: =IF(AQ17="P",IF(AT17<4,"SI","NO"),IF(AQ17="D",IF(AT17<6,"SI","NO"),IF(AQ17="C",IF(AT17<11,"SI","NO"),IF(AQ17="A",IF(AT17<21,"SI","NO"))))) -> NO | AX17: C | AY17: CANDREVA | AZ17: INT | BA17: 40 | BB17: =IF(AX17="P",IF(BA17<7,"SI","NO"),IF(AX17="D",IF(BA17<11,"SI","NO"),IF(AX17="C",IF(BA17<21,"SI","NO"),IF(AX17="A",IF(BA17<41,"SI","NO"))))) -> NO | BC17: =IF(AX17="P",IF(BA17<4,"SI","NO"),IF(AX17="D",IF(BA17<6,"SI","NO"),IF(AX17="C",IF(BA17<11,"SI","NO"),IF(AX17="A",IF(BA17<21,"SI","NO"))))) -> NO | BE17: C | BF17: BARAK | BG17: UDI | BH17: 68 | BI17: =IF(BE17="P",IF(BH17<7,"SI","NO"),IF(BE17="D",IF(BH17<11,"SI","NO"),IF(BE17="C",IF(BH17<21,"SI","NO"),IF(BE17="A",IF(BH17<41,"SI","NO"))))) -> NO | BJ17: =IF(BE17="P",IF(BH17<4,"SI","NO"),IF(BE17="D",IF(BH17<6,"SI","NO"),IF(BE17="C",IF(BH17<11,"SI","NO"),IF(BE17="A",IF(BH17<21,"SI","NO"))))) -> NO | BL17: C | BM17: BERNARDESCHI | BN17: JUV | BO17: 19 | BP17: =IF(BL17="P",IF(BO17<7,"SI","NO"),IF(BL17="D",IF(BO17<11,"SI","NO"),IF(BL17="C",IF(BO17<21,"SI","NO"),IF(BL17="A",IF(BO17<41,"SI","NO"))))) -> SI | BQ17: =IF(BL17="P",IF(BO17<4,"SI","NO"),IF(BL17="D",IF(BO17<6,"SI","NO"),IF(BL17="C",IF(BO17<11,"SI","NO"),IF(BL17="A",IF(BO17<21,"SI","NO"))))) -> NO
A18: C | B18: BENASSI | C18: FIO | D18: 5 | E18: =IF(A18="P",IF(D18<7,"SI","NO"),IF(A18="D",IF(D18<11,"SI","NO"),IF(A18="C",IF(D18<21,"SI","NO"),IF(A18="A",IF(D18<41,"SI","NO"))))) -> SI | F18: =IF(A18="P",IF(D18<4,"SI","NO"),IF(A18="D",IF(D18<6,"SI","NO"),IF(A18="C",IF(D18<11,"SI","NO"),IF(A18="A",IF(D18<21,"SI","NO"))))) -> SI | H18: C | I18: PEROTTI | J18: ROM | K18: 67 | L18: =IF(H18="P",IF(K18<7,"SI","NO"),IF(H18="D",IF(K18<11,"SI","NO"),IF(H18="C",IF(K18<21,"SI","NO"),IF(H18="A",IF(K18<41,"SI","NO"))))) -> NO | M18: =IF(H18="P",IF(K18<4,"SI","NO"),IF(H18="D",IF(K18<6,"SI","NO"),IF(H18="C",IF(K18<11,"SI","NO"),IF(H18="A",IF(K18<21,"SI","NO"))))) -> NO | O18: C | P18: DE ROON | Q18: ATA | R18: 1 | S18: =IF(O18="P",IF(R18<7,"SI","NO"),IF(O18="D",IF(R18<11,"SI","NO"),IF(O18="C",IF(R18<21,"SI","NO"),IF(O18="A",IF(R18<41,"SI","NO"))))) -> SI | T18: =IF(O18="P",IF(R18<4,"SI","NO"),IF(O18="D",IF(R18<6,"SI","NO"),IF(O18="C",IF(R18<11,"SI","NO"),IF(O18="A",IF(R18<21,"SI","NO"))))) -> SI | V18: C | W18: MISSIROLI | X18: SAS | Y18: 1 | Z18: =IF(V18="P",IF(Y18<7,"SI","NO"),IF(V18="D",IF(Y18<11,"SI","NO"),IF(V18="C",IF(Y18<21,"SI","NO"),IF(V18="A",IF(Y18<41,"SI","NO"))))) -> SI | AA18: =IF(V18="P",IF(Y18<4,"SI","NO"),IF(V18="D",IF(Y18<6,"SI","NO"),IF(V18="C",IF(Y18<11,"SI","NO"),IF(V18="A",IF(Y18<21,"SI","NO"))))) -> SI | AC18: C | AD18: LINETTY | AE18: SAM | AF18: 1 | AG18: =IF(AC18="P",IF(AF18<7,"SI","NO"),IF(AC18="D",IF(AF18<11,"SI","NO"),IF(AC18="C",IF(AF18<21,"SI","NO"),IF(AC18="A",IF(AF18<41,"SI","NO"))))) -> SI | AH18: =IF(AC18="P",IF(AF18<4,"SI","NO"),IF(AC18="D",IF(AF18<6,"SI","NO"),IF(AC18="C",IF(AF18<11,"SI","NO"),IF(AC18="A",IF(AF18<21,"SI","NO"))))) -> SI | AJ18: C | AK18: TORREIRA | AL18: SAM | AM18: 1 | AN18: =IF(AJ18="P",IF(AM18<7,"SI","NO"),IF(AJ18="D",IF(AM18<11,"SI","NO"),IF(AJ18="C",IF(AM18<21,"SI","NO"),IF(AJ18="A",IF(AM18<41,"SI","NO"))))) -> SI | AO18: =IF(AJ18="P",IF(AM18<4,"SI","NO"),IF(AJ18="D",IF(AM18<6,"SI","NO"),IF(AJ18="C",IF(AM18<11,"SI","NO"),IF(AJ18="A",IF(AM18<21,"SI","NO"))))) -> SI | AQ18: C | AR18: PELLEGRINI | AS18: ROM | AT18: 4 | AU18: =IF(AQ18="P",IF(AT18<7,"SI","NO"),IF(AQ18="D",IF(AT18<11,"SI","NO"),IF(AQ18="C",IF(AT18<21,"SI","NO"),IF(AQ18="A",IF(AT18<41,"SI","NO"))))) -> SI | AV18: =IF(AQ18="P",IF(AT18<4,"SI","NO"),IF(AQ18="D",IF(AT18<6,"SI","NO"),IF(AQ18="C",IF(AT18<11,"SI","NO"),IF(AQ18="A",IF(AT18<21,"SI","NO"))))) -> SI | AX18: C | AY18: JANKTO | AZ18: UDI | BA18: 17 | BB18: =IF(AX18="P",IF(BA18<7,"SI","NO"),IF(AX18="D",IF(BA18<11,"SI","NO"),IF(AX18="C",IF(BA18<21,"SI","NO"),IF(AX18="A",IF(BA18<41,"SI","NO"))))) -> SI | BC18: =IF(AX18="P",IF(BA18<4,"SI","NO"),IF(AX18="D",IF(BA18<6,"SI","NO"),IF(AX18="C",IF(BA18<11,"SI","NO"),IF(AX18="A",IF(BA18<21,"SI","NO"))))) -> NO | BE18: C | BF18: VECINO | BG18: INT | BH18: 38 | BI18: =IF(BE18="P",IF(BH18<7,"SI","NO"),IF(BE18="D",IF(BH18<11,"SI","NO"),IF(BE18="C",IF(BH18<21,"SI","NO"),IF(BE18="A",IF(BH18<41,"SI","NO"))))) -> NO | BJ18: =IF(BE18="P",IF(BH18<4,"SI","NO"),IF(BE18="D",IF(BH18<6,"SI","NO"),IF(BE18="C",IF(BH18<11,"SI","NO"),IF(BE18="A",IF(BH18<21,"SI","NO"))))) -> NO | BL18: C | BM18: FREULER | BN18: ATA | BO18: 1 | BP18: =IF(BL18="P",IF(BO18<7,"SI","NO"),IF(BL18="D",IF(BO18<11,"SI","NO"),IF(BL18="C",IF(BO18<21,"SI","NO"),IF(BL18="A",IF(BO18<41,"SI","NO"))))) -> SI | BQ18: =IF(BL18="P",IF(BO18<4,"SI","NO"),IF(BL18="D",IF(BO18<6,"SI","NO"),IF(BL18="C",IF(BO18<11,"SI","NO"),IF(BL18="A",IF(BO18<21,"SI","NO"))))) -> SI
A19: C | B19: JOAO PEDRO | C19: CAG | D19: 36 | E19: =IF(A19="P",IF(D19<7,"SI","NO"),IF(A19="D",IF(D19<11,"SI","NO"),IF(A19="C",IF(D19<21,"SI","NO"),IF(A19="A",IF(D19<41,"SI","NO"))))) -> NO | F19: =IF(A19="P",IF(D19<4,"SI","NO"),IF(A19="D",IF(D19<6,"SI","NO"),IF(A19="C",IF(D19<11,"SI","NO"),IF(A19="A",IF(D19<21,"SI","NO"))))) -> NO | H19: C | I19: CUADRADO | J19: JUV | K19: 30 | L19: =IF(H19="P",IF(K19<7,"SI","NO"),IF(H19="D",IF(K19<11,"SI","NO"),IF(H19="C",IF(K19<21,"SI","NO"),IF(H19="A",IF(K19<41,"SI","NO"))))) -> NO | M19: =IF(H19="P",IF(K19<4,"SI","NO"),IF(H19="D",IF(K19<6,"SI","NO"),IF(H19="C",IF(K19<11,"SI","NO"),IF(H19="A",IF(K19<21,"SI","NO"))))) -> NO | O19: C | P19: LINETTY | Q19: SAM | R19: 20 | S19: =IF(O19="P",IF(R19<7,"SI","NO"),IF(O19="D",IF(R19<11,"SI","NO"),IF(O19="C",IF(R19<21,"SI","NO"),IF(O19="A",IF(R19<41,"SI","NO"))))) -> SI | T19: =IF(O19="P",IF(R19<4,"SI","NO"),IF(O19="D",IF(R19<6,"SI","NO"),IF(O19="C",IF(R19<11,"SI","NO"),IF(O19="A",IF(R19<21,"SI","NO"))))) -> NO | V19: C | W19: BASELLI | X19: TOR | Y19: 5 | Z19: =IF(V19="P",IF(Y19<7,"SI","NO"),IF(V19="D",IF(Y19<11,"SI","NO"),IF(V19="C",IF(Y19<21,"SI","NO"),IF(V19="A",IF(Y19<41,"SI","NO"))))) -> SI | AA19: =IF(V19="P",IF(Y19<4,"SI","NO"),IF(V19="D",IF(Y19<6,"SI","NO"),IF(V19="C",IF(Y19<11,"SI","NO"),IF(V19="A",IF(Y19<21,"SI","NO"))))) -> SI | AC19: C | AD19: GUILHERME | AE19: BEN | AF19: 1 | AG19: =IF(AC19="P",IF(AF19<7,"SI","NO"),IF(AC19="D",IF(AF19<11,"SI","NO"),IF(AC19="C",IF(AF19<21,"SI","NO"),IF(AC19="A",IF(AF19<41,"SI","NO"))))) -> SI | AH19: =IF(AC19="P",IF(AF19<4,"SI","NO"),IF(AC19="D",IF(AF19<6,"SI","NO"),IF(AC19="C",IF(AF19<11,"SI","NO"),IF(AC19="A",IF(AF19<21,"SI","NO"))))) -> SI | AJ19: C | AK19: MAGNANELLI | AL19: SAS | AM19: 1 | AN19: =IF(AJ19="P",IF(AM19<7,"SI","NO"),IF(AJ19="D",IF(AM19<11,"SI","NO"),IF(AJ19="C",IF(AM19<21,"SI","NO"),IF(AJ19="A",IF(AM19<41,"SI","NO"))))) -> SI | AO19: =IF(AJ19="P",IF(AM19<4,"SI","NO"),IF(AJ19="D",IF(AM19<6,"SI","NO"),IF(AJ19="C",IF(AM19<11,"SI","NO"),IF(AJ19="A",IF(AM19<21,"SI","NO"))))) -> SI | AQ19: C | AR19: STOIAN | AS19: CRO | AT19: 1 | AU19: =IF(AQ19="P",IF(AT19<7,"SI","NO"),IF(AQ19="D",IF(AT19<11,"SI","NO"),IF(AQ19="C",IF(AT19<21,"SI","NO"),IF(AQ19="A",IF(AT19<41,"SI","NO"))))) -> SI | AV19: =IF(AQ19="P",IF(AT19<4,"SI","NO"),IF(AQ19="D",IF(AT19<6,"SI","NO"),IF(AQ19="C",IF(AT19<11,"SI","NO"),IF(AQ19="A",IF(AT19<21,"SI","NO"))))) -> SI | AX19: C | AY19: PELLEGRINI | AZ19: ROM | BA19: 1 | BB19: =IF(AX19="P",IF(BA19<7,"SI","NO"),IF(AX19="D",IF(BA19<11,"SI","NO"),IF(AX19="C",IF(BA19<21,"SI","NO"),IF(AX19="A",IF(BA19<41,"SI","NO"))))) -> SI | BC19: =IF(AX19="P",IF(BA19<4,"SI","NO"),IF(AX19="D",IF(BA19<6,"SI","NO"),IF(AX19="C",IF(BA19<11,"SI","NO"),IF(AX19="A",IF(BA19<21,"SI","NO"))))) -> SI | BE19: C | BF19: RINCON | BG19: TOR | BH19: 1 | BI19: =IF(BE19="P",IF(BH19<7,"SI","NO"),IF(BE19="D",IF(BH19<11,"SI","NO"),IF(BE19="C",IF(BH19<21,"SI","NO"),IF(BE19="A",IF(BH19<41,"SI","NO"))))) -> SI | BJ19: =IF(BE19="P",IF(BH19<4,"SI","NO"),IF(BE19="D",IF(BH19<6,"SI","NO"),IF(BE19="C",IF(BH19<11,"SI","NO"),IF(BE19="A",IF(BH19<21,"SI","NO"))))) -> SI | BL19: C | BM19: BROZOVIC | BN19: INT | BO19: 3 | BP19: =IF(BL19="P",IF(BO19<7,"SI","NO"),IF(BL19="D",IF(BO19<11,"SI","NO"),IF(BL19="C",IF(BO19<21,"SI","NO"),IF(BL19="A",IF(BO19<41,"SI","NO"))))) -> SI | BQ19: =IF(BL19="P",IF(BO19<4,"SI","NO"),IF(BL19="D",IF(BO19<6,"SI","NO"),IF(BL19="C",IF(BO19<11,"SI","NO"),IF(BL19="A",IF(BO19<21,"SI","NO"))))) -> SI
A20: C | B20: BERENGUER | C20: TOR | D20: 3 | E20: =IF(A20="P",IF(D20<7,"SI","NO"),IF(A20="D",IF(D20<11,"SI","NO"),IF(A20="C",IF(D20<21,"SI","NO"),IF(A20="A",IF(D20<41,"SI","NO"))))) -> SI | F20: =IF(A20="P",IF(D20<4,"SI","NO"),IF(A20="D",IF(D20<6,"SI","NO"),IF(A20="C",IF(D20<11,"SI","NO"),IF(A20="A",IF(D20<21,"SI","NO"))))) -> SI | H20: C | I20: VIVIANI | J20: SPA | K20: 3 | L20: =IF(H20="P",IF(K20<7,"SI","NO"),IF(H20="D",IF(K20<11,"SI","NO"),IF(H20="C",IF(K20<21,"SI","NO"),IF(H20="A",IF(K20<41,"SI","NO"))))) -> SI | M20: =IF(H20="P",IF(K20<4,"SI","NO"),IF(H20="D",IF(K20<6,"SI","NO"),IF(H20="C",IF(K20<11,"SI","NO"),IF(H20="A",IF(K20<21,"SI","NO"))))) -> SI | O20: C | P20: RINCON | Q20: TOR | R20: 1 | S20: =IF(O20="P",IF(R20<7,"SI","NO"),IF(O20="D",IF(R20<11,"SI","NO"),IF(O20="C",IF(R20<21,"SI","NO"),IF(O20="A",IF(R20<41,"SI","NO"))))) -> SI | T20: =IF(O20="P",IF(R20<4,"SI","NO"),IF(O20="D",IF(R20<6,"SI","NO"),IF(O20="C",IF(R20<11,"SI","NO"),IF(O20="A",IF(R20<21,"SI","NO"))))) -> SI | V20: C | W20: DE ROSSI | X20: ROM | Y20: 2 | Z20: =IF(V20="P",IF(Y20<7,"SI","NO"),IF(V20="D",IF(Y20<11,"SI","NO"),IF(V20="C",IF(Y20<21,"SI","NO"),IF(V20="A",IF(Y20<41,"SI","NO"))))) -> SI | AA20: =IF(V20="P",IF(Y20<4,"SI","NO"),IF(V20="D",IF(Y20<6,"SI","NO"),IF(V20="C",IF(Y20<11,"SI","NO"),IF(V20="A",IF(Y20<21,"SI","NO"))))) -> SI | AC20: C | AD20: CIGARINI | AE20: CAG | AF20: 1 | AG20: =IF(AC20="P",IF(AF20<7,"SI","NO"),IF(AC20="D",IF(AF20<11,"SI","NO"),IF(AC20="C",IF(AF20<21,"SI","NO"),IF(AC20="A",IF(AF20<41,"SI","NO"))))) -> SI | AH20: =IF(AC20="P",IF(AF20<4,"SI","NO"),IF(AC20="D",IF(AF20<6,"SI","NO"),IF(AC20="C",IF(AF20<11,"SI","NO"),IF(AC20="A",IF(AF20<21,"SI","NO"))))) -> SI | AJ20: C | AK20: MIGUEL VELOSO | AL20: GEN | AM20: 1 | AN20: =IF(AJ20="P",IF(AM20<7,"SI","NO"),IF(AJ20="D",IF(AM20<11,"SI","NO"),IF(AJ20="C",IF(AM20<21,"SI","NO"),IF(AJ20="A",IF(AM20<41,"SI","NO"))))) -> SI | AO20: =IF(AJ20="P",IF(AM20<4,"SI","NO"),IF(AJ20="D",IF(AM20<6,"SI","NO"),IF(AJ20="C",IF(AM20<11,"SI","NO"),IF(AJ20="A",IF(AM20<21,"SI","NO"))))) -> SI | AQ20: C | AR20: STROOTMAN | AS20: ROM | AT20: 36 | AU20: =IF(AQ20="P",IF(AT20<7,"SI","NO"),IF(AQ20="D",IF(AT20<11,"SI","NO"),IF(AQ20="C",IF(AT20<21,"SI","NO"),IF(AQ20="A",IF(AT20<41,"SI","NO"))))) -> NO | AV20: =IF(AQ20="P",IF(AT20<4,"SI","NO"),IF(AQ20="D",IF(AT20<6,"SI","NO"),IF(AQ20="C",IF(AT20<11,"SI","NO"),IF(AQ20="A",IF(AT20<21,"SI","NO"))))) -> NO | AX20: C | AY20: JORGINHO | AZ20: NAP | BA20: 7 | BB20: =IF(AX20="P",IF(BA20<7,"SI","NO"),IF(AX20="D",IF(BA20<11,"SI","NO"),IF(AX20="C",IF(BA20<21,"SI","NO"),IF(AX20="A",IF(BA20<41,"SI","NO"))))) -> SI | BC20: =IF(AX20="P",IF(BA20<4,"SI","NO"),IF(AX20="D",IF(BA20<6,"SI","NO"),IF(AX20="C",IF(BA20<11,"SI","NO"),IF(AX20="A",IF(BA20<21,"SI","NO"))))) -> SI | BE20: C | BF20: BESSA | BG20: GEN | BH20: 12 | BI20: =IF(BE20="P",IF(BH20<7,"SI","NO"),IF(BE20="D",IF(BH20<11,"SI","NO"),IF(BE20="C",IF(BH20<21,"SI","NO"),IF(BE20="A",IF(BH20<41,"SI","NO"))))) -> SI | BJ20: =IF(BE20="P",IF(BH20<4,"SI","NO"),IF(BE20="D",IF(BH20<6,"SI","NO"),IF(BE20="C",IF(BH20<11,"SI","NO"),IF(BE20="A",IF(BH20<21,"SI","NO"))))) -> NO | BL20: C | BM20: BARAK | BN20: UDI | BO20: 21 | BP20: =IF(BL20="P",IF(BO20<7,"SI","NO"),IF(BL20="D",IF(BO20<11,"SI","NO"),IF(BL20="C",IF(BO20<21,"SI","NO"),IF(BL20="A",IF(BO20<41,"SI","NO"))))) -> NO | BQ20: =IF(BL20="P",IF(BO20<4,"SI","NO"),IF(BL20="D",IF(BO20<6,"SI","NO"),IF(BL20="C",IF(BO20<11,"SI","NO"),IF(BL20="A",IF(BO20<21,"SI","NO"))))) -> NO
A21: C | B21: RIGONI L | C21: GEN | D21: 1 | E21: =IF(A21="P",IF(D21<7,"SI","NO"),IF(A21="D",IF(D21<11,"SI","NO"),IF(A21="C",IF(D21<21,"SI","NO"),IF(A21="A",IF(D21<41,"SI","NO"))))) -> SI | F21: =IF(A21="P",IF(D21<4,"SI","NO"),IF(A21="D",IF(D21<6,"SI","NO"),IF(A21="C",IF(D21<11,"SI","NO"),IF(A21="A",IF(D21<21,"SI","NO"))))) -> SI | H21: C | I21: MARCHISIO | J21: JUV | K21: 5 | L21: =IF(H21="P",IF(K21<7,"SI","NO"),IF(H21="D",IF(K21<11,"SI","NO"),IF(H21="C",IF(K21<21,"SI","NO"),IF(H21="A",IF(K21<41,"SI","NO"))))) -> SI | M21: =IF(H21="P",IF(K21<4,"SI","NO"),IF(H21="D",IF(K21<6,"SI","NO"),IF(H21="C",IF(K21<11,"SI","NO"),IF(H21="A",IF(K21<21,"SI","NO"))))) -> SI | O21: C | P21: DUNCAN | Q21: SAS | R21: 1 | S21: =IF(O21="P",IF(R21<7,"SI","NO"),IF(O21="D",IF(R21<11,"SI","NO"),IF(O21="C",IF(R21<21,"SI","NO"),IF(O21="A",IF(R21<41,"SI","NO"))))) -> SI | T21: =IF(O21="P",IF(R21<4,"SI","NO"),IF(O21="D",IF(R21<6,"SI","NO"),IF(O21="C",IF(R21<11,"SI","NO"),IF(O21="A",IF(R21<21,"SI","NO"))))) -> SI | V21: C | W21: BENALI | X21: CRO | Y21: 3 | Z21: =IF(V21="P",IF(Y21<7,"SI","NO"),IF(V21="D",IF(Y21<11,"SI","NO"),IF(V21="C",IF(Y21<21,"SI","NO"),IF(V21="A",IF(Y21<41,"SI","NO"))))) -> SI | AA21: =IF(V21="P",IF(Y21<4,"SI","NO"),IF(V21="D",IF(Y21<6,"SI","NO"),IF(V21="C",IF(Y21<11,"SI","NO"),IF(V21="A",IF(Y21<21,"SI","NO"))))) -> SI | AC21: C | AD21: SPINAZZOLA | AE21: ATA | AF21: 3 | AG21: =IF(AC21="P",IF(AF21<7,"SI","NO"),IF(AC21="D",IF(AF21<11,"SI","NO"),IF(AC21="C",IF(AF21<21,"SI","NO"),IF(AC21="A",IF(AF21<41,"SI","NO"))))) -> SI | AH21: =IF(AC21="P",IF(AF21<4,"SI","NO"),IF(AC21="D",IF(AF21<6,"SI","NO"),IF(AC21="C",IF(AF21<11,"SI","NO"),IF(AC21="A",IF(AF21<21,"SI","NO"))))) -> SI | AJ21: C | AK21: KREJCI | AL21: BOL | AM21: 1 | AN21: =IF(AJ21="P",IF(AM21<7,"SI","NO"),IF(AJ21="D",IF(AM21<11,"SI","NO"),IF(AJ21="C",IF(AM21<21,"SI","NO"),IF(AJ21="A",IF(AM21<41,"SI","NO"))))) -> SI | AO21: =IF(AJ21="P",IF(AM21<4,"SI","NO"),IF(AJ21="D",IF(AM21<6,"SI","NO"),IF(AJ21="C",IF(AM21<11,"SI","NO"),IF(AJ21="A",IF(AM21<21,"SI","NO"))))) -> SI | AQ21: C | AR21: GIACCHERINI | AS21: CHI | AT21: 17 | AU21: =IF(AQ21="P",IF(AT21<7,"SI","NO"),IF(AQ21="D",IF(AT21<11,"SI","NO"),IF(AQ21="C",IF(AT21<21,"SI","NO"),IF(AQ21="A",IF(AT21<41,"SI","NO"))))) -> SI | AV21: =IF(AQ21="P",IF(AT21<4,"SI","NO"),IF(AQ21="D",IF(AT21<6,"SI","NO"),IF(AQ21="C",IF(AT21<11,"SI","NO"),IF(AQ21="A",IF(AT21<21,"SI","NO"))))) -> NO | AX21: C | AY21: BARELLA | AZ21: CAG | BA21: 3 | BB21: =IF(AX21="P",IF(BA21<7,"SI","NO"),IF(AX21="D",IF(BA21<11,"SI","NO"),IF(AX21="C",IF(BA21<21,"SI","NO"),IF(AX21="A",IF(BA21<41,"SI","NO"))))) -> SI | BC21: =IF(AX21="P",IF(BA21<4,"SI","NO"),IF(AX21="D",IF(BA21<6,"SI","NO"),IF(AX21="C",IF(BA21<11,"SI","NO"),IF(AX21="A",IF(BA21<21,"SI","NO"))))) -> SI | BE21: C | BF21: GAGLIARDINI | BG21: INT | BH21: 1 | BI21: =IF(BE21="P",IF(BH21<7,"SI","NO"),IF(BE21="D",IF(BH21<11,"SI","NO"),IF(BE21="C",IF(BH21<21,"SI","NO"),IF(BE21="A",IF(BH21<41,"SI","NO"))))) -> SI | BJ21: =IF(BE21="P",IF(BH21<4,"SI","NO"),IF(BE21="D",IF(BH21<6,"SI","NO"),IF(BE21="C",IF(BH21<11,"SI","NO"),IF(BE21="A",IF(BH21<21,"SI","NO"))))) -> SI | BL21: C | BM21: KURTIC | BN21: SPA | BO21: 2 | BP21: =IF(BL21="P",IF(BO21<7,"SI","NO"),IF(BL21="D",IF(BO21<11,"SI","NO"),IF(BL21="C",IF(BO21<21,"SI","NO"),IF(BL21="A",IF(BO21<41,"SI","NO"))))) -> SI | BQ21: =IF(BL21="P",IF(BO21<4,"SI","NO"),IF(BL21="D",IF(BO21<6,"SI","NO"),IF(BL21="C",IF(BO21<11,"SI","NO"),IF(BL21="A",IF(BO21<21,"SI","NO"))))) -> SI
A22: A | B22: INSIGNE | C22: NAP | D22: 40 | E22: =IF(A22="P",IF(D22<7,"SI","NO"),IF(A22="D",IF(D22<11,"SI","NO"),IF(A22="C",IF(D22<21,"SI","NO"),IF(A22="A",IF(D22<41,"SI","NO"))))) -> SI | F22: =IF(A22="P",IF(D22<4,"SI","NO"),IF(A22="D",IF(D22<6,"SI","NO"),IF(A22="C",IF(D22<11,"SI","NO"),IF(A22="A",IF(D22<21,"SI","NO"))))) -> NO | H22: A | I22: MANDZUKIC | J22: JUV | K22: 46 | L22: =IF(H22="P",IF(K22<7,"SI","NO"),IF(H22="D",IF(K22<11,"SI","NO"),IF(H22="C",IF(K22<21,"SI","NO"),IF(H22="A",IF(K22<41,"SI","NO"))))) -> NO | M22: =IF(H22="P",IF(K22<4,"SI","NO"),IF(H22="D",IF(K22<6,"SI","NO"),IF(H22="C",IF(K22<11,"SI","NO"),IF(H22="A",IF(K22<21,"SI","NO"))))) -> NO | O22: A | P22: MERTENS | Q22: NAP | R22: 215 | S22: =IF(O22="P",IF(R22<7,"SI","NO"),IF(O22="D",IF(R22<11,"SI","NO"),IF(O22="C",IF(R22<21,"SI","NO"),IF(O22="A",IF(R22<41,"SI","NO"))))) -> NO | T22: =IF(O22="P",IF(R22<4,"SI","NO"),IF(O22="D",IF(R22<6,"SI","NO"),IF(O22="C",IF(R22<11,"SI","NO"),IF(O22="A",IF(R22<21,"SI","NO"))))) -> NO | V22: A | W22: ICARDI | X22: INT | Y22: 222 | Z22: =IF(V22="P",IF(Y22<7,"SI","NO"),IF(V22="D",IF(Y22<11,"SI","NO"),IF(V22="C",IF(Y22<21,"SI","NO"),IF(V22="A",IF(Y22<41,"SI","NO"))))) -> NO | AA22: =IF(V22="P",IF(Y22<4,"SI","NO"),IF(V22="D",IF(Y22<6,"SI","NO"),IF(V22="C",IF(Y22<11,"SI","NO"),IF(V22="A",IF(Y22<21,"SI","NO"))))) -> NO | AC22: A | AD22: IMMOBILE | AE22: LAZ | AF22: 163 | AG22: =IF(AC22="P",IF(AF22<7,"SI","NO"),IF(AC22="D",IF(AF22<11,"SI","NO"),IF(AC22="C",IF(AF22<21,"SI","NO"),IF(AC22="A",IF(AF22<41,"SI","NO"))))) -> NO | AH22: =IF(AC22="P",IF(AF22<4,"SI","NO"),IF(AC22="D",IF(AF22<6,"SI","NO"),IF(AC22="C",IF(AF22<11,"SI","NO"),IF(AC22="A",IF(AF22<21,"SI","NO"))))) -> NO | AJ22: A | AK22: MERTENS | AL22: NAP | AM22: 177 | AN22: =IF(AJ22="P",IF(AM22<7,"SI","NO"),IF(AJ22="D",IF(AM22<11,"SI","NO"),IF(AJ22="C",IF(AM22<21,"SI","NO"),IF(AJ22="A",IF(AM22<41,"SI","NO"))))) -> NO | AO22: =IF(AJ22="P",IF(AM22<4,"SI","NO"),IF(AJ22="D",IF(AM22<6,"SI","NO"),IF(AJ22="C",IF(AM22<11,"SI","NO"),IF(AJ22="A",IF(AM22<21,"SI","NO"))))) -> NO | AQ22: A | AR22: DZEKO | AS22: ROM | AT22: 186 | AU22: =IF(AQ22="P",IF(AT22<7,"SI","NO"),IF(AQ22="D",IF(AT22<11,"SI","NO"),IF(AQ22="C",IF(AT22<21,"SI","NO"),IF(AQ22="A",IF(AT22<41,"SI","NO"))))) -> NO | AV22: =IF(AQ22="P",IF(AT22<4,"SI","NO"),IF(AQ22="D",IF(AT22<6,"SI","NO"),IF(AQ22="C",IF(AT22<11,"SI","NO"),IF(AQ22="A",IF(AT22<21,"SI","NO"))))) -> NO | AX22: A | AY22: DYBALA | AZ22: JUV | BA22: 224 | BB22: =IF(AX22="P",IF(BA22<7,"SI","NO"),IF(AX22="D",IF(BA22<11,"SI","NO"),IF(AX22="C",IF(BA22<21,"SI","NO"),IF(AX22="A",IF(BA22<41,"SI","NO"))))) -> NO | BC22: =IF(AX22="P",IF(BA22<4,"SI","NO"),IF(AX22="D",IF(BA22<6,"SI","NO"),IF(AX22="C",IF(BA22<11,"SI","NO"),IF(AX22="A",IF(BA22<21,"SI","NO"))))) -> NO | BE22: A | BF22: HIGUAIN | BG22: JUV | BH22: 193 | BI22: =IF(BE22="P",IF(BH22<7,"SI","NO"),IF(BE22="D",IF(BH22<11,"SI","NO"),IF(BE22="C",IF(BH22<21,"SI","NO"),IF(BE22="A",IF(BH22<41,"SI","NO"))))) -> NO | BJ22: =IF(BE22="P",IF(BH22<4,"SI","NO"),IF(BE22="D",IF(BH22<6,"SI","NO"),IF(BE22="C",IF(BH22<11,"SI","NO"),IF(BE22="A",IF(BH22<21,"SI","NO"))))) -> NO | BL22: A | BM22: IMMOBILE | BN22: LAZ | BO22: 200 | BP22: =IF(BL22="P",IF(BO22<7,"SI","NO"),IF(BL22="D",IF(BO22<11,"SI","NO"),IF(BL22="C",IF(BO22<21,"SI","NO"),IF(BL22="A",IF(BO22<41,"SI","NO"))))) -> NO | BQ22: =IF(BL22="P",IF(BO22<4,"SI","NO"),IF(BL22="D",IF(BO22<6,"SI","NO"),IF(BL22="C",IF(BO22<11,"SI","NO"),IF(BL22="A",IF(BO22<21,"SI","NO"))))) -> NO
A23: A | B23: QUAGLIARELLA | C23: SAM | D23: 45 | E23: =IF(A23="P",IF(D23<7,"SI","NO"),IF(A23="D",IF(D23<11,"SI","NO"),IF(A23="C",IF(D23<21,"SI","NO"),IF(A23="A",IF(D23<41,"SI","NO"))))) -> NO | F23: =IF(A23="P",IF(D23<4,"SI","NO"),IF(A23="D",IF(D23<6,"SI","NO"),IF(A23="C",IF(D23<11,"SI","NO"),IF(A23="A",IF(D23<21,"SI","NO"))))) -> NO | H23: A | I23: CUTRONE | J23: MIL | K23: 15 | L23: =IF(H23="P",IF(K23<7,"SI","NO"),IF(H23="D",IF(K23<11,"SI","NO"),IF(H23="C",IF(K23<21,"SI","NO"),IF(H23="A",IF(K23<41,"SI","NO"))))) -> SI | M23: =IF(H23="P",IF(K23<4,"SI","NO"),IF(H23="D",IF(K23<6,"SI","NO"),IF(H23="C",IF(K23<11,"SI","NO"),IF(H23="A",IF(K23<21,"SI","NO"))))) -> SI | O23: A | P23: VERDI | Q23: BOL | R23: 3 | S23: =IF(O23="P",IF(R23<7,"SI","NO"),IF(O23="D",IF(R23<11,"SI","NO"),IF(O23="C",IF(R23<21,"SI","NO"),IF(O23="A",IF(R23<41,"SI","NO"))))) -> SI | T23: =IF(O23="P",IF(R23<4,"SI","NO"),IF(O23="D",IF(R23<6,"SI","NO"),IF(O23="C",IF(R23<11,"SI","NO"),IF(O23="A",IF(R23<21,"SI","NO"))))) -> SI | V23: A | W23: GOMEZ A | X23: ATA | Y23: 96 | Z23: =IF(V23="P",IF(Y23<7,"SI","NO"),IF(V23="D",IF(Y23<11,"SI","NO"),IF(V23="C",IF(Y23<21,"SI","NO"),IF(V23="A",IF(Y23<41,"SI","NO"))))) -> NO | AA23: =IF(V23="P",IF(Y23<4,"SI","NO"),IF(V23="D",IF(Y23<6,"SI","NO"),IF(V23="C",IF(Y23<11,"SI","NO"),IF(V23="A",IF(Y23<21,"SI","NO"))))) -> NO | AC23: A | AD23: INGLESE | AE23: CHI | AF23: 38 | AG23: =IF(AC23="P",IF(AF23<7,"SI","NO"),IF(AC23="D",IF(AF23<11,"SI","NO"),IF(AC23="C",IF(AF23<21,"SI","NO"),IF(AC23="A",IF(AF23<41,"SI","NO"))))) -> SI | AH23: =IF(AC23="P",IF(AF23<4,"SI","NO"),IF(AC23="D",IF(AF23<6,"SI","NO"),IF(AC23="C",IF(AF23<11,"SI","NO"),IF(AC23="A",IF(AF23<21,"SI","NO"))))) -> NO | AJ23: A | AK23: CALLEJON | AL23: NAP | AM23: 75 | AN23: =IF(AJ23="P",IF(AM23<7,"SI","NO"),IF(AJ23="D",IF(AM23<11,"SI","NO"),IF(AJ23="C",IF(AM23<21,"SI","NO"),IF(AJ23="A",IF(AM23<41,"SI","NO"))))) -> NO | AO23: =IF(AJ23="P",IF(AM23<4,"SI","NO"),IF(AJ23="D",IF(AM23<6,"SI","NO"),IF(AJ23="C",IF(AM23<11,"SI","NO"),IF(AJ23="A",IF(AM23<21,"SI","NO"))))) -> NO | AQ23: A | AR23: ANTENUCCI | AS23: SPA | AT23: 36 | AU23: =IF(AQ23="P",IF(AT23<7,"SI","NO"),IF(AQ23="D",IF(AT23<11,"SI","NO"),IF(AQ23="C",IF(AT23<21,"SI","NO"),IF(AQ23="A",IF(AT23<41,"SI","NO"))))) -> SI | AV23: =IF(AQ23="P",IF(AT23<4,"SI","NO"),IF(AQ23="D",IF(AT23<6,"SI","NO"),IF(AQ23="C",IF(AT23<11,"SI","NO"),IF(AQ23="A",IF(AT23<21,"SI","NO"))))) -> NO | AX23: A | AY23: BERARDI | AZ23: SAS | BA23: 76 | BB23: =IF(AX23="P",IF(BA23<7,"SI","NO"),IF(AX23="D",IF(BA23<11,"SI","NO"),IF(AX23="C",IF(BA23<21,"SI","NO"),IF(AX23="A",IF(BA23<41,"SI","NO"))))) -> NO | BC23: =IF(AX23="P",IF(BA23<4,"SI","NO"),IF(AX23="D",IF(BA23<6,"SI","NO"),IF(AX23="C",IF(BA23<11,"SI","NO"),IF(AX23="A",IF(BA23<21,"SI","NO"))))) -> NO | BE23: A | BF23: VERDI | BG23: BOL | BH23: 12 | BI23: =IF(BE23="P",IF(BH23<7,"SI","NO"),IF(BE23="D",IF(BH23<11,"SI","NO"),IF(BE23="C",IF(BH23<21,"SI","NO"),IF(BE23="A",IF(BH23<41,"SI","NO"))))) -> SI | BJ23: =IF(BE23="P",IF(BH23<4,"SI","NO"),IF(BE23="D",IF(BH23<6,"SI","NO"),IF(BE23="C",IF(BH23<11,"SI","NO"),IF(BE23="A",IF(BH23<21,"SI","NO"))))) -> SI | BL23: A | BM23: ANTENUCCI | BN23: SPA | BO23: 24 | BP23: =IF(BL23="P",IF(BO23<7,"SI","NO"),IF(BL23="D",IF(BO23<11,"SI","NO"),IF(BL23="C",IF(BO23<21,"SI","NO"),IF(BL23="A",IF(BO23<41,"SI","NO"))))) -> SI | BQ23: =IF(BL23="P",IF(BO23<4,"SI","NO"),IF(BL23="D",IF(BO23<6,"SI","NO"),IF(BL23="C",IF(BO23<11,"SI","NO"),IF(BL23="A",IF(BO23<21,"SI","NO"))))) -> NO
A24: A | B24: SUSO | C24: MIL | D24: 66 | E24: =IF(A24="P",IF(D24<7,"SI","NO"),IF(A24="D",IF(D24<11,"SI","NO"),IF(A24="C",IF(D24<21,"SI","NO"),IF(A24="A",IF(D24<41,"SI","NO"))))) -> NO | F24: =IF(A24="P",IF(D24<4,"SI","NO"),IF(A24="D",IF(D24<6,"SI","NO"),IF(A24="C",IF(D24<11,"SI","NO"),IF(A24="A",IF(D24<21,"SI","NO"))))) -> NO | H24: A | I24: PETAGNA | J24: ATA | K24: 38 | L24: =IF(H24="P",IF(K24<7,"SI","NO"),IF(H24="D",IF(K24<11,"SI","NO"),IF(H24="C",IF(K24<21,"SI","NO"),IF(H24="A",IF(K24<41,"SI","NO"))))) -> SI | M24: =IF(H24="P",IF(K24<4,"SI","NO"),IF(H24="D",IF(K24<6,"SI","NO"),IF(H24="C",IF(K24<11,"SI","NO"),IF(H24="A",IF(K24<21,"SI","NO"))))) -> NO | O24: A | P24: LASAGNA | Q24: UDI | R24: 19 | S24: =IF(O24="P",IF(R24<7,"SI","NO"),IF(O24="D",IF(R24<11,"SI","NO"),IF(O24="C",IF(R24<21,"SI","NO"),IF(O24="A",IF(R24<41,"SI","NO"))))) -> SI | T24: =IF(O24="P",IF(R24<4,"SI","NO"),IF(O24="D",IF(R24<6,"SI","NO"),IF(O24="C",IF(R24<11,"SI","NO"),IF(O24="A",IF(R24<21,"SI","NO"))))) -> SI | V24: A | W24: FALCINELLI | X24: FIO | Y24: 13 | Z24: =IF(V24="P",IF(Y24<7,"SI","NO"),IF(V24="D",IF(Y24<11,"SI","NO"),IF(V24="C",IF(Y24<21,"SI","NO"),IF(V24="A",IF(Y24<41,"SI","NO"))))) -> SI | AA24: =IF(V24="P",IF(Y24<4,"SI","NO"),IF(V24="D",IF(Y24<6,"SI","NO"),IF(V24="C",IF(Y24<11,"SI","NO"),IF(V24="A",IF(Y24<21,"SI","NO"))))) -> SI | AC24: A | AD24: PALOSCHI | AE24: SPA | AF24: 4 | AG24: =IF(AC24="P",IF(AF24<7,"SI","NO"),IF(AC24="D",IF(AF24<11,"SI","NO"),IF(AC24="C",IF(AF24<21,"SI","NO"),IF(AC24="A",IF(AF24<41,"SI","NO"))))) -> SI | AH24: =IF(AC24="P",IF(AF24<4,"SI","NO"),IF(AC24="D",IF(AF24<6,"SI","NO"),IF(AC24="C",IF(AF24<11,"SI","NO"),IF(AC24="A",IF(AF24<21,"SI","NO"))))) -> SI | AJ24: A | AK24: LASAGNA | AL24: UDI | AM24: 1 | AN24: =IF(AJ24="P",IF(AM24<7,"SI","NO"),IF(AJ24="D",IF(AM24<11,"SI","NO"),IF(AJ24="C",IF(AM24<21,"SI","NO"),IF(AJ24="A",IF(AM24<41,"SI","NO"))))) -> SI | AO24: =IF(AJ24="P",IF(AM24<4,"SI","NO"),IF(AJ24="D",IF(AM24<6,"SI","NO"),IF(AJ24="C",IF(AM24<11,"SI","NO"),IF(AJ24="A",IF(AM24<21,"SI","NO"))))) -> SI | AQ24: A | AR24: KALINIC | AS24: MIL | AT24: 81 | AU24: =IF(AQ24="P",IF(AT24<7,"SI","NO"),IF(AQ24="D",IF(AT24<11,"SI","NO"),IF(AQ24="C",IF(AT24<21,"SI","NO"),IF(AQ24="A",IF(AT24<41,"SI","NO"))))) -> NO | AV24: =IF(AQ24="P",IF(AT24<4,"SI","NO"),IF(AQ24="D",IF(AT24<6,"SI","NO"),IF(AQ24="C",IF(AT24<11,"SI","NO"),IF(AQ24="A",IF(AT24<21,"SI","NO"))))) -> NO | AX24: A | AY24: BORRIELLO | AZ24: SPA | BA24: 1 | BB24: =IF(AX24="P",IF(BA24<7,"SI","NO"),IF(AX24="D",IF(BA24<11,"SI","NO"),IF(AX24="C",IF(BA24<21,"SI","NO"),IF(AX24="A",IF(BA24<41,"SI","NO"))))) -> SI | BC24: =IF(AX24="P",IF(BA24<4,"SI","NO"),IF(AX24="D",IF(BA24<6,"SI","NO"),IF(AX24="C",IF(BA24<11,"SI","NO"),IF(AX24="A",IF(BA24<21,"SI","NO"))))) -> SI | BE24: A | BF24: PANDEV | BG24: GEN | BH24: 2 | BI24: =IF(BE24="P",IF(BH24<7,"SI","NO"),IF(BE24="D",IF(BH24<11,"SI","NO"),IF(BE24="C",IF(BH24<21,"SI","NO"),IF(BE24="A",IF(BH24<41,"SI","NO"))))) -> SI | BJ24: =IF(BE24="P",IF(BH24<4,"SI","NO"),IF(BE24="D",IF(BH24<6,"SI","NO"),IF(BE24="C",IF(BH24<11,"SI","NO"),IF(BE24="A",IF(BH24<21,"SI","NO"))))) -> SI | BL24: A | BM24: POLITANO | BN24: SAS | BO24: 16 | BP24: =IF(BL24="P",IF(BO24<7,"SI","NO"),IF(BL24="D",IF(BO24<11,"SI","NO"),IF(BL24="C",IF(BO24<21,"SI","NO"),IF(BL24="A",IF(BO24<41,"SI","NO"))))) -> SI | BQ24: =IF(BL24="P",IF(BO24<4,"SI","NO"),IF(BL24="D",IF(BO24<6,"SI","NO"),IF(BL24="C",IF(BO24<11,"SI","NO"),IF(BL24="A",IF(BO24<21,"SI","NO"))))) -> SI
A25: A | B25: POLITANO | C25: SAS | D25: 15 | E25: =IF(A25="P",IF(D25<7,"SI","NO"),IF(A25="D",IF(D25<11,"SI","NO"),IF(A25="C",IF(D25<21,"SI","NO"),IF(A25="A",IF(D25<41,"SI","NO"))))) -> SI | F25: =IF(A25="P",IF(D25<4,"SI","NO"),IF(A25="D",IF(D25<6,"SI","NO"),IF(A25="C",IF(D25<11,"SI","NO"),IF(A25="A",IF(D25<21,"SI","NO"))))) -> SI | H25: A | I25: MILIK | J25: NAP | K25: 64 | L25: =IF(H25="P",IF(K25<7,"SI","NO"),IF(H25="D",IF(K25<11,"SI","NO"),IF(H25="C",IF(K25<21,"SI","NO"),IF(H25="A",IF(K25<41,"SI","NO"))))) -> NO | M25: =IF(H25="P",IF(K25<4,"SI","NO"),IF(H25="D",IF(K25<6,"SI","NO"),IF(H25="C",IF(K25<11,"SI","NO"),IF(H25="A",IF(K25<21,"SI","NO"))))) -> NO | O25: A | P25: INGLESE | Q25: CHI | R25: 33 | S25: =IF(O25="P",IF(R25<7,"SI","NO"),IF(O25="D",IF(R25<11,"SI","NO"),IF(O25="C",IF(R25<21,"SI","NO"),IF(O25="A",IF(R25<41,"SI","NO"))))) -> SI | T25: =IF(O25="P",IF(R25<4,"SI","NO"),IF(O25="D",IF(R25<6,"SI","NO"),IF(O25="C",IF(R25<11,"SI","NO"),IF(O25="A",IF(R25<21,"SI","NO"))))) -> NO | V25: A | W25: EDER | X25: INT | Y25: 1 | Z25: =IF(V25="P",IF(Y25<7,"SI","NO"),IF(V25="D",IF(Y25<11,"SI","NO"),IF(V25="C",IF(Y25<21,"SI","NO"),IF(V25="A",IF(Y25<41,"SI","NO"))))) -> SI | AA25: =IF(V25="P",IF(Y25<4,"SI","NO"),IF(V25="D",IF(Y25<6,"SI","NO"),IF(V25="C",IF(Y25<11,"SI","NO"),IF(V25="A",IF(Y25<21,"SI","NO"))))) -> SI | AC25: A | AD25: CAICEDO | AE25: LAZ | AF25: 1 | AG25: =IF(AC25="P",IF(AF25<7,"SI","NO"),IF(AC25="D",IF(AF25<11,"SI","NO"),IF(AC25="C",IF(AF25<21,"SI","NO"),IF(AC25="A",IF(AF25<41,"SI","NO"))))) -> SI | AH25: =IF(AC25="P",IF(AF25<4,"SI","NO"),IF(AC25="D",IF(AF25<6,"SI","NO"),IF(AC25="C",IF(AF25<11,"SI","NO"),IF(AC25="A",IF(AF25<21,"SI","NO"))))) -> SI | AJ25: A | AK25: PUCCIARELLI | AL25: CHI | AM25: 1 | AN25: =IF(AJ25="P",IF(AM25<7,"SI","NO"),IF(AJ25="D",IF(AM25<11,"SI","NO"),IF(AJ25="C",IF(AM25<21,"SI","NO"),IF(AJ25="A",IF(AM25<41,"SI","NO"))))) -> SI | AO25: =IF(AJ25="P",IF(AM25<4,"SI","NO"),IF(AJ25="D",IF(AM25<6,"SI","NO"),IF(AJ25="C",IF(AM25<11,"SI","NO"),IF(AJ25="A",IF(AM25<21,"SI","NO"))))) -> SI | AQ25: A | AR25: NANI | AS25: LAZ | AT25: 16 | AU25: =IF(AQ25="P",IF(AT25<7,"SI","NO"),IF(AQ25="D",IF(AT25<11,"SI","NO"),IF(AQ25="C",IF(AT25<21,"SI","NO"),IF(AQ25="A",IF(AT25<41,"SI","NO"))))) -> SI | AV25: =IF(AQ25="P",IF(AT25<4,"SI","NO"),IF(AQ25="D",IF(AT25<6,"SI","NO"),IF(AQ25="C",IF(AT25<11,"SI","NO"),IF(AQ25="A",IF(AT25<21,"SI","NO"))))) -> SI | AX25: A | AY25: RICCI | AZ25: CRO | BA25: 1 | BB25: =IF(AX25="P",IF(BA25<7,"SI","NO"),IF(AX25="D",IF(BA25<11,"SI","NO"),IF(AX25="C",IF(BA25<21,"SI","NO"),IF(AX25="A",IF(BA25<41,"SI","NO"))))) -> SI | BC25: =IF(AX25="P",IF(BA25<4,"SI","NO"),IF(AX25="D",IF(BA25<6,"SI","NO"),IF(AX25="C",IF(BA25<11,"SI","NO"),IF(AX25="A",IF(BA25<21,"SI","NO"))))) -> SI | BE25: A | BF25: THEREAU | BG25: FIO | BH25: 25 | BI25: =IF(BE25="P",IF(BH25<7,"SI","NO"),IF(BE25="D",IF(BH25<11,"SI","NO"),IF(BE25="C",IF(BH25<21,"SI","NO"),IF(BE25="A",IF(BH25<41,"SI","NO"))))) -> SI | BJ25: =IF(BE25="P",IF(BH25<4,"SI","NO"),IF(BE25="D",IF(BH25<6,"SI","NO"),IF(BE25="C",IF(BH25<11,"SI","NO"),IF(BE25="A",IF(BH25<21,"SI","NO"))))) -> NO | BL25: A | BM25: KALINIC | BN25: MIL | BO25: 30 | BP25: =IF(BL25="P",IF(BO25<7,"SI","NO"),IF(BL25="D",IF(BO25<11,"SI","NO"),IF(BL25="C",IF(BO25<21,"SI","NO"),IF(BL25="A",IF(BO25<41,"SI","NO"))))) -> SI | BQ25: =IF(BL25="P",IF(BO25<4,"SI","NO"),IF(BL25="D",IF(BO25<6,"SI","NO"),IF(BL25="C",IF(BO25<11,"SI","NO"),IF(BL25="A",IF(BO25<21,"SI","NO"))))) -> NO
... A27: A | B27: NIANG | C27: TOR | D27: 20 | E27: =IF(A27="P",IF(D27<7,"SI","NO"),IF(A27="D",IF(D27<11,"SI","NO"),IF(A27="C",IF(D27<21,"SI","NO"),IF(A27="A",IF(D27<41,"SI","NO"))))) -> SI | F27: =IF(A27="P",IF(D27<4,"SI","NO"),IF(A27="D",IF(D27<6,"SI","NO"),IF(A27="C",IF(D27<11,"SI","NO"),IF(A27="A",IF(D27<21,"SI","NO"))))) -> SI | H27: A | I27: CORNELIUS | J27: ATA | K27: 4 | L27: =IF(H27="P",IF(K27<7,"SI","NO"),IF(H27="D",IF(K27<11,"SI","NO"),IF(H27="C",IF(K27<21,"SI","NO"),IF(H27="A",IF(K27<41,"SI","NO"))))) -> SI | M27: =IF(H27="P",IF(K27<4,"SI","NO"),IF(H27="D",IF(K27<6,"SI","NO"),IF(H27="C",IF(K27<11,"SI","NO"),IF(H27="A",IF(K27<21,"SI","NO"))))) -> SI | O27: A | P27: NIANG | Q27: TOR | R27: 30 | S27: =IF(O27="P",IF(R27<7,"SI","NO"),IF(O27="D",IF(R27<11,"SI","NO"),IF(O27="C",IF(R27<21,"SI","NO"),IF(O27="A",IF(R27<41,"SI","NO"))))) -> SI | T27: =IF(O27="P",IF(R27<4,"SI","NO"),IF(O27="D",IF(R27<6,"SI","NO"),IF(O27="C",IF(R27<11,"SI","NO"),IF(O27="A",IF(R27<21,"SI","NO"))))) -> NO | V27: A | W27: BUDIMIR | X27: CRO | Y27: 16 | Z27: =IF(V27="P",IF(Y27<7,"SI","NO"),IF(V27="D",IF(Y27<11,"SI","NO"),IF(V27="C",IF(Y27<21,"SI","NO"),IF(V27="A",IF(Y27<41,"SI","NO"))))) -> SI | AA27: =IF(V27="P",IF(Y27<4,"SI","NO"),IF(V27="D",IF(Y27<6,"SI","NO"),IF(V27="C",IF(Y27<11,"SI","NO"),IF(V27="A",IF(Y27<21,"SI","NO"))))) -> SI | AC27: A | AD27: RICCI | AE27: CRO | AF27: 3 | AG27: =IF(AC27="P",IF(AF27<7,"SI","NO"),IF(AC27="D",IF(AF27<11,"SI","NO"),IF(AC27="C",IF(AF27<21,"SI","NO"),IF(AC27="A",IF(AF27<41,"SI","NO"))))) -> SI | AH27: =IF(AC27="P",IF(AF27<4,"SI","NO"),IF(AC27="D",IF(AF27<6,"SI","NO"),IF(AC27="C",IF(AF27<11,"SI","NO"),IF(AC27="A",IF(AF27<21,"SI","NO"))))) -> SI | AJ27: A | AK27: HAN | AL27: CAG | AM27: 1 | AN27: =IF(AJ27="P",IF(AM27<7,"SI","NO"),IF(AJ27="D",IF(AM27<11,"SI","NO"),IF(AJ27="C",IF(AM27<21,"SI","NO"),IF(AJ27="A",IF(AM27<41,"SI","NO"))))) -> SI | AO27: =IF(AJ27="P",IF(AM27<4,"SI","NO"),IF(AJ27="D",IF(AM27<6,"SI","NO"),IF(AJ27="C",IF(AM27<11,"SI","NO"),IF(AJ27="A",IF(AM27<21,"SI","NO"))))) -> SI | AQ27: A | AR27: PETKOVIC | AS27: VER | AT27: 1 | AU27: =IF(AQ27="P",IF(AT27<7,"SI","NO"),IF(AQ27="D",IF(AT27<11,"SI","NO"),IF(AQ27="C",IF(AT27<21,"SI","NO"),IF(AQ27="A",IF(AT27<41,"SI","NO"))))) -> SI | AV27: =IF(AQ27="P",IF(AT27<4,"SI","NO"),IF(AQ27="D",IF(AT27<6,"SI","NO"),IF(AQ27="C",IF(AT27<11,"SI","NO"),IF(AQ27="A",IF(AT27<21,"SI","NO"))))) -> SI | AX27: A | AY27: ORSOLINI | AZ27: BOL | BA27: 1 | BB27: =IF(AX27="P",IF(BA27<7,"SI","NO"),IF(AX27="D",IF(BA27<11,"SI","NO"),IF(AX27="C",IF(BA27<21,"SI","NO"),IF(AX27="A",IF(BA27<41,"SI","NO"))))) -> SI | BC27: =IF(AX27="P",IF(BA27<4,"SI","NO"),IF(AX27="D",IF(BA27<6,"SI","NO"),IF(AX27="C",IF(BA27<11,"SI","NO"),IF(AX27="A",IF(BA27<21,"SI","NO"))))) -> SI | BE27: A | BF27: CAPRARI | BG27: SAM | BH27: 34 | BI27: =IF(BE27="P",IF(BH27<7,"SI","NO"),IF(BE27="D",IF(BH27<11,"SI","NO"),IF(BE27="C",IF(BH27<21,"SI","NO"),IF(BE27="A",IF(BH27<41,"SI","NO"))))) -> SI | BJ27: =IF(BE27="P",IF(BH27<4,"SI","NO"),IF(BE27="D",IF(BH27<6,"SI","NO"),IF(BE27="C",IF(BH27<11,"SI","NO"),IF(BE27="A",IF(BH27<21,"SI","NO"))))) -> NO | BL27: A | BM27: FARIAS | BN27: CAG | BO27: 19 | BP27: =IF(BL27="P",IF(BO27<7,"SI","NO"),IF(BL27="D",IF(BO27<11,"SI","NO"),IF(BL27="C",IF(BO27<21,"SI","NO"),IF(BL27="A",IF(BO27<41,"SI","NO"))))) -> SI | BQ27: =IF(BL27="P",IF(BO27<4,"SI","NO"),IF(BL27="D",IF(BO27<6,"SI","NO"),IF(BL27="C",IF(BO27<11,"SI","NO"),IF(BL27="A",IF(BO27<21,"SI","NO"))))) -> SI
A28: Crediti Residui | B28: 66 | C28: Rimanente | E28: =FLOOR(B28/3,1) -> 22 | H28: Crediti Residui | I28: 13 | J28: Rimanente | L28: =FLOOR(I28/3,1) -> 4 | O28: Crediti Residui | P28: 7 | Q28: Rimanente | S28: =FLOOR(P28/3,1) -> 2 | V28: Crediti Residui | W28: 38 | X28: Rimanente | Z28: =FLOOR(W28/3,1) -> 12 | AC28: Crediti Residui | AD28: 33 | AE28: Rimanente | AG28: =FLOOR(AD28/3,1) -> 11 | AJ28: Crediti Residui | AK28: 5 | AL28: Rimanente | AN28: =FLOOR(AK28/3,1) -> 1 | AQ28: Crediti Residui | AR28: 6 | AS28: Rimanente | AU28: =FLOOR(AR28/3,1) -> 2 | AX28: Crediti Residui | AY28: 10 | AZ28: Rimanente | BB28: =FLOOR(AY28/3,1) -> 3 | BE28: Crediti Residui | BF28: 6 | BG28: Rimanente | BI28: =FLOOR(BF28/3,1) -> 2 | BL28: Crediti Residui | BM28: 5 | BN28: Rimanente | BP28: =FLOOR(BM28/3,1) -> 1
C29: Nuovi | E29: 500 | J29: Nuovi | L29: 500 | Q29: Nuovi | S29: 500 | X29: Nuovi | Z29: 500 | AE29: Nuovi | AG29: 502 | AL29: Nuovi | AN29: 500 | AS29: Nuovi | AU29: 503 | AZ29: Nuovi | BB29: 504 | BG29: Nuovi | BI29: 508 | BN29: Nuovi | BP29: 510
C30: Conferme | E30: =SUM(E3:E27) -> 0 | F30: =SUM(F3:F27) -> 0 | J30: Conferme | L30: =SUM(L3:L27) -> 0 | M30: =SUM(M3:M27) -> 0 | Q30: Conferme | S30: =SUM(S3:S27) -> 0 | T30: =SUM(T3:T27) -> 0 | X30: Conferme | Z30: =SUM(Z3:Z27) -> 0 | AA30: =SUM(AA3:AA27) -> 0 | AE30: Conferme | AG30: =SUM(AG3:AG27) -> 0 | AH30: =SUM(AH3:AH27) -> 0 | AL30: Conferme | AN30: =SUM(AN3:AN27) -> 0 | AO30: =SUM(AO3:AO27) -> 0 | AS30: Conferme | AU30: =SUM(AU3:AU27) -> 0 | AV30: =SUM(AV3:AV27) -> 0 | AZ30: Conferme | BB30: =SUM(BB3:BB27) -> 0 | BC30: =SUM(BC3:BC27) -> 0 | BG30: Conferme | BI30: =SUM(BI3:BI27) -> 0 | BJ30: =SUM(BJ3:BJ27) -> 0 | BN30: Conferme | BP30: =SUM(BP3:BP27) -> 0 | BQ30: =SUM(BQ3:BQ27) -> 0
C31: Totali | E31: =SUM(E28:E29)-SUM(E30:F30) -> 522 | J31: Totali | L31: =SUM(L28:L29)-SUM(L30:M30) -> 504 | Q31: Totali | S31: =SUM(S28:S29)-SUM(S30:T30) -> 502 | X31: Totali | Z31: =SUM(Z28:Z29)-SUM(Z30:AA30) -> 512 | AE31: Totali | AG31: =SUM(AG28:AG29)-SUM(AG30:AH30) -> 513 | AL31: Totali | AN31: =SUM(AN28:AN29)-SUM(AN30:AO30) -> 501 | AS31: Totali | AU31: =SUM(AU28:AU29)-SUM(AU30:AV30) -> 505 | AZ31: Totali | BB31: =SUM(BB28:BB29)-SUM(BB30:BC30) -> 507 | BG31: Totali | BI31: =SUM(BI28:BI29)-SUM(BI30:BJ30) -> 510 | BN31: Totali | BP31: =SUM(BP28:BP29)-SUM(BP30:BQ30) -> 511

Sheet Serie B
A1: APPLAUSO | F1: 2452 | H1: BAYER PAPPIANA | M1: 2485.5 | O1: AS TRONZI | T1: 2505.5 | V1: FLYBEARD | AA1: 2508.5 | AC1: IBRADIPOSI | AH1: 2521 | AJ1: MARCELLONA | AO1: 2528.5 | AQ1: AC DENTI | AV1: 2556.5 | AX1: LUCENSE | BC1: 2557 | BE1: MA BRAVISSIMI | BJ1: 2571 | BL1: TEAM AS TURBO | BQ1: 2665
A2: Ruolo | B2: Calciatore | C2: Squadra | D2: Costo | E2: Giugno | F2: Settembre | H2: Ruolo | I2: Calciatore | J2: Squadra | K2: Costo | L2: Giugno | M2: Settembre | O2: Ruolo | P2: Calciatore | Q2: Squadra | R2: Costo | S2: Giugno | T2: Settembre | V2: Ruolo | W2: Calciatore | X2: Squadra | Y2: Costo | Z2: Giugno | AA2: Settembre | AC2: Ruolo | AD2: Calciatore | AE2: Squadra | AF2: Costo | AG2: Giugno | AH2: Settembre | AJ2: Ruolo | AK2: Calciatore | AL2: Squadra | AM2: Costo | AN2: Giugno | AO2: Settembre | AQ2: Ruolo | AR2: Calciatore | AS2: Squadra | AT2: Costo | AU2: Giugno | AV2: Settembre | AX2: Ruolo | AY2: Calciatore | AZ2: Squadra | BA2: Costo | BB2: Giugno | BC2: Settembre | BE2: Ruolo | BF2: Calciatore | BG2: Squadra | BH2: Costo | BI2: Giugno | BJ2: Settembre | BL2: Ruolo | BM2: Calciatore | BN2: Squadra | BO2: Costo | BP2: Giugno | BQ2: Settembre
A3: P | B3: DONNARUMMA G | C3: MIL | D3: 50 | E3: =IF(A3="P",IF(D3<7,"SI","NO"),IF(A3="D",IF(D3<11,"SI","NO"),IF(A3="C",IF(D3<21,"SI","NO"),IF(A3="A",IF(D3<41,"SI","NO"))))) -> NO | F3: =IF(A3="P",IF(D3<4,"SI","NO"),IF(A3="D",IF(D3<6,"SI","NO"),IF(A3="C",IF(D3<11,"SI","NO"),IF(A3="A",IF(D3<21,"SI","NO"))))) -> NO | H3: P | I3: SPORTIELLO | J3: FIO | K3: 1 | L3: =IF(H3="P",IF(K3<7,"SI","NO"),IF(H3="D",IF(K3<11,"SI","NO"),IF(H3="C",IF(K3<21,"SI","NO"),IF(H3="A",IF(K3<41,"SI","NO"))))) -> SI | M3: =IF(H3="P",IF(K3<4,"SI","NO"),IF(H3="D",IF(K3<6,"SI","NO"),IF(H3="C",IF(K3<11,"SI","NO"),IF(H3="A",IF(K3<21,"SI","NO"))))) -> SI | O3: P | P3: REINA | Q3: NAP | R3: 51 | S3: =IF(O3="P",IF(R3<7,"SI","NO"),IF(O3="D",IF(R3<11,"SI","NO"),IF(O3="C",IF(R3<21,"SI","NO"),IF(O3="A",IF(R3<41,"SI","NO"))))) -> NO | T3: =IF(O3="P",IF(R3<4,"SI","NO"),IF(O3="D",IF(R3<6,"SI","NO"),IF(O3="C",IF(R3<11,"SI","NO"),IF(O3="A",IF(R3<21,"SI","NO"))))) -> NO | V3: P | W3: PERIN | X3: GEN | Y3: 14 | Z3: =IF(V3="P",IF(Y3<7,"SI","NO"),IF(V3="D",IF(Y3<11,"SI","NO"),IF(V3="C",IF(Y3<21,"SI","NO"),IF(V3="A",IF(Y3<41,"SI","NO"))))) -> NO | AA3: =IF(V3="P",IF(Y3<4,"SI","NO"),IF(V3="D",IF(Y3<6,"SI","NO"),IF(V3="C",IF(Y3<11,"SI","NO"),IF(V3="A",IF(Y3<21,"SI","NO"))))) -> NO | AC3: P | AD3: HANDANOVIC | AE3: INT | AF3: 50 | AG3: =IF(AC3="P",IF(AF3<7,"SI","NO"),IF(AC3="D",IF(AF3<11,"SI","NO"),IF(AC3="C",IF(AF3<21,"SI","NO"),IF(AC3="A",IF(AF3<41,"SI","NO"))))) -> NO | AH3: =IF(AC3="P",IF(AF3<4,"SI","NO"),IF(AC3="D",IF(AF3<6,"SI","NO"),IF(AC3="C",IF(AF3<11,"SI","NO"),IF(AC3="A",IF(AF3<21,"SI","NO"))))) -> NO | AJ3: P | AK3: ALISSON | AL3: ROM | AM3: 3 | AN3: =IF(AJ3="P",IF(AM3<7,"SI","NO"),IF(AJ3="D",IF(AM3<11,"SI","NO"),IF(AJ3="C",IF(AM3<21,"SI","NO"),IF(AJ3="A",IF(AM3<41,"SI","NO"))))) -> SI | AO3: =IF(AJ3="P",IF(AM3<4,"SI","NO"),IF(AJ3="D",IF(AM3<6,"SI","NO"),IF(AJ3="C",IF(AM3<11,"SI","NO"),IF(AJ3="A",IF(AM3<21,"SI","NO"))))) -> SI | AQ3: P | AR3: VIVIANO | AS3: SAM | AT3: 22 | AU3: =IF(AQ3="P",IF(AT3<7,"SI","NO"),IF(AQ3="D",IF(AT3<11,"SI","NO"),IF(AQ3="C",IF(AT3<21,"SI","NO"),IF(AQ3="A",IF(AT3<41,"SI","NO"))))) -> NO | AV3: =IF(AQ3="P",IF(AT3<4,"SI","NO"),IF(AQ3="D",IF(AT3<6,"SI","NO"),IF(AQ3="C",IF(AT3<11,"SI","NO"),IF(AQ3="A",IF(AT3<21,"SI","NO"))))) -> NO | AX3: P | AY3: REINA | AZ3: NAP | BA3: 41 | BB3: =IF(AX3="P",IF(BA3<7,"SI","NO"),IF(AX3="D",IF(BA3<11,"SI","NO"),IF(AX3="C",IF(BA3<21,"SI","NO"),IF(AX3="A",IF(BA3<41,"SI","NO"))))) -> NO | BC3: =IF(AX3="P",IF(BA3<4,"SI","NO"),IF(AX3="D",IF(BA3<6,"SI","NO"),IF(AX3="C",IF(BA3<11,"SI","NO"),IF(AX3="A",IF(BA3<21,"SI","NO"))))) -> NO | BE3: P | BF3: SORRENTINO | BG3: CHI | BH3: 7 | BI3: =IF(BE3="P",IF(BH3<7,"SI","NO"),IF(BE3="D",IF(BH3<11,"SI","NO"),IF(BE3="C",IF(BH3<21,"SI","NO"),IF(BE3="A",IF(BH3<41,"SI","NO"))))) -> NO | BJ3: =IF(BE3="P",IF(BH3<4,"SI","NO"),IF(BE3="D",IF(BH3<6,"SI","NO"),IF(BE3="C",IF(BH3<11,"SI","NO"),IF(BE3="A",IF(BH3<21,"SI","NO"))))) -> NO | BL3: P | BM3: SIRIGU | BN3: TOR | BO3: 19 | BP3: =IF(BL3="P",IF(BO3<7,"SI","NO"),IF(BL3="D",IF(BO3<11,"SI","NO"),IF(BL3="C",IF(BO3<21,"SI","NO"),IF(BL3="A",IF(BO3<41,"SI","NO"))))) -> NO | BQ3: =IF(BL3="P",IF(BO3<4,"SI","NO"),IF(BL3="D",IF(BO3<6,"SI","NO"),IF(BL3="C",IF(BO3<11,"SI","NO"),IF(BL3="A",IF(BO3<21,"SI","NO"))))) -> NO
A4: P | B4: STORARI | C4: MIL | D4: 1 | E4: =IF(A4="P",IF(D4<7,"SI","NO"),IF(A4="D",IF(D4<11,"SI","NO"),IF(A4="C",IF(D4<21,"SI","NO"),IF(A4="A",IF(D4<41,"SI","NO"))))) -> SI | F4: =IF(A4="P",IF(D4<4,"SI","NO"),IF(A4="D",IF(D4<6,"SI","NO"),IF(A4="C",IF(D4<11,"SI","NO"),IF(A4="A",IF(D4<21,"SI","NO"))))) -> SI | H4: P | I4: CRAGNO | J4: CAG | K4: 1 | L4: =IF(H4="P",IF(K4<7,"SI","NO"),IF(H4="D",IF(K4<11,"SI","NO"),IF(H4="C",IF(K4<21,"SI","NO"),IF(H4="A",IF(K4<41,"SI","NO"))))) -> SI | M4: =IF(H4="P",IF(K4<4,"SI","NO"),IF(H4="D",IF(K4<6,"SI","NO"),IF(H4="C",IF(K4<11,"SI","NO"),IF(H4="A",IF(K4<21,"SI","NO"))))) -> SI | O4: P | P4: SEPE | Q4: NAP | R4: 1 | S4: =IF(O4="P",IF(R4<7,"SI","NO"),IF(O4="D",IF(R4<11,"SI","NO"),IF(O4="C",IF(R4<21,"SI","NO"),IF(O4="A",IF(R4<41,"SI","NO"))))) -> SI | T4: =IF(O4="P",IF(R4<4,"SI","NO"),IF(O4="D",IF(R4<6,"SI","NO"),IF(O4="C",IF(R4<11,"SI","NO"),IF(O4="A",IF(R4<21,"SI","NO"))))) -> SI | V4: P | W4: BERISHA | X4: ATA | Y4: 1 | Z4: =IF(V4="P",IF(Y4<7,"SI","NO"),IF(V4="D",IF(Y4<11,"SI","NO"),IF(V4="C",IF(Y4<21,"SI","NO"),IF(V4="A",IF(Y4<41,"SI","NO"))))) -> SI | AA4: =IF(V4="P",IF(Y4<4,"SI","NO"),IF(V4="D",IF(Y4<6,"SI","NO"),IF(V4="C",IF(Y4<11,"SI","NO"),IF(V4="A",IF(Y4<21,"SI","NO"))))) -> SI | AC4: P | AD4: BERNI | AE4: INT | AF4: 1 | AG4: =IF(AC4="P",IF(AF4<7,"SI","NO"),IF(AC4="D",IF(AF4<11,"SI","NO"),IF(AC4="C",IF(AF4<21,"SI","NO"),IF(AC4="A",IF(AF4<41,"SI","NO"))))) -> SI | AH4: =IF(AC4="P",IF(AF4<4,"SI","NO"),IF(AC4="D",IF(AF4<6,"SI","NO"),IF(AC4="C",IF(AF4<11,"SI","NO"),IF(AC4="A",IF(AF4<21,"SI","NO"))))) -> SI | AJ4: P | AK4: MIRANTE | AL4: BOL | AM4: 1 | AN4: =IF(AJ4="P",IF(AM4<7,"SI","NO"),IF(AJ4="D",IF(AM4<11,"SI","NO"),IF(AJ4="C",IF(AM4<21,"SI","NO"),IF(AJ4="A",IF(AM4<41,"SI","NO"))))) -> SI | AO4: =IF(AJ4="P",IF(AM4<4,"SI","NO"),IF(AJ4="D",IF(AM4<6,"SI","NO"),IF(AJ4="C",IF(AM4<11,"SI","NO"),IF(AJ4="A",IF(AM4<21,"SI","NO"))))) -> SI | AQ4: P | AR4: TOZZO | AS4: SAM | AT4: 1 | AU4: =IF(AQ4="P",IF(AT4<7,"SI","NO"),IF(AQ4="D",IF(AT4<11,"SI","NO"),IF(AQ4="C",IF(AT4<21,"SI","NO"),IF(AQ4="A",IF(AT4<41,"SI","NO"))))) -> SI | AV4: =IF(AQ4="P",IF(AT4<4,"SI","NO"),IF(AQ4="D",IF(AT4<6,"SI","NO"),IF(AQ4="C",IF(AT4<11,"SI","NO"),IF(AQ4="A",IF(AT4<21,"SI","NO"))))) -> SI | AX4: P | AY4: MERET | AZ4: SPA | BA4: 1 | BB4: =IF(AX4="P",IF(BA4<7,"SI","NO"),IF(AX4="D",IF(BA4<11,"SI","NO"),IF(AX4="C",IF(BA4<21,"SI","NO"),IF(AX4="A",IF(BA4<41,"SI","NO"))))) -> SI | BC4: =IF(AX4="P",IF(BA4<4,"SI","NO"),IF(AX4="D",IF(BA4<6,"SI","NO"),IF(AX4="C",IF(BA4<11,"SI","NO"),IF(AX4="A",IF(BA4<21,"SI","NO"))))) -> SI | BE4: P | BF4: STRAKOSHA | BG4: LAZ | BH4: 1 | BI4: =IF(BE4="P",IF(BH4<7,"SI","NO"),IF(BE4="D",IF(BH4<11,"SI","NO"),IF(BE4="C",IF(BH4<21,"SI","NO"),IF(BE4="A",IF(BH4<41,"SI","NO"))))) -> SI | BJ4: =IF(BE4="P",IF(BH4<4,"SI","NO"),IF(BE4="D",IF(BH4<6,"SI","NO"),IF(BE4="C",IF(BH4<11,"SI","NO"),IF(BE4="A",IF(BH4<21,"SI","NO"))))) -> SI | BL4: P | BM4: BERISHA | BN4: ATA | BO4: 12 | BP4: =IF(BL4="P",IF(BO4<7,"SI","NO"),IF(BL4="D",IF(BO4<11,"SI","NO"),IF(BL4="C",IF(BO4<21,"SI","NO"),IF(BL4="A",IF(BO4<41,"SI","NO"))))) -> NO | BQ4: =IF(BL4="P",IF(BO4<4,"SI","NO"),IF(BL4="D",IF(BO4<6,"SI","NO"),IF(BL4="C",IF(BO4<11,"SI","NO"),IF(BL4="A",IF(BO4<21,"SI","NO"))))) -> NO
A5: P | B5: DONNARUMMA A | C5: MIL | D5: 1 | E5: =IF(A5="P",IF(D5<7,"SI","NO"),IF(A5="D",IF(D5<11,"SI","NO"),IF(A5="C",IF(D5<21,"SI","NO"),IF(A5="A",IF(D5<41,"SI","NO"))))) -> SI | F5: =IF(A5="P",IF(D5<4,"SI","NO"),IF(A5="D",IF(D5<6,"SI","NO"),IF(A5="C",IF(D5<11,"SI","NO"),IF(A5="A",IF(D5<21,"SI","NO"))))) -> SI | H5: P | I5: RAFAEL | J5: CAG | K5: 1 | L5: =IF(H5="P",IF(K5<7,"SI","NO"),IF(H5="D",IF(K5<11,"SI","NO"),IF(H5="C",IF(K5<21,"SI","NO"),IF(H5="A",IF(K5<41,"SI","NO"))))) -> SI | M5: =IF(H5="P",IF(K5<4,"SI","NO"),IF(H5="D",IF(K5<6,"SI","NO"),IF(H5="C",IF(K5<11,"SI","NO"),IF(H5="A",IF(K5<21,"SI","NO"))))) -> SI | O5: P | P5: RAFAEL CABRAL | Q5: NAP | R5: 1 | S5: =IF(O5="P",IF(R5<7,"SI","NO"),IF(O5="D",IF(R5<11,"SI","NO"),IF(O5="C",IF(R5<21,"SI","NO"),IF(O5="A",IF(R5<41,"SI","NO"))))) -> SI | T5: =IF(O5="P",IF(R5<4,"SI","NO"),IF(O5="D",IF(R5<6,"SI","NO"),IF(O5="C",IF(R5<11,"SI","NO"),IF(O5="A",IF(R5<21,"SI","NO"))))) -> SI | V5: P | W5: GOLLINI | X5: ATA | Y5: 1 | Z5: =IF(V5="P",IF(Y5<7,"SI","NO"),IF(V5="D",IF(Y5<11,"SI","NO"),IF(V5="C",IF(Y5<21,"SI","NO"),IF(V5="A",IF(Y5<41,"SI","NO"))))) -> SI | AA5: =IF(V5="P",IF(Y5<4,"SI","NO"),IF(V5="D",IF(Y5<6,"SI","NO"),IF(V5="C",IF(Y5<11,"SI","NO"),IF(V5="A",IF(Y5<21,"SI","NO"))))) -> SI | AC5: P | AD5: PADELLI | AE5: INT | AF5: 1 | AG5: =IF(AC5="P",IF(AF5<7,"SI","NO"),IF(AC5="D",IF(AF5<11,"SI","NO"),IF(AC5="C",IF(AF5<21,"SI","NO"),IF(AC5="A",IF(AF5<41,"SI","NO"))))) -> SI | AH5: =IF(AC5="P",IF(AF5<4,"SI","NO"),IF(AC5="D",IF(AF5<6,"SI","NO"),IF(AC5="C",IF(AF5<11,"SI","NO"),IF(AC5="A",IF(AF5<21,"SI","NO"))))) -> SI | AJ5: P | AK5: SKORUPSKI | AL5: ROM | AM5: 1 | AN5: =IF(AJ5="P",IF(AM5<7,"SI","NO"),IF(AJ5="D",IF(AM5<11,"SI","NO"),IF(AJ5="C",IF(AM5<21,"SI","NO"),IF(AJ5="A",IF(AM5<41,"SI","NO"))))) -> SI | AO5: =IF(AJ5="P",IF(AM5<4,"SI","NO"),IF(AJ5="D",IF(AM5<6,"SI","NO"),IF(AJ5="C",IF(AM5<11,"SI","NO"),IF(AJ5="A",IF(AM5<21,"SI","NO"))))) -> SI | AQ5: P | AR5: BELEC | AS5: SAM | AT5: 1 | AU5: =IF(AQ5="P",IF(AT5<7,"SI","NO"),IF(AQ5="D",IF(AT5<11,"SI","NO"),IF(AQ5="C",IF(AT5<21,"SI","NO"),IF(AQ5="A",IF(AT5<41,"SI","NO"))))) -> SI | AV5: =IF(AQ5="P",IF(AT5<4,"SI","NO"),IF(AQ5="D",IF(AT5<6,"SI","NO"),IF(AQ5="C",IF(AT5<11,"SI","NO"),IF(AQ5="A",IF(AT5<21,"SI","NO"))))) -> SI | AX5: P | AY5: SEPE | AZ5: NAP | BA5: 1 | BB5: =IF(AX5="P",IF(BA5<7,"SI","NO"),IF(AX5="D",IF(BA5<11,"SI","NO"),IF(AX5="C",IF(BA5<21,"SI","NO"),IF(AX5="A",IF(BA5<41,"SI","NO"))))) -> SI | BC5: =IF(AX5="P",IF(BA5<4,"SI","NO"),IF(AX5="D",IF(BA5<6,"SI","NO"),IF(AX5="C",IF(BA5<11,"SI","NO"),IF(AX5="A",IF(BA5<21,"SI","NO"))))) -> SI | BE5: P | BF5: NICOLAS | BG5: VER | BH5: 4 | BI5: =IF(BE5="P",IF(BH5<7,"SI","NO"),IF(BE5="D",IF(BH5<11,"SI","NO"),IF(BE5="C",IF(BH5<21,"SI","NO"),IF(BE5="A",IF(BH5<41,"SI","NO"))))) -> SI | BJ5: =IF(BE5="P",IF(BH5<4,"SI","NO"),IF(BE5="D",IF(BH5<6,"SI","NO"),IF(BE5="C",IF(BH5<11,"SI","NO"),IF(BE5="A",IF(BH5<21,"SI","NO"))))) -> NO | BL5: P | BM5: NICOLAS | BN5: VER | BO5: 1 | BP5: =IF(BL5="P",IF(BO5<7,"SI","NO"),IF(BL5="D",IF(BO5<11,"SI","NO"),IF(BL5="C",IF(BO5<21,"SI","NO"),IF(BL5="A",IF(BO5<41,"SI","NO"))))) -> SI | BQ5: =IF(BL5="P",IF(BO5<4,"SI","NO"),IF(BL5="D",IF(BO5<6,"SI","NO"),IF(BL5="C",IF(BO5<11,"SI","NO"),IF(BL5="A",IF(BO5<21,"SI","NO"))))) -> SI
A6: D | B6: ALEX SANDRO | C6: JUV | D6: 30 | E6: =IF(A6="P",IF(D6<7,"SI","NO"),IF(A6="D",IF(D6<11,"SI","NO"),IF(A6="C",IF(D6<21,"SI","NO"),IF(A6="A",IF(D6<41,"SI","NO"))))) -> NO | F6: =IF(A6="P",IF(D6<4,"SI","NO"),IF(A6="D",IF(D6<6,"SI","NO"),IF(A6="C",IF(D6<11,"SI","NO"),IF(A6="A",IF(D6<21,"SI","NO"))))) -> NO | H6: D | I6: N'KOULOU | J6: TOR | K6: 13 | L6: =IF(H6="P",IF(K6<7,"SI","NO"),IF(H6="D",IF(K6<11,"SI","NO"),IF(H6="C",IF(K6<21,"SI","NO"),IF(H6="A",IF(K6<41,"SI","NO"))))) -> NO | M6: =IF(H6="P",IF(K6<4,"SI","NO"),IF(H6="D",IF(K6<6,"SI","NO"),IF(H6="C",IF(K6<11,"SI","NO"),IF(H6="A",IF(K6<21,"SI","NO"))))) -> NO | O6: D | P6: FAZIO | Q6: ROM | R6: 3 | S6: =IF(O6="P",IF(R6<7,"SI","NO"),IF(O6="D",IF(R6<11,"SI","NO"),IF(O6="C",IF(R6<21,"SI","NO"),IF(O6="A",IF(R6<41,"SI","NO"))))) -> SI | T6: =IF(O6="P",IF(R6<4,"SI","NO"),IF(O6="D",IF(R6<6,"SI","NO"),IF(O6="C",IF(R6<11,"SI","NO"),IF(O6="A",IF(R6<21,"SI","NO"))))) -> SI | V6: D | W6: MARTELLA | X6: CRO | Y6: 1 | Z6: =IF(V6="P",IF(Y6<7,"SI","NO"),IF(V6="D",IF(Y6<11,"SI","NO"),IF(V6="C",IF(Y6<21,"SI","NO"),IF(V6="A",IF(Y6<41,"SI","NO"))))) -> SI | AA6: =IF(V6="P",IF(Y6<4,"SI","NO"),IF(V6="D",IF(Y6<6,"SI","NO"),IF(V6="C",IF(Y6<11,"SI","NO"),IF(V6="A",IF(Y6<21,"SI","NO"))))) -> SI | AC6: D | AD6: N'KOULOU | AE6: TOR | AF6: 3 | AG6: =IF(AC6="P",IF(AF6<7,"SI","NO"),IF(AC6="D",IF(AF6<11,"SI","NO"),IF(AC6="C",IF(AF6<21,"SI","NO"),IF(AC6="A",IF(AF6<41,"SI","NO"))))) -> SI | AH6: =IF(AC6="P",IF(AF6<4,"SI","NO"),IF(AC6="D",IF(AF6<6,"SI","NO"),IF(AC6="C",IF(AF6<11,"SI","NO"),IF(AC6="A",IF(AF6<21,"SI","NO"))))) -> SI | AJ6: D | AK6: ALBIOL | AL6: NAP | AM6: 8 | AN6: =IF(AJ6="P",IF(AM6<7,"SI","NO"),IF(AJ6="D",IF(AM6<11,"SI","NO"),IF(AJ6="C",IF(AM6<21,"SI","NO"),IF(AJ6="A",IF(AM6<41,"SI","NO"))))) -> SI | AO6: =IF(AJ6="P",IF(AM6<4,"SI","NO"),IF(AJ6="D",IF(AM6<6,"SI","NO"),IF(AJ6="C",IF(AM6<11,"SI","NO"),IF(AJ6="A",IF(AM6<21,"SI","NO"))))) -> NO | AQ6: D | AR6: ACERBI | AS6: SAS | AT6: 11 | AU6: =IF(AQ6="P",IF(AT6<7,"SI","NO"),IF(AQ6="D",IF(AT6<11,"SI","NO"),IF(AQ6="C",IF(AT6<21,"SI","NO"),IF(AQ6="A",IF(AT6<41,"SI","NO"))))) -> NO | AV6: =IF(AQ6="P",IF(AT6<4,"SI","NO"),IF(AQ6="D",IF(AT6<6,"SI","NO"),IF(AQ6="C",IF(AT6<11,"SI","NO"),IF(AQ6="A",IF(AT6<21,"SI","NO"))))) -> NO | AX6: D | AY6: DE VRIJ | AZ6: LAZ | BA6: 10 | BB6: =IF(AX6="P",IF(BA6<7,"SI","NO"),IF(AX6="D",IF(BA6<11,"SI","NO"),IF(AX6="C",IF(BA6<21,"SI","NO"),IF(AX6="A",IF(BA6<41,"SI","NO"))))) -> SI | BC6: =IF(AX6="P",IF(BA6<4,"SI","NO"),IF(AX6="D",IF(BA6<6,"SI","NO"),IF(AX6="C",IF(BA6<11,"SI","NO"),IF(AX6="A",IF(BA6<21,"SI","NO"))))) -> NO | BE6: D | BF6: DE VRIJ | BG6: LAZ | BH6: 11 | BI6: =IF(BE6="P",IF(BH6<7,"SI","NO"),IF(BE6="D",IF(BH6<11,"SI","NO"),IF(BE6="C",IF(BH6<21,"SI","NO"),IF(BE6="A",IF(BH6<41,"SI","NO"))))) -> NO | BJ6: =IF(BE6="P",IF(BH6<4,"SI","NO"),IF(BE6="D",IF(BH6<6,"SI","NO"),IF(BE6="C",IF(BH6<11,"SI","NO"),IF(BE6="A",IF(BH6<21,"SI","NO"))))) -> NO | BL6: D | BM6: KOLAROV | BN6: ROM | BO6: 18 | BP6: =IF(BL6="P",IF(BO6<7,"SI","NO"),IF(BL6="D",IF(BO6<11,"SI","NO"),IF(BL6="C",IF(BO6<21,"SI","NO"),IF(BL6="A",IF(BO6<41,"SI","NO"))))) -> NO | BQ6: =IF(BL6="P",IF(BO6<4,"SI","NO"),IF(BL6="D",IF(BO6<6,"SI","NO"),IF(BL6="C",IF(BO6<11,"SI","NO"),IF(BL6="A",IF(BO6<21,"SI","NO"))))) -> NO
A7: D | B7: MIRANDA | C7: INT | D7: 15 | E7: =IF(A7="P",IF(D7<7,"SI","NO"),IF(A7="D",IF(D7<11,"SI","NO"),IF(A7="C",IF(D7<21,"SI","NO"),IF(A7="A",IF(D7<41,"SI","NO"))))) -> NO | F7: =IF(A7="P",IF(D7<4,"SI","NO"),IF(A7="D",IF(D7<6,"SI","NO"),IF(A7="C",IF(D7<11,"SI","NO"),IF(A7="A",IF(D7<21,"SI","NO"))))) -> NO | H7: D | I7: RODRIGUEZ R | J7: MIL | K7: 26 | L7: =IF(H7="P",IF(K7<7,"SI","NO"),IF(H7="D",IF(K7<11,"SI","NO"),IF(H7="C",IF(K7<21,"SI","NO"),IF(H7="A",IF(K7<41,"SI","NO"))))) -> NO | M7: =IF(H7="P",IF(K7<4,"SI","NO"),IF(H7="D",IF(K7<6,"SI","NO"),IF(H7="C",IF(K7<11,"SI","NO"),IF(H7="A",IF(K7<21,"SI","NO"))))) -> NO | O7: D | P7: CHIELLINI | Q7: JUV | R7: 13 | S7: =IF(O7="P",IF(R7<7,"SI","NO"),IF(O7="D",IF(R7<11,"SI","NO"),IF(O7="C",IF(R7<21,"SI","NO"),IF(O7="A",IF(R7<41,"SI","NO"))))) -> NO | T7: =IF(O7="P",IF(R7<4,"SI","NO"),IF(O7="D",IF(R7<6,"SI","NO"),IF(O7="C",IF(R7<11,"SI","NO"),IF(O7="A",IF(R7<21,"SI","NO"))))) -> NO | V7: D | W7: FLORENZI | X7: ROM | Y7: 17 | Z7: =IF(V7="P",IF(Y7<7,"SI","NO"),IF(V7="D",IF(Y7<11,"SI","NO"),IF(V7="C",IF(Y7<21,"SI","NO"),IF(V7="A",IF(Y7<41,"SI","NO"))))) -> NO | AA7: =IF(V7="P",IF(Y7<4,"SI","NO"),IF(V7="D",IF(Y7<6,"SI","NO"),IF(V7="C",IF(Y7<11,"SI","NO"),IF(V7="A",IF(Y7<21,"SI","NO"))))) -> NO | AC7: D | AD7: MANOLAS | AE7: ROM | AF7: 11 | AG7: =IF(AC7="P",IF(AF7<7,"SI","NO"),IF(AC7="D",IF(AF7<11,"SI","NO"),IF(AC7="C",IF(AF7<21,"SI","NO"),IF(AC7="A",IF(AF7<41,"SI","NO"))))) -> NO | AH7: =IF(AC7="P",IF(AF7<4,"SI","NO"),IF(AC7="D",IF(AF7<6,"SI","NO"),IF(AC7="C",IF(AF7<11,"SI","NO"),IF(AC7="A",IF(AF7<21,"SI","NO"))))) -> NO | AJ7: D | AK7: ROMAGNOLI A | AL7: MIL | AM7: 7 | AN7: =IF(AJ7="P",IF(AM7<7,"SI","NO"),IF(AJ7="D",IF(AM7<11,"SI","NO"),IF(AJ7="C",IF(AM7<21,"SI","NO"),IF(AJ7="A",IF(AM7<41,"SI","NO"))))) -> SI | AO7: =IF(AJ7="P",IF(AM7<4,"SI","NO"),IF(AJ7="D",IF(AM7<6,"SI","NO"),IF(AJ7="C",IF(AM7<11,"SI","NO"),IF(AJ7="A",IF(AM7<21,"SI","NO"))))) -> NO | AQ7: D | AR7: BONUCCI | AS7: MIL | AT7: 17 | AU7: =IF(AQ7="P",IF(AT7<7,"SI","NO"),IF(AQ7="D",IF(AT7<11,"SI","NO"),IF(AQ7="C",IF(AT7<21,"SI","NO"),IF(AQ7="A",IF(AT7<41,"SI","NO"))))) -> NO | AV7: =IF(AQ7="P",IF(AT7<4,"SI","NO"),IF(AQ7="D",IF(AT7<6,"SI","NO"),IF(AQ7="C",IF(AT7<11,"SI","NO"),IF(AQ7="A",IF(AT7<21,"SI","NO"))))) -> NO | AX7: D | AY7: DE SILVESTRI | AZ7: TOR | BA7: 2 | BB7: =IF(AX7="P",IF(BA7<7,"SI","NO"),IF(AX7="D",IF(BA7<11,"SI","NO"),IF(AX7="C",IF(BA7<21,"SI","NO"),IF(AX7="A",IF(BA7<41,"SI","NO"))))) -> SI | BC7: =IF(AX7="P",IF(BA7<4,"SI","NO"),IF(AX7="D",IF(BA7<6,"SI","NO"),IF(AX7="C",IF(BA7<11,"SI","NO"),IF(AX7="A",IF(BA7<21,"SI","NO"))))) -> SI | BL7: D | BM7: FLORENZI | BN7: ROM | BO7: 9 | BP7: =IF(BL7="P",IF(BO7<7,"SI","NO"),IF(BL7="D",IF(BO7<11,"SI","NO"),IF(BL7="C",IF(BO7<21,"SI","NO"),IF(BL7="A",IF(BO7<41,"SI","NO"))))) -> SI | BQ7: =IF(BL7="P",IF(BO7<4,"SI","NO"),IF(BL7="D",IF(BO7<6,"SI","NO"),IF(BL7="C",IF(BO7<11,"SI","NO"),IF(BL7="A",IF(BO7<21,"SI","NO"))))) -> NO
A8: D | B8: FERRARI G | C8: SAM | D8: 27 | E8: =IF(A8="P",IF(D8<7,"SI","NO"),IF(A8="D",IF(D8<11,"SI","NO"),IF(A8="C",IF(D8<21,"SI","NO"),IF(A8="A",IF(D8<41,"SI","NO"))))) -> NO | F8: =IF(A8="P",IF(D8<4,"SI","NO"),IF(A8="D",IF(D8<6,"SI","NO"),IF(A8="C",IF(D8<11,"SI","NO"),IF(A8="A",IF(D8<21,"SI","NO"))))) -> NO | H8: D | I8: HYSAJ | J8: NAP | K8: 10 | L8: =IF(H8="P",IF(K8<7,"SI","NO"),IF(H8="D",IF(K8<11,"SI","NO"),IF(H8="C",IF(K8<21,"SI","NO"),IF(H8="A",IF(K8<41,"SI","NO"))))) -> SI | M8: =IF(H8="P",IF(K8<4,"SI","NO"),IF(H8="D",IF(K8<6,"SI","NO"),IF(H8="C",IF(K8<11,"SI","NO"),IF(H8="A",IF(K8<21,"SI","NO"))))) -> NO | O8: D | P8: D'AMBROSIO | Q8: INT | R8: 5 | S8: =IF(O8="P",IF(R8<7,"SI","NO"),IF(O8="D",IF(R8<11,"SI","NO"),IF(O8="C",IF(R8<21,"SI","NO"),IF(O8="A",IF(R8<41,"SI","NO"))))) -> SI | T8: =IF(O8="P",IF(R8<4,"SI","NO"),IF(O8="D",IF(R8<6,"SI","NO"),IF(O8="C",IF(R8<11,"SI","NO"),IF(O8="A",IF(R8<21,"SI","NO"))))) -> SI | V8: D | W8: VICARI | X8: SPA | Y8: 4 | Z8: =IF(V8="P",IF(Y8<7,"SI","NO"),IF(V8="D",IF(Y8<11,"SI","NO"),IF(V8="C",IF(Y8<21,"SI","NO"),IF(V8="A",IF(Y8<41,"SI","NO"))))) -> SI | AA8: =IF(V8="P",IF(Y8<4,"SI","NO"),IF(V8="D",IF(Y8<6,"SI","NO"),IF(V8="C",IF(Y8<11,"SI","NO"),IF(V8="A",IF(Y8<21,"SI","NO"))))) -> SI | AC8: D | AD8: TOLOI | AE8: ATA | AF8: 5 | AG8: =IF(AC8="P",IF(AF8<7,"SI","NO"),IF(AC8="D",IF(AF8<11,"SI","NO"),IF(AC8="C",IF(AF8<21,"SI","NO"),IF(AC8="A",IF(AF8<41,"SI","NO"))))) -> SI | AH8: =IF(AC8="P",IF(AF8<4,"SI","NO"),IF(AC8="D",IF(AF8<6,"SI","NO"),IF(AC8="C",IF(AF8<11,"SI","NO"),IF(AC8="A",IF(AF8<21,"SI","NO"))))) -> SI | AJ8: D | AK8: RODRIGUEZ R | AL8: MIL | AM8: 11 | AN8: =IF(AJ8="P",IF(AM8<7,"SI","NO"),IF(AJ8="D",IF(AM8<11,"SI","NO"),IF(AJ8="C",IF(AM8<21,"SI","NO"),IF(AJ8="A",IF(AM8<41,"SI","NO"))))) -> NO | AO8: =IF(AJ8="P",IF(AM8<4,"SI","NO"),IF(AJ8="D",IF(AM8<6,"SI","NO"),IF(AJ8="C",IF(AM8<11,"SI","NO"),IF(AJ8="A",IF(AM8<21,"SI","NO"))))) -> NO | AQ8: D | AR8: SILVESTRE | AS8: SAM | AT8: 2 | AU8: =IF(AQ8="P",IF(AT8<7,"SI","NO"),IF(AQ8="D",IF(AT8<11,"SI","NO"),IF(AQ8="C",IF(AT8<21,"SI","NO"),IF(AQ8="A",IF(AT8<41,"SI","NO"))))) -> SI | AV8: =IF(AQ8="P",IF(AT8<4,"SI","NO"),IF(AQ8="D",IF(AT8<6,"SI","NO"),IF(AQ8="C",IF(AT8<11,"SI","NO"),IF(AQ8="A",IF(AT8<21,"SI","NO"))))) -> SI | AX8: D | AY8: CANCELO | AZ8: INT | BA8: 1 | BB8: =IF(AX8="P",IF(BA8<7,"SI","NO"),IF(AX8="D",IF(BA8<11,"SI","NO"),IF(AX8="C",IF(BA8<21,"SI","NO"),IF(AX8="A",IF(BA8<41,"SI","NO"))))) -> SI | BC8: =IF(AX8="P",IF(BA8<4,"SI","NO"),IF(AX8="D",IF(BA8<6,"SI","NO"),IF(AX8="C",IF(BA8<11,"SI","NO"),IF(AX8="A",IF(BA8<21,"SI","NO"))))) -> SI | BE8: D | BF8: CECCHERINI | BG8: CRO | BH8: 1 | BI8: =IF(BE8="P",IF(BH8<7,"SI","NO"),IF(BE8="D",IF(BH8<11,"SI","NO"),IF(BE8="C",IF(BH8<21,"SI","NO"),IF(BE8="A",IF(BH8<41,"SI","NO"))))) -> SI | BJ8: =IF(BE8="P",IF(BH8<4,"SI","NO"),IF(BE8="D",IF(BH8<6,"SI","NO"),IF(BE8="C",IF(BH8<11,"SI","NO"),IF(BE8="A",IF(BH8<21,"SI","NO"))))) -> SI | BL8: D | BM8: HATEBOER | BN8: ATA | BO8: 3 | BP8: =IF(BL8="P",IF(BO8<7,"SI","NO"),IF(BL8="D",IF(BO8<11,"SI","NO"),IF(BL8="C",IF(BO8<21,"SI","NO"),IF(BL8="A",IF(BO8<41,"SI","NO"))))) -> SI | BQ8: =IF(BL8="P",IF(BO8<4,"SI","NO"),IF(BL8="D",IF(BO8<6,"SI","NO"),IF(BL8="C",IF(BO8<11,"SI","NO"),IF(BL8="A",IF(BO8<21,"SI","NO"))))) -> SI
A9: D | B9: VUKOVIC | C9: VER | D9: 1 | E9: =IF(A9="P",IF(D9<7,"SI","NO"),IF(A9="D",IF(D9<11,"SI","NO"),IF(A9="C",IF(D9<21,"SI","NO"),IF(A9="A",IF(D9<41,"SI","NO"))))) -> SI | F9: =IF(A9="P",IF(D9<4,"SI","NO"),IF(A9="D",IF(D9<6,"SI","NO"),IF(A9="C",IF(D9<11,"SI","NO"),IF(A9="A",IF(D9<21,"SI","NO"))))) -> SI | H9: D | I9: WIDMER | J9: UDI | K9: 6 | L9: =IF(H9="P",IF(K9<7,"SI","NO"),IF(H9="D",IF(K9<11,"SI","NO"),IF(H9="C",IF(K9<21,"SI","NO"),IF(H9="A",IF(K9<41,"SI","NO"))))) -> SI | M9: =IF(H9="P",IF(K9<4,"SI","NO"),IF(H9="D",IF(K9<6,"SI","NO"),IF(H9="C",IF(K9<11,"SI","NO"),IF(H9="A",IF(K9<21,"SI","NO"))))) -> NO | O9: D | P9: MIRANDA | Q9: INT | R9: 14 | S9: =IF(O9="P",IF(R9<7,"SI","NO"),IF(O9="D",IF(R9<11,"SI","NO"),IF(O9="C",IF(R9<21,"SI","NO"),IF(O9="A",IF(R9<41,"SI","NO"))))) -> NO | T9: =IF(O9="P",IF(R9<4,"SI","NO"),IF(O9="D",IF(R9<6,"SI","NO"),IF(O9="C",IF(R9<11,"SI","NO"),IF(O9="A",IF(R9<21,"SI","NO"))))) -> NO | V9: D | W9: MATTIELLO | X9: SPA | Y9: 1 | Z9: =IF(V9="P",IF(Y9<7,"SI","NO"),IF(V9="D",IF(Y9<11,"SI","NO"),IF(V9="C",IF(Y9<21,"SI","NO"),IF(V9="A",IF(Y9<41,"SI","NO"))))) -> SI | AA9: =IF(V9="P",IF(Y9<4,"SI","NO"),IF(V9="D",IF(Y9<6,"SI","NO"),IF(V9="C",IF(Y9<11,"SI","NO"),IF(V9="A",IF(Y9<21,"SI","NO"))))) -> SI | AC9: D | AD9: PEZZELLA GER | AE9: FIO | AF9: 2 | AG9: =IF(AC9="P",IF(AF9<7,"SI","NO"),IF(AC9="D",IF(AF9<11,"SI","NO"),IF(AC9="C",IF(AF9<21,"SI","NO"),IF(AC9="A",IF(AF9<41,"SI","NO"))))) -> SI | AH9: =IF(AC9="P",IF(AF9<4,"SI","NO"),IF(AC9="D",IF(AF9<6,"SI","NO"),IF(AC9="C",IF(AF9<11,"SI","NO"),IF(AC9="A",IF(AF9<21,"SI","NO"))))) -> SI | AJ9: D | AK9: BERESZYNSKI | AL9: SAM | AM9: 8 | AN9: =IF(AJ9="P",IF(AM9<7,"SI","NO"),IF(AJ9="D",IF(AM9<11,"SI","NO"),IF(AJ9="C",IF(AM9<21,"SI","NO"),IF(AJ9="A",IF(AM9<41,"SI","NO"))))) -> SI | AO9: =IF(AJ9="P",IF(AM9<4,"SI","NO"),IF(AJ9="D",IF(AM9<6,"SI","NO"),IF(AJ9="C",IF(AM9<11,"SI","NO"),IF(AJ9="A",IF(AM9<21,"SI","NO"))))) -> NO | AQ9: D | AR9: ZUKANOVIC | AS9: GEN | AT9: 3 | AU9: =IF(AQ9="P",IF(AT9<7,"SI","NO"),IF(AQ9="D",IF(AT9<11,"SI","NO"),IF(AQ9="C",IF(AT9<21,"SI","NO"),IF(AQ9="A",IF(AT9<41,"SI","NO"))))) -> SI | AV9: =IF(AQ9="P",IF(AT9<4,"SI","NO"),IF(AQ9="D",IF(AT9<6,"SI","NO"),IF(AQ9="C",IF(AT9<11,"SI","NO"),IF(AQ9="A",IF(AT9<21,"SI","NO"))))) -> SI | AX9: D | AY9: ANSALDI | AZ9: TOR | BA9: 1 | BB9: =IF(AX9="P",IF(BA9<7,"SI","NO"),IF(AX9="D",IF(BA9<11,"SI","NO"),IF(AX9="C",IF(BA9<21,"SI","NO"),IF(AX9="A",IF(BA9<41,"SI","NO"))))) -> SI | BC9: =IF(AX9="P",IF(BA9<4,"SI","NO"),IF(AX9="D",IF(BA9<6,"SI","NO"),IF(AX9="C",IF(BA9<11,"SI","NO"),IF(AX9="A",IF(BA9<21,"SI","NO"))))) -> SI | BE9: D | BF9: MARIO RUI | BG9: NAP | BH9: 24 | BI9: =IF(BE9="P",IF(BH9<7,"SI","NO"),IF(BE9="D",IF(BH9<11,"SI","NO"),IF(BE9="C",IF(BH9<21,"SI","NO"),IF(BE9="A",IF(BH9<41,"SI","NO"))))) -> NO | BJ9: =IF(BE9="P",IF(BH9<4,"SI","NO"),IF(BE9="D",IF(BH9<6,"SI","NO"),IF(BE9="C",IF(BH9<11,"SI","NO"),IF(BE9="A",IF(BH9<21,"SI","NO"))))) -> NO | BL9: D | BM9: CALDARA | BN9: ATA | BO9: 11 | BP9: =IF(BL9="P",IF(BO9<7,"SI","NO"),IF(BL9="D",IF(BO9<11,"SI","NO"),IF(BL9="C",IF(BO9<21,"SI","NO"),IF(BL9="A",IF(BO9<41,"SI","NO"))))) -> NO | BQ9: =IF(BL9="P",IF(BO9<4,"SI","NO"),IF(BL9="D",IF(BO9<6,"SI","NO"),IF(BL9="C",IF(BO9<11,"SI","NO"),IF(BL9="A",IF(BO9<21,"SI","NO"))))) -> NO
A10: D | B10: PELUSO | C10: SAS | D10: 1 | E10: =IF(A10="P",IF(D10<7,"SI","NO"),IF(A10="D",IF(D10<11,"SI","NO"),IF(A10="C",IF(D10<21,"SI","NO"),IF(A10="A",IF(D10<41,"SI","NO"))))) -> SI | F10: =IF(A10="P",IF(D10<4,"SI","NO"),IF(A10="D",IF(D10<6,"SI","NO"),IF(A10="C",IF(D10<11,"SI","NO"),IF(A10="A",IF(D10<21,"SI","NO"))))) -> SI | H10: D | I10: BARZAGLI | J10: JUV | K10: 1 | L10: =IF(H10="P",IF(K10<7,"SI","NO"),IF(H10="D",IF(K10<11,"SI","NO"),IF(H10="C",IF(K10<21,"SI","NO"),IF(H10="A",IF(K10<41,"SI","NO"))))) -> SI | M10: =IF(H10="P",IF(K10<4,"SI","NO"),IF(H10="D",IF(K10<6,"SI","NO"),IF(H10="C",IF(K10<11,"SI","NO"),IF(H10="A",IF(K10<21,"SI","NO"))))) -> SI | O10: D | P10: DE MAIO | Q10: BOL | R10: 1 | S10: =IF(O10="P",IF(R10<7,"SI","NO"),IF(O10="D",IF(R10<11,"SI","NO"),IF(O10="C",IF(R10<21,"SI","NO"),IF(O10="A",IF(R10<41,"SI","NO"))))) -> SI | T10: =IF(O10="P",IF(R10<4,"SI","NO"),IF(O10="D",IF(R10<6,"SI","NO"),IF(O10="C",IF(R10<11,"SI","NO"),IF(O10="A",IF(R10<21,"SI","NO"))))) -> SI | V10: D | W10: SAMIR | X10: UDI | Y10: 1 | Z10: =IF(V10="P",IF(Y10<7,"SI","NO"),IF(V10="D",IF(Y10<11,"SI","NO"),IF(V10="C",IF(Y10<21,"SI","NO"),IF(V10="A",IF(Y10<41,"SI","NO"))))) -> SI | AA10: =IF(V10="P",IF(Y10<4,"SI","NO"),IF(V10="D",IF(Y10<6,"SI","NO"),IF(V10="C",IF(Y10<11,"SI","NO"),IF(V10="A",IF(Y10<21,"SI","NO"))))) -> SI | AC10: D | AD10: MIRANDA | AE10: INT | AF10: 6 | AG10: =IF(AC10="P",IF(AF10<7,"SI","NO"),IF(AC10="D",IF(AF10<11,"SI","NO"),IF(AC10="C",IF(AF10<21,"SI","NO"),IF(AC10="A",IF(AF10<41,"SI","NO"))))) -> SI | AH10: =IF(AC10="P",IF(AF10<4,"SI","NO"),IF(AC10="D",IF(AF10<6,"SI","NO"),IF(AC10="C",IF(AF10<11,"SI","NO"),IF(AC10="A",IF(AF10<21,"SI","NO"))))) -> NO | AJ10: D | AK10: LIROLA | AL10: SAS | AM10: 4 | AN10: =IF(AJ10="P",IF(AM10<7,"SI","NO"),IF(AJ10="D",IF(AM10<11,"SI","NO"),IF(AJ10="C",IF(AM10<21,"SI","NO"),IF(AJ10="A",IF(AM10<41,"SI","NO"))))) -> SI | AO10: =IF(AJ10="P",IF(AM10<4,"SI","NO"),IF(AJ10="D",IF(AM10<6,"SI","NO"),IF(AJ10="C",IF(AM10<11,"SI","NO"),IF(AJ10="A",IF(AM10<21,"SI","NO"))))) -> SI | AQ10: D | AR10: LUKAKU J | AS10: LAZ | AT10: 10 | AU10: =IF(AQ10="P",IF(AT10<7,"SI","NO"),IF(AQ10="D",IF(AT10<11,"SI","NO"),IF(AQ10="C",IF(AT10<21,"SI","NO"),IF(AQ10="A",IF(AT10<41,"SI","NO"))))) -> SI | AV10: =IF(AQ10="P",IF(AT10<4,"SI","NO"),IF(AQ10="D",IF(AT10<6,"SI","NO"),IF(AQ10="C",IF(AT10<11,"SI","NO"),IF(AQ10="A",IF(AT10<21,"SI","NO"))))) -> NO | AX10: D | AY10: CHIELLINI | AZ10: JUV | BA10: 11 | BB10: =IF(AX10="P",IF(BA10<7,"SI","NO"),IF(AX10="D",IF(BA10<11,"SI","NO"),IF(AX10="C",IF(BA10<21,"SI","NO"),IF(AX10="A",IF(BA10<41,"SI","NO"))))) -> NO | BC10: =IF(AX10="P",IF(BA10<4,"SI","NO"),IF(AX10="D",IF(BA10<6,"SI","NO"),IF(AX10="C",IF(BA10<11,"SI","NO"),IF(AX10="A",IF(BA10<21,"SI","NO"))))) -> NO | BE10: D | BF10: FLORENZI | BG10: ROM | BH10: 18 | BI10: =IF(BE10="P",IF(BH10<7,"SI","NO"),IF(BE10="D",IF(BH10<11,"SI","NO"),IF(BE10="C",IF(BH10<21,"SI","NO"),IF(BE10="A",IF(BH10<41,"SI","NO"))))) -> NO | BJ10: =IF(BE10="P",IF(BH10<4,"SI","NO"),IF(BE10="D",IF(BH10<6,"SI","NO"),IF(BE10="C",IF(BH10<11,"SI","NO"),IF(BE10="A",IF(BH10<21,"SI","NO"))))) -> NO | BL10: D | BM10: BENATIA | BN10: JUV | BO10: 4 | BP10: =IF(BL10="P",IF(BO10<7,"SI","NO"),IF(BL10="D",IF(BO10<11,"SI","NO"),IF(BL10="C",IF(BO10<21,"SI","NO"),IF(BL10="A",IF(BO10<41,"SI","NO"))))) -> SI | BQ10: =IF(BL10="P",IF(BO10<4,"SI","NO"),IF(BL10="D",IF(BO10<6,"SI","NO"),IF(BL10="C",IF(BO10<11,"SI","NO"),IF(BL10="A",IF(BO10<21,"SI","NO"))))) -> SI
A11: D | B11: ASAMOAH | C11: JUV | D11: 1 | E11: =IF(A11="P",IF(D11<7,"SI","NO"),IF(A11="D",IF(D11<11,"SI","NO"),IF(A11="C",IF(D11<21,"SI","NO"),IF(A11="A",IF(D11<41,"SI","NO"))))) -> SI | F11: =IF(A11="P",IF(D11<4,"SI","NO"),IF(A11="D",IF(D11<6,"SI","NO"),IF(A11="C",IF(D11<11,"SI","NO"),IF(A11="A",IF(D11<21,"SI","NO"))))) -> SI | H11: D | I11: BERESZYNSKI | J11: SAM | K11: 20 | L11: =IF(H11="P",IF(K11<7,"SI","NO"),IF(H11="D",IF(K11<11,"SI","NO"),IF(H11="C",IF(K11<21,"SI","NO"),IF(H11="A",IF(K11<41,"SI","NO"))))) -> NO | M11: =IF(H11="P",IF(K11<4,"SI","NO"),IF(H11="D",IF(K11<6,"SI","NO"),IF(H11="C",IF(K11<11,"SI","NO"),IF(H11="A",IF(K11<21,"SI","NO"))))) -> NO | O11: D | P11: BARZAGLI | Q11: JUV | R11: 1 | S11: =IF(O11="P",IF(R11<7,"SI","NO"),IF(O11="D",IF(R11<11,"SI","NO"),IF(O11="C",IF(R11<21,"SI","NO"),IF(O11="A",IF(R11<41,"SI","NO"))))) -> SI | T11: =IF(O11="P",IF(R11<4,"SI","NO"),IF(O11="D",IF(R11<6,"SI","NO"),IF(O11="C",IF(R11<11,"SI","NO"),IF(O11="A",IF(R11<21,"SI","NO"))))) -> SI | V11: D | W11: ROMAGNA | X11: CAG | Y11: 5 | Z11: =IF(V11="P",IF(Y11<7,"SI","NO"),IF(V11="D",IF(Y11<11,"SI","NO"),IF(V11="C",IF(Y11<21,"SI","NO"),IF(V11="A",IF(Y11<41,"SI","NO"))))) -> SI | AA11: =IF(V11="P",IF(Y11<4,"SI","NO"),IF(V11="D",IF(Y11<6,"SI","NO"),IF(V11="C",IF(Y11<11,"SI","NO"),IF(V11="A",IF(Y11<21,"SI","NO"))))) -> SI | AC11: D | AD11: DANILO | AE11: UDI | AF11: 3 | AG11: =IF(AC11="P",IF(AF11<7,"SI","NO"),IF(AC11="D",IF(AF11<11,"SI","NO"),IF(AC11="C",IF(AF11<21,"SI","NO"),IF(AC11="A",IF(AF11<41,"SI","NO"))))) -> SI | AH11: =IF(AC11="P",IF(AF11<4,"SI","NO"),IF(AC11="D",IF(AF11<6,"SI","NO"),IF(AC11="C",IF(AF11<11,"SI","NO"),IF(AC11="A",IF(AF11<21,"SI","NO"))))) -> SI | AJ11: D | AK11: LAURINI | AL11: FIO | AM11: 1 | AN11: =IF(AJ11="P",IF(AM11<7,"SI","NO"),IF(AJ11="D",IF(AM11<11,"SI","NO"),IF(AJ11="C",IF(AM11<21,"SI","NO"),IF(AJ11="A",IF(AM11<41,"SI","NO"))))) -> SI | AO11: =IF(AJ11="P",IF(AM11<4,"SI","NO"),IF(AJ11="D",IF(AM11<6,"SI","NO"),IF(AJ11="C",IF(AM11<11,"SI","NO"),IF(AJ11="A",IF(AM11<21,"SI","NO"))))) -> SI | AQ11: D | AR11: VICARI | AS11: SPA | AT11: 1 | AU11: =IF(AQ11="P",IF(AT11<7,"SI","NO"),IF(AQ11="D",IF(AT11<11,"SI","NO"),IF(AQ11="C",IF(AT11<21,"SI","NO"),IF(AQ11="A",IF(AT11<41,"SI","NO"))))) -> SI | AV11: =IF(AQ11="P",IF(AT11<4,"SI","NO"),IF(AQ11="D",IF(AT11<6,"SI","NO"),IF(AQ11="C",IF(AT11<11,"SI","NO"),IF(AQ11="A",IF(AT11<21,"SI","NO"))))) -> SI | AX11: D | AY11: FERRARI G | AZ11: SAM | BA11: 2 | BB11: =IF(AX11="P",IF(BA11<7,"SI","NO"),IF(AX11="D",IF(BA11<11,"SI","NO"),IF(AX11="C",IF(BA11<21,"SI","NO"),IF(AX11="A",IF(BA11<41,"SI","NO"))))) -> SI | BC11: =IF(AX11="P",IF(BA11<4,"SI","NO"),IF(AX11="D",IF(BA11<6,"SI","NO"),IF(AX11="C",IF(BA11<11,"SI","NO"),IF(AX11="A",IF(BA11<21,"SI","NO"))))) -> SI | BE11: D | BF11: DANILO | BG11: UDI | BH11: 1 | BI11: =IF(BE11="P",IF(BH11<7,"SI","NO"),IF(BE11="D",IF(BH11<11,"SI","NO"),IF(BE11="C",IF(BH11<21,"SI","NO"),IF(BE11="A",IF(BH11<41,"SI","NO"))))) -> SI | BJ11: =IF(BE11="P",IF(BH11<4,"SI","NO"),IF(BE11="D",IF(BH11<6,"SI","NO"),IF(BE11="C",IF(BH11<11,"SI","NO"),IF(BE11="A",IF(BH11<21,"SI","NO"))))) -> SI | BL11: D | BM11: MORETTI | BN11: TOR | BO11: 1 | BP11: =IF(BL11="P",IF(BO11<7,"SI","NO"),IF(BL11="D",IF(BO11<11,"SI","NO"),IF(BL11="C",IF(BO11<21,"SI","NO"),IF(BL11="A",IF(BO11<41,"SI","NO"))))) -> SI | BQ11: =IF(BL11="P",IF(BO11<4,"SI","NO"),IF(BL11="D",IF(BO11<6,"SI","NO"),IF(BL11="C",IF(BO11<11,"SI","NO"),IF(BL11="A",IF(BO11<21,"SI","NO"))))) -> SI
A12: D | B12: IZZO | C12: GEN | D12: 1 | E12: =IF(A12="P",IF(D12<7,"SI","NO"),IF(A12="D",IF(D12<11,"SI","NO"),IF(A12="C",IF(D12<21,"SI","NO"),IF(A12="A",IF(D12<41,"SI","NO"))))) -> SI | F12: =IF(A12="P",IF(D12<4,"SI","NO"),IF(A12="D",IF(D12<6,"SI","NO"),IF(A12="C",IF(D12<11,"SI","NO"),IF(A12="A",IF(D12<21,"SI","NO"))))) -> SI | H12: D | I12: MURRU | J12: SAM | K12: 1 | L12: =IF(H12="P",IF(K12<7,"SI","NO"),IF(H12="D",IF(K12<11,"SI","NO"),IF(H12="C",IF(K12<21,"SI","NO"),IF(H12="A",IF(K12<41,"SI","NO"))))) -> SI | M12: =IF(H12="P",IF(K12<4,"SI","NO"),IF(H12="D",IF(K12<6,"SI","NO"),IF(H12="C",IF(K12<11,"SI","NO"),IF(H12="A",IF(K12<21,"SI","NO"))))) -> SI | O12: D | P12: BASTOS | Q12: LAZ | R12: 1 | S12: =IF(O12="P",IF(R12<7,"SI","NO"),IF(O12="D",IF(R12<11,"SI","NO"),IF(O12="C",IF(R12<21,"SI","NO"),IF(O12="A",IF(R12<41,"SI","NO"))))) -> SI | T12: =IF(O12="P",IF(R12<4,"SI","NO"),IF(O12="D",IF(R12<6,"SI","NO"),IF(O12="C",IF(R12<11,"SI","NO"),IF(O12="A",IF(R12<21,"SI","NO"))))) -> SI | V12: D | W12: LIROLA | X12: SAS | Y12: 3 | Z12: =IF(V12="P",IF(Y12<7,"SI","NO"),IF(V12="D",IF(Y12<11,"SI","NO"),IF(V12="C",IF(Y12<21,"SI","NO"),IF(V12="A",IF(Y12<41,"SI","NO"))))) -> SI | AA12: =IF(V12="P",IF(Y12<4,"SI","NO"),IF(V12="D",IF(Y12<6,"SI","NO"),IF(V12="C",IF(Y12<11,"SI","NO"),IF(V12="A",IF(Y12<21,"SI","NO"))))) -> SI | AC12: D | AD12: REGINI | AE12: SAM | AF12: 2 | AG12: =IF(AC12="P",IF(AF12<7,"SI","NO"),IF(AC12="D",IF(AF12<11,"SI","NO"),IF(AC12="C",IF(AF12<21,"SI","NO"),IF(AC12="A",IF(AF12<41,"SI","NO"))))) -> SI | AH12: =IF(AC12="P",IF(AF12<4,"SI","NO"),IF(AC12="D",IF(AF12<6,"SI","NO"),IF(AC12="C",IF(AF12<11,"SI","NO"),IF(AC12="A",IF(AF12<21,"SI","NO"))))) -> SI | AJ12: D | AK12: MUSACCHIO | AL12: MIL | AM12: 5 | AN12: =IF(AJ12="P",IF(AM12<7,"SI","NO"),IF(AJ12="D",IF(AM12<11,"SI","NO"),IF(AJ12="C",IF(AM12<21,"SI","NO"),IF(AJ12="A",IF(AM12<41,"SI","NO"))))) -> SI | AO12: =IF(AJ12="P",IF(AM12<4,"SI","NO"),IF(AJ12="D",IF(AM12<6,"SI","NO"),IF(AJ12="C",IF(AM12<11,"SI","NO"),IF(AJ12="A",IF(AM12<21,"SI","NO"))))) -> SI | AQ12: D | AR12: SAMIR | AS12: UDI | AT12: 1 | AU12: =IF(AQ12="P",IF(AT12<7,"SI","NO"),IF(AQ12="D",IF(AT12<11,"SI","NO"),IF(AQ12="C",IF(AT12<21,"SI","NO"),IF(AQ12="A",IF(AT12<41,"SI","NO"))))) -> SI | AV12: =IF(AQ12="P",IF(AT12<4,"SI","NO"),IF(AQ12="D",IF(AT12<6,"SI","NO"),IF(AQ12="C",IF(AT12<11,"SI","NO"),IF(AQ12="A",IF(AT12<21,"SI","NO"))))) -> SI | AX12: D | AY12: DE SCIGLIO | AZ12: JUV | BA12: 2 | BB12: =IF(AX12="P",IF(BA12<7,"SI","NO"),IF(AX12="D",IF(BA12<11,"SI","NO"),IF(AX12="C",IF(BA12<21,"SI","NO"),IF(AX12="A",IF(BA12<41,"SI","NO"))))) -> SI | BC12: =IF(AX12="P",IF(BA12<4,"SI","NO"),IF(AX12="D",IF(BA12<6,"SI","NO"),IF(AX12="C",IF(BA12<11,"SI","NO"),IF(AX12="A",IF(BA12<21,"SI","NO"))))) -> SI | BE12: D | BF12: VUKOVIC | BG12: VER | BH12: 2 | BI12: =IF(BE12="P",IF(BH12<7,"SI","NO"),IF(BE12="D",IF(BH12<11,"SI","NO"),IF(BE12="C",IF(BH12<21,"SI","NO"),IF(BE12="A",IF(BH12<41,"SI","NO"))))) -> SI | BJ12: =IF(BE12="P",IF(BH12<4,"SI","NO"),IF(BE12="D",IF(BH12<6,"SI","NO"),IF(BE12="C",IF(BH12<11,"SI","NO"),IF(BE12="A",IF(BH12<21,"SI","NO"))))) -> SI | BL12: D | BM12: SALA | BN12: SAM | BO12: 1 | BP12: =IF(BL12="P",IF(BO12<7,"SI","NO"),IF(BL12="D",IF(BO12<11,"SI","NO"),IF(BL12="C",IF(BO12<21,"SI","NO"),IF(BL12="A",IF(BO12<41,"SI","NO"))))) -> SI | BQ12: =IF(BL12="P",IF(BO12<4,"SI","NO"),IF(BL12="D",IF(BO12<6,"SI","NO"),IF(BL12="C",IF(BO12<11,"SI","NO"),IF(BL12="A",IF(BO12<21,"SI","NO"))))) -> SI
A13: D | B13: CONTI | C13: MIL | D13: 8 | E13: =IF(A13="P",IF(D13<7,"SI","NO"),IF(A13="D",IF(D13<11,"SI","NO"),IF(A13="C",IF(D13<21,"SI","NO"),IF(A13="A",IF(D13<41,"SI","NO"))))) -> SI | F13: =IF(A13="P",IF(D13<4,"SI","NO"),IF(A13="D",IF(D13<6,"SI","NO"),IF(A13="C",IF(D13<11,"SI","NO"),IF(A13="A",IF(D13<21,"SI","NO"))))) -> NO | H13: D | I13: PEREIRA P | J13: GEN | K13: 6 | L13: =IF(H13="P",IF(K13<7,"SI","NO"),IF(H13="D",IF(K13<11,"SI","NO"),IF(H13="C",IF(K13<21,"SI","NO"),IF(H13="A",IF(K13<41,"SI","NO"))))) -> SI | M13: =IF(H13="P",IF(K13<4,"SI","NO"),IF(H13="D",IF(K13<6,"SI","NO"),IF(H13="C",IF(K13<11,"SI","NO"),IF(H13="A",IF(K13<21,"SI","NO"))))) -> NO | O13: D | P13: ABATE | Q13: MIL | R13: 1 | S13: =IF(O13="P",IF(R13<7,"SI","NO"),IF(O13="D",IF(R13<11,"SI","NO"),IF(O13="C",IF(R13<21,"SI","NO"),IF(O13="A",IF(R13<41,"SI","NO"))))) -> SI | T13: =IF(O13="P",IF(R13<4,"SI","NO"),IF(O13="D",IF(R13<6,"SI","NO"),IF(O13="C",IF(R13<11,"SI","NO"),IF(O13="A",IF(R13<21,"SI","NO"))))) -> SI | V13: D | W13: CASTAN | X13: CAG | Y13: 8 | Z13: =IF(V13="P",IF(Y13<7,"SI","NO"),IF(V13="D",IF(Y13<11,"SI","NO"),IF(V13="C",IF(Y13<21,"SI","NO"),IF(V13="A",IF(Y13<41,"SI","NO"))))) -> SI | AA13: =IF(V13="P",IF(Y13<4,"SI","NO"),IF(V13="D",IF(Y13<6,"SI","NO"),IF(V13="C",IF(Y13<11,"SI","NO"),IF(V13="A",IF(Y13<21,"SI","NO"))))) -> NO | AC13: D | AD13: CONTI | AE13: MIL | AF13: 1 | AG13: =IF(AC13="P",IF(AF13<7,"SI","NO"),IF(AC13="D",IF(AF13<11,"SI","NO"),IF(AC13="C",IF(AF13<21,"SI","NO"),IF(AC13="A",IF(AF13<41,"SI","NO"))))) -> SI | AH13: =IF(AC13="P",IF(AF13<4,"SI","NO"),IF(AC13="D",IF(AF13<6,"SI","NO"),IF(AC13="C",IF(AF13<11,"SI","NO"),IF(AC13="A",IF(AF13<21,"SI","NO"))))) -> SI | AJ13: D | AK13: CHIRICHES | AL13: NAP | AM13: 1 | AN13: =IF(AJ13="P",IF(AM13<7,"SI","NO"),IF(AJ13="D",IF(AM13<11,"SI","NO"),IF(AJ13="C",IF(AM13<21,"SI","NO"),IF(AJ13="A",IF(AM13<41,"SI","NO"))))) -> SI | AO13: =IF(AJ13="P",IF(AM13<4,"SI","NO"),IF(AJ13="D",IF(AM13<6,"SI","NO"),IF(AJ13="C",IF(AM13<11,"SI","NO"),IF(AJ13="A",IF(AM13<21,"SI","NO"))))) -> SI | AQ13: D | AR13: ROMAGNA | AS13: CAG | AT13: 1 | AU13: =IF(AQ13="P",IF(AT13<7,"SI","NO"),IF(AQ13="D",IF(AT13<11,"SI","NO"),IF(AQ13="C",IF(AT13<21,"SI","NO"),IF(AQ13="A",IF(AT13<41,"SI","NO"))))) -> SI | AV13: =IF(AQ13="P",IF(AT13<4,"SI","NO"),IF(AQ13="D",IF(AT13<6,"SI","NO"),IF(AQ13="C",IF(AT13<11,"SI","NO"),IF(AQ13="A",IF(AT13<21,"SI","NO"))))) -> SI | AX13: D | AY13: CASTAN | AZ13: CAG | BA13: 1 | BB13: =IF(AX13="P",IF(BA13<7,"SI","NO"),IF(AX13="D",IF(BA13<11,"SI","NO"),IF(AX13="C",IF(BA13<21,"SI","NO"),IF(AX13="A",IF(BA13<41,"SI","NO"))))) -> SI | BC13: =IF(AX13="P",IF(BA13<4,"SI","NO"),IF(AX13="D",IF(BA13<6,"SI","NO"),IF(AX13="C",IF(BA13<11,"SI","NO"),IF(AX13="A",IF(BA13<21,"SI","NO"))))) -> SI | BE13: D | BF13: CASTAN | BG13: CAG | BH13: 3 | BI13: =IF(BE13="P",IF(BH13<7,"SI","NO"),IF(BE13="D",IF(BH13<11,"SI","NO"),IF(BE13="C",IF(BH13<21,"SI","NO"),IF(BE13="A",IF(BH13<41,"SI","NO"))))) -> SI | BJ13: =IF(BE13="P",IF(BH13<4,"SI","NO"),IF(BE13="D",IF(BH13<6,"SI","NO"),IF(BE13="C",IF(BH13<11,"SI","NO"),IF(BE13="A",IF(BH13<21,"SI","NO"))))) -> SI | BL13: D | BM13: KARSDORP | BN13: ROM | BO13: 3 | BP13: =IF(BL13="P",IF(BO13<7,"SI","NO"),IF(BL13="D",IF(BO13<11,"SI","NO"),IF(BL13="C",IF(BO13<21,"SI","NO"),IF(BL13="A",IF(BO13<41,"SI","NO"))))) -> SI | BQ13: =IF(BL13="P",IF(BO13<4,"SI","NO"),IF(BL13="D",IF(BO13<6,"SI","NO"),IF(BL13="C",IF(BO13<11,"SI","NO"),IF(BL13="A",IF(BO13<21,"SI","NO"))))) -> SI
A14: C | B14: IAGO FALQUE | C14: TOR | D14: 42 | E14: =IF(A14="P",IF(D14<7,"SI","NO"),IF(A14="D",IF(D14<11,"SI","NO"),IF(A14="C",IF(D14<21,"SI","NO"),IF(A14="A",IF(D14<41,"SI","NO"))))) -> NO | F14: =IF(A14="P",IF(D14<4,"SI","NO"),IF(A14="D",IF(D14<6,"SI","NO"),IF(A14="C",IF(D14<11,"SI","NO"),IF(A14="A",IF(D14<21,"SI","NO"))))) -> NO | H14: C | I14: FREULER | J14: ATA | K14: 1 | L14: =IF(H14="P",IF(K14<7,"SI","NO"),IF(H14="D",IF(K14<11,"SI","NO"),IF(H14="C",IF(K14<21,"SI","NO"),IF(H14="A",IF(K14<41,"SI","NO"))))) -> SI | M14: =IF(H14="P",IF(K14<4,"SI","NO"),IF(H14="D",IF(K14<6,"SI","NO"),IF(H14="C",IF(K14<11,"SI","NO"),IF(H14="A",IF(K14<21,"SI","NO"))))) -> SI | O14: C | P14: DOUGLAS COSTA | Q14: JUV | R14: 38 | S14: =IF(O14="P",IF(R14<7,"SI","NO"),IF(O14="D",IF(R14<11,"SI","NO"),IF(O14="C",IF(R14<21,"SI","NO"),IF(O14="A",IF(R14<41,"SI","NO"))))) -> NO | T14: =IF(O14="P",IF(R14<4,"SI","NO"),IF(O14="D",IF(R14<6,"SI","NO"),IF(O14="C",IF(R14<11,"SI","NO"),IF(O14="A",IF(R14<21,"SI","NO"))))) -> NO | V14: C | W14: MILINKOVIC-SAVIC | X14: LAZ | Y14: 45 | Z14: =IF(V14="P",IF(Y14<7,"SI","NO"),IF(V14="D",IF(Y14<11,"SI","NO"),IF(V14="C",IF(Y14<21,"SI","NO"),IF(V14="A",IF(Y14<41,"SI","NO"))))) -> NO | AA14: =IF(V14="P",IF(Y14<4,"SI","NO"),IF(V14="D",IF(Y14<6,"SI","NO"),IF(V14="C",IF(Y14<11,"SI","NO"),IF(V14="A",IF(Y14<21,"SI","NO"))))) -> NO | AC14: C | AD14: KESSIE' | AE14: MIL | AF14: 7 | AG14: =IF(AC14="P",IF(AF14<7,"SI","NO"),IF(AC14="D",IF(AF14<11,"SI","NO"),IF(AC14="C",IF(AF14<21,"SI","NO"),IF(AC14="A",IF(AF14<41,"SI","NO"))))) -> SI | AH14: =IF(AC14="P",IF(AF14<4,"SI","NO"),IF(AC14="D",IF(AF14<6,"SI","NO"),IF(AC14="C",IF(AF14<11,"SI","NO"),IF(AC14="A",IF(AF14<21,"SI","NO"))))) -> SI | AJ14: C | AK14: HAMSIK | AL14: NAP | AM14: 66 | AN14: =IF(AJ14="P",IF(AM14<7,"SI","NO"),IF(AJ14="D",IF(AM14<11,"SI","NO"),IF(AJ14="C",IF(AM14<21,"SI","NO"),IF(AJ14="A",IF(AM14<41,"SI","NO"))))) -> NO | AO14: =IF(AJ14="P",IF(AM14<4,"SI","NO"),IF(AJ14="D",IF(AM14<6,"SI","NO"),IF(AJ14="C",IF(AM14<11,"SI","NO"),IF(AJ14="A",IF(AM14<21,"SI","NO"))))) -> NO | AQ14: C | AR14: MILINKOVIC-SAVIC | AS14: LAZ | AT14: 2 | AU14: =IF(AQ14="P",IF(AT14<7,"SI","NO"),IF(AQ14="D",IF(AT14<11,"SI","NO"),IF(AQ14="C",IF(AT14<21,"SI","NO"),IF(AQ14="A",IF(AT14<41,"SI","NO"))))) -> SI | AV14: =IF(AQ14="P",IF(AT14<4,"SI","NO"),IF(AQ14="D",IF(AT14<6,"SI","NO"),IF(AQ14="C",IF(AT14<11,"SI","NO"),IF(AQ14="A",IF(AT14<21,"SI","NO"))))) -> SI | AX14: C | AY14: PERISIC | AZ14: INT | BA14: 68 | BB14: =IF(AX14="P",IF(BA14<7,"SI","NO"),IF(AX14="D",IF(BA14<11,"SI","NO"),IF(AX14="C",IF(BA14<21,"SI","NO"),IF(AX14="A",IF(BA14<41,"SI","NO"))))) -> NO | BC14: =IF(AX14="P",IF(BA14<4,"SI","NO"),IF(AX14="D",IF(BA14<6,"SI","NO"),IF(AX14="C",IF(BA14<11,"SI","NO"),IF(AX14="A",IF(BA14<21,"SI","NO"))))) -> NO | BE14: C | BF14: BONAVENTURA | BG14: MIL | BH14: 14 | BI14: =IF(BE14="P",IF(BH14<7,"SI","NO"),IF(BE14="D",IF(BH14<11,"SI","NO"),IF(BE14="C",IF(BH14<21,"SI","NO"),IF(BE14="A",IF(BH14<41,"SI","NO"))))) -> SI | BJ14: =IF(BE14="P",IF(BH14<4,"SI","NO"),IF(BE14="D",IF(BH14<6,"SI","NO"),IF(BE14="C",IF(BH14<11,"SI","NO"),IF(BE14="A",IF(BH14<21,"SI","NO"))))) -> NO | BL14: C | BM14: ILICIC | BN14: ATA | BO14: 25 | BP14: =IF(BL14="P",IF(BO14<7,"SI","NO"),IF(BL14="D",IF(BO14<11,"SI","NO"),IF(BL14="C",IF(BO14<21,"SI","NO"),IF(BL14="A",IF(BO14<41,"SI","NO"))))) -> NO | BQ14: =IF(BL14="P",IF(BO14<4,"SI","NO"),IF(BL14="D",IF(BO14<6,"SI","NO"),IF(BL14="C",IF(BO14<11,"SI","NO"),IF(BL14="A",IF(BO14<21,"SI","NO"))))) -> NO
A15: C | B15: NAINGGOLAN | C15: ROM | D15: 71 | E15: =IF(A15="P",IF(D15<7,"SI","NO"),IF(A15="D",IF(D15<11,"SI","NO"),IF(A15="C",IF(D15<21,"SI","NO"),IF(A15="A",IF(D15<41,"SI","NO"))))) -> NO | F15: =IF(A15="P",IF(D15<4,"SI","NO"),IF(A15="D",IF(D15<6,"SI","NO"),IF(A15="C",IF(D15<11,"SI","NO"),IF(A15="A",IF(D15<21,"SI","NO"))))) -> NO | H15: C | I15: KESSIE' | J15: MIL | K15: 50 | L15: =IF(H15="P",IF(K15<7,"SI","NO"),IF(H15="D",IF(K15<11,"SI","NO"),IF(H15="C",IF(K15<21,"SI","NO"),IF(H15="A",IF(K15<41,"SI","NO"))))) -> NO | M15: =IF(H15="P",IF(K15<4,"SI","NO"),IF(H15="D",IF(K15<6,"SI","NO"),IF(H15="C",IF(K15<11,"SI","NO"),IF(H15="A",IF(K15<21,"SI","NO"))))) -> NO | O15: C | P15: VERETOUT | Q15: FIO | R15: 3 | S15: =IF(O15="P",IF(R15<7,"SI","NO"),IF(O15="D",IF(R15<11,"SI","NO"),IF(O15="C",IF(R15<21,"SI","NO"),IF(O15="A",IF(R15<41,"SI","NO"))))) -> SI | T15: =IF(O15="P",IF(R15<4,"SI","NO"),IF(O15="D",IF(R15<6,"SI","NO"),IF(O15="C",IF(R15<11,"SI","NO"),IF(O15="A",IF(R15<21,"SI","NO"))))) -> SI | V15: C | W15: KHEDIRA | X15: JUV | Y15: 26 | Z15: =IF(V15="P",IF(Y15<7,"SI","NO"),IF(V15="D",IF(Y15<11,"SI","NO"),IF(V15="C",IF(Y15<21,"SI","NO"),IF(V15="A",IF(Y15<41,"SI","NO"))))) -> NO | AA15: =IF(V15="P",IF(Y15<4,"SI","NO"),IF(V15="D",IF(Y15<6,"SI","NO"),IF(V15="C",IF(Y15<11,"SI","NO"),IF(V15="A",IF(Y15<21,"SI","NO"))))) -> NO | AC15: C | AD15: PAROLO | AE15: LAZ | AF15: 9 | AG15: =IF(AC15="P",IF(AF15<7,"SI","NO"),IF(AC15="D",IF(AF15<11,"SI","NO"),IF(AC15="C",IF(AF15<21,"SI","NO"),IF(AC15="A",IF(AF15<41,"SI","NO"))))) -> SI | AH15: =IF(AC15="P",IF(AF15<4,"SI","NO"),IF(AC15="D",IF(AF15<6,"SI","NO"),IF(AC15="C",IF(AF15<11,"SI","NO"),IF(AC15="A",IF(AF15<21,"SI","NO"))))) -> SI | AJ15: C | AK15: PERISIC | AL15: INT | AM15: 72 | AN15: =IF(AJ15="P",IF(AM15<7,"SI","NO"),IF(AJ15="D",IF(AM15<11,"SI","NO"),IF(AJ15="C",IF(AM15<21,"SI","NO"),IF(AJ15="A",IF(AM15<41,"SI","NO"))))) -> NO | AO15: =IF(AJ15="P",IF(AM15<4,"SI","NO"),IF(AJ15="D",IF(AM15<6,"SI","NO"),IF(AJ15="C",IF(AM15<11,"SI","NO"),IF(AJ15="A",IF(AM15<21,"SI","NO"))))) -> NO | AQ15: C | AR15: CALHANOGLU | AS15: MIL | AT15: 32 | AU15: =IF(AQ15="P",IF(AT15<7,"SI","NO"),IF(AQ15="D",IF(AT15<11,"SI","NO"),IF(AQ15="C",IF(AT15<21,"SI","NO"),IF(AQ15="A",IF(AT15<41,"SI","NO"))))) -> NO | AV15: =IF(AQ15="P",IF(AT15<4,"SI","NO"),IF(AQ15="D",IF(AT15<6,"SI","NO"),IF(AQ15="C",IF(AT15<11,"SI","NO"),IF(AQ15="A",IF(AT15<21,"SI","NO"))))) -> NO | AX15: C | AY15: PJANIC | AZ15: JUV | BA15: 60 | BB15: =IF(AX15="P",IF(BA15<7,"SI","NO"),IF(AX15="D",IF(BA15<11,"SI","NO"),IF(AX15="C",IF(BA15<21,"SI","NO"),IF(AX15="A",IF(BA15<41,"SI","NO"))))) -> NO | BC15: =IF(AX15="P",IF(BA15<4,"SI","NO"),IF(AX15="D",IF(BA15<6,"SI","NO"),IF(AX15="C",IF(BA15<11,"SI","NO"),IF(AX15="A",IF(BA15<21,"SI","NO"))))) -> NO | BE15: C | BF15: RAFINHA | BG15: INT | BH15: 26 | BI15: =IF(BE15="P",IF(BH15<7,"SI","NO"),IF(BE15="D",IF(BH15<11,"SI","NO"),IF(BE15="C",IF(BH15<21,"SI","NO"),IF(BE15="A",IF(BH15<41,"SI","NO"))))) -> NO | BJ15: =IF(BE15="P",IF(BH15<4,"SI","NO"),IF(BE15="D",IF(BH15<6,"SI","NO"),IF(BE15="C",IF(BH15<11,"SI","NO"),IF(BE15="A",IF(BH15<21,"SI","NO"))))) -> NO | BL15: C | BM15: LJAJIC | BN15: TOR | BO15: 39 | BP15: =IF(BL15="P",IF(BO15<7,"SI","NO"),IF(BL15="D",IF(BO15<11,"SI","NO"),IF(BL15="C",IF(BO15<21,"SI","NO"),IF(BL15="A",IF(BO15<41,"SI","NO"))))) -> NO | BQ15: =IF(BL15="P",IF(BO15<4,"SI","NO"),IF(BL15="D",IF(BO15<6,"SI","NO"),IF(BL15="C",IF(BO15<11,"SI","NO"),IF(BL15="A",IF(BO15<21,"SI","NO"))))) -> NO
A16: C | B16: CHIESA | C16: FIO | D16: 47 | E16: =IF(A16="P",IF(D16<7,"SI","NO"),IF(A16="D",IF(D16<11,"SI","NO"),IF(A16="C",IF(D16<21,"SI","NO"),IF(A16="A",IF(D16<41,"SI","NO"))))) -> NO | F16: =IF(A16="P",IF(D16<4,"SI","NO"),IF(A16="D",IF(D16<6,"SI","NO"),IF(A16="C",IF(D16<11,"SI","NO"),IF(A16="A",IF(D16<21,"SI","NO"))))) -> NO | H16: C | I16: UNDER | J16: ROM | K16: 1 | L16: =IF(H16="P",IF(K16<7,"SI","NO"),IF(H16="D",IF(K16<11,"SI","NO"),IF(H16="C",IF(K16<21,"SI","NO"),IF(H16="A",IF(K16<41,"SI","NO"))))) -> SI | M16: =IF(H16="P",IF(K16<4,"SI","NO"),IF(H16="D",IF(K16<6,"SI","NO"),IF(H16="C",IF(K16<11,"SI","NO"),IF(H16="A",IF(K16<21,"SI","NO"))))) -> SI | O16: C | P16: KESSIE' | Q16: MIL | R16: 8 | S16: =IF(O16="P",IF(R16<7,"SI","NO"),IF(O16="D",IF(R16<11,"SI","NO"),IF(O16="C",IF(R16<21,"SI","NO"),IF(O16="A",IF(R16<41,"SI","NO"))))) -> SI | T16: =IF(O16="P",IF(R16<4,"SI","NO"),IF(O16="D",IF(R16<6,"SI","NO"),IF(O16="C",IF(R16<11,"SI","NO"),IF(O16="A",IF(R16<21,"SI","NO"))))) -> SI | V16: C | W16: PRAET | X16: SAM | Y16: 15 | Z16: =IF(V16="P",IF(Y16<7,"SI","NO"),IF(V16="D",IF(Y16<11,"SI","NO"),IF(V16="C",IF(Y16<21,"SI","NO"),IF(V16="A",IF(Y16<41,"SI","NO"))))) -> SI | AA16: =IF(V16="P",IF(Y16<4,"SI","NO"),IF(V16="D",IF(Y16<6,"SI","NO"),IF(V16="C",IF(Y16<11,"SI","NO"),IF(V16="A",IF(Y16<21,"SI","NO"))))) -> NO | AC16: C | AD16: LAZZARI M | AE16: SPA | AF16: 6 | AG16: =IF(AC16="P",IF(AF16<7,"SI","NO"),IF(AC16="D",IF(AF16<11,"SI","NO"),IF(AC16="C",IF(AF16<21,"SI","NO"),IF(AC16="A",IF(AF16<41,"SI","NO"))))) -> SI | AH16: =IF(AC16="P",IF(AF16<4,"SI","NO"),IF(AC16="D",IF(AF16<6,"SI","NO"),IF(AC16="C",IF(AF16<11,"SI","NO"),IF(AC16="A",IF(AF16<21,"SI","NO"))))) -> SI | AJ16: C | AK16: LULIC | AL16: LAZ | AM16: 1 | AN16: =IF(AJ16="P",IF(AM16<7,"SI","NO"),IF(AJ16="D",IF(AM16<11,"SI","NO"),IF(AJ16="C",IF(AM16<21,"SI","NO"),IF(AJ16="A",IF(AM16<41,"SI","NO"))))) -> SI | AO16: =IF(AJ16="P",IF(AM16<4,"SI","NO"),IF(AJ16="D",IF(AM16<6,"SI","NO"),IF(AJ16="C",IF(AM16<11,"SI","NO"),IF(AJ16="A",IF(AM16<21,"SI","NO"))))) -> SI | AQ16: C | AR16: MATUIDI | AS16: JUV | AT16: 32 | AU16: =IF(AQ16="P",IF(AT16<7,"SI","NO"),IF(AQ16="D",IF(AT16<11,"SI","NO"),IF(AQ16="C",IF(AT16<21,"SI","NO"),IF(AQ16="A",IF(AT16<41,"SI","NO"))))) -> NO | AV16: =IF(AQ16="P",IF(AT16<4,"SI","NO"),IF(AQ16="D",IF(AT16<6,"SI","NO"),IF(AQ16="C",IF(AT16<11,"SI","NO"),IF(AQ16="A",IF(AT16<21,"SI","NO"))))) -> NO | AX16: C | AY16: ZIELINSKI | AZ16: NAP | BA16: 10 | BB16: =IF(AX16="P",IF(BA16<7,"SI","NO"),IF(AX16="D",IF(BA16<11,"SI","NO"),IF(AX16="C",IF(BA16<21,"SI","NO"),IF(AX16="A",IF(BA16<41,"SI","NO"))))) -> SI | BC16: =IF(AX16="P",IF(BA16<4,"SI","NO"),IF(AX16="D",IF(BA16<6,"SI","NO"),IF(AX16="C",IF(BA16<11,"SI","NO"),IF(AX16="A",IF(BA16<21,"SI","NO"))))) -> SI | BE16: C | BF16: ALLAN | BG16: NAP | BH16: 6 | BI16: =IF(BE16="P",IF(BH16<7,"SI","NO"),IF(BE16="D",IF(BH16<11,"SI","NO"),IF(BE16="C",IF(BH16<21,"SI","NO"),IF(BE16="A",IF(BH16<41,"SI","NO"))))) -> SI | BJ16: =IF(BE16="P",IF(BH16<4,"SI","NO"),IF(BE16="D",IF(BH16<6,"SI","NO"),IF(BE16="C",IF(BH16<11,"SI","NO"),IF(BE16="A",IF(BH16<21,"SI","NO"))))) -> SI | BL16: C | BM16: LUIS ALBERTO | BN16: LAZ | BO16: 1 | BP16: =IF(BL16="P",IF(BO16<7,"SI","NO"),IF(BL16="D",IF(BO16<11,"SI","NO"),IF(BL16="C",IF(BO16<21,"SI","NO"),IF(BL16="A",IF(BO16<41,"SI","NO"))))) -> SI | BQ16: =IF(BL16="P",IF(BO16<4,"SI","NO"),IF(BL16="D",IF(BO16<6,"SI","NO"),IF(BL16="C",IF(BO16<11,"SI","NO"),IF(BL16="A",IF(BO16<21,"SI","NO"))))) -> SI
A17: C | B17: BROZOVIC | C17: INT | D17: 3 | E17: =IF(A17="P",IF(D17<7,"SI","NO"),IF(A17="D",IF(D17<11,"SI","NO"),IF(A17="C",IF(D17<21,"SI","NO"),IF(A17="A",IF(D17<41,"SI","NO"))))) -> SI | F17: =IF(A17="P",IF(D17<4,"SI","NO"),IF(A17="D",IF(D17<6,"SI","NO"),IF(A17="C",IF(D17<11,"SI","NO"),IF(A17="A",IF(D17<21,"SI","NO"))))) -> SI | H17: C | I17: PAROLO | J17: LAZ | K17: 13 | L17: =IF(H17="P",IF(K17<7,"SI","NO"),IF(H17="D",IF(K17<11,"SI","NO"),IF(H17="C",IF(K17<21,"SI","NO"),IF(H17="A",IF(K17<41,"SI","NO"))))) -> SI | M17: =IF(H17="P",IF(K17<4,"SI","NO"),IF(H17="D",IF(K17<6,"SI","NO"),IF(H17="C",IF(K17<11,"SI","NO"),IF(H17="A",IF(K17<21,"SI","NO"))))) -> NO | O17: C | P17: PEROTTI | Q17: ROM | R17: 56 | S17: =IF(O17="P",IF(R17<7,"SI","NO"),IF(O17="D",IF(R17<11,"SI","NO"),IF(O17="C",IF(R17<21,"SI","NO"),IF(O17="A",IF(R17<41,"SI","NO"))))) -> NO | T17: =IF(O17="P",IF(R17<4,"SI","NO"),IF(O17="D",IF(R17<6,"SI","NO"),IF(O17="C",IF(R17<11,"SI","NO"),IF(O17="A",IF(R17<21,"SI","NO"))))) -> NO | V17: C | W17: BARELLA | X17: CAG | Y17: 6 | Z17: =IF(V17="P",IF(Y17<7,"SI","NO"),IF(V17="D",IF(Y17<11,"SI","NO"),IF(V17="C",IF(Y17<21,"SI","NO"),IF(V17="A",IF(Y17<41,"SI","NO"))))) -> SI | AA17: =IF(V17="P",IF(Y17<4,"SI","NO"),IF(V17="D",IF(Y17<6,"SI","NO"),IF(V17="C",IF(Y17<11,"SI","NO"),IF(V17="A",IF(Y17<21,"SI","NO"))))) -> SI | AC17: C | AD17: MANDRAGORA | AE17: CRO | AF17: 1 | AG17: =IF(AC17="P",IF(AF17<7,"SI","NO"),IF(AC17="D",IF(AF17<11,"SI","NO"),IF(AC17="C",IF(AF17<21,"SI","NO"),IF(AC17="A",IF(AF17<41,"SI","NO"))))) -> SI | AH17: =IF(AC17="P",IF(AF17<4,"SI","NO"),IF(AC17="D",IF(AF17<6,"SI","NO"),IF(AC17="C",IF(AF17<11,"SI","NO"),IF(AC17="A",IF(AF17<21,"SI","NO"))))) -> SI | AJ17: C | AK17: BASELLI | AL17: TOR | AM17: 7 | AN17: =IF(AJ17="P",IF(AM17<7,"SI","NO"),IF(AJ17="D",IF(AM17<11,"SI","NO"),IF(AJ17="C",IF(AM17<21,"SI","NO"),IF(AJ17="A",IF(AM17<41,"SI","NO"))))) -> SI | AO17: =IF(AJ17="P",IF(AM17<4,"SI","NO"),IF(AJ17="D",IF(AM17<6,"SI","NO"),IF(AJ17="C",IF(AM17<11,"SI","NO"),IF(AJ17="A",IF(AM17<21,"SI","NO"))))) -> SI | AQ17: C | AR17: RAMIREZ | AS17: SAM | AT17: 23 | AU17: =IF(AQ17="P",IF(AT17<7,"SI","NO"),IF(AQ17="D",IF(AT17<11,"SI","NO"),IF(AQ17="C",IF(AT17<21,"SI","NO"),IF(AQ17="A",IF(AT17<41,"SI","NO"))))) -> NO | AV17: =IF(AQ17="P",IF(AT17<4,"SI","NO"),IF(AQ17="D",IF(AT17<6,"SI","NO"),IF(AQ17="C",IF(AT17<11,"SI","NO"),IF(AQ17="A",IF(AT17<21,"SI","NO"))))) -> NO | AX17: C | AY17: BERNARDESCHI | AZ17: JUV | BA17: 16 | BB17: =IF(AX17="P",IF(BA17<7,"SI","NO"),IF(AX17="D",IF(BA17<11,"SI","NO"),IF(AX17="C",IF(BA17<21,"SI","NO"),IF(AX17="A",IF(BA17<41,"SI","NO"))))) -> SI | BC17: =IF(AX17="P",IF(BA17<4,"SI","NO"),IF(AX17="D",IF(BA17<6,"SI","NO"),IF(AX17="C",IF(BA17<11,"SI","NO"),IF(AX17="A",IF(BA17<21,"SI","NO"))))) -> NO | BE17: C | BF17: FARAGO | BG17: CAG | BH17: 10 | BI17: =IF(BE17="P",IF(BH17<7,"SI","NO"),IF(BE17="D",IF(BH17<11,"SI","NO"),IF(BE17="C",IF(BH17<21,"SI","NO"),IF(BE17="A",IF(BH17<41,"SI","NO"))))) -> SI | BJ17: =IF(BE17="P",IF(BH17<4,"SI","NO"),IF(BE17="D",IF(BH17<6,"SI","NO"),IF(BE17="C",IF(BH17<11,"SI","NO"),IF(BE17="A",IF(BH17<21,"SI","NO"))))) -> SI | BL17: C | BM17: ALLAN | BN17: NAP | BO17: 5 | BP17: =IF(BL17="P",IF(BO17<7,"SI","NO"),IF(BL17="D",IF(BO17<11,"SI","NO"),IF(BL17="C",IF(BO17<21,"SI","NO"),IF(BL17="A",IF(BO17<41,"SI","NO"))))) -> SI | BQ17: =IF(BL17="P",IF(BO17<4,"SI","NO"),IF(BL17="D",IF(BO17<6,"SI","NO"),IF(BL17="C",IF(BO17<11,"SI","NO"),IF(BL17="A",IF(BO17<21,"SI","NO"))))) -> SI
A18: C | B18: CASTRO | C18: CHI | D18: 17 | E18: =IF(A18="P",IF(D18<7,"SI","NO"),IF(A18="D",IF(D18<11,"SI","NO"),IF(A18="C",IF(D18<21,"SI","NO"),IF(A18="A",IF(D18<41,"SI","NO"))))) -> SI | F18: =IF(A18="P",IF(D18<4,"SI","NO"),IF(A18="D",IF(D18<6,"SI","NO"),IF(A18="C",IF(D18<11,"SI","NO"),IF(A18="A",IF(D18<21,"SI","NO"))))) -> NO | H18: C | I18: BORJA VALERO | J18: INT | K18: 31 | L18: =IF(H18="P",IF(K18<7,"SI","NO"),IF(H18="D",IF(K18<11,"SI","NO"),IF(H18="C",IF(K18<21,"SI","NO"),IF(H18="A",IF(K18<41,"SI","NO"))))) -> NO | M18: =IF(H18="P",IF(K18<4,"SI","NO"),IF(H18="D",IF(K18<6,"SI","NO"),IF(H18="C",IF(K18<11,"SI","NO"),IF(H18="A",IF(K18<21,"SI","NO"))))) -> NO | O18: C | P18: PRAET | Q18: SAM | R18: 7 | S18: =IF(O18="P",IF(R18<7,"SI","NO"),IF(O18="D",IF(R18<11,"SI","NO"),IF(O18="C",IF(R18<21,"SI","NO"),IF(O18="A",IF(R18<41,"SI","NO"))))) -> SI | T18: =IF(O18="P",IF(R18<4,"SI","NO"),IF(O18="D",IF(R18<6,"SI","NO"),IF(O18="C",IF(R18<11,"SI","NO"),IF(O18="A",IF(R18<21,"SI","NO"))))) -> SI | V18: C | W18: BERTOLACCI | X18: GEN | Y18: 1 | Z18: =IF(V18="P",IF(Y18<7,"SI","NO"),IF(V18="D",IF(Y18<11,"SI","NO"),IF(V18="C",IF(Y18<21,"SI","NO"),IF(V18="A",IF(Y18<41,"SI","NO"))))) -> SI | AA18: =IF(V18="P",IF(Y18<4,"SI","NO"),IF(V18="D",IF(Y18<6,"SI","NO"),IF(V18="C",IF(Y18<11,"SI","NO"),IF(V18="A",IF(Y18<21,"SI","NO"))))) -> SI | AC18: C | AD18: SAPONARA | AE18: FIO | AF18: 8 | AG18: =IF(AC18="P",IF(AF18<7,"SI","NO"),IF(AC18="D",IF(AF18<11,"SI","NO"),IF(AC18="C",IF(AF18<21,"SI","NO"),IF(AC18="A",IF(AF18<41,"SI","NO"))))) -> SI | AH18: =IF(AC18="P",IF(AF18<4,"SI","NO"),IF(AC18="D",IF(AF18<6,"SI","NO"),IF(AC18="C",IF(AF18<11,"SI","NO"),IF(AC18="A",IF(AF18<21,"SI","NO"))))) -> SI | AJ18: C | AK18: VECINO | AL18: INT | AM18: 2 | AN18: =IF(AJ18="P",IF(AM18<7,"SI","NO"),IF(AJ18="D",IF(AM18<11,"SI","NO"),IF(AJ18="C",IF(AM18<21,"SI","NO"),IF(AJ18="A",IF(AM18<41,"SI","NO"))))) -> SI | AO18: =IF(AJ18="P",IF(AM18<4,"SI","NO"),IF(AJ18="D",IF(AM18<6,"SI","NO"),IF(AJ18="C",IF(AM18<11,"SI","NO"),IF(AJ18="A",IF(AM18<21,"SI","NO"))))) -> SI | AQ18: C | AR18: CUADRADO | AS18: JUV | AT18: 1 | AU18: =IF(AQ18="P",IF(AT18<7,"SI","NO"),IF(AQ18="D",IF(AT18<11,"SI","NO"),IF(AQ18="C",IF(AT18<21,"SI","NO"),IF(AQ18="A",IF(AT18<41,"SI","NO"))))) -> SI | AV18: =IF(AQ18="P",IF(AT18<4,"SI","NO"),IF(AQ18="D",IF(AT18<6,"SI","NO"),IF(AQ18="C",IF(AT18<11,"SI","NO"),IF(AQ18="A",IF(AT18<21,"SI","NO"))))) -> SI | AX18: C | AY18: BARAK | AZ18: UDI | BA18: 11 | BB18: =IF(AX18="P",IF(BA18<7,"SI","NO"),IF(AX18="D",IF(BA18<11,"SI","NO"),IF(AX18="C",IF(BA18<21,"SI","NO"),IF(AX18="A",IF(BA18<41,"SI","NO"))))) -> SI | BC18: =IF(AX18="P",IF(BA18<4,"SI","NO"),IF(AX18="D",IF(BA18<6,"SI","NO"),IF(AX18="C",IF(BA18<11,"SI","NO"),IF(AX18="A",IF(BA18<21,"SI","NO"))))) -> NO | BE18: C | BF18: OBI | BG18: TOR | BH18: 5 | BI18: =IF(BE18="P",IF(BH18<7,"SI","NO"),IF(BE18="D",IF(BH18<11,"SI","NO"),IF(BE18="C",IF(BH18<21,"SI","NO"),IF(BE18="A",IF(BH18<41,"SI","NO"))))) -> SI | BJ18: =IF(BE18="P",IF(BH18<4,"SI","NO"),IF(BE18="D",IF(BH18<6,"SI","NO"),IF(BE18="C",IF(BH18<11,"SI","NO"),IF(BE18="A",IF(BH18<21,"SI","NO"))))) -> SI | BL18: C | BM18: PRAET | BN18: SAM | BO18: 1 | BP18: =IF(BL18="P",IF(BO18<7,"SI","NO"),IF(BL18="D",IF(BO18<11,"SI","NO"),IF(BL18="C",IF(BO18<21,"SI","NO"),IF(BL18="A",IF(BO18<41,"SI","NO"))))) -> SI | BQ18: =IF(BL18="P",IF(BO18<4,"SI","NO"),IF(BL18="D",IF(BO18<6,"SI","NO"),IF(BL18="C",IF(BO18<11,"SI","NO"),IF(BL18="A",IF(BO18<21,"SI","NO"))))) -> SI
A19: C | B19: JORGINHO | C19: NAP | D19: 18 | E19: =IF(A19="P",IF(D19<7,"SI","NO"),IF(A19="D",IF(D19<11,"SI","NO"),IF(A19="C",IF(D19<21,"SI","NO"),IF(A19="A",IF(D19<41,"SI","NO"))))) -> SI | F19: =IF(A19="P",IF(D19<4,"SI","NO"),IF(A19="D",IF(D19<6,"SI","NO"),IF(A19="C",IF(D19<11,"SI","NO"),IF(A19="A",IF(D19<21,"SI","NO"))))) -> NO | H19: C | I19: OBI | J19: TOR | K19: 1 | L19: =IF(H19="P",IF(K19<7,"SI","NO"),IF(H19="D",IF(K19<11,"SI","NO"),IF(H19="C",IF(K19<21,"SI","NO"),IF(H19="A",IF(K19<41,"SI","NO"))))) -> SI | M19: =IF(H19="P",IF(K19<4,"SI","NO"),IF(H19="D",IF(K19<6,"SI","NO"),IF(H19="C",IF(K19<11,"SI","NO"),IF(H19="A",IF(K19<21,"SI","NO"))))) -> SI | O19: C | P19: STROOTMAN | Q19: ROM | R19: 30 | S19: =IF(O19="P",IF(R19<7,"SI","NO"),IF(O19="D",IF(R19<11,"SI","NO"),IF(O19="C",IF(R19<21,"SI","NO"),IF(O19="A",IF(R19<41,"SI","NO"))))) -> NO | T19: =IF(O19="P",IF(R19<4,"SI","NO"),IF(O19="D",IF(R19<6,"SI","NO"),IF(O19="C",IF(R19<11,"SI","NO"),IF(O19="A",IF(R19<21,"SI","NO"))))) -> NO | V19: C | W19: BADELJ | X19: FIO | Y19: 1 | Z19: =IF(V19="P",IF(Y19<7,"SI","NO"),IF(V19="D",IF(Y19<11,"SI","NO"),IF(V19="C",IF(Y19<21,"SI","NO"),IF(V19="A",IF(Y19<41,"SI","NO"))))) -> SI | AA19: =IF(V19="P",IF(Y19<4,"SI","NO"),IF(V19="D",IF(Y19<6,"SI","NO"),IF(V19="C",IF(Y19<11,"SI","NO"),IF(V19="A",IF(Y19<21,"SI","NO"))))) -> SI | AC19: C | AD19: IONITA | AE19: CAG | AF19: 3 | AG19: =IF(AC19="P",IF(AF19<7,"SI","NO"),IF(AC19="D",IF(AF19<11,"SI","NO"),IF(AC19="C",IF(AF19<21,"SI","NO"),IF(AC19="A",IF(AF19<41,"SI","NO"))))) -> SI | AH19: =IF(AC19="P",IF(AF19<4,"SI","NO"),IF(AC19="D",IF(AF19<6,"SI","NO"),IF(AC19="C",IF(AF19<11,"SI","NO"),IF(AC19="A",IF(AF19<21,"SI","NO"))))) -> SI | AJ19: C | AK19: BADELJ | AL19: FIO | AM19: 1 | AN19: =IF(AJ19="P",IF(AM19<7,"SI","NO"),IF(AJ19="D",IF(AM19<11,"SI","NO"),IF(AJ19="C",IF(AM19<21,"SI","NO"),IF(AJ19="A",IF(AM19<41,"SI","NO"))))) -> SI | AO19: =IF(AJ19="P",IF(AM19<4,"SI","NO"),IF(AJ19="D",IF(AM19<6,"SI","NO"),IF(AJ19="C",IF(AM19<11,"SI","NO"),IF(AJ19="A",IF(AM19<21,"SI","NO"))))) -> SI | AQ19: C | AR19: BENASSI | AS19: FIO | AT19: 8 | AU19: =IF(AQ19="P",IF(AT19<7,"SI","NO"),IF(AQ19="D",IF(AT19<11,"SI","NO"),IF(AQ19="C",IF(AT19<21,"SI","NO"),IF(AQ19="A",IF(AT19<41,"SI","NO"))))) -> SI | AV19: =IF(AQ19="P",IF(AT19<4,"SI","NO"),IF(AQ19="D",IF(AT19<6,"SI","NO"),IF(AQ19="C",IF(AT19<11,"SI","NO"),IF(AQ19="A",IF(AT19<21,"SI","NO"))))) -> SI | AX19: C | AY19: DZEMAILI | AZ19: BOL | BA19: 10 | BB19: =IF(AX19="P",IF(BA19<7,"SI","NO"),IF(AX19="D",IF(BA19<11,"SI","NO"),IF(AX19="C",IF(BA19<21,"SI","NO"),IF(AX19="A",IF(BA19<41,"SI","NO"))))) -> SI | BC19: =IF(AX19="P",IF(BA19<4,"SI","NO"),IF(AX19="D",IF(BA19<6,"SI","NO"),IF(AX19="C",IF(BA19<11,"SI","NO"),IF(AX19="A",IF(BA19<21,"SI","NO"))))) -> SI | BE19: C | BF19: BERTOLACCI | BG19: GEN | BH19: 2 | BI19: =IF(BE19="P",IF(BH19<7,"SI","NO"),IF(BE19="D",IF(BH19<11,"SI","NO"),IF(BE19="C",IF(BH19<21,"SI","NO"),IF(BE19="A",IF(BH19<41,"SI","NO"))))) -> SI | BJ19: =IF(BE19="P",IF(BH19<4,"SI","NO"),IF(BE19="D",IF(BH19<6,"SI","NO"),IF(BE19="C",IF(BH19<11,"SI","NO"),IF(BE19="A",IF(BH19<21,"SI","NO"))))) -> SI | BL19: C | BM19: DE ROON | BN19: ATA | BO19: 1 | BP19: =IF(BL19="P",IF(BO19<7,"SI","NO"),IF(BL19="D",IF(BO19<11,"SI","NO"),IF(BL19="C",IF(BO19<21,"SI","NO"),IF(BL19="A",IF(BO19<41,"SI","NO"))))) -> SI | BQ19: =IF(BL19="P",IF(BO19<4,"SI","NO"),IF(BL19="D",IF(BO19<6,"SI","NO"),IF(BL19="C",IF(BO19<11,"SI","NO"),IF(BL19="A",IF(BO19<21,"SI","NO"))))) -> SI
... A27: A | B27: KEAN | C27: VER | D27: 2 | E27: =IF(A27="P",IF(D27<7,"SI","NO"),IF(A27="D",IF(D27<11,"SI","NO"),IF(A27="C",IF(D27<21,"SI","NO"),IF(A27="A",IF(D27<41,"SI","NO"))))) -> SI | F27: =IF(A27="P",IF(D27<4,"SI","NO"),IF(A27="D",IF(D27<6,"SI","NO"),IF(A27="C",IF(D27<11,"SI","NO"),IF(A27="A",IF(D27<21,"SI","NO"))))) -> SI | H27: A | I27: MATOS | J27: VER | K27: 1 | L27: =IF(H27="P",IF(K27<7,"SI","NO"),IF(H27="D",IF(K27<11,"SI","NO"),IF(H27="C",IF(K27<21,"SI","NO"),IF(H27="A",IF(K27<41,"SI","NO"))))) -> SI | M27: =IF(H27="P",IF(K27<4,"SI","NO"),IF(H27="D",IF(K27<6,"SI","NO"),IF(H27="C",IF(K27<11,"SI","NO"),IF(H27="A",IF(K27<21,"SI","NO"))))) -> SI | O27: A | P27: GALABINOV | Q27: GEN | R27: 1 | S27: =IF(O27="P",IF(R27<7,"SI","NO"),IF(O27="D",IF(R27<11,"SI","NO"),IF(O27="C",IF(R27<21,"SI","NO"),IF(O27="A",IF(R27<41,"SI","NO"))))) -> SI | T27: =IF(O27="P",IF(R27<4,"SI","NO"),IF(O27="D",IF(R27<6,"SI","NO"),IF(O27="C",IF(R27<11,"SI","NO"),IF(O27="A",IF(R27<21,"SI","NO"))))) -> SI | V27: A | W27: ORSOLINI | X27: BOL | Y27: 1 | Z27: =IF(V27="P",IF(Y27<7,"SI","NO"),IF(V27="D",IF(Y27<11,"SI","NO"),IF(V27="C",IF(Y27<21,"SI","NO"),IF(V27="A",IF(Y27<41,"SI","NO"))))) -> SI | AA27: =IF(V27="P",IF(Y27<4,"SI","NO"),IF(V27="D",IF(Y27<6,"SI","NO"),IF(V27="C",IF(Y27<11,"SI","NO"),IF(V27="A",IF(Y27<21,"SI","NO"))))) -> SI | AC27: A | AD27: PELLISSIER | AE27: CHI | AF27: 1 | AG27: =IF(AC27="P",IF(AF27<7,"SI","NO"),IF(AC27="D",IF(AF27<11,"SI","NO"),IF(AC27="C",IF(AF27<21,"SI","NO"),IF(AC27="A",IF(AF27<41,"SI","NO"))))) -> SI | AH27: =IF(AC27="P",IF(AF27<4,"SI","NO"),IF(AC27="D",IF(AF27<6,"SI","NO"),IF(AC27="C",IF(AF27<11,"SI","NO"),IF(AC27="A",IF(AF27<21,"SI","NO"))))) -> SI | AJ27: A | AK27: MATOS | AL27: VER | AM27: 2 | AN27: =IF(AJ27="P",IF(AM27<7,"SI","NO"),IF(AJ27="D",IF(AM27<11,"SI","NO"),IF(AJ27="C",IF(AM27<21,"SI","NO"),IF(AJ27="A",IF(AM27<41,"SI","NO"))))) -> SI | AO27: =IF(AJ27="P",IF(AM27<4,"SI","NO"),IF(AJ27="D",IF(AM27<6,"SI","NO"),IF(AJ27="C",IF(AM27<11,"SI","NO"),IF(AJ27="A",IF(AM27<21,"SI","NO"))))) -> SI | AQ27: A | AR27: KOWNACKI | AS27: SAM | AT27: 9 | AU27: =IF(AQ27="P",IF(AT27<7,"SI","NO"),IF(AQ27="D",IF(AT27<11,"SI","NO"),IF(AQ27="C",IF(AT27<21,"SI","NO"),IF(AQ27="A",IF(AT27<41,"SI","NO"))))) -> SI | AV27: =IF(AQ27="P",IF(AT27<4,"SI","NO"),IF(AQ27="D",IF(AT27<6,"SI","NO"),IF(AQ27="C",IF(AT27<11,"SI","NO"),IF(AQ27="A",IF(AT27<21,"SI","NO"))))) -> SI | AX27: A | AY27: KEAN | AZ27: VER | BA27: 1 | BB27: =IF(AX27="P",IF(BA27<7,"SI","NO"),IF(AX27="D",IF(BA27<11,"SI","NO"),IF(AX27="C",IF(BA27<21,"SI","NO"),IF(AX27="A",IF(BA27<41,"SI","NO"))))) -> SI | BC27: =IF(AX27="P",IF(BA27<4,"SI","NO"),IF(AX27="D",IF(BA27<6,"SI","NO"),IF(AX27="C",IF(BA27<11,"SI","NO"),IF(AX27="A",IF(BA27<21,"SI","NO"))))) -> SI | BE27: A | BF27: DEFREL | BG27: ROM | BH27: 12 | BI27: =IF(BE27="P",IF(BH27<7,"SI","NO"),IF(BE27="D",IF(BH27<11,"SI","NO"),IF(BE27="C",IF(BH27<21,"SI","NO"),IF(BE27="A",IF(BH27<41,"SI","NO"))))) -> SI | BJ27: =IF(BE27="P",IF(BH27<4,"SI","NO"),IF(BE27="D",IF(BH27<6,"SI","NO"),IF(BE27="C",IF(BH27<11,"SI","NO"),IF(BE27="A",IF(BH27<21,"SI","NO"))))) -> SI | BL27: A | BM27: OUNAS | BN27: NAP | BO27: 1 | BP27: =IF(BL27="P",IF(BO27<7,"SI","NO"),IF(BL27="D",IF(BO27<11,"SI","NO"),IF(BL27="C",IF(BO27<21,"SI","NO"),IF(BL27="A",IF(BO27<41,"SI","NO"))))) -> SI | BQ27: =IF(BL27="P",IF(BO27<4,"SI","NO"),IF(BL27="D",IF(BO27<6,"SI","NO"),IF(BL27="C",IF(BO27<11,"SI","NO"),IF(BL27="A",IF(BO27<21,"SI","NO"))))) -> SI
A28: Crediti Residui | B28: 33 | C28: Rimanente | E28: =FLOOR(B28/3,1) -> 11 | H28: Crediti Residui | I28: 28 | J28: Rimanente | L28: =FLOOR(I28/3,1) -> 9 | O28: Crediti Residui | P28: 40 | Q28: Rimanente | S28: =FLOOR(P28/3,1) -> 13 | V28: Crediti Residui | W28: 18 | X28: Rimanente | Z28: =FLOOR(W28/3,1) -> 6 | AC28: Crediti Residui | AD28: 50 | AE28: Rimanente | AG28: =FLOOR(AD28/3,1) -> 16 | AJ28: Crediti Residui | AK28: 28 | AL28: Rimanente | AN28: =FLOOR(AK28/3,1) -> 9 | AQ28: Crediti Residui | AR28: 5 | AS28: Rimanente | AU28: =FLOOR(AR28/3,1) -> 1 | AX28: Crediti Residui | AY28: 78 | AZ28: Rimanente | BB28: =FLOOR(AY28/3,1) -> 26 | BE28: Crediti Residui | BF28: 11 | BG28: Rimanente | BI28: =FLOOR(BF28/3,1) -> 3 | BL28: Crediti Residui | BM28: 63 | BN28: Rimanente | BP28: =FLOOR(BM28/3,1) -> 21
C29: Nuovi | E29: 500 | J29: Nuovi | L29: 500 | Q29: Nuovi | S29: 500 | X29: Nuovi | Z29: 500 | AE29: Nuovi | AG29: 500 | AL29: Nuovi | AN29: 500 | AS29: Nuovi | AU29: 500 | AZ29: Nuovi | BB29: 500 | BG29: Nuovi | BI29: 500 | BN29: Nuovi | BP29: 509
C30: Conferme | E30: =SUM(E3:E27) -> 0 | F30: =SUM(F3:F27) -> 0 | J30: Conferme | L30: =SUM(L3:L27) -> 0 | M30: =SUM(M3:M27) -> 0 | Q30: Conferme | S30: =SUM(S3:S27) -> 0 | T30: =SUM(T3:T27) -> 0 | X30: Conferme | Z30: =SUM(Z3:Z27) -> 0 | AA30: =SUM(AA3:AA27) -> 0 | AE30: Conferme | AG30: =SUM(AG3:AG27) -> 0 | AH30: =SUM(AH3:AH27) -> 0 | AL30: Conferme | AN30: =SUM(AN3:AN27) -> 0 | AO30: =SUM(AO3:AO27) -> 0 | AS30: Conferme | AU30: =SUM(AU3:AU27) -> 0 | AV30: =SUM(AV3:AV27) -> 0 | AZ30: Conferme | BB30: =SUM(BB3:BB27) -> 0 | BC30: =SUM(BC3:BC27) -> 0 | BG30: Conferme | BI30: =SUM(BI3:BI27) -> 0 | BJ30: =SUM(BJ3:BJ27) -> 0 | BN30: Conferme | BP30: =SUM(BP3:BP27) -> 0 | BQ30: =SUM(BQ3:BQ27) -> 0
C31: Totali | E31: =SUM(E28:E29)-SUM(E30:F30) -> 511 | J31: Totali | L31: =SUM(L28:L29)-SUM(L30:M30) -> 509 | Q31: Totali | S31: =SUM(S28:S29)-SUM(S30:T30) -> 513 | X31: Totali | Z31: =SUM(Z28:Z29)-SUM(Z30:AA30) -> 506 | AE31: Totali | AG31: =SUM(AG28:AG29)-SUM(AG30:AH30) -> 516 | AL31: Totali | AN31: =SUM(AN28:AN29)-SUM(AN30:AO30) -> 509 | AS31: Totali | AU31: =SUM(AU28:AU29)-SUM(AU30:AV30) -> 501 | AZ31: Totali | BB31: =SUM(BB28:BB29)-SUM(BB30:BC30) -> 526 | BG31: Totali | BI31: =SUM(BI28:BI29)-SUM(BI30:BJ30) -> 503 | BN31: Totali | BP31: =SUM(BP28:BP29)-SUM(BP30:BQ30) -> 530

Sheet Serie C
A1: Fellatio | F1: 2393 | H1: Badbees | M1: 2476 | O1: CS Riposa | T1: 2510 | V1: Skiacciak Mosca | AA1: 2510.5 | AC1: UnaJunglaCazo FC | AH1: 2551 | AJ1: Longobarda | AO1: 2551.5 | AQ1: Brigata Gurren | AV1: 2561 | AX1: Cska Scina | BC1: 2578.5 | BE1: UGF Pisa | BJ1: 2613.5 | BL1: Virgy Team | BQ1: 2628.5
A2: Ruolo | B2: Calciatore | C2: Squadra | D2: Costo | E2: Giugno | F2: Settembre | H2: Ruolo | I2: Calciatore | J2: Squadra | K2: Costo | L2: Giugno | M2: Settembre | O2: Ruolo | P2: Calciatore | Q2: Squadra | R2: Costo | S2: Giugno | T2: Settembre | V2: Ruolo | W2: Calciatore | X2: Squadra | Y2: Costo | Z2: Giugno | AA2: Settembre | AC2: Ruolo | AD2: Calciatore | AE2: Squadra | AF2: Costo | AG2: Giugno | AH2: Settembre | AJ2: Ruolo | AK2: Calciatore | AL2: Squadra | AM2: Costo | AN2: Giugno | AO2: Settembre | AQ2: Ruolo | AR2: Calciatore | AS2: Squadra | AT2: Costo | AU2: Giugno | AV2: Settembre | AX2: Ruolo | AY2: Calciatore | AZ2: Squadra | BA2: Costo | BB2: Giugno | BC2: Settembre | BE2: Ruolo | BF2: Calciatore | BG2: Squadra | BH2: Costo | BI2: Giugno | BJ2: Settembre | BL2: Ruolo | BM2: Calciatore | BN2: Squadra | BO2: Costo | BP2: Giugno | BQ2: Settembre
A3: P | B3: HANDANOVIC | C3: INTER | D3: 55 | E3: =IF(A3="P",IF(D3<7,"SI","NO"),IF(A3="D",IF(D3<11,"SI","NO"),IF(A3="C",IF(D3<21,"SI","NO"),IF(A3="A",IF(D3<41,"SI","NO"))))) -> NO | F3: =IF(A3="P",IF(D3<4,"SI","NO"),IF(A3="D",IF(D3<6,"SI","NO"),IF(A3="C",IF(D3<11,"SI","NO"),IF(A3="A",IF(D3<21,"SI","NO"))))) -> NO | H3: P | I3: BERISHA | J3: ATALANTA | K3: 1 | L3: =IF(H3="P",IF(K3<7,"SI","NO"),IF(H3="D",IF(K3<11,"SI","NO"),IF(H3="C",IF(K3<21,"SI","NO"),IF(H3="A",IF(K3<41,"SI","NO"))))) -> SI | M3: =IF(H3="P",IF(K3<4,"SI","NO"),IF(H3="D",IF(K3<6,"SI","NO"),IF(H3="C",IF(K3<11,"SI","NO"),IF(H3="A",IF(K3<21,"SI","NO"))))) -> SI | O3: P | P3: BUFFON | Q3: JUVENTUS | R3: 49 | S3: =IF(O3="P",IF(R3<7,"SI","NO"),IF(O3="D",IF(R3<11,"SI","NO"),IF(O3="C",IF(R3<21,"SI","NO"),IF(O3="A",IF(R3<41,"SI","NO"))))) -> NO | T3: =IF(O3="P",IF(R3<4,"SI","NO"),IF(O3="D",IF(R3<6,"SI","NO"),IF(O3="C",IF(R3<11,"SI","NO"),IF(O3="A",IF(R3<21,"SI","NO"))))) -> NO | V3: P | W3: PERIN | X3: GENOA | Y3: 20 | Z3: =IF(V3="P",IF(Y3<7,"SI","NO"),IF(V3="D",IF(Y3<11,"SI","NO"),IF(V3="C",IF(Y3<21,"SI","NO"),IF(V3="A",IF(Y3<41,"SI","NO"))))) -> NO | AA3: =IF(V3="P",IF(Y3<4,"SI","NO"),IF(V3="D",IF(Y3<6,"SI","NO"),IF(V3="C",IF(Y3<11,"SI","NO"),IF(V3="A",IF(Y3<21,"SI","NO"))))) -> NO | AC3: P | AD3: STRAKOSHA | AE3: LAZIO | AF3: 15 | AG3: =IF(AC3="P",IF(AF3<7,"SI","NO"),IF(AC3="D",IF(AF3<11,"SI","NO"),IF(AC3="C",IF(AF3<21,"SI","NO"),IF(AC3="A",IF(AF3<41,"SI","NO"))))) -> NO | AH3: =IF(AC3="P",IF(AF3<4,"SI","NO"),IF(AC3="D",IF(AF3<6,"SI","NO"),IF(AC3="C",IF(AF3<11,"SI","NO"),IF(AC3="A",IF(AF3<21,"SI","NO"))))) -> NO | AJ3: P | AK3: PERIN | AL3: GENOA | AM3: 1 | AN3: =IF(AJ3="P",IF(AM3<7,"SI","NO"),IF(AJ3="D",IF(AM3<11,"SI","NO"),IF(AJ3="C",IF(AM3<21,"SI","NO"),IF(AJ3="A",IF(AM3<41,"SI","NO"))))) -> SI | AO3: =IF(AJ3="P",IF(AM3<4,"SI","NO"),IF(AJ3="D",IF(AM3<6,"SI","NO"),IF(AJ3="C",IF(AM3<11,"SI","NO"),IF(AJ3="A",IF(AM3<21,"SI","NO"))))) -> SI | AQ3: P | AR3: CRAGNO | AS3: CAGLIARI | AT3: 6 | AU3: =IF(AQ3="P",IF(AT3<7,"SI","NO"),IF(AQ3="D",IF(AT3<11,"SI","NO"),IF(AQ3="C",IF(AT3<21,"SI","NO"),IF(AQ3="A",IF(AT3<41,"SI","NO"))))) -> SI | AV3: =IF(AQ3="P",IF(AT3<4,"SI","NO"),IF(AQ3="D",IF(AT3<6,"SI","NO"),IF(AQ3="C",IF(AT3<11,"SI","NO"),IF(AQ3="A",IF(AT3<21,"SI","NO"))))) -> NO | AX3: P | AY3: DONNARUMMA G. | AZ3: MILAN | BA3: 60 | BB3: =IF(AX3="P",IF(BA3<7,"SI","NO"),IF(AX3="D",IF(BA3<11,"SI","NO"),IF(AX3="C",IF(BA3<21,"SI","NO"),IF(AX3="A",IF(BA3<41,"SI","NO"))))) -> NO | BC3: =IF(AX3="P",IF(BA3<4,"SI","NO"),IF(AX3="D",IF(BA3<6,"SI","NO"),IF(AX3="C",IF(BA3<11,"SI","NO"),IF(AX3="A",IF(BA3<21,"SI","NO"))))) -> NO | BE3: P | BF3: MIRANTE | BG3: BOLOGNA | BH3: 3 | BI3: =IF(BE3="P",IF(BH3<7,"SI","NO"),IF(BE3="D",IF(BH3<11,"SI","NO"),IF(BE3="C",IF(BH3<21,"SI","NO"),IF(BE3="A",IF(BH3<41,"SI","NO"))))) -> SI | BJ3: =IF(BE3="P",IF(BH3<4,"SI","NO"),IF(BE3="D",IF(BH3<6,"SI","NO"),IF(BE3="C",IF(BH3<11,"SI","NO"),IF(BE3="A",IF(BH3<21,"SI","NO"))))) -> SI | BL3: P | BM3: ALLISON | BN3: ROMA | BO3: 38 | BP3: =IF(BL3="P",IF(BO3<7,"SI","NO"),IF(BL3="D",IF(BO3<11,"SI","NO"),IF(BL3="C",IF(BO3<21,"SI","NO"),IF(BL3="A",IF(BO3<41,"SI","NO"))))) -> NO | BQ3: =IF(BL3="P",IF(BO3<4,"SI","NO"),IF(BL3="D",IF(BO3<6,"SI","NO"),IF(BL3="C",IF(BO3<11,"SI","NO"),IF(BL3="A",IF(BO3<21,"SI","NO"))))) -> NO
A4: P | B4: PADELLI | C4: INTER | D4: 1 | E4: =IF(A4="P",IF(D4<7,"SI","NO"),IF(A4="D",IF(D4<11,"SI","NO"),IF(A4="C",IF(D4<21,"SI","NO"),IF(A4="A",IF(D4<41,"SI","NO"))))) -> SI | F4: =IF(A4="P",IF(D4<4,"SI","NO"),IF(A4="D",IF(D4<6,"SI","NO"),IF(A4="C",IF(D4<11,"SI","NO"),IF(A4="A",IF(D4<21,"SI","NO"))))) -> SI | H4: P | I4: GOLLINI | J4: ATALANTA | K4: 1 | L4: =IF(H4="P",IF(K4<7,"SI","NO"),IF(H4="D",IF(K4<11,"SI","NO"),IF(H4="C",IF(K4<21,"SI","NO"),IF(H4="A",IF(K4<41,"SI","NO"))))) -> SI | M4: =IF(H4="P",IF(K4<4,"SI","NO"),IF(H4="D",IF(K4<6,"SI","NO"),IF(H4="C",IF(K4<11,"SI","NO"),IF(H4="A",IF(K4<21,"SI","NO"))))) -> SI | O4: P | P4: PINSOGLIO | Q4: JUVENTUS | R4: 1 | S4: =IF(O4="P",IF(R4<7,"SI","NO"),IF(O4="D",IF(R4<11,"SI","NO"),IF(O4="C",IF(R4<21,"SI","NO"),IF(O4="A",IF(R4<41,"SI","NO"))))) -> SI | T4: =IF(O4="P",IF(R4<4,"SI","NO"),IF(O4="D",IF(R4<6,"SI","NO"),IF(O4="C",IF(R4<11,"SI","NO"),IF(O4="A",IF(R4<21,"SI","NO"))))) -> SI | V4: P | W4: CRAGNO | X4: CAGLIARI | Y4: 7 | Z4: =IF(V4="P",IF(Y4<7,"SI","NO"),IF(V4="D",IF(Y4<11,"SI","NO"),IF(V4="C",IF(Y4<21,"SI","NO"),IF(V4="A",IF(Y4<41,"SI","NO"))))) -> NO | AA4: =IF(V4="P",IF(Y4<4,"SI","NO"),IF(V4="D",IF(Y4<6,"SI","NO"),IF(V4="C",IF(Y4<11,"SI","NO"),IF(V4="A",IF(Y4<21,"SI","NO"))))) -> NO | AC4: P | AD4: BIZZARRI | AE4: UDINESE | AF4: 1 | AG4: =IF(AC4="P",IF(AF4<7,"SI","NO"),IF(AC4="D",IF(AF4<11,"SI","NO"),IF(AC4="C",IF(AF4<21,"SI","NO"),IF(AC4="A",IF(AF4<41,"SI","NO"))))) -> SI | AH4: =IF(AC4="P",IF(AF4<4,"SI","NO"),IF(AC4="D",IF(AF4<6,"SI","NO"),IF(AC4="C",IF(AF4<11,"SI","NO"),IF(AC4="A",IF(AF4<21,"SI","NO"))))) -> SI | AJ4: P | AK4: VIVIANO | AL4: SAMPDORIA | AM4: 3 | AN4: =IF(AJ4="P",IF(AM4<7,"SI","NO"),IF(AJ4="D",IF(AM4<11,"SI","NO"),IF(AJ4="C",IF(AM4<21,"SI","NO"),IF(AJ4="A",IF(AM4<41,"SI","NO"))))) -> SI | AO4: =IF(AJ4="P",IF(AM4<4,"SI","NO"),IF(AJ4="D",IF(AM4<6,"SI","NO"),IF(AJ4="C",IF(AM4<11,"SI","NO"),IF(AJ4="A",IF(AM4<21,"SI","NO"))))) -> SI | AQ4: P | AR4: SORRENTINO | AS4: CHIEVO | AT4: 9 | AU4: =IF(AQ4="P",IF(AT4<7,"SI","NO"),IF(AQ4="D",IF(AT4<11,"SI","NO"),IF(AQ4="C",IF(AT4<21,"SI","NO"),IF(AQ4="A",IF(AT4<41,"SI","NO"))))) -> NO | AV4: =IF(AQ4="P",IF(AT4<4,"SI","NO"),IF(AQ4="D",IF(AT4<6,"SI","NO"),IF(AQ4="C",IF(AT4<11,"SI","NO"),IF(AQ4="A",IF(AT4<21,"SI","NO"))))) -> NO | AX4: P | AY4: SORRENTINO | AZ4: CHIEVO | BA4: 6 | BB4: =IF(AX4="P",IF(BA4<7,"SI","NO"),IF(AX4="D",IF(BA4<11,"SI","NO"),IF(AX4="C",IF(BA4<21,"SI","NO"),IF(AX4="A",IF(BA4<41,"SI","NO"))))) -> SI | BC4: =IF(AX4="P",IF(BA4<4,"SI","NO"),IF(AX4="D",IF(BA4<6,"SI","NO"),IF(AX4="C",IF(BA4<11,"SI","NO"),IF(AX4="A",IF(BA4<21,"SI","NO"))))) -> NO | BE4: P | BF4: GOLLINI | BG4: ATALANTA | BH4: 1 | BI4: =IF(BE4="P",IF(BH4<7,"SI","NO"),IF(BE4="D",IF(BH4<11,"SI","NO"),IF(BE4="C",IF(BH4<21,"SI","NO"),IF(BE4="A",IF(BH4<41,"SI","NO"))))) -> SI | BJ4: =IF(BE4="P",IF(BH4<4,"SI","NO"),IF(BE4="D",IF(BH4<6,"SI","NO"),IF(BE4="C",IF(BH4<11,"SI","NO"),IF(BE4="A",IF(BH4<21,"SI","NO"))))) -> SI | BL4: P | BM4: SKORUPSKI | BN4: ROMA | BO4: 7 | BP4: =IF(BL4="P",IF(BO4<7,"SI","NO"),IF(BL4="D",IF(BO4<11,"SI","NO"),IF(BL4="C",IF(BO4<21,"SI","NO"),IF(BL4="A",IF(BO4<41,"SI","NO"))))) -> NO | BQ4: =IF(BL4="P",IF(BO4<4,"SI","NO"),IF(BL4="D",IF(BO4<6,"SI","NO"),IF(BL4="C",IF(BO4<11,"SI","NO"),IF(BL4="A",IF(BO4<21,"SI","NO"))))) -> NO
A5: P | B5: BERNI | C5: INTER | D5: 1 | E5: =IF(A5="P",IF(D5<7,"SI","NO"),IF(A5="D",IF(D5<11,"SI","NO"),IF(A5="C",IF(D5<21,"SI","NO"),IF(A5="A",IF(D5<41,"SI","NO"))))) -> SI | F5: =IF(A5="P",IF(D5<4,"SI","NO"),IF(A5="D",IF(D5<6,"SI","NO"),IF(A5="C",IF(D5<11,"SI","NO"),IF(A5="A",IF(D5<21,"SI","NO"))))) -> SI | H5: P | I5: ROSSI F. | J5: ATALANTA | K5: 1 | L5: =IF(H5="P",IF(K5<7,"SI","NO"),IF(H5="D",IF(K5<11,"SI","NO"),IF(H5="C",IF(K5<21,"SI","NO"),IF(H5="A",IF(K5<41,"SI","NO"))))) -> SI | M5: =IF(H5="P",IF(K5<4,"SI","NO"),IF(H5="D",IF(K5<6,"SI","NO"),IF(H5="C",IF(K5<11,"SI","NO"),IF(H5="A",IF(K5<21,"SI","NO"))))) -> SI | O5: P | P5: SZCZESNY | Q5: JUVENTUS | R5: 7 | S5: =IF(O5="P",IF(R5<7,"SI","NO"),IF(O5="D",IF(R5<11,"SI","NO"),IF(O5="C",IF(R5<21,"SI","NO"),IF(O5="A",IF(R5<41,"SI","NO"))))) -> NO | T5: =IF(O5="P",IF(R5<4,"SI","NO"),IF(O5="D",IF(R5<6,"SI","NO"),IF(O5="C",IF(R5<11,"SI","NO"),IF(O5="A",IF(R5<21,"SI","NO"))))) -> NO | V5: P | W5: BIZZARRI | X5: UDINESE | Y5: 2 | Z5: =IF(V5="P",IF(Y5<7,"SI","NO"),IF(V5="D",IF(Y5<11,"SI","NO"),IF(V5="C",IF(Y5<21,"SI","NO"),IF(V5="A",IF(Y5<41,"SI","NO"))))) -> SI | AA5: =IF(V5="P",IF(Y5<4,"SI","NO"),IF(V5="D",IF(Y5<6,"SI","NO"),IF(V5="C",IF(Y5<11,"SI","NO"),IF(V5="A",IF(Y5<21,"SI","NO"))))) -> SI | AC5: P | AD5: MIRANTE | AE5: BOLOGNA | AF5: 3 | AG5: =IF(AC5="P",IF(AF5<7,"SI","NO"),IF(AC5="D",IF(AF5<11,"SI","NO"),IF(AC5="C",IF(AF5<21,"SI","NO"),IF(AC5="A",IF(AF5<41,"SI","NO"))))) -> SI | AH5: =IF(AC5="P",IF(AF5<4,"SI","NO"),IF(AC5="D",IF(AF5<6,"SI","NO"),IF(AC5="C",IF(AF5<11,"SI","NO"),IF(AC5="A",IF(AF5<21,"SI","NO"))))) -> SI | AJ5: P | AK5: LAMANNA | AL5: GENOA | AM5: 1 | AN5: =IF(AJ5="P",IF(AM5<7,"SI","NO"),IF(AJ5="D",IF(AM5<11,"SI","NO"),IF(AJ5="C",IF(AM5<21,"SI","NO"),IF(AJ5="A",IF(AM5<41,"SI","NO"))))) -> SI | AO5: =IF(AJ5="P",IF(AM5<4,"SI","NO"),IF(AJ5="D",IF(AM5<6,"SI","NO"),IF(AJ5="C",IF(AM5<11,"SI","NO"),IF(AJ5="A",IF(AM5<21,"SI","NO"))))) -> SI | AQ5: P | AR5: SPORTIELLO | AS5: FIORENTINA | AT5: 6 | AU5: =IF(AQ5="P",IF(AT5<7,"SI","NO"),IF(AQ5="D",IF(AT5<11,"SI","NO"),IF(AQ5="C",IF(AT5<21,"SI","NO"),IF(AQ5="A",IF(AT5<41,"SI","NO"))))) -> SI | AV5: =IF(AQ5="P",IF(AT5<4,"SI","NO"),IF(AQ5="D",IF(AT5<6,"SI","NO"),IF(AQ5="C",IF(AT5<11,"SI","NO"),IF(AQ5="A",IF(AT5<21,"SI","NO"))))) -> NO | AX5: P | AY5: STORARI | AZ5: MILAN | BA5: 1 | BB5: =IF(AX5="P",IF(BA5<7,"SI","NO"),IF(AX5="D",IF(BA5<11,"SI","NO"),IF(AX5="C",IF(BA5<21,"SI","NO"),IF(AX5="A",IF(BA5<41,"SI","NO"))))) -> SI | BC5: =IF(AX5="P",IF(BA5<4,"SI","NO"),IF(AX5="D",IF(BA5<6,"SI","NO"),IF(AX5="C",IF(BA5<11,"SI","NO"),IF(AX5="A",IF(BA5<21,"SI","NO"))))) -> SI | BE5: P | BF5: BERISHA | BG5: ATALANTA | BH5: 1 | BI5: =IF(BE5="P",IF(BH5<7,"SI","NO"),IF(BE5="D",IF(BH5<11,"SI","NO"),IF(BE5="C",IF(BH5<21,"SI","NO"),IF(BE5="A",IF(BH5<41,"SI","NO"))))) -> SI | BJ5: =IF(BE5="P",IF(BH5<4,"SI","NO"),IF(BE5="D",IF(BH5<6,"SI","NO"),IF(BE5="C",IF(BH5<11,"SI","NO"),IF(BE5="A",IF(BH5<21,"SI","NO"))))) -> SI | BL5: P | BM5: PUGGIONI | BN5: BENEVENTO | BO5: 1 | BP5: =IF(BL5="P",IF(BO5<7,"SI","NO"),IF(BL5="D",IF(BO5<11,"SI","NO"),IF(BL5="C",IF(BO5<21,"SI","NO"),IF(BL5="A",IF(BO5<41,"SI","NO"))))) -> SI | BQ5: =IF(BL5="P",IF(BO5<4,"SI","NO"),IF(BL5="D",IF(BO5<6,"SI","NO"),IF(BL5="C",IF(BO5<11,"SI","NO"),IF(BL5="A",IF(BO5<21,"SI","NO"))))) -> SI
A6: D | B6: TOLOI | C6: ATALANTA | D6: 1 | E6: =IF(A6="P",IF(D6<7,"SI","NO"),IF(A6="D",IF(D6<11,"SI","NO"),IF(A6="C",IF(D6<21,"SI","NO"),IF(A6="A",IF(D6<41,"SI","NO"))))) -> SI | F6: =IF(A6="P",IF(D6<4,"SI","NO"),IF(A6="D",IF(D6<6,"SI","NO"),IF(A6="C",IF(D6<11,"SI","NO"),IF(A6="A",IF(D6<21,"SI","NO"))))) -> SI | H6: D | I6: CEPPITELLI | J6: CAGLIARI | K6: 1 | L6: =IF(H6="P",IF(K6<7,"SI","NO"),IF(H6="D",IF(K6<11,"SI","NO"),IF(H6="C",IF(K6<21,"SI","NO"),IF(H6="A",IF(K6<41,"SI","NO"))))) -> SI | M6: =IF(H6="P",IF(K6<4,"SI","NO"),IF(H6="D",IF(K6<6,"SI","NO"),IF(H6="C",IF(K6<11,"SI","NO"),IF(H6="A",IF(K6<21,"SI","NO"))))) -> SI | O6: D | P6: ROMAGNOLI A | Q6: MILAN | R6: 9 | S6: =IF(O6="P",IF(R6<7,"SI","NO"),IF(O6="D",IF(R6<11,"SI","NO"),IF(O6="C",IF(R6<21,"SI","NO"),IF(O6="A",IF(R6<41,"SI","NO"))))) -> SI | T6: =IF(O6="P",IF(R6<4,"SI","NO"),IF(O6="D",IF(R6<6,"SI","NO"),IF(O6="C",IF(R6<11,"SI","NO"),IF(O6="A",IF(R6<21,"SI","NO"))))) -> NO | V6: D | W6: MBAYE | X6: BOLOGNA | Y6: 1 | Z6: =IF(V6="P",IF(Y6<7,"SI","NO"),IF(V6="D",IF(Y6<11,"SI","NO"),IF(V6="C",IF(Y6<21,"SI","NO"),IF(V6="A",IF(Y6<41,"SI","NO"))))) -> SI | AA6: =IF(V6="P",IF(Y6<4,"SI","NO"),IF(V6="D",IF(Y6<6,"SI","NO"),IF(V6="C",IF(Y6<11,"SI","NO"),IF(V6="A",IF(Y6<21,"SI","NO"))))) -> SI | AC6: D | AD6: GOBBI | AE6: CHIEVO | AF6: 3 | AG6: =IF(AC6="P",IF(AF6<7,"SI","NO"),IF(AC6="D",IF(AF6<11,"SI","NO"),IF(AC6="C",IF(AF6<21,"SI","NO"),IF(AC6="A",IF(AF6<41,"SI","NO"))))) -> SI | AH6: =IF(AC6="P",IF(AF6<4,"SI","NO"),IF(AC6="D",IF(AF6<6,"SI","NO"),IF(AC6="C",IF(AF6<11,"SI","NO"),IF(AC6="A",IF(AF6<21,"SI","NO"))))) -> SI | AJ6: D | AK6: BASTA | AL6: LAZIO | AM6: 4 | AN6: =IF(AJ6="P",IF(AM6<7,"SI","NO"),IF(AJ6="D",IF(AM6<11,"SI","NO"),IF(AJ6="C",IF(AM6<21,"SI","NO"),IF(AJ6="A",IF(AM6<41,"SI","NO"))))) -> SI | AO6: =IF(AJ6="P",IF(AM6<4,"SI","NO"),IF(AJ6="D",IF(AM6<6,"SI","NO"),IF(AJ6="C",IF(AM6<11,"SI","NO"),IF(AJ6="A",IF(AM6<21,"SI","NO"))))) -> SI | AQ6: D | AR6: MASIELLO | AS6: ATALANTA | AT6: 7 | AU6: =IF(AQ6="P",IF(AT6<7,"SI","NO"),IF(AQ6="D",IF(AT6<11,"SI","NO"),IF(AQ6="C",IF(AT6<21,"SI","NO"),IF(AQ6="A",IF(AT6<41,"SI","NO"))))) -> SI | AV6: =IF(AQ6="P",IF(AT6<4,"SI","NO"),IF(AQ6="D",IF(AT6<6,"SI","NO"),IF(AQ6="C",IF(AT6<11,"SI","NO"),IF(AQ6="A",IF(AT6<21,"SI","NO"))))) -> NO | AX6: D | AY6: ADNAN | AZ6: UDINESE | BA6: 3 | BB6: =IF(AX6="P",IF(BA6<7,"SI","NO"),IF(AX6="D",IF(BA6<11,"SI","NO"),IF(AX6="C",IF(BA6<21,"SI","NO"),IF(AX6="A",IF(BA6<41,"SI","NO"))))) -> SI | BC6: =IF(AX6="P",IF(BA6<4,"SI","NO"),IF(AX6="D",IF(BA6<6,"SI","NO"),IF(AX6="C",IF(BA6<11,"SI","NO"),IF(AX6="A",IF(BA6<21,"SI","NO"))))) -> SI | BE6: D | BF6: BENATIA | BG6: JUVENTUS | BH6: 1 | BI6: =IF(BE6="P",IF(BH6<7,"SI","NO"),IF(BE6="D",IF(BH6<11,"SI","NO"),IF(BE6="C",IF(BH6<21,"SI","NO"),IF(BE6="A",IF(BH6<41,"SI","NO"))))) -> SI | BJ6: =IF(BE6="P",IF(BH6<4,"SI","NO"),IF(BE6="D",IF(BH6<6,"SI","NO"),IF(BE6="C",IF(BH6<11,"SI","NO"),IF(BE6="A",IF(BH6<21,"SI","NO"))))) -> SI | BL6: D | BM6: CONTI | BN6: MILAN | BO6: 28 | BP6: =IF(BL6="P",IF(BO6<7,"SI","NO"),IF(BL6="D",IF(BO6<11,"SI","NO"),IF(BL6="C",IF(BO6<21,"SI","NO"),IF(BL6="A",IF(BO6<41,"SI","NO"))))) -> NO | BQ6: =IF(BL6="P",IF(BO6<4,"SI","NO"),IF(BL6="D",IF(BO6<6,"SI","NO"),IF(BL6="C",IF(BO6<11,"SI","NO"),IF(BL6="A",IF(BO6<21,"SI","NO"))))) -> NO
A7: D | B7: MANOLAS | C7: ROMA | D7: 9 | E7: =IF(A7="P",IF(D7<7,"SI","NO"),IF(A7="D",IF(D7<11,"SI","NO"),IF(A7="C",IF(D7<21,"SI","NO"),IF(A7="A",IF(D7<41,"SI","NO"))))) -> SI | F7: =IF(A7="P",IF(D7<4,"SI","NO"),IF(A7="D",IF(D7<6,"SI","NO"),IF(A7="C",IF(D7<11,"SI","NO"),IF(A7="A",IF(D7<21,"SI","NO"))))) -> NO | H7: D | I7: NUYTNICK | J7: UDINESE | K7: 6 | L7: =IF(H7="P",IF(K7<7,"SI","NO"),IF(H7="D",IF(K7<11,"SI","NO"),IF(H7="C",IF(K7<21,"SI","NO"),IF(H7="A",IF(K7<41,"SI","NO"))))) -> SI | M7: =IF(H7="P",IF(K7<4,"SI","NO"),IF(H7="D",IF(K7<6,"SI","NO"),IF(H7="C",IF(K7<11,"SI","NO"),IF(H7="A",IF(K7<21,"SI","NO"))))) -> NO | O7: D | P7: KOULIBALY | Q7: NAPOLI | R7: 17 | S7: =IF(O7="P",IF(R7<7,"SI","NO"),IF(O7="D",IF(R7<11,"SI","NO"),IF(O7="C",IF(R7<21,"SI","NO"),IF(O7="A",IF(R7<41,"SI","NO"))))) -> NO | T7: =IF(O7="P",IF(R7<4,"SI","NO"),IF(O7="D",IF(R7<6,"SI","NO"),IF(O7="C",IF(R7<11,"SI","NO"),IF(O7="A",IF(R7<21,"SI","NO"))))) -> NO | V7: D | W7: HYSAJ | X7: NAPOLI | Y7: 10 | Z7: =IF(V7="P",IF(Y7<7,"SI","NO"),IF(V7="D",IF(Y7<11,"SI","NO"),IF(V7="C",IF(Y7<21,"SI","NO"),IF(V7="A",IF(Y7<41,"SI","NO"))))) -> SI | AA7: =IF(V7="P",IF(Y7<4,"SI","NO"),IF(V7="D",IF(Y7<6,"SI","NO"),IF(V7="C",IF(Y7<11,"SI","NO"),IF(V7="A",IF(Y7<21,"SI","NO"))))) -> NO | AC7: D | AD7: STRYGER LARSEN | AE7: UDINESE | AF7: 1 | AG7: =IF(AC7="P",IF(AF7<7,"SI","NO"),IF(AC7="D",IF(AF7<11,"SI","NO"),IF(AC7="C",IF(AF7<21,"SI","NO"),IF(AC7="A",IF(AF7<41,"SI","NO"))))) -> SI | AH7: =IF(AC7="P",IF(AF7<4,"SI","NO"),IF(AC7="D",IF(AF7<6,"SI","NO"),IF(AC7="C",IF(AF7<11,"SI","NO"),IF(AC7="A",IF(AF7<21,"SI","NO"))))) -> SI | AJ7: D | AK7: MASINA | AL7: BOLOGNA | AM7: 5 | AN7: =IF(AJ7="P",IF(AM7<7,"SI","NO"),IF(AJ7="D",IF(AM7<11,"SI","NO"),IF(AJ7="C",IF(AM7<21,"SI","NO"),IF(AJ7="A",IF(AM7<41,"SI","NO"))))) -> SI | AO7: =IF(AJ7="P",IF(AM7<4,"SI","NO"),IF(AJ7="D",IF(AM7<6,"SI","NO"),IF(AJ7="C",IF(AM7<11,"SI","NO"),IF(AJ7="A",IF(AM7<21,"SI","NO"))))) -> SI | AQ7: D | AR7: DE MAIO | AS7: BOLOGNA | AT7: 5 | AU7: =IF(AQ7="P",IF(AT7<7,"SI","NO"),IF(AQ7="D",IF(AT7<11,"SI","NO"),IF(AQ7="C",IF(AT7<21,"SI","NO"),IF(AQ7="A",IF(AT7<41,"SI","NO"))))) -> SI | AV7: =IF(AQ7="P",IF(AT7<4,"SI","NO"),IF(AQ7="D",IF(AT7<6,"SI","NO"),IF(AQ7="C",IF(AT7<11,"SI","NO"),IF(AQ7="A",IF(AT7<21,"SI","NO"))))) -> SI | AX7: D | AY7: CECCHERINI | AZ7: CROTONE | BA7: 5 | BB7: =IF(AX7="P",IF(BA7<7,"SI","NO"),IF(AX7="D",IF(BA7<11,"SI","NO"),IF(AX7="C",IF(BA7<21,"SI","NO"),IF(AX7="A",IF(BA7<41,"SI","NO"))))) -> SI | BC7: =IF(AX7="P",IF(BA7<4,"SI","NO"),IF(AX7="D",IF(BA7<6,"SI","NO"),IF(AX7="C",IF(BA7<11,"SI","NO"),IF(AX7="A",IF(BA7<21,"SI","NO"))))) -> SI | BE7: D | BF7: D'AMBROSIO | BG7: INTER | BH7: 6 | BI7: =IF(BE7="P",IF(BH7<7,"SI","NO"),IF(BE7="D",IF(BH7<11,"SI","NO"),IF(BE7="C",IF(BH7<21,"SI","NO"),IF(BE7="A",IF(BH7<41,"SI","NO"))))) -> SI | BJ7: =IF(BE7="P",IF(BH7<4,"SI","NO"),IF(BE7="D",IF(BH7<6,"SI","NO"),IF(BE7="C",IF(BH7<11,"SI","NO"),IF(BE7="A",IF(BH7<21,"SI","NO"))))) -> NO | BL7: D | BM7: CALDARA | BN7: ATALANTA | BO7: 15 | BP7: =IF(BL7="P",IF(BO7<7,"SI","NO"),IF(BL7="D",IF(BO7<11,"SI","NO"),IF(BL7="C",IF(BO7<21,"SI","NO"),IF(BL7="A",IF(BO7<41,"SI","NO"))))) -> NO | BQ7: =IF(BL7="P",IF(BO7<4,"SI","NO"),IF(BL7="D",IF(BO7<6,"SI","NO"),IF(BL7="C",IF(BO7<11,"SI","NO"),IF(BL7="A",IF(BO7<21,"SI","NO"))))) -> NO
A8: D | B8: LARSEN | C8: UDINESE | D8: 1 | E8: =IF(A8="P",IF(D8<7,"SI","NO"),IF(A8="D",IF(D8<11,"SI","NO"),IF(A8="C",IF(D8<21,"SI","NO"),IF(A8="A",IF(D8<41,"SI","NO"))))) -> SI | F8: =IF(A8="P",IF(D8<4,"SI","NO"),IF(A8="D",IF(D8<6,"SI","NO"),IF(A8="C",IF(D8<11,"SI","NO"),IF(A8="A",IF(D8<21,"SI","NO"))))) -> SI | H8: D | I8: CANCELO | J8: INTER | K8: 6 | L8: =IF(H8="P",IF(K8<7,"SI","NO"),IF(H8="D",IF(K8<11,"SI","NO"),IF(H8="C",IF(K8<21,"SI","NO"),IF(H8="A",IF(K8<41,"SI","NO"))))) -> SI | M8: =IF(H8="P",IF(K8<4,"SI","NO"),IF(H8="D",IF(K8<6,"SI","NO"),IF(H8="C",IF(K8<11,"SI","NO"),IF(H8="A",IF(K8<21,"SI","NO"))))) -> NO | O8: D | P8: ASTORI | Q8: FIORENTINA | R8: 9 | S8: =IF(O8="P",IF(R8<7,"SI","NO"),IF(O8="D",IF(R8<11,"SI","NO"),IF(O8="C",IF(R8<21,"SI","NO"),IF(O8="A",IF(R8<41,"SI","NO"))))) -> SI | T8: =IF(O8="P",IF(R8<4,"SI","NO"),IF(O8="D",IF(R8<6,"SI","NO"),IF(O8="C",IF(R8<11,"SI","NO"),IF(O8="A",IF(R8<21,"SI","NO"))))) -> NO | V8: D | W8: KARSDORP | X8: ROMA | Y8: 4 | Z8: =IF(V8="P",IF(Y8<7,"SI","NO"),IF(V8="D",IF(Y8<11,"SI","NO"),IF(V8="C",IF(Y8<21,"SI","NO"),IF(V8="A",IF(Y8<41,"SI","NO"))))) -> SI | AA8: =IF(V8="P",IF(Y8<4,"SI","NO"),IF(V8="D",IF(Y8<6,"SI","NO"),IF(V8="C",IF(Y8<11,"SI","NO"),IF(V8="A",IF(Y8<21,"SI","NO"))))) -> SI | AC8: D | AD8: LETIZIA | AE8: BENEVENTO | AF8: 1 | AG8: =IF(AC8="P",IF(AF8<7,"SI","NO"),IF(AC8="D",IF(AF8<11,"SI","NO"),IF(AC8="C",IF(AF8<21,"SI","NO"),IF(AC8="A",IF(AF8<41,"SI","NO"))))) -> SI | AH8: =IF(AC8="P",IF(AF8<4,"SI","NO"),IF(AC8="D",IF(AF8<6,"SI","NO"),IF(AC8="C",IF(AF8<11,"SI","NO"),IF(AC8="A",IF(AF8<21,"SI","NO"))))) -> SI | AJ8: D | AK8: MARUSIC | AL8: LAZIO | AM8: 15 | AN8: =IF(AJ8="P",IF(AM8<7,"SI","NO"),IF(AJ8="D",IF(AM8<11,"SI","NO"),IF(AJ8="C",IF(AM8<21,"SI","NO"),IF(AJ8="A",IF(AM8<41,"SI","NO"))))) -> NO | AO8: =IF(AJ8="P",IF(AM8<4,"SI","NO"),IF(AJ8="D",IF(AM8<6,"SI","NO"),IF(AJ8="C",IF(AM8<11,"SI","NO"),IF(AJ8="A",IF(AM8<21,"SI","NO"))))) -> NO | AQ8: D | AR8: ROMULO | AS8: VERONA | AT8: 9 | AU8: =IF(AQ8="P",IF(AT8<7,"SI","NO"),IF(AQ8="D",IF(AT8<11,"SI","NO"),IF(AQ8="C",IF(AT8<21,"SI","NO"),IF(AQ8="A",IF(AT8<41,"SI","NO"))))) -> SI | AV8: =IF(AQ8="P",IF(AT8<4,"SI","NO"),IF(AQ8="D",IF(AT8<6,"SI","NO"),IF(AQ8="C",IF(AT8<11,"SI","NO"),IF(AQ8="A",IF(AT8<21,"SI","NO"))))) -> NO | AX8: D | AY8: STRINIC | AZ8: SAMPDORIA | BA8: 3 | BB8: =IF(AX8="P",IF(BA8<7,"SI","NO"),IF(AX8="D",IF(BA8<11,"SI","NO"),IF(AX8="C",IF(BA8<21,"SI","NO"),IF(AX8="A",IF(BA8<41,"SI","NO"))))) -> SI | BC8: =IF(AX8="P",IF(BA8<4,"SI","NO"),IF(AX8="D",IF(BA8<6,"SI","NO"),IF(AX8="C",IF(BA8<11,"SI","NO"),IF(AX8="A",IF(BA8<21,"SI","NO"))))) -> SI | BE8: D | BF8: FLORENZI | BG8: ROMA | BH8: 12 | BI8: =IF(BE8="P",IF(BH8<7,"SI","NO"),IF(BE8="D",IF(BH8<11,"SI","NO"),IF(BE8="C",IF(BH8<21,"SI","NO"),IF(BE8="A",IF(BH8<41,"SI","NO"))))) -> NO | BJ8: =IF(BE8="P",IF(BH8<4,"SI","NO"),IF(BE8="D",IF(BH8<6,"SI","NO"),IF(BE8="C",IF(BH8<11,"SI","NO"),IF(BE8="A",IF(BH8<21,"SI","NO"))))) -> NO | BL8: D | BM8: MIRANDA | BN8: INTER | BO8: 19 | BP8: =IF(BL8="P",IF(BO8<7,"SI","NO"),IF(BL8="D",IF(BO8<11,"SI","NO"),IF(BL8="C",IF(BO8<21,"SI","NO"),IF(BL8="A",IF(BO8<41,"SI","NO"))))) -> NO | BQ8: =IF(BL8="P",IF(BO8<4,"SI","NO"),IF(BL8="D",IF(BO8<6,"SI","NO"),IF(BL8="C",IF(BO8<11,"SI","NO"),IF(BL8="A",IF(BO8<21,"SI","NO"))))) -> NO
A9: D | B9: PELUSO | C9: SASSUOLO | D9: 3 | E9: =IF(A9="P",IF(D9<7,"SI","NO"),IF(A9="D",IF(D9<11,"SI","NO"),IF(A9="C",IF(D9<21,"SI","NO"),IF(A9="A",IF(D9<41,"SI","NO"))))) -> SI | F9: =IF(A9="P",IF(D9<4,"SI","NO"),IF(A9="D",IF(D9<6,"SI","NO"),IF(A9="C",IF(D9<11,"SI","NO"),IF(A9="A",IF(D9<21,"SI","NO"))))) -> SI | H9: D | I9: ANSALDI | J9: TORINO | K9: 5 | L9: =IF(H9="P",IF(K9<7,"SI","NO"),IF(H9="D",IF(K9<11,"SI","NO"),IF(H9="C",IF(K9<21,"SI","NO"),IF(H9="A",IF(K9<41,"SI","NO"))))) -> SI | M9: =IF(H9="P",IF(K9<4,"SI","NO"),IF(H9="D",IF(K9<6,"SI","NO"),IF(H9="C",IF(K9<11,"SI","NO"),IF(H9="A",IF(K9<21,"SI","NO"))))) -> SI | O9: D | P9: SILVESTRE | Q9: SAMPDORIA | R9: 8 | S9: =IF(O9="P",IF(R9<7,"SI","NO"),IF(O9="D",IF(R9<11,"SI","NO"),IF(O9="C",IF(R9<21,"SI","NO"),IF(O9="A",IF(R9<41,"SI","NO"))))) -> SI | T9: =IF(O9="P",IF(R9<4,"SI","NO"),IF(O9="D",IF(R9<6,"SI","NO"),IF(O9="C",IF(R9<11,"SI","NO"),IF(O9="A",IF(R9<21,"SI","NO"))))) -> NO | V9: D | W9: N'KOULOU | X9: TORINO | Y9: 5 | Z9: =IF(V9="P",IF(Y9<7,"SI","NO"),IF(V9="D",IF(Y9<11,"SI","NO"),IF(V9="C",IF(Y9<21,"SI","NO"),IF(V9="A",IF(Y9<41,"SI","NO"))))) -> SI | AA9: =IF(V9="P",IF(Y9<4,"SI","NO"),IF(V9="D",IF(Y9<6,"SI","NO"),IF(V9="C",IF(Y9<11,"SI","NO"),IF(V9="A",IF(Y9<21,"SI","NO"))))) -> SI | AC9: D | AD9: BIRAGHI | AE9: FIORENTINA | AF9: 3 | AG9: =IF(AC9="P",IF(AF9<7,"SI","NO"),IF(AC9="D",IF(AF9<11,"SI","NO"),IF(AC9="C",IF(AF9<21,"SI","NO"),IF(AC9="A",IF(AF9<41,"SI","NO"))))) -> SI | AH9: =IF(AC9="P",IF(AF9<4,"SI","NO"),IF(AC9="D",IF(AF9<6,"SI","NO"),IF(AC9="C",IF(AF9<11,"SI","NO"),IF(AC9="A",IF(AF9<21,"SI","NO"))))) -> SI | AJ9: D | AK9: ANDREOLLI | AL9: CAGLIARI | AM9: 2 | AN9: =IF(AJ9="P",IF(AM9<7,"SI","NO"),IF(AJ9="D",IF(AM9<11,"SI","NO"),IF(AJ9="C",IF(AM9<21,"SI","NO"),IF(AJ9="A",IF(AM9<41,"SI","NO"))))) -> SI | AO9: =IF(AJ9="P",IF(AM9<4,"SI","NO"),IF(AJ9="D",IF(AM9<6,"SI","NO"),IF(AJ9="C",IF(AM9<11,"SI","NO"),IF(AJ9="A",IF(AM9<21,"SI","NO"))))) -> SI | AQ9: D | AR9: NUYTINCK | AS9: UDINESE | AT9: 3 | AU9: =IF(AQ9="P",IF(AT9<7,"SI","NO"),IF(AQ9="D",IF(AT9<11,"SI","NO"),IF(AQ9="C",IF(AT9<21,"SI","NO"),IF(AQ9="A",IF(AT9<41,"SI","NO"))))) -> SI | AV9: =IF(AQ9="P",IF(AT9<4,"SI","NO"),IF(AQ9="D",IF(AT9<6,"SI","NO"),IF(AQ9="C",IF(AT9<11,"SI","NO"),IF(AQ9="A",IF(AT9<21,"SI","NO"))))) -> SI | AX9: D | AY9: DE VRIJ | AZ9: LAZIO | BA9: 15 | BB9: =IF(AX9="P",IF(BA9<7,"SI","NO"),IF(AX9="D",IF(BA9<11,"SI","NO"),IF(AX9="C",IF(BA9<21,"SI","NO"),IF(AX9="A",IF(BA9<41,"SI","NO"))))) -> NO | BC9: =IF(AX9="P",IF(BA9<4,"SI","NO"),IF(AX9="D",IF(BA9<6,"SI","NO"),IF(AX9="C",IF(BA9<11,"SI","NO"),IF(AX9="A",IF(BA9<21,"SI","NO"))))) -> NO | BE9: D | BF9: CACCIATORE | BG9: CHIEVO | BH9: 4 | BI9: =IF(BE9="P",IF(BH9<7,"SI","NO"),IF(BE9="D",IF(BH9<11,"SI","NO"),IF(BE9="C",IF(BH9<21,"SI","NO"),IF(BE9="A",IF(BH9<41,"SI","NO"))))) -> SI | BJ9: =IF(BE9="P",IF(BH9<4,"SI","NO"),IF(BE9="D",IF(BH9<6,"SI","NO"),IF(BE9="C",IF(BH9<11,"SI","NO"),IF(BE9="A",IF(BH9<21,"SI","NO"))))) -> SI | BL9: D | BM9: CHIELLINI | BN9: JUVENTUS | BO9: 13 | BP9: =IF(BL9="P",IF(BO9<7,"SI","NO"),IF(BL9="D",IF(BO9<11,"SI","NO"),IF(BL9="C",IF(BO9<21,"SI","NO"),IF(BL9="A",IF(BO9<41,"SI","NO"))))) -> NO | BQ9: =IF(BL9="P",IF(BO9<4,"SI","NO"),IF(BL9="D",IF(BO9<6,"SI","NO"),IF(BL9="C",IF(BO9<11,"SI","NO"),IF(BL9="A",IF(BO9<21,"SI","NO"))))) -> NO
A10: D | B10: RADU | C10: LAZIO | D10: 2 | E10: =IF(A10="P",IF(D10<7,"SI","NO"),IF(A10="D",IF(D10<11,"SI","NO"),IF(A10="C",IF(D10<21,"SI","NO"),IF(A10="A",IF(D10<41,"SI","NO"))))) -> SI | F10: =IF(A10="P",IF(D10<4,"SI","NO"),IF(A10="D",IF(D10<6,"SI","NO"),IF(A10="C",IF(D10<11,"SI","NO"),IF(A10="A",IF(D10<21,"SI","NO"))))) -> SI | H10: D | I10: GOBBI | J10: CHIEVO | K10: 1 | L10: =IF(H10="P",IF(K10<7,"SI","NO"),IF(H10="D",IF(K10<11,"SI","NO"),IF(H10="C",IF(K10<21,"SI","NO"),IF(H10="A",IF(K10<41,"SI","NO"))))) -> SI | M10: =IF(H10="P",IF(K10<4,"SI","NO"),IF(H10="D",IF(K10<6,"SI","NO"),IF(H10="C",IF(K10<11,"SI","NO"),IF(H10="A",IF(K10<21,"SI","NO"))))) -> SI | O10: D | P10: RADU | Q10: LAZIO | R10: 4 | S10: =IF(O10="P",IF(R10<7,"SI","NO"),IF(O10="D",IF(R10<11,"SI","NO"),IF(O10="C",IF(R10<21,"SI","NO"),IF(O10="A",IF(R10<41,"SI","NO"))))) -> SI | T10: =IF(O10="P",IF(R10<4,"SI","NO"),IF(O10="D",IF(R10<6,"SI","NO"),IF(O10="C",IF(R10<11,"SI","NO"),IF(O10="A",IF(R10<21,"SI","NO"))))) -> SI | V10: D | W10: CACERES | X10: VERONA | Y10: 1 | Z10: =IF(V10="P",IF(Y10<7,"SI","NO"),IF(V10="D",IF(Y10<11,"SI","NO"),IF(V10="C",IF(Y10<21,"SI","NO"),IF(V10="A",IF(Y10<41,"SI","NO"))))) -> SI | AA10: =IF(V10="P",IF(Y10<4,"SI","NO"),IF(V10="D",IF(Y10<6,"SI","NO"),IF(V10="C",IF(Y10<11,"SI","NO"),IF(V10="A",IF(Y10<21,"SI","NO"))))) -> SI | AC10: D | AD10: CACCIATORE | AE10: CHIEVO | AF10: 4 | AG10: =IF(AC10="P",IF(AF10<7,"SI","NO"),IF(AC10="D",IF(AF10<11,"SI","NO"),IF(AC10="C",IF(AF10<21,"SI","NO"),IF(AC10="A",IF(AF10<41,"SI","NO"))))) -> SI | AH10: =IF(AC10="P",IF(AF10<4,"SI","NO"),IF(AC10="D",IF(AF10<6,"SI","NO"),IF(AC10="C",IF(AF10<11,"SI","NO"),IF(AC10="A",IF(AF10<21,"SI","NO"))))) -> SI | AJ10: D | AK10: LIROLA | AL10: SASSUOLO | AM10: 4 | AN10: =IF(AJ10="P",IF(AM10<7,"SI","NO"),IF(AJ10="D",IF(AM10<11,"SI","NO"),IF(AJ10="C",IF(AM10<21,"SI","NO"),IF(AJ10="A",IF(AM10<41,"SI","NO"))))) -> SI | AO10: =IF(AJ10="P",IF(AM10<4,"SI","NO"),IF(AJ10="D",IF(AM10<6,"SI","NO"),IF(AJ10="C",IF(AM10<11,"SI","NO"),IF(AJ10="A",IF(AM10<21,"SI","NO"))))) -> SI | AQ10: D | AR10: BARZAGLI | AS10: JUVENTUS | AT10: 6 | AU10: =IF(AQ10="P",IF(AT10<7,"SI","NO"),IF(AQ10="D",IF(AT10<11,"SI","NO"),IF(AQ10="C",IF(AT10<21,"SI","NO"),IF(AQ10="A",IF(AT10<41,"SI","NO"))))) -> SI | AV10: =IF(AQ10="P",IF(AT10<4,"SI","NO"),IF(AQ10="D",IF(AT10<6,"SI","NO"),IF(AQ10="C",IF(AT10<11,"SI","NO"),IF(AQ10="A",IF(AT10<21,"SI","NO"))))) -> NO | AX10: D | AY10: FERRARI G. | AZ10: SAMPDORIA | BA10: 3 | BB10: =IF(AX10="P",IF(BA10<7,"SI","NO"),IF(AX10="D",IF(BA10<11,"SI","NO"),IF(AX10="C",IF(BA10<21,"SI","NO"),IF(AX10="A",IF(BA10<41,"SI","NO"))))) -> SI | BC10: =IF(AX10="P",IF(BA10<4,"SI","NO"),IF(AX10="D",IF(BA10<6,"SI","NO"),IF(AX10="C",IF(BA10<11,"SI","NO"),IF(AX10="A",IF(BA10<21,"SI","NO"))))) -> SI | BE10: D | BF10: BURDISSO | BG10: TORINO | BH10: 1 | BI10: =IF(BE10="P",IF(BH10<7,"SI","NO"),IF(BE10="D",IF(BH10<11,"SI","NO"),IF(BE10="C",IF(BH10<21,"SI","NO"),IF(BE10="A",IF(BH10<41,"SI","NO"))))) -> SI | BJ10: =IF(BE10="P",IF(BH10<4,"SI","NO"),IF(BE10="D",IF(BH10<6,"SI","NO"),IF(BE10="C",IF(BH10<11,"SI","NO"),IF(BE10="A",IF(BH10<21,"SI","NO"))))) -> SI | BL10: D | BM10: PALOMINO | BN10: ATALANTA | BO10: 7 | BP10: =IF(BL10="P",IF(BO10<7,"SI","NO"),IF(BL10="D",IF(BO10<11,"SI","NO"),IF(BL10="C",IF(BO10<21,"SI","NO"),IF(BL10="A",IF(BO10<41,"SI","NO"))))) -> SI | BQ10: =IF(BL10="P",IF(BO10<4,"SI","NO"),IF(BL10="D",IF(BO10<6,"SI","NO"),IF(BL10="C",IF(BO10<11,"SI","NO"),IF(BL10="A",IF(BO10<21,"SI","NO"))))) -> NO
A11: D | B11: PISACANE | C11: CAGLIARI | D11: 3 | E11: =IF(A11="P",IF(D11<7,"SI","NO"),IF(A11="D",IF(D11<11,"SI","NO"),IF(A11="C",IF(D11<21,"SI","NO"),IF(A11="A",IF(D11<41,"SI","NO"))))) -> SI | F11: =IF(A11="P",IF(D11<4,"SI","NO"),IF(A11="D",IF(D11<6,"SI","NO"),IF(A11="C",IF(D11<11,"SI","NO"),IF(A11="A",IF(D11<21,"SI","NO"))))) -> SI | H11: D | I11: BASTA | J11: LAZIO | K11: 3 | L11: =IF(H11="P",IF(K11<7,"SI","NO"),IF(H11="D",IF(K11<11,"SI","NO"),IF(H11="C",IF(K11<21,"SI","NO"),IF(H11="A",IF(K11<41,"SI","NO"))))) -> SI | M11: =IF(H11="P",IF(K11<4,"SI","NO"),IF(H11="D",IF(K11<6,"SI","NO"),IF(H11="C",IF(K11<11,"SI","NO"),IF(H11="A",IF(K11<21,"SI","NO"))))) -> SI | O11: D | P11: BASTOS | Q11: LAZIO | R11: 7 | S11: =IF(O11="P",IF(R11<7,"SI","NO"),IF(O11="D",IF(R11<11,"SI","NO"),IF(O11="C",IF(R11<21,"SI","NO"),IF(O11="A",IF(R11<41,"SI","NO"))))) -> SI | T11: =IF(O11="P",IF(R11<4,"SI","NO"),IF(O11="D",IF(R11<6,"SI","NO"),IF(O11="C",IF(R11<11,"SI","NO"),IF(O11="A",IF(R11<21,"SI","NO"))))) -> NO | V11: D | W11: DE SILVESTRI | X11: TORINO | Y11: 1 | Z11: =IF(V11="P",IF(Y11<7,"SI","NO"),IF(V11="D",IF(Y11<11,"SI","NO"),IF(V11="C",IF(Y11<21,"SI","NO"),IF(V11="A",IF(Y11<41,"SI","NO"))))) -> SI | AA11: =IF(V11="P",IF(Y11<4,"SI","NO"),IF(V11="D",IF(Y11<6,"SI","NO"),IF(V11="C",IF(Y11<11,"SI","NO"),IF(V11="A",IF(Y11<21,"SI","NO"))))) -> SI | AC11: D | AD11: MARTELLA | AE11: CROTONE | AF11: 1 | AG11: =IF(AC11="P",IF(AF11<7,"SI","NO"),IF(AC11="D",IF(AF11<11,"SI","NO"),IF(AC11="C",IF(AF11<21,"SI","NO"),IF(AC11="A",IF(AF11<41,"SI","NO"))))) -> SI | AH11: =IF(AC11="P",IF(AF11<4,"SI","NO"),IF(AC11="D",IF(AF11<6,"SI","NO"),IF(AC11="C",IF(AF11<11,"SI","NO"),IF(AC11="A",IF(AF11<21,"SI","NO"))))) -> SI | AJ11: D | AK11: ROMAGNA | AL11: CAGLIARI | AM11: 1 | AN11: =IF(AJ11="P",IF(AM11<7,"SI","NO"),IF(AJ11="D",IF(AM11<11,"SI","NO"),IF(AJ11="C",IF(AM11<21,"SI","NO"),IF(AJ11="A",IF(AM11<41,"SI","NO"))))) -> SI | AO11: =IF(AJ11="P",IF(AM11<4,"SI","NO"),IF(AJ11="D",IF(AM11<6,"SI","NO"),IF(AJ11="C",IF(AM11<11,"SI","NO"),IF(AJ11="A",IF(AM11<21,"SI","NO"))))) -> SI | AQ11: D | AR11: SKRINIAR | AS11: INTER | AT11: 7 | AU11: =IF(AQ11="P",IF(AT11<7,"SI","NO"),IF(AQ11="D",IF(AT11<11,"SI","NO"),IF(AQ11="C",IF(AT11<21,"SI","NO"),IF(AQ11="A",IF(AT11<41,"SI","NO"))))) -> SI | AV11: =IF(AQ11="P",IF(AT11<4,"SI","NO"),IF(AQ11="D",IF(AT11<6,"SI","NO"),IF(AQ11="C",IF(AT11<11,"SI","NO"),IF(AQ11="A",IF(AT11<21,"SI","NO"))))) -> NO | AX11: D | AY11: LETIZIA | AZ11: BENEVENTO | BA11: 5 | BB11: =IF(AX11="P",IF(BA11<7,"SI","NO"),IF(AX11="D",IF(BA11<11,"SI","NO"),IF(AX11="C",IF(BA11<21,"SI","NO"),IF(AX11="A",IF(BA11<41,"SI","NO"))))) -> SI | BC11: =IF(AX11="P",IF(BA11<4,"SI","NO"),IF(AX11="D",IF(BA11<6,"SI","NO"),IF(AX11="C",IF(BA11<11,"SI","NO"),IF(AX11="A",IF(BA11<21,"SI","NO"))))) -> SI | BE11: D | BF11: MARTELLA | BG11: CROTONE | BH11: 2 | BI11: =IF(BE11="P",IF(BH11<7,"SI","NO"),IF(BE11="D",IF(BH11<11,"SI","NO"),IF(BE11="C",IF(BH11<21,"SI","NO"),IF(BE11="A",IF(BH11<41,"SI","NO"))))) -> SI | BJ11: =IF(BE11="P",IF(BH11<4,"SI","NO"),IF(BE11="D",IF(BH11<6,"SI","NO"),IF(BE11="C",IF(BH11<11,"SI","NO"),IF(BE11="A",IF(BH11<21,"SI","NO"))))) -> SI | BL11: D | BM11: MASIELLO | BN11: ATALANTA | BO11: 10 | BP11: =IF(BL11="P",IF(BO11<7,"SI","NO"),IF(BL11="D",IF(BO11<11,"SI","NO"),IF(BL11="C",IF(BO11<21,"SI","NO"),IF(BL11="A",IF(BO11<41,"SI","NO"))))) -> SI | BQ11: =IF(BL11="P",IF(BO11<4,"SI","NO"),IF(BL11="D",IF(BO11<6,"SI","NO"),IF(BL11="C",IF(BO11<11,"SI","NO"),IF(BL11="A",IF(BO11<21,"SI","NO"))))) -> NO
A12: D | B12: STRINIC | C12: SAMPDORIA | D12: 2 | E12: =IF(A12="P",IF(D12<7,"SI","NO"),IF(A12="D",IF(D12<11,"SI","NO"),IF(A12="C",IF(D12<21,"SI","NO"),IF(A12="A",IF(D12<41,"SI","NO"))))) -> SI | F12: =IF(A12="P",IF(D12<4,"SI","NO"),IF(A12="D",IF(D12<6,"SI","NO"),IF(A12="C",IF(D12<11,"SI","NO"),IF(A12="A",IF(D12<21,"SI","NO"))))) -> SI | H12: D | I12: FARAONI | J12: CROTONE | K12: 1 | L12: =IF(H12="P",IF(K12<7,"SI","NO"),IF(H12="D",IF(K12<11,"SI","NO"),IF(H12="C",IF(K12<21,"SI","NO"),IF(H12="A",IF(K12<41,"SI","NO"))))) -> SI | M12: =IF(H12="P",IF(K12<4,"SI","NO"),IF(H12="D",IF(K12<6,"SI","NO"),IF(H12="C",IF(K12<11,"SI","NO"),IF(H12="A",IF(K12<21,"SI","NO"))))) -> SI | O12: D | P12: BERESZYNSKI | Q12: LAZIO | R12: 6 | S12: =IF(O12="P",IF(R12<7,"SI","NO"),IF(O12="D",IF(R12<11,"SI","NO"),IF(O12="C",IF(R12<21,"SI","NO"),IF(O12="A",IF(R12<41,"SI","NO"))))) -> SI | T12: =IF(O12="P",IF(R12<4,"SI","NO"),IF(O12="D",IF(R12<6,"SI","NO"),IF(O12="C",IF(R12<11,"SI","NO"),IF(O12="A",IF(R12<21,"SI","NO"))))) -> NO | V12: D | W12: ADNAN | X12: UDINESE | Y12: 1 | Z12: =IF(V12="P",IF(Y12<7,"SI","NO"),IF(V12="D",IF(Y12<11,"SI","NO"),IF(V12="C",IF(Y12<21,"SI","NO"),IF(V12="A",IF(Y12<41,"SI","NO"))))) -> SI | AA12: =IF(V12="P",IF(Y12<4,"SI","NO"),IF(V12="D",IF(Y12<6,"SI","NO"),IF(V12="C",IF(Y12<11,"SI","NO"),IF(V12="A",IF(Y12<21,"SI","NO"))))) -> SI | AC12: D | AD12: CACERES | AE12: VERONA | AF12: 1 | AG12: =IF(AC12="P",IF(AF12<7,"SI","NO"),IF(AC12="D",IF(AF12<11,"SI","NO"),IF(AC12="C",IF(AF12<21,"SI","NO"),IF(AC12="A",IF(AF12<41,"SI","NO"))))) -> SI | AH12: =IF(AC12="P",IF(AF12<4,"SI","NO"),IF(AC12="D",IF(AF12<6,"SI","NO"),IF(AC12="C",IF(AF12<11,"SI","NO"),IF(AC12="A",IF(AF12<21,"SI","NO"))))) -> SI | AJ12: D | AK12: VICARI | AL12: SPAL | AM12: 1 | AN12: =IF(AJ12="P",IF(AM12<7,"SI","NO"),IF(AJ12="D",IF(AM12<11,"SI","NO"),IF(AJ12="C",IF(AM12<21,"SI","NO"),IF(AJ12="A",IF(AM12<41,"SI","NO"))))) -> SI | AO12: =IF(AJ12="P",IF(AM12<4,"SI","NO"),IF(AJ12="D",IF(AM12<6,"SI","NO"),IF(AJ12="C",IF(AM12<11,"SI","NO"),IF(AJ12="A",IF(AM12<21,"SI","NO"))))) -> SI | AQ12: D | AR12: PISACANE | AS12: CAGLIARI | AT12: 2 | AU12: =IF(AQ12="P",IF(AT12<7,"SI","NO"),IF(AQ12="D",IF(AT12<11,"SI","NO"),IF(AQ12="C",IF(AT12<21,"SI","NO"),IF(AQ12="A",IF(AT12<41,"SI","NO"))))) -> SI | AV12: =IF(AQ12="P",IF(AT12<4,"SI","NO"),IF(AQ12="D",IF(AT12<6,"SI","NO"),IF(AQ12="C",IF(AT12<11,"SI","NO"),IF(AQ12="A",IF(AT12<21,"SI","NO"))))) -> SI | AX12: D | AY12: ALBIOL | AZ12: NAPOLI | BA12: 5 | BB12: =IF(AX12="P",IF(BA12<7,"SI","NO"),IF(AX12="D",IF(BA12<11,"SI","NO"),IF(AX12="C",IF(BA12<21,"SI","NO"),IF(AX12="A",IF(BA12<41,"SI","NO"))))) -> SI | BC12: =IF(AX12="P",IF(BA12<4,"SI","NO"),IF(AX12="D",IF(BA12<6,"SI","NO"),IF(AX12="C",IF(BA12<11,"SI","NO"),IF(AX12="A",IF(BA12<21,"SI","NO"))))) -> SI | BE12: D | BF12: DE SILVESTRI | BG12: TORINO | BH12: 3 | BI12: =IF(BE12="P",IF(BH12<7,"SI","NO"),IF(BE12="D",IF(BH12<11,"SI","NO"),IF(BE12="C",IF(BH12<21,"SI","NO"),IF(BE12="A",IF(BH12<41,"SI","NO"))))) -> SI | BJ12: =IF(BE12="P",IF(BH12<4,"SI","NO"),IF(BE12="D",IF(BH12<6,"SI","NO"),IF(BE12="C",IF(BH12<11,"SI","NO"),IF(BE12="A",IF(BH12<21,"SI","NO"))))) -> SI | BL12: D | BM12: BARZAGLI | BN12: JUVENTUS | BO12: 5 | BP12: =IF(BL12="P",IF(BO12<7,"SI","NO"),IF(BL12="D",IF(BO12<11,"SI","NO"),IF(BL12="C",IF(BO12<21,"SI","NO"),IF(BL12="A",IF(BO12<41,"SI","NO"))))) -> SI | BQ12: =IF(BL12="P",IF(BO12<4,"SI","NO"),IF(BL12="D",IF(BO12<6,"SI","NO"),IF(BL12="C",IF(BO12<11,"SI","NO"),IF(BL12="A",IF(BO12<21,"SI","NO"))))) -> SI
A13: D | B13: DALBERT | C13: INTER | D13: 9 | E13: =IF(A13="P",IF(D13<7,"SI","NO"),IF(A13="D",IF(D13<11,"SI","NO"),IF(A13="C",IF(D13<21,"SI","NO"),IF(A13="A",IF(D13<41,"SI","NO"))))) -> SI | F13: =IF(A13="P",IF(D13<4,"SI","NO"),IF(A13="D",IF(D13<6,"SI","NO"),IF(A13="C",IF(D13<11,"SI","NO"),IF(A13="A",IF(D13<21,"SI","NO"))))) -> NO | H13: D | I13: BIRAGHI | J13: FIORENTINA | K13: 1 | L13: =IF(H13="P",IF(K13<7,"SI","NO"),IF(H13="D",IF(K13<11,"SI","NO"),IF(H13="C",IF(K13<21,"SI","NO"),IF(H13="A",IF(K13<41,"SI","NO"))))) -> SI | M13: =IF(H13="P",IF(K13<4,"SI","NO"),IF(H13="D",IF(K13<6,"SI","NO"),IF(H13="C",IF(K13<11,"SI","NO"),IF(H13="A",IF(K13<21,"SI","NO"))))) -> SI | O13: D | P13: TOMOVIC | Q13: CHIEVO VERONA | R13: 1 | S13: =IF(O13="P",IF(R13<7,"SI","NO"),IF(O13="D",IF(R13<11,"SI","NO"),IF(O13="C",IF(R13<21,"SI","NO"),IF(O13="A",IF(R13<41,"SI","NO"))))) -> SI | T13: =IF(O13="P",IF(R13<4,"SI","NO"),IF(O13="D",IF(R13<6,"SI","NO"),IF(O13="C",IF(R13<11,"SI","NO"),IF(O13="A",IF(R13<21,"SI","NO"))))) -> SI | V13: D | W13: CALABRIA | X13: MILAN | Y13: 5 | Z13: =IF(V13="P",IF(Y13<7,"SI","NO"),IF(V13="D",IF(Y13<11,"SI","NO"),IF(V13="C",IF(Y13<21,"SI","NO"),IF(V13="A",IF(Y13<41,"SI","NO"))))) -> SI | AA13: =IF(V13="P",IF(Y13<4,"SI","NO"),IF(V13="D",IF(Y13<6,"SI","NO"),IF(V13="C",IF(Y13<11,"SI","NO"),IF(V13="A",IF(Y13<21,"SI","NO"))))) -> SI | AC13: D | AD13: PELUSO | AE13: SASSUOLO | AF13: 1 | AG13: =IF(AC13="P",IF(AF13<7,"SI","NO"),IF(AC13="D",IF(AF13<11,"SI","NO"),IF(AC13="C",IF(AF13<21,"SI","NO"),IF(AC13="A",IF(AF13<41,"SI","NO"))))) -> SI | AH13: =IF(AC13="P",IF(AF13<4,"SI","NO"),IF(AC13="D",IF(AF13<6,"SI","NO"),IF(AC13="C",IF(AF13<11,"SI","NO"),IF(AC13="A",IF(AF13<21,"SI","NO"))))) -> SI | AJ13: D | AK13: WIDMER | AL13: UDINESE | AM13: 1 | AN13: =IF(AJ13="P",IF(AM13<7,"SI","NO"),IF(AJ13="D",IF(AM13<11,"SI","NO"),IF(AJ13="C",IF(AM13<21,"SI","NO"),IF(AJ13="A",IF(AM13<41,"SI","NO"))))) -> SI | AO13: =IF(AJ13="P",IF(AM13<4,"SI","NO"),IF(AJ13="D",IF(AM13<6,"SI","NO"),IF(AJ13="C",IF(AM13<11,"SI","NO"),IF(AJ13="A",IF(AM13<21,"SI","NO"))))) -> SI | AQ13: D | AR13: VUKOVIC | AS13: VERONA | AT13: 3 | AU13: =IF(AQ13="P",IF(AT13<7,"SI","NO"),IF(AQ13="D",IF(AT13<11,"SI","NO"),IF(AQ13="C",IF(AT13<21,"SI","NO"),IF(AQ13="A",IF(AT13<41,"SI","NO"))))) -> SI | AV13: =IF(AQ13="P",IF(AT13<4,"SI","NO"),IF(AQ13="D",IF(AT13<6,"SI","NO"),IF(AQ13="C",IF(AT13<11,"SI","NO"),IF(AQ13="A",IF(AT13<21,"SI","NO"))))) -> SI | AX13: D | AY13: BIRAGHI | AZ13: FIORENTINA | BA13: 4 | BB13: =IF(AX13="P",IF(BA13<7,"SI","NO"),IF(AX13="D",IF(BA13<11,"SI","NO"),IF(AX13="C",IF(BA13<21,"SI","NO"),IF(AX13="A",IF(BA13<41,"SI","NO"))))) -> SI | BC13: =IF(AX13="P",IF(BA13<4,"SI","NO"),IF(AX13="D",IF(BA13<6,"SI","NO"),IF(AX13="C",IF(BA13<11,"SI","NO"),IF(AX13="A",IF(BA13<21,"SI","NO"))))) -> SI | BE13: D | BF13: MARIO RUI | BG13: NAPOLI | BH13: 1 | BI13: =IF(BE13="P",IF(BH13<7,"SI","NO"),IF(BE13="D",IF(BH13<11,"SI","NO"),IF(BE13="C",IF(BH13<21,"SI","NO"),IF(BE13="A",IF(BH13<41,"SI","NO"))))) -> SI | BJ13: =IF(BE13="P",IF(BH13<4,"SI","NO"),IF(BE13="D",IF(BH13<6,"SI","NO"),IF(BE13="C",IF(BH13<11,"SI","NO"),IF(BE13="A",IF(BH13<21,"SI","NO"))))) -> SI | BL13: D | BM13: S. LARSEN | BN13: UDINESE | BO13: 1 | BP13: =IF(BL13="P",IF(BO13<7,"SI","NO"),IF(BL13="D",IF(BO13<11,"SI","NO"),IF(BL13="C",IF(BO13<21,"SI","NO"),IF(BL13="A",IF(BO13<41,"SI","NO"))))) -> SI | BQ13: =IF(BL13="P",IF(BO13<4,"SI","NO"),IF(BL13="D",IF(BO13<6,"SI","NO"),IF(BL13="C",IF(BO13<11,"SI","NO"),IF(BL13="A",IF(BO13<21,"SI","NO"))))) -> SI
A14: C | B14: DE PAUL | C14: UDINESE | D14: 3 | E14: =IF(A14="P",IF(D14<7,"SI","NO"),IF(A14="D",IF(D14<11,"SI","NO"),IF(A14="C",IF(D14<21,"SI","NO"),IF(A14="A",IF(D14<41,"SI","NO"))))) -> SI | F14: =IF(A14="P",IF(D14<4,"SI","NO"),IF(A14="D",IF(D14<6,"SI","NO"),IF(A14="C",IF(D14<11,"SI","NO"),IF(A14="A",IF(D14<21,"SI","NO"))))) -> SI | H14: C | I14: PULGAR | J14: BOLOGNA | K14: 1 | L14: =IF(H14="P",IF(K14<7,"SI","NO"),IF(H14="D",IF(K14<11,"SI","NO"),IF(H14="C",IF(K14<21,"SI","NO"),IF(H14="A",IF(K14<41,"SI","NO"))))) -> SI | M14: =IF(H14="P",IF(K14<4,"SI","NO"),IF(H14="D",IF(K14<6,"SI","NO"),IF(H14="C",IF(K14<11,"SI","NO"),IF(H14="A",IF(K14<21,"SI","NO"))))) -> SI | O14: C | P14: MILINKOVIC-SAVIC V | Q14: LAZIO | R14: 53 | S14: =IF(O14="P",IF(R14<7,"SI","NO"),IF(O14="D",IF(R14<11,"SI","NO"),IF(O14="C",IF(R14<21,"SI","NO"),IF(O14="A",IF(R14<41,"SI","NO"))))) -> NO | T14: =IF(O14="P",IF(R14<4,"SI","NO"),IF(O14="D",IF(R14<6,"SI","NO"),IF(O14="C",IF(R14<11,"SI","NO"),IF(O14="A",IF(R14<21,"SI","NO"))))) -> NO | V14: C | W14: PJANIC | X14: JUVENTUS | Y14: 52 | Z14: =IF(V14="P",IF(Y14<7,"SI","NO"),IF(V14="D",IF(Y14<11,"SI","NO"),IF(V14="C",IF(Y14<21,"SI","NO"),IF(V14="A",IF(Y14<41,"SI","NO"))))) -> NO | AA14: =IF(V14="P",IF(Y14<4,"SI","NO"),IF(V14="D",IF(Y14<6,"SI","NO"),IF(V14="C",IF(Y14<11,"SI","NO"),IF(V14="A",IF(Y14<21,"SI","NO"))))) -> NO | AC14: C | AD14: VERETOUT | AE14: FIORENTINA | AF14: 1 | AG14: =IF(AC14="P",IF(AF14<7,"SI","NO"),IF(AC14="D",IF(AF14<11,"SI","NO"),IF(AC14="C",IF(AF14<21,"SI","NO"),IF(AC14="A",IF(AF14<41,"SI","NO"))))) -> SI | AH14: =IF(AC14="P",IF(AF14<4,"SI","NO"),IF(AC14="D",IF(AF14<6,"SI","NO"),IF(AC14="C",IF(AF14<11,"SI","NO"),IF(AC14="A",IF(AF14<21,"SI","NO"))))) -> SI | AJ14: C | AK14: RAMIREZ | AL14: SAMPDORIA | AM14: 32 | AN14: =IF(AJ14="P",IF(AM14<7,"SI","NO"),IF(AJ14="D",IF(AM14<11,"SI","NO"),IF(AJ14="C",IF(AM14<21,"SI","NO"),IF(AJ14="A",IF(AM14<41,"SI","NO"))))) -> NO | AO14: =IF(AJ14="P",IF(AM14<4,"SI","NO"),IF(AJ14="D",IF(AM14<6,"SI","NO"),IF(AJ14="C",IF(AM14<11,"SI","NO"),IF(AJ14="A",IF(AM14<21,"SI","NO"))))) -> NO | AQ14: C | AR14: HAMSIK | AS14: NAPOLI | AT14: 20 | AU14: =IF(AQ14="P",IF(AT14<7,"SI","NO"),IF(AQ14="D",IF(AT14<11,"SI","NO"),IF(AQ14="C",IF(AT14<21,"SI","NO"),IF(AQ14="A",IF(AT14<41,"SI","NO"))))) -> SI | AV14: =IF(AQ14="P",IF(AT14<4,"SI","NO"),IF(AQ14="D",IF(AT14<6,"SI","NO"),IF(AQ14="C",IF(AT14<11,"SI","NO"),IF(AQ14="A",IF(AT14<21,"SI","NO"))))) -> NO | AX14: C | AY14: MATUIDI | AZ14: JUVENTUS | BA14: 13 | BB14: =IF(AX14="P",IF(BA14<7,"SI","NO"),IF(AX14="D",IF(BA14<11,"SI","NO"),IF(AX14="C",IF(BA14<21,"SI","NO"),IF(AX14="A",IF(BA14<41,"SI","NO"))))) -> SI | BC14: =IF(AX14="P",IF(BA14<4,"SI","NO"),IF(AX14="D",IF(BA14<6,"SI","NO"),IF(AX14="C",IF(BA14<11,"SI","NO"),IF(AX14="A",IF(BA14<21,"SI","NO"))))) -> NO | BE14: C | BF14: BONAVENTURA | BG14: MILAN | BH14: 1 | BI14: =IF(BE14="P",IF(BH14<7,"SI","NO"),IF(BE14="D",IF(BH14<11,"SI","NO"),IF(BE14="C",IF(BH14<21,"SI","NO"),IF(BE14="A",IF(BH14<41,"SI","NO"))))) -> SI | BJ14: =IF(BE14="P",IF(BH14<4,"SI","NO"),IF(BE14="D",IF(BH14<6,"SI","NO"),IF(BE14="C",IF(BH14<11,"SI","NO"),IF(BE14="A",IF(BH14<21,"SI","NO"))))) -> SI | BL14: C | BM14: D'ALESSANDRO | BN14: ATALANTA | BO14: 7 | BP14: =IF(BL14="P",IF(BO14<7,"SI","NO"),IF(BL14="D",IF(BO14<11,"SI","NO"),IF(BL14="C",IF(BO14<21,"SI","NO"),IF(BL14="A",IF(BO14<41,"SI","NO"))))) -> SI | BQ14: =IF(BL14="P",IF(BO14<4,"SI","NO"),IF(BL14="D",IF(BO14<6,"SI","NO"),IF(BL14="C",IF(BO14<11,"SI","NO"),IF(BL14="A",IF(BO14<21,"SI","NO"))))) -> SI
... A27: A | B27: SUSO | C27: MILAN | D27: 84 | E27: =IF(A27="P",IF(D27<7,"SI","NO"),IF(A27="D",IF(D27<11,"SI","NO"),IF(A27="C",IF(D27<21,"SI","NO"),IF(A27="A",IF(D27<41,"SI","NO"))))) -> NO | F27: =IF(A27="P",IF(D27<4,"SI","NO"),IF(A27="D",IF(D27<6,"SI","NO"),IF(A27="C",IF(D27<11,"SI","NO"),IF(A27="A",IF(D27<21,"SI","NO"))))) -> NO | H27: A | I27: HAN | J27: CAGLIARI | K27: 1 | L27: =IF(H27="P",IF(K27<7,"SI","NO"),IF(H27="D",IF(K27<11,"SI","NO"),IF(H27="C",IF(K27<21,"SI","NO"),IF(H27="A",IF(K27<41,"SI","NO"))))) -> SI | M27: =IF(H27="P",IF(K27<4,"SI","NO"),IF(H27="D",IF(K27<6,"SI","NO"),IF(H27="C",IF(K27<11,"SI","NO"),IF(H27="A",IF(K27<21,"SI","NO"))))) -> SI | O27: A | P27: BORINI | Q27: MILAN | R27: 7 | S27: =IF(O27="P",IF(R27<7,"SI","NO"),IF(O27="D",IF(R27<11,"SI","NO"),IF(O27="C",IF(R27<21,"SI","NO"),IF(O27="A",IF(R27<41,"SI","NO"))))) -> SI | T27: =IF(O27="P",IF(R27<4,"SI","NO"),IF(O27="D",IF(R27<6,"SI","NO"),IF(O27="C",IF(R27<11,"SI","NO"),IF(O27="A",IF(R27<21,"SI","NO"))))) -> SI | V27: A | W27: BABACAR | X27: SASSUOLO | Y27: 1 | Z27: =IF(V27="P",IF(Y27<7,"SI","NO"),IF(V27="D",IF(Y27<11,"SI","NO"),IF(V27="C",IF(Y27<21,"SI","NO"),IF(V27="A",IF(Y27<41,"SI","NO"))))) -> SI | AA27: =IF(V27="P",IF(Y27<4,"SI","NO"),IF(V27="D",IF(Y27<6,"SI","NO"),IF(V27="C",IF(Y27<11,"SI","NO"),IF(V27="A",IF(Y27<21,"SI","NO"))))) -> SI | AC27: A | AD27: TAARABT | AE27: GENOA | AF27: 1 | AG27: =IF(AC27="P",IF(AF27<7,"SI","NO"),IF(AC27="D",IF(AF27<11,"SI","NO"),IF(AC27="C",IF(AF27<21,"SI","NO"),IF(AC27="A",IF(AF27<41,"SI","NO"))))) -> SI | AH27: =IF(AC27="P",IF(AF27<4,"SI","NO"),IF(AC27="D",IF(AF27<6,"SI","NO"),IF(AC27="C",IF(AF27<11,"SI","NO"),IF(AC27="A",IF(AF27<21,"SI","NO"))))) -> SI | AJ27: A | AK27: ORSOLINI | AL27: BOLOGNA | AM27: 1 | AN27: =IF(AJ27="P",IF(AM27<7,"SI","NO"),IF(AJ27="D",IF(AM27<11,"SI","NO"),IF(AJ27="C",IF(AM27<21,"SI","NO"),IF(AJ27="A",IF(AM27<41,"SI","NO"))))) -> SI | AO27: =IF(AJ27="P",IF(AM27<4,"SI","NO"),IF(AJ27="D",IF(AM27<6,"SI","NO"),IF(AJ27="C",IF(AM27<11,"SI","NO"),IF(AJ27="A",IF(AM27<21,"SI","NO"))))) -> SI | AQ27: A | AR27: ROSSI | AS27: GENOA | AT27: 2 | AU27: =IF(AQ27="P",IF(AT27<7,"SI","NO"),IF(AQ27="D",IF(AT27<11,"SI","NO"),IF(AQ27="C",IF(AT27<21,"SI","NO"),IF(AQ27="A",IF(AT27<41,"SI","NO"))))) -> SI | AV27: =IF(AQ27="P",IF(AT27<4,"SI","NO"),IF(AQ27="D",IF(AT27<6,"SI","NO"),IF(AQ27="C",IF(AT27<11,"SI","NO"),IF(AQ27="A",IF(AT27<21,"SI","NO"))))) -> SI | AX27: A | AY27: CODA | AZ27: BENEVENTO | BA27: 5 | BB27: =IF(AX27="P",IF(BA27<7,"SI","NO"),IF(AX27="D",IF(BA27<11,"SI","NO"),IF(AX27="C",IF(BA27<21,"SI","NO"),IF(AX27="A",IF(BA27<41,"SI","NO"))))) -> SI | BC27: =IF(AX27="P",IF(BA27<4,"SI","NO"),IF(AX27="D",IF(BA27<6,"SI","NO"),IF(AX27="C",IF(BA27<11,"SI","NO"),IF(AX27="A",IF(BA27<21,"SI","NO"))))) -> SI | BE27: A | BF27: RICCI | BG27: CROTONE | BH27: 1 | BI27: =IF(BE27="P",IF(BH27<7,"SI","NO"),IF(BE27="D",IF(BH27<11,"SI","NO"),IF(BE27="C",IF(BH27<21,"SI","NO"),IF(BE27="A",IF(BH27<41,"SI","NO"))))) -> SI | BJ27: =IF(BE27="P",IF(BH27<4,"SI","NO"),IF(BE27="D",IF(BH27<6,"SI","NO"),IF(BE27="C",IF(BH27<11,"SI","NO"),IF(BE27="A",IF(BH27<21,"SI","NO"))))) -> SI | BL27: A | BM27: BABACAR | BN27: SASSUOLO | BO27: 47 | BP27: =IF(BL27="P",IF(BO27<7,"SI","NO"),IF(BL27="D",IF(BO27<11,"SI","NO"),IF(BL27="C",IF(BO27<21,"SI","NO"),IF(BL27="A",IF(BO27<41,"SI","NO"))))) -> NO | BQ27: =IF(BL27="P",IF(BO27<4,"SI","NO"),IF(BL27="D",IF(BO27<6,"SI","NO"),IF(BL27="C",IF(BO27<11,"SI","NO"),IF(BL27="A",IF(BO27<21,"SI","NO"))))) -> NO
