Workbook

Sheet TABELLONE
A1: GIRONE A | D1: ORDINE CHIAMATA QUARTI | J1: 1° GIORNATA
D2: SCARSENAL | F2: 467.5 | J2: =A5 -> MC TOWN | K2: =A8 -> SKIACCIAK MOSCA | L2: =IF('1° GIORNATA'!$B$18=1,"",'1° GIORNATA'!$B$5) -> 3 | M2: =IF('1° GIORNATA'!$D$18=0,"",'1° GIORNATA'!$D$5) -> 0 | O2: =IF(L2="",0,IF(L2>M2,3,IF(L2=M2,1,0))) -> 3 | P2: =IF(M2="",0,IF(M2>L2,3,IF(M2=L2,1,0))) -> 0
A3: SQUADRE | D3: AC CONTE | F3: 454 | J3: =A6 -> BRIGATA GURREN | K3: =A7 -> SOLOPISA 1909 | L3: =IF('1° GIORNATA'!$K$18=1,"",'1° GIORNATA'!$K$5) -> 4 | M3: =IF('1° GIORNATA'!$M$18=0,"",'1° GIORNATA'!$M$5) -> 1 | O3: =IF(L3="",0,IF(L3>M3,3,IF(L3=M3,1,0))) -> 3 | P3: =IF(M3="",0,IF(M3>L3,3,IF(M3=L3,1,0))) -> 0
D4: SOLOPISA 1909 | F4: 430
A5: MC TOWN | B5: A | D5: CSKA SCINA | F5: 403.5 | J5: 2° GIORNATA
A6: BRIGATA GURREN | B6: B | D6: BRIGATA GURREN | F6: 461.5 | J6: =A8 -> SKIACCIAK MOSCA | K6: =A6 -> BRIGATA GURREN | L6: =IF('2° GIORNATA'!$B$18=1,"",'2° GIORNATA'!$B$5) -> 2 | M6: =IF('2° GIORNATA'!$D$18=0,"",'2° GIORNATA'!$D$5) -> 5 | O6: =IF(L6="",0,IF(L6>M6,3,IF(L6=M6,1,0))) -> 0 | P6: =IF(M6="",0,IF(M6>L6,3,IF(M6=L6,1,0))) -> 3
A7: SOLOPISA 1909 | B7: C | D7: UNAJUNGLACAZO FC | F7: 444.5 | J7: =A7 -> SOLOPISA 1909 | K7: =A5 -> MC TOWN | L7: =IF('2° GIORNATA'!$K$18=1,"",'2° GIORNATA'!$K$5) -> 2 | M7: =IF('2° GIORNATA'!$M$18=0,"",'2° GIORNATA'!$M$5) -> 1 | O7: =IF(L7="",0,IF(L7>M7,3,IF(L7=M7,1,0))) -> 3 | P7: =IF(M7="",0,IF(M7>L7,3,IF(M7=L7,1,0))) -> 0
A8: SKIACCIAK MOSCA | B8: D | D8: MARCELLONA | F8: 439.5
D9: CICCIOBUCCIO | F9: 435.5 | J9: 3° GIORNATA
J10: =A5 -> MC TOWN | K10: =A6 -> BRIGATA GURREN | L10: =IF('3° GIORNATA'!$B$18=1,"",'3° GIORNATA'!$B$5) -> 8 | M10: =IF('3° GIORNATA'!$D$18=0,"",'3° GIORNATA'!$D$5) -> 4 | O10: =IF(L10="",0,IF(L10>M10,3,IF(L10=M10,1,0))) -> 3 | P10: =IF(M10="",0,IF(M10>L10,3,IF(M10=L10,1,0))) -> 0
J11: =A8 -> SKIACCIAK MOSCA | K11: =A7 -> SOLOPISA 1909 | L11: =IF('3° GIORNATA'!$K$18=1,"",'3° GIORNATA'!$K$5) -> 0 | M11: =IF('3° GIORNATA'!$M$18=0,"",'3° GIORNATA'!$M$5) -> 0 | O11: =IF(L11="",0,IF(L11>M11,3,IF(L11=M11,1,0))) -> 1 | P11: =IF(M11="",0,IF(M11>L11,3,IF(M11=L11,1,0))) -> 1
A12: CLASSIFICA
J13: 4° GIORNATA
B14: pts | C14: g.f. | D14: g.s. | E14: diff. | F14: fantaPts | J14: =A6 -> BRIGATA GURREN | K14: =A5 -> MC TOWN | L14: =IF('4° GIORNATA'!$B$18=1,"",'4° GIORNATA'!$B$5) -> 5 | M14: =IF('4° GIORNATA'!$D$18=0,"",'4° GIORNATA'!$D$5) -> 2 | O14: =IF(L14="",0,IF(L14>M14,3,IF(L14=M14,1,0))) -> 3 | P14: =IF(M14="",0,IF(M14>L14,3,IF(M14=L14,1,0))) -> 0
A15: SOLOPISA 1909 | B15: =$P$3+$O$7+$P$11+$O$15+$O$19+$P$23 -> 13 | C15: =IF($M$3="",0,$M$3)+IF($L$7="",0,$L$7)+IF($M$11="",0,$M$11)+IF($L$15="",0,$L$15)+IF($L$19="",0,$L$19)+IF($M$23="",0,$M$23) -> 14 | D15: =IF($L$3="",0,$L$3)+IF($M$7="",0,$M$7)+IF($L$11="",0,$L$11)+IF($M$15="",0,$M$15)+IF($M$19="",0,$M$19)+IF($L$23="",0,$L$23) -> 9 | E15: =C15-D15 -> 5 | F15: =+'1° GIORNATA'!$M$18+'2° GIORNATA'!$K$18+'3° GIORNATA'!$M$18+'4° GIORNATA'!$K$18+'5° GIORNATA'!$K$18+'6° GIORNATA'!$M$18 -> 430 | G15: A1 | J15: =A7 -> SOLOPISA 1909 | K15: =A8 -> SKIACCIAK MOSCA | L15: =IF('4° GIORNATA'!$K$18=1,"",'4° GIORNATA'!$K$5) -> 3 | M15: =IF('4° GIORNATA'!$M$18=0,"",'4° GIORNATA'!$M$5) -> 0 | N15: 1 | O15: =IF(L15="",0,IF(L15>M15,3,IF(L15=M15,1,0))) -> 3 | P15: =IF(M15="",0,IF(M15>L15,3,IF(M15=L15,1,0))) -> 0
A16: BRIGATA GURREN | B16: =$O$3+$P$6+$P$10+$O$14+$P$19+$O$22 -> 9 | C16: =IF($L$3="",0,$L$3)+IF($M$6="",0,$M$6)+IF($M$10="",0,$M$10)+IF($L$14="",0,$L$14)+IF($M$19="",0,$M$19)+IF($L$22="",0,$L$22) -> 21 | D16: =IF($M$3="",0,$M$3)+IF($L$6="",0,$L$6)+IF($L$10="",0,$L$10)+IF($M$14="",0,$M$14)+IF($L$19="",0,$L$19)+IF($M$22="",0,$M$22) -> 20 | E16: =C16-D16 -> 1 | F16: =+'1° GIORNATA'!K18+'2° GIORNATA'!D18+'3° GIORNATA'!D18+'4° GIORNATA'!B18+'5° GIORNATA'!M18+'6° GIORNATA'!B18 -> 461.5 | G16: A2 | N16: 2
A17: MC TOWN | B17: =$O$2+$P$7+$O$10+$P$14+$P$18+$O$23 -> 9 | C17: =IF($L$2="",0,$L$2)+IF($M$7="",0,$M$7)+IF($L$10="",0,$L$10)+IF($M$14="",0,$M$14)+IF($M$18="",0,$M$18)+IF($L$23="",0,$L$23) -> 20 | D17: =IF($M$2="",0,$M$2)+IF($L$7="",0,$L$7)+IF($M$10="",0,$M$10)+IF($L$14="",0,$L$14)+IF($L$18="",0,$L$18)+IF($M$23="",0,$M$23) -> 16 | E17: =C17-D17 -> 4 | F17: ='1° GIORNATA'!$B$18+'2° GIORNATA'!$M$18+'3° GIORNATA'!$B$18+'4° GIORNATA'!$D$18+'5° GIORNATA'!$D$18+'6° GIORNATA'!$K$18 -> 460.5 | J17: 5° GIORNATA | N17: 3
A18: SKIACCIAK MOSCA | B18: =$P$2+$O$6+$O$11+$P$15+$O$18+$P$22 -> 4 | C18: =IF($M$2="",0,$M$2)+IF($L$6="",0,$L$6)+IF($L$11="",0,$L$11)+IF($M$15="",0,$M$15)+IF($L$18="",0,$L$18)+IF($M$22="",0,$M$22) -> 6 | D18: =IF($L$3="",0,$L$3)+IF($L$7="",0,$L$7)+IF($L$10="",0,$L$10)+IF($M$15="",0,$M$15)+IF($M$19="",0,$M$19)+IF($M$22="",0,$M$22) -> 18 | E18: =C18-D18 -> -12 | F18: =+'1° GIORNATA'!$D$18+'2° GIORNATA'!$B$18+'3° GIORNATA'!$K$18+'4° GIORNATA'!$M$18+'5° GIORNATA'!$B$18+'6° GIORNATA'!$D$18 -> 389 | J18: =A8 -> SKIACCIAK MOSCA | K18: =A5 -> MC TOWN | L18: =IF('5° GIORNATA'!$B$18=1,"",'5° GIORNATA'!$B$5) -> 1 | M18: =IF('5° GIORNATA'!$D$18=0,"",'5° GIORNATA'!$D$5) -> 3 | N18: 4 | O18: =IF(L18="",0,IF(L18>M18,3,IF(L18=M18,1,0))) -> 0 | P18: =IF(M18="",0,IF(M18>L18,3,IF(M18=L18,1,0))) -> 3
J19: =A7 -> SOLOPISA 1909 | K19: =A6 -> BRIGATA GURREN | L19: =IF('5° GIORNATA'!$K$18=1,"",'5° GIORNATA'!$K$5) -> 4 | M19: =IF('5° GIORNATA'!$M$18=0,"",'5° GIORNATA'!$M$5) -> 1 | O19: =IF(L19="",0,IF(L19>M19,3,IF(L19=M19,1,0))) -> 3 | P19: =IF(M19="",0,IF(M19>L19,3,IF(M19=L19,1,0))) -> 0
J21: 6° GIORNATA
J22: =A6 -> BRIGATA GURREN | K22: =A8 -> SKIACCIAK MOSCA | L22: =IF('6° GIORNATA'!$B$18=1,"",'6° GIORNATA'!$B$5) -> 2 | M22: =IF('6° GIORNATA'!$D$18=0,"",'6° GIORNATA'!$D$5) -> 3 | O22: =IF(L22="",0,IF(L22>M22,3,IF(L22=M22,1,0))) -> 0 | P22: =IF(M22="",0,IF(M22>L22,3,IF(M22=L22,1,0))) -> 3
J23: =A5 -> MC TOWN | K23: =A7 -> SOLOPISA 1909 | L23: =IF('6° GIORNATA'!$K$18=1,"",'6° GIORNATA'!$K$5) -> 3 | M23: =IF('6° GIORNATA'!$M$18=0,"",'6° GIORNATA'!$M$5) -> 4 | O23: =IF(L23="",0,IF(L23>M23,3,IF(L23=M23,1,0))) -> 0 | P23: =IF(M23="",0,IF(M23>L23,3,IF(M23=L23,1,0))) -> 3
A27: GIRONE B | J27: 1° GIORNATA
J28: =A34 -> UNAJUNGLACAZO FC | K28: =A32 -> EVRIBADI | L28: =IF('1° GIORNATA'!$B$48=1,"",'1° GIORNATA'!$B$35) -> 3 | M28: =IF('1° GIORNATA'!$D$48=0,"",'1° GIORNATA'!$D$35) -> 2 | O28: =IF(L28="",0,IF(L28>M28,3,IF(L28=M28,1,0))) -> 3 | P28: =IF(M28="",0,IF(M28>L28,3,IF(M28=L28,1,0))) -> 0
A29: SQUADRE | J29: =A31 -> CS RIPOSA | K29: =A33 -> AC CONTE | L29: =IF('1° GIORNATA'!$K$48=1,"",'1° GIORNATA'!$K$35) -> 4 | M29: =IF('1° GIORNATA'!$M$48=0,"",'1° GIORNATA'!$M$35) -> 3 | O29: =IF(L29="",0,IF(L29>M29,3,IF(L29=M29,1,0))) -> 3 | P29: =IF(M29="",0,IF(M29>L29,3,IF(M29=L29,1,0))) -> 0
A31: CS RIPOSA | B31: E | J31: 2° GIORNATA
A32: EVRIBADI | B32: F | J32: =A33 -> AC CONTE | K32: =A34 -> UNAJUNGLACAZO FC | L32: =IF('2° GIORNATA'!$B$48=1,"",'2° GIORNATA'!$B$35) -> 2 | M32: =IF('2° GIORNATA'!$D$48=0,"",'2° GIORNATA'!$D$35) -> 2 | O32: =IF(L32="",0,IF(L32>M32,3,IF(L32=M32,1,0))) -> 1 | P32: =IF(M32="",0,IF(M32>L32,3,IF(M32=L32,1,0))) -> 1
A33: AC CONTE | B33: G | J33: =A32 -> EVRIBADI | K33: =A31 -> CS RIPOSA | L33: =IF('2° GIORNATA'!$K$48=1,"",'2° GIORNATA'!$K$35) -> 5 | M33: =IF('2° GIORNATA'!$M$48=0,"",'2° GIORNATA'!$M$35) -> 0 | O33: =IF(L33="",0,IF(L33>M33,3,IF(L33=M33,1,0))) -> 3 | P33: =IF(M33="",0,IF(M33>L33,3,IF(M33=L33,1,0))) -> 0
A34: UNAJUNGLACAZO FC | B34: H
J35: 3° GIORNATA
J36: =A31 -> CS RIPOSA | K36: =A34 -> UNAJUNGLACAZO FC | L36: =IF('3° GIORNATA'!$B$48=1,"",'3° GIORNATA'!$B$35) -> 2 | M36: =IF('3° GIORNATA'!$D$48=0,"",'3° GIORNATA'!$D$35) -> 4 | O36: =IF(L36="",0,IF(L36>M36,3,IF(L36=M36,1,0))) -> 0 | P36: =IF(M36="",0,IF(M36>L36,3,IF(M36=L36,1,0))) -> 3
J37: =A33 -> AC CONTE | K37: =A32 -> EVRIBADI | L37: =IF('3° GIORNATA'!$K$48=1,"",'3° GIORNATA'!$K$35) -> 4 | M37: =IF('3° GIORNATA'!$M$48=0,"",'3° GIORNATA'!$M$35) -> 3 | O37: =IF(L37="",0,IF(L37>M37,3,IF(L37=M37,1,0))) -> 3 | P37: =IF(M37="",0,IF(M37>L37,3,IF(M37=L37,1,0))) -> 0
A38: CLASSIFICA
J39: 4° GIORNATA
B40: pts | C40: g.f. | D40: g.s. | E40: diff. | F40: fantaPts | J40: =A34 -> UNAJUNGLACAZO FC | K40: =A31 -> CS RIPOSA | L40: =IF('4° GIORNATA'!$B$48=1,"",'4° GIORNATA'!$B$35) -> 1 | M40: =IF('4° GIORNATA'!$D$48=0,"",'4° GIORNATA'!$D$35) -> 1 | O40: =IF(L40="",0,IF(L40>M40,3,IF(L40=M40,1,0))) -> 1 | P40: =IF(M40="",0,IF(M40>L40,3,IF(M40=L40,1,0))) -> 1
A41: AC CONTE | B41: =$P$29+$O$32+$O$37+$P$41+$O$45+$P$48 -> 11 | C41: =IF($M$29="",0,$M$29)+IF($L$32="",0,$L$32)+IF($L$37="",0,$L$37)+IF($M$41="",0,$M$41)+IF($L$45="",0,$L$45)+IF($M$48="",0,$M$48) -> 18 | D41: =IF($L$29="",0,$L$29)+IF($M$32="",0,$M$32)+IF($M$37="",0,$M$37)+IF($L$41="",0,$L$41)+IF($M$45="",0,$M$45)+IF($L$48="",0,$L$48) -> 11 | E41: =C41-D41 -> 7 | F41: =+'1° GIORNATA'!$M$48+'2° GIORNATA'!$B$48+'3° GIORNATA'!$K$48+'4° GIORNATA'!$M$48+'5° GIORNATA'!$K$48+'6° GIORNATA'!$D$48 -> 454 | G41: B1 | J41: =A32 -> EVRIBADI | K41: =A33 -> AC CONTE | L41: =IF('4° GIORNATA'!$K$48=1,"",'4° GIORNATA'!$K$35) -> 1 | M41: =IF('4° GIORNATA'!$M$48=0,"",'4° GIORNATA'!$M$35) -> 1 | N41: 1 | O41: =IF(L41="",0,IF(L41>M41,3,IF(L41=M41,1,0))) -> 1 | P41: =IF(M41="",0,IF(M41>L41,3,IF(M41=L41,1,0))) -> 1
A42: UNAJUNGLACAZO FC | B42: =$O$28+$P$32+$P$36+$O$40+$P$44+$O$48 -> 11 | C42: =IF($L$28="",0,$L$28)+IF($M$32="",0,$M$32)+IF($M$36="",0,$M$36)+IF($L$40="",0,$L$40)+IF($M$44="",0,$M$44)+IF($L$48="",0,$L$48) -> 15 | D42: =IF($M$28="",0,$M$28)+IF($L$32="",0,$L$32)+IF($L$36="",0,$L$36)+IF($M$40="",0,$M$40)+IF($L$44="",0,$L$44)+IF($M$48="",0,$M$48) -> 15 | E42: =C42-D42 -> 0 | F42: =+'1° GIORNATA'!$B$48+'2° GIORNATA'!$D$48+'3° GIORNATA'!$D$48+'4° GIORNATA'!$B$48+'5° GIORNATA'!$D$48+'6° GIORNATA'!$B$48 -> 444.5 | G42: B2 | N42: 2
A43: EVRIBADI | B43: =$P$28+$O$33+$P$37+$O$41+$O$44+$P$49 -> 4 | C43: =IF($M$28="",0,$M$28)+IF($L$33="",0,$L$33)+IF($M$37="",0,$M$37)+IF($L$41="",0,$L$41)+IF($L$44="",0,$L$44)+IF($M$49="",0,$M$49) -> 14 | D43: =IF($L$28="",0,$L$28)+IF($M$33="",0,$M$33)+IF($L$37="",0,$L$37)+IF($M$41="",0,$M$41)+IF(M$44="",0,$M$44)+IF($L$49="",0,$L$49) -> 12 | E43: =C43-D43 -> 2 | F43: =+'1° GIORNATA'!$D$48+'2° GIORNATA'!$K$48+'3° GIORNATA'!$M$48+'4° GIORNATA'!$K$48+'5° GIORNATA'!$B$48+'6° GIORNATA'!$M$48 -> 437.5 | J43: 5° GIORNATA | N43: 3
A44: CS RIPOSA | B44: =$O$29+$P$33+$O$36+$P$40+$P$45+$O$49 -> 4 | C44: =IF($L$29="",0,$L$29)+IF($M$33="",0,$M$33)+IF($L$36="",0,$L$36)+IF($M$40="",0,$M$40)+IF($M$45="",0,$M$45)+IF($L$49="",0,$L$49) -> 7 | D44: =IF($M$29="",0,$M$29)+IF($L$33="",0,$L$33)+IF($M$36="",0,$M$36)+IF($L$40="",0,$L$40)+IF($L$45="",0,$L$45)+IF($M$49="",0,$M$49) -> 16 | E44: =C44-D44 -> -9 | F44: =+'1° GIORNATA'!$K$48+'2° GIORNATA'!$M$48+'3° GIORNATA'!$B$48+'4° GIORNATA'!$D$48+'5° GIORNATA'!$M$48+'6° GIORNATA'!$K$48 -> 283 | J44: =A32 -> EVRIBADI | K44: =A34 -> UNAJUNGLACAZO FC | L44: =IF('5° GIORNATA'!$B$48=1,"",'5° GIORNATA'!$B$35) -> 3 | M44: =IF('5° GIORNATA'!$D$48=0,"",'5° GIORNATA'!$D$35) -> 4 | N44: 4 | O44: =IF(L44="",0,IF(L44>M44,3,IF(L44=M44,1,0))) -> 0 | P44: =IF(M44="",0,IF(M44>L44,3,IF(M44=L44,1,0))) -> 3
J45: =A33 -> AC CONTE | K45: =A31 -> CS RIPOSA | L45: =IF('5° GIORNATA'!$K$48=1,"",'5° GIORNATA'!$K$35) -> 3 | M45: =IF('5° GIORNATA'!$M$48=0,"",'5° GIORNATA'!$M$35) -> 0 | O45: =IF(L45="",0,IF(L45>M45,3,IF(L45=M45,1,0))) -> 3 | P45: =IF(M45="",0,IF(M45>L45,3,IF(M45=L45,1,0))) -> 0
J47: 6° GIORNATA
J48: =A34 -> UNAJUNGLACAZO FC | K48: =A33 -> AC CONTE | L48: =IF('6° GIORNATA'!$B$48=1,"",'6° GIORNATA'!$B$35) -> 1 | M48: =IF('6° GIORNATA'!$D$48=0,"",'6° GIORNATA'!$D$35) -> 5 | O48: =IF(L48="",0,IF(L48>M48,3,IF(L48=M48,1,0))) -> 0 | P48: =IF(M48="",0,IF(M48>L48,3,IF(M48=L48,1,0))) -> 3
J49: =A31 -> CS RIPOSA | K49: =A32 -> EVRIBADI | L49: =IF('6° GIORNATA'!$K$48=1,"",'6° GIORNATA'!$K$35) | M49: =IF('6° GIORNATA'!$M$48=0,"",'6° GIORNATA'!$M$35) -> 0 | O49: =IF(L49="",0,IF(L49>M49,3,IF(L49=M49,1,0))) -> 0 | P49: =IF(M49="",0,IF(M49>L49,3,IF(M49=L49,1,0))) -> 0
A53: GIRONE C | J53: 1° GIORNATA
J54: =A59 -> IBRADIPOSI | K54: =A58 -> SCARSENAL | L54: =IF('1° GIORNATA'!$B$76=1,"",'1° GIORNATA'!$B$63) -> 3 | M54: =IF('1° GIORNATA'!$D$76=0,"",'1° GIORNATA'!$D$63) -> 3 | O54: =IF(L54="",0,IF(L54>M54,3,IF(L54=M54,1,0))) -> 1 | P54: =IF(M54="",0,IF(M54>L54,3,IF(M54=L54,1,0))) -> 1
A55: SQUADRE | J55: =A57 -> MARCELLONA | K55: =A60 -> AC DENTI | L55: =IF('1° GIORNATA'!$K$76=1,"",'1° GIORNATA'!$K$63) -> 2 | M55: =IF('1° GIORNATA'!$M$76=0,"",'1° GIORNATA'!$M$63) -> 3 | O55: =IF(L55="",0,IF(L55>M55,3,IF(L55=M55,1,0))) -> 0 | P55: =IF(M55="",0,IF(M55>L55,3,IF(M55=L55,1,0))) -> 3
A57: MARCELLONA | B57: I | J57: 2° GIORNATA
A58: SCARSENAL | B58: L | J58: =A60 -> AC DENTI | K58: =A59 -> IBRADIPOSI | L58: =IF('2° GIORNATA'!$B$76=1,"",'2° GIORNATA'!$B$63) -> 2 | M58: =IF('2° GIORNATA'!$D$76=0,"",'2° GIORNATA'!$D$63) -> 5 | O58: =IF(L58="",0,IF(L58>M58,3,IF(L58=M58,1,0))) -> 0 | P58: =IF(M58="",0,IF(M58>L58,3,IF(M58=L58,1,0))) -> 3
A59: IBRADIPOSI | B59: M | J59: =A58 -> SCARSENAL | K59: =A57 -> MARCELLONA | L59: =IF('2° GIORNATA'!$K$76=1,"",'2° GIORNATA'!$K$63) -> 2 | M59: =IF('2° GIORNATA'!$M$76=0,"",'2° GIORNATA'!$M$63) -> 3 | O59: =IF(L59="",0,IF(L59>M59,3,IF(L59=M59,1,0))) -> 0 | P59: =IF(M59="",0,IF(M59>L59,3,IF(M59=L59,1,0))) -> 3
A60: AC DENTI | B60: N
J61: 3° GIORNATA
J62: =A60 -> AC DENTI | K62: =A58 -> SCARSENAL | L62: =IF('3° GIORNATA'!$B$76=1,"",'3° GIORNATA'!$B$63) -> 2 | M62: =IF('3° GIORNATA'!$D$76=0,"",'3° GIORNATA'!$D$63) -> 5 | O62: =IF(L62="",0,IF(L62>M62,3,IF(L62=M62,1,0))) -> 0 | P62: =IF(M62="",0,IF(M62>L62,3,IF(M62=L62,1,0))) -> 3
J63: =A57 -> MARCELLONA | K63: =A59 -> IBRADIPOSI | L63: =IF('3° GIORNATA'!$K$76=1,"",'3° GIORNATA'!$K$63) -> 3 | M63: =IF('3° GIORNATA'!$M$76=0,"",'3° GIORNATA'!$M$63) -> 0 | O63: =IF(L63="",0,IF(L63>M63,3,IF(L63=M63,1,0))) -> 3 | P63: =IF(M63="",0,IF(M63>L63,3,IF(M63=L63,1,0))) -> 0
A64: CLASSIFICA
J65: 4° GIORNATA
B66: pts | C66: g.f. | D66: g.s. | E66: diff. | F66: fantaPts | J66: =A59 -> IBRADIPOSI | K66: =A57 -> MARCELLONA | L66: =IF('4° GIORNATA'!$B$78=1,"",'4° GIORNATA'!$B$65) -> 1 | M66: =IF('4° GIORNATA'!$D$78=0,"",'4° GIORNATA'!$D$65) -> 1 | O66: =IF(L66="",0,IF(L66>M66,3,IF(L66=M66,1,0))) -> 1 | P66: =IF(M66="",0,IF(M66>L66,3,IF(M66=L66,1,0))) -> 1
A67: SCARSENAL | B67: =$P$54+$O$59+$P$62+$O$67+$O$71+$P$75 -> 13 | C67: =IF($M$54="",0,$M$54)+IF($L$59="",0,$L$59)+IF($M$62="",0,$M$62)+IF($L$67="",0,$L$67)+IF($L$71="",0,$L$71)+IF($M$75="",0,$M$75) -> 22 | D67: =IF($L$54="",0,$L$54)+IF($M$59="",0,$M$59)+IF($L$62="",0,$L$62)+IF($M$67="",0,$M$67)+IF($M$71="",0,$M$71)+IF($L$75="",0,$L$75) -> 9 | E67: =C67-D67 -> 13 | F67: =+'1° GIORNATA'!D76+'2° GIORNATA'!K76+'3° GIORNATA'!D76+'4° GIORNATA'!K78+'5° GIORNATA'!K76+'6° GIORNATA'!M76 -> 467.5 | G67: C1 | J67: =A58 -> SCARSENAL | K67: =A60 -> AC DENTI | L67: =IF('4° GIORNATA'!$K$78=1,"",'4° GIORNATA'!$K$65) -> 5 | M67: =IF('4° GIORNATA'!$M$78=0,"",'4° GIORNATA'!$M$65) -> 0 | N67: 1 | O67: =IF(L67="",0,IF(L67>M67,3,IF(L67=M67,1,0))) -> 3 | P67: =IF(M67="",0,IF(M67>L67,3,IF(M67=L67,1,0))) -> 0
A68: MARCELLONA | B68: =$O$55+$P$59+$O$63+$P$66+$P$70+$O$75 -> 8 | C68: =IF($L$55="",0,$L$55)+IF($M$59="",0,$M$59)+IF($L$63="",0,$L$63)+IF($M$66="",0,$M$66)+IF($M$70="",0,$M$70)+IF($L$75="",0,$L$75) -> 14 | D68: =IF($M$55="",0,$M$55)+IF($L$59="",0,$L$59)+IF($M$63="",0,$M$63)+IF($L$66="",0,$L$66)+IF($L$70="",0,$L$70)+IF($M$75="",0,$M$75) -> 14 | E68: =C68-D68 -> 0 | F68: =+'1° GIORNATA'!K76+'2° GIORNATA'!M76+'3° GIORNATA'!K76+'4° GIORNATA'!D78+'5° GIORNATA'!D76+'6° GIORNATA'!K76 -> 439.5 | G68: C2 | N68: 2
A69: IBRADIPOSI | B69: =$O$54+$P$58+$P$63+$O$66+$P$71+$O$74 -> 6 | C69: =IF($L$54="",0,$L$54)+IF($M$58="",0,$M$58)+IF($M$63="",0,$M$63)+IF($L$66="",0,$L$66)+IF($M$71="",0,$M$71)+IF($L$74="",0,$L$74) -> 9 | D69: =IF($M$54="",0,$M$54)+IF($L$58="",0,$L$58)+IF($L$63="",0,$L$63)+IF($M$66="",0,$M$66)+IF($L$71="",0,$L$71)+IF($M$74="",0,$M$74) -> 12 | E69: =C69-D69 -> -3 | F69: =+'1° GIORNATA'!B76+'2° GIORNATA'!D76+'3° GIORNATA'!M76+'4° GIORNATA'!B78+'5° GIORNATA'!M76+'6° GIORNATA'!B76 -> 402.5 | J69: 5° GIORNATA | N69: 3
A70: AC DENTI | B70: =$P$55+$O$58+$O$62+$P$67+$O$70+$P$74 -> 5 | C70: =IF($M$55="",0,$M$55)+IF($L$58="",0,$L$58)+IF($L$62="",0,$L$62)+IF($M$67="",0,$M$67)+IF($L$70="",0,$L$70)+IF($M$74="",0,$M$74) -> 11 | D70: =IF($L$55="",0,$L$55)+IF($M$58="",0,$M$58)+IF($M$62="",0,$M$62)+IF($L$67="",0,$L$67)+IF($M$70="",0,$M$70)+IF($L$74="",0,$L$74) -> 21 | E70: =C70-D70 -> -10 | F70: =+'1° GIORNATA'!M76+'2° GIORNATA'!B76+'3° GIORNATA'!B76+'4° GIORNATA'!M78+'5° GIORNATA'!B76+'6° GIORNATA'!D76 -> 416.5 | J70: =A60 -> AC DENTI | K70: =A57 -> MARCELLONA | L70: =IF('5° GIORNATA'!$B$76=1,"",'5° GIORNATA'!$B$63) -> 4 | M70: =IF('5° GIORNATA'!$D$76=0,"",'5° GIORNATA'!$D$63) -> 4 | N70: 4 | O70: =IF(L70="",0,IF(L70>M70,3,IF(L70=M70,1,0))) -> 1 | P70: =IF(M70="",0,IF(M70>L70,3,IF(M70=L70,1,0))) -> 1
J71: =A58 -> SCARSENAL | K71: =A59 -> IBRADIPOSI | L71: =IF('5° GIORNATA'!$K$76=1,"",'5° GIORNATA'!$K$63) -> 3 | M71: =IF('5° GIORNATA'!$M$76=0,"",'5° GIORNATA'!$M$63) -> 0 | O71: =IF(L71="",0,IF(L71>M71,3,IF(L71=M71,1,0))) -> 3 | P71: =IF(M71="",0,IF(M71>L71,3,IF(M71=L71,1,0))) -> 0
J73: 6° GIORNATA
J74: =A59 -> IBRADIPOSI | K74: =A60 -> AC DENTI | L74: =IF('6° GIORNATA'!$B$76=1,"",'6° GIORNATA'!$B$63) -> 0 | M74: =IF('6° GIORNATA'!$D$76=0,"",'6° GIORNATA'!$D$63) -> 0 | O74: =IF(L74="",0,IF(L74>M74,3,IF(L74=M74,1,0))) -> 1 | P74: =IF(M74="",0,IF(M74>L74,3,IF(M74=L74,1,0))) -> 1
J75: =A57 -> MARCELLONA | K75: =A58 -> SCARSENAL | L75: =IF('6° GIORNATA'!$K$76=1,"",'6° GIORNATA'!$K$63) -> 1 | M75: =IF('6° GIORNATA'!$M$76=0,"",'6° GIORNATA'!$M$63) -> 4 | O75: =IF(L75="",0,IF(L75>M75,3,IF(L75=M75,1,0))) -> 0 | P75: =IF(M75="",0,IF(M75>L75,3,IF(M75=L75,1,0))) -> 3
A79: GIRONE D | J79: 1° GIORNATA
J80: CICCIOBUCCIO | K80: =A83 -> FLYBEARD | L80: =IF('1° GIORNATA'!$B$104=1,"",'1° GIORNATA'!$B$91) -> 1 | M80: =IF('1° GIORNATA'!$D$104=0,"",'1° GIORNATA'!$D$91) -> 1 | O80: =IF(L80="",0,IF(L80>M80,3,IF(L80=M80,1,0))) -> 1 | P80: =IF(M80="",0,IF(M80>L80,3,IF(M80=L80,1,0))) -> 1
A81: SQUADRE | J81: =A85 -> INTERFOGAT | K81: =A86 -> CSKA SCINA | L81: =IF('1° GIORNATA'!$K$104=1,"",'1° GIORNATA'!$K$91) -> 0 | M81: =IF('1° GIORNATA'!$M$104=0,"",'1° GIORNATA'!$M$91) -> 2 | O81: =IF(L81="",0,IF(L81>M81,3,IF(L81=M81,1,0))) -> 0 | P81: =IF(M81="",0,IF(M81>L81,3,IF(M81=L81,1,0))) -> 3
A83: FLYBEARD | B83: I | J83: 2° GIORNATA
A84: TEAM AS TURBO | B84: L | J84: =A83 -> FLYBEARD | K84: =A85 -> INTERFOGAT | L84: =IF('2° GIORNATA'!$B$104=1,"",'2° GIORNATA'!$B$91) -> 1 | M84: =IF('2° GIORNATA'!$D$104=0,"",'2° GIORNATA'!$D$91) -> 1 | O84: =IF(L84="",0,IF(L84>M84,3,IF(L84=M84,1,0))) -> 1 | P84: =IF(M84="",0,IF(M84>L84,3,IF(M84=L84,1,0))) -> 1
A85: INTERFOGAT | B85: M | J85: =A86 -> CSKA SCINA | K85: CICCIOBUCCIO | L85: =IF('2° GIORNATA'!$K$104=1,"",'2° GIORNATA'!$K$91) -> 3 | M85: =IF('2° GIORNATA'!$M$104=0,"",'2° GIORNATA'!$M$91) -> 2 | O85: =IF(L85="",0,IF(L85>M85,3,IF(L85=M85,1,0))) -> 3 | P85: =IF(M85="",0,IF(M85>L85,3,IF(M85=L85,1,0))) -> 0
A86: CSKA SCINA | B86: N
J87: 3° GIORNATA
J88: CICCIOBUCCIO | K88: =A85 -> INTERFOGAT | L88: =IF('3° GIORNATA'!$B$104=1,"",'3° GIORNATA'!$B$91) -> 0 | M88: =IF('3° GIORNATA'!$D$104=0,"",'3° GIORNATA'!$D$91) -> 2 | O88: =IF(L88="",0,IF(L88>M88,3,IF(L88=M88,1,0))) -> 0 | P88: =IF(M88="",0,IF(M88>L88,3,IF(M88=L88,1,0))) -> 3
J89: =A83 -> FLYBEARD | K89: =A86 -> CSKA SCINA | L89: =IF('3° GIORNATA'!$K$104=1,"",'3° GIORNATA'!$K$91) -> 1 | M89: =IF('3° GIORNATA'!$M$104=0,"",'3° GIORNATA'!$M$91) -> 3 | O89: =IF(L89="",0,IF(L89>M89,3,IF(L89=M89,1,0))) -> 0 | P89: =IF(M89="",0,IF(M89>L89,3,IF(M89=L89,1,0))) -> 3
A90: CLASSIFICA
J91: 4° GIORNATA
B92: pts | C92: g.f. | D92: g.s. | E92: diff. | F92: fantaPts | J92: =A85 -> INTERFOGAT | K92: CICCIOBUCCIO | L92: =IF('4° GIORNATA'!$B$106=1,"",'4° GIORNATA'!$B$93) -> 0 | M92: =IF('4° GIORNATA'!$D$106=0,"",'4° GIORNATA'!$D$93) -> 5 | O92: =IF(L92="",0,IF(L92>M92,3,IF(L92=M92,1,0))) -> 0 | P92: =IF(M92="",0,IF(M92>L92,3,IF(M92=L92,1,0))) -> 3
A93: CSKA SCINA | B93: =$P$81+$O$85+$P$89+$O$93+$O$96+$P$101 -> 12 | C93: =IF($M$81="",0,$M$81)+IF($L$85="",0,$L$85)+IF($M$89="",0,$M$89)+IF($L$93="",0,$L$93)+IF($L$96="",0,$L$96)+IF($M$101="",0,$M$101) -> 11 | D93: =IF($L$81="",0,$L$81)+IF($M$85="",0,$M$85)+IF($L$89="",0,$L$89)+IF($M$93="",0,$M$93)+IF($M$96="",0,$M$96)+IF($L$101="",0,$L$101) -> 7 | E93: =C93-D93 -> 4 | F93: =+'1° GIORNATA'!M104+'2° GIORNATA'!K104+'3° GIORNATA'!M104+'4° GIORNATA'!K106+'5° GIORNATA'!B104+'6° GIORNATA'!M104 -> 403.5 | G93: D1 | J93: =A86 -> CSKA SCINA | K93: =A83 -> FLYBEARD | L93: =IF('4° GIORNATA'!$K$106=1,"",'4° GIORNATA'!$K$93) -> 0 | M93: =IF('4° GIORNATA'!$M$106=0,"",'4° GIORNATA'!$M$93) -> 1 | N93: 1 | O93: =IF(L93="",0,IF(L93>M93,3,IF(L93=M93,1,0))) -> 0 | P93: =IF(M93="",0,IF(M93>L93,3,IF(M93=L93,1,0))) -> 3
A94: CICCIOBUCCIO | B94: =$O$80+$P$85+$O$88+$P$92+$P$97+$O$101 -> 10 | C94: =IF($L$80="",0,$L$80)+IF($M$85="",0,$M$85)+IF($L$88="",0,$L$88)+IF($M$92="",0,$M$92)+IF($M$97="",0,$M$97)+IF($L$101="",0,$L$101) -> 13 | D94: =IF($M$80="",0,$M$80)+IF($L$85="",0,$L$85)+IF($M$88="",0,$M$88)+IF($L$92="",0,$L$92)+IF($L$97="",0,$L$97)+IF($M$101="",0,$M$101) -> 8 | E94: =C94-D94 -> 5 | F94: =+'1° GIORNATA'!B104+'2° GIORNATA'!M104+'3° GIORNATA'!B104+'4° GIORNATA'!D106+'5° GIORNATA'!M104+'6° GIORNATA'!K104 -> 435.5 | G94: D2 | N94: 2
A95: FLYBEARD | B95: =$P$80+$O$84+$O$89+$P$93+$O$97+$P$100 -> 6 | C95: =IF($M$80="",0,$M$80)+IF($L$84="",0,$L$84)+IF($L$89="",0,$L$89)+IF($M$93="",0,$M$93)+IF($L$97="",0,$L$97)+IF($M$100="",0,$M$100) -> 9 | D95: =IF($L$80="",0,$L$80)+IF($M$84="",0,$M$84)+IF($M$89="",0,$M$89)+IF($L$93="",0,$L$93)+IF($M$97="",0,$M$97)+IF($L$100="",0,$L$100) -> 11 | E95: =C95-D95 -> -2 | F95: =+'1° GIORNATA'!D104+'2° GIORNATA'!B104+'3° GIORNATA'!K104+'4° GIORNATA'!M106+'5° GIORNATA'!K104+'6° GIORNATA'!D104 -> 415 | J95: 5° GIORNATA | N95: 3
A96: INTERFOGAT | B96: =$O$81+$P$84+$P$88+$O$92+$P$96+$O$100 -> 5 | C96: =IF($L$81="",0,$L$81)+IF($M$84="",0,$M$84)+IF($M$88="",0,$M$88)+IF($L$92="",0,$L$92)+IF($M$96="",0,$M$96)+IF($L$100="",0,$L$100) -> 7 | D96: =IF($M$81="",0,$M$81)+IF($L$84="",0,$L$84)+IF($L$88="",0,$L$88)+IF($M$92="",0,$M$92)+IF($L$96="",0,$L$96)+IF($M$100="",0,$M$100) -> 14 | E96: =C96-D96 -> -7 | F96: =+'1° GIORNATA'!K104+'2° GIORNATA'!D104+'3° GIORNATA'!D104+'4° GIORNATA'!B106+'5° GIORNATA'!D104+'6° GIORNATA'!B104 -> 410.5 | J96: =A86 -> CSKA SCINA | K96: =A85 -> INTERFOGAT | L96: =IF('5° GIORNATA'!$B$104=1,"",'5° GIORNATA'!$B$91) -> 3 | M96: =IF('5° GIORNATA'!$D$104=0,"",'5° GIORNATA'!$D$91) -> 1 | N96: 4 | O96: =IF(L96="",0,IF(L96>M96,3,IF(L96=M96,1,0))) -> 3 | P96: =IF(M96="",0,IF(M96>L96,3,IF(M96=L96,1,0))) -> 0
J97: =A83 -> FLYBEARD | K97: CICCIOBUCCIO | L97: =IF('5° GIORNATA'!$K$104=1,"",'5° GIORNATA'!$K$91) -> 2 | M97: =IF('5° GIORNATA'!$M$104=0,"",'5° GIORNATA'!$M$91) -> 3 | O97: =IF(L97="",0,IF(L97>M97,3,IF(L97=M97,1,0))) -> 0 | P97: =IF(M97="",0,IF(M97>L97,3,IF(M97=L97,1,0))) -> 3
J99: 6° GIORNATA
J100: =A85 -> INTERFOGAT | K100: =A83 -> FLYBEARD | L100: =IF('6° GIORNATA'!$B$104=1,"",'6° GIORNATA'!$B$91) -> 3 | M100: =IF('6° GIORNATA'!$D$104=0,"",'6° GIORNATA'!$D$91) -> 3 | O100: =IF(L100="",0,IF(L100>M100,3,IF(L100=M100,1,0))) -> 1 | P100: =IF(M100="",0,IF(M100>L100,3,IF(M100=L100,1,0))) -> 1
J101: CICCIOBUCCIO | K101: =A86 -> CSKA SCINA | L101: =IF('6° GIORNATA'!$K$104=1,"",'6° GIORNATA'!$K$91) -> 2 | M101: =IF('6° GIORNATA'!$M$104=0,"",'6° GIORNATA'!$M$91) -> 0 | O101: =IF(L101="",0,IF(L101>M101,3,IF(L101=M101,1,0))) -> 3 | P101: =IF(M101="",0,IF(M101>L101,3,IF(M101=L101,1,0))) -> 0
A105: QUARTI
E106: ANDATA | G106: RITORNO | R106: ORDINE CHIAMATA SEMIFINALI
A107: =A42 -> UNAJUNGLACAZO FC | B107: =A15 -> SOLOPISA 1909 | E107: ='QUARTI andata'!B5 -> 6 | F107: ='QUARTI andata'!D5 -> 1 | G107: ='QUARTI ritorno'!D5 -> 2 | H107: ='QUARTI ritorno'!B5 -> 1 | I107: D1 | R107: SCARSENAL | S107: 159.5
A108: =A94 -> CICCIOBUCCIO | B108: =A67 -> SCARSENAL | E108: ='QUARTI andata'!K5 -> 3 | F108: ='QUARTI andata'!M5 -> 6 | G108: ='QUARTI ritorno'!M5 -> 2 | H108: ='QUARTI ritorno'!K5 -> 4 | I108: E1 | N108: 159.5 | R108: UNAJUNGLACAZO FC | S108: 159.5
A109: =A16 -> BRIGATA GURREN | B109: =A41 -> AC CONTE | E109: ='QUARTI andata'!B35 -> 1 | F109: ='QUARTI andata'!D35 -> 5 | G109: ='QUARTI ritorno'!D35 -> 2 | H109: ='QUARTI ritorno'!B35 -> 2 | I109: F1 | R109: AC CONTE | S109: 152
A110: =A68 -> MARCELLONA | B110: =A93 -> CSKA SCINA | E110: ='QUARTI andata'!K35 -> 2 | F110: ='QUARTI andata'!M35 -> 2 | G110: ='QUARTI ritorno'!M35 -> 0 | H110: ='QUARTI ritorno'!K35 -> 0 | I110: G1 | R110: CSKA SCINA | S110: 134
A113: SEMIFINALI
E114: ANDATA | G114: RITORNO
A115: =IF(E107+G107>F107+H107,A107,IF(E107+G107=F107+H107,IF(G107>F107,A107,IF(F107>G107,B107,IF(F107=G107,"rigori"))),B107)) -> UNAJUNGLACAZO FC | B115: =IF(E108+G108>F108+H108,A108,IF(E108+G108=F108+H108,IF(G108>F108,A108,IF(F108>G108,B108,IF(F108=G108,"rigori"))),B108)) -> SCARSENAL | E115: ='SEMIFINALE andata'!B5 -> 5 | F115: ='SEMIFINALE andata'!D5 -> 2 | G115: ='SEMIFINALE ritorno'!D5 -> 0 | H115: ='SEMIFINALE ritorno'!B5 -> 1 | I115: H1 | R115: ORDINE CHIAMATA FINALI
A116: =IF(E109+G109>F109+H109,A109,IF(E109+G109=F109+H109,IF(G109>F109,A109,IF(F109>G109,B109,IF(F109=G109,"rigori"))),B109)) -> AC CONTE | B116: =IF(E110+G110>F110+H110,A110,IF(E110+G110=F110+H110,IF(G110>F110,A110,IF(F110>G110,B110,IF(F110=G110,"rigori"))),B110)) -> CSKA SCINA | E116: ='SEMIFINALE andata'!K5 -> 0 | F116: ='SEMIFINALE andata'!M5 -> 1 | G116: ='SEMIFINALE ritorno'!M5 -> 0 | H116: ='SEMIFINALE ritorno'!K5 -> 1 | I116: K1 | R116: UNAJUNGLACAZO FC
R117: CSKA SCINA
A119: FINALE
E120: ANDATA | G120: RITORNO
A121: =IF(E115+G115>F115+H115,A115,IF(E115+G115=F115+H115,IF(G115>F115,A115,IF(F115>G115,B115,IF(F115=G115,"rigori"))),B115)) -> UNAJUNGLACAZO FC | B121: =IF(E116+G116>F116+H116,A116,IF(E116+G116=F116+H116,IF(G116>F116,A116,IF(F116>G116,B116,IF(F116=G116,"rigori"))),B116)) -> CSKA SCINA
A124: VINCENTE

Sheet 1° GIORNATA
A1: 1° GIORNATA
A3: GIRONE A
A5: =+TABELLONE!J2 -> MC TOWN | B5: =IF(B18<66,0,IF(B18<70,1,IF(B18<74,2,IF(B18<78,3,IF(B18<82,4,IF(B18<86,5,IF(B18<90,6,IF(B18<94,7,IF(B18<98,8,IF(B18<101,9,10)))))))))) -> 3 | C5: =+TABELLONE!K2 -> SKIACCIAK MOSCA | D5: =IF(D18<66,0,IF(D18<70,1,IF(D18<74,2,IF(D18<78,3,IF(D18<82,4,IF(D18<86,5,IF(D18<90,6,IF(D18<94,7,IF(D18<98,8,IF(D18<101,9,10)))))))))) -> 0 | J5: =+TABELLONE!J3 -> BRIGATA GURREN | K5: =IF(K18<66,0,IF(K18<70,1,IF(K18<74,2,IF(K18<78,3,IF(K18<82,4,IF(K18<86,5,IF(K18<90,6,IF(K18<94,7,IF(K18<98,8,IF(K18<101,9,10)))))))))) -> 4 | L5: =+TABELLONE!K3 -> SOLOPISA 1909 | M5: =IF(M18<66,0,IF(M18<70,1,IF(M18<74,2,IF(M18<78,3,IF(M18<82,4,IF(M18<86,5,IF(M18<90,6,IF(M18<94,7,IF(M18<98,8,IF(M18<101,9,10)))))))))) -> 1
A6: MANCHESTER CITY | B6: 6 | C6: NAPOLI | D6: 3 | J6: PSG | K6: 7 | L6: JUVENTUS | M6: 3
A7: JORDI ALBA | B7: 6 | C7: ELISEU | D7: 5 | J7: KOLAROV | K7: 6 | L7: D. LUIZ | M7: 5.5
A8: MATIP | B8: 6 | C8: ZAPPACOSTA | D8: 11 | F8: assist | J8: MARQUINHOS | K8: 6.5 | L8: MARCELO | M8: 6.5
A9: CAHILL | B9: 6.5 | C9: GLIK | D9: 5.5 | J9: LUISAO | K9: 5 | L9: KLAVAN | M9: 4
A10: ROBBEN | B10: 6 | C10: MIKHITARYAN | D10: 7 | F10: suarez | J10: SAUL NIGUEZ | K10: 7 | L10: MATA | M10: 7
A11: LEMAR | B11: 6 | C11: PJANIC | D11: 5 | F11: kimmich | J11: ERIKSEN | K11: 8 | L11: BUSQUETS | M11: 7
A12: SALVIO | B12: 5.5 | C12: SAHIN | D12: 6 | F12: fabregas | J12: KIMMICH | K12: 11 | L12: HENDERSON | M12: 6
A13: GELSON MARTINS | B13: 9.5 | C13: DZAGOEV | D13: 4.5 | F13: walker | J13: ACUNA | K13: 6.5 | L13: CASTRO | M13: 5
A14: AGUERO | B14: 10 | C14: JONAS | D14: 5 | F14: de bruyne | J14: CALLEJON | K14: 6 | L14: MERTENS | M14: 6
A15: FIRMINO | B15: 6.5 | C15: MANE | D15: 6.5 | F15: william | J15: LUKAKU | K15: 10 | L15: AUBEMEYANG | M15: 6
A16: LUIZ ADRIANO | B16: 6 | C16: DIAKHABY | D16: 5.5 | F16: silva | J16: DZEKO | K16: 6 | L16: RUSHFORD | M16: 10
A17: FATTORE CAMPO | B17: 1 | F17: kurzawa | J17: FATTORE CAMPO | K17: 1
B18: =SUM(B6:B17) -> 75 | D18: =SUM(D6:D17) -> 64 | F18: bale | K18: =SUM(K6:K17) -> 80 | M18: =SUM(M6:M17) -> 66
A19: PANCHINA | C19: PANCHINA | F19: rabiot | J19: PANCHINA | L19: PANCHINA
A20: MANCHESTER CITY | B20: =B6 -> 6 | C20: NAPOLI | D20: =D6 -> 3 | F20: neymar | J20: PSG | K20: =K6 -> 7 | L20: =L6 -> JUVENTUS | M20: =M6 -> 3
A21: VALENCIA | B21: sv | C21: HISAY | D21: 5 | F21: escudero | J21: VERTONGHEN | K21: 5.5 | L21: JUANFRAN | M21: 5.5
A22: JORGE | B22: 6 | C22: ZAGADOU | D22: sv | F22: muriel | J22: LUSTIG | K22: 4.5 | L22: TOSIC | M22: 4
A23: M.FERNANDES | B23: 6 | C23: DIKS | D23: sv | J23: VAN DER HEYDEN | K23: 5 | L23: BARZAGLI | M23: 4.5
A24: STERLING | B24: 6 | C24: DAHOUD | D24: 5 | J24: MARLOS | K24: 6.5 | L24: DENIS SUAREZ | M24: sv
A25: BERNARD | B25: 6.5 | C25: PAULINHO | D25: sv | J25: FORTUNIS | K25: sv | L25: PASTORE | M25: sv
A26: GABI | B26: 6.5 | C26: GANSO | D26: sv | J26: BANEGA | K26: 6 | L26: PIZARRO | M26: 5.5
A27: GRIFFITHS | B27: 5 | C27: NEGREDO | D27: 7 | J27: CERVI | K27: sv | L27: TORRES | M27: sv
A28: TEODORCZYK | B28: 5.5 | C28: MAREGA | D28: 6 | J28: YARMOLENKO | K28: 9.5 | L28: NDOLOVU | M28: 5.5
A29: SCHURRLE | B29: sv | C29: BEN YEDDER | D29: 9.5 | J29: BEN | K29: sv | L29: IBRAHIMOVIC | M29: sv
A33: GIRONE B
A35: =+TABELLONE!J28 -> UNAJUNGLACAZO FC | B35: =IF(B48<66,0,IF(B48<70,1,IF(B48<74,2,IF(B48<78,3,IF(B48<82,4,IF(B48<86,5,IF(B48<90,6,IF(B48<94,7,IF(B48<98,8,IF(B48<101,9,10)))))))))) -> 3 | C35: =TABELLONE!K28 -> EVRIBADI | D35: =IF(D48<66,0,IF(D48<70,1,IF(D48<74,2,IF(D48<78,3,IF(D48<82,4,IF(D48<86,5,IF(D48<90,6,IF(D48<94,7,IF(D48<98,8,IF(D48<101,9,10)))))))))) -> 2 | J35: =TABELLONE!J29 -> CS RIPOSA | K35: =IF(K48<66,0,IF(K48<70,1,IF(K48<74,2,IF(K48<78,3,IF(K48<82,4,IF(K48<86,5,IF(K48<90,6,IF(K48<94,7,IF(K48<98,8,IF(K48<101,9,10)))))))))) -> 4 | L35: =TABELLONE!K29 -> AC CONTE | M35: =IF(M48<66,0,IF(M48<70,1,IF(M48<74,2,IF(M48<78,3,IF(M48<82,4,IF(M48<86,5,IF(M48<90,6,IF(M48<94,7,IF(M48<98,8,IF(M48<101,9,10)))))))))) -> 3
A36: REAL MADRID | B36: 6 | C36: MONACO | D36: 6 | J36: BAYERN MONACO | K36: 6 | L36: ATLETICO MADRID | M36: 6.5
A37: OTAMENDI | B37: 6 | C37: GODIN | D37: 6.5 | J37: GIMENEZ | K37: 5 | L37: DANI ALVES | M37: 6.5
A38: TELLES | B38: 5.5 | C38: PEPE | D38: 6 | J38: SIDIBE | K38: 4.5 | L38: CARVAHAL | M38: 6
A39: RUDIGER | B39: 6.5 | C39: ORBAN | D39: 6.5 | J39: DARMIAN | K39: 6 | L39: MENDY | M39: 7
A40: VAZQUEZ | B40: 5.5 | C40: AURIER | D40: 6 | J40: CARRASCO | K40: 6.5 | L40: RICARDO PEREIRA | M40: 5
A41: KOKE | B41: 7 | C41: ISCO | D41: 6 | J41: D.COSTA | K41: 5 | L41: ASENSIO | M41: 6.5
A42: MOUTINHO | B42: 5 | C42: INIESTA | D42: 7.5 | J42: RAKITIC | K42: 10.5 | L42: BRUNO FERNANDES | M42: 9.5
A43: PEDRO | B43: 10 | C43: WILLIAN | D43: 8 | J43: FERNANDINHO | K43: 6.5 | L43: PROMES | M43: 6.5
A44: NOLITO | B44: 5 | C44: NEYMAR | D44: 10.5 | J44: MESSI | K44: 14.5 | L44: TOLISSO | M44: 6.5
A45: CORONA | B45: 4.5 | C45: ABOUBAKAR | D45: 9.5 | J45: GOTZE | K45: 6 | L45: LEWANDOWSKI | M45: 10.5
A46: CRISTIANO RONALDO | B46: 13 | C46: GAMEIRO | D46: 0 | J46: SEFEROVIC | K46: 9 | L46: RAUL JIMENEZ | M46: 5
A47: FATTORE CAMPO | B47: 1 | J47: FATTORE CAMPO | K47: 1
B48: =SUM(B36:B47) -> 75 | D48: =SUM(D36:D47) -> 72.5 | K48: =SUM(K36:K47) -> 80.5 | M48: =SUM(M36:M47) -> 75.5
A49: PANCHINA | C49: PANCHINA | J49: PANCHINA | L49: PANCHINA
A50: =A36 -> REAL MADRID | B50: =B36 -> 6 | C50: MONACO | D50: =D36 -> 6 | J50: =J36 -> BAYERN MONACO | K50: =K36 -> 6 | L50: ATLETICO MADRID | M50: =M36 -> 6.5
A51: BOCCHETTI | B51: 6.5 | C51: CHIELLINI | D51: sv | J51: B. PERES | K51: 5 | L51: SULE | M51: 6
A52: FELIPE | B52: 5 | C52: ERKIN | D52: 5.5 | J52: RUGANI | K52: sv | L52: LISANDRO LOPEZ | M52: 5.5
A53: UPAMECANO | B53: 6.5 | C53: TOPRAK | D53: 5.5 | J53: SMALLING | K53: 6 | L53: SEMEDO | M53: 6
A54: MARIN | B54: 5.5 | C54: DRAXLER | D54: 6.5 | J54: KRHON-DELI | K54: sv | L54: ANANIDZE | M54: sv
A55: SERGI ROBERTO | B55: sv | C55: CEBALLOS | D55: 6 | J55: RODE | K55: sv | L55: OLIVER TORRES | M55: 6.5
A56: FRED | B56: 7 | C56: FELLAINI | D56: 10.5 | J56: MARCHISIO | K56: sv | L56: DI MARIA | M56: sv
A57: BOETIUS | B57: 5 | C57: ALAN RUIZ | D57: sv | J57: VITINHO | K57: 9.5 | L57: EMENIKE | M57: 5.5
A58: TOSUN | B58: 9 | C58: BABEL | D58: 9.5 | J58: BRUNO | K58: sv | L58: KEITA BALDE | M58: 6
A59: DEMBELE | B59: sv | C59: KRAMARIC | D59: sv | J59: PHILIPP | K59: sv | L59: CHIPCIU | M59: 6.5
A61: GIRONE C
A63: =+TABELLONE!J54 -> IBRADIPOSI | B63: =IF(B76<66,0,IF(B76<70,1,IF(B76<74,2,IF(B76<78,3,IF(B76<82,4,IF(B76<86,5,IF(B76<90,6,IF(B76<94,7,IF(B76<98,8,IF(B76<101,9,10)))))))))) -> 3 | C63: =TABELLONE!K54 -> SCARSENAL | D63: =IF(D76<66,0,IF(D76<70,1,IF(D76<74,2,IF(D76<78,3,IF(D76<82,4,IF(D76<86,5,IF(D76<90,6,IF(D76<94,7,IF(D76<98,8,IF(D76<101,9,10)))))))))) -> 3 | J63: =TABELLONE!J55 -> MARCELLONA | K63: =IF(K76<66,0,IF(K76<70,1,IF(K76<74,2,IF(K76<78,3,IF(K76<82,4,IF(K76<86,5,IF(K76<90,6,IF(K76<94,7,IF(K76<98,8,IF(K76<101,9,10)))))))))) -> 2 | L63: =TABELLONE!K55 -> AC DENTI | M63: =IF(M76<66,0,IF(M76<70,1,IF(M76<74,2,IF(M76<78,3,IF(M76<82,4,IF(M76<86,5,IF(M76<90,6,IF(M76<94,7,IF(M76<98,8,IF(M76<101,9,10)))))))))) -> 3
A64: TOTTENHAM | B64: 5 | C64: MAN UTD | D64: 6 | J64: CHELSEA | K64: 6 | L64: PORTO | M64: 1.5
A65: RAMOS | B65: 10 | C65: MANOLAS | D65: 6.5 | J65: ALEX SANDRO | K65: 5 | L65: SAVIC | M65: 6.5
A66: ALONSO | B66: 7 | C66: MATHIEU | D66: 6.5 | J66: ALBIOL | K66: 5 | L66: UMTITI | M66: 6.5
A67: DANILO | C67: PIQUE | D67: 7 | J67: GHOULAM | K67: 5 | L67: LOVREN | M67: 5.5
A68: THIAGO SILVA | B68: 8 | C68: HAZARD | D68: 6.5 | J68: MODRIC | K68: 7 | L68: THIAGO ALCANTARA | M68: 10
A69: RODRIGUES | B69: 6.5 | C69: PEROTTI | D69: 6.5 | J69: DAVID SILVA | K69: 7 | L69: FABREGAS | M69: 8
A70: DE ROSSI | B70: 6 | C70: VERRATTI | D70: 7 | J70: RABIOT | K70: 8.5 | L70: HAMSIK | M70: 4.5
A71: FERNANDO | B71: 6.5 | C71: ZIELINSKI | D71: 5.5 | J71: SANE | K71: 5.5 | L71: SINCLAIR | M71: 6
A72: SUAREZ | B72: 8 | C72: FERREYRA | D72: 10 | J72: MBAPPE | K72: 10 | L72: CAVANI | M72: 13
A73: KANE | B73: 14 | C73: SALAH | D73: 10 | J73: INSIGNE | K73: 4.5 | L73: GABRIEL JESUS | M73: 9.5
A74: JOVETIC | B74: 4 | C74: MULLER | D74: 6 | J74: MILIK | K74: 9 | L74: VIETTO | M74: 5
A75: FATTORE CAMPO | B75: 1 | J75: FATTORE CAMPO | K75: 1
B76: =SUM(B64:B75) -> 76 | D76: =SUM(D64:D75) -> 77.5 | K76: =SUM(K64:K75) -> 73.5 | M76: =SUM(M64:M75) -> 76
A77: PANCHINA | C77: PANCHINA | J77: PANCHINA | L77: PANCHINA
A78: =A64 -> TOTTENHAM | B78: =B64 -> 5 | C78: MAN UTD | D78: =D64 -> 6 | J78: CHELSEA | K78: =K64 -> 6 | L78: PORTO | M78: =M64 -> 1.5
A79: BARTRA | B79: sv | C79: JUAN JESUS | D79: 6 | J79: BOATENG | K79: 6.5 | L79: STONES | M79: 14
A80: MASCHERANO | B80: sv | C80: KONATE | D80: sv | J80: DAVIES | K80: 6 | L80: SOCRATIS | M80: 5.5
A81: COMMPER | B81: sv | C81: BERNAT | D81: sv | J81: TRIPPIER | K81: sv | L81: ESCUDERO | M81: 8
A82: NZONZI | B82: 6 | C82: STROOTMAN | D82: 5.5 | J82: KEITA NABY | K82: sv | L82: SABITZER | M82: 6
A83: GUERREIRO | B83: sv | C83: JORGINHO | D83: sv | J83: PIZZI | K83: 5.5 | L83: XHAKA | M83: 5.5
A84: PASALIC | B84: 6 | C84: VAZQUEZ | D84: sv | J84: CHAMBERLAIN | K84: sv | L84: PARDO | M84: 12.5
A85: SHICK | B85: sv | C85: BERGHUIS | D85: 5 | J85: DEFREL | K85: 5 | L85: SON | M85: 10
A86: CARRILLO | B86: sv | C86: ALCACER | D86: sv | J86: EL SHARAAWY | K86: sv | L86: DE CAMARGO | M86: 4.5
A87: KRAMER | B87: 4 | C87: GABIGOL | D87: 5.5 | J87: MANDZUKIC | K87: sv | L87: LLORENTE | M87: sv
A89: GIRONE D
A91: =TABELLONE!J80 -> CICCIOBUCCIO | B91: =IF(B104<66,0,IF(B104<70,1,IF(B104<74,2,IF(B104<78,3,IF(B104<82,4,IF(B104<86,5,IF(B104<90,6,IF(B104<94,7,IF(B104<98,8,IF(B104<101,9,10)))))))))) -> 1 | C91: =TABELLONE!K80 -> FLYBEARD | D91: =IF(D104<66,0,IF(D104<70,1,IF(D104<74,2,IF(D104<78,3,IF(D104<82,4,IF(D104<86,5,IF(D104<90,6,IF(D104<94,7,IF(D104<98,8,IF(D104<101,9,10)))))))))) -> 1 | J91: =TABELLONE!J81 -> INTERFOGAT | K91: =IF(K104<66,0,IF(K104<70,1,IF(K104<74,2,IF(K104<78,3,IF(K104<82,4,IF(K104<86,5,IF(K104<90,6,IF(K104<94,7,IF(K104<98,8,IF(K104<101,9,10)))))))))) -> 0 | L91: =TABELLONE!K81 -> CSKA SCINA | M91: =IF(M104<66,0,IF(M104<70,1,IF(M104<74,2,IF(M104<78,3,IF(M104<82,4,IF(M104<86,5,IF(M104<90,6,IF(M104<94,7,IF(M104<98,8,IF(M104<101,9,10)))))))))) -> 2
A92: ROMA | B92: 8.5 | C92: BENFICA | D92: 4 | J92: BARCELLONA | K92: 7 | L92: LIVERPOOL | M92: 4
A93: KURZAWA | B93: 7.5 | C93: RAFINHA | D93: 6 | J93: KOULIBALY | K93: 5 | L93: AZPILICUETA | M93: 9.5
A94: NACHO FERNANDEZ | B94: 6 | C94: GRIMALDO | D94: 6 | J94: MARCANO | K94: 5.5 | L94: A.ALMEIDA | M94: 4.5
A95: RUDY | B95: 6 | C95: WALKER | D95: 8.5 | J95: JEMERSON | K95: 4.5 | L95: HUMMELS | M95: 6.5
A96: POGBA | B96: 6 | C96: KROOS | D96: 7 | J96: BERNARDO SILVA | K96: 7 | L96: DE BRUYNE | M96: 8.5
A97: CASEMIRO | B97: 6 | C97: BRAHIMI | D97: 6.5 | J97: JESUS NAVAS | K97: 6.5 | L97: FABINHO | M97: 5
A98: MATIC | B98: 6.5 | C98: EMRE CAN | D98: 6 | J98: NAINGGOLAN | K98: 6 | L98: FORSBERG | M98: 10
A99: KANTE | B99: 6.5 | C99: RIBERY | D99: 5.5 | J99: THIAGO MOTTA | K99: 6.5 | L99: WJINALDUM | M99: 5.5
A100: SISSOKO | C100: MORATA | D100: 6 | J100: BENZEMA | K100: 5 | L100: BALE | M100: 7.5
A101: DYBALA | B101: 5.5 | C101: HIGUAIN | D101: 4 | J101: FALCAO | K101: 5 | L101: GRIEZMANN | M101: 5.5
A102: WERNER | B102: 6.5 | C102: CORREA | D102: 7 | J102: DEMBELE | K102: 6.5 | L102: DOST | M102: 6
A103: FATTORE CAMPO | B103: 1 | J103: FATTORE CAMPO | K103: 1
B104: =SUM(B92:B103) -> 66 | D104: =SUM(D92:D103) -> 66.5 | K104: =SUM(K92:K103) -> 65.5 | M104: =SUM(M92:M103) -> 72.5
A105: PANCHINA | C105: PANCHINA | J105: PANCHINA | L105: PANCHINA
A106: =A92 -> ROMA | B106: =B92 -> 8.5 | C106: BENFICA | D106: =D92 -> 4 | J106: =J92 -> BARCELLONA | K106: =K92 -> 7 | L106: LIVERPOOL | M106: =M92 -> 4
A107: LENGLET | B107: sv | C107: FELIPE LUIS | D107: 7 | J107: HOWEDES | K107: sv | L107: LINDELOF | M107: 6.5
A108: THEO HERNANDEZ | B108: sv | C108: VARANE | D108: sv | J108: MERCADO | K108: 6 | L108: ALDERWEILD | M108: 7
A109: FAZIO | B109: 6 | C109: PISZCEK | D109: 5 | J109: DE SCIGLIO | K109: 5.5 | L109: LANG | M109: 4.5
A110: LINGARD | B110: 6 | C110: TIELEMANS | D110: 8.5 | J110: BERNARDESCHI | K110: 5 | L110: VILHENA | M110: 3.5
...

Sheet 2° GIORNATA
A1: 2° GIORNATA
A3: GIRONE A
A5: =TABELLONE!J6 -> SKIACCIAK MOSCA | B5: =IF(B18<66,0,IF(B18<70,1,IF(B18<74,2,IF(B18<78,3,IF(B18<82,4,IF(B18<86,5,IF(B18<90,6,IF(B18<94,7,IF(B18<98,8,IF(B18<101,9,10)))))))))) -> 2 | C5: =TABELLONE!K6 -> BRIGATA GURREN | D5: =IF(D18<66,0,IF(D18<70,1,IF(D18<74,2,IF(D18<78,3,IF(D18<82,4,IF(D18<86,5,IF(D18<90,6,IF(D18<94,7,IF(D18<98,8,IF(D18<101,9,10)))))))))) -> 5 | J5: =TABELLONE!J7 -> SOLOPISA 1909 | K5: =IF(K18<66,0,IF(K18<70,1,IF(K18<74,2,IF(K18<78,3,IF(K18<82,4,IF(K18<86,5,IF(K18<90,6,IF(K18<94,7,IF(K18<98,8,IF(K18<101,9,10)))))))))) -> 2 | L5: =TABELLONE!K7 -> MC TOWN | M5: =IF(M18<66,0,IF(M18<70,1,IF(M18<74,2,IF(M18<78,3,IF(M18<82,4,IF(M18<86,5,IF(M18<90,6,IF(M18<94,7,IF(M18<98,8,IF(M18<101,9,10)))))))))) -> 1
A6: NAPOLI | B6: 9 | C6: PSG | D6: 6.5 | J6: JUVENTUS | K6: 6 | L6: MANCHESTER CITY | M6: 6
A7: HYSAJ | B7: 6 | C7: KOLAROV | D7: 6.5 | J7: DAVID LUIZ | K7: 4.5 | L7: JORDI ALBA | M7: 5.5
A8: ELISEU | B8: 4.5 | C8: MARQUINHOS | D8: 6.5 | F8: Assist | J8: BARZAGLI | K8: 6.5 | L8: MATIP | M8: 6
A9: KJAER | B9: 0 | C9: ALBERTO MORENO | D9: 6 | F9: Quaresma | J9: TOSIC | K9: 7 | L9: VALENCIA | M9: 6
A10: PJANIC | B10: 5 | C10: SAUL NIGUEZ | D10: 5.5 | F10: Tosun | J10: MATA | K10: 0 | L10: ROBBEN | M10: 5.5
A11: MKHITARYAN | B11: 10 | C11: ERIKSEN | D11: 4.5 | F11: Castro | J11: BUSQUETS | K11: 6.5 | L11: LEMAR | M11: 5
A12: GANSO | B12: 5.5 | C12: QUARESMA | D12: 8 | F12: Mane | J12: CASTRO | K12: 7 | L12: STERLING | M12: 9.5
A13: FLORENZI | B13: 6.5 | C13: BANEGA | D13: 7 | F13: Martial x2 | J13: HENDERSON | K13: 6 | L13: SALVIO | M13: 5.5
A14: BEN YEDDER | B14: 17 | C14: CALLEJON | D14: 10 | F14: Mertens | J14: AUBAMEYANG | K14: 10 | L14: AGUERO | M14: 2.5
A15: MANE | B15: 7.5 | C15: LUKAKU | D15: 13.5 | F15: Marega x2 | J15: MERTENS | K15: 11 | L15: FIRMINO | M15: 6
A16: NEGREDO | B16: 0 | C16: DZEKO | D16: 10 | F16: Neymar | J16: RASHFORD | K16: 6 | L16: GRIFFITHS | M16: 10
A17: FATTORE CAMPO | B17: 1 | F17: Mbappe | J17: FATTORE CAMPO | K17: 1
B18: =SUM(B6:B17) -> 72 | D18: =SUM(D6:D17) -> 84 | F18: Carvahal | K18: =SUM(K6:K17) -> 71.5 | M18: =SUM(M6:M17) -> 67.5
A19: PANCHINA | C19: PANCHINA | F19: Modric | J19: PANCHINA | L19: PANCHINA
A20: NAPOLI | B20: 6 | C20: PSG | D20: 6.5 | F20: Bale | J20: JUVENTUS | K20: 6 | L20: MANCHESTER CITY | M20: 6
A21: RAGGI | B21: sv | C21: LUISAO | D21: 5 | F21: Vazquez F. | J21: JUANFRAN | K21: 5 | L21: CAHILL | M21: 6
A22: ZAPPACOSTA | B22: sv | C22: VERTONGHEN | D22: sv | F22: Alderweireld | J22: MILIC | K22: sv | L22: JORGE | M22: 5
A23: DIKS | B23: 4.5 | C23: LUSTIG | D23: 6.5 | F23: Sissoko | J23: KLAVAN | K23: sv | L23: MARIO FERNANDES | M23: 5
A24: PAULINHO | B24: sv | C24: KIMMICH | D24: 4.5 | F24: El Shaarawy | J24: DENIS SUAREZ | K24: sv | L24: LOPES | M24: 6
A25: DZAGOEV | B25: 5 | C25: MARLOS | D25: 6.5 | J25: PIZARRO | K25: sv | L25: GELSON MARTINS | M25: 6.5
A26: SAHIN | B26: 5.5 | C26: ACUNA | D26: 5 | J26: PASTORE | K26: sv | L26: GABI | M26: sv
A27: JONAS | B27: 5.5 | C27: YARMOLENKO | D27: 6.5 | J27: TORRES | K27: 5.5 | L27: TEODORCZYK | M27: 4.5
A28: DIAKHABY | B28: 4.5 | C28: CERVI | D28: 6 | J28: NDLOVU | K28: 6.5 | L28: LUIZ ADRIANO | M28: 5.5
A29: MAREGA | B29: 9 | C29: EL FARDOU BEN | D29: 5 | J29: IBRAHIMOVIC | K29: sv | L29: SCHURRLE | M29: sv
A33: GIRONE B
A35: =TABELLONE!J32 -> AC CONTE | B35: =IF(B48<66,0,IF(B48<70,1,IF(B48<74,2,IF(B48<78,3,IF(B48<82,4,IF(B48<86,5,IF(B48<90,6,IF(B48<94,7,IF(B48<98,8,IF(B48<101,9,10)))))))))) -> 2 | C35: =TABELLONE!K32 -> UNAJUNGLACAZO FC | D35: =IF(D48<66,0,IF(D48<70,1,IF(D48<74,2,IF(D48<78,3,IF(D48<82,4,IF(D48<86,5,IF(D48<90,6,IF(D48<94,7,IF(D48<98,8,IF(D48<101,9,10)))))))))) -> 2 | J35: =TABELLONE!J33 -> EVRIBADI | K35: =IF(K48<66,0,IF(K48<70,1,IF(K48<74,2,IF(K48<78,3,IF(K48<82,4,IF(K48<86,5,IF(K48<90,6,IF(K48<94,7,IF(K48<98,8,IF(K48<101,9,10)))))))))) -> 5 | L35: =TABELLONE!K33 -> CS RIPOSA | M35: =IF(M48<66,0,IF(M48<70,1,IF(M48<74,2,IF(M48<78,3,IF(M48<82,4,IF(M48<86,5,IF(M48<90,6,IF(M48<94,7,IF(M48<98,8,IF(M48<101,9,10)))))))))) -> 0
A36: ATLETICO MADRID | B36: 4 | C36: REAL MADRID | D36: 4.5 | J36: MONACO | K36: 4 | L36: BAYERN MONACO | M36: 2
A37: DANI ALVES | B37: 10 | C37: OTAMENDI | D37: 6 | J37: GODIN | K37: 5.5 | L37: BLIND | M37: 6.5
A38: CARVAHAL | B38: 7.5 | C38: TELLES | D38: 6 | J38: CHIELLINI | K38: 6.5 | L38: SIDIBE | M38: 4.5
A39: SEMEDO | B39: 5.5 | C39: RUDIGER | D39: 5.5 | J39: AURIER | K39: 5 | L39: SCHENNIKOV | M39: 5
A40: MENDY | B40: 7 | C40: UPAMECANO | D40: 4.5 | J40: PEPE | K40: 7 | L40: CARRASCO | M40: 5.5
A41: ASENSIO | B41: 6 | C41: KOKE | D41: 6 | J41: ISCO | K41: 6.5 | L41: RAKITIC | M41: 6
A42: COUTINHO | B42: 10 | C42: PEDRO | D42: 6 | J42: CEBALLOS | K42: 5.5 | L42: FERNANDINHO | M42: 7
A43: PROMES | B43: 5.5 | C43: JOAO MOUTINHO | D43: 5 | J43: INIESTA | K43: 6 | L43: CUADRADO | M43: 5.5
A44: TOLISSO | B44: 5 | C44: SERGI ROBERTO | D44: 6 | J44: NEYMAR | K44: 11.5 | L44: MESSI | M44: 6
A45: LEWANDOWSKI | B45: 5 | C45: CRISTIANO RONALDO | D45: 14 | J45: ABOUBAKAR | K45: 13 | L45: GOTZE | M45: 6
A46: CHIPCIU | B46: 4.5 | C46: TOSUN | D46: 8 | J46: BABEL | K46: 11 | L46: SEFEROVIC | M46: 6
A47: FATTORE CAMPO | B47: 1 | J47: FATTORE CAMPO | K47: 1
B48: =SUM(B36:B47) -> 71 | D48: =SUM(D36:D47) -> 71.5 | K48: =SUM(K36:K47) -> 82.5 | M48: =SUM(M36:M47) -> 60
A49: PANCHINA | C49: PANCHINA | J49: PANCHINA | L49: PANCHINA
A50: ATLETICO MADRID | B50: 4 | C50: REAL MADRID | D50: 4.5 | J50: MONACO | K50: 4 | L50: BAYERN MONACO | M50: 2
A51: ADRIANO | B51: sv | C51: VIDAL | D51: sv | J51: ERKIN | K51: 5.5 | L51: GIMENEZ | M51: 5.5
A52: RICARDO PEREIRA | B52: 7 | C52: BOCCHETTI | D52: 5.5 | J52: TOPRAK | K52: 4.5 | L52: BRUNO PERES | M52: 5.5
A53: SULE | B53: 4.5 | C53: FELIPE | D53: 7 | J53: ORBAN | K53: 4 | L53: DARMIAN | M53: 6
A54: OLIVER TORRES | B54: sv | C54: VAZQUEZ L. | D54: sv | J54: FELLAINI | K54: sv | L54: DOUGLAS COSTA | M54: 6.5
A55: BRUNO FERNANDES | B55: 5.5 | C55: FRED | D55: 6 | J55: WILLIAN | K55: 5.5 | L55: MARCHISIO | M55: sv
A56: ANANIDZE | B56: sv | C56: MARIN | D56: sv | J56: WEIGL | K56: 5 | L56: KRONH-DELI | M56: sv
A57: RAUL JIMENEZ | B57: 6 | C57: CORONA | D57: sv | J57: GAMERIO | K57: sv | L57: VITINHO | M57: 4.5
A58: KEITA BALDE | B58: 6 | C58: BOETIUS | D58: 5 | J58: ALAN RUIZ | K58: sv | L58: PHILIPP | M58: 5.5
A59: EMENIKE | B59: 5.5 | C59: DEMBELE | D59: sv | J59: KRAMARIC | K59: 6 | L59: BRUNO | M59: sv
A61: GIRONE C
A63: =TABELLONE!J58 -> AC DENTI | B63: =IF(B76<66,0,IF(B76<70,1,IF(B76<74,2,IF(B76<78,3,IF(B76<82,4,IF(B76<86,5,IF(B76<90,6,IF(B76<94,7,IF(B76<98,8,IF(B76<101,9,10)))))))))) -> 2 | C63: =TABELLONE!K58 -> IBRADIPOSI | D63: =IF(D76<66,0,IF(D76<70,1,IF(D76<74,2,IF(D76<78,3,IF(D76<82,4,IF(D76<86,5,IF(D76<90,6,IF(D76<94,7,IF(D76<98,8,IF(D76<101,9,10)))))))))) -> 5 | J63: =TABELLONE!J59 -> SCARSENAL | K63: =IF(K76<66,0,IF(K76<70,1,IF(K76<74,2,IF(K76<78,3,IF(K76<82,4,IF(K76<86,5,IF(K76<90,6,IF(K76<94,7,IF(K76<98,8,IF(K76<101,9,10)))))))))) -> 2 | L63: =TABELLONE!K59 -> MARCELLONA | M63: =IF(M76<66,0,IF(M76<70,1,IF(M76<74,2,IF(M76<78,3,IF(M76<82,4,IF(M76<86,5,IF(M76<90,6,IF(M76<94,7,IF(M76<98,8,IF(M76<101,9,10)))))))))) -> 3
A64: PORTO | B64: 5.5 | C64: TOTTENHAM | D64: 6.5 | J64: MAN UTD | K64: 5 | L64: CHELSEA | M64: 5
A65: STONES | B65: 6 | C65: SERGIO RAMOS | D65: 6 | J65: PIQUE | K65: 6 | L65: ALEX SANDRO | M65: 6.5
A66: UMTITI | B66: 6 | C66: MARCOS ALONSO | D66: 7 | J66: MANOLAS | K66: 9.5 | L66: ALBIOL | M66: 6
A67: ESCUDERO | B67: 6 | C67: THIAGO SILVA | D67: 7 | J67: JUAN JESUS | K67: 5 | L67: GHOULAM | M67: 6
A68: THIAGO ALCANTARA | B68: 4.5 | C68: JAMES RODRIGUEZ | D68: 5 | J68: PEROTTI | K68: 6 | L68: SANE | M68: 7
A69: FABREGAS | B69: 5.5 | C69: NZONZI | D69: 6.5 | J69: VERRATTI | K69: 6 | L69: MODRIC | M69: 7.5
A70: HAMSIK | B70: 6 | C70: DE ROSSI | D70: 6 | J70: VAZQUEZ | K70: 8 | L70: SILVA D. | M70: 6.5
A71: SINCLAIR | B71: 10 | C71: FERNANDO | D71: 10 | J71: JORGINHO | K71: 6 | L71: RABIOT | M71: 7
A72: CAVANI | B72: 10.5 | C72: JOVETIC | D72: 5 | J72: HAZARD | K72: 7.5 | L72: MBAPPE | M72: 9
A73: GABRIEL JESUS | B73: 5 | C73: KANE | D73: 18 | J73: SALAH | K73: 6.5 | L73: INSIGNE | M73: 10
A74: SON | B74: 6.5 | C74: SUAREZ | D74: 6 | J74: FERREYRA | K74: 5 | L74: EL SHAARAWY | M74: 7
A75: FATTORE CAMPO | B75: 1 | J75: FATTORE CAMPO | K75: 1
B76: =SUM(B64:B75) -> 72.5 | D76: =SUM(D64:D75) -> 83 | K76: =SUM(K64:K75) -> 71.5 | M76: =SUM(M64:M75) -> 77.5
A77: PANCHINA | C77: PANCHINA | J77: PANCHINA | L77: PANCHINA
A78: PORTO | B78: 5.5 | C78: TOTTENHAM | D78: 6.5 | J78: MAN UTD | K78: 5 | L78: CHELSEA | M78: 5
A79: JONES | B79: sv | C79: MASCHERANO | D79: sv | J79: MATHIEU | K79: 7 | L79: DAVIES | M79: 6
A80: SOKRATIS | B80: 5.5 | C80: DANILO | D80: sv | J80: KONATE | K80: sv | L80: PAREJA | M80: 7
A81: LOVREN | B81: 6.5 | C81: BARTRA | D81: sv | J81: BOTTEGHIN | K81: sv | L81: BOATENG | M81: sv
A82: SABITZER | B82: 6 | C82: GUERREIRO | D82: sv | J82: STROOTMAN | K82: sv | L82: CHAMBERLAIN | M82: sv
A83: PARDO | B83: 5.5 | C83: PASALIC | D83: 6.5 | J83: ZIELINSKI | K83: 6 | L83: KEITA N. | M83: 6
A84: XHAKA | B84: 6 | C84: TOURE’ | D84: sv | J84: LUCAS | K84: sv | L84: PIZZI | M84: 5.5
A85: VIETTO | B85: sv | C85: CARRILLO | D85: 5 | J85: BERGHUIS | K85: 5.5 | L85: MANDZUKIC | M85: 9.5
A86: DE CAMARGO | B86: 6.5 | C86: KRAMER | D86: sv | J86: MULLER | K86: 5 | L86: DEFREL | M86: 5.5
A87: LLORENTE | B87: 6 | J87: ALCACER | K87: sv | L87: MILIK | M87: sv
A89: GIRONE D
A91: =TABELLONE!J84 -> FLYBEARD | B91: =IF(B104<66,0,IF(B104<70,1,IF(B104<74,2,IF(B104<78,3,IF(B104<82,4,IF(B104<86,5,IF(B104<90,6,IF(B104<94,7,IF(B104<98,8,IF(B104<101,9,10)))))))))) -> 1 | C91: =TABELLONE!K84 -> INTERFOGAT | D91: =IF(D104<66,0,IF(D104<70,1,IF(D104<74,2,IF(D104<78,3,IF(D104<82,4,IF(D104<86,5,IF(D104<90,6,IF(D104<94,7,IF(D104<98,8,IF(D104<101,9,10)))))))))) -> 1 | J91: =TABELLONE!J85 -> CSKA SCINA | K91: =IF(K104<66,0,IF(K104<70,1,IF(K104<74,2,IF(K104<78,3,IF(K104<82,4,IF(K104<86,5,IF(K104<90,6,IF(K104<94,7,IF(K104<98,8,IF(K104<101,9,10)))))))))) -> 3 | L91: =TABELLONE!K85 -> CICCIOBUCCIO | M91: =IF(M104<66,0,IF(M104<70,1,IF(M104<74,2,IF(M104<78,3,IF(M104<82,4,IF(M104<86,5,IF(M104<90,6,IF(M104<94,7,IF(M104<98,8,IF(M104<101,9,10)))))))))) -> 2
A92: BENFICA | B92: 0 | C92: BARCELLONA | D92: 6.5 | J92: LIVERPOOL | K92: 4.5 | L92: ROMA | M92: 5
A93: BENATIA | B93: 4 | C93: KOULIBALY | D93: 5.5 | J93: ALDERWEILD | K93: 7 | L93: KURZAWA | M93: 6
A94: WALKER | B94: 6 | C94: MERCADO | D94: 5 | J94: A.ALMEIDA | K94: 3.5 | L94: NACHO | M94: 6.5
A95: GRIMALDO | B95: 5 | C95: BAILLY | D95: 6.5 | J95: AZPILICUETA | K95: 7 | L95: LENGLET | M95: 6.5
A96: TALISCA | B96: 10 | C96: JESUS NAVAS | D96: 6.5 | J96: FABINHO | K96: 4.5 | L96: FAZIO | M96: 4.5
A97: TIELEMANS | B97: 7 | C97: NAINGGOLAN | D97: 5.5 | J97: DE BRUYNE | K97: 10 | L97: MATIC | M97: 6.5
A98: EMRE CAN | B98: 5 | C98: MATUIDI | D98: 6 | J98: FORSBERG | K98: 5 | L98: KANTE | M98: 7
A99: VIDAL | B99: 4.5 | C99: DELOUFEU | D99: 6 | J99: WIJNALDUM | K99: 6 | L99: CASEMIRO | M99: 7
A100: HIGUAIN | B100: 10 | C100: BERNARDESCHI | D100: 6 | J100: GRIEZMANN | K100: 8.5 | L100: DYBALA | M100: 6
A101: CORREA (atl) | B101: 5 | C101: FALCAO | D101: 5 | J101: BALE | K101: 11.5 | L101: WERNER | M101: 5.5
A102: MORATA | B102: 10 | C102: VAN WOLFSWINKEL | D102: 9.5 | J102: MURIEL | K102: 6.5 | L102: MARTIAL | M102: 12.5
A103: FATTORE CAMPO | B103: 1 | J103: FATTORE CAMPO | K103: 1
B104: =SUM(B92:B103) -> 67.5 | D104: =SUM(D92:D103) -> 68 | K104: =SUM(K92:K103) -> 75 | M104: =SUM(M92:M103) -> 73
A105: PANCHINA | C105: PANCHINA | J105: PANCHINA | L105: PANCHINA
A106: BENFICA | B106: 0 | C106: BARCELLONA | D106: 6.5 | J106: LIVERPOOL | K106: 4.5 | L106: ROMA | M106: 5
A107: ALABA | B107: 4 | C107: JEMERSON | D107: 5 | J107: HUMMELS | K107: sv | L107: HERNANDEZ | M107: sv
A108: VARANE | B108: 7 | C108: MAXI PEREIRA | D108: sv | J108: LANG | K108: 10 | L108: DIGNE | M108: sv
A109: RAFINHA | B109: sv | C109: MARCANO | D109: 7 | J109: LINDELOF | K109: 6.5 | L109: RUDY | M109: 4.5
A110: RIBERY | B110: sv | C110: BERNARDO SILVA | D110: sv | J110: VILHENA | K110: 5.5 | L110: SISSOKO | M110: 7.5
...

Sheet 3° GIORNATA
A1: 3° GIORNATA
A3: GIRONE A
A5: =+TABELLONE!J10 -> MC TOWN | B5: =IF(B18<66,0,IF(B18<70,1,IF(B18<74,2,IF(B18<78,3,IF(B18<82,4,IF(B18<86,5,IF(B18<90,6,IF(B18<94,7,IF(B18<98,8,IF(B18<101,9,10)))))))))) -> 8 | C5: =+TABELLONE!K10 -> BRIGATA GURREN | D5: =IF(D18<66,0,IF(D18<70,1,IF(D18<74,2,IF(D18<78,3,IF(D18<82,4,IF(D18<86,5,IF(D18<90,6,IF(D18<94,7,IF(D18<98,8,IF(D18<101,9,10)))))))))) -> 4 | J5: =+TABELLONE!J11 -> SKIACCIAK MOSCA | K5: =IF(K18<66,0,IF(K18<70,1,IF(K18<74,2,IF(K18<78,3,IF(K18<82,4,IF(K18<86,5,IF(K18<90,6,IF(K18<94,7,IF(K18<98,8,IF(K18<101,9,10)))))))))) -> 0 | L5: =+TABELLONE!K11 -> SOLOPISA 1909 | M5: =IF(M18<66,0,IF(M18<70,1,IF(M18<74,2,IF(M18<78,3,IF(M18<82,4,IF(M18<86,5,IF(M18<90,6,IF(M18<94,7,IF(M18<98,8,IF(M18<101,9,10)))))))))) -> 0
A6: MANCHESTER CITY | B6: 8.5 | C6: PSG | D6: 7.5 | J6: NAPOLI | K6: 3.5 | L6: JUVENTUS | M6: 5
A7: JORDI ALBA | B7: 6 | C7: KOLAROV | D7: 11.5 | J7: DIKS | K7: 5.5 | L7: DAVID LUIZ | M7: 9.5
A8: MATIP | B8: 6.5 | C8: MARQUINOS | D8: 6 | F8: Assist | J8: GLIK | K8: 5 | L8: BARZAGLI | M8: 6
A9: VALENCIA | B9: 5.5 | C9: ALBERTO MORENO | D9: 7.5 | F9: De Bruyne | J9: KJAER | K9: 9 | L9: MARCELO | M9: 6
A10: ROBBEN | B10: 8 | C10: SAUL NIGUEZ | D10: 5 | F10: Quaresma | J10: PJANIC | K10: 9.5 | L10: MATA | M10: 5.5
A11: LEMAR | B11: 5 | C11: QUARESMA | D11: 8 | F11: Babel | J11: MKHITARYAN | K11: 5 | L11: BUSQUETS | M11: 7
A12: STERLING | B12: 10 | C12: KIMMICH | D12: 10 | F12: Gotze | J12: SAHIN | K12: 0 | L12: CASTRO | M12: 5
A13: GELSON MARTINS | B13: 7 | C13: MARLOS | D13: 6.5 | F13: Sabitzer | J13: FLORENZI | K13: 0 | L13: HENDERSON | M13: 0
A14: BERNARD | B14: 13 | C14: CALLEJON | D14: 6 | F14: Moreno | J14: MANE | K14: 5 | L14: MERTENS | M14: 2
A15: FIRMINO | B15: 15 | C15: LUKAKU | D15: 4.5 | F15: Coutinho | J15: MAREGA | K15: 6.5 | L15: AUBAMEYANG | M15: 5
A16: LUIZ ADRIANO | B16: 9.5 | C16: YARMOLENKO | D16: 6 | F16: Firmino | J16: BEN YEDDER | K16: 6 | L16: RASHFORD | M16: 8
A17: FATTORE CAMPO | B17: 1 | F17: Salah | J17: FATTORE CAMPO | K17: 1
B18: =SUM(B6:B17) -> 95 | D18: =SUM(D6:D17) -> 78.5 | F18: Sturridge | K18: =SUM(K6:K17) -> 56 | M18: =SUM(M6:M17) -> 59
A19: PANCHINA | C19: PANCHINA | F19: Felipe | J19: PANCHINA | L19: PANCHINA
A20: MANCHESTER CITY | B20: 8.5 | C20: PSG | D20: 7.5 | F20: Fred | J20: NAPOLI | K20: 3.5 | L20: JUVENTUS | M20: 5
A21: CAHILL | B21: 6 | C21: LUISAO | D21: 4.5 | F21: Promes x2 | J21: ZAPPACOSTA | K21: 5.5 | L21: JUANFRAN | M21: sv
A22: MARIO FERNANDES | B22: 5.5 | C22: VERTONGHEN | D22: 6 | F22: Messi | J22: RAGGI | K22: sv | L22: MILIC | M22: sv
A23: JORGE | B23: sv | C23: LUSTIG | D23: 5 | F23: Coman | J23: HYSAJ | K23: 5 | L23: MEUNIER | M23: sv
A24: LOPEZ | B24: 6 | C24: ERIKSEN | D24: 7 | F24: Robben | J24: DAHOUD | K24: sv | L24: PIZARRO | M24: 5
A25: SALVIO | B25: 5 | C25: ACUNA | D25: 5.5 | F25: Pedro | J25: DZAGOEV | K25: sv | L25: DENIS SUAREZ | M25: sv
A26: GABI | B26: 5 | C26: BANEGA | D26: 5 | F26: D.Costa | J26: GANSO | K26: sv | L26: PASTORE | M26: sv
A27: AGUERO | B27: sv | C27: DZEKO | D27: 14 | F27: Verratti | J27: DIAKHABY | K27: sv | L27: TORRES | M27: sv
A28: GRIFFITHS | B28: 5 | C28: CERVI | D28: 5 | F28: Mbappe | J28: NEGREDO | K28: sv | L28: NDLOVU | M28: 5
A29: TEODORCZYK | B29: 5.5 | C29: BEN EL FARDOU | D29: sv | F29: Kolarov | J29: JONAS | K29: 5 | L29: IBRAHIMOVIC | M29: sv
A33: GIRONE B
A35: =+TABELLONE!J36 -> CS RIPOSA | B35: =IF(B48<66,0,IF(B48<70,1,IF(B48<74,2,IF(B48<78,3,IF(B48<82,4,IF(B48<86,5,IF(B48<90,6,IF(B48<94,7,IF(B48<98,8,IF(B48<101,9,10)))))))))) -> 2 | C35: =+TABELLONE!K36 -> UNAJUNGLACAZO FC | D35: =IF(D48<66,0,IF(D48<70,1,IF(D48<74,2,IF(D48<78,3,IF(D48<82,4,IF(D48<86,5,IF(D48<90,6,IF(D48<94,7,IF(D48<98,8,IF(D48<101,9,10)))))))))) -> 4 | J35: =+TABELLONE!J37 -> AC CONTE | K35: =IF(K48<66,0,IF(K48<70,1,IF(K48<74,2,IF(K48<78,3,IF(K48<82,4,IF(K48<86,5,IF(K48<90,6,IF(K48<94,7,IF(K48<98,8,IF(K48<101,9,10)))))))))) -> 4 | L35: =+TABELLONE!K37 -> EVRIBADI | M35: =IF(M48<66,0,IF(M48<70,1,IF(M48<74,2,IF(M48<78,3,IF(M48<82,4,IF(M48<86,5,IF(M48<90,6,IF(M48<94,7,IF(M48<98,8,IF(M48<101,9,10)))))))))) -> 3
A36: B. MONACO | B36: 6 | C36: REAL MADRID | D36: 7 | J36: ATLETICO MADRID | K36: 6 | L36: MONACO | M36: 4
A37: BLIND | B37: 5.5 | C37: OTAMENDI | D37: 6.5 | J37: DANI ALVES | K37: 5.5 | L37: GODIN | M37: 5.5
A38: SIDIBE | B38: 5 | C38: FELIPE | D38: 6 | J38: SEMEDO | K38: 0 | L38: CHIELLINI | M38: 6
A39: SMALLING | B39: 6 | C39: TELLES | D39: 5.5 | J39: ADRIANO | K39: 6 | L39: PEPE | M39: 6
A40: CARRASCO | B40: 5 | C40: KOKE | D40: 8 | J40: ASENSIO | K40: 6 | L40: ORBAN | M40: 8.5
A41: D.COSTA | B41: 8 | C41: PEDRO | D41: 7.5 | J41: COUTINHO | K41: 11.5 | L41: ISCO | M41: 7
A42: RAKITIC | B42: 6 | C42: MOUTINHO | D42: 5 | J42: DI MARIA | K42: 9.5 | L42: INIESTA | M42: 6.5
A43: CUADRADO | B43: 6 | C43: SERGI ROBERTO | D43: 6.5 | J43: PROMES | K43: 16.5 | L43: WILLIAN | M43: 5.5
A44: KRHON-DELI | B44: 6 | C44: CRISTIANO RONALDO | D44: 10.5 | J44: KEITA BALDE | K44: 5 | L44: NEYMAR | M44: 9.5
A45: MESSI | B45: 11 | C45: NOLITO | D45: 5.5 | J45: JORGENSEN | K45: 6 | L45: ABOUBAKAR | M45: 9.5
A46: VITINHO | B46: 5.5 | C46: TOSUN | D46: 13 | J46: LEWANDOWSKI | K46: 6.5 | L46: BABEL | M46: 8
A47: FATTORE CAMPO | B47: 1 | J47: FATTORE CAMPO | K47: 1
B48: =SUM(B36:B47) -> 71 | D48: =SUM(D36:D47) -> 81 | K48: =SUM(K36:K47) -> 79.5 | M48: =SUM(M36:M47) -> 76
A49: PANCHINA | C49: PANCHINA | J49: PANCHINA | L49: PANCHINA
A50: B. MONACO | B50: 6 | C50: REAL MADRID | D50: 7 | J50: ATLETICO MADRID | K50: 6 | L50: MONACO | M50: 4
A51: B.PERES | B51: 5.5 | C51: BOCCHETTI | D51: sv | J51: SULE | K51: sv | L51: TOPRAK | M51: 6
A52: SCHENNIKOV | B52: 5.5 | C52: SUCHY | D52: 6 | J52: LISANDRO LOPEZ | K52: sv | L52: ERKIN | M52: 6.5
A53: DARMIAN | B53: sv | C53: RUDIGER | D53: sv | J53: RICARDO PEREIRA | K53: sv | L53: AURIER | M53: 6
A54: FERNANDINHO | B54: 5.5 | C54: FRED | D54: 8 | J54: BRUNO FERNANDES | K54: 6 | L54: DRAXLER | M54: sv
A55: MARCHISIO | B55: sv | C55: VAZQUEZ | D55: sv | J55: OLIVER TORRES | K55: 6 | L55: CEBALLOS | M55: sv
A56: RODE | B56: sv | C56: MARIN | D56: sv | J56: ANANIDZE | K56: sv | L56: WEIGL | M56: 5.5
A57: GOTZE | B57: 6.5 | C57: BOETIUS | D57: 5 | J57: RAUL JIMENEZ | K57: 5 | L57: GAMEIRO | M57: 4.5
A58: PHILIPP | B58: 6 | C58: CORONA | D58: 6 | J58: CHIPCIU | K58: sv | L58: KRAMARIC | M58: 5
A59: BRUNO | B59: sv | C59: DEMBELE | D59: 6 | J59: EMENIKE | K59: sv | L59: ALAN RUIZ | M59: sv
A61: GIRONE C
A63: =+TABELLONE!J62 -> AC DENTI | B63: =IF(B76<66,0,IF(B76<70,1,IF(B76<74,2,IF(B76<78,3,IF(B76<82,4,IF(B76<86,5,IF(B76<90,6,IF(B76<94,7,IF(B76<98,8,IF(B76<101,9,10)))))))))) -> 2 | C63: =+TABELLONE!K62 -> SCARSENAL | D63: =IF(D76<66,0,IF(D76<70,1,IF(D76<74,2,IF(D76<78,3,IF(D76<82,4,IF(D76<86,5,IF(D76<90,6,IF(D76<94,7,IF(D76<98,8,IF(D76<101,9,10)))))))))) -> 5 | J63: =+TABELLONE!J63 -> MARCELLONA | K63: =IF(K76<66,0,IF(K76<70,1,IF(K76<74,2,IF(K76<78,3,IF(K76<82,4,IF(K76<86,5,IF(K76<90,6,IF(K76<94,7,IF(K76<98,8,IF(K76<101,9,10)))))))))) -> 3 | L63: =+TABELLONE!K63 -> IBRADIPOSI | M63: =IF(M76<66,0,IF(M76<70,1,IF(M76<74,2,IF(M76<78,3,IF(M76<82,4,IF(M76<86,5,IF(M76<90,6,IF(M76<94,7,IF(M76<98,8,IF(M76<101,9,10)))))))))) -> 0
A64: PORTO | B64: 2 | C64: MAN UTD | D64: 6 | J64: CHELSEA | K64: 3.5 | L64: TOTTENHAM | M64: 7
A65: UMTITI | B65: 7 | C65: PIQUE | D65: 3 | J65: ALEX SANDRO | K65: 3 | L65: ALONSO | M65: 6
A66: LOVREN | B66: 6.5 | C66: MANOLAS | D66: 5.5 | J66: VRSALJKO | K66: 6 | L66: RAMOS | M66: 6
A67: STONES | B67: 6 | C67: MATHIEU | D67: 6 | J67: BOATENG | K67: 6.5 | L67: THIAGO SILVA | M67: 6.5
A68: THIAGO ALCANTARA | B68: 6.5 | C68: STROOTMAN | D68: 6 | J68: MODRIC | K68: 7.5 | L68: JAMES RODRIGUES | M68: 6
A69: HAMSIK | B69: 5.5 | C69: VERRATTI | D69: 7.5 | J69: DAVID SILVA | K69: 7 | L69: NZONZI | M69: 0
A70: KHEDIRA | B70: 5 | C70: VAZQUEZ | D70: 5.5 | J70: RABIOT | K70: 6 | L70: PASALIC | M70: 6.5
A71: SINCLAIR | B71: 6 | C71: HAZARD | D71: 14 | J71: SANE | K71: 7 | L71: FERNANDO | M71: 6.5
A72: CAVANI | B72: 10 | C72: MULLER | D72: 9.5 | J72: MBAPPE | K72: 11.5 | L72: JOVETIC | M72: 0
A73: GABRIEL JESUS | B73: 9.5 | C73: SALAH | D73: 14.5 | J73: MANDZUKIC | K73: 10 | L73: SUAREZ | M73: 5.5
A74: LLORENTE | B74: 7 | C74: FERREYRA | D74: 5.5 | J74: INSIGNE | K74: 6 | L74: KANE | M74: 6
A75: FATTORE CAMPO | B75: 1 | J75: FATTORE CAMPO | K75: 1
B76: =SUM(B64:B75) -> 72 | D76: =SUM(D64:D75) -> 83 | K76: =SUM(K64:K75) -> 75 | M76: =SUM(M64:M75) -> 56
A77: PANCHINA | C77: PANCHINA | J77: PANCHINA | L77: PANCHINA
A78: PORTO | B78: 2 | C78: MAN UTD | D78: 6 | J78: CHELSEA | K78: 3.5 | L78: TOTTENHAM | M78: 7
A79: ESCUDERO | B79: 5 | C79: JUAN JESUS | D79: 5.5 | J79: GHOULAM | K79: 6 | L79: BARTRA | M79: 6.5
A80: SOCRATIS | B80: 9.5 | C80: KONATE | D80: sv | J80: ALBIOL | K80: 5 | L80: MASCHERANO | M80: 6
A81: JONES | B81: sv | C81: BOTTEGHIN | D81: sv | J81: TRIPPIER | K81: sv | L81: DANILO | M81: sv
A82: FABREGAS | B82: 6 | C82: LUCAS | D82: sv | J82: CHAMBERLAIN | K82: 9.5 | L82: YAYA TOURE’ | M82: sv
A83: SABITZER | B83: 7.5 | J83: KEITA N. | K83: 6 | L83: DE ROSSI | M83: sv
A84: XHAKA | B84: 10 | C84: ZIELINSKI | D84: 5 | J84: PIZZI | K84: 5.5 | L84: GUERREIRO | M84: sv
A85: SON | B85: sv | C85: BERGHUIS | D85: 9 | J85: EL SHAARAWY | K85: sv | L85: CARRILLO | M85: sv
A86: VIETTO | B86: sv | C86: ALCACER | D86: sv | J86: DEFREL | K86: sv
A87: DE CAMARGO | B87: 6 | C87: GABIGOL | D87: sv | J87: MILIK | K87: sv
A89: GIRONE D
A91: =TABELLONE!J88 -> CICCIOBUCCIO | B91: =IF(B104<66,0,IF(B104<70,1,IF(B104<74,2,IF(B104<78,3,IF(B104<82,4,IF(B104<86,5,IF(B104<90,6,IF(B104<94,7,IF(B104<98,8,IF(B104<101,9,10)))))))))) -> 0 | C91: =TABELLONE!K88 -> INTERFOGAT | D91: =IF(D104<66,0,IF(D104<70,1,IF(D104<74,2,IF(D104<78,3,IF(D104<82,4,IF(D104<86,5,IF(D104<90,6,IF(D104<94,7,IF(D104<98,8,IF(D104<101,9,10)))))))))) -> 2 | J91: =TABELLONE!J89 -> FLYBEARD | K91: =IF(K104<66,0,IF(K104<70,1,IF(K104<74,2,IF(K104<78,3,IF(K104<82,4,IF(K104<86,5,IF(K104<90,6,IF(K104<94,7,IF(K104<98,8,IF(K104<101,9,10)))))))))) -> 1 | L91: =TABELLONE!K89 -> CSKA SCINA | M91: =IF(M104<66,0,IF(M104<70,1,IF(M104<74,2,IF(M104<78,3,IF(M104<82,4,IF(M104<86,5,IF(M104<90,6,IF(M104<94,7,IF(M104<98,8,IF(M104<101,9,10)))))))))) -> 3
A92: ROMA | B92: 3 | C92: BARCELLONA | D92: 5 | J92: BENFICA | K92: 2.5 | L92: LIVERPOOL | M92: 6
A93: KURZAWA | B93: 6.5 | C93: MERCADO | D93: 5.5 | J93: ALABA | K93: 7 | L93: HUMMELS | M93: 10
A94: NACHO FERNANDEZ | B94: 6.5 | C94: MARCANO | D94: 8 | J94: VARANE | K94: 4 | L94: LANG | M94: 6.5
A95: LENGLET | B95: 5 | C95: BAILLY | D95: 6 | J95: FILIPE LUIS | K95: 6 | L95: LINDELOF | M95: 6
A96: MATIC | B96: 6.5 | C96: NAINGGOLAN | D96: 6 | J96: VIDAL | K96: 6.5 | L96: DE BRUYNE | M96: 7.5
A97: GUNDOGAN | B97: 5.5 | C97: MATUIDI | D97: 6 | J97: KROOS | K97: 7 | L97: VILHENA | M97: 6.5
A98: CASEMIRO | B98: 6 | C98: DELOUFEU | D98: 7 | J98: EMRE CAN | K98: 6.5 | L98: FABINHO | M98: 5
A99: SISSOKO | B99: 6 | C99: THIAGO MOTTA | D99: 5.5 | J99: TALISCA | K99: 7 | L99: FORSBERG | M99: 9.5
A100: BATSHUAYI | B100: 8.5 | C100: BENZEMA | D100: 6 | J100: HIGUAIN | K100: 6.5 | L100: GRIEZMANN | M100: 5.5
A101: MARTIAL | B101: 5 | C101: FALCAO | D101: 8.5 | J101: MORATA | K101: 6.5 | L101: DOST | M101: 6
A102: DYBALA | B102: 6 | C102: OBERLIN | D102: 10 | J102: CORREA | K102: 5.5 | L102: MURIEL | M102: 5.5
A103: FATTORE CAMPO | B103: 1 | J103: FATTORE CAMPO | K103: 1
B104: =SUM(B92:B103) -> 65.5 | D104: =SUM(D92:D103) -> 73.5 | K104: =SUM(K92:K103) -> 66 | M104: =SUM(M92:M103) -> 74
A105: PANCHINA | C105: PANCHINA | J105: PANCHINA | L105: PANCHINA
A106: ROMA | B106: 3 | C106: BARCELLONA | D106: 5 | J106: BENFICA | K106: 2.5 | L106: LIVERPOOL | M106: 6
A107: RUDY | B107: 6.5 | C107: KOULIBALY | D107: 6 | J107: WALKER | K107: 5 | L107: ALDERWEILD | M107: 6
A108: THEO HERNANDEZ | B108: sv | C108: JEMERSON | D108: 5 | J108: PISCKEZ | K108: sv | L108: AZPILICUETA | M108: 6
A109: HERNANDEZ | B109: sv | C109: MAXI PEREIRA | D109: sv | J109: GRIMALDO | K109: 6 | L109: BALANTA | M109: 6.5
A110: LINGARD | B110: 4 | C110: JESUS NAVAS | D110: 5.5 | J110: BRAHIMI | K110: 5 | L110: DIER | M110: 6
...

Sheet 4° GIORNATA
A1: 4° GIORNATA
A3: GIRONE A
A5: =TABELLONE!J14 -> BRIGATA GURREN | B5: =IF(B18<66,0,IF(B18<70,1,IF(B18<74,2,IF(B18<78,3,IF(B18<82,4,IF(B18<86,5,IF(B18<90,6,IF(B18<94,7,IF(B18<98,8,IF(B18<101,9,10)))))))))) -> 5 | C5: =TABELLONE!K14 -> MC TOWN | D5: =IF(D18<66,0,IF(D18<70,1,IF(D18<74,2,IF(D18<78,3,IF(D18<82,4,IF(D18<86,5,IF(D18<90,6,IF(D18<94,7,IF(D18<98,8,IF(D18<101,9,10)))))))))) -> 2 | J5: =TABELLONE!J15 -> SOLOPISA 1909 | K5: =IF(K18<66,0,IF(K18<70,1,IF(K18<74,2,IF(K18<78,3,IF(K18<82,4,IF(K18<86,5,IF(K18<90,6,IF(K18<94,7,IF(K18<98,8,IF(K18<101,9,10)))))))))) -> 3 | L5: =TABELLONE!K15 -> SKIACCIAK MOSCA | M5: =IF(M18<66,0,IF(M18<70,1,IF(M18<74,2,IF(M18<78,3,IF(M18<82,4,IF(M18<86,5,IF(M18<90,6,IF(M18<94,7,IF(M18<98,8,IF(M18<101,9,10)))))))))) -> 0
A6: PSG | B6: 6 | C6: MANCHESTER CITY | D6: 4.5 | J6: JUVENTUS | K6: 4.5 | L6: NAPOLI | M6: 1.5
A7: ALBERTO MORENO | B7: 7 | C7: JORDI ALBA | D7: 5 | J7: MARCELO | K7: 6 | L7: KJAER | M7: 6
A8: MARQUINHOS | B8: 6.5 | C8: MATIP | D8: 6 | F8: Assist | J8: DAVID LUIZ | K8: 5 | L8: ZAGADOU | M8: 5.5
A9: KOLAROV | B9: 7.5 | C9: CAHILL | D9: 5 | F9: Griezmann | J9: JUANFRAN | K9: 6.5 | L9: DIKS | M9: 6
A10: SAUL NIGUEZ | B10: 6 | C10: ROBBEN | D10: 6 | F10: Alaba | J10: HENDERSON | K10: 6.5 | L10: MKHITARYAN | M10: 6
A11: KIMMICH | B11: 13.5 | C11: LEMAR | D11: 6 | F11: Cuadrado | J11: MATA | K11: 6 | L11: PJANIC | M11: 6
A12: QUARESMA | B12: 6 | C12: STERLING | D12: 10 | F12: Nainggolan | J12: ALLI | K12: 14 | L12: SAHIN | M12: 5.5
A13: ERIKSEN | B13: 10 | C13: BERNARD | D13: 6 | F13: Berghius | J13: CASTRO | K13: 6 | L13: FLORENZI | M13: 6.5
A14: CALLEJON | B14: 5.5 | C14: AGUERO | D14: 9.5 | F14: Sabitzer | J14: RASHFORD | K14: 7 | L14: BEN YEDDER | M14: 5.5
A15: LUKAKU | B15: 6.5 | C15: FIRMINO | D15: 7 | F15: Alberto Moreno | J15: MERTENS | K15: 6.5 | L15: NEGREDO | M15: 0
A16: DZEKO | B16: 7 | C16: SCHURRLE | D16: 6 | F16: Gundogan | J16: AUBAMEYANG | K16: 5 | L16: MAREGA | M16: 6
A17: FATTORE CAMPO | B17: 1 | F17: Sane | J17: FATTORE CAMPO | K17: 1
B18: =SUM(B6:B17) -> 82.5 | D18: =SUM(D6:D17) -> 71 | F18: Moutinho | K18: =SUM(K6:K17) -> 74 | M18: =SUM(M6:M17) -> 54.5
A19: PANCHINA | C19: PANCHINA | F19: Mertens | J19: PANCHINA | L19: PANCHINA
A20: PSG | B20: 6 | C20: MANCHESTER CITY | D20: 4.5 | F20: Telles | J20: JUVENTUS | K20: 4.5 | L20: NAPOLI | M20: 1.5
A21: VERTONGHEN | B21: 7 | C21: VALENCIA | D21: sv | F21: Aboubakar | J21: KLAVAN | K21: 6 | L21: HISAY | M21: 5.5
A22: LUSTIG | B22: 6 | C22: MARIO FERNANDES | D22: 5.5 | F22: Banega | J22: BARZAGLI | K22: 5.5 | L22: GLIK | M22: 6
A23: HECTOR MORENO | B23: sv | C23: JORGE | D23: 4 | F23: Kane | J23: TOSIC | K23: 5 | L23: ZAPPACOSTA | M23: sv
A24: MARLOS | B24: 13.5 | C24: GELSON MARTINS | D24: 7.5 | J24: BUSQUETS | K24: 6 | L24: PAULINHO | M24: 5.5
A25: BANEGA | B25: 12 | C25: SALVIO | D25: 5.5 | J25: PIZARRO | K25: 6 | L25: GANSO | M25: sv
A26: ACUNA | B26: 5.5 | C26: GABI | D26: 5 | L26: DZAGOEV | M26: 10
A27: YARMOLENKO | B27: 5 | C27: LUIZ ADRIANO | D27: 6 | J27: TORRES | K27: 4.5 | L27: DIAKHABY | M27: 5.5
A28: CERVI | B28: sv | C28: GRIFFITHS | D28: sv | J28: IBRAHIMOVIC | K28: sv | L28: JONAS | M28: sv
A29: BEN | B29: sv | C29: TEODORCZYK | D29: sv | J29: NDOVLU | K29: sv | L29: MANE | M29: sv
A33: GIRONE B
A35: =TABELLONE!J40 -> UNAJUNGLACAZO FC | B35: =IF(B48<66,0,IF(B48<70,1,IF(B48<74,2,IF(B48<78,3,IF(B48<82,4,IF(B48<86,5,IF(B48<90,6,IF(B48<94,7,IF(B48<98,8,IF(B48<101,9,10)))))))))) -> 1 | C35: =TABELLONE!K40 -> CS RIPOSA | D35: =IF(D48<66,0,IF(D48<70,1,IF(D48<74,2,IF(D48<78,3,IF(D48<82,4,IF(D48<86,5,IF(D48<90,6,IF(D48<94,7,IF(D48<98,8,IF(D48<101,9,10)))))))))) -> 1 | J35: =TABELLONE!J41 -> EVRIBADI | K35: =IF(K48<66,0,IF(K48<70,1,IF(K48<74,2,IF(K48<78,3,IF(K48<82,4,IF(K48<86,5,IF(K48<90,6,IF(K48<94,7,IF(K48<98,8,IF(K48<101,9,10)))))))))) -> 1 | L35: =TABELLONE!K41 -> AC CONTE | M35: =IF(M48<66,0,IF(M48<70,1,IF(M48<74,2,IF(M48<78,3,IF(M48<82,4,IF(M48<86,5,IF(M48<90,6,IF(M48<94,7,IF(M48<98,8,IF(M48<101,9,10)))))))))) -> 1
A36: REAL MADRID | B36: 2 | C36: B.MONACO | D36: 5 | J36: MONACO | K36: 5 | L36: ATLETICO MADRID | M36: 5
A37: FELIPE | B37: 6.5 | C37: BLIND | D37: 9.5 | J37: CHIELLINI | K37: 5 | L37: DANI ALVES | M37: 7
A38: TELLES | B38: 7.5 | C38: SMALLING | D38: 6 | J38: GODIN | K38: 6.5 | L38: ADRIANO | M38: 5
A39: SUCHY | B39: 4.5 | C39: SCHENNIKOV | D39: 6 | J39: PEPE | K39: 6 | L39: SEMEDO | M39: 6
A40: RUDIGER | B40: 4.5 | C40: RAKITIC | D40: 6.5 | J40: TOPRAK | K40: 5.5 | L40: SULE | M40: 6
A41: PEDRO | B41: 4.5 | C41: CARRASCO | D41: 6 | J41: ISCO | K41: 5 | L41: BRUNO FERNANDES | M41: 6
A42: FRED | B42: 7 | C42: CUADRADO | D42: 7.5 | J42: WILLIAN | K42: 6 | L42: COUTINHO | M42: 5.5
A43: MOUTINHO | B43: 8 | C43: KRONH-DELI | D43: 6 | J43: DRAXLER | K43: 6.5 | L43: DI MARIA | M43: 6.5
A44: TOSUN | B44: 9.5 | C44: MESSI | D44: 5.5 | J44: NEYMAR | K44: 10.5 | L44: TOLISSO | M44: 6
A45: CRISTIANO RONALDO | B45: 9 | C45: GOTZE | D45: 6 | J45: ABOUBAKAR | K45: 7 | L45: JORGENSEN | M45: 9
A46: NOLITO | B46: 5.5 | C46: PHILIPP | D46: 5.5 | J46: BABEL | K46: 5.5 | L46: KEITA BALDE | M46: 5
A47: FATTORE CAMPO | B47: 1 | J47: FATTORE CAMPO | K47: 1
B48: =SUM(B36:B47) -> 69.5 | D48: =SUM(D36:D47) -> 69.5 | K48: =SUM(K36:K47) -> 69.5 | M48: =SUM(M36:M47) -> 67
A49: PANCHINA | C49: PANCHINA | J49: PANCHINA | L49: PANCHINA
A50: REAL MADRID | B50: 2 | C50: B.MONACO | D50: 5 | J50: MONACO | K50: 5 | L50: ATLETICO MADRID | M50: 5
A51: OTAMENDI | B51: 9 | C51: SIDIBE | D51: sv | J51: ERKIN | K51: sv | L51: RICARDO PEREIRA | M51: 5.5
A52: BOCCHETTI | B52: sv | C52: B.PERES | D52: sv | J52: ORBAN | K52: 5.5 | L52: LISANDRO LOPEZ | M52: sv
A53: UPAMECANO | B53: 5.5 | C53: RUGANI | D53: sv | J53: AURIER | K53: sv | L53: CARVAHAL | M53: sv
A54: SERGI ROBERTO | B54: 4.5 | C54: D.COSTA | D54: 6 | J54: INIESTA | K54: sv | L54: ASENSIO | M54: 5.5
A55: VAZQUEZ | B55: sv | C55: FERNANDINHO | D55: 6.5 | J55: CEBALLOS | K55: sv | L55: PROMES | M55: 6.5
A56: BUA | B56: sv | C56: MARCHISIO | D56: sv | J56: WEIGL | K56: 5.5 | L56: OLIVER TORRES | M56: sv
A57: CORONA | B57: 5 | C57: VITINHO | D57: 5 | J57: GAMEIRO | K57: 4.5 | L57: LEWANDOWSKI | M57: sv
A58: DEMBELE | B58: 5.5 | C58: SEFEROVIC | D58: 6 | J58: RUIZ | K58: sv | L58: RAUL JIMENEZ | M58: 6
A59: BOETIUS | B59: 6 | C59: BRUNO | D59: sv | J59: KRAMARIC | K59: sv | L59: CHIPCIU | M59: 5
A63: GIRONE C
A65: =TABELLONE!J66 -> IBRADIPOSI | B65: =IF(B78<66,0,IF(B78<70,1,IF(B78<74,2,IF(B78<78,3,IF(B78<82,4,IF(B78<86,5,IF(B78<90,6,IF(B78<94,7,IF(B78<98,8,IF(B78<101,9,10)))))))))) -> 1 | C65: =TABELLONE!K66 -> MARCELLONA | D65: =IF(D78<66,0,IF(D78<70,1,IF(D78<74,2,IF(D78<78,3,IF(D78<82,4,IF(D78<86,5,IF(D78<90,6,IF(D78<94,7,IF(D78<98,8,IF(D78<101,9,10)))))))))) -> 1 | J65: =TABELLONE!J67 -> SCARSENAL | K65: =IF(K78<66,0,IF(K78<70,1,IF(K78<74,2,IF(K78<78,3,IF(K78<82,4,IF(K78<86,5,IF(K78<90,6,IF(K78<94,7,IF(K78<98,8,IF(K78<101,9,10)))))))))) -> 5 | L65: =TABELLONE!K67 -> AC DENTI | M65: =IF(M78<66,0,IF(M78<70,1,IF(M78<74,2,IF(M78<78,3,IF(M78<82,4,IF(M78<86,5,IF(M78<90,6,IF(M78<94,7,IF(M78<98,8,IF(M78<101,9,10)))))))))) -> 0
A66: TOTTENHAM | B66: 6 | C66: CHELSEA | D66: 3 | J66: MAN UTD | K66: 7 | L66: PORTO | M66: 5
A67: BARTRA | B67: 5 | C67: ALEXSANDRO | D67: 5 | J67: JUAN JESUS | K67: 7 | L67: SAVIC | M67: 3
A68: MASCHERANO | B68: 6 | C68: BOATENG | D68: 6 | J68: MANOLAS | K68: 6.5 | L68: UMTITI | M68: 5.5
A69: MARCOS ALONSO | B69: 5 | C69: VRSALIKO | D69: 6.5 | J69: KONATE | K69: 0 | L69: SOCRATIS | M69: 6
A70: SERGIO RAMOS | B70: 5 | C70: MODRIC | D70: 6 | J70: PEROTTI | K70: 10.5 | L70: THIAGO ALCANTARA | M70: 4.5
A71: GUERREIRO | B71: 9.5 | C71: DAVID SILVA | D71: 6.5 | J71: VERRATTI | K71: 10 | L71: HAMSIK | M71: 6
A72: FERNANDO | B72: 6 | C72: RABIOT | D72: 7 | J72: VAZQUEZ | K72: 7 | L72: KHEDIRA | M72: 5.5
A73: PASALIC | B73: 5.5 | C73: SANE | D73: 7.5 | J73: HAZARD | K73: 6 | L73: SINCLAIR | M73: 5.5
A74: YAYA TOURE | B74: 7.5 | C74: MBAPPE | D74: 6 | J74: BERGHUIS | K74: 7 | L74: CAVANI | M74: 5.5
A75: KANE | B75: 7.5 | C75: MANDZUKIC | D75: 4.5 | J75: SALAH | K75: 10 | L75: GABRIEL JESUS | M75: 5.5
A76: SUAREZ | B76: 4.5 | C76: INSIGNE | D76: 10.5 | J76: FERREYRA | K76: 10 | L76: LLORENTE | M76: 0
A77: FATTORE CAMPO | B77: 1 | J77: FATTORE CAMPO | K77: 1
B78: =SUM(B66:B77) -> 68.5 | D78: =SUM(D66:D77) -> 68.5 | K78: =SUM(K66:K77) -> 82 | M78: =SUM(M66:M77) -> 52
A79: PANCHINA | C79: PANCHINA | J79: PANCHINA | L79: PANCHINA
A80: TOTTENHAM | B80: 6 | C80: CHELSEA | D80: 3 | J80: MAN UTD | K80: 7 | L80: PORTO | M80: 5
A81: DANILO | B81: 5 | C81: GHOULAM | D81: 6.5 | J81: BOTTEGHIN | K81: sv | L81: ESCUDERO | M81: 6.5
A82: THIAGO SILVA | B82: 6.5 | C82: DAVIES | D82: 6.5 | J82: BERNAT | K82: sv | L82: STONES | M82: 10
A83: JARDEL | B83: 6 | C83: ALBIOL | D83: 5.5 | L83: LOVREN | M83: sv
A84: DE ROSSI | B84: 7.5 | C84: CHAMBERLAIN | D84: 7 | J84: STROOTMAN | K84: 7 | L84: FABREGAS | M84: 4.5
A85: NZONZI | B85: 7 | C85: KEITA N. | D85: 5.5 | J85: ZIELINSKI | K85: sv | L85: SABITZER | M85: 6.5
A86: JAMES RODRIGUEZ | B86: 5.5 | C86: PIZZI | D86: 6 | J86: JORGINHO | K86: 9.5 | L86: XHAKA | M86: 4.5
A87: JOVETIC | B87: 5 | C87: EL SHAARAWY | D87: 14 | J87: ALCACER | K87: sv | L87: SON | M87: sv
A88: CARRILO | B88: 6 | C88: DEFREL | D88: sv | J88: GABIGOL | K88: sv | L88: VIETTO | M88: sv
A89: KRAMER | B89: sv | C89: MILIK | D89: sv | L89: DE CAMARGO | M89: 5.5
A91: GIRONE D
A93: =TABELLONE!J92 -> INTERFOGAT | B93: =IF(B106<66,0,IF(B106<70,1,IF(B106<74,2,IF(B106<78,3,IF(B106<82,4,IF(B106<86,5,IF(B106<90,6,IF(B106<94,7,IF(B106<98,8,IF(B106<101,9,10)))))))))) -> 0 | C93: =TABELLONE!K92 -> CICCIOBUCCIO | D93: =IF(D106<66,0,IF(D106<70,1,IF(D106<74,2,IF(D106<78,3,IF(D106<82,4,IF(D106<86,5,IF(D106<90,6,IF(D106<94,7,IF(D106<98,8,IF(D106<101,9,10)))))))))) -> 5 | J93: =TABELLONE!J93 -> CSKA SCINA | K93: =IF(K106<66,0,IF(K106<70,1,IF(K106<74,2,IF(K106<78,3,IF(K106<82,4,IF(K106<86,5,IF(K106<90,6,IF(K106<94,7,IF(K106<98,8,IF(K106<101,9,10)))))))))) -> 0 | L93: =TABELLONE!K93 -> FLYBEARD | M93: =IF(M106<66,0,IF(M106<70,1,IF(M106<74,2,IF(M106<78,3,IF(M106<82,4,IF(M106<86,5,IF(M106<90,6,IF(M106<94,7,IF(M106<98,8,IF(M106<101,9,10)))))))))) -> 1
A94: BARCELLONA | B94: 6 | C94: ROMA | D94: 7 | J94: LIVERPOOL | K94: 6 | L94: BENFICA | M94: 2.5
A95: KOULIBALY | B95: 5 | C95: KURZAWA | D95: 17 | J95: HUMMELS | K95: 5 | L95: ALABA | M95: 7
A96: MERCADO | B96: 6.5 | C96: LENGLET | D96: 10 | J96: LINDELOF | K96: 6 | L96: FILIPE LUIS | M96: 5
A97: MARCANO | B97: 7 | C97: DIGNE | D97: 7 | J97: AZPILICUETA | K97: 4.5 | L97: RAFINHA | M97: 6
A98: BAILLY | B98: 5.5 | C98: MATIC | D98: 6.5 | J98: FABINHO | K98: 6.5 | L98: TAISON | M98: 7.5
A99: NAINGGOLAN | B99: 8.5 | C99: LINGARD | D99: 5.5 | J99: FORSBERG | K99: 6 | L99: EMRE CAN | M99: 10
A100: DELOUFEU | B100: 5.5 | C100: CASEMIRO | D100: 5.5 | J100: WJINALDUM | K100: 5.5 | L100: TALISCA | M100: 6
A101: ELYANOUSSI | B101: 6 | C101: SISSOKO | D101: 6.5 | J101: GRIEZMANN | K101: 6 | L101: BRAHIMI | M101: 6
A102: BENZEMA | B102: 6 | C102: DYBALA | D102: 5.5 | J102: DOUMBIA | K102: 0 | L102: MORATA | M102: 4
A103: FALCAO | B103: 0 | C103: MARTIAL | D103: 3.5 | J103: MURIEL | K103: 0 | L103: HIGUAIN | M103: 10
A104: OBERLIN | B104: 6 | C104: WERNER | D104: 9.5 | K104: 0 | L104: CORREA ANGEL | M104: 5.5
A105: FATTORE CAMPO | B105: 1 | J105: FATTORE CAMPO | K105: 1
B106: =SUM(B94:B105) -> 63 | D106: =SUM(D94:D105) -> 83.5 | K106: =SUM(K94:K105) -> 46.5 | M106: =SUM(M94:M105) -> 69.5
A107: PANCHINA | C107: PANCHINA | J107: PANCHINA | L107: PANCHINA
A108: BARCELLONA | B108: 6 | C108: ROMA | D108: 7 | J108: LIVERPOOL | K108: 6 | L108: BENFICA | M108: 2.5
A109: DE SCIGLIO | B109: 5.5 | C109: HERNANDEZ | D109: sv | J109: LANG | K109: 5 | L109: WALKER | M109: sv
A110: JEMERSON | B110: 5.5 | C110: FAZIO | D110: 7 | J110: ALDERWEILD | K110: 6 | L110: GRIMALDO | M110: 5.5
A111: PEREIRA MAXI | B111: 9 | C111: RUDY | D111: 6 | J111: BALANTA | K111: 5 | L111: VARANE | M111: sv
A112: MATUIDI | B112: 6 | C112: KANTE | D112: sv | J112: VILHENA | K112: 5.5 | L112: VIDAL | M112: 6
...

Sheet 5° GIORNATA
A1: 5° GIORNATA
A3: GIRONE A
A5: =+TABELLONE!J18 -> SKIACCIAK MOSCA | B5: =IF(B18<66,0,IF(B18<70,1,IF(B18<74,2,IF(B18<78,3,IF(B18<82,4,IF(B18<86,5,IF(B18<90,6,IF(B18<94,7,IF(B18<98,8,IF(B18<101,9,10)))))))))) -> 1 | C5: =+TABELLONE!K18 -> MC TOWN | D5: =IF(D18<66,0,IF(D18<70,1,IF(D18<74,2,IF(D18<78,3,IF(D18<82,4,IF(D18<86,5,IF(D18<90,6,IF(D18<94,7,IF(D18<98,8,IF(D18<101,9,10)))))))))) -> 3 | J5: =+TABELLONE!J19 -> SOLOPISA 1909 | K5: =IF(K18<66,0,IF(K18<70,1,IF(K18<74,2,IF(K18<78,3,IF(K18<82,4,IF(K18<86,5,IF(K18<90,6,IF(K18<94,7,IF(K18<98,8,IF(K18<101,9,10)))))))))) -> 4 | L5: =+TABELLONE!K19 -> BRIGATA GURREN | M5: =IF(M18<66,0,IF(M18<70,1,IF(M18<74,2,IF(M18<78,3,IF(M18<82,4,IF(M18<86,5,IF(M18<90,6,IF(M18<94,7,IF(M18<98,8,IF(M18<101,9,10)))))))))) -> 1
A6: NAPOLI | B6: 6 | C6: MANCHESTER CITY | D6: 6 | J6: JUVENTUS | K6: 6 | L6: PSG | M6: 5
A7: HISAY | B7: 6 | C7: JORDI ALBA | D7: 6.5 | J7: MARCELO | K7: 7.5 | L7: KOLAROV | M7: 6
A8: ZAPPACOSTA | B8: 6.5 | C8: VALENCIA | D8: 4.5 | J8: LUIZ | K8: 6 | L8: MARQUINHOS | M8: 7.5
A9: GLIK | B9: 5 | C9: CAHILL | D9: 6 | F9: Tosun | G9: Bruno Fernandes | J9: JUANFRAN | K9: 6 | L9: ALBERTO MORENO | M9: 3.5
A10: MKHITARYAN | B10: 5 | C10: ROBBEN | D10: 5.5 | F10: Yarmolenko | G10: Gelson Martins | J10: PASTORE | K10: 6 | L10: ERIKSEN | M10: 6.5
A11: DZAGOEV | B11: 6.5 | C11: GELSON MARTINS | D11: 7.5 | F11: Firmino | J11: DELE ALLI | K11: 9 | L11: KIMMICH | M11: 8
A12: PJANIC | B12: 5 | C12: STERLING | D12: 9.5 | F12: Gundogan | J12: CASTRO | K12: 6 | L12: QUARESMA | M12: 7
A13: FLORENZI | B13: 0 | C13: BERNARD | D13: 6.5 | F13: Mertens | J13: HENDERSON | K13: 5.5 | L13: SAUL NIGUEZ | M13: 5.5
A14: MANE | B14: 9.5 | C14: AGUERO | D14: 5.5 | F14: R.Pereira | J14: MERTENS | K14: 11 | L14: CALLEJON | M14: 6
A15: BEN YEDDER | B15: 13 | C15: FIRMINO | D15: 14 | F15: Varane | J15: AUBAMEYANG | K15: 9 | L15: LUKAKU | M15: 6
A16: DIAKHABY | B16: 5 | C16: LUIZ ADRIANO | D16: 5 | F16: Marcelo | J16: RASHFORD | K16: 5.5 | L16: DZEKO | M16: 5.5
A17: FATTORE CAMPO | B17: 1 | F17: Kroos | J17: FATTORE CAMPO | K17: 1
B18: =SUM(B6:B17) -> 68.5 | D18: =SUM(D6:D17) -> 76.5 | F18: C. Ronaldo | K18: =SUM(K6:K17) -> 78.5 | M18: =SUM(M6:M17) -> 66.5
A19: PANCHINA | C19: PANCHINA | F19: Banega | J19: PANCHINA | L19: PANCHINA
A20: NAPOLI | B20: 6 | C20: MANCHESTER CITY | D20: 6 | F20: Alli x2 | J20: JUVENTUS | K20: 6 | L20: PSG | M20: 5
A21: KJAER | B21: sv | C21: MATIP | D21: sv | F21: Lopes | J21: TOSIC | K21: 6 | L21: VERTONGHEN | M21: 5.5
A22: ELISEU | B22: 4.5 | C22: MARIO FERNANDES | D22: 6.5 | F22: Teodorczyk | J22: KLAVAN | K22: 5 | L22: LUISAO | M22: 5
A23: RAGGI | B23: 6 | C23: JORGE | D23: 4.5 | F23: Griezmann | J23: BARZAGLI | K23: 6 | L23: LUSTIG | M23: sv
A24: SAHIN | B24: sv | C24: LOPES | D24: 6 | F24: Correa (ATL) | J24: MATA | K24: sv | L24: MARLOS | M24: 6
A25: PAULINHO | B25: 5.5 | C25: SALVIO | D25: 5.5 | F25: Kimmich | J25: BUSQUETS | K25: 6.5 | L25: BANEGA | M25: 8.5
A26: GANSO | B26: sv | C26: GABI | D26: 6.5 | F26: Tolisso | J26: PIZARRO | K26: 10 | L26: ACUNA | M26: sv
A27: NEGREDO | B27: sv | C27: SCHURRLE | D27: sv | F27: Hazard | J27: IBRAHIMOVIC | K27: 6 | L27: YARMOLENKO | M27: 7.5
A28: MAREGA | B28: sv | C28: GRIFFITHS | D28: 6 | F28: Kurzawa | J28: TORRES | K28: 6.5 | L28: CERVI | M28: 5.5
A29: JONAS | B29: 6 | C29: TEODORCZYK | D29: 5 | F29: Marquinhos | J29: NDLOVU | K29: 5 | L29: BEN | M29: sv
F30: Rabiot
F31: Neymar
A33: GIRONE B
A35: =+TABELLONE!J44 -> EVRIBADI | B35: =IF(B48<66,0,IF(B48<70,1,IF(B48<74,2,IF(B48<78,3,IF(B48<82,4,IF(B48<86,5,IF(B48<90,6,IF(B48<94,7,IF(B48<98,8,IF(B48<101,9,10)))))))))) -> 3 | C35: =+TABELLONE!K44 -> UNAJUNGLACAZO FC | D35: =IF(D48<66,0,IF(D48<70,1,IF(D48<74,2,IF(D48<78,3,IF(D48<82,4,IF(D48<86,5,IF(D48<90,6,IF(D48<94,7,IF(D48<98,8,IF(D48<101,9,10)))))))))) -> 4 | J35: =+TABELLONE!J45 -> AC CONTE | K35: =IF(K48<66,0,IF(K48<70,1,IF(K48<74,2,IF(K48<78,3,IF(K48<82,4,IF(K48<86,5,IF(K48<90,6,IF(K48<94,7,IF(K48<98,8,IF(K48<101,9,10)))))))))) -> 3 | L35: =+TABELLONE!K45 -> CS RIPOSA | M35: =IF(M48<66,0,IF(M48<70,1,IF(M48<74,2,IF(M48<78,3,IF(M48<82,4,IF(M48<86,5,IF(M48<90,6,IF(M48<94,7,IF(M48<98,8,IF(M48<101,9,10)))))))))) -> 0
A36: MONACO | B36: 1 | C36: REAL MADRID | D36: 6 | J36: ATLETICO MADRID | K36: 6 | M36: 1
A37: GODIN | B37: 7 | C37: TELLES | D37: 5 | J37: DANI ALVES | K37: 10
A38: CHIELLINI | B38: 0 | C38: OTAMENDI | D38: 7 | J38: SEMEDO | K38: 6.5
A39: PEPE | B39: 6.5 | C39: RUDIGER | D39: 7 | J39: ADRIANO | K39: 6
A40: DRAXLER | B40: 6 | C40: FELIPE | D40: 9.5 | J40: ASENSIO | K40: 7
A41: ISCO | B41: 6.5 | C41: KOKE | D41: 5.5 | J41: COUTINHO | K41: 6.5
A42: INIESTA | B42: 6.5 | C42: PEDRO | D42: 7 | J42: DI MARIA | K42: 6
A43: WILLIAN | B43: 13.5 | C43: MOUTINHO | D43: 4.5 | J43: PROMES | K43: 5.5
A44: NEYMAR | B44: 15 | C44: TOSUN | D44: 7.5 | J44: BRUNO FERNANDES | K44: 7.5
A45: ABOUBAKAR | B45: 5 | C45: CRISTIANO RONALDO | D45: 15 | J45: LEWANDOWSKI | K45: 9.5
A46: BABEL | B46: 7 | C46: NOLITO | D46: 5.5 | J46: KEITA BALDE | K46: 6
A47: FATTORE CAMPO | B47: 1 | J47: FATTORE CAMPO | K47: 1
B48: =SUM(B36:B47) -> 75 | D48: =SUM(D36:D47) -> 79.5 | K48: =SUM(K36:K47) -> 77.5 | M48: =SUM(M36:M47) -> 1
A49: PANCHINA | C49: PANCHINA | J49: PANCHINA | L49: PANCHINA
A50: MONACO | B50: 1 | C50: REAL MADRID | D50: 6 | J50: ATLETICO MADRID | K50: 6
A51: ORBAN | B51: 7 | C51: ALEIX VIDAL | D51: sv | J51: SULE | K51: 6
A52: ERKIN | B52: sv | C52: UPAMECANO | D52: 6 | J52: LISANDRO LOPEZ | K52: sv
C53: SUCHY | D53: 6.5 | J53: RICARDO PEREIRA | K53: 7.5
A54: FELLAINI | B54: 6.5 | C54: FRED | D54: 6 | J54: TOLISSO | K54: 11.5
A55: CEBALLOS | B55: 6.5 | C55: VAZQUEZ | D55: 7.5 | J55: OLIVER TORRES | K55: sv
A56: WEIGL | B56: 5 | C56: BUA | D56: sv | J56: ANANIDZE | K56: sv
A57: GAMEIRO | B57: 9.5 | C57: CORONA | D57: sv | J57: RAUL JIMENEZ | K57: 5
A58: RUIZ | B58: sv | C58: DEMBELE | D58: 9 | J58: JORGENSEN | K58: 5.5
A59: KRAMARIC | B59: sv | C59: BOETIUS | D59: 5.5 | J59: CHIPCIU | K59: sv
A61: GIRONE C
A63: =+TABELLONE!J70 -> AC DENTI | B63: =IF(B76<66,0,IF(B76<70,1,IF(B76<74,2,IF(B76<78,3,IF(B76<82,4,IF(B76<86,5,IF(B76<90,6,IF(B76<94,7,IF(B76<98,8,IF(B76<101,9,10)))))))))) -> 4 | C63: =+TABELLONE!K70 -> MARCELLONA | D63: =IF(D76<66,0,IF(D76<70,1,IF(D76<74,2,IF(D76<78,3,IF(D76<82,4,IF(D76<86,5,IF(D76<90,6,IF(D76<94,7,IF(D76<98,8,IF(D76<101,9,10)))))))))) -> 4 | J63: =+TABELLONE!J71 -> SCARSENAL | K63: =IF(K76<66,0,IF(K76<70,1,IF(K76<74,2,IF(K76<78,3,IF(K76<82,4,IF(K76<86,5,IF(K76<90,6,IF(K76<94,7,IF(K76<98,8,IF(K76<101,9,10)))))))))) -> 3 | L63: =+TABELLONE!K71 -> IBRADIPOSI | M63: =IF(M76<66,0,IF(M76<70,1,IF(M76<74,2,IF(M76<78,3,IF(M76<82,4,IF(M76<86,5,IF(M76<90,6,IF(M76<94,7,IF(M76<98,8,IF(M76<101,9,10)))))))))) -> 0
A64: PORTO | B64: 5.5 | C64: CHELSEA | D64: 6 | J64: MAN UTD | K64: 5 | L64: TOTTENHAM | M64: 5
A65: KIMPEMBE | B65: 5.5 | C65: BOATENG | D65: 5.5 | J65: MATHIEU | K65: 6 | L65: RAMOS | M65: 5
A66: ESCUDERO | B66: 6 | C66: ALBIOL | D66: 6.5 | J66: MANOLAS | K66: 5 | L66: ALONSO | M66: 5.5
A67: SAVIC | B67: 6 | C67: DAVIES | D67: 4 | J67: PIQUE | K67: 5.5 | L67: THIAGO SILVA | M67: 7
A68: HAMSIK | B68: 6 | C68: MODRIC | D68: 11 | J68: PEROTTI | K68: 6.5 | L68: JAMES RODRIGUEZ | M68: 6.5
A69: KHEDIRA | B69: 5.5 | C69: DAVID SILVA | D69: 10.5 | J69: VERRATTI | K69: 10 | L69: NZONZI | M69: 5
A70: FABREGAS | B70: 10 | C70: RABIOT | D70: 8.5 | J70: JORGINHO | K70: 9.5 | L70: DE ROSSI | M70: 5.5
A71: SINCLAIR | B71: 5.5 | C71: SANE | D71: 6 | J71: HAZARD | K71: 11 | L71: FERNANDO | M71: 5.5
A72: GABRIEL JESUS | B72: 6.5 | C72: MBAPPE | D72: 10 | J72: STROOTMAN | K72: 5.5 | L72: JOVETIC | M72: 6
A73: CAVANI | B73: 13.5 | C73: MANDZUKIC | D73: 0 | J73: SALAH | K73: 5.5 | L73: SUAREZ | M73: 5
A74: SON | B74: 9 | C74: INSIGNE | D74: 10.5 | J74: FERREYRA | K74: 4.5 | L74: KANE | M74: 9.5
A75: FATTORE CAMPO | B75: 1 | J75: FATTORE CAMPO | K75: 1
B76: =SUM(B64:B75) -> 80 | D76: =SUM(D64:D75) -> 78.5 | K76: =SUM(K64:K75) -> 75 | M76: =SUM(M64:M75) -> 65.5
A77: PANCHINA | C77: PANCHINA | J77: PANCHINA | L77: PANCHINA
A78: PORTO | B78: 5.5 | C78: CHELSEA | D78: 6 | J78: MAN UTD | K78: 5.5 | L78: TOTTENHAM | M78: 5
A79: LOVREN | B79: 5.5 | C79: TRIPPIER | D79: sv | J79: JUAN JESUS | K79: sv | L79: BARTRA | M79: 5
A80: UMTITI | B80: 6.5 | C80: ALEXSANDRO | D80: 4 | J80: KONATE | K80: sv | L80: MASCHERANO | M80: sv
A81: STONES | B81: sv | C81: VRSALIKO | D81: sv | J81: BOTTEGHIN | K81: sv | L81: DANILO | M81: 5.5
A82: THIAGO ALCANTARA | B82: 5 | C82: KEITA N. | D82: 10.5 | J82: BERNAT | K82: sv | L82: PASALIC | M82: 5.5
A83: PARDO | B83: 5 | C83: DIAWARA | D83: 6 | J83: ZIELINSKI | K83: 9.5 | L83: GUERREIRO | M83: 6
A84: SABITZER | B84: 7 | C84: PIZZI | D84: 5.5 | J84: VAZQUEZ | K84: 5.5 | L84: TOURE’ | M84: 6
A85: LLORENTE | B85: 5.5 | C85: EL SHAARAWY | D85: sv | J85: ALCACER | K85: sv | L85: CARRILLO | M85: 6
A86: VIETTO | B86: sv | C86: DEFREL | D86: 5 | J86: BERGHUIS | K86: 6.5 | L86: KRAMER | M86: sv
A87: DE CAMARGO | B87: sv | C87: MILIK | D87: sv | J87: GABIGOL | K87: sv | L87: SCHICK | M87: sv
A89: GIRONE D
A91: =TABELLONE!J96 -> CSKA SCINA | B91: =IF(B104<66,0,IF(B104<70,1,IF(B104<74,2,IF(B104<78,3,IF(B104<82,4,IF(B104<86,5,IF(B104<90,6,IF(B104<94,7,IF(B104<98,8,IF(B104<101,9,10)))))))))) -> 3 | C91: =TABELLONE!K96 -> INTERFOGAT | D91: =IF(D104<66,0,IF(D104<70,1,IF(D104<74,2,IF(D104<78,3,IF(D104<82,4,IF(D104<86,5,IF(D104<90,6,IF(D104<94,7,IF(D104<98,8,IF(D104<101,9,10)))))))))) -> 1 | J91: =TABELLONE!J97 -> FLYBEARD | K91: =IF(K104<66,0,IF(K104<70,1,IF(K104<74,2,IF(K104<78,3,IF(K104<82,4,IF(K104<86,5,IF(K104<90,6,IF(K104<94,7,IF(K104<98,8,IF(K104<101,9,10)))))))))) -> 2 | L91: =TABELLONE!K97 -> CICCIOBUCCIO | M91: =IF(M104<66,0,IF(M104<70,1,IF(M104<74,2,IF(M104<78,3,IF(M104<82,4,IF(M104<86,5,IF(M104<90,6,IF(M104<94,7,IF(M104<98,8,IF(M104<101,9,10)))))))))) -> 3
A92: LIVERPOOL | B92: 4 | C92: BARCELLONA | D92: 6.5 | J92: BENFICA | K92: 4 | L92: ROMA | M92: 4
A93: HUMMELS | B93: 10 | C93: KOULIBALY | D93: 0 | J93: ALABA | K93: 5.5 | L93: KURZAWA | M93: 7
A94: AZPLICUETA | B94: 6.5 | C94: MERCADO | D94: 5 | J94: VARANE | K94: 8 | L94: NACHO | M94: 10
A95: LINDELOF | B95: 5.5 | C95: MARCANO | D95: 7 | J95: FELIPE LUIS | K95: 6.5 | L95: LENGLET | M95: 5.5
A96: SCHMELZER | B96: 5 | C96: JEMERSON | D96: 1.5 | J96: VIDAL | K96: 6 | L96: CASEMIRO | M96: 6
A97: FABINHO | B97: 3.5 | C97: MATUIDI | D97: 5 | J97: KROOS | K97: 8.5 | L97: MATIC | M97: 6
A98: WJINALDUM | B98: 5 | C98: NAINGGOLAN | D98: 6.5 | J98: TALISCA | K98: 9 | L98: KANTE | M98: 7
A99: DE BRUYNE | B99: 5.5 | C99: ELYANOUSSI | D99: 6.5 | J99: EMRE CAN | K99: 4.5 | L99: POGBA | M99: 6
A100: FORSBERG | B100: 6 | C100: BERNARDO SILVA | D100: 5.5 | J100: MORATA | K100: 6 | L100: MARTIAL | M100: 6.5
A101: GRIEZMANN | B101: 11 | C101: FALCAO | D101: 9 | J101: HIGUAIN | K101: 5 | L101: COMAN | M101: 13.5
A102: DOST | B102: 13.5 | C102: BENZEMA | D102: 14 | J102: CORREA | K102: 7.5 | L102: DYBALA | M102: 6
A103: FATTORE CAMPO | B103: 1 | J103: FATTORE CAMPO | K103: 1
B104: =SUM(B92:B103) -> 76.5 | D104: =SUM(D92:D103) -> 66.5 | K104: =SUM(K92:K103) -> 71.5 | M104: =SUM(M92:M103) -> 77.5
A105: PANCHINA | C105: PANCHINA | J105: PANCHINA | L105: PANCHINA
A106: LIVERPOOL | B106: 4 | C106: BARCELLONA | D106: 6.5 | J106: BENFICA | K106: 4 | L106: ROMA | M106: 4
A107: LANG | B107: 10.5 | C107: BAILLY | D107: sv | J107: WALKER | K107: 5.5 | L107: RUDY | M107: 6
A108: ANDRE ALMEIDA | B108: 5.5 | C108: DE SCIGLIO | D108: sv | J108: RAFINHA | K108: sv | L108: FAZIO | M108: 6
...

Sheet 6° GIORNATA
A1: 6° GIORNATA
A3: GIRONE A
A5: =+TABELLONE!J22 -> BRIGATA GURREN | B5: =IF(B18<66,0,IF(B18<70,1,IF(B18<74,2,IF(B18<78,3,IF(B18<82,4,IF(B18<86,5,IF(B18<90,6,IF(B18<94,7,IF(B18<98,8,IF(B18<101,9,10)))))))))) -> 2 | C5: =+TABELLONE!K22 -> SKIACCIAK MOSCA | D5: =IF(D18<66,0,IF(D18<70,1,IF(D18<74,2,IF(D18<78,3,IF(D18<82,4,IF(D18<86,5,IF(D18<90,6,IF(D18<94,7,IF(D18<98,8,IF(D18<101,9,10)))))))))) -> 3 | J5: =+TABELLONE!J23 -> MC TOWN | K5: =IF(K18<66,0,IF(K18<70,1,IF(K18<74,2,IF(K18<78,3,IF(K18<82,4,IF(K18<86,5,IF(K18<90,6,IF(K18<94,7,IF(K18<98,8,IF(K18<101,9,10)))))))))) -> 3 | L5: =+TABELLONE!K23 -> SOLOPISA 1909 | M5: =IF(M18<66,0,IF(M18<70,1,IF(M18<74,2,IF(M18<78,3,IF(M18<82,4,IF(M18<86,5,IF(M18<90,6,IF(M18<94,7,IF(M18<98,8,IF(M18<101,9,10)))))))))) -> 4
A6: PSG | B6: 2.5 | C6: NAPOLI | D6: 3 | J6: MANCHESTER CITY | K6: 3 | L6: JUVENTUS | M6: 7
A7: KOLAROV | B7: 6.5 | C7: HISAY | D7: 5 | J7: MARIO FERNANDES | K7: 7 | L7: MARCELO | M7: 5.5
A8: MARQUINHOS | B8: 4.5 | C8: KJAER | D8: 6.5 | J8: VALENCIA | K8: 6.5 | L8: KLAVAN | M8: 6
A9: ALBERTO MORENO | B9: 6 | C9: ZAPPACOSTA | D9: 6.5 | F9: Assist | J9: CAHILL | K9: 6 | L9: BARZAGLI | M9: 6.5
A10: SAUL NIGUEZ | B10: 10 | C10: PJANIC | D10: 6 | F10: Torres | G10: Dele Alli | J10: ROSE | K10: 6 | L10: DELE ALLI | M10: 7.5
A11: QUARESMA | B11: 5.5 | C11: MKHITARYAN | D11: 6 | F11: D.Suarez | G11: Llorente | J11: STERLING | K11: 6 | L11: MATA | M11: 7.5
A12: BANEGA | B12: 6.5 | C12: FLORENZI | D12: 6.5 | F12: Lang | J12: BERNARD | K12: 10 | L12: BUSQUETS | M12: 6
A13: ERIKSEN | B13: 7.5 | C13: GANSO | D13: 9.5 | F13: Coman x2 | J13: GABI | K13: 6 | L13: SUAREZ | M13: 8
A14: CALLEJON | B14: 5.5 | C14: MANE | D14: 14 | F14: J. Rodriguez | J14: AGUERO | K14: 9 | L14: MERTENS | M14: 4.5
A15: LUKAKU | B15: 9.5 | C15: BEN YEDDER | D15: 5.5 | F15: Schmelzer | J15: FIRMINO | K15: 11 | L15: RASHFORD | M15: 9.5
A16: DZEKO | B16: 5 | C16: MAREGA | D16: 5.5 | F16: M.Fernandes | J16: LUIZ ADRIANO | K16: 4 | L16: IBRAHIMOVIC | M16: 13
A17: FATTORE CAMPO | B17: 1 | F17: Berghuis | J17: FATTORE CAMPO | K17: 1
B18: =SUM(B6:B17) -> 70 | D18: =SUM(D6:D17) -> 74 | F18: Alexsandro | K18: =SUM(K6:K17) -> 75.5 | M18: =SUM(M6:M17) -> 81
A19: PANCHINA | C19: PANCHINA | F19: Firmino | J19: PANCHINA | L19: PANCHINA
A20: PSG | B20: 2.5 | C20: NAPOLI | D20: 3 | F20: Sturridge | J20: MANCHESTER CITY | K20: 3 | L20: JUVENTUS | M20: 7
A21: LUSTIG | B21: 6 | C21: GLIK | D21: 8 | F21: Pogba | J21: JORDI ALBA | K21: sv | L21: TOSIC | M21: 5.5
A22: VERTONGHEN | B22: sv | C22: RAGGI | D22: sv | F22: Mata | J22: JORGE | K22: sv | L22: DAVID LUIZ | M22: sv
A23: LUISAO | B23: sv | C23: ELISEU | D23: 4.5 | F23: Keita Balde | J23: MATIP | K23: sv | L23: MILIC | M23: sv
A24: KIMMICH | B24: 5.5 | C24: PAULINHO | D24: 6 | F24: R.Pereira | J24: GELSON MARTINS | K24: 6 | L24: PIZARRO | M24: 6
A25: MARLOS | B25: 7.5 | C25: SAHIN | D25: 5.5 | F25: Brahimi | J25: LOPES | K25: 5 | L25: HENDERSON | M25: sv
A26: ACUNA | B26: 6 | C26: DZAGOEV | D26: 9.5 | F26: Aboubakar | J26: ROBBEN | K26: sv | L26: PASTORE | M26: sv
A27: YARMOLENKO | B27: sv | C27: JONAS | D27: 5.5 | F27: Cavani | J27: GRIFFITHS | K27: sv | L27: AUBAMEYANG | M27: 13
A28: CERVI | B28: sv | C28: NEGREDO | D28: 9.5 | F28: Theo Hernandez | J28: TEODORCZYK | K28: sv | L28: NDLOVU | M28: 6
A29: BEN | B29: 6.5 | C29: DIAKHABY | D29: 5 | F29: Isco | J29: SCHURRLE | K29: sv | L29: TORRES | M29: 7.5
F30: Marlos
F31: Aurier
A33: GIRONE B
A35: =+TABELLONE!J48 -> UNAJUNGLACAZO FC | B35: =IF(B48<66,0,IF(B48<70,1,IF(B48<74,2,IF(B48<78,3,IF(B48<82,4,IF(B48<86,5,IF(B48<90,6,IF(B48<94,7,IF(B48<98,8,IF(B48<101,9,10)))))))))) -> 1 | C35: =+TABELLONE!K48 -> AC CONTE | D35: =IF(D48<66,0,IF(D48<70,1,IF(D48<74,2,IF(D48<78,3,IF(D48<82,4,IF(D48<86,5,IF(D48<90,6,IF(D48<94,7,IF(D48<98,8,IF(D48<101,9,10)))))))))) -> 5 | J35: =+TABELLONE!J49 -> CS RIPOSA | K35: =IF(K48<66,0,IF(K48<70,1,IF(K48<74,2,IF(K48<78,3,IF(K48<82,4,IF(K48<86,5,IF(K48<90,6,IF(K48<94,7,IF(K48<98,8,IF(K48<101,9,10)))))))))) -> 0 | L35: =+TABELLONE!K49 -> EVRIBADI | M35: =IF(M48<66,0,IF(M48<70,1,IF(M48<74,2,IF(M48<78,3,IF(M48<82,4,IF(M48<86,5,IF(M48<90,6,IF(M48<94,7,IF(M48<98,8,IF(M48<101,9,10)))))))))) -> 0
A36: REAL MADRID | B36: 4.5 | C36: ATLETICO MADRID | D36: 6 | L36: MONACO | M36: 0
A37: VIDAL | B37: 6 | C37: DANI ALVES | D37: 4.5 | L37: ORBAN | M37: 5
A38: TELLES | B38: 10 | C38: ADRIANO | D38: 5.5 | L38: PEPE | M38: 6
A39: FELIPE | B39: 2 | C39: SEMEDO | D39: 5.5 | L39: AURIER | M39: 7
A40: OTAMENDI | B40: 6 | C40: RICARDO PEREIRA | D40: 8 | L40: INIESTA | M40: 4.5
A41: KOKE | B41: 6.5 | C41: COUTINHO | D41: 17 | L41: WILLIAN | M41: 5.5
A42: FRED | B42: 7 | C42: DI MARIA | D42: 12.5 | L42: FELLAINI | M42: 6.5
A43: MOUTINHO | B43: 5 | C43: ASENSIO | D43: 6 | L43: ISCO | M43: 7
A44: DEMBELE | B44: 5 | C44: PROMES | D44: 4 | L44: NEYMAR | M44: 5.5
A45: CRISTIANO RONALDO | B45: 10 | C45: LEWANDOWSKI | D45: 9.5 | L45: ABOUBAKAR | M45: 15
A46: NOLITO | B46: 5 | C46: RAUL JIMENEZ | D46: 5 | L46: BABEL | M46: 0
A47: FATTORE CAMPO | B47: 1 | J47: FATTORE CAMPO | K47: 1
B48: =SUM(B36:B47) -> 68 | D48: =SUM(D36:D47) -> 83.5 | K48: =SUM(K36:K47) -> 1 | M48: =SUM(M36:M47) -> 62
A49: PANCHINA | C49: PANCHINA | J49: PANCHINA | L49: PANCHINA
A50: REAL MADRID | B50: 4.5 | C50: ATLETICO MADRID | D50: 6 | L50: MONACO | M50: 0
A51: UPAMECANO | B51: sv | C51: LISANDRO LOPEZ | D51: 5 | L51: ERKIN | M51: sv
A52: SUCHY | B52: 6 | C52: SULE | D52: 5.5 | L52: SHAW | M52: 6
A53: RUDIGER | B53: sv | L53: GODIN | M53: sv
A54: PEDRO | B54: 6 | C54: TOLISSO | D54: 12.5 | L54: DRAXLER | M54: 4.5
A55: VAZQUEZ | B55: 10 | C55: BRUNO FERNANDES | D55: 6 | L55: CEBALLOS | M55: 6.5
A56: SERGI ROBERTO | B56: sv | C56: OLIVER TORRES | D56: sv | L56: WEIGL | M56: 6
A57: CORONA | B57: 5 | C57: KEITA BALDE | D57: 5 | L57: GAMEIRO | M57: sv
A58: TOSUN | B58: sv | C58: JORGENSEN | D58: 9.5 | L58: RUIZ | M58: 4.5
A59: BOETIUS | B59: 6 | C59: EMENIKE | D59: sv | L59: KRAMARIC | M59: sv
A61: GIRONE C
A63: =+TABELLONE!J74 -> IBRADIPOSI | B63: =IF(B76<66,0,IF(B76<70,1,IF(B76<74,2,IF(B76<78,3,IF(B76<82,4,IF(B76<86,5,IF(B76<90,6,IF(B76<94,7,IF(B76<98,8,IF(B76<101,9,10)))))))))) -> 0 | C63: =+TABELLONE!K74 -> AC DENTI | D63: =IF(D76<66,0,IF(D76<70,1,IF(D76<74,2,IF(D76<78,3,IF(D76<82,4,IF(D76<86,5,IF(D76<90,6,IF(D76<94,7,IF(D76<98,8,IF(D76<101,9,10)))))))))) -> 0 | J63: =+TABELLONE!J75 -> MARCELLONA | K63: =IF(K76<66,0,IF(K76<70,1,IF(K76<74,2,IF(K76<78,3,IF(K76<82,4,IF(K76<86,5,IF(K76<90,6,IF(K76<94,7,IF(K76<98,8,IF(K76<101,9,10)))))))))) -> 1 | L63: =+TABELLONE!K75 -> SCARSENAL | M63: =IF(M76<66,0,IF(M76<70,1,IF(M76<74,2,IF(M76<78,3,IF(M76<82,4,IF(M76<86,5,IF(M76<90,6,IF(M76<94,7,IF(M76<98,8,IF(M76<101,9,10)))))))))) -> 4
A64: TOTTENHAM | B64: 6 | C64: PORTO | D64: 4 | J64: CHELSEA | K64: 5 | L64: MAN UTD | M64: 5
A65: ALONSO | B65: 4 | C65: SAVIC | D65: 4 | J65: ALEXSANDRO | K65: 7.5 | L65: ROJO | M65: 3
A66: SILVA | B66: 5 | C66: LOVREN | D66: 6 | J66: ALBIOL | K66: 5 | L66: MANOLAS | M66: 6
A67: BARTRA | B67: 4.5 | C67: STONES | D67: 5.5 | J67: TRIPPIER | K67: 0 | L67: PIQUE | M67: 6
A68: JAMES | B68: 7.5 | C68: FABREGAS | D68: 6 | J68: MODRIC | K68: 5.5 | L68: PEROTTI | M68: 10.5
A69: DE ROSSI | B69: 6.5 | C69: HAMSIK | D69: 5 | J69: DAVID SILVA | K69: 6 | L69: JORGINHO | M69: 9.5
A70: FERNANDO | B70: 3.5 | C70: SINCLAIR | D70: 5 | J70: RABIOT | K70: 5.5 | L70: HAZARD | M70: 6
A71: GUERREIRO | B71: 5.5 | C71: PARDO | D71: 5 | J71: SANE | K71: 5.5 | L71: STROOTMAN | M71: 6
A72: SCHICK | B72: 5 | C72: GABRIEL JESUS | D72: 6 | J72: KEITA N. | K72: 9.5 | L72: SALAH | M72: 10.5
A73: SUAREZ | B73: 5 | C73: CAVANI | D73: 6.5 | J73: EL SHAARAWY | K73: 6 | L73: FERREYRA | M73: 6
A74: KANE | B74: 0 | C74: LLORENTE | D74: 11 | J74: MBAPPE | K74: 10 | L74: PACO ALCACER | M74: 10
A75: FATTORE CAMPO | B75: 1 | J75: FATTORE CAMPO | K75: 1
B76: =SUM(B64:B75) -> 53.5 | D76: =SUM(D64:D75) -> 64 | K76: =SUM(K64:K75) -> 66.5 | M76: =SUM(M64:M75) -> 78.5
A77: PANCHINA | C77: PANCHINA | J77: PANCHINA | L77: PANCHINA
A78: TOTTENHAM | B78: 6 | C78: PORTO | D78: 4 | J78: CHELSEA | K78: 5 | L78: MAN UTD | M78: 5
A79: DANILO | B79: 4 | C79: UMTITI | D79: sv | J79: DAVIES | K79: sv | L79: JUAN JESUS | M79: sv
A80: RAMOS | B80: 5 | C80: SOCRATIS | D80: 5.5 | J80: BOATENG | K80: sv | L80: MATHIEU | M80: 3
A81: MASCHERANO | B81: sv | C81: ESCUDERO | D81: 6.5 | J81: VRSALIKO | K81: sv | L81: KONATE | M81: sv
A82: NZONZI | B82: sv | C82: THIAGO ALCANTARA | D82: sv | J82: DIAWARA | K82: 5.5 | L82: ZIELINSKI | M82: 9.5
A83: PASALIC | B83: 5 | C83: XHAKA | D83: 5.5 | J83: PIZZI | K83: 6 | L83: VERRATTI | M83: 6
A84: TOURE’ | B84: 5 | C84: SABITZER | D84: sv | J84: CHAMBERLAIN | K84: sv | L84: VAZQUEZ | M84: sv
A85: JOVETIC | B85: sv | C85: SON | D85: 10 | J85: MANDZUKIC | K85: sv | L85: BERGHUIS | M85: 7
A86: CARRILLO | B86: 5 | C86: VIETTO | D86: sv | J86: INSIGNE | K86: sv | L86: GABIGOL | M86: 4
A87: KRAMER | B87: sv | C87: DE CAMARGO | D87: sv | J87: DEFREL | K87: sv
A89: GIRONE D
A91: =TABELLONE!J100 -> INTERFOGAT | B91: =IF(B104<66,0,IF(B104<70,1,IF(B104<74,2,IF(B104<78,3,IF(B104<82,4,IF(B104<86,5,IF(B104<90,6,IF(B104<94,7,IF(B104<98,8,IF(B104<101,9,10)))))))))) -> 3 | C91: =TABELLONE!K100 -> FLYBEARD | D91: =IF(D104<66,0,IF(D104<70,1,IF(D104<74,2,IF(D104<78,3,IF(D104<82,4,IF(D104<86,5,IF(D104<90,6,IF(D104<94,7,IF(D104<98,8,IF(D104<101,9,10)))))))))) -> 3 | J91: =TABELLONE!J101 -> CICCIOBUCCIO | K91: =IF(K104<66,0,IF(K104<70,1,IF(K104<74,2,IF(K104<78,3,IF(K104<82,4,IF(K104<86,5,IF(K104<90,6,IF(K104<94,7,IF(K104<98,8,IF(K104<101,9,10)))))))))) -> 2 | L91: =TABELLONE!K101 -> CSKA SCINA | M91: =IF(M104<66,0,IF(M104<70,1,IF(M104<74,2,IF(M104<78,3,IF(M104<82,4,IF(M104<86,5,IF(M104<90,6,IF(M104<94,7,IF(M104<98,8,IF(M104<101,9,10)))))))))) -> 0
A92: BARCELLONA | B92: 6.5 | C92: BENFICA | D92: 3.5 | J92: ROMA | K92: 6 | L92: LIVERPOOL | M92: 6.5
A93: KOULIBALY | B93: 5.5 | C93: ALABA | D93: 6 | J93: KURZAWA | K93: 5 | L93: ANDRE ALMEIDA | M93: 5
A94: MARCANO | B94: 5 | C94: VARANE | D94: 6.5 | J94: NACHO | K94: 6 | L94: HUMMELS | M94: 6
A95: MERCADO | B95: 6 | C95: BENATIA | D95: 6.5 | J95: DIGNE | K95: 6 | L95: LANG | M95: 7.5
A96: BERNARDO SILVA | B96: 5.5 | C96: VIDAL | D96: 7 | J96: CASEMIRO | K96: 6.5 | L96: AZPILICUETA | M96: 6
A97: NAINGGOLAN | B97: 6.5 | C97: KROOS | D97: 9 | J97: POGBA | K97: 8 | L97: FABINHO | M97: 3.5
A98: ELYANOUSSI | B98: 9.5 | C98: EMRE CAN | D98: 6.5 | J98: KANTE | K98: 6 | L98: DE BRUYNE | M98: 5.5
A99: DELOUFEU | B99: 10 | C99: BRAHIMI | D99: 11 | J99: MATIC | K99: 6 | L99: FORSBERG | M99: 0
A100: BENZEMA | B100: 0 | C100: HIGUAIN | D100: 6 | J100: DYBALA | K100: 5 | L100: WJINALDUM | M100: 7
A101: OBERLIN | B101: 10 | C101: MORATA | D101: 6.5 | J101: MARTIAL | K101: 8 | L101: DOST | M101: 6
A102: FALCAO | B102: 8.5 | C102: AUGUSTIN | D102: 5.5 | J102: WERNER | K102: 6.5 | L102: GRIEZMANN | M102: 6
A103: FATTORE CAMPO | B103: 1 | J103: FATTORE CAMPO | K103: 1
B104: =SUM(B92:B103) -> 74 | D104: =SUM(D92:D103) -> 74 | K104: =SUM(K92:K103) -> 70 | M104: =SUM(M92:M103) -> 59
A105: PANCHINA | C105: PANCHINA | J105: PANCHINA | L105: PANCHINA
A106: BARCELLONA | B106: 6.5 | C106: BENFICA | D106: 3.5 | J106: ROMA | K106: 6 | L106: LIVERPOOL | M106: 6.5
A107: DE SCIGLIO | B107: 7 | C107: WALKER | D107: sv | J107: LENGLET | K107: 6 | L107: LINDELOF | M107: 6
A108: MAXI PEREIRA | B108: sv | C108: FELIPE LUIS | D108: 7 | J108: FAZIO | K108: 7 | L108: BALANTA | M108: 6
...

Sheet QUARTI andata
A1: QUARTI ritorno
G3: TABELLONE ALTO
A5: =+TABELLONE!A107 -> UNAJUNGLACAZO FC | B5: =IF(B18<66,0,IF(B18<70,1,IF(B18<74,2,IF(B18<78,3,IF(B18<82,4,IF(B18<86,5,IF(B18<90,6,IF(B18<94,7,IF(B18<98,8,IF(B18<101,9,10)))))))))) -> 6 | C5: =+TABELLONE!B107 -> SOLOPISA 1909 | D5: =IF(D18<66,0,IF(D18<70,1,IF(D18<74,2,IF(D18<78,3,IF(D18<82,4,IF(D18<86,5,IF(D18<90,6,IF(D18<94,7,IF(D18<98,8,IF(D18<101,9,10)))))))))) -> 1 | F5: Assist | J5: =+TABELLONE!A108 -> CICCIOBUCCIO | K5: =IF(K18<66,0,IF(K18<70,1,IF(K18<74,2,IF(K18<78,3,IF(K18<82,4,IF(K18<86,5,IF(K18<90,6,IF(K18<94,7,IF(K18<98,8,IF(K18<101,9,10)))))))))) -> 3 | L5: =+TABELLONE!B108 -> SCARSENAL | M5: =IF(M18<66,0,IF(M18<70,1,IF(M18<74,2,IF(M18<78,3,IF(M18<82,4,IF(M18<86,5,IF(M18<90,6,IF(M18<94,7,IF(M18<98,8,IF(M18<101,9,10)))))))))) -> 6
A6: REAL MADRID | B6: 5.5 | C6: JUVENTUS | D6: 3.5 | F6: Pjanic | J6: ROMA | K6: 5.5 | L6: MAN UTD | M6: 7.5
A7: OTAMENDI | B7: 6.5 | C7: DAVID LUIZ | D7: 6 | F7: De Bruyne | J7: KURZAWA | K7: 6.5 | L7: PIQUE | M7: 6.5
A8: MATIP | B8: 5.5 | C8: ALABA | D8: 6 | F8: Dele Alli | J8: NACHO | K8: 6 | L8: MANOLAS | M8: 6
A9: MARCOS ALONSO | B9: 6 | C9: MARCELO | D9: 9.5 | F9: Wijnaldum | J9: JONES | K9: 0 | L9: THIAGO SILVA | M9: 6
A10: SMALLING | B10: 6 | C10: DELE ALLI | D10: 8 | F10: Asensio | J10: CASEMIRO | K10: 5 | L10: HAZARD | M10: 7
A11: WILLIAN | B11: 11 | C11: MATA | D11: 6 | F11: Iniesta | J11: KANTE | K11: 7 | L11: PEROTTI | M11: 6
A12: FRED | B12: 9.5 | C12: INIESTA | D12: 7 | F12: Muller | J12: POGBA | K12: 5.5 | L12: RIBERY | M12: 6
A13: BERNARD | B13: 7 | C13: DOUGLAS COSTA | D13: 6 | F13: Lewandowski | J13: MATIC | K13: 6 | L13: PJANIC | M13: 6.5
A14: CRISTIANO RONALDO | B14: 13.5 | C14: BENZEMA | D14: 5 | F14: Kimmich | J14: MORATA | K14: 5.5 | L14: MESSI | M14: 10
A15: NEYMAR | B15: 5.5 | C15: SUAREZ | D15: 5 | F15: Dzeko | J15: MANE | K15: 16.5 | L15: MULLER | M15: 15
A16: FIRMINO | B16: 10 | C16: RASHFORD | D16: 6 | J16: COMAN | K16: 11 | L16: SALAH | M16: 10.5
A17: FATTORE CAMPO | B17: 1 | J17: FATTORE CAMPO | K17: 1
B18: =SUM(B6:B17) -> 87 | D18: =SUM(D6:D17) -> 68 | K18: =SUM(K6:K17) -> 75.5 | M18: =SUM(M6:M17) -> 87
A19: PANCHINA | C19: PANCHINA | J19: PANCHINA | L19: PANCHINA
A20: REAL MADRID | B20: 5.5 | C20: JUVENTUS | D20: 3.5 | J20: ROMA | K20: 5.5 | L20: MAN UTD | M20: 7.5
A21: RUDIGER | B21: 5.5 | C21: LOVREN | D21: 6 | J21: LENGLET | K21: 6.5 | L21: VARANE | M21: 6
A22: TELLES | B22: 5 | C22: PEPE | D22: 4.5 | J22: DIGNE | K22: sv | L22: JUAN JESUS | M22: sv
A23: SUCHY | B23: 5 | C23: TOSIC | D23: 4.5 | J23: RUDY | K23: sv | L23: KOMPANY | M23: 6.5
A24: ISCO | B24: 4.5 | C24: KHEDIRA | D24: 5 | J24: GUNDONGAN | K24: 13 | L24: VERRATTI | M24: 5.5
A25: OLIVEIRA | B25: sv | C25: HENDERSON | D25: 6 | J25: SISSOKO | K25: sv | L25: STROOTMAN | M25: 6
A26: SERGI ROBERTO | B26: 6 | C26: FLORENZI | D26: 5.5 | J26: LINGARD | K26: sv
A27: SON | B27: sv | C27: NEGREDO | D27: sv | J27: MARTIAL | K27: sv | L27: SANCHEZ | M27: 5
A28: BABEL | B28: 5 | C28: LAMELA | D28: 5.5 | J28: DEMBELE | K28: sv | L28: FACUNDO FERREYRA | M28: 9.5
A29: NOLITO | B29: sv | C29: IBRAHIMOVIC | D29: sv | J29: DYBALA | K29: sv
A33: TABELLONE BASSO
A35: =+TABELLONE!A109 -> BRIGATA GURREN | B35: =IF(B48<66,0,IF(B48<70,1,IF(B48<74,2,IF(B48<78,3,IF(B48<82,4,IF(B48<86,5,IF(B48<90,6,IF(B48<94,7,IF(B48<98,8,IF(B48<101,9,10)))))))))) -> 1 | C35: =+TABELLONE!B109 -> AC CONTE | D35: =IF(D48<66,0,IF(D48<70,1,IF(D48<74,2,IF(D48<78,3,IF(D48<82,4,IF(D48<86,5,IF(D48<90,6,IF(D48<94,7,IF(D48<98,8,IF(D48<101,9,10)))))))))) -> 5 | J35: =+TABELLONE!A110 -> MARCELLONA | K35: =IF(K48<66,0,IF(K48<70,1,IF(K48<74,2,IF(K48<78,3,IF(K48<82,4,IF(K48<86,5,IF(K48<90,6,IF(K48<94,7,IF(K48<98,8,IF(K48<101,9,10)))))))))) -> 2 | L35: =+TABELLONE!B110 -> CSKA SCINA | M35: =IF(M48<66,0,IF(M48<70,1,IF(M48<74,2,IF(M48<78,3,IF(M48<82,4,IF(M48<86,5,IF(M48<90,6,IF(M48<94,7,IF(M48<98,8,IF(M48<101,9,10)))))))))) -> 2
A36: PSG | B36: 3.5 | C36: BARCELLONA | D36: 5 | J36: BAYERN MONACO | K36: 6 | L36: MAN CITY | M36: 6.5
A37: KOLAROV | B37: 6 | C37: BENATIA | D37: 5.5 | J37: ALEX SANDRO | K37: 5.5 | L37: UMTITI | M37: 5.5
A38: SERGIO RAMOS | B38: 6 | C38: JORDI ALBA | D38: 6 | J38: DAVIES | K38: 4.5 | L38: HUMMELS | M38: 5.5
A39: VALENCIA | B39: 6 | C39: WALKER | D39: 7 | J39: BOATENG | K39: 6 | L39: AZPILICUETA | M39: 6.5
A40: RAKITIC | B40: 5 | C40: ROBBEN | D40: 6.5 | J40: MODRIC | K40: 6 | L40: PAULINHO | M40: 5
A41: FERNANDINHO | B41: 6.5 | C41: VIDAL | D41: 6.5 | J41: BERNARDO SILVA | K41: 10 | L41: DE BRUYNE | M41: 8
A42: BANEGA | B42: 6.5 | C42: TOLISSO | D42: 6 | J42: STERLING | K42: 6.5 | L42: TALISCA | M42: 5
A43: KIMMICH | B43: 7.5 | C43: DI MARIA | D43: 8.5 | J43: JAMES RODRIGUEZ | K43: 6.5 | L43: KROOS | M43: 6
A44: LUKAKU | B44: 5 | C44: BERNARDESCHI | D44: 6.5 | J44: MBAPPE | K44: 6.5 | L44: KANE | M44: 10
A45: HIGUAIN | B45: 8.5 | C45: LEWANDOWSKI | D45: 14.5 | J45: CAVANI | K45: 6 | L45: BALE | M45: 6.5
A46: DZEKO | B46: 6.5 | C46: AGUERO | D46: 10 | J46: MANDZUKIC | K46: 6 | L46: BEN YEDDER | M46: 5.5
A47: FATTORE CAMPO | B47: 1 | J47: FATTORE CAMPO | K47: 1
B48: =SUM(B36:B47) -> 68 | D48: =SUM(D36:D47) -> 82 | K48: =SUM(K36:K47) -> 70.5 | M48: =SUM(M36:M47) -> 70
A49: PANCHINA | C49: PANCHINA | J49: PANCHINA | L49: PANCHINA
A50: PSG | B50: 3.5 | C50: BARCELLONA | D50: 5 | J50: BAYERN MONACO | K50: 6 | L50: MAN CITY | M50: 6.5
A51: MARQUINHOS | B51: 6 | C51: DANI ALVES | D51: 6 | J51: SULE | K51: sv | L51: ESCUDERO | M51: 6
A52: VERTONGHEN | B52: 6 | C52: SEMEDO | D52: sv | J52: CHIELLINI | K52: 5 | L52: LANG | M52: 5.5
A53: BLIND | B53: sv | C53: RICARDO PEREIRA | D53: 5 | J53: VAN DIJK | K53: 6 | L53: KJAER | M53: sv
A54: ERIKSEN | B54: 10.5 | C54: ASENSIO | D54: 8.5 | J54: DAVID SILVA | K54: 6.5 | L54: WJINALDUM | M54: 8
A55: BRAHIMI | B55: 5.5 | C55: NAINGGOLAN | D55: 5.5 | J55: RABIOT | K55: 9 | L55: XHAKA | M55: 5
A56: MARLOS | B56: 7 | C56: DRAXLER | D56: sv | J56: CHAMBERLAIN | K56: sv | L56: DIER | M56: 6.5
A57: MAREGA | B57: 5.5 | C57: WAGNER | D57: sv | J57: EL SHAARAWY | K57: sv | L57: G.JESUS | M57: sv
A58: SOARES | B58: 5 | C58: LUIZ ADRIANO | D58: sv | J58: DEFREL | K58: sv | L58: LESCHUK | M58: sv
A59: SCHICK | B59: sv | C59: ABOUBAKAR | D59: sv | J59: GIROUD | K59: sv | L59: VAGNER LOVE | M59: 5.5

Sheet QUARTI ritorno
A1: QUARTI ritorno
G3: TABELLONE ALTO
A5: =+TABELLONE!B107 -> SOLOPISA 1909 | B5: =IF(B18<66,0,IF(B18<70,1,IF(B18<74,2,IF(B18<78,3,IF(B18<82,4,IF(B18<86,5,IF(B18<90,6,IF(B18<94,7,IF(B18<98,8,IF(B18<101,9,10)))))))))) -> 1 | C5: =+TABELLONE!A107 -> UNAJUNGLACAZO FC | D5: =IF(D18<66,0,IF(D18<70,1,IF(D18<74,2,IF(D18<78,3,IF(D18<82,4,IF(D18<86,5,IF(D18<90,6,IF(D18<94,7,IF(D18<98,8,IF(D18<101,9,10)))))))))) -> 2 | F5: Assist | J5: =+TABELLONE!B108 -> SCARSENAL | K5: =IF(K18<66,0,IF(K18<70,1,IF(K18<74,2,IF(K18<78,3,IF(K18<82,4,IF(K18<86,5,IF(K18<90,6,IF(K18<94,7,IF(K18<98,8,IF(K18<101,9,10)))))))))) -> 4 | L5: =+TABELLONE!A108 -> CICCIOBUCCIO | M5: =IF(M18<66,0,IF(M18<70,1,IF(M18<74,2,IF(M18<78,3,IF(M18<82,4,IF(M18<86,5,IF(M18<90,6,IF(M18<94,7,IF(M18<98,8,IF(M18<101,9,10)))))))))) -> 2
A6: JUVENTUS | B6: 6 | C6: REAL MADRID | D6: 5 | F6: Khedira | J6: MAN UTD | K6: 4.5 | L6: ROMA | M6: 6
A7: ALABA | B7: 6 | C7: MATIP | D7: 6 | F7: Higuain | J7: PIQUE | K7: 6.5 | L7: KURZAWA | M7: 0
A8: MARCELO | B8: 6 | C8: OTAMENDI | D8: 6.5 | F8: Bernardo Silva | J8: MANOLAS | K8: 6.5 | L8: LENGLET | M8: 7
A9: TOSIC | B9: 6.5 | C9: SMALLING | D9: 5.5 | F9: Rashford | J9: KOMPANY | K9: 6 | L9: FAZIO | M9: 7
A10: ALLI | B10: 4.5 | C10: BERNARD | D10: 6 | F10: Strootman | J10: HAZARD | K10: 5.5 | L10: CASEMIRO | M10: 10.5
A11: HENDERSON | B11: 5.5 | C11: FRED | D11: 6 | F11: Suarez | J11: PEROTTI | K11: 6.5 | L11: POGBA | M11: 6
A12: INIESTA | B12: 6 | C12: EMRE CAN | D12: 6.5 | F12: Messi | J12: RIBERY | K12: 6 | L12: MATIC | M12: 6
A13: MATA | B13: 6 | C13: WILLIAN | D13: 6 | F13: Muller | J13: PJANIC | K13: 5.5 | L13: GUNDOGAN | M13: 6
A14: SUAREZ | B14: 8 | C14: FIRMINO | D14: 6 | J14: MESSI | K14: 16 | L14: MANE | M14: 7
A15: RASHFORD | B15: 5.5 | C15: CRISTIANO RONALDO | D15: 10 | J15: MULLER | K15: 8 | L15: DYBALA | M15: 10.5
A16: BENZEMA | B16: 5.5 | C16: SON | D16: 10 | J16: SALAH | K16: 6 | L16: MARTIAL | M16: 6
A17: FATTORE CAMPO | B17: 1 | J17: FATTORE CAMPO | K17: 1
B18: =SUM(B6:B17) -> 66.5 | D18: =SUM(D6:D17) -> 73.5 | K18: =SUM(K6:K17) -> 78 | M18: =SUM(M6:M17) -> 72
A19: PANCHINA | C19: PANCHINA | J19: PANCHINA | L19: PANCHINA
A20: JUVENTUS | B20: 6 | C20: REAL MADRID | D20: 5 | J20: MAN UTD | K20: 4.5 | L20: ROMA | M20: 6
A21: PEPE | B21: sv | C21: MARCOS ALONSO | D21: 6.5 | J21: THIAGO SILVA | K21: 6 | L21: NACHO | M21: sv
A22: DAVID LUIZ | B22: sv | C22: RUDIGER | D22: 5.5 | J22: VARANE | K22: 6 | L22: JONES | M22: sv
A23: BARZAGLI | B23: 6.5 | C23: TELLES | D23: sv | J23: JUAN JESUS | K23: sv | L23: DIGNE | M23: sv
A24: BUSQUETS | B24: 6 | C24: PEDRO | D24: sv | J24: VERRATTI | K24: 3 | L24: KANTE | M24: 6.5
A25: DOUGLAS COSTA | B25: 7 | C25: ISCO | D25: sv | J25: STROOTMAN | K25: 7.5 | L25: SISSOKO | M25: sv
A26: KHEDIRA | B26: 7.5 | C26: SERGI ROBERTO | D26: 4.5 | L26: LINGARD | M26: 5.5
A27: LAMELA | B27: 5 | J27: SANCHEZ | K27: 6 | L27: MORATA | M27: 5.5
A28: NEGREDO | B28: sv | C28: NOLITO | D28: sv | J28: FACUNDO FERREYRA | K28: 4.5 | L28: COMAN | M28: sv
A29: IBRAHIMOVIC | B29: sv | C29: BABEL | D29: 6 | L29: DEMBELE | M29: 10
A33: TABELLONE BASSO
A35: =+TABELLONE!B109 -> AC CONTE | B35: =IF(B48<66,0,IF(B48<70,1,IF(B48<74,2,IF(B48<78,3,IF(B48<82,4,IF(B48<86,5,IF(B48<90,6,IF(B48<94,7,IF(B48<98,8,IF(B48<101,9,10)))))))))) -> 2 | C35: =+TABELLONE!A109 -> BRIGATA GURREN | D35: =IF(D48<66,0,IF(D48<70,1,IF(D48<74,2,IF(D48<78,3,IF(D48<82,4,IF(D48<86,5,IF(D48<90,6,IF(D48<94,7,IF(D48<98,8,IF(D48<101,9,10)))))))))) -> 2 | J35: =+TABELLONE!B110 -> CSKA SCINA | K35: =IF(K48<66,0,IF(K48<70,1,IF(K48<74,2,IF(K48<78,3,IF(K48<82,4,IF(K48<86,5,IF(K48<90,6,IF(K48<94,7,IF(K48<98,8,IF(K48<101,9,10)))))))))) -> 0 | L35: =+TABELLONE!A110 -> MARCELLONA | M35: =IF(M48<66,0,IF(M48<70,1,IF(M48<74,2,IF(M48<78,3,IF(M48<82,4,IF(M48<86,5,IF(M48<90,6,IF(M48<94,7,IF(M48<98,8,IF(M48<101,9,10)))))))))) -> 0
A36: BARCELLONA | B36: 6 | C36: PSG | D36: 5 | J36: MAN CITY | K36: 3.5 | L36: BAYERN MONACO | M36: 5
A37: WALKER | B37: 6 | C37: KOLAROV | D37: 6.5 | J37: HUMMELS | K37: 5.5 | L37: ALEX SANDRO | M37: 6
A38: JORDI ALBA | B38: 6 | C38: SERGIO RAMOS | D38: 6 | J38: LINDELOF | K38: 6 | L38: BOATENG | M38: 5.5
A39: DANI ALVES | B39: 4.5 | C39: VALENCIA | D39: 5 | J39: UMTITI | K39: 7 | L39: LAPORTE | M39: 5
A40: CARVAHAL | B40: 6.5 | C40: RAKITIC | D40: 6.5 | J40: AZPILICUETA | K40: 5 | L40: DAVID SILVA | M40: 4.5
A41: ROBBEN | B41: 6 | C41: ERIKSEN | D41: 6.5 | J41: DE BRUYNE | K41: 5.5 | L41: BERNARDO SILVA | M41: 7.5
A42: VIDAL | B42: 6.5 | C42: KIMMICH | D42: 5.5 | J42: TALISCA | K42: 5 | L42: JAMES RODRIGUEZ | M42: 6.5
A43: DI MARIA | B43: 6 | C43: BANEGA | D43: 6 | J43: PAULINHO | K43: 6 | L43: RABIOT | M43: 5
A44: ASENSIO | B44: 7.5 | C44: FERNANDINHO | D44: 5.5 | J44: KANE | K44: 6 | L44: MBAPPE | M44: 5.5
A45: LEWANDOWSKI | B45: 5.5 | C45: DZEKO | D45: 11 | J45: G.JESUS | K45: 8.5 | L45: CAVANI | M45: 8
A46: AGUERO | B46: 9.5 | C46: LUKAKU | D46: 8.5 | J46: BALE | K46: 6 | L46: EL SHAARAWY | M46: 4.5
A47: FATTORE CAMPO | B47: 1 | J47: FATTORE CAMPO | K47: 1
B48: =SUM(B36:B47) -> 71 | D48: =SUM(D36:D47) -> 72 | K48: =SUM(K36:K47) -> 65 | M48: =SUM(M36:M47) -> 63
A49: PANCHINA | C49: PANCHINA | J49: PANCHINA | L49: PANCHINA
A50: BARCELLONA | B50: 6 | C50: PSG | D50: 5 | J50: MAN CITY | K50: 3.5 | L50: BAYERN MONACO | M50: 5
C51: MARQUINOS | D51: 5 | J51: ESCUDERO | K51: 6 | L51: SULE | M51: 6
C52: VERTONGHEN | D52: 4.5 | J52: LANG | K52: 10 | L52: CHIELLINI | M52: 6.5
A53: RICARDO PEREIRA | B53: 6 | C53: BLIND | D53: sv | J53: MAXI PEREIRA | K53: 6 | L53: DAVIES | M53: 5.5
A54: TOLISSO | B54: sv | C54: MARLOS | D54: 5.5 | J54: DIER | K54: 5.5 | L54: MODRIC | M54: sv
A55: DRAXLER | B55: 6 | C55: QUARESMA | D55: 5.5 | J55: THIAGO ALCANTARA | K55: 10 | L55: CHAMBERLAIN | M55: sv
A56: BERNARDESCHI | B56: sv | C56: BRAHIMI | D56: sv | J56: KROOS | K56: 6 | L56: FABREGAS | M56: 4.5
A57: WAGNER | B57: 9.5 | C57: HIGUAIN | D57: 12 | J57: BEN YEDDER | K57: 13.5 | L57: DEFREL | M57: sv
A58: ABOUBAKAR | B58: 6 | C58: SCHICK | D58: sv | J58: VAGNER LOVE | K58: 9.5 | L58: GIROUD | M58: 4.5
A59: OBERLIN | B59: 5 | C59: SOARES | D59: sv | J59: LESCHUK | K59: sv | L59: MANDZUKIC | M59: sv

Sheet SEMIFINALE andata
A1: SEMIFINALE andata
G3: TABELLONE
A5: =TABELLONE!A115 -> UNAJUNGLACAZO FC | B5: =IF(B18<66,0,IF(B18<70,1,IF(B18<74,2,IF(B18<78,3,IF(B18<82,4,IF(B18<86,5,IF(B18<90,6,IF(B18<94,7,IF(B18<98,8,IF(B18<101,9,10)))))))))) -> 5 | C5: =TABELLONE!B115 -> SCARSENAL | D5: =IF(D18<66,0,IF(D18<70,1,IF(D18<74,2,IF(D18<78,3,IF(D18<82,4,IF(D18<86,5,IF(D18<90,6,IF(D18<94,7,IF(D18<98,8,IF(D18<101,9,10)))))))))) -> 2 | J5: =TABELLONE!A116 -> AC CONTE | K5: =IF(K18<66,0,IF(K18<70,1,IF(K18<74,2,IF(K18<78,3,IF(K18<82,4,IF(K18<86,5,IF(K18<90,6,IF(K18<94,7,IF(K18<98,8,IF(K18<101,9,10)))))))))) -> 0 | L5: =TABELLONE!B116 -> CSKA SCINA | M5: =IF(M18<66,0,IF(M18<70,1,IF(M18<74,2,IF(M18<78,3,IF(M18<82,4,IF(M18<86,5,IF(M18<90,6,IF(M18<94,7,IF(M18<98,8,IF(M18<101,9,10)))))))))) -> 1
A6: REAL MADRID | B6: 7 | C6: BAYERN MONACO | D6: 5 | F6: Assist | J6: BARCELLONA | K6: 5.5 | L6: CITY | M6: 2
A7: OTAMENDI | B7: 4.5 | C7: PIQUE | D7: 10 | F7: Ribery | J7: MARCELO | K7: 10 | L7: HUMMELS | M7: 6.5
A8: ALABA | B8: 7 | C8: RAMOS | D8: 6.5 | F8: Escudero | J8: JORDI ALBA | K8: 6 | L8: UMTITI | M8: 6.5
A9: ALEX SANDRO | B9: 5 | C9: KOMPANY | D9: 5 | F9: Carvahal | J9: CHIELLINI | K9: 4.5 | L9: KOLAROV | M9: 5.5
A10: RAKITIC | B10: 7.5 | C10: INIESTA | D10: 6.5 | F10: Ronaldo | J10: VIDAL | K10: 5 | L10: DE BRUYNE | M10: 5
A11: MODRIC | B11: 6 | C11: BERNARDO SILVA | D11: 5 | F11: Isco | J11: ROBBEN | K11: 6 | L11: STERLING | M11: 4.5
A12: ISCO | B12: 8.5 | C12: GUNDOGAN | D12: 4.5 | F12: Perotti | J12: SANE | K12: 6 | L12: THIAGO ALCANTARA | M12: 9.5
A13: DAVID SILVA | B13: 5 | C13: RIBERY | D13: 8 | F13: Salah | J13: DOUGLAS COSTA | K13: 5 | L13: KROOS | M13: 7
A14: FIRMINO | B14: 7.5 | C14: MESSI | D14: 6.5 | F14: Firmino | J14: KIMMICH | K14: 6 | L14: BENZEMA | M14: 5.5
A15: SUAREZ | B15: 10 | C15: MULLER | D15: 5 | J15: LEWANDOWSKI | K15: 5 | L15: MANE | M15: 10
A16: CRISTIANO RONALDO | B16: 16 | C16: SALAH | D16: 11.5 | J16: DYBALA | K16: 4.5 | L16: JESUS | M16: 4
A17: FATTORE CAMPO | B17: 1 | J17: FATTORE CAMPO | K17: 1
B18: =SUM(B6:B17) -> 85 | D18: =SUM(D6:D17) -> 73.5 | K18: =SUM(K6:K17) -> 64.5 | M18: =SUM(M6:M17) -> 66
A19: PANCHINA | C19: PANCHINA | J19: PANCHINA | L19: PANCHINA
A20: REAL MADRID | B20: 7 | C20: BAYER MONACO | D20: 5 | J20: BARCELLONA | K20: 5.5 | L20: CITY | M20: 2
A21: VAN DIJK | B21: 7 | C21: MANOLAS | D21: 5.5 | J21: WALKER | K21: 4.5 | L21: ESCUDERO | M21: 7
A22: BARZAGLI | B22: 4.5 | C22: VARANE | D22: 7 | J22: BOATENG | K22: 6.5 | L22: STONES | M22: sv
A23: FAZIO | B23: 6 | C23: DANILO | D23: sv | J23: CARVAHAL | K23: 8.5 | L23: LAPORTE | M23: 5
A24: SERGI ROBERTO | B24: 6 | C24: FERNANDINHO | D24: 5 | J24: ASENSIO | K24: 6 | L24: CASEMIRO | M24: 7
A25: EMRE CAN | B25: sv | C25: PEROTTI | D25: 6.5 | J25: TOLISSO | K25: sv | L25: WJINALDUM | M25: 6
A26: BANEGA | B26: sv | C26: STROOTMAN | D26: 5.5 | J26: NAINGGOLAN | K26: sv | L26: PAULINHO | M26: 6
A27: DEMBELE | B27: sv | C27: HIGUAIN | D27: 5.5 | J27: AGUERO | K27: sv | L27: BALE | M27: sv
A28: EL SHAARAWY | B28: 5.5 | C28: DZEKO | D28: 9.5 | J28: MANDZUKIC | K28: 5 | L28: BEN YEDDER | M28: 6
A29: NOLITO | B29: sv | C29: ALCACER | D29: sv | J29: WAGNER | K29: sv | L29: MURIEL | M29: sv

Sheet SEMIFINALE ritorno
A1: SEMIFINALE ritorno
G3: TABELLONE
A5: =TABELLONE!B115 -> SCARSENAL | B5: =IF(B18<66,0,IF(B18<70,1,IF(B18<74,2,IF(B18<78,3,IF(B18<82,4,IF(B18<86,5,IF(B18<90,6,IF(B18<94,7,IF(B18<98,8,IF(B18<101,9,10)))))))))) -> 1 | C5: =TABELLONE!A115 -> UNAJUNGLACAZO FC | D5: =IF(D18<66,0,IF(D18<70,1,IF(D18<74,2,IF(D18<78,3,IF(D18<82,4,IF(D18<86,5,IF(D18<90,6,IF(D18<94,7,IF(D18<98,8,IF(D18<101,9,10)))))))))) -> 0 | F5: Assist | J5: =TABELLONE!B116 -> CSKA SCINA | K5: =IF(K18<66,0,IF(K18<70,1,IF(K18<74,2,IF(K18<78,3,IF(K18<82,4,IF(K18<86,5,IF(K18<90,6,IF(K18<94,7,IF(K18<98,8,IF(K18<101,9,10)))))))))) -> 1 | L5: =TABELLONE!A116 -> AC CONTE | M5: =IF(M18<66,0,IF(M18<70,1,IF(M18<74,2,IF(M18<78,3,IF(M18<82,4,IF(M18<86,5,IF(M18<90,6,IF(M18<94,7,IF(M18<98,8,IF(M18<101,9,10)))))))))) -> 0
A6: BAYERN MONACO | B6: 6 | C6: REAL MADRID | D6: 1.5 | F6: Sterling | J6: CITY | K6: 2.5 | L6: BARCELLONA | M6: 2
A7: PIQUE | B7: 4 | C7: ALABA | D7: 5 | F7: Under | J7: HUMMELS | K7: 7 | L7: MARCELO | M7: 4.5
A8: VARANE | B8: 6.5 | C8: OTAMENDI | D8: 4.5 | J8: UMTITI | K8: 4 | L8: WALKER | M8: 5
A9: BERNAT | B9: 8.5 | C9: ALEX SANDRO | D9: 5.5 | J9: KOLAROV | K9: 7.5 | L9: CARVAHAL | M9: 5
A10: INIESTA | B10: 5 | C10: ISCO | D10: 7 | J10: KROOS | K10: 5.5 | L10: BOATENG | M10: 6
A11: PJANIC | B11: 6.5 | C11: MODRIC | D11: 6 | J11: DE BRUYNE | K11: 6 | L11: ROBBEN | M11: 6.5
A12: GUNDOGAN | B12: 5.5 | C12: DAVID SILVA | D12: 5.5 | J12: JAMES | K12: 6.5 | L12: SANE | M12: 6
A13: RIBERY | B13: 6 | C13: RAKITIC | D13: 5 | J13: STERLING | K13: 7 | L13: VIDAL | M13: 6
A14: MESSI | B14: 4 | C14: CRISTIANO RONALDO | D14: 9.5 | J14: MANE | K14: 6 | L14: DOUGLAS COSTA | M14: 7
A15: MULLER | B15: 5.5 | C15: SUAREZ | D15: 4 | J15: GABRIEL JESUS | K15: 8 | L15: LEWANDOWSKI | M15: 5.5
A16: SALAH | B16: 10 | C16: FIRMINO | D16: 10 | J16: BENZEMA | K16: 5.5 | L16: AGUERO | M16: 5.5
A17: FATTORE CAMPO | B17: 1 | J17: FATTORE CAMPO | K17: 1
B18: =SUM(B6:B17) -> 68.5 | D18: =SUM(D6:D17) -> 63.5 | K18: =SUM(K6:K17) -> 66.5 | M18: =SUM(M6:M17) -> 59
A19: PANCHINA | C19: PANCHINA | J19: PANCHINA | L19: PANCHINA
A20: BAYERN MONACO | B20: 6 | C20: REAL MADRID | D20: 1.5 | J20: CITY | K20: 2.5 | L20: BARCELLONA | M20: 2
A21: KOMPANY | B21: sv | C21: VAN DIJK | D21: 5 | J21: ESCUDERO | K21: 5 | L21: JORDI ALBA | M21: 5.5
A22: MANOLAS | B22: 8.5 | C22: FAZIO | D22: 7 | J22: LAPORTE | K22: 5 | L22: CHIELLINI | M22: 7
A23: RAMOS | B23: sv | C23: NACHO | D23: sv | J23: KJAER | K23: sv | L23: BENATIA | M23: 5.5
A24: FERNANDINHO | B24: 6 | C24: UNDER | D24: 8 | J24: WJINALDUM | K24: 6 | L24: ASENSIO | M24: 6
A25: BERNARDO SILVA | B25: 6 | C25: BANEGA | D25: 6 | J25: CASEMIRO | K25: 5 | L25: KIMMICH | M25: 6
A26: PEROTTI | B26: sv | C26: SERGI ROBERTO | D26: 5.5 | J26: THIAGO ALCANTARA | K26: 6 | L26: TOLISSO | M26: sv
A27: DZEKO | B27: 12 | C27: DEMBELE | D27: sv | J27: MURIEL | K27: 5.5 | L27: MANDZUKIC | M27: 13.5
A28: HIGUAIN | B28: 6.5 | C28: EL SHAARAWY | D28: 7 | J28: BEN YEDDER | K28: 5 | L28: WAGNER | M28: 5.5
A29: ALCACER | B29: sv | C29: NOLITO | D29: sv | J29: BALE | K29: 5 | L29: COMAN | M29: sv

Sheet FINALE
A1: FINALE
B3: ANDATA | K3: RITORNO
A5: =TABELLONE!A121 -> UNAJUNGLACAZO FC | B5: =IF(B18<66,0,IF(B18<70,1,IF(B18<74,2,IF(B18<78,3,IF(B18<82,4,IF(B18<86,5,IF(B18<90,6,IF(B18<94,7,IF(B18<98,8,IF(B18<101,9,10)))))))))) -> 5 | C5: =TABELLONE!B121 -> CSKA SCINA | D5: =IF(D18<66,0,IF(D18<70,1,IF(D18<74,2,IF(D18<78,3,IF(D18<82,4,IF(D18<86,5,IF(D18<90,6,IF(D18<94,7,IF(D18<98,8,IF(D18<101,9,10)))))))))) -> 2 | J5: =TABELLONE!B121 -> CSKA SCINA | K5: =IF(K18<66,0,IF(K18<70,1,IF(K18<74,2,IF(K18<78,3,IF(K18<82,4,IF(K18<86,5,IF(K18<90,6,IF(K18<94,7,IF(K18<98,8,IF(K18<101,9,10)))))))))) -> 0 | L5: =TABELLONE!A121 -> UNAJUNGLACAZO FC | M5: =IF(M18<66,0,IF(M18<70,1,IF(M18<74,2,IF(M18<78,3,IF(M18<82,4,IF(M18<86,5,IF(M18<90,6,IF(M18<94,7,IF(M18<98,8,IF(M18<101,9,10)))))))))) -> 0
A6: REAL MADRID | B6: 4.5 | C6: ROMA | D6: 0.5 | F6: Assist
A7: SERGIO RAMOS | B7: 6.5 | C7: HUMMELS | D7: 6.5 | F7: Nainggollan
A8: VAN DIJK | B8: 6 | C8: KOLAROV | D8: 5 | F8: Milner
A9: ALABA | B9: 4.5 | C9: MARCELO | D9: 10 | F9: Salah x2
A10: ISCO | B10: 5 | C10: JAMES RODRIGUEZ | D10: 8 | F10: Firmino
A11: RIBERY | B11: 6.5 | C11: FLORENZI | D11: 5 | F11: James Rodriguez
A12: UNDER | B12: 4.5 | C12: OXLADE CHAMBERLAIN | D12: 6
A13: MILNER | B13: 8 | C13: KROOS | D13: 6
A14: CRISTIANO RONALDO | B14: 5.5 | C14: DZEKO | D14: 9.5
A15: SALAH | B15: 17 | C15: MANE | D15: 9.5
A16: FIRMINO | B16: 15 | C16: LEWANDOWSKI | D16: 5.5
A17: FATTORE CAMPO | B17: 1 | J17: FATTORE CAMPO | K17: 1
B18: =SUM(B6:B17) -> 84 | D18: =SUM(D6:D17) -> 71.5 | K18: =SUM(K6:K17) -> 1 | M18: =SUM(M6:M17) -> 0
A19: PANCHINA | C19: PANCHINA | J19: PANCHINA | L19: PANCHINA
A20: REAL MADRID | B20: 4.5 | C20: ROMA | D20: 0.5
A21: BERNAT | B21: sv | C21: CARVAJAL | D21: 5.5
A22: MANOLAS | B22: 4.5 | C22: ROBERTSON | D22: 6.5
A23: VARANE | B23: 6 | C23: BOATENG | D23: 6
A24: NAINGGOLAN | B24: 7.5 | C24: KIMMICH | D24: 9.5
A25: MODRIC | B25: 6.5 | C25: ASENSIO | D25: 10
A26: TOLISSO | B26: 6 | C26: THIAGO ALCANTARA | D26: 5
A27: MULLER | B27: 5.5 | C27: BENZEMA | D27: 6
A28: EL SHAARAWY | B28: sv | C28: BALE | D28: sv
A29: SCHICK | B29: 6 | C29: INGS | D29: 6

Sheet unajunglacazo
A1: Squadra
J2: FORMAZIONE GUIDATA | O2: 343
A3: Portiere | B3: Squadra | O3: 352
A4: REAL MADRID | B4: REA | J4: MODULO: | O4: 442
J5: =IF(L4="","","P") | K5: =A4 -> REAL MADRID | O5: 433
A6: Difensori | J6: =IF(L4="","","D") | O6: 451
A7: SERGIO RAMOS | B7: REA | J7: =IF(L4="","","D") | O7: 541
A8: ALABA | B8: BAY | J8: =IF(L4="","","D") | O8: 532
A9: MANOLAS | B9: ROM | J9: =IF(L4="","",IF(L4>400,"D","C"))
A10: VAN DIJK | B10: LIV | J10: =IF(L4="","",IF(L4>500,"D","C"))
A11: NACHO | B11: REA | J11: =IF($L$4="","","C")
A12: FAZIO | B12: ROM | J12: =IF($L$4="","","C")
A13: VARANE | B13: REA | J13: =IF(L4="","",IF(OR(L4=433,L4=343),"A","C"))
A14: BERNAT | B14: BAY | J14: =IF(L4="","",IF(OR(L4=451,L4=541),"C","A"))
J15: =IF($L$4="","","A")
A16: Centrocampisti | K16: PANCHINA
A17: MODRIC | B17: REA | J17: =IF($L$4="","","P") | K17: =A4 -> REAL MADRID
A18: RIBERY | B18: BAY | J18: =IF($L$4="","","D")
A19: NAINGGOLAN | B19: ROM | J19: =IF($L$4="","","D")
A20: ISCO | B20: REA | J20: =IF($L$4="","","D")
A21: MILNER | B21: LIV | J21: =IF($L$4="","","C")
A22: UNDER | B22: ROM | J22: =IF($L$4="","","C")
A23: EMRE CAN | B23: LIV | J23: =IF($L$4="","","C")
A24: TOLISSO | B24: BAY | J24: =IF($L$4="","","A")
J25: =IF($L$4="","","A")
A26: Attaccanti | J26: =IF($L$4="","","A")
A27: CRISTIANO RONALDO | B27: REA
A28: SALAH | B28: LIV
A29: MULLER | B29: BAY
A30: FIRMINO | B30: LIV
A31: SCHICK | B31: ROM
A32: EL SHAARAWY | B32: ROM

Sheet cska
A1: Squadra | B1: Andrea Martino e Mirko Forti
J2: FORMAZIONE GUIDATA | O2: 343
A3: Portiere | B3: Squadra | O3: 352
A4: ROMA | B4: ROM | J4: MODULO: | O4: 442
J5: =IF(L4="","","P") | K5: =A4 -> ROMA | O5: 433
A6: Difensori | J6: =IF(L4="","","D") | O6: 451
A7: HUMMELS | B7: BAY | J7: =IF(L4="","","D") | O7: 541
A8: MARCELO | B8: REA | J8: =IF(L4="","","D") | O8: 532
A9: ROBERTSON | B9: LIV | J9: =IF(L4="","",IF(L4>400,"D","C"))
A10: KOLAROV | B10: ROM | J10: =IF(L4="","",IF(L4>500,"D","C"))
A11: MORENO | B11: LIV | J11: =IF($L$4="","","C")
A12: CARVAJAL | B12: REA | J12: =IF($L$4="","","C")
A13: BOATENG | B13: BAY | J13: =IF(L4="","",IF(OR(L4=433,L4=343),"A","C"))
A14: RAFINHA | B14: BAY | J14: =IF(L4="","",IF(OR(L4=451,L4=541),"C","A"))
J15: =IF($L$4="","","A")
A16: Centrocampisti | K16: PANCHINA
A17: ASENSIO | B17: REA | J17: =IF($L$4="","","P") | K17: =A4 -> ROMA
A18: KIMMICH | B18: BAY | J18: =IF($L$4="","","D")
A19: KROOS | B19: REA | J19: =IF($L$4="","","D")
A20: FLORENZI | B20: ROM | J20: =IF($L$4="","","D")
A21: CASEMIRO | B21: REA | J21: =IF($L$4="","","C")
A22: CHAMBERLAIN | B22: LIV | J22: =IF($L$4="","","C")
A23: JAMES RODRIGUEZ | B23: BAY | J23: =IF($L$4="","","C")
A24: THIAGO ALCANTARA | B24: BAY | J24: =IF($L$4="","","A")
J25: =IF($L$4="","","A")
A26: Attaccanti | J26: =IF($L$4="","","A")
A27: MANE | B27: LIV
A28: BALE | B28: REA
A29: LEWANDOWSKY | B29: BAY
A30: DZEKO | B30: ROM
A31: INGS | B31: LIV
A32: BENZEMA | B32: REA
