Workbook

Sheet TABELLONE
A1: GIRONE A | D1: ORDINE CHIAMATA QUARTI | J1: 1° GIORNATA
D2: SCARSENAL | F2: 467.5 | J2: =A5 -> MC TOWN | K2: =A8 -> SKIACCIAK MOSCA | L2: =IF('1° GIORNATA'!$B$18=1,"",'1° GIORNATA'!$B$5) -> 3 | M2: =IF('1° GIORNATA'!$D$18=0,"",'1° GIORNATA'!$D$5) -> 0 | O2: =IF(L2="",0,IF(L2>M2,3,IF(L2=M2,1,0))) -> 3 | P2: =IF(M2="",0,IF(M2>L2,3,IF(M2=L2,1,0))) -> 0
A3: SQUADRE | D3: AC CONTE | F3: 454 | J3: =A6 -> BRIGATA GURREN | K3: =A7 -> SOLOPISA 1909 | L3: =IF('1° GIORNATA'!$K$18=1,"",'1° GIORNATA'!$K$5) -> 4 | M3: =IF('1° GIORNATA'!$M$18=0,"",'1° GIORNATA'!$M$5) -> 1 | O3: =IF(L3="",0,IF(L3>M3,3,IF(L3=M3,1,0))) -> 3 | P3: =IF(M3="",0,IF(M3>L3,3,IF(M3=L3,1,0))) -> 0
D4: SOLOPISA 1909 | F4: 430
A5: MC TOWN | B5: A | D5: CSKA SCINA | F5: 403.5 | J5: 2° GIORNATA
A6: BRIGATA GURREN | B6: B | D6: BRIGATA GURREN | F6: 461.5 | J6: =A8 -> SKIACCIAK MOSCA | K6: =A6 -> BRIGATA GURREN | L6: =IF('2° GIORNATA'!$B$18=1,"",'2° GIORNATA'!$B$5) -> 2 | M6: =IF('2° GIORNATA'!$D$18=0,"",'2° GIORNATA'!$D$5) -> 5 | O6: =IF(L6="",0,IF(L6>M6,3,IF(L6=M6,1,0))) -> 0 | P6: =IF(M6="",0,IF(M6>L6,3,IF(M6=L6,1,0))) -> 3
A7: SOLOPISA 1909 | B7: C | D7: UNAJUNGLACAZO FC | F7: 444.5 | J7: =A7 -> SOLOPISA 1909 | K7: =A5 -> MC TOWN | L7: =IF('2° GIORNATA'!$K$18=1,"",'2° GIORNATA'!$K$5) -> 2 | M7: =IF('2° GIORNATA'!$M$18=0,"",'2° GIORNATA'!$M$5) -> 1 | O7: =IF(L7="",0,IF(L7>M7,3,IF(L7=M7,1,0))) -> 3 | P7: =IF(M7="",0,IF(M7>L7,3,IF(M7=L7,1,0))) -> 0
A8: SKIACCIAK MOSCA | B8: D | D8: MARCELLONA | F8: 439.5
D9: CICCIOBUCCIO | F9: 435.5 | J9: 3° GIORNATA
J10: =A5 -> MC TOWN | K10: =A6 -> BRIGATA GURREN | L10: =IF('3° GIORNATA'!$B$18=1,"",'3° GIORNATA'!$B$5) -> 8 | M10: =IF('3° GIORNATA'!$D$18=0,"",'3° GIORNATA'!$D$5) -> 4 | O10: =IF(L10="",0,IF(L10>M10,3,IF(L10=M10,1,0))) -> 3 | P10: =IF(M10="",0,IF(M10>L10,3,IF(M10=L10,1,0))) -> 0
J11: =A8 -> SKIACCIAK MOSCA | K11: =A7 -> SOLOPISA 1909 | L11: =IF('3° GIORNATA'!$K$18=1,"",'3° GIORNATA'!$K$5) -> 0 | M11: =IF('3° GIORNATA'!$M$18=0,"",'3° GIORNATA'!$M$5) -> 0 | O11: =IF(L11="",0,IF(L11>M11,3,IF(L11=M11,1,0))) -> 1 | P11: =IF(M11="",0,IF(M11>L11,3,IF(M11=L11,1,0))) -> 1
A12: CLASSIFICA
J13: 4° GIORNATA
B14: pts | C14: g.f. | D14: g.s. | E14: diff. | F14: fantaPts | J14: =A6 -> BRIGATA GURREN | K14: =A5 -> MC TOWN | L14: =IF('4° GIORNATA'!$B$18=1,"",'4° GIORNATA'!$B$5) -> 5 | M14: =IF('4° GIORNATA'!$D$18=0,"",'4° GIORNATA'!$D$5) -> 2 | O14: =IF(L14="",0,IF(L14>M14,3,IF(L14=M14,1,0))) -> 3 | P14: =IF(M14="",0,IF(M14>L14,3,IF(M14=L14,1,0))) -> 0
A15: SOLOPISA 1909 | B15: =$P$3+$O$7+$P$11+$O$15+$O$19+$P$23 -> 13 | C15: =IF($M$3="",0,$M$3)+IF($L$7="",0,$L$7)+IF($M$11="",0,$M$11)+IF($L$15="",0,$L$15)+IF($L$19="",0,$L$19)+IF($M$23="",0,$M$23) -> 14 | D15: =IF($L$3="",0,$L$3)+IF($M$7="",0,$M$7)+IF($L$11="",0,$L$11)+IF($M$15="",0,$M$15)+IF($M$19="",0,$M$19)+IF($L$23="",0,$L$23) -> 9 | E15: =C15-D15 -> 5 | F15: =+'1° GIORNATA'!$M$18+'2° GIORNATA'!$K$18+'3° GIORNATA'!$M$18+'4° GIORNATA'!$K$18+'5° GIORNATA'!$K$18+'6° GIORNATA'!$M$18 -> 430 | G15: A1 | J15: =A7 -> SOLOPISA 1909 | K15: =A8 -> SKIACCIAK MOSCA | L15: =IF('4° GIORNATA'!$K$18=1,"",'4° GIORNATA'!$K$5) -> 3 | M15: =IF('4° GIORNATA'!$M$18=0,"",'4° GIORNATA'!$M$5) -> 0 | N15: 1 | O15: =IF(L15="",0,IF(L15>M15,3,IF(L15=M15,1,0))) -> 3 | P15: =IF(M15="",0,IF(M15>L15,3,IF(M15=L15,1,0))) -> 0
A16: BRIGATA GURREN | B16: =$O$3+$P$6+$P$10+$O$14+$P$19+$O$22 -> 9 | C16: =IF($L$3="",0,$L$3)+IF($M$6="",0,$M$6)+IF($M$10="",0,$M$10)+IF($L$14="",0,$L$14)+IF($M$19="",0,$M$19)+IF($L$22="",0,$L$22) -> 21 | D16: =IF($M$3="",0,$M$3)+IF($L$6="",0,$L$6)+IF($L$10="",0,$L$10)+IF($M$14="",0,$M$14)+IF($L$19="",0,$L$19)+IF($M$22="",0,$M$22) -> 20 | E16: =C16-D16 -> 1 | F16: =+'1° GIORNATA'!K18+'2° GIORNATA'!D18+'3° GIORNATA'!D18+'4° GIORNATA'!B18+'5° GIORNATA'!M18+'6° GIORNATA'!B18 -> 461.5 | G16: A2 | N16: 2
A17: MC TOWN | B17: =$O$2+$P$7+$O$10+$P$14+$P$18+$O$23 -> 9 | C17: =IF($L$2="",0,$L$2)+IF($M$7="",0,$M$7)+IF($L$10="",0,$L$10)+IF($M$14="",0,$M$14)+IF($M$18="",0,$M$18)+IF($L$23="",0,$L$23) -> 20 | D17: =IF($M$2="",0,$M$2)+IF($L$7="",0,$L$7)+IF($M$10="",0,$M$10)+IF($L$14="",0,$L$14)+IF($L$18="",0,$L$18)+IF($M$23="",0,$M$23) -> 16 | E17: =C17-D17 -> 4 | F17: ='1° GIORNATA'!$B$18+'2° GIORNATA'!$M$18+'3° GIORNATA'!$B$18+'4° GIORNATA'!$D$18+'5° GIORNATA'!$D$18+'6° GIORNATA'!$K$18 -> 460.5 | J17: 5° GIORNATA | N17: 3
A18: SKIACCIAK MOSCA | B18: =$P$2+$O$6+$O$11+$P$15+$O$18+$P$22 -> 4 | C18: =IF($M$2="",0,$M$2)+IF($L$6="",0,$L$6)+IF($L$11="",0,$L$11)+IF($M$15="",0,$M$15)+IF($L$18="",0,$L$18)+IF($M$22="",0,$M$22) -> 6 | D18: =IF($L$3="",0,$L$3)+IF($L$7="",0,$L$7)+IF($L$10="",0,$L$10)+IF($M$15="",0,$M$15)+IF($M$19="",0,$M$19)+IF($M$22="",0,$M$22) -> 18 | E18: =C18-D18 -> -12 | F18: =+'1° GIORNATA'!$D$18+'2° GIORNATA'!$B$18+'3° GIORNATA'!$K$18+'4° GIORNATA'!$M$18+'5° GIORNATA'!$B$18+'6° GIORNATA'!$D$18 -> 389 | J18: =A8 -> SKIACCIAK MOSCA | K18: =A5 -> MC TOWN | L18: =IF('5° GIORNATA'!$B$18=1,"",'5° GIORNATA'!$B$5) -> 1 | M18: =IF('5° GIORNATA'!$D$18=0,"",'5° GIORNATA'!$D$5) -> 3 | N18: 4 | O18: =IF(L18="",0,IF(L18>M18,3,IF(L18=M18,1,0))) -> 0 | P18: =IF(M18="",0,IF(M18>L18,3,IF(M18=L18,1,0))) -> 3
J19: =A7 -> SOLOPISA 1909 | K19: =A6 -> BRIGATA GURREN | L19: =IF('5° GIORNATA'!$K$18=1,"",'5° GIORNATA'!$K$5) -> 4 | M19: =IF('5° GIORNATA'!$M$18=0,"",'5° GIORNATA'!$M$5) -> 1 | O19: =IF(L19="",0,IF(L19>M19,3,IF(L19=M19,1,0))) -> 3 | P19: =IF(M19="",0,IF(M19>L19,3,IF(M19=L19,1,0))) -> 0
J21: 6° GIORNATA
J22: =A6 -> BRIGATA GURREN | K22: =A8 -> SKIACCIAK MOSCA | L22: =IF('6° GIORNATA'!$B$18=1,"",'6° GIORNATA'!$B$5) -> 2 | M22: =IF('6° GIORNATA'!$D$18=0,"",'6° GIORNATA'!$D$5) -> 3 | O22: =IF(L22="",0,IF(L22>M22,3,IF(L22=M22,1,0))) -> 0 | P22: =IF(M22="",0,IF(M22>L22,3,IF(M22=L22,1,0))) -> 3
J23: =A5 -> MC TOWN | K23: =A7 -> SOLOPISA 1909 | L23: =IF('6° GIORNATA'!$K$18=1,"",'6° GIORNATA'!$K$5) -> 3 | M23: =IF('6° GIORNATA'!$M$18=0,"",'6° GIORNATA'!$M$5) -> 4 | O23: =IF(L23="",0,IF(L23>M23,3,IF(L23=M23,1,0))) -> 0 | P23: =IF(M23="",0,IF(M23>L23,3,IF(M23=L23,1,0))) -> 3
A27: GIRONE B | J27: 1° GIORNATA
J28: =A34 -> UNAJUNGLACAZO FC | K28: =A32 -> EVRIBADI | L28: =IF('1° GIORNATA'!$B$48=1,"",'1° GIORNATA'!$B$35) -> 3 | M28: =IF('1° GIORNATA'!$D$48=0,"",'1° GIORNATA'!$D$35) -> 2 | O28: =IF(L28="",0,IF(L28>M28,3,IF(L28=M28,1,0))) -> 3 | P28: =IF(M28="",0,IF(M28>L28,3,IF(M28=L28,1,0))) -> 0
A29: SQUADRE | J29: =A31 -> CS RIPOSA | K29: =A33 -> AC CONTE | L29: =IF('1° GIORNATA'!$K$48=1,"",'1° GIORNATA'!$K$35) -> 4 | M29: =IF('1° GIORNATA'!$M$48=0,"",'1° GIORNATA'!$M$35) -> 3 | O29: =IF(L29="",0,IF(L29>M29,3,IF(L29=M29,1,0))) -> 3 | P29: =IF(M29="",0,IF(M29>L29,3,IF(M29=L29,1,0))) -> 0
A31: CS RIPOSA | B31: E | J31: 2° GIORNATA
A32: EVRIBADI | B32: F | J32: =A33 -> AC CONTE | K32: =A34 -> UNAJUNGLACAZO FC | L32: =IF('2° GIORNATA'!$B$48=1,"",'2° GIORNATA'!$B$35) -> 2 | M32: =IF('2° GIORNATA'!$D$48=0,"",'2° GIORNATA'!$D$35) -> 2 | O32: =IF(L32="",0,IF(L32>M32,3,IF(L32=M32,1,0))) -> 1 | P32: =IF(M32="",0,IF(M32>L32,3,IF(M32=L32,1,0))) -> 1
A33: AC CONTE | B33: G | J33: =A32 -> EVRIBADI | K33: =A31 -> CS RIPOSA | L33: =IF('2° GIORNATA'!$K$48=1,"",'2° GIORNATA'!$K$35) -> 5 | M33: =IF('2° GIORNATA'!$M$48=0,"",'2° GIORNATA'!$M$35) -> 0 | O33: =IF(L33="",0,IF(L33>M33,3,IF(L33=M33,1,0))) -> 3 | P33: =IF(M33="",0,IF(M33>L33,3,IF(M33=L33,1,0))) -> 0
A34: UNAJUNGLACAZO FC | B34: H
J35: 3° GIORNATA
J36: =A31 -> CS RIPOSA | K36: =A34 -> UNAJUNGLACAZO FC | L36: =IF('3° GIORNATA'!$B$48=1,"",'3° GIORNATA'!$B$35) -> 2 | M36: =IF('3° GIORNATA'!$D$48=0,"",'3° GIORNATA'!$D$35) -> 4 | O36: =IF(L36="",0,IF(L36>M36,3,IF(L36=M36,1,0))) -> 0 | P36: =IF(M36="",0,IF(M36>L36,3,IF(M36=L36,1,0))) -> 3
J37: =A33 -> AC CONTE | K37: =A32 -> EVRIBADI | L37: =IF('3° GIORNATA'!$K$48=1,"",'3° GIORNATA'!$K$35) -> 4 | M37: =IF('3° GIORNATA'!$M$48=0,"",'3° GIORNATA'!$M$35) -> 3 | O37: =IF(L37="",0,IF(L37>M37,3,IF(L37=M37,1,0))) -> 3 | P37: =IF(M37="",0,IF(M37>L37,3,IF(M37=L37,1,0))) -> 0
A38: CLASSIFICA
J39: 4° GIORNATA
B40: pts | C40: g.f. | D40: g.s. | E40: diff. | F40: fantaPts | J40: =A34 -> UNAJUNGLACAZO FC | K40: =A31 -> CS RIPOSA | L40: =IF('4° GIORNATA'!$B$48=1,"",'4° GIORNATA'!$B$35) -> 1 | M40: =IF('4° GIORNATA'!$D$48=0,"",'4° GIORNATA'!$D$35) -> 1 | O40: =IF(L40="",0,IF(L40>M40,3,IF(L40=M40,1,0))) -> 1 | P40: =IF(M40="",0,IF(M40>L40,3,IF(M40=L40,1,0))) -> 1
A41: AC CONTE | B41: =$P$29+$O$32+$O$37+$P$41+$O$45+$P$48 -> 11 | C41: =IF($M$29="",0,$M$29)+IF($L$32="",0,$L$32)+IF($L$37="",0,$L$37)+IF($M$41="",0,$M$41)+IF($L$45="",0,$L$45)+IF($M$48="",0,$M$48) -> 18 | D41: =IF($L$29="",0,$L$29)+IF($M$32="",0,$M$32)+IF($M$37="",0,$M$37)+IF($L$41="",0,$L$41)+IF($M$45="",0,$M$45)+IF($L$48="",0,$L$48) -> 11 | E41: =C41-D41 -> 7 | F41: =+'1° GIORNATA'!$M$48+'2° GIORNATA'!$B$48+'3° GIORNATA'!$K$48+'4° GIORNATA'!$M$48+'5° GIORNATA'!$K$48+'6° GIORNATA'!$D$48 -> 454 | G41: B1 | J41: =A32 -> EVRIBADI | K41: =A33 -> AC CONTE | L41: =IF('4° GIORNATA'!$K$48=1,"",'4° GIORNATA'!$K$35) -> 1 | M41: =IF('4° GIORNATA'!$M$48=0,"",'4° GIORNATA'!$M$35) -> 1 | N41: 1 | O41: =IF(L41="",0,IF(L41>M41,3,IF(L41=M41,1,0))) -> 1 | P41: =IF(M41="",0,IF(M41>L41,3,IF(M41=L41,1,0))) -> 1
A42: UNAJUNGLACAZO FC | B42: =$O$28+$P$32+$P$36+$O$40+$P$44+$O$48 -> 11 | C42: =IF($L$28="",0,$L$28)+IF($M$32="",0,$M$32)+IF($M$36="",0,$M$36)+IF($L$40="",0,$L$40)+IF($M$44="",0,$M$44)+IF($L$48="",0,$L$48) -> 15 | D42: =IF($M$28="",0,$M$28)+IF($L$32="",0,$L$32)+IF($L$36="",0,$L$36)+IF($M$40="",0,$M$40)+IF($L$44="",0,$L$44)+IF($M$48="",0,$M$48) -> 15 | E42: =C42-D42 -> 0 | F42: =+'1° GIORNATA'!$B$48+'2° GIORNATA'!$D$48+'3° GIORNATA'!$D$48+'4° GIORNATA'!$B$48+'5° GIORNATA'!$D$48+'6° GIORNATA'!$B$48 -> 444.5 | G42: B2 | N42: 2
A43: EVRIBADI | B43: =$P$28+$O$33+$P$37+$O$41+$O$44+$P$49 -> 4 | C43: =IF($M$28="",0,$M$28)+IF($L$33="",0,$L$33)+IF($M$37="",0,$M$37)+IF($L$41="",0,$L$41)+IF($L$44="",0,$L$44)+IF($M$49="",0,$M$49) -> 14 | D43: =IF($L$28="",0,$L$28)+IF($M$33="",0,$M$33)+IF($L$37="",0,$L$37)+IF($M$41="",0,$M$41)+IF(M$44="",0,$M$44)+IF($L$49="",0,$L$49) -> 12 | E43: =C43-D43 -> 2 | F43: =+'1° GIORNATA'!$D$48+'2° GIORNATA'!$K$48+'3° GIORNATA'!$M$48+'4° GIORNATA'!$K$48+'5° GIORNATA'!$B$48+'6° GIORNATA'!$M$48 -> 437.5 | J43: 5° GIORNATA | N43: 3
A44: CS RIPOSA | B44: =$O$29+$P$33+$O$36+$P$40+$P$45+$O$49 -> 4 | C44: =IF($L$29="",0,$L$29)+IF($M$33="",0,$M$33)+IF($L$36="",0,$L$36)+IF($M$40="",0,$M$40)+IF($M$45="",0,$M$45)+IF($L$49="",0,$L$49) -> 7 | D44: =IF($M$29="",0,$M$29)+IF($L$33="",0,$L$33)+IF($M$36="",0,$M$36)+IF($L$40="",0,$L$40)+IF($L$45="",0,$L$45)+IF($M$49="",0,$M$49) -> 16 | E44: =C44-D44 -> -9 | F44: =+'1° GIORNATA'!$K$48+'2° GIORNATA'!$M$48+'3° GIORNATA'!$B$48+'4° GIORNATA'!$D$48+'5° GIORNATA'!$M$48+'6° GIORNATA'!$K$48 -> 283 | J44: =A32 -> EVRIBADI | K44: =A34 -> UNAJUNGLACAZO FC | L44: =IF('5° GIORNATA'!$B$48=1,"",'5° GIORNATA'!$B$35) -> 3 | M44: =IF('5° GIORNATA'!$D$48=0,"",'5° GIORNATA'!$D$35) -> 4 | N44: 4 | O44: =IF(L44="",0,IF(L44>M44,3,IF(L44=M44,1,0))) -> 0 | P44: =IF(M44="",0,IF(M44>L44,3,IF(M44=L44,1,0))) -> 3
J45: =A33 -> AC CONTE | K45: =A31 -> CS RIPOSA | L45: =IF('5° GIORNATA'!$K$48=1,"",'5° GIORNATA'!$K$35) -> 3 | M45: =IF('5° GIORNATA'!$M$48=0,"",'5° GIORNATA'!$M$35) -> 0 | O45: =IF(L45="",0,IF(L45>M45,3,IF(L45=M45,1,0))) -> 3 | P45: =IF(M45="",0,IF(M45>L45,3,IF(M45=L45,1,0))) -> 0
...

Sheet 1° GIORNATA
A1: 1° GIORNATA
A3: GIRONE A
A5: =+TABELLONE!J2 -> MC TOWN | B5: =IF(B18<66,0,IF(B18<70,1,IF(B18<74,2,IF(B18<78,3,IF(B18<82,4,IF(B18<86,5,IF(B18<90,6,IF(B18<94,7,IF(B18<98,8,IF(B18<101,9,10)))))))))) -> 3 | C5: =+TABELLONE!K2 -> SKIACCIAK MOSCA | D5: =IF(D18<66,0,IF(D18<70,1,IF(D18<74,2,IF(D18<78,3,IF(D18<82,4,IF(D18<86,5,IF(D18<90,6,IF(D18<94,7,IF(D18<98,8,IF(D18<101,9,10)))))))))) -> 0 | J5: =+TABELLONE!J3 -> BRIGATA GURREN | K5: =IF(K18<66,0,IF(K18<70,1,IF(K18<74,2,IF(K18<78,3,IF(K18<82,4,IF(K18<86,5,IF(K18<90,6,IF(K18<94,7,IF(K18<98,8,IF(K18<101,9,10)))))))))) -> 4 | L5: =+TABELLONE!K3 -> SOLOPISA 1909 | M5: =IF(M18<66,0,IF(M18<70,1,IF(M18<74,2,IF(M18<78,3,IF(M18<82,4,IF(M18<86,5,IF(M18<90,6,IF(M18<94,7,IF(M18<98,8,IF(M18<101,9,10)))))))))) -> 1
A6: MANCHESTER CITY | B6: 6 | C6: NAPOLI | D6: 3 | J6: PSG | K6: 7 | L6: JUVENTUS | M6: 3
A7: JORDI ALBA | B7: 6 | C7: ELISEU | D7: 5 | J7: KOLAROV | K7: 6 | L7: D. LUIZ | M7: 5.5
A8: MATIP | B8: 6 | C8: ZAPPACOSTA | D8: 11 | F8: assist | J8: MARQUINHOS | K8: 6.5 | L8: MARCELO | M8: 6.5
A9: CAHILL | B9: 6.5 | C9: GLIK | D9: 5.5 | J9: LUISAO | K9: 5 | L9: KLAVAN | M9: 4
A10: ROBBEN | B10: 6 | C10: MIKHITARYAN | D10: 7 | F10: suarez | J10: SAUL NIGUEZ | K10: 7 | L10: MATA | M10: 7
A11: LEMAR | B11: 6 | C11: PJANIC | D11: 5 | F11: kimmich | J11: ERIKSEN | K11: 8 | L11: BUSQUETS | M11: 7
A12: SALVIO | B12: 5.5 | C12: SAHIN | D12: 6 | F12: fabregas | J12: KIMMICH | K12: 11 | L12: HENDERSON | M12: 6
A13: GELSON MARTINS | B13: 9.5 | C13: DZAGOEV | D13: 4.5 | F13: walker | J13: ACUNA | K13: 6.5 | L13: CASTRO | M13: 5
A14: AGUERO | B14: 10 | C14: JONAS | D14: 5 | F14: de bruyne | J14: CALLEJON | K14: 6 | L14: MERTENS | M14: 6
A15: FIRMINO | B15: 6.5 | C15: MANE | D15: 6.5 | F15: william | J15: LUKAKU | K15: 10 | L15: AUBEMEYANG | M15: 6
A16: LUIZ ADRIANO | B16: 6 | C16: DIAKHABY | D16: 5.5 | F16: silva | J16: DZEKO | K16: 6 | L16: RUSHFORD | M16: 10
A17: FATTORE CAMPO | B17: 1 | F17: kurzawa | J17: FATTORE CAMPO | K17: 1
B18: =SUM(B6:B17) -> 75 | D18: =SUM(D6:D17) -> 64 | F18: bale | K18: =SUM(K6:K17) -> 80 | M18: =SUM(M6:M17) -> 66
A19: PANCHINA | C19: PANCHINA | F19: rabiot | J19: PANCHINA | L19: PANCHINA
A20: MANCHESTER CITY | B20: =B6 -> 6 | C20: NAPOLI | D20: =D6 -> 3 | F20: neymar | J20: PSG | K20: =K6 -> 7 | L20: =L6 -> JUVENTUS | M20: =M6 -> 3
A21: VALENCIA | B21: sv | C21: HISAY | D21: 5 | F21: escudero | J21: VERTONGHEN | K21: 5.5 | L21: JUANFRAN | M21: 5.5
A22: JORGE | B22: 6 | C22: ZAGADOU | D22: sv | F22: muriel | J22: LUSTIG | K22: 4.5 | L22: TOSIC | M22: 4
A23: M.FERNANDES | B23: 6 | C23: DIKS | D23: sv | J23: VAN DER HEYDEN | K23: 5 | L23: BARZAGLI | M23: 4.5
A24: STERLING | B24: 6 | C24: DAHOUD | D24: 5 | J24: MARLOS | K24: 6.5 | L24: DENIS SUAREZ | M24: sv
A25: BERNARD | B25: 6.5 | C25: PAULINHO | D25: sv | J25: FORTUNIS | K25: sv | L25: PASTORE | M25: sv
A26: GABI | B26: 6.5 | C26: GANSO | D26: sv | J26: BANEGA | K26: 6 | L26: PIZARRO | M26: 5.5
A27: GRIFFITHS | B27: 5 | C27: NEGREDO | D27: 7 | J27: CERVI | K27: sv | L27: TORRES | M27: sv
A28: TEODORCZYK | B28: 5.5 | C28: MAREGA | D28: 6 | J28: YARMOLENKO | K28: 9.5 | L28: NDOLOVU | M28: 5.5
A29: SCHURRLE | B29: sv | C29: BEN YEDDER | D29: 9.5 | J29: BEN | K29: sv | L29: IBRAHIMOVIC | M29: sv
A33: GIRONE B
A35: =+TABELLONE!J28 -> UNAJUNGLACAZO FC | B35: =IF(B48<66,0,IF(B48<70,1,IF(B48<74,2,IF(B48<78,3,IF(B48<82,4,IF(B48<86,5,IF(B48<90,6,IF(B48<94,7,IF(B48<98,8,IF(B48<101,9,10)))))))))) -> 3 | C35: =TABELLONE!K28 -> EVRIBADI | D35: =IF(D48<66,0,IF(D48<70,1,IF(D48<74,2,IF(D48<78,3,IF(D48<82,4,IF(D48<86,5,IF(D48<90,6,IF(D48<94,7,IF(D48<98,8,IF(D48<101,9,10)))))))))) -> 2 | J35: =TABELLONE!J29 -> CS RIPOSA | K35: =IF(K48<66,0,IF(K48<70,1,IF(K48<74,2,IF(K48<78,3,IF(K48<82,4,IF(K48<86,5,IF(K48<90,6,IF(K48<94,7,IF(K48<98,8,IF(K48<101,9,10)))))))))) -> 4 | L35: =TABELLONE!K29 -> AC CONTE | M35: =IF(M48<66,0,IF(M48<70,1,IF(M48<74,2,IF(M48<78,3,IF(M48<82,4,IF(M48<86,5,IF(M48<90,6,IF(M48<94,7,IF(M48<98,8,IF(M48<101,9,10)))))))))) -> 3
A36: REAL MADRID | B36: 6 | C36: MONACO | D36: 6 | J36: BAYERN MONACO | K36: 6 | L36: ATLETICO MADRID | M36: 6.5
A37: OTAMENDI | B37: 6 | C37: GODIN | D37: 6.5 | J37: GIMENEZ | K37: 5 | L37: DANI ALVES | M37: 6.5
A38: TELLES | B38: 5.5 | C38: PEPE | D38: 6 | J38: SIDIBE | K38: 4.5 | L38: CARVAHAL | M38: 6
A39: RUDIGER | B39: 6.5 | C39: ORBAN | D39: 6.5 | J39: DARMIAN | K39: 6 | L39: MENDY | M39: 7
A40: VAZQUEZ | B40: 5.5 | C40: AURIER | D40: 6 | J40: CARRASCO | K40: 6.5 | L40: RICARDO PEREIRA | M40: 5
A41: KOKE | B41: 7 | C41: ISCO | D41: 6 | J41: D.COSTA | K41: 5 | L41: ASENSIO | M41: 6.5
A42: MOUTINHO | B42: 5 | C42: INIESTA | D42: 7.5 | J42: RAKITIC | K42: 10.5 | L42: BRUNO FERNANDES | M42: 9.5
A43: PEDRO | B43: 10 | C43: WILLIAN | D43: 8 | J43: FERNANDINHO | K43: 6.5 | L43: PROMES | M43: 6.5
A44: NOLITO | B44: 5 | C44: NEYMAR | D44: 10.5 | J44: MESSI | K44: 14.5 | L44: TOLISSO | M44: 6.5
A45: CORONA | B45: 4.5 | C45: ABOUBAKAR | D45: 9.5 | J45: GOTZE | K45: 6 | L45: LEWANDOWSKI | M45: 10.5
A46: CRISTIANO RONALDO | B46: 13 | C46: GAMEIRO | D46: 0 | J46: SEFEROVIC | K46: 9 | L46: RAUL JIMENEZ | M46: 5
...

Sheet 2° GIORNATA
A1: 2° GIORNATA
A3: GIRONE A
A5: =TABELLONE!J6 -> SKIACCIAK MOSCA | B5: =IF(B18<66,0,IF(B18<70,1,IF(B18<74,2,IF(B18<78,3,IF(B18<82,4,IF(B18<86,5,IF(B18<90,6,IF(B18<94,7,IF(B18<98,8,IF(B18<101,9,10)))))))))) -> 2 | C5: =TABELLONE!K6 -> BRIGATA GURREN | D5: =IF(D18<66,0,IF(D18<70,1,IF(D18<74,2,IF(D18<78,3,IF(D18<82,4,IF(D18<86,5,IF(D18<90,6,IF(D18<94,7,IF(D18<98,8,IF(D18<101,9,10)))))))))) -> 5 | J5: =TABELLONE!J7 -> SOLOPISA 1909 | K5: =IF(K18<66,0,IF(K18<70,1,IF(K18<74,2,IF(K18<78,3,IF(K18<82,4,IF(K18<86,5,IF(K18<90,6,IF(K18<94,7,IF(K18<98,8,IF(K18<101,9,10)))))))))) -> 2 | L5: =TABELLONE!K7 -> MC TOWN | M5: =IF(M18<66,0,IF(M18<70,1,IF(M18<74,2,IF(M18<78,3,IF(M18<82,4,IF(M18<86,5,IF(M18<90,6,IF(M18<94,7,IF(M18<98,8,IF(M18<101,9,10)))))))))) -> 1
A6: NAPOLI | B6: 9 | C6: PSG | D6: 6.5 | J6: JUVENTUS | K6: 6 | L6: MANCHESTER CITY | M6: 6
A7: HYSAJ | B7: 6 | C7: KOLAROV | D7: 6.5 | J7: DAVID LUIZ | K7: 4.5 | L7: JORDI ALBA | M7: 5.5
A8: ELISEU | B8: 4.5 | C8: MARQUINHOS | D8: 6.5 | F8: Assist | J8: BARZAGLI | K8: 6.5 | L8: MATIP | M8: 6
A9: KJAER | B9: 0 | C9: ALBERTO MORENO | D9: 6 | F9: Quaresma | J9: TOSIC | K9: 7 | L9: VALENCIA | M9: 6
A10: PJANIC | B10: 5 | C10: SAUL NIGUEZ | D10: 5.5 | F10: Tosun | J10: MATA | K10: 0 | L10: ROBBEN | M10: 5.5
A11: MKHITARYAN | B11: 10 | C11: ERIKSEN | D11: 4.5 | F11: Castro | J11: BUSQUETS | K11: 6.5 | L11: LEMAR | M11: 5
A12: GANSO | B12: 5.5 | C12: QUARESMA | D12: 8 | F12: Mane | J12: CASTRO | K12: 7 | L12: STERLING | M12: 9.5
A13: FLORENZI | B13: 6.5 | C13: BANEGA | D13: 7 | F13: Martial x2 | J13: HENDERSON | K13: 6 | L13: SALVIO | M13: 5.5
A14: BEN YEDDER | B14: 17 | C14: CALLEJON | D14: 10 | F14: Mertens | J14: AUBAMEYANG | K14: 10 | L14: AGUERO | M14: 2.5
A15: MANE | B15: 7.5 | C15: LUKAKU | D15: 13.5 | F15: Marega x2 | J15: MERTENS | K15: 11 | L15: FIRMINO | M15: 6
A16: NEGREDO | B16: 0 | C16: DZEKO | D16: 10 | F16: Neymar | J16: RASHFORD | K16: 6 | L16: GRIFFITHS | M16: 10
A17: FATTORE CAMPO | B17: 1 | F17: Mbappe | J17: FATTORE CAMPO | K17: 1
B18: =SUM(B6:B17) -> 72 | D18: =SUM(D6:D17) -> 84 | F18: Carvahal | K18: =SUM(K6:K17) -> 71.5 | M18: =SUM(M6:M17) -> 67.5
A19: PANCHINA | C19: PANCHINA | F19: Modric | J19: PANCHINA | L19: PANCHINA
A20: NAPOLI | B20: 6 | C20: PSG | D20: 6.5 | F20: Bale | J20: JUVENTUS | K20: 6 | L20: MANCHESTER CITY | M20: 6
A21: RAGGI | B21: sv | C21: LUISAO | D21: 5 | F21: Vazquez F. | J21: JUANFRAN | K21: 5 | L21: CAHILL | M21: 6
A22: ZAPPACOSTA | B22: sv | C22: VERTONGHEN | D22: sv | F22: Alderweireld | J22: MILIC | K22: sv | L22: JORGE | M22: 5
A23: DIKS | B23: 4.5 | C23: LUSTIG | D23: 6.5 | F23: Sissoko | J23: KLAVAN | K23: sv | L23: MARIO FERNANDES | M23: 5
A24: PAULINHO | B24: sv | C24: KIMMICH | D24: 4.5 | F24: El Shaarawy | J24: DENIS SUAREZ | K24: sv | L24: LOPES | M24: 6
A25: DZAGOEV | B25: 5 | C25: MARLOS | D25: 6.5 | J25: PIZARRO | K25: sv | L25: GELSON MARTINS | M25: 6.5
A26: SAHIN | B26: 5.5 | C26: ACUNA | D26: 5 | J26: PASTORE | K26: sv | L26: GABI | M26: sv
A27: JONAS | B27: 5.5 | C27: YARMOLENKO | D27: 6.5 | J27: TORRES | K27: 5.5 | L27: TEODORCZYK | M27: 4.5
A28: DIAKHABY | B28: 4.5 | C28: CERVI | D28: 6 | J28: NDLOVU | K28: 6.5 | L28: LUIZ ADRIANO | M28: 5.5
A29: MAREGA | B29: 9 | C29: EL FARDOU BEN | D29: 5 | J29: IBRAHIMOVIC | K29: sv | L29: SCHURRLE | M29: sv
A33: GIRONE B
A35: =TABELLONE!J32 -> AC CONTE | B35: =IF(B48<66,0,IF(B48<70,1,IF(B48<74,2,IF(B48<78,3,IF(B48<82,4,IF(B48<86,5,IF(B48<90,6,IF(B48<94,7,IF(B48<98,8,IF(B48<101,9,10)))))))))) -> 2 | C35: =TABELLONE!K32 -> UNAJUNGLACAZO FC | D35: =IF(D48<66,0,IF(D48<70,1,IF(D48<74,2,IF(D48<78,3,IF(D48<82,4,IF(D48<86,5,IF(D48<90,6,IF(D48<94,7,IF(D48<98,8,IF(D48<101,9,10)))))))))) -> 2 | J35: =TABELLONE!J33 -> EVRIBADI | K35: =IF(K48<66,0,IF(K48<70,1,IF(K48<74,2,IF(K48<78,3,IF(K48<82,4,IF(K48<86,5,IF(K48<90,6,IF(K48<94,7,IF(K48<98,8,IF(K48<101,9,10)))))))))) -> 5 | L35: =TABELLONE!K33 -> CS RIPOSA | M35: =IF(M48<66,0,IF(M48<70,1,IF(M48<74,2,IF(M48<78,3,IF(M48<82,4,IF(M48<86,5,IF(M48<90,6,IF(M48<94,7,IF(M48<98,8,IF(M48<101,9,10)))))))))) -> 0
A36: ATLETICO MADRID | B36: 4 | C36: REAL MADRID | D36: 4.5 | J36: MONACO | K36: 4 | L36: BAYERN MONACO | M36: 2
A37: DANI ALVES | B37: 10 | C37: OTAMENDI | D37: 6 | J37: GODIN | K37: 5.5 | L37: BLIND | M37: 6.5
A38: CARVAHAL | B38: 7.5 | C38: TELLES | D38: 6 | J38: CHIELLINI | K38: 6.5 | L38: SIDIBE | M38: 4.5
A39: SEMEDO | B39: 5.5 | C39: RUDIGER | D39: 5.5 | J39: AURIER | K39: 5 | L39: SCHENNIKOV | M39: 5
A40: MENDY | B40: 7 | C40: UPAMECANO | D40: 4.5 | J40: PEPE | K40: 7 | L40: CARRASCO | M40: 5.5
A41: ASENSIO | B41: 6 | C41: KOKE | D41: 6 | J41: ISCO | K41: 6.5 | L41: RAKITIC | M41: 6
A42: COUTINHO | B42: 10 | C42: PEDRO | D42: 6 | J42: CEBALLOS | K42: 5.5 | L42: FERNANDINHO | M42: 7
A43: PROMES | B43: 5.5 | C43: JOAO MOUTINHO | D43: 5 | J43: INIESTA | K43: 6 | L43: CUADRADO | M43: 5.5
A44: TOLISSO | B44: 5 | C44: SERGI ROBERTO | D44: 6 | J44: NEYMAR | K44: 11.5 | L44: MESSI | M44: 6
A45: LEWANDOWSKI | B45: 5 | C45: CRISTIANO RONALDO | D45: 14 | J45: ABOUBAKAR | K45: 13 | L45: GOTZE | M45: 6
A46: CHIPCIU | B46: 4.5 | C46: TOSUN | D46: 8 | J46: BABEL | K46: 11 | L46: SEFEROVIC | M46: 6
...

Sheet 3° GIORNATA
A1: 3° GIORNATA
A3: GIRONE A
A5: =+TABELLONE!J10 -> MC TOWN | B5: =IF(B18<66,0,IF(B18<70,1,IF(B18<74,2,IF(B18<78,3,IF(B18<82,4,IF(B18<86,5,IF(B18<90,6,IF(B18<94,7,IF(B18<98,8,IF(B18<101,9,10)))))))))) -> 8 | C5: =+TABELLONE!K10 -> BRIGATA GURREN | D5: =IF(D18<66,0,IF(D18<70,1,IF(D18<74,2,IF(D18<78,3,IF(D18<82,4,IF(D18<86,5,IF(D18<90,6,IF(D18<94,7,IF(D18<98,8,IF(D18<101,9,10)))))))))) -> 4 | J5: =+TABELLONE!J11 -> SKIACCIAK MOSCA | K5: =IF(K18<66,0,IF(K18<70,1,IF(K18<74,2,IF(K18<78,3,IF(K18<82,4,IF(K18<86,5,IF(K18<90,6,IF(K18<94,7,IF(K18<98,8,IF(K18<101,9,10)))))))))) -> 0 | L5: =+TABELLONE!K11 -> SOLOPISA 1909 | M5: =IF(M18<66,0,IF(M18<70,1,IF(M18<74,2,IF(M18<78,3,IF(M18<82,4,IF(M18<86,5,IF(M18<90,6,IF(M18<94,7,IF(M18<98,8,IF(M18<101,9,10)))))))))) -> 0
A6: MANCHESTER CITY | B6: 8.5 | C6: PSG | D6: 7.5 | J6: NAPOLI | K6: 3.5 | L6: JUVENTUS | M6: 5
A7: JORDI ALBA | B7: 6 | C7: KOLAROV | D7: 11.5 | J7: DIKS | K7: 5.5 | L7: DAVID LUIZ | M7: 9.5
A8: MATIP | B8: 6.5 | C8: MARQUINOS | D8: 6 | F8: Assist | J8: GLIK | K8: 5 | L8: BARZAGLI | M8: 6
A9: VALENCIA | B9: 5.5 | C9: ALBERTO MORENO | D9: 7.5 | F9: De Bruyne | J9: KJAER | K9: 9 | L9: MARCELO | M9: 6
A10: ROBBEN | B10: 8 | C10: SAUL NIGUEZ | D10: 5 | F10: Quaresma | J10: PJANIC | K10: 9.5 | L10: MATA | M10: 5.5
A11: LEMAR | B11: 5 | C11: QUARESMA | D11: 8 | F11: Babel | J11: MKHITARYAN | K11: 5 | L11: BUSQUETS | M11: 7
A12: STERLING | B12: 10 | C12: KIMMICH | D12: 10 | F12: Gotze | J12: SAHIN | K12: 0 | L12: CASTRO | M12: 5
A13: GELSON MARTINS | B13: 7 | C13: MARLOS | D13: 6.5 | F13: Sabitzer | J13: FLORENZI | K13: 0 | L13: HENDERSON | M13: 0
A14: BERNARD | B14: 13 | C14: CALLEJON | D14: 6 | F14: Moreno | J14: MANE | K14: 5 | L14: MERTENS | M14: 2
A15: FIRMINO | B15: 15 | C15: LUKAKU | D15: 4.5 | F15: Coutinho | J15: MAREGA | K15: 6.5 | L15: AUBAMEYANG | M15: 5
A16: LUIZ ADRIANO | B16: 9.5 | C16: YARMOLENKO | D16: 6 | F16: Firmino | J16: BEN YEDDER | K16: 6 | L16: RASHFORD | M16: 8
A17: FATTORE CAMPO | B17: 1 | F17: Salah | J17: FATTORE CAMPO | K17: 1
B18: =SUM(B6:B17) -> 95 | D18: =SUM(D6:D17) -> 78.5 | F18: Sturridge | K18: =SUM(K6:K17) -> 56 | M18: =SUM(M6:M17) -> 59
A19: PANCHINA | C19: PANCHINA | F19: Felipe | J19: PANCHINA | L19: PANCHINA
A20: MANCHESTER CITY | B20: 8.5 | C20: PSG | D20: 7.5 | F20: Fred | J20: NAPOLI | K20: 3.5 | L20: JUVENTUS | M20: 5
A21: CAHILL | B21: 6 | C21: LUISAO | D21: 4.5 | F21: Promes x2 | J21: ZAPPACOSTA | K21: 5.5 | L21: JUANFRAN | M21: sv
A22: MARIO FERNANDES | B22: 5.5 | C22: VERTONGHEN | D22: 6 | F22: Messi | J22: RAGGI | K22: sv | L22: MILIC | M22: sv
A23: JORGE | B23: sv | C23: LUSTIG | D23: 5 | F23: Coman | J23: HYSAJ | K23: 5 | L23: MEUNIER | M23: sv
A24: LOPEZ | B24: 6 | C24: ERIKSEN | D24: 7 | F24: Robben | J24: DAHOUD | K24: sv | L24: PIZARRO | M24: 5
A25: SALVIO | B25: 5 | C25: ACUNA | D25: 5.5 | F25: Pedro | J25: DZAGOEV | K25: sv | L25: DENIS SUAREZ | M25: sv
A26: GABI | B26: 5 | C26: BANEGA | D26: 5 | F26: D.Costa | J26: GANSO | K26: sv | L26: PASTORE | M26: sv
A27: AGUERO | B27: sv | C27: DZEKO | D27: 14 | F27: Verratti | J27: DIAKHABY | K27: sv | L27: TORRES | M27: sv
A28: GRIFFITHS | B28: 5 | C28: CERVI | D28: 5 | F28: Mbappe | J28: NEGREDO | K28: sv | L28: NDLOVU | M28: 5
A29: TEODORCZYK | B29: 5.5 | C29: BEN EL FARDOU | D29: sv | F29: Kolarov | J29: JONAS | K29: 5 | L29: IBRAHIMOVIC | M29: sv
A33: GIRONE B
A35: =+TABELLONE!J36 -> CS RIPOSA | B35: =IF(B48<66,0,IF(B48<70,1,IF(B48<74,2,IF(B48<78,3,IF(B48<82,4,IF(B48<86,5,IF(B48<90,6,IF(B48<94,7,IF(B48<98,8,IF(B48<101,9,10)))))))))) -> 2 | C35: =+TABELLONE!K36 -> UNAJUNGLACAZO FC | D35: =IF(D48<66,0,IF(D48<70,1,IF(D48<74,2,IF(D48<78,3,IF(D48<82,4,IF(D48<86,5,IF(D48<90,6,IF(D48<94,7,IF(D48<98,8,IF(D48<101,9,10)))))))))) -> 4 | J35: =+TABELLONE!J37 -> AC CONTE | K35: =IF(K48<66,0,IF(K48<70,1,IF(K48<74,2,IF(K48<78,3,IF(K48<82,4,IF(K48<86,5,IF(K48<90,6,IF(K48<94,7,IF(K48<98,8,IF(K48<101,9,10)))))))))) -> 4 | L35: =+TABELLONE!K37 -> EVRIBADI | M35: =IF(M48<66,0,IF(M48<70,1,IF(M48<74,2,IF(M48<78,3,IF(M48<82,4,IF(M48<86,5,IF(M48<90,6,IF(M48<94,7,IF(M48<98,8,IF(M48<101,9,10)))))))))) -> 3
A36: B. MONACO | B36: 6 | C36: REAL MADRID | D36: 7 | J36: ATLETICO MADRID | K36: 6 | L36: MONACO | M36: 4
A37: BLIND | B37: 5.5 | C37: OTAMENDI | D37: 6.5 | J37: DANI ALVES | K37: 5.5 | L37: GODIN | M37: 5.5
A38: SIDIBE | B38: 5 | C38: FELIPE | D38: 6 | J38: SEMEDO | K38: 0 | L38: CHIELLINI | M38: 6
A39: SMALLING | B39: 6 | C39: TELLES | D39: 5.5 | J39: ADRIANO | K39: 6 | L39: PEPE | M39: 6
A40: CARRASCO | B40: 5 | C40: KOKE | D40: 8 | J40: ASENSIO | K40: 6 | L40: ORBAN | M40: 8.5
A41: D.COSTA | B41: 8 | C41: PEDRO | D41: 7.5 | J41: COUTINHO | K41: 11.5 | L41: ISCO | M41: 7
A42: RAKITIC | B42: 6 | C42: MOUTINHO | D42: 5 | J42: DI MARIA | K42: 9.5 | L42: INIESTA | M42: 6.5
A43: CUADRADO | B43: 6 | C43: SERGI ROBERTO | D43: 6.5 | J43: PROMES | K43: 16.5 | L43: WILLIAN | M43: 5.5
A44: KRHON-DELI | B44: 6 | C44: CRISTIANO RONALDO | D44: 10.5 | J44: KEITA BALDE | K44: 5 | L44: NEYMAR | M44: 9.5
A45: MESSI | B45: 11 | C45: NOLITO | D45: 5.5 | J45: JORGENSEN | K45: 6 | L45: ABOUBAKAR | M45: 9.5
A46: VITINHO | B46: 5.5 | C46: TOSUN | D46: 13 | J46: LEWANDOWSKI | K46: 6.5 | L46: BABEL | M46: 8
...

Sheet 4° GIORNATA
A1: 4° GIORNATA
A3: GIRONE A
A5: =TABELLONE!J14 -> BRIGATA GURREN | B5: =IF(B18<66,0,IF(B18<70,1,IF(B18<74,2,IF(B18<78,3,IF(B18<82,4,IF(B18<86,5,IF(B18<90,6,IF(B18<94,7,IF(B18<98,8,IF(B18<101,9,10)))))))))) -> 5 | C5: =TABELLONE!K14 -> MC TOWN | D5: =IF(D18<66,0,IF(D18<70,1,IF(D18<74,2,IF(D18<78,3,IF(D18<82,4,IF(D18<86,5,IF(D18<90,6,IF(D18<94,7,IF(D18<98,8,IF(D18<101,9,10)))))))))) -> 2 | J5: =TABELLONE!J15 -> SOLOPISA 1909 | K5: =IF(K18<66,0,IF(K18<70,1,IF(K18<74,2,IF(K18<78,3,IF(K18<82,4,IF(K18<86,5,IF(K18<90,6,IF(K18<94,7,IF(K18<98,8,IF(K18<101,9,10)))))))))) -> 3 | L5: =TABELLONE!K15 -> SKIACCIAK MOSCA | M5: =IF(M18<66,0,IF(M18<70,1,IF(M18<74,2,IF(M18<78,3,IF(M18<82,4,IF(M18<86,5,IF(M18<90,6,IF(M18<94,7,IF(M18<98,8,IF(M18<101,9,10)))))))))) -> 0
A6: PSG | B6: 6 | C6: MANCHESTER CITY | D6: 4.5 | J6: JUVENTUS | K6: 4.5 | L6: NAPOLI | M6: 1.5
A7: ALBERTO MORENO | B7: 7 | C7: JORDI ALBA | D7: 5 | J7: MARCELO | K7: 6 | L7: KJAER | M7: 6
A8: MARQUINHOS | B8: 6.5 | C8: MATIP | D8: 6 | F8: Assist | J8: DAVID LUIZ | K8: 5 | L8: ZAGADOU | M8: 5.5
A9: KOLAROV | B9: 7.5 | C9: CAHILL | D9: 5 | F9: Griezmann | J9: JUANFRAN | K9: 6.5 | L9: DIKS | M9: 6
A10: SAUL NIGUEZ | B10: 6 | C10: ROBBEN | D10: 6 | F10: Alaba | J10: HENDERSON | K10: 6.5 | L10: MKHITARYAN | M10: 6
A11: KIMMICH | B11: 13.5 | C11: LEMAR | D11: 6 | F11: Cuadrado | J11: MATA | K11: 6 | L11: PJANIC | M11: 6
A12: QUARESMA | B12: 6 | C12: STERLING | D12: 10 | F12: Nainggolan | J12: ALLI | K12: 14 | L12: SAHIN | M12: 5.5
A13: ERIKSEN | B13: 10 | C13: BERNARD | D13: 6 | F13: Berghius | J13: CASTRO | K13: 6 | L13: FLORENZI | M13: 6.5
A14: CALLEJON | B14: 5.5 | C14: AGUERO | D14: 9.5 | F14: Sabitzer | J14: RASHFORD | K14: 7 | L14: BEN YEDDER | M14: 5.5
A15: LUKAKU | B15: 6.5 | C15: FIRMINO | D15: 7 | F15: Alberto Moreno | J15: MERTENS | K15: 6.5 | L15: NEGREDO | M15: 0
A16: DZEKO | B16: 7 | C16: SCHURRLE | D16: 6 | F16: Gundogan | J16: AUBAMEYANG | K16: 5 | L16: MAREGA | M16: 6
A17: FATTORE CAMPO | B17: 1 | F17: Sane | J17: FATTORE CAMPO | K17: 1
B18: =SUM(B6:B17) -> 82.5 | D18: =SUM(D6:D17) -> 71 | F18: Moutinho | K18: =SUM(K6:K17) -> 74 | M18: =SUM(M6:M17) -> 54.5
A19: PANCHINA | C19: PANCHINA | F19: Mertens | J19: PANCHINA | L19: PANCHINA
A20: PSG | B20: 6 | C20: MANCHESTER CITY | D20: 4.5 | F20: Telles | J20: JUVENTUS | K20: 4.5 | L20: NAPOLI | M20: 1.5
A21: VERTONGHEN | B21: 7 | C21: VALENCIA | D21: sv | F21: Aboubakar | J21: KLAVAN | K21: 6 | L21: HISAY | M21: 5.5
A22: LUSTIG | B22: 6 | C22: MARIO FERNANDES | D22: 5.5 | F22: Banega | J22: BARZAGLI | K22: 5.5 | L22: GLIK | M22: 6
A23: HECTOR MORENO | B23: sv | C23: JORGE | D23: 4 | F23: Kane | J23: TOSIC | K23: 5 | L23: ZAPPACOSTA | M23: sv
A24: MARLOS | B24: 13.5 | C24: GELSON MARTINS | D24: 7.5 | J24: BUSQUETS | K24: 6 | L24: PAULINHO | M24: 5.5
A25: BANEGA | B25: 12 | C25: SALVIO | D25: 5.5 | J25: PIZARRO | K25: 6 | L25: GANSO | M25: sv
A26: ACUNA | B26: 5.5 | C26: GABI | D26: 5 | L26: DZAGOEV | M26: 10
A27: YARMOLENKO | B27: 5 | C27: LUIZ ADRIANO | D27: 6 | J27: TORRES | K27: 4.5 | L27: DIAKHABY | M27: 5.5
A28: CERVI | B28: sv | C28: GRIFFITHS | D28: sv | J28: IBRAHIMOVIC | K28: sv | L28: JONAS | M28: sv
A29: BEN | B29: sv | C29: TEODORCZYK | D29: sv | J29: NDOVLU | K29: sv | L29: MANE | M29: sv
A33: GIRONE B
A35: =TABELLONE!J40 -> UNAJUNGLACAZO FC | B35: =IF(B48<66,0,IF(B48<70,1,IF(B48<74,2,IF(B48<78,3,IF(B48<82,4,IF(B48<86,5,IF(B48<90,6,IF(B48<94,7,IF(B48<98,8,IF(B48<101,9,10)))))))))) -> 1 | C35: =TABELLONE!K40 -> CS RIPOSA | D35: =IF(D48<66,0,IF(D48<70,1,IF(D48<74,2,IF(D48<78,3,IF(D48<82,4,IF(D48<86,5,IF(D48<90,6,IF(D48<94,7,IF(D48<98,8,IF(D48<101,9,10)))))))))) -> 1 | J35: =TABELLONE!J41 -> EVRIBADI | K35: =IF(K48<66,0,IF(K48<70,1,IF(K48<74,2,IF(K48<78,3,IF(K48<82,4,IF(K48<86,5,IF(K48<90,6,IF(K48<94,7,IF(K48<98,8,IF(K48<101,9,10)))))))))) -> 1 | L35: =TABELLONE!K41 -> AC CONTE | M35: =IF(M48<66,0,IF(M48<70,1,IF(M48<74,2,IF(M48<78,3,IF(M48<82,4,IF(M48<86,5,IF(M48<90,6,IF(M48<94,7,IF(M48<98,8,IF(M48<101,9,10)))))))))) -> 1
A36: REAL MADRID | B36: 2 | C36: B.MONACO | D36: 5 | J36: MONACO | K36: 5 | L36: ATLETICO MADRID | M36: 5
A37: FELIPE | B37: 6.5 | C37: BLIND | D37: 9.5 | J37: CHIELLINI | K37: 5 | L37: DANI ALVES | M37: 7
A38: TELLES | B38: 7.5 | C38: SMALLING | D38: 6 | J38: GODIN | K38: 6.5 | L38: ADRIANO | M38: 5
A39: SUCHY | B39: 4.5 | C39: SCHENNIKOV | D39: 6 | J39: PEPE | K39: 6 | L39: SEMEDO | M39: 6
A40: RUDIGER | B40: 4.5 | C40: RAKITIC | D40: 6.5 | J40: TOPRAK | K40: 5.5 | L40: SULE | M40: 6
A41: PEDRO | B41: 4.5 | C41: CARRASCO | D41: 6 | J41: ISCO | K41: 5 | L41: BRUNO FERNANDES | M41: 6
A42: FRED | B42: 7 | C42: CUADRADO | D42: 7.5 | J42: WILLIAN | K42: 6 | L42: COUTINHO | M42: 5.5
A43: MOUTINHO | B43: 8 | C43: KRONH-DELI | D43: 6 | J43: DRAXLER | K43: 6.5 | L43: DI MARIA | M43: 6.5
A44: TOSUN | B44: 9.5 | C44: MESSI | D44: 5.5 | J44: NEYMAR | K44: 10.5 | L44: TOLISSO | M44: 6
A45: CRISTIANO RONALDO | B45: 9 | C45: GOTZE | D45: 6 | J45: ABOUBAKAR | K45: 7 | L45: JORGENSEN | M45: 9
A46: NOLITO | B46: 5.5 | C46: PHILIPP | D46: 5.5 | J46: BABEL | K46: 5.5 | L46: KEITA BALDE | M46: 5
...

Sheet 5° GIORNATA
A1: 5° GIORNATA
A3: GIRONE A
A5: =+TABELLONE!J18 -> SKIACCIAK MOSCA | B5: =IF(B18<66,0,IF(B18<70,1,IF(B18<74,2,IF(B18<78,3,IF(B18<82,4,IF(B18<86,5,IF(B18<90,6,IF(B18<94,7,IF(B18<98,8,IF(B18<101,9,10)))))))))) -> 1 | C5: =+TABELLONE!K18 -> MC TOWN | D5: =IF(D18<66,0,IF(D18<70,1,IF(D18<74,2,IF(D18<78,3,IF(D18<82,4,IF(D18<86,5,IF(D18<90,6,IF(D18<94,7,IF(D18<98,8,IF(D18<101,9,10)))))))))) -> 3 | J5: =+TABELLONE!J19 -> SOLOPISA 1909 | K5: =IF(K18<66,0,IF(K18<70,1,IF(K18<74,2,IF(K18<78,3,IF(K18<82,4,IF(K18<86,5,IF(K18<90,6,IF(K18<94,7,IF(K18<98,8,IF(K18<101,9,10)))))))))) -> 4 | L5: =+TABELLONE!K19 -> BRIGATA GURREN | M5: =IF(M18<66,0,IF(M18<70,1,IF(M18<74,2,IF(M18<78,3,IF(M18<82,4,IF(M18<86,5,IF(M18<90,6,IF(M18<94,7,IF(M18<98,8,IF(M18<101,9,10)))))))))) -> 1
A6: NAPOLI | B6: 6 | C6: MANCHESTER CITY | D6: 6 | J6: JUVENTUS | K6: 6 | L6: PSG | M6: 5
A7: HISAY | B7: 6 | C7: JORDI ALBA | D7: 6.5 | J7: MARCELO | K7: 7.5 | L7: KOLAROV | M7: 6
A8: ZAPPACOSTA | B8: 6.5 | C8: VALENCIA | D8: 4.5 | J8: LUIZ | K8: 6 | L8: MARQUINHOS | M8: 7.5
A9: GLIK | B9: 5 | C9: CAHILL | D9: 6 | F9: Tosun | G9: Bruno Fernandes | J9: JUANFRAN | K9: 6 | L9: ALBERTO MORENO | M9: 3.5
A10: MKHITARYAN | B10: 5 | C10: ROBBEN | D10: 5.5 | F10: Yarmolenko | G10: Gelson Martins | J10: PASTORE | K10: 6 | L10: ERIKSEN | M10: 6.5
A11: DZAGOEV | B11: 6.5 | C11: GELSON MARTINS | D11: 7.5 | F11: Firmino | J11: DELE ALLI | K11: 9 | L11: KIMMICH | M11: 8
A12: PJANIC | B12: 5 | C12: STERLING | D12: 9.5 | F12: Gundogan | J12: CASTRO | K12: 6 | L12: QUARESMA | M12: 7
A13: FLORENZI | B13: 0 | C13: BERNARD | D13: 6.5 | F13: Mertens | J13: HENDERSON | K13: 5.5 | L13: SAUL NIGUEZ | M13: 5.5
A14: MANE | B14: 9.5 | C14: AGUERO | D14: 5.5 | F14: R.Pereira | J14: MERTENS | K14: 11 | L14: CALLEJON | M14: 6
A15: BEN YEDDER | B15: 13 | C15: FIRMINO | D15: 14 | F15: Varane | J15: AUBAMEYANG | K15: 9 | L15: LUKAKU | M15: 6
A16: DIAKHABY | B16: 5 | C16: LUIZ ADRIANO | D16: 5 | F16: Marcelo | J16: RASHFORD | K16: 5.5 | L16: DZEKO | M16: 5.5
A17: FATTORE CAMPO | B17: 1 | F17: Kroos | J17: FATTORE CAMPO | K17: 1
B18: =SUM(B6:B17) -> 68.5 | D18: =SUM(D6:D17) -> 76.5 | F18: C. Ronaldo | K18: =SUM(K6:K17) -> 78.5 | M18: =SUM(M6:M17) -> 66.5
A19: PANCHINA | C19: PANCHINA | F19: Banega | J19: PANCHINA | L19: PANCHINA
A20: NAPOLI | B20: 6 | C20: MANCHESTER CITY | D20: 6 | F20: Alli x2 | J20: JUVENTUS | K20: 6 | L20: PSG | M20: 5
A21: KJAER | B21: sv | C21: MATIP | D21: sv | F21: Lopes | J21: TOSIC | K21: 6 | L21: VERTONGHEN | M21: 5.5
A22: ELISEU | B22: 4.5 | C22: MARIO FERNANDES | D22: 6.5 | F22: Teodorczyk | J22: KLAVAN | K22: 5 | L22: LUISAO | M22: 5
A23: RAGGI | B23: 6 | C23: JORGE | D23: 4.5 | F23: Griezmann | J23: BARZAGLI | K23: 6 | L23: LUSTIG | M23: sv
A24: SAHIN | B24: sv | C24: LOPES | D24: 6 | F24: Correa (ATL) | J24: MATA | K24: sv | L24: MARLOS | M24: 6
A25: PAULINHO | B25: 5.5 | C25: SALVIO | D25: 5.5 | F25: Kimmich | J25: BUSQUETS | K25: 6.5 | L25: BANEGA | M25: 8.5
A26: GANSO | B26: sv | C26: GABI | D26: 6.5 | F26: Tolisso | J26: PIZARRO | K26: 10 | L26: ACUNA | M26: sv
A27: NEGREDO | B27: sv | C27: SCHURRLE | D27: sv | F27: Hazard | J27: IBRAHIMOVIC | K27: 6 | L27: YARMOLENKO | M27: 7.5
A28: MAREGA | B28: sv | C28: GRIFFITHS | D28: 6 | F28: Kurzawa | J28: TORRES | K28: 6.5 | L28: CERVI | M28: 5.5
A29: JONAS | B29: 6 | C29: TEODORCZYK | D29: 5 | F29: Marquinhos | J29: NDLOVU | K29: 5 | L29: BEN | M29: sv
F30: Rabiot
F31: Neymar
A33: GIRONE B
A35: =+TABELLONE!J44 -> EVRIBADI | B35: =IF(B48<66,0,IF(B48<70,1,IF(B48<74,2,IF(B48<78,3,IF(B48<82,4,IF(B48<86,5,IF(B48<90,6,IF(B48<94,7,IF(B48<98,8,IF(B48<101,9,10)))))))))) -> 3 | C35: =+TABELLONE!K44 -> UNAJUNGLACAZO FC | D35: =IF(D48<66,0,IF(D48<70,1,IF(D48<74,2,IF(D48<78,3,IF(D48<82,4,IF(D48<86,5,IF(D48<90,6,IF(D48<94,7,IF(D48<98,8,IF(D48<101,9,10)))))))))) -> 4 | J35: =+TABELLONE!J45 -> AC CONTE | K35: =IF(K48<66,0,IF(K48<70,1,IF(K48<74,2,IF(K48<78,3,IF(K48<82,4,IF(K48<86,5,IF(K48<90,6,IF(K48<94,7,IF(K48<98,8,IF(K48<101,9,10)))))))))) -> 3 | L35: =+TABELLONE!K45 -> CS RIPOSA | M35: =IF(M48<66,0,IF(M48<70,1,IF(M48<74,2,IF(M48<78,3,IF(M48<82,4,IF(M48<86,5,IF(M48<90,6,IF(M48<94,7,IF(M48<98,8,IF(M48<101,9,10)))))))))) -> 0
A36: MONACO | B36: 1 | C36: REAL MADRID | D36: 6 | J36: ATLETICO MADRID | K36: 6 | M36: 1
A37: GODIN | B37: 7 | C37: TELLES | D37: 5 | J37: DANI ALVES | K37: 10
A38: CHIELLINI | B38: 0 | C38: OTAMENDI | D38: 7 | J38: SEMEDO | K38: 6.5
A39: PEPE | B39: 6.5 | C39: RUDIGER | D39: 7 | J39: ADRIANO | K39: 6
A40: DRAXLER | B40: 6 | C40: FELIPE | D40: 9.5 | J40: ASENSIO | K40: 7
A41: ISCO | B41: 6.5 | C41: KOKE | D41: 5.5 | J41: COUTINHO | K41: 6.5
A42: INIESTA | B42: 6.5 | C42: PEDRO | D42: 7 | J42: DI MARIA | K42: 6
A43: WILLIAN | B43: 13.5 | C43: MOUTINHO | D43: 4.5 | J43: PROMES | K43: 5.5
A44: NEYMAR | B44: 15 | C44: TOSUN | D44: 7.5 | J44: BRUNO FERNANDES | K44: 7.5
...

Sheet 6° GIORNATA
A1: 6° GIORNATA
A3: GIRONE A
A5: =+TABELLONE!J22 -> BRIGATA GURREN | B5: =IF(B18<66,0,IF(B18<70,1,IF(B18<74,2,IF(B18<78,3,IF(B18<82,4,IF(B18<86,5,IF(B18<90,6,IF(B18<94,7,IF(B18<98,8,IF(B18<101,9,10)))))))))) -> 2 | C5: =+TABELLONE!K22 -> SKIACCIAK MOSCA | D5: =IF(D18<66,0,IF(D18<70,1,IF(D18<74,2,IF(D18<78,3,IF(D18<82,4,IF(D18<86,5,IF(D18<90,6,IF(D18<94,7,IF(D18<98,8,IF(D18<101,9,10)))))))))) -> 3 | J5: =+TABELLONE!J23 -> MC TOWN | K5: =IF(K18<66,0,IF(K18<70,1,IF(K18<74,2,IF(K18<78,3,IF(K18<82,4,IF(K18<86,5,IF(K18<90,6,IF(K18<94,7,IF(K18<98,8,IF(K18<101,9,10)))))))))) -> 3 | L5: =+TABELLONE!K23 -> SOLOPISA 1909 | M5: =IF(M18<66,0,IF(M18<70,1,IF(M18<74,2,IF(M18<78,3,IF(M18<82,4,IF(M18<86,5,IF(M18<90,6,IF(M18<94,7,IF(M18<98,8,IF(M18<101,9,10)))))))))) -> 4
A6: PSG | B6: 2.5 | C6: NAPOLI | D6: 3 | J6: MANCHESTER CITY | K6: 3 | L6: JUVENTUS | M6: 7
A7: KOLAROV | B7: 6.5 | C7: HISAY | D7: 5 | J7: MARIO FERNANDES | K7: 7 | L7: MARCELO | M7: 5.5
A8: MARQUINHOS | B8: 4.5 | C8: KJAER | D8: 6.5 | J8: VALENCIA | K8: 6.5 | L8: KLAVAN | M8: 6
A9: ALBERTO MORENO | B9: 6 | C9: ZAPPACOSTA | D9: 6.5 | F9: Assist | J9: CAHILL | K9: 6 | L9: BARZAGLI | M9: 6.5
A10: SAUL NIGUEZ | B10: 10 | C10: PJANIC | D10: 6 | F10: Torres | G10: Dele Alli | J10: ROSE | K10: 6 | L10: DELE ALLI | M10: 7.5
A11: QUARESMA | B11: 5.5 | C11: MKHITARYAN | D11: 6 | F11: D.Suarez | G11: Llorente | J11: STERLING | K11: 6 | L11: MATA | M11: 7.5
A12: BANEGA | B12: 6.5 | C12: FLORENZI | D12: 6.5 | F12: Lang | J12: BERNARD | K12: 10 | L12: BUSQUETS | M12: 6
A13: ERIKSEN | B13: 7.5 | C13: GANSO | D13: 9.5 | F13: Coman x2 | J13: GABI | K13: 6 | L13: SUAREZ | M13: 8
A14: CALLEJON | B14: 5.5 | C14: MANE | D14: 14 | F14: J. Rodriguez | J14: AGUERO | K14: 9 | L14: MERTENS | M14: 4.5
A15: LUKAKU | B15: 9.5 | C15: BEN YEDDER | D15: 5.5 | F15: Schmelzer | J15: FIRMINO | K15: 11 | L15: RASHFORD | M15: 9.5
A16: DZEKO | B16: 5 | C16: MAREGA | D16: 5.5 | F16: M.Fernandes | J16: LUIZ ADRIANO | K16: 4 | L16: IBRAHIMOVIC | M16: 13
A17: FATTORE CAMPO | B17: 1 | F17: Berghuis | J17: FATTORE CAMPO | K17: 1
B18: =SUM(B6:B17) -> 70 | D18: =SUM(D6:D17) -> 74 | F18: Alexsandro | K18: =SUM(K6:K17) -> 75.5 | M18: =SUM(M6:M17) -> 81
A19: PANCHINA | C19: PANCHINA | F19: Firmino | J19: PANCHINA | L19: PANCHINA
A20: PSG | B20: 2.5 | C20: NAPOLI | D20: 3 | F20: Sturridge | J20: MANCHESTER CITY | K20: 3 | L20: JUVENTUS | M20: 7
A21: LUSTIG | B21: 6 | C21: GLIK | D21: 8 | F21: Pogba | J21: JORDI ALBA | K21: sv | L21: TOSIC | M21: 5.5
A22: VERTONGHEN | B22: sv | C22: RAGGI | D22: sv | F22: Mata | J22: JORGE | K22: sv | L22: DAVID LUIZ | M22: sv
A23: LUISAO | B23: sv | C23: ELISEU | D23: 4.5 | F23: Keita Balde | J23: MATIP | K23: sv | L23: MILIC | M23: sv
A24: KIMMICH | B24: 5.5 | C24: PAULINHO | D24: 6 | F24: R.Pereira | J24: GELSON MARTINS | K24: 6 | L24: PIZARRO | M24: 6
A25: MARLOS | B25: 7.5 | C25: SAHIN | D25: 5.5 | F25: Brahimi | J25: LOPES | K25: 5 | L25: HENDERSON | M25: sv
A26: ACUNA | B26: 6 | C26: DZAGOEV | D26: 9.5 | F26: Aboubakar | J26: ROBBEN | K26: sv | L26: PASTORE | M26: sv
A27: YARMOLENKO | B27: sv | C27: JONAS | D27: 5.5 | F27: Cavani | J27: GRIFFITHS | K27: sv | L27: AUBAMEYANG | M27: 13
A28: CERVI | B28: sv | C28: NEGREDO | D28: 9.5 | F28: Theo Hernandez | J28: TEODORCZYK | K28: sv | L28: NDLOVU | M28: 6
A29: BEN | B29: 6.5 | C29: DIAKHABY | D29: 5 | F29: Isco | J29: SCHURRLE | K29: sv | L29: TORRES | M29: 7.5
F30: Marlos
F31: Aurier
A33: GIRONE B
A35: =+TABELLONE!J48 -> UNAJUNGLACAZO FC | B35: =IF(B48<66,0,IF(B48<70,1,IF(B48<74,2,IF(B48<78,3,IF(B48<82,4,IF(B48<86,5,IF(B48<90,6,IF(B48<94,7,IF(B48<98,8,IF(B48<101,9,10)))))))))) -> 1 | C35: =+TABELLONE!K48 -> AC CONTE | D35: =IF(D48<66,0,IF(D48<70,1,IF(D48<74,2,IF(D48<78,3,IF(D48<82,4,IF(D48<86,5,IF(D48<90,6,IF(D48<94,7,IF(D48<98,8,IF(D48<101,9,10)))))))))) -> 5 | J35: =+TABELLONE!J49 -> CS RIPOSA | K35: =IF(K48<66,0,IF(K48<70,1,IF(K48<74,2,IF(K48<78,3,IF(K48<82,4,IF(K48<86,5,IF(K48<90,6,IF(K48<94,7,IF(K48<98,8,IF(K48<101,9,10)))))))))) -> 0 | L35: =+TABELLONE!K49 -> EVRIBADI | M35: =IF(M48<66,0,IF(M48<70,1,IF(M48<74,2,IF(M48<78,3,IF(M48<82,4,IF(M48<86,5,IF(M48<90,6,IF(M48<94,7,IF(M48<98,8,IF(M48<101,9,10)))))))))) -> 0
A36: REAL MADRID | B36: 4.5 | C36: ATLETICO MADRID | D36: 6 | L36: MONACO | M36: 0
A37: VIDAL | B37: 6 | C37: DANI ALVES | D37: 4.5 | L37: ORBAN | M37: 5
A38: TELLES | B38: 10 | C38: ADRIANO | D38: 5.5 | L38: PEPE | M38: 6
A39: FELIPE | B39: 2 | C39: SEMEDO | D39: 5.5 | L39: AURIER | M39: 7
A40: OTAMENDI | B40: 6 | C40: RICARDO PEREIRA | D40: 8 | L40: INIESTA | M40: 4.5
A41: KOKE | B41: 6.5 | C41: COUTINHO | D41: 17 | L41: WILLIAN | M41: 5.5
A42: FRED | B42: 7 | C42: DI MARIA | D42: 12.5 | L42: FELLAINI | M42: 6.5
A43: MOUTINHO | B43: 5 | C43: ASENSIO | D43: 6 | L43: ISCO | M43: 7
A44: DEMBELE | B44: 5 | C44: PROMES | D44: 4 | L44: NEYMAR | M44: 5.5
...

Sheet QUARTI andata
A1: QUARTI ritorno
G3: TABELLONE ALTO
A5: =+TABELLONE!A107 -> UNAJUNGLACAZO FC | B5: =IF(B18<66,0,IF(B18<70,1,IF(B18<74,2,IF(B18<78,3,IF(B18<82,4,IF(B18<86,5,IF(B18<90,6,IF(B18<94,7,IF(B18<98,8,IF(B18<101,9,10)))))))))) -> 6 | C5: =+TABELLONE!B107 -> SOLOPISA 1909 | D5: =IF(D18<66,0,IF(D18<70,1,IF(D18<74,2,IF(D18<78,3,IF(D18<82,4,IF(D18<86,5,IF(D18<90,6,IF(D18<94,7,IF(D18<98,8,IF(D18<101,9,10)))))))))) -> 1 | F5: Assist | J5: =+TABELLONE!A108 -> CICCIOBUCCIO | K5: =IF(K18<66,0,IF(K18<70,1,IF(K18<74,2,IF(K18<78,3,IF(K18<82,4,IF(K18<86,5,IF(K18<90,6,IF(K18<94,7,IF(K18<98,8,IF(K18<101,9,10)))))))))) -> 3 | L5: =+TABELLONE!B108 -> SCARSENAL | M5: =IF(M18<66,0,IF(M18<70,1,IF(M18<74,2,IF(M18<78,3,IF(M18<82,4,IF(M18<86,5,IF(M18<90,6,IF(M18<94,7,IF(M18<98,8,IF(M18<101,9,10)))))))))) -> 6
A6: REAL MADRID | B6: 5.5 | C6: JUVENTUS | D6: 3.5 | F6: Pjanic | J6: ROMA | K6: 5.5 | L6: MAN UTD | M6: 7.5
A7: OTAMENDI | B7: 6.5 | C7: DAVID LUIZ | D7: 6 | F7: De Bruyne | J7: KURZAWA | K7: 6.5 | L7: PIQUE | M7: 6.5
A8: MATIP | B8: 5.5 | C8: ALABA | D8: 6 | F8: Dele Alli | J8: NACHO | K8: 6 | L8: MANOLAS | M8: 6
A9: MARCOS ALONSO | B9: 6 | C9: MARCELO | D9: 9.5 | F9: Wijnaldum | J9: JONES | K9: 0 | L9: THIAGO SILVA | M9: 6
A10: SMALLING | B10: 6 | C10: DELE ALLI | D10: 8 | F10: Asensio | J10: CASEMIRO | K10: 5 | L10: HAZARD | M10: 7
A11: WILLIAN | B11: 11 | C11: MATA | D11: 6 | F11: Iniesta | J11: KANTE | K11: 7 | L11: PEROTTI | M11: 6
A12: FRED | B12: 9.5 | C12: INIESTA | D12: 7 | F12: Muller | J12: POGBA | K12: 5.5 | L12: RIBERY | M12: 6
A13: BERNARD | B13: 7 | C13: DOUGLAS COSTA | D13: 6 | F13: Lewandowski | J13: MATIC | K13: 6 | L13: PJANIC | M13: 6.5
A14: CRISTIANO RONALDO | B14: 13.5 | C14: BENZEMA | D14: 5 | F14: Kimmich | J14: MORATA | K14: 5.5 | L14: MESSI | M14: 10
A15: NEYMAR | B15: 5.5 | C15: SUAREZ | D15: 5 | F15: Dzeko | J15: MANE | K15: 16.5 | L15: MULLER | M15: 15
A16: FIRMINO | B16: 10 | C16: RASHFORD | D16: 6 | J16: COMAN | K16: 11 | L16: SALAH | M16: 10.5
A17: FATTORE CAMPO | B17: 1 | J17: FATTORE CAMPO | K17: 1
B18: =SUM(B6:B17) -> 87 | D18: =SUM(D6:D17) -> 68 | K18: =SUM(K6:K17) -> 75.5 | M18: =SUM(M6:M17) -> 87
A19: PANCHINA | C19: PANCHINA | J19: PANCHINA | L19: PANCHINA
A20: REAL MADRID | B20: 5.5 | C20: JUVENTUS | D20: 3.5 | J20: ROMA | K20: 5.5 | L20: MAN UTD | M20: 7.5
A21: RUDIGER | B21: 5.5 | C21: LOVREN | D21: 6 | J21: LENGLET | K21: 6.5 | L21: VARANE | M21: 6
A22: TELLES | B22: 5 | C22: PEPE | D22: 4.5 | J22: DIGNE | K22: sv | L22: JUAN JESUS | M22: sv
A23: SUCHY | B23: 5 | C23: TOSIC | D23: 4.5 | J23: RUDY | K23: sv | L23: KOMPANY | M23: 6.5
A24: ISCO | B24: 4.5 | C24: KHEDIRA | D24: 5 | J24: GUNDONGAN | K24: 13 | L24: VERRATTI | M24: 5.5
A25: OLIVEIRA | B25: sv | C25: HENDERSON | D25: 6 | J25: SISSOKO | K25: sv | L25: STROOTMAN | M25: 6
A26: SERGI ROBERTO | B26: 6 | C26: FLORENZI | D26: 5.5 | J26: LINGARD | K26: sv
A27: SON | B27: sv | C27: NEGREDO | D27: sv | J27: MARTIAL | K27: sv | L27: SANCHEZ | M27: 5
A28: BABEL | B28: 5 | C28: LAMELA | D28: 5.5 | J28: DEMBELE | K28: sv | L28: FACUNDO FERREYRA | M28: 9.5
A29: NOLITO | B29: sv | C29: IBRAHIMOVIC | D29: sv | J29: DYBALA | K29: sv
A33: TABELLONE BASSO
A35: =+TABELLONE!A109 -> BRIGATA GURREN | B35: =IF(B48<66,0,IF(B48<70,1,IF(B48<74,2,IF(B48<78,3,IF(B48<82,4,IF(B48<86,5,IF(B48<90,6,IF(B48<94,7,IF(B48<98,8,IF(B48<101,9,10)))))))))) -> 1 | C35: =+TABELLONE!B109 -> AC CONTE | D35: =IF(D48<66,0,IF(D48<70,1,IF(D48<74,2,IF(D48<78,3,IF(D48<82,4,IF(D48<86,5,IF(D48<90,6,IF(D48<94,7,IF(D48<98,8,IF(D48<101,9,10)))))))))) -> 5 | J35: =+TABELLONE!A110 -> MARCELLONA | K35: =IF(K48<66,0,IF(K48<70,1,IF(K48<74,2,IF(K48<78,3,IF(K48<82,4,IF(K48<86,5,IF(K48<90,6,IF(K48<94,7,IF(K48<98,8,IF(K48<101,9,10)))))))))) -> 2 | L35: =+TABELLONE!B110 -> CSKA SCINA | M35: =IF(M48<66,0,IF(M48<70,1,IF(M48<74,2,IF(M48<78,3,IF(M48<82,4,IF(M48<86,5,IF(M48<90,6,IF(M48<94,7,IF(M48<98,8,IF(M48<101,9,10)))))))))) -> 2
A36: PSG | B36: 3.5 | C36: BARCELLONA | D36: 5 | J36: BAYERN MONACO | K36: 6 | L36: MAN CITY | M36: 6.5
A37: KOLAROV | B37: 6 | C37: BENATIA | D37: 5.5 | J37: ALEX SANDRO | K37: 5.5 | L37: UMTITI | M37: 5.5
A38: SERGIO RAMOS | B38: 6 | C38: JORDI ALBA | D38: 6 | J38: DAVIES | K38: 4.5 | L38: HUMMELS | M38: 5.5
A39: VALENCIA | B39: 6 | C39: WALKER | D39: 7 | J39: BOATENG | K39: 6 | L39: AZPILICUETA | M39: 6.5
A40: RAKITIC | B40: 5 | C40: ROBBEN | D40: 6.5 | J40: MODRIC | K40: 6 | L40: PAULINHO | M40: 5
A41: FERNANDINHO | B41: 6.5 | C41: VIDAL | D41: 6.5 | J41: BERNARDO SILVA | K41: 10 | L41: DE BRUYNE | M41: 8
A42: BANEGA | B42: 6.5 | C42: TOLISSO | D42: 6 | J42: STERLING | K42: 6.5 | L42: TALISCA | M42: 5
A43: KIMMICH | B43: 7.5 | C43: DI MARIA | D43: 8.5 | J43: JAMES RODRIGUEZ | K43: 6.5 | L43: KROOS | M43: 6
A44: LUKAKU | B44: 5 | C44: BERNARDESCHI | D44: 6.5 | J44: MBAPPE | K44: 6.5 | L44: KANE | M44: 10
A45: HIGUAIN | B45: 8.5 | C45: LEWANDOWSKI | D45: 14.5 | J45: CAVANI | K45: 6 | L45: BALE | M45: 6.5
A46: DZEKO | B46: 6.5 | C46: AGUERO | D46: 10 | J46: MANDZUKIC | K46: 6 | L46: BEN YEDDER | M46: 5.5
...

Sheet QUARTI ritorno
A1: QUARTI ritorno
G3: TABELLONE ALTO
A5: =+TABELLONE!B107 -> SOLOPISA 1909 | B5: =IF(B18<66,0,IF(B18<70,1,IF(B18<74,2,IF(B18<78,3,IF(B18<82,4,IF(B18<86,5,IF(B18<90,6,IF(B18<94,7,IF(B18<98,8,IF(B18<101,9,10)))))))))) -> 1 | C5: =+TABELLONE!A107 -> UNAJUNGLACAZO FC | D5: =IF(D18<66,0,IF(D18<70,1,IF(D18<74,2,IF(D18<78,3,IF(D18<82,4,IF(D18<86,5,IF(D18<90,6,IF(D18<94,7,IF(D18<98,8,IF(D18<101,9,10)))))))))) -> 2 | F5: Assist | J5: =+TABELLONE!B108 -> SCARSENAL | K5: =IF(K18<66,0,IF(K18<70,1,IF(K18<74,2,IF(K18<78,3,IF(K18<82,4,IF(K18<86,5,IF(K18<90,6,IF(K18<94,7,IF(K18<98,8,IF(K18<101,9,10)))))))))) -> 4 | L5: =+TABELLONE!A108 -> CICCIOBUCCIO | M5: =IF(M18<66,0,IF(M18<70,1,IF(M18<74,2,IF(M18<78,3,IF(M18<82,4,IF(M18<86,5,IF(M18<90,6,IF(M18<94,7,IF(M18<98,8,IF(M18<101,9,10)))))))))) -> 2
A6: JUVENTUS | B6: 6 | C6: REAL MADRID | D6: 5 | F6: Khedira | J6: MAN UTD | K6: 4.5 | L6: ROMA | M6: 6
A7: ALABA | B7: 6 | C7: MATIP | D7: 6 | F7: Higuain | J7: PIQUE | K7: 6.5 | L7: KURZAWA | M7: 0
A8: MARCELO | B8: 6 | C8: OTAMENDI | D8: 6.5 | F8: Bernardo Silva | J8: MANOLAS | K8: 6.5 | L8: LENGLET | M8: 7
A9: TOSIC | B9: 6.5 | C9: SMALLING | D9: 5.5 | F9: Rashford | J9: KOMPANY | K9: 6 | L9: FAZIO | M9: 7
A10: ALLI | B10: 4.5 | C10: BERNARD | D10: 6 | F10: Strootman | J10: HAZARD | K10: 5.5 | L10: CASEMIRO | M10: 10.5
A11: HENDERSON | B11: 5.5 | C11: FRED | D11: 6 | F11: Suarez | J11: PEROTTI | K11: 6.5 | L11: POGBA | M11: 6
A12: INIESTA | B12: 6 | C12: EMRE CAN | D12: 6.5 | F12: Messi | J12: RIBERY | K12: 6 | L12: MATIC | M12: 6
A13: MATA | B13: 6 | C13: WILLIAN | D13: 6 | F13: Muller | J13: PJANIC | K13: 5.5 | L13: GUNDOGAN | M13: 6
A14: SUAREZ | B14: 8 | C14: FIRMINO | D14: 6 | J14: MESSI | K14: 16 | L14: MANE | M14: 7
A15: RASHFORD | B15: 5.5 | C15: CRISTIANO RONALDO | D15: 10 | J15: MULLER | K15: 8 | L15: DYBALA | M15: 10.5
A16: BENZEMA | B16: 5.5 | C16: SON | D16: 10 | J16: SALAH | K16: 6 | L16: MARTIAL | M16: 6
A17: FATTORE CAMPO | B17: 1 | J17: FATTORE CAMPO | K17: 1
B18: =SUM(B6:B17) -> 66.5 | D18: =SUM(D6:D17) -> 73.5 | K18: =SUM(K6:K17) -> 78 | M18: =SUM(M6:M17) -> 72
A19: PANCHINA | C19: PANCHINA | J19: PANCHINA | L19: PANCHINA
A20: JUVENTUS | B20: 6 | C20: REAL MADRID | D20: 5 | J20: MAN UTD | K20: 4.5 | L20: ROMA | M20: 6
A21: PEPE | B21: sv | C21: MARCOS ALONSO | D21: 6.5 | J21: THIAGO SILVA | K21: 6 | L21: NACHO | M21: sv
A22: DAVID LUIZ | B22: sv | C22: RUDIGER | D22: 5.5 | J22: VARANE | K22: 6 | L22: JONES | M22: sv
A23: BARZAGLI | B23: 6.5 | C23: TELLES | D23: sv | J23: JUAN JESUS | K23: sv | L23: DIGNE | M23: sv
A24: BUSQUETS | B24: 6 | C24: PEDRO | D24: sv | J24: VERRATTI | K24: 3 | L24: KANTE | M24: 6.5
A25: DOUGLAS COSTA | B25: 7 | C25: ISCO | D25: sv | J25: STROOTMAN | K25: 7.5 | L25: SISSOKO | M25: sv
A26: KHEDIRA | B26: 7.5 | C26: SERGI ROBERTO | D26: 4.5 | L26: LINGARD | M26: 5.5
A27: LAMELA | B27: 5 | J27: SANCHEZ | K27: 6 | L27: MORATA | M27: 5.5
A28: NEGREDO | B28: sv | C28: NOLITO | D28: sv | J28: FACUNDO FERREYRA | K28: 4.5 | L28: COMAN | M28: sv
A29: IBRAHIMOVIC | B29: sv | C29: BABEL | D29: 6 | L29: DEMBELE | M29: 10
A33: TABELLONE BASSO
A35: =+TABELLONE!B109 -> AC CONTE | B35: =IF(B48<66,0,IF(B48<70,1,IF(B48<74,2,IF(B48<78,3,IF(B48<82,4,IF(B48<86,5,IF(B48<90,6,IF(B48<94,7,IF(B48<98,8,IF(B48<101,9,10)))))))))) -> 2 | C35: =+TABELLONE!A109 -> BRIGATA GURREN | D35: =IF(D48<66,0,IF(D48<70,1,IF(D48<74,2,IF(D48<78,3,IF(D48<82,4,IF(D48<86,5,IF(D48<90,6,IF(D48<94,7,IF(D48<98,8,IF(D48<101,9,10)))))))))) -> 2 | J35: =+TABELLONE!B110 -> CSKA SCINA | K35: =IF(K48<66,0,IF(K48<70,1,IF(K48<74,2,IF(K48<78,3,IF(K48<82,4,IF(K48<86,5,IF(K48<90,6,IF(K48<94,7,IF(K48<98,8,IF(K48<101,9,10)))))))))) -> 0 | L35: =+TABELLONE!A110 -> MARCELLONA | M35: =IF(M48<66,0,IF(M48<70,1,IF(M48<74,2,IF(M48<78,3,IF(M48<82,4,IF(M48<86,5,IF(M48<90,6,IF(M48<94,7,IF(M48<98,8,IF(M48<101,9,10)))))))))) -> 0
A36: BARCELLONA | B36: 6 | C36: PSG | D36: 5 | J36: MAN CITY | K36: 3.5 | L36: BAYERN MONACO | M36: 5
A37: WALKER | B37: 6 | C37: KOLAROV | D37: 6.5 | J37: HUMMELS | K37: 5.5 | L37: ALEX SANDRO | M37: 6
A38: JORDI ALBA | B38: 6 | C38: SERGIO RAMOS | D38: 6 | J38: LINDELOF | K38: 6 | L38: BOATENG | M38: 5.5
A39: DANI ALVES | B39: 4.5 | C39: VALENCIA | D39: 5 | J39: UMTITI | K39: 7 | L39: LAPORTE | M39: 5
A40: CARVAHAL | B40: 6.5 | C40: RAKITIC | D40: 6.5 | J40: AZPILICUETA | K40: 5 | L40: DAVID SILVA | M40: 4.5
A41: ROBBEN | B41: 6 | C41: ERIKSEN | D41: 6.5 | J41: DE BRUYNE | K41: 5.5 | L41: BERNARDO SILVA | M41: 7.5
A42: VIDAL | B42: 6.5 | C42: KIMMICH | D42: 5.5 | J42: TALISCA | K42: 5 | L42: JAMES RODRIGUEZ | M42: 6.5
A43: DI MARIA | B43: 6 | C43: BANEGA | D43: 6 | J43: PAULINHO | K43: 6 | L43: RABIOT | M43: 5
A44: ASENSIO | B44: 7.5 | C44: FERNANDINHO | D44: 5.5 | J44: KANE | K44: 6 | L44: MBAPPE | M44: 5.5
A45: LEWANDOWSKI | B45: 5.5 | C45: DZEKO | D45: 11 | J45: G.JESUS | K45: 8.5 | L45: CAVANI | M45: 8
A46: AGUERO | B46: 9.5 | C46: LUKAKU | D46: 8.5 | J46: BALE | K46: 6 | L46: EL SHAARAWY | M46: 4.5
...

Sheet SEMIFINALE andata
A1: SEMIFINALE andata
G3: TABELLONE
A5: =TABELLONE!A115 -> UNAJUNGLACAZO FC | B5: =IF(B18<66,0,IF(B18<70,1,IF(B18<74,2,IF(B18<78,3,IF(B18<82,4,IF(B18<86,5,IF(B18<90,6,IF(B18<94,7,IF(B18<98,8,IF(B18<101,9,10)))))))))) -> 5 | C5: =TABELLONE!B115 -> SCARSENAL | D5: =IF(D18<66,0,IF(D18<70,1,IF(D18<74,2,IF(D18<78,3,IF(D18<82,4,IF(D18<86,5,IF(D18<90,6,IF(D18<94,7,IF(D18<98,8,IF(D18<101,9,10)))))))))) -> 2 | J5: =TABELLONE!A116 -> AC CONTE | K5: =IF(K18<66,0,IF(K18<70,1,IF(K18<74,2,IF(K18<78,3,IF(K18<82,4,IF(K18<86,5,IF(K18<90,6,IF(K18<94,7,IF(K18<98,8,IF(K18<101,9,10)))))))))) -> 0 | L5: =TABELLONE!B116 -> CSKA SCINA | M5: =IF(M18<66,0,IF(M18<70,1,IF(M18<74,2,IF(M18<78,3,IF(M18<82,4,IF(M18<86,5,IF(M18<90,6,IF(M18<94,7,IF(M18<98,8,IF(M18<101,9,10)))))))))) -> 1
A6: REAL MADRID | B6: 7 | C6: BAYERN MONACO | D6: 5 | F6: Assist | J6: BARCELLONA | K6: 5.5 | L6: CITY | M6: 2
A7: OTAMENDI | B7: 4.5 | C7: PIQUE | D7: 10 | F7: Ribery | J7: MARCELO | K7: 10 | L7: HUMMELS | M7: 6.5
A8: ALABA | B8: 7 | C8: RAMOS | D8: 6.5 | F8: Escudero | J8: JORDI ALBA | K8: 6 | L8: UMTITI | M8: 6.5
A9: ALEX SANDRO | B9: 5 | C9: KOMPANY | D9: 5 | F9: Carvahal | J9: CHIELLINI | K9: 4.5 | L9: KOLAROV | M9: 5.5
A10: RAKITIC | B10: 7.5 | C10: INIESTA | D10: 6.5 | F10: Ronaldo | J10: VIDAL | K10: 5 | L10: DE BRUYNE | M10: 5
A11: MODRIC | B11: 6 | C11: BERNARDO SILVA | D11: 5 | F11: Isco | J11: ROBBEN | K11: 6 | L11: STERLING | M11: 4.5
A12: ISCO | B12: 8.5 | C12: GUNDOGAN | D12: 4.5 | F12: Perotti | J12: SANE | K12: 6 | L12: THIAGO ALCANTARA | M12: 9.5
A13: DAVID SILVA | B13: 5 | C13: RIBERY | D13: 8 | F13: Salah | J13: DOUGLAS COSTA | K13: 5 | L13: KROOS | M13: 7
A14: FIRMINO | B14: 7.5 | C14: MESSI | D14: 6.5 | F14: Firmino | J14: KIMMICH | K14: 6 | L14: BENZEMA | M14: 5.5
A15: SUAREZ | B15: 10 | C15: MULLER | D15: 5 | J15: LEWANDOWSKI | K15: 5 | L15: MANE | M15: 10
A16: CRISTIANO RONALDO | B16: 16 | C16: SALAH | D16: 11.5 | J16: DYBALA | K16: 4.5 | L16: JESUS | M16: 4
A17: FATTORE CAMPO | B17: 1 | J17: FATTORE CAMPO | K17: 1
B18: =SUM(B6:B17) -> 85 | D18: =SUM(D6:D17) -> 73.5 | K18: =SUM(K6:K17) -> 64.5 | M18: =SUM(M6:M17) -> 66
A19: PANCHINA | C19: PANCHINA | J19: PANCHINA | L19: PANCHINA
A20: REAL MADRID | B20: 7 | C20: BAYER MONACO | D20: 5 | J20: BARCELLONA | K20: 5.5 | L20: CITY | M20: 2
A21: VAN DIJK | B21: 7 | C21: MANOLAS | D21: 5.5 | J21: WALKER | K21: 4.5 | L21: ESCUDERO | M21: 7
A22: BARZAGLI | B22: 4.5 | C22: VARANE | D22: 7 | J22: BOATENG | K22: 6.5 | L22: STONES | M22: sv
A23: FAZIO | B23: 6 | C23: DANILO | D23: sv | J23: CARVAHAL | K23: 8.5 | L23: LAPORTE | M23: 5
A24: SERGI ROBERTO | B24: 6 | C24: FERNANDINHO | D24: 5 | J24: ASENSIO | K24: 6 | L24: CASEMIRO | M24: 7
A25: EMRE CAN | B25: sv | C25: PEROTTI | D25: 6.5 | J25: TOLISSO | K25: sv | L25: WJINALDUM | M25: 6
A26: BANEGA | B26: sv | C26: STROOTMAN | D26: 5.5 | J26: NAINGGOLAN | K26: sv | L26: PAULINHO | M26: 6
A27: DEMBELE | B27: sv | C27: HIGUAIN | D27: 5.5 | J27: AGUERO | K27: sv | L27: BALE | M27: sv
A28: EL SHAARAWY | B28: 5.5 | C28: DZEKO | D28: 9.5 | J28: MANDZUKIC | K28: 5 | L28: BEN YEDDER | M28: 6
A29: NOLITO | B29: sv | C29: ALCACER | D29: sv | J29: WAGNER | K29: sv | L29: MURIEL | M29: sv

Sheet SEMIFINALE ritorno
A1: SEMIFINALE ritorno
G3: TABELLONE
A5: =TABELLONE!B115 -> SCARSENAL | B5: =IF(B18<66,0,IF(B18<70,1,IF(B18<74,2,IF(B18<78,3,IF(B18<82,4,IF(B18<86,5,IF(B18<90,6,IF(B18<94,7,IF(B18<98,8,IF(B18<101,9,10)))))))))) -> 1 | C5: =TABELLONE!A115 -> UNAJUNGLACAZO FC | D5: =IF(D18<66,0,IF(D18<70,1,IF(D18<74,2,IF(D18<78,3,IF(D18<82,4,IF(D18<86,5,IF(D18<90,6,IF(D18<94,7,IF(D18<98,8,IF(D18<101,9,10)))))))))) -> 0 | F5: Assist | J5: =TABELLONE!B116 -> CSKA SCINA | K5: =IF(K18<66,0,IF(K18<70,1,IF(K18<74,2,IF(K18<78,3,IF(K18<82,4,IF(K18<86,5,IF(K18<90,6,IF(K18<94,7,IF(K18<98,8,IF(K18<101,9,10)))))))))) -> 1 | L5: =TABELLONE!A116 -> AC CONTE | M5: =IF(M18<66,0,IF(M18<70,1,IF(M18<74,2,IF(M18<78,3,IF(M18<82,4,IF(M18<86,5,IF(M18<90,6,IF(M18<94,7,IF(M18<98,8,IF(M18<101,9,10)))))))))) -> 0
A6: BAYERN MONACO | B6: 6 | C6: REAL MADRID | D6: 1.5 | F6: Sterling | J6: CITY | K6: 2.5 | L6: BARCELLONA | M6: 2
A7: PIQUE | B7: 4 | C7: ALABA | D7: 5 | F7: Under | J7: HUMMELS | K7: 7 | L7: MARCELO | M7: 4.5
A8: VARANE | B8: 6.5 | C8: OTAMENDI | D8: 4.5 | J8: UMTITI | K8: 4 | L8: WALKER | M8: 5
A9: BERNAT | B9: 8.5 | C9: ALEX SANDRO | D9: 5.5 | J9: KOLAROV | K9: 7.5 | L9: CARVAHAL | M9: 5
A10: INIESTA | B10: 5 | C10: ISCO | D10: 7 | J10: KROOS | K10: 5.5 | L10: BOATENG | M10: 6
A11: PJANIC | B11: 6.5 | C11: MODRIC | D11: 6 | J11: DE BRUYNE | K11: 6 | L11: ROBBEN | M11: 6.5
A12: GUNDOGAN | B12: 5.5 | C12: DAVID SILVA | D12: 5.5 | J12: JAMES | K12: 6.5 | L12: SANE | M12: 6
A13: RIBERY | B13: 6 | C13: RAKITIC | D13: 5 | J13: STERLING | K13: 7 | L13: VIDAL | M13: 6
A14: MESSI | B14: 4 | C14: CRISTIANO RONALDO | D14: 9.5 | J14: MANE | K14: 6 | L14: DOUGLAS COSTA | M14: 7
A15: MULLER | B15: 5.5 | C15: SUAREZ | D15: 4 | J15: GABRIEL JESUS | K15: 8 | L15: LEWANDOWSKI | M15: 5.5
A16: SALAH | B16: 10 | C16: FIRMINO | D16: 10 | J16: BENZEMA | K16: 5.5 | L16: AGUERO | M16: 5.5
A17: FATTORE CAMPO | B17: 1 | J17: FATTORE CAMPO | K17: 1
B18: =SUM(B6:B17) -> 68.5 | D18: =SUM(D6:D17) -> 63.5 | K18: =SUM(K6:K17) -> 66.5 | M18: =SUM(M6:M17) -> 59
A19: PANCHINA | C19: PANCHINA | J19: PANCHINA | L19: PANCHINA
A20: BAYERN MONACO | B20: 6 | C20: REAL MADRID | D20: 1.5 | J20: CITY | K20: 2.5 | L20: BARCELLONA | M20: 2
A21: KOMPANY | B21: sv | C21: VAN DIJK | D21: 5 | J21: ESCUDERO | K21: 5 | L21: JORDI ALBA | M21: 5.5
A22: MANOLAS | B22: 8.5 | C22: FAZIO | D22: 7 | J22: LAPORTE | K22: 5 | L22: CHIELLINI | M22: 7
A23: RAMOS | B23: sv | C23: NACHO | D23: sv | J23: KJAER | K23: sv | L23: BENATIA | M23: 5.5
A24: FERNANDINHO | B24: 6 | C24: UNDER | D24: 8 | J24: WJINALDUM | K24: 6 | L24: ASENSIO | M24: 6
A25: BERNARDO SILVA | B25: 6 | C25: BANEGA | D25: 6 | J25: CASEMIRO | K25: 5 | L25: KIMMICH | M25: 6
A26: PEROTTI | B26: sv | C26: SERGI ROBERTO | D26: 5.5 | J26: THIAGO ALCANTARA | K26: 6 | L26: TOLISSO | M26: sv
A27: DZEKO | B27: 12 | C27: DEMBELE | D27: sv | J27: MURIEL | K27: 5.5 | L27: MANDZUKIC | M27: 13.5
A28: HIGUAIN | B28: 6.5 | C28: EL SHAARAWY | D28: 7 | J28: BEN YEDDER | K28: 5 | L28: WAGNER | M28: 5.5
A29: ALCACER | B29: sv | C29: NOLITO | D29: sv | J29: BALE | K29: 5 | L29: COMAN | M29: sv

Sheet FINALE
A1: FINALE
B3: ANDATA | K3: RITORNO
A5: =TABELLONE!A121 -> UNAJUNGLACAZO FC | B5: =IF(B18<66,0,IF(B18<70,1,IF(B18<74,2,IF(B18<78,3,IF(B18<82,4,IF(B18<86,5,IF(B18<90,6,IF(B18<94,7,IF(B18<98,8,IF(B18<101,9,10)))))))))) -> 5 | C5: =TABELLONE!B121 -> CSKA SCINA | D5: =IF(D18<66,0,IF(D18<70,1,IF(D18<74,2,IF(D18<78,3,IF(D18<82,4,IF(D18<86,5,IF(D18<90,6,IF(D18<94,7,IF(D18<98,8,IF(D18<101,9,10)))))))))) -> 2 | J5: =TABELLONE!B121 -> CSKA SCINA | K5: =IF(K18<66,0,IF(K18<70,1,IF(K18<74,2,IF(K18<78,3,IF(K18<82,4,IF(K18<86,5,IF(K18<90,6,IF(K18<94,7,IF(K18<98,8,IF(K18<101,9,10)))))))))) -> 0 | L5: =TABELLONE!A121 -> UNAJUNGLACAZO FC | M5: =IF(M18<66,0,IF(M18<70,1,IF(M18<74,2,IF(M18<78,3,IF(M18<82,4,IF(M18<86,5,IF(M18<90,6,IF(M18<94,7,IF(M18<98,8,IF(M18<101,9,10)))))))))) -> 0
A6: REAL MADRID | B6: 4.5 | C6: ROMA | D6: 0.5 | F6: Assist
A7: SERGIO RAMOS | B7: 6.5 | C7: HUMMELS | D7: 6.5 | F7: Nainggollan
A8: VAN DIJK | B8: 6 | C8: KOLAROV | D8: 5 | F8: Milner
A9: ALABA | B9: 4.5 | C9: MARCELO | D9: 10 | F9: Salah x2
A10: ISCO | B10: 5 | C10: JAMES RODRIGUEZ | D10: 8 | F10: Firmino
A11: RIBERY | B11: 6.5 | C11: FLORENZI | D11: 5 | F11: James Rodriguez
A12: UNDER | B12: 4.5 | C12: OXLADE CHAMBERLAIN | D12: 6
A13: MILNER | B13: 8 | C13: KROOS | D13: 6
A14: CRISTIANO RONALDO | B14: 5.5 | C14: DZEKO | D14: 9.5
A15: SALAH | B15: 17 | C15: MANE | D15: 9.5
A16: FIRMINO | B16: 15 | C16: LEWANDOWSKI | D16: 5.5
A17: FATTORE CAMPO | B17: 1 | J17: FATTORE CAMPO | K17: 1
B18: =SUM(B6:B17) -> 84 | D18: =SUM(D6:D17) -> 71.5 | K18: =SUM(K6:K17) -> 1 | M18: =SUM(M6:M17) -> 0
A19: PANCHINA | C19: PANCHINA | J19: PANCHINA | L19: PANCHINA
A20: REAL MADRID | B20: 4.5 | C20: ROMA | D20: 0.5
A21: BERNAT | B21: sv | C21: CARVAJAL | D21: 5.5
A22: MANOLAS | B22: 4.5 | C22: ROBERTSON | D22: 6.5
A23: VARANE | B23: 6 | C23: BOATENG | D23: 6
A24: NAINGGOLAN | B24: 7.5 | C24: KIMMICH | D24: 9.5
