Workbook

Sheet A
A1: RUOLO | B1: GIOCATORE | C1: SQUADRA
A2: =IF(B2<>"",Q_29DIC!A2,"") | B2: =IF(ISERROR(MATCH(Q_29DIC!B2,Q_29DIC!E:E,0)),Q_29DIC!B2,"") | C2: =IF(B2<>"",Q_29DIC!C2,"")
A3: =IF(B3<>"",Q_29DIC!A3,"") | B3: =IF(ISERROR(MATCH(Q_29DIC!B3,Q_29DIC!E:E,0)),Q_29DIC!B3,"") | C3: =IF(B3<>"",Q_29DIC!C3,"")
A4: =IF(B4<>"",Q_29DIC!A4,"") | B4: =IF(ISERROR(MATCH(Q_29DIC!B4,Q_29DIC!E:E,0)),Q_29DIC!B4,"") | C4: =IF(B4<>"",Q_29DIC!C4,"")
A5: =IF(B5<>"",Q_29DIC!A5,"") | B5: =IF(ISERROR(MATCH(Q_29DIC!B5,Q_29DIC!E:E,0)),Q_29DIC!B5,"") | C5: =IF(B5<>"",Q_29DIC!C5,"")
A6: =IF(B6<>"",Q_29DIC!A6,"") | B6: =IF(ISERROR(MATCH(Q_29DIC!B6,Q_29DIC!E:E,0)),Q_29DIC!B6,"") | C6: =IF(B6<>"",Q_29DIC!C6,"")
A7: =IF(B7<>"",Q_29DIC!A7,"") | B7: =IF(ISERROR(MATCH(Q_29DIC!B7,Q_29DIC!E:E,0)),Q_29DIC!B7,"") | C7: =IF(B7<>"",Q_29DIC!C7,"")
A8: =IF(B8<>"",Q_29DIC!A8,"") | B8: =IF(ISERROR(MATCH(Q_29DIC!B8,Q_29DIC!E:E,0)),Q_29DIC!B8,"") | C8: =IF(B8<>"",Q_29DIC!C8,"")
A9: =IF(B9<>"",Q_29DIC!A9,"") | B9: =IF(ISERROR(MATCH(Q_29DIC!B9,Q_29DIC!E:E,0)),Q_29DIC!B9,"") | C9: =IF(B9<>"",Q_29DIC!C9,"")
A10: =IF(B10<>"",Q_29DIC!A10,"") | B10: =IF(ISERROR(MATCH(Q_29DIC!B10,Q_29DIC!E:E,0)),Q_29DIC!B10,"") | C10: =IF(B10<>"",Q_29DIC!C10,"")
A11: =IF(B11<>"",Q_29DIC!A11,"") | B11: =IF(ISERROR(MATCH(Q_29DIC!B11,Q_29DIC!E:E,0)),Q_29DIC!B11,"") | C11: =IF(B11<>"",Q_29DIC!C11,"")
A12: =IF(B12<>"",Q_29DIC!A12,"") | B12: =IF(ISERROR(MATCH(Q_29DIC!B12,Q_29DIC!E:E,0)),Q_29DIC!B12,"") | C12: =IF(B12<>"",Q_29DIC!C12,"")
A13: =IF(B13<>"",Q_29DIC!A13,"") | B13: =IF(ISERROR(MATCH(Q_29DIC!B13,Q_29DIC!E:E,0)),Q_29DIC!B13,"") | C13: =IF(B13<>"",Q_29DIC!C13,"")
... A49: =IF(B49<>"",Q_29DIC!A49,"") | B49: =IF(ISERROR(MATCH(Q_29DIC!B49,Q_29DIC!E:E,0)),Q_29DIC!B49,"") | C49: =IF(B49<>"",Q_29DIC!C49,"")
A50: =IF(B50<>"",Q_29DIC!A344,"") -> A | B50: =IF(ISERROR(MATCH(Q_29DIC!B344,Q_29DIC!E:E,0)),Q_29DIC!B344,"") -> KARAMOH | C50: =IF(B50<>"",Q_29DIC!C344,"") -> Inter
A51: =IF(B51<>"",Q_29DIC!A51,"") | B51: =IF(ISERROR(MATCH(Q_29DIC!B51,Q_29DIC!E:E,0)),Q_29DIC!B51,"") | C51: =IF(B51<>"",Q_29DIC!C51,"")
A52: =IF(B52<>"",Q_29DIC!A52,"") | B52: =IF(ISERROR(MATCH(Q_29DIC!B52,Q_29DIC!E:E,0)),Q_29DIC!B52,"") | C52: =IF(B52<>"",Q_29DIC!C52,"")
A53: =IF(B53<>"",Q_29DIC!A53,"") | B53: =IF(ISERROR(MATCH(Q_29DIC!B53,Q_29DIC!E:E,0)),Q_29DIC!B53,"") | C53: =IF(B53<>"",Q_29DIC!C53,"")
A54: =IF(B54<>"",Q_29DIC!A54,"") | B54: =IF(ISERROR(MATCH(Q_29DIC!B54,Q_29DIC!E:E,0)),Q_29DIC!B54,"") | C54: =IF(B54<>"",Q_29DIC!C54,"")
A55: =IF(B55<>"",Q_29DIC!A55,"") | B55: =IF(ISERROR(MATCH(Q_29DIC!B55,Q_29DIC!E:E,0)),Q_29DIC!B55,"") | C55: =IF(B55<>"",Q_29DIC!C55,"")
A56: =IF(B56<>"",Q_29DIC!A56,"") | B56: =IF(ISERROR(MATCH(Q_29DIC!B56,Q_29DIC!E:E,0)),Q_29DIC!B56,"") | C56: =IF(B56<>"",Q_29DIC!C56,"")
A57: =IF(B57<>"",Q_29DIC!A57,"") | B57: =IF(ISERROR(MATCH(Q_29DIC!B57,Q_29DIC!E:E,0)),Q_29DIC!B57,"") | C57: =IF(B57<>"",Q_29DIC!C57,"")
A58: =IF(B58<>"",Q_29DIC!A58,"") | B58: =IF(ISERROR(MATCH(Q_29DIC!B58,Q_29DIC!E:E,0)),Q_29DIC!B58,"") | C58: =IF(B58<>"",Q_29DIC!C58,"")
A59: =IF(B59<>"",Q_29DIC!A59,"") -> C | B59: =IF(ISERROR(MATCH(Q_29DIC!B59,Q_29DIC!E:E,0)),Q_29DIC!B59,"") -> RAFINHA | C59: =IF(B59<>"",Q_29DIC!C59,"") -> Inter
A60: =IF(B60<>"",Q_29DIC!A60,"") -> C | B60: =IF(ISERROR(MATCH(Q_29DIC!B60,Q_29DIC!E:E,0)),Q_29DIC!B60,"") -> DZEMAILI | C60: =IF(B60<>"",Q_29DIC!C60,"") -> Bologna
A61: =IF(B61<>"",Q_29DIC!A61,"") | B61: =IF(ISERROR(MATCH(Q_29DIC!B61,Q_29DIC!E:E,0)),Q_29DIC!B61,"") | C61: =IF(B61<>"",Q_29DIC!C61,"")
A62: =IF(B62<>"",Q_29DIC!A62,"") | B62: =IF(ISERROR(MATCH(Q_29DIC!B62,Q_29DIC!E:E,0)),Q_29DIC!B62,"") | C62: =IF(B62<>"",Q_29DIC!C62,"")
... A72: =IF(B72<>"",Q_29DIC!A72,"") | B72: =IF(ISERROR(MATCH(Q_29DIC!B72,Q_29DIC!E:E,0)),Q_29DIC!B72,"") | C72: =IF(B72<>"",Q_29DIC!C72,"")
A73: =IF(B73<>"",Q_29DIC!A376,"") -> A | B73: =IF(ISERROR(MATCH(Q_29DIC!B376,Q_29DIC!E:E,0)),Q_29DIC!B376,"") -> PARIGINI | C73: =IF(B73<>"",Q_29DIC!C376,"") -> Benevento
A74: =IF(B74<>"",Q_29DIC!A400,"") -> C | B74: =IF(ISERROR(MATCH(Q_29DIC!B400,Q_29DIC!E:E,0)),Q_29DIC!B400,"") -> FALLETTI | C74: =IF(B74<>"",Q_29DIC!C400,"") -> Bologna
A75: =IF(B75<>"",Q_29DIC!A75,"") | B75: =IF(ISERROR(MATCH(Q_29DIC!B75,Q_29DIC!E:E,0)),Q_29DIC!B75,"") | C75: =IF(B75<>"",Q_29DIC!C75,"")
A76: =IF(B76<>"",Q_29DIC!A491,"") -> C | B76: =IF(ISERROR(MATCH(Q_29DIC!B491,Q_29DIC!E:E,0)),Q_29DIC!B491,"") -> GIACCHERINI | C76: =IF(B76<>"",Q_29DIC!C491,"") -> Chievo
A77: =IF(B77<>"",Q_29DIC!A77,"") | B77: =IF(ISERROR(MATCH(Q_29DIC!B77,Q_29DIC!E:E,0)),Q_29DIC!B77,"") | C77: =IF(B77<>"",Q_29DIC!C77,"")
A78: =IF(B78<>"",Q_29DIC!A78,"") | B78: =IF(ISERROR(MATCH(Q_29DIC!B78,Q_29DIC!E:E,0)),Q_29DIC!B78,"") | C78: =IF(B78<>"",Q_29DIC!C78,"")
A79: =IF(B79<>"",Q_29DIC!A79,"") -> D | B79: =IF(ISERROR(MATCH(Q_29DIC!B79,Q_29DIC!E:E,0)),Q_29DIC!B79,"") -> MARUSIC | C79: =IF(B79<>"",Q_29DIC!C79,"") -> Lazio
A80: =IF(B80<>"",Q_29DIC!A80,"") | B80: =IF(ISERROR(MATCH(Q_29DIC!B80,Q_29DIC!E:E,0)),Q_29DIC!B80,"") | C80: =IF(B80<>"",Q_29DIC!C80,"")
A81: =IF(B81<>"",Q_29DIC!A81,"") | B81: =IF(ISERROR(MATCH(Q_29DIC!B81,Q_29DIC!E:E,0)),Q_29DIC!B81,"") | C81: =IF(B81<>"",Q_29DIC!C81,"")
A82: =IF(B82<>"",Q_29DIC!A82,"") | B82: =IF(ISERROR(MATCH(Q_29DIC!B82,Q_29DIC!E:E,0)),Q_29DIC!B82,"") | C82: =IF(B82<>"",Q_29DIC!C82,"")
A83: =IF(B83<>"",Q_29DIC!A83,"") | B83: =IF(ISERROR(MATCH(Q_29DIC!B83,Q_29DIC!E:E,0)),Q_29DIC!B83,"") | C83: =IF(B83<>"",Q_29DIC!C83,"")
A84: =IF(B84<>"",Q_29DIC!A84,"") | B84: =IF(ISERROR(MATCH(Q_29DIC!B84,Q_29DIC!E:E,0)),Q_29DIC!B84,"") | C84: =IF(B84<>"",Q_29DIC!C84,"")
A85: =IF(B85<>"",Q_29DIC!A85,"") | B85: =IF(ISERROR(MATCH(Q_29DIC!B85,Q_29DIC!E:E,0)),Q_29DIC!B85,"") | C85: =IF(B85<>"",Q_29DIC!C85,"")
A86: =IF(B86<>"",Q_29DIC!A86,"") -> C | B86: =IF(ISERROR(MATCH(Q_29DIC!B86,Q_29DIC!E:E,0)),Q_29DIC!B86,"") -> BARAK | C86: =IF(B86<>"",Q_29DIC!C86,"") -> Udinese
A87: =IF(B87<>"",Q_29DIC!A87,"") -> A | B87: =IF(ISERROR(MATCH(Q_29DIC!B87,Q_29DIC!E:E,0)),Q_29DIC!B87,"") -> CERCI | C87: =IF(B87<>"",Q_29DIC!C87,"") -> Verona
A88: =IF(B88<>"",Q_29DIC!A88,"") | B88: =IF(ISERROR(MATCH(Q_29DIC!B88,Q_29DIC!E:E,0)),Q_29DIC!B88,"") | C88: =IF(B88<>"",Q_29DIC!C88,"")
... A115: =IF(B115<>"",Q_29DIC!A115,"") | B115: =IF(ISERROR(MATCH(Q_29DIC!B115,Q_29DIC!E:E,0)),Q_29DIC!B115,"") | C115: =IF(B115<>"",Q_29DIC!C115,"")
A116: =IF(B116<>"",Q_29DIC!A512,"") -> A | B116: =IF(ISERROR(MATCH(Q_29DIC!B512,Q_29DIC!E:E,0)),Q_29DIC!B512,"") -> SALCEDO MORA | C116: =IF(B116<>"",Q_29DIC!C512,"") -> Genoa
A117: =IF(B117<>"",Q_29DIC!A117,"") | B117: =IF(ISERROR(MATCH(Q_29DIC!B117,Q_29DIC!E:E,0)),Q_29DIC!B117,"") | C117: =IF(B117<>"",Q_29DIC!C117,"")
A118: =IF(B118<>"",Q_29DIC!A118,"") -> D | B118: =IF(ISERROR(MATCH(Q_29DIC!B118,Q_29DIC!E:E,0)),Q_29DIC!B118,"") -> LUKAKU J | C118: =IF(B118<>"",Q_29DIC!C118,"") -> Lazio
A119: =IF(B119<>"",Q_29DIC!A119,"") | B119: =IF(ISERROR(MATCH(Q_29DIC!B119,Q_29DIC!E:E,0)),Q_29DIC!B119,"") | C119: =IF(B119<>"",Q_29DIC!C119,"")
A120: =IF(B120<>"",Q_29DIC!A386,"") -> D | B120: =IF(ISERROR(MATCH(Q_29DIC!B386,Q_29DIC!E:E,0)),Q_29DIC!B386,"") -> MANCINI G | C120: =IF(B120<>"",Q_29DIC!C386,"") -> Atalanta
A121: =IF(B121<>"",Q_29DIC!A489,"") -> C | B121: =IF(ISERROR(MATCH(Q_29DIC!B489,Q_29DIC!E:E,0)),Q_29DIC!B489,"") -> CRECCO | C121: =IF(B121<>"",Q_29DIC!C489,"") -> Lazio
A122: =IF(B122<>"",Q_29DIC!A122,"") | B122: =IF(ISERROR(MATCH(Q_29DIC!B122,Q_29DIC!E:E,0)),Q_29DIC!B122,"") | C122: =IF(B122<>"",Q_29DIC!C122,"")
A123: =IF(B123<>"",Q_29DIC!A490,"") -> C | B123: =IF(ISERROR(MATCH(Q_29DIC!B490,Q_29DIC!E:E,0)),Q_29DIC!B490,"") -> DI GENNARO D | C123: =IF(B123<>"",Q_29DIC!C490,"") -> Lazio
A124: =IF(B124<>"",Q_29DIC!A124,"") | B124: =IF(ISERROR(MATCH(Q_29DIC!B124,Q_29DIC!E:E,0)),Q_29DIC!B124,"") | C124: =IF(B124<>"",Q_29DIC!C124,"")
A125: =IF(B125<>"",Q_29DIC!A125,"") | B125: =IF(ISERROR(MATCH(Q_29DIC!B125,Q_29DIC!E:E,0)),Q_29DIC!B125,"") | C125: =IF(B125<>"",Q_29DIC!C125,"")
A126: =IF(B126<>"",Q_29DIC!A126,"") | B126: =IF(ISERROR(MATCH(Q_29DIC!B126,Q_29DIC!E:E,0)),Q_29DIC!B126,"") | C126: =IF(B126<>"",Q_29DIC!C126,"")
A127: =IF(B127<>"",Q_29DIC!A456,"") -> D | B127: =IF(ISERROR(MATCH(Q_29DIC!B456,Q_29DIC!E:E,0)),Q_29DIC!B456,"") -> ANDERSEN | C127: =IF(B127<>"",Q_29DIC!C456,"") -> Sampdoria
A128: =IF(B128<>"",Q_29DIC!A128,"") -> A | B128: =IF(ISERROR(MATCH(Q_29DIC!B128,Q_29DIC!E:E,0)),Q_29DIC!B128,"") -> TAARABT | C128: =IF(B128<>"",Q_29DIC!C128,"") -> Genoa
A129: =IF(B129<>"",Q_29DIC!A129,"") | B129: =IF(ISERROR(MATCH(Q_29DIC!B129,Q_29DIC!E:E,0)),Q_29DIC!B129,"") | C129: =IF(B129<>"",Q_29DIC!C129,"")
A130: =IF(B130<>"",Q_29DIC!A130,"") | B130: =IF(ISERROR(MATCH(Q_29DIC!B130,Q_29DIC!E:E,0)),Q_29DIC!B130,"") | C130: =IF(B130<>"",Q_29DIC!C130,"")
A131: =IF(B131<>"",Q_29DIC!A131,"") | B131: =IF(ISERROR(MATCH(Q_29DIC!B131,Q_29DIC!E:E,0)),Q_29DIC!B131,"") | C131: =IF(B131<>"",Q_29DIC!C131,"")
A132: =IF(B132<>"",Q_29DIC!A132,"") | B132: =IF(ISERROR(MATCH(Q_29DIC!B132,Q_29DIC!E:E,0)),Q_29DIC!B132,"") | C132: =IF(B132<>"",Q_29DIC!C132,"")
A133: =IF(B133<>"",Q_29DIC!A264,"") -> A | B133: =IF(ISERROR(MATCH(Q_29DIC!B264,Q_29DIC!E:E,0)),Q_29DIC!B264,"") -> OUNAS | C133: =IF(B133<>"",Q_29DIC!C264,"") -> Napoli
A134: =IF(B134<>"",Q_29DIC!A134,"") | B134: =IF(ISERROR(MATCH(Q_29DIC!B134,Q_29DIC!E:E,0)),Q_29DIC!B134,"") | C134: =IF(B134<>"",Q_29DIC!C134,"")
A135: =IF(B135<>"",Q_29DIC!A135,"") -> P | B135: =IF(ISERROR(MATCH(Q_29DIC!B135,Q_29DIC!E:E,0)),Q_29DIC!B135,"") -> BIZZARRI | C135: =IF(B135<>"",Q_29DIC!C135,"") -> Udinese
A136: =IF(B136<>"",Q_29DIC!A136,"") | B136: =IF(ISERROR(MATCH(Q_29DIC!B136,Q_29DIC!E:E,0)),Q_29DIC!B136,"") | C136: =IF(B136<>"",Q_29DIC!C136,"")
A137: =IF(B137<>"",Q_29DIC!A137,"") | B137: =IF(ISERROR(MATCH(Q_29DIC!B137,Q_29DIC!E:E,0)),Q_29DIC!B137,"") | C137: =IF(B137<>"",Q_29DIC!C137,"")
A138: =IF(B138<>"",Q_29DIC!A138,"") | B138: =IF(ISERROR(MATCH(Q_29DIC!B138,Q_29DIC!E:E,0)),Q_29DIC!B138,"") | C138: =IF(B138<>"",Q_29DIC!C138,"")
A139: =IF(B139<>"",Q_29DIC!A139,"") | B139: =IF(ISERROR(MATCH(Q_29DIC!B139,Q_29DIC!E:E,0)),Q_29DIC!B139,"") | C139: =IF(B139<>"",Q_29DIC!C139,"")
A140: =IF(B140<>"",Q_29DIC!A140,"") | B140: =IF(ISERROR(MATCH(Q_29DIC!B140,Q_29DIC!E:E,0)),Q_29DIC!B140,"") | C140: =IF(B140<>"",Q_29DIC!C140,"")
A141: =IF(B141<>"",Q_29DIC!A377,"") -> A | B141: =IF(ISERROR(MATCH(Q_29DIC!B377,Q_29DIC!E:E,0)),Q_29DIC!B377,"") -> TONEV | C141: =IF(B141<>"",Q_29DIC!C377,"") -> Crotone
A142: =IF(B142<>"",Q_29DIC!A142,"") -> C | B142: =IF(ISERROR(MATCH(Q_29DIC!B142,Q_29DIC!E:E,0)),Q_29DIC!B142,"") -> DONSAH | C142: =IF(B142<>"",Q_29DIC!C142,"") -> Bologna
A143: =IF(B143<>"",Q_29DIC!A379,"") -> A | B143: =IF(ISERROR(MATCH(Q_29DIC!B379,Q_29DIC!E:E,0)),Q_29DIC!B379,"") -> PETKOVIC | C143: =IF(B143<>"",Q_29DIC!C379,"") -> Verona
A144: =IF(B144<>"",Q_29DIC!A418,"") -> P | B144: =IF(ISERROR(MATCH(Q_29DIC!B418,Q_29DIC!E:E,0)),Q_29DIC!B418,"") -> FESTA | C144: =IF(B144<>"",Q_29DIC!C418,"") -> Crotone
A145: =IF(B145<>"",Q_29DIC!A304,"") -> C | B145: =IF(ISERROR(MATCH(Q_29DIC!B304,Q_29DIC!E:E,0)),Q_29DIC!B304,"") -> GERSON | C145: =IF(B145<>"",Q_29DIC!C304,"") -> Roma
A146: =IF(B146<>"",Q_29DIC!A146,"") -> C | B146: =IF(ISERROR(MATCH(Q_29DIC!B146,Q_29DIC!E:E,0)),Q_29DIC!B146,"") -> VIVIANI | C146: =IF(B146<>"",Q_29DIC!C146,"") -> SPAL
A147: =IF(B147<>"",Q_29DIC!A147,"") | B147: =IF(ISERROR(MATCH(Q_29DIC!B147,Q_29DIC!E:E,0)),Q_29DIC!B147,"") | C147: =IF(B147<>"",Q_29DIC!C147,"")
A148: =IF(B148<>"",Q_29DIC!A148,"") | B148: =IF(ISERROR(MATCH(Q_29DIC!B148,Q_29DIC!E:E,0)),Q_29DIC!B148,"") | C148: =IF(B148<>"",Q_29DIC!C148,"")
A149: =IF(B149<>"",Q_29DIC!A149,"") | B149: =IF(ISERROR(MATCH(Q_29DIC!B149,Q_29DIC!E:E,0)),Q_29DIC!B149,"") | C149: =IF(B149<>"",Q_29DIC!C149,"")
A150: =IF(B150<>"",Q_29DIC!A150,"") -> C | B150: =IF(ISERROR(MATCH(Q_29DIC!B150,Q_29DIC!E:E,0)),Q_29DIC!B150,"") -> OBI | C150: =IF(B150<>"",Q_29DIC!C150,"") -> Torino
A151: =IF(B151<>"",Q_29DIC!A151,"") -> C | B151: =IF(ISERROR(MATCH(Q_29DIC!B151,Q_29DIC!E:E,0)),Q_29DIC!B151,"") -> MEDEIROS | C151: =IF(B151<>"",Q_29DIC!C151,"") -> Genoa
A152: =IF(B152<>"",Q_29DIC!A152,"") -> A | B152: =IF(ISERROR(MATCH(Q_29DIC!B152,Q_29DIC!E:E,0)),Q_29DIC!B152,"") -> MATRI | C152: =IF(B152<>"",Q_29DIC!C152,"") -> Sassuolo
A153: =IF(B153<>"",Q_29DIC!A153,"") | B153: =IF(ISERROR(MATCH(Q_29DIC!B153,Q_29DIC!E:E,0)),Q_29DIC!B153,"") | C153: =IF(B153<>"",Q_29DIC!C153,"")
A154: =IF(B154<>"",Q_29DIC!A332,"") | B154: =IF(ISERROR(MATCH(Q_29DIC!B332,Q_29DIC!E:E,0)),Q_29DIC!B332,"") | C154: =IF(B154<>"",Q_29DIC!C332,"")
A155: =IF(B155<>"",Q_29DIC!A155,"") | B155: =IF(ISERROR(MATCH(Q_29DIC!B155,Q_29DIC!E:E,0)),Q_29DIC!B155,"") | C155: =IF(B155<>"",Q_29DIC!C155,"")
A156: =IF(B156<>"",Q_29DIC!A156,"") | B156: =IF(ISERROR(MATCH(Q_29DIC!B156,Q_29DIC!E:E,0)),Q_29DIC!B156,"") | C156: =IF(B156<>"",Q_29DIC!C156,"")
A157: =IF(B157<>"",Q_29DIC!A157,"") | B157: =IF(ISERROR(MATCH(Q_29DIC!B157,Q_29DIC!E:E,0)),Q_29DIC!B157,"") | C157: =IF(B157<>"",Q_29DIC!C157,"")
A158: =IF(B158<>"",Q_29DIC!A158,"") -> A | B158: =IF(ISERROR(MATCH(Q_29DIC!B158,Q_29DIC!E:E,0)),Q_29DIC!B158,"") -> CODA M | C158: =IF(B158<>"",Q_29DIC!C158,"") -> Benevento
A159: =IF(B159<>"",Q_29DIC!A333,"") | B159: =IF(ISERROR(MATCH(Q_29DIC!B333,Q_29DIC!E:E,0)),Q_29DIC!B333,"") | C159: =IF(B159<>"",Q_29DIC!C333,"")
A160: =IF(B160<>"",Q_29DIC!A160,"") | B160: =IF(ISERROR(MATCH(Q_29DIC!B160,Q_29DIC!E:E,0)),Q_29DIC!B160,"") | C160: =IF(B160<>"",Q_29DIC!C160,"")
A161: =IF(B161<>"",Q_29DIC!A161,"") | B161: =IF(ISERROR(MATCH(Q_29DIC!B161,Q_29DIC!E:E,0)),Q_29DIC!B161,"") | C161: =IF(B161<>"",Q_29DIC!C161,"")
A162: =IF(B162<>"",Q_29DIC!A162,"") | B162: =IF(ISERROR(MATCH(Q_29DIC!B162,Q_29DIC!E:E,0)),Q_29DIC!B162,"") | C162: =IF(B162<>"",Q_29DIC!C162,"")
A163: =IF(B163<>"",Q_29DIC!A163,"") -> D | B163: =IF(ISERROR(MATCH(Q_29DIC!B163,Q_29DIC!E:E,0)),Q_29DIC!B163,"") -> PELUSO | C163: =IF(B163<>"",Q_29DIC!C163,"") -> Sassuolo
A164: =IF(B164<>"",Q_29DIC!A164,"") | B164: =IF(ISERROR(MATCH(Q_29DIC!B164,Q_29DIC!E:E,0)),Q_29DIC!B164,"") | C164: =IF(B164<>"",Q_29DIC!C164,"")
A165: =IF(B165<>"",Q_29DIC!A364,"") -> D | B165: =IF(ISERROR(MATCH(Q_29DIC!B364,Q_29DIC!E:E,0)),Q_29DIC!B364,"") -> OLIVERA M | C165: =IF(B165<>"",Q_29DIC!C364,"") -> Fiorentina
A166: =IF(B166<>"",Q_29DIC!A166,"") | B166: =IF(ISERROR(MATCH(Q_29DIC!B166,Q_29DIC!E:E,0)),Q_29DIC!B166,"") | C166: =IF(B166<>"",Q_29DIC!C166,"")
A167: =IF(B167<>"",Q_29DIC!A401,"") | B167: =IF(ISERROR(MATCH(Q_29DIC!B401,Q_29DIC!E:E,0)),Q_29DIC!B401,"") | C167: =IF(B167<>"",Q_29DIC!C401,"")
A168: =IF(B168<>"",Q_29DIC!A168,"") | B168: =IF(ISERROR(MATCH(Q_29DIC!B168,Q_29DIC!E:E,0)),Q_29DIC!B168,"") | C168: =IF(B168<>"",Q_29DIC!C168,"")
A169: =IF(B169<>"",Q_29DIC!A169,"") | B169: =IF(ISERROR(MATCH(Q_29DIC!B169,Q_29DIC!E:E,0)),Q_29DIC!B169,"") | C169: =IF(B169<>"",Q_29DIC!C169,"")
A170: =IF(B170<>"",Q_29DIC!A170,"") -> D | B170: =IF(ISERROR(MATCH(Q_29DIC!B170,Q_29DIC!E:E,0)),Q_29DIC!B170,"") -> ZUKANOVIC | C170: =IF(B170<>"",Q_29DIC!C170,"") -> Genoa
...

Sheet Lista A
A1: RUOLO | B1: GIOCATORE | C1: SQUADRA
A2: A | B2: ANTENUCCI | C2: SPAL
A3: A | B3: KARAMOH | C3: Inter
A4: C | B4: RAFINHA | C4: Inter
A5: C | B5: DZEMAILI | C5: Bologna
A6: A | B6: PARIGINI | C6: Benevento
A7: C | B7: FALLETTI | C7: Bologna
A8: C | B8: GIACCHERINI | C8: Chievo
A9: D | B9: MARUSIC | C9: Lazio
A10: C | B10: BARAK | C10: Udinese
A11: A | B11: CERCI | C11: Verona
A12: A | B12: TROTTA | C12: Crotone
... A280: D | B280: MIKULIC | C280: Sampdoria

Sheet B
A1: RUOLO | B1: GIOCATORE | C1: SQUADRA
A2: =IF(B2<>"",Q_29DIC!A2,"") | B2: =IF(ISERROR(MATCH(Q_29DIC!B2,Q_29DIC!G:G,0)),Q_29DIC!B2,"") | C2: =IF(B2<>"",Q_29DIC!C2,"")
A3: =IF(B3<>"",Q_29DIC!A3,"") | B3: =IF(ISERROR(MATCH(Q_29DIC!B3,Q_29DIC!G:G,0)),Q_29DIC!B3,"") | C3: =IF(B3<>"",Q_29DIC!C3,"")
A4: =IF(B4<>"",Q_29DIC!A4,"") | B4: =IF(ISERROR(MATCH(Q_29DIC!B4,Q_29DIC!G:G,0)),Q_29DIC!B4,"") | C4: =IF(B4<>"",Q_29DIC!C4,"")
A5: =IF(B5<>"",Q_29DIC!A5,"") | B5: =IF(ISERROR(MATCH(Q_29DIC!B5,Q_29DIC!G:G,0)),Q_29DIC!B5,"") | C5: =IF(B5<>"",Q_29DIC!C5,"")
A6: =IF(B6<>"",Q_29DIC!A6,"") | B6: =IF(ISERROR(MATCH(Q_29DIC!B6,Q_29DIC!G:G,0)),Q_29DIC!B6,"") | C6: =IF(B6<>"",Q_29DIC!C6,"")
A7: =IF(B7<>"",Q_29DIC!A7,"") | B7: =IF(ISERROR(MATCH(Q_29DIC!B7,Q_29DIC!G:G,0)),Q_29DIC!B7,"") | C7: =IF(B7<>"",Q_29DIC!C7,"")
A8: =IF(B8<>"",Q_29DIC!A8,"") | B8: =IF(ISERROR(MATCH(Q_29DIC!B8,Q_29DIC!G:G,0)),Q_29DIC!B8,"") | C8: =IF(B8<>"",Q_29DIC!C8,"")
A9: =IF(B9<>"",Q_29DIC!A9,"") | B9: =IF(ISERROR(MATCH(Q_29DIC!B9,Q_29DIC!G:G,0)),Q_29DIC!B9,"") | C9: =IF(B9<>"",Q_29DIC!C9,"")
A10: =IF(B10<>"",Q_29DIC!A10,"") | B10: =IF(ISERROR(MATCH(Q_29DIC!B10,Q_29DIC!G:G,0)),Q_29DIC!B10,"") | C10: =IF(B10<>"",Q_29DIC!C10,"")
A11: =IF(B11<>"",Q_29DIC!A11,"") | B11: =IF(ISERROR(MATCH(Q_29DIC!B11,Q_29DIC!G:G,0)),Q_29DIC!B11,"") | C11: =IF(B11<>"",Q_29DIC!C11,"")
A12: =IF(B12<>"",Q_29DIC!A12,"") | B12: =IF(ISERROR(MATCH(Q_29DIC!B12,Q_29DIC!G:G,0)),Q_29DIC!B12,"") | C12: =IF(B12<>"",Q_29DIC!C12,"")
A13: =IF(B13<>"",Q_29DIC!A13,"") | B13: =IF(ISERROR(MATCH(Q_29DIC!B13,Q_29DIC!G:G,0)),Q_29DIC!B13,"") | C13: =IF(B13<>"",Q_29DIC!C13,"")
... A49: =IF(B49<>"",Q_29DIC!A49,"") | B49: =IF(ISERROR(MATCH(Q_29DIC!B49,Q_29DIC!G:G,0)),Q_29DIC!B49,"") | C49: =IF(B49<>"",Q_29DIC!C49,"")
A50: =IF(B50<>"",Q_29DIC!A344,"") | B50: =IF(ISERROR(MATCH(Q_29DIC!B344,Q_29DIC!G:G,0)),Q_29DIC!B344,"") | C50: =IF(B50<>"",Q_29DIC!C344,"")
A51: =IF(B51<>"",Q_29DIC!A51,"") | B51: =IF(ISERROR(MATCH(Q_29DIC!B51,Q_29DIC!G:G,0)),Q_29DIC!B51,"") | C51: =IF(B51<>"",Q_29DIC!C51,"")
A52: =IF(B52<>"",Q_29DIC!A52,"") | B52: =IF(ISERROR(MATCH(Q_29DIC!B52,Q_29DIC!G:G,0)),Q_29DIC!B52,"") | C52: =IF(B52<>"",Q_29DIC!C52,"")
A53: =IF(B53<>"",Q_29DIC!A53,"") | B53: =IF(ISERROR(MATCH(Q_29DIC!B53,Q_29DIC!G:G,0)),Q_29DIC!B53,"") | C53: =IF(B53<>"",Q_29DIC!C53,"")
A54: =IF(B54<>"",Q_29DIC!A54,"") | B54: =IF(ISERROR(MATCH(Q_29DIC!B54,Q_29DIC!G:G,0)),Q_29DIC!B54,"") | C54: =IF(B54<>"",Q_29DIC!C54,"")
A55: =IF(B55<>"",Q_29DIC!A55,"") | B55: =IF(ISERROR(MATCH(Q_29DIC!B55,Q_29DIC!G:G,0)),Q_29DIC!B55,"") | C55: =IF(B55<>"",Q_29DIC!C55,"")
A56: =IF(B56<>"",Q_29DIC!A56,"") | B56: =IF(ISERROR(MATCH(Q_29DIC!B56,Q_29DIC!G:G,0)),Q_29DIC!B56,"") | C56: =IF(B56<>"",Q_29DIC!C56,"")
A57: =IF(B57<>"",Q_29DIC!A57,"") | B57: =IF(ISERROR(MATCH(Q_29DIC!B57,Q_29DIC!G:G,0)),Q_29DIC!B57,"") | C57: =IF(B57<>"",Q_29DIC!C57,"")
A58: =IF(B58<>"",Q_29DIC!A58,"") | B58: =IF(ISERROR(MATCH(Q_29DIC!B58,Q_29DIC!G:G,0)),Q_29DIC!B58,"") | C58: =IF(B58<>"",Q_29DIC!C58,"")
A59: =IF(B59<>"",Q_29DIC!A59,"") -> C | B59: =IF(ISERROR(MATCH(Q_29DIC!B59,Q_29DIC!G:G,0)),Q_29DIC!B59,"") -> RAFINHA | C59: =IF(B59<>"",Q_29DIC!C59,"") -> Inter
A60: =IF(B60<>"",Q_29DIC!A60,"") -> C | B60: =IF(ISERROR(MATCH(Q_29DIC!B60,Q_29DIC!G:G,0)),Q_29DIC!B60,"") -> DZEMAILI | C60: =IF(B60<>"",Q_29DIC!C60,"") -> Bologna
A61: =IF(B61<>"",Q_29DIC!A61,"") | B61: =IF(ISERROR(MATCH(Q_29DIC!B61,Q_29DIC!G:G,0)),Q_29DIC!B61,"") | C61: =IF(B61<>"",Q_29DIC!C61,"")
A62: =IF(B62<>"",Q_29DIC!A62,"") | B62: =IF(ISERROR(MATCH(Q_29DIC!B62,Q_29DIC!G:G,0)),Q_29DIC!B62,"") | C62: =IF(B62<>"",Q_29DIC!C62,"")
... A72: =IF(B72<>"",Q_29DIC!A72,"") | B72: =IF(ISERROR(MATCH(Q_29DIC!B72,Q_29DIC!G:G,0)),Q_29DIC!B72,"") | C72: =IF(B72<>"",Q_29DIC!C72,"")
A73: =IF(B73<>"",Q_29DIC!A376,"") -> A | B73: =IF(ISERROR(MATCH(Q_29DIC!B376,Q_29DIC!G:G,0)),Q_29DIC!B376,"") -> PARIGINI | C73: =IF(B73<>"",Q_29DIC!C376,"") -> Benevento
A74: =IF(B74<>"",Q_29DIC!A74,"") | B74: =IF(ISERROR(MATCH(Q_29DIC!B74,Q_29DIC!G:G,0)),Q_29DIC!B74,"") | C74: =IF(B74<>"",Q_29DIC!C74,"")
A75: =IF(B75<>"",Q_29DIC!A75,"") -> A | B75: =IF(ISERROR(MATCH(Q_29DIC!B75,Q_29DIC!G:G,0)),Q_29DIC!B75,"") -> PALACIO | C75: =IF(B75<>"",Q_29DIC!C75,"") -> Bologna
A76: =IF(B76<>"",Q_29DIC!A76,"") | B76: =IF(ISERROR(MATCH(Q_29DIC!B76,Q_29DIC!G:G,0)),Q_29DIC!B76,"") | C76: =IF(B76<>"",Q_29DIC!C76,"")
A77: =IF(B77<>"",Q_29DIC!A77,"") | B77: =IF(ISERROR(MATCH(Q_29DIC!B77,Q_29DIC!G:G,0)),Q_29DIC!B77,"") | C77: =IF(B77<>"",Q_29DIC!C77,"")
A78: =IF(B78<>"",Q_29DIC!A78,"") | B78: =IF(ISERROR(MATCH(Q_29DIC!B78,Q_29DIC!G:G,0)),Q_29DIC!B78,"") | C78: =IF(B78<>"",Q_29DIC!C78,"")
A79: =IF(B79<>"",Q_29DIC!A79,"") -> D | B79: =IF(ISERROR(MATCH(Q_29DIC!B79,Q_29DIC!G:G,0)),Q_29DIC!B79,"") -> MARUSIC | C79: =IF(B79<>"",Q_29DIC!C79,"") -> Lazio
A80: =IF(B80<>"",Q_29DIC!A80,"") | B80: =IF(ISERROR(MATCH(Q_29DIC!B80,Q_29DIC!G:G,0)),Q_29DIC!B80,"") | C80: =IF(B80<>"",Q_29DIC!C80,"")
A81: =IF(B81<>"",Q_29DIC!A81,"") | B81: =IF(ISERROR(MATCH(Q_29DIC!B81,Q_29DIC!G:G,0)),Q_29DIC!B81,"") | C81: =IF(B81<>"",Q_29DIC!C81,"")
A82: =IF(B82<>"",Q_29DIC!A82,"") | B82: =IF(ISERROR(MATCH(Q_29DIC!B82,Q_29DIC!G:G,0)),Q_29DIC!B82,"") | C82: =IF(B82<>"",Q_29DIC!C82,"")
A83: =IF(B83<>"",Q_29DIC!A83,"") | B83: =IF(ISERROR(MATCH(Q_29DIC!B83,Q_29DIC!G:G,0)),Q_29DIC!B83,"") | C83: =IF(B83<>"",Q_29DIC!C83,"")
A84: =IF(B84<>"",Q_29DIC!A84,"") | B84: =IF(ISERROR(MATCH(Q_29DIC!B84,Q_29DIC!G:G,0)),Q_29DIC!B84,"") | C84: =IF(B84<>"",Q_29DIC!C84,"")
A85: =IF(B85<>"",Q_29DIC!A85,"") | B85: =IF(ISERROR(MATCH(Q_29DIC!B85,Q_29DIC!G:G,0)),Q_29DIC!B85,"") | C85: =IF(B85<>"",Q_29DIC!C85,"")
... A104: =IF(B104<>"",Q_29DIC!A104,"") -> C | B104: =IF(ISERROR(MATCH(Q_29DIC!B104,Q_29DIC!G:G,0)),Q_29DIC!B104,"") -> LAZZARI M | C104: =IF(B104<>"",Q_29DIC!C104,"") -> SPAL
A105: =IF(B105<>"",Q_29DIC!A400,"") -> C | B105: =IF(ISERROR(MATCH(Q_29DIC!B400,Q_29DIC!G:G,0)),Q_29DIC!B400,"") -> FALLETTI | C105: =IF(B105<>"",Q_29DIC!C400,"") -> Bologna
A106: =IF(B106<>"",Q_29DIC!A106,"") | B106: =IF(ISERROR(MATCH(Q_29DIC!B106,Q_29DIC!G:G,0)),Q_29DIC!B106,"") | C106: =IF(B106<>"",Q_29DIC!C106,"")
A107: =IF(B107<>"",Q_29DIC!A491,"") -> C | B107: =IF(ISERROR(MATCH(Q_29DIC!B491,Q_29DIC!G:G,0)),Q_29DIC!B491,"") -> GIACCHERINI | C107: =IF(B107<>"",Q_29DIC!C491,"") -> Chievo
A108: =IF(B108<>"",Q_29DIC!A108,"") | B108: =IF(ISERROR(MATCH(Q_29DIC!B108,Q_29DIC!G:G,0)),Q_29DIC!B108,"") | C108: =IF(B108<>"",Q_29DIC!C108,"")
A109: =IF(B109<>"",Q_29DIC!A109,"") | B109: =IF(ISERROR(MATCH(Q_29DIC!B109,Q_29DIC!G:G,0)),Q_29DIC!B109,"") | C109: =IF(B109<>"",Q_29DIC!C109,"")
A110: =IF(B110<>"",Q_29DIC!A110,"") | B110: =IF(ISERROR(MATCH(Q_29DIC!B110,Q_29DIC!G:G,0)),Q_29DIC!B110,"") | C110: =IF(B110<>"",Q_29DIC!C110,"")
A111: =IF(B111<>"",Q_29DIC!A111,"") | B111: =IF(ISERROR(MATCH(Q_29DIC!B111,Q_29DIC!G:G,0)),Q_29DIC!B111,"") | C111: =IF(B111<>"",Q_29DIC!C111,"")
A112: =IF(B112<>"",Q_29DIC!A112,"") | B112: =IF(ISERROR(MATCH(Q_29DIC!B112,Q_29DIC!G:G,0)),Q_29DIC!B112,"") | C112: =IF(B112<>"",Q_29DIC!C112,"")
A113: =IF(B113<>"",Q_29DIC!A113,"") | B113: =IF(ISERROR(MATCH(Q_29DIC!B113,Q_29DIC!G:G,0)),Q_29DIC!B113,"") | C113: =IF(B113<>"",Q_29DIC!C113,"")
A114: =IF(B114<>"",Q_29DIC!A114,"") | B114: =IF(ISERROR(MATCH(Q_29DIC!B114,Q_29DIC!G:G,0)),Q_29DIC!B114,"") | C114: =IF(B114<>"",Q_29DIC!C114,"")
A115: =IF(B115<>"",Q_29DIC!A115,"") | B115: =IF(ISERROR(MATCH(Q_29DIC!B115,Q_29DIC!G:G,0)),Q_29DIC!B115,"") | C115: =IF(B115<>"",Q_29DIC!C115,"")
A116: =IF(B116<>"",Q_29DIC!A512,"") -> A | B116: =IF(ISERROR(MATCH(Q_29DIC!B512,Q_29DIC!G:G,0)),Q_29DIC!B512,"") -> SALCEDO MORA | C116: =IF(B116<>"",Q_29DIC!C512,"") -> Genoa
A117: =IF(B117<>"",Q_29DIC!A117,"") | B117: =IF(ISERROR(MATCH(Q_29DIC!B117,Q_29DIC!G:G,0)),Q_29DIC!B117,"") | C117: =IF(B117<>"",Q_29DIC!C117,"")
A118: =IF(B118<>"",Q_29DIC!A118,"") -> D | B118: =IF(ISERROR(MATCH(Q_29DIC!B118,Q_29DIC!G:G,0)),Q_29DIC!B118,"") -> LUKAKU J | C118: =IF(B118<>"",Q_29DIC!C118,"") -> Lazio
A119: =IF(B119<>"",Q_29DIC!A119,"") | B119: =IF(ISERROR(MATCH(Q_29DIC!B119,Q_29DIC!G:G,0)),Q_29DIC!B119,"") | C119: =IF(B119<>"",Q_29DIC!C119,"")
A120: =IF(B120<>"",Q_29DIC!A120,"") | B120: =IF(ISERROR(MATCH(Q_29DIC!B120,Q_29DIC!G:G,0)),Q_29DIC!B120,"") | C120: =IF(B120<>"",Q_29DIC!C120,"")
A121: =IF(B121<>"",Q_29DIC!A121,"") | B121: =IF(ISERROR(MATCH(Q_29DIC!B121,Q_29DIC!G:G,0)),Q_29DIC!B121,"") | C121: =IF(B121<>"",Q_29DIC!C121,"")
A122: =IF(B122<>"",Q_29DIC!A122,"") | B122: =IF(ISERROR(MATCH(Q_29DIC!B122,Q_29DIC!G:G,0)),Q_29DIC!B122,"") | C122: =IF(B122<>"",Q_29DIC!C122,"")
A123: =IF(B123<>"",Q_29DIC!A123,"") -> C | B123: =IF(ISERROR(MATCH(Q_29DIC!B123,Q_29DIC!G:G,0)),Q_29DIC!B123,"") -> FARAGO | C123: =IF(B123<>"",Q_29DIC!C123,"") -> Cagliari
A124: =IF(B124<>"",Q_29DIC!A124,"") | B124: =IF(ISERROR(MATCH(Q_29DIC!B124,Q_29DIC!G:G,0)),Q_29DIC!B124,"") | C124: =IF(B124<>"",Q_29DIC!C124,"")
A125: =IF(B125<>"",Q_29DIC!A125,"") | B125: =IF(ISERROR(MATCH(Q_29DIC!B125,Q_29DIC!G:G,0)),Q_29DIC!B125,"") | C125: =IF(B125<>"",Q_29DIC!C125,"")
A126: =IF(B126<>"",Q_29DIC!A126,"") | B126: =IF(ISERROR(MATCH(Q_29DIC!B126,Q_29DIC!G:G,0)),Q_29DIC!B126,"") | C126: =IF(B126<>"",Q_29DIC!C126,"")
A127: =IF(B127<>"",Q_29DIC!A331,"") | B127: =IF(ISERROR(MATCH(Q_29DIC!B331,Q_29DIC!G:G,0)),Q_29DIC!B331,"") | C127: =IF(B127<>"",Q_29DIC!C331,"")
A128: =IF(B128<>"",Q_29DIC!A128,"") | B128: =IF(ISERROR(MATCH(Q_29DIC!B128,Q_29DIC!G:G,0)),Q_29DIC!B128,"") | C128: =IF(B128<>"",Q_29DIC!C128,"")
A129: =IF(B129<>"",Q_29DIC!A129,"") | B129: =IF(ISERROR(MATCH(Q_29DIC!B129,Q_29DIC!G:G,0)),Q_29DIC!B129,"") | C129: =IF(B129<>"",Q_29DIC!C129,"")
A130: =IF(B130<>"",Q_29DIC!A130,"") | B130: =IF(ISERROR(MATCH(Q_29DIC!B130,Q_29DIC!G:G,0)),Q_29DIC!B130,"") | C130: =IF(B130<>"",Q_29DIC!C130,"")
A131: =IF(B131<>"",Q_29DIC!A131,"") | B131: =IF(ISERROR(MATCH(Q_29DIC!B131,Q_29DIC!G:G,0)),Q_29DIC!B131,"") | C131: =IF(B131<>"",Q_29DIC!C131,"")
A132: =IF(B132<>"",Q_29DIC!A132,"") | B132: =IF(ISERROR(MATCH(Q_29DIC!B132,Q_29DIC!G:G,0)),Q_29DIC!B132,"") | C132: =IF(B132<>"",Q_29DIC!C132,"")
A133: =IF(B133<>"",Q_29DIC!A363,"") -> D | B133: =IF(ISERROR(MATCH(Q_29DIC!B363,Q_29DIC!G:G,0)),Q_29DIC!B363,"") -> MILENKOVIC | C133: =IF(B133<>"",Q_29DIC!C363,"") -> Fiorentina
A134: =IF(B134<>"",Q_29DIC!A134,"") | B134: =IF(ISERROR(MATCH(Q_29DIC!B134,Q_29DIC!G:G,0)),Q_29DIC!B134,"") | C134: =IF(B134<>"",Q_29DIC!C134,"")
A135: =IF(B135<>"",Q_29DIC!A135,"") -> P | B135: =IF(ISERROR(MATCH(Q_29DIC!B135,Q_29DIC!G:G,0)),Q_29DIC!B135,"") -> BIZZARRI | C135: =IF(B135<>"",Q_29DIC!C135,"") -> Udinese
A136: =IF(B136<>"",Q_29DIC!A136,"") | B136: =IF(ISERROR(MATCH(Q_29DIC!B136,Q_29DIC!G:G,0)),Q_29DIC!B136,"") | C136: =IF(B136<>"",Q_29DIC!C136,"")
A137: =IF(B137<>"",Q_29DIC!A137,"") | B137: =IF(ISERROR(MATCH(Q_29DIC!B137,Q_29DIC!G:G,0)),Q_29DIC!B137,"") | C137: =IF(B137<>"",Q_29DIC!C137,"")
A138: =IF(B138<>"",Q_29DIC!A138,"") | B138: =IF(ISERROR(MATCH(Q_29DIC!B138,Q_29DIC!G:G,0)),Q_29DIC!B138,"") | C138: =IF(B138<>"",Q_29DIC!C138,"")
A139: =IF(B139<>"",Q_29DIC!A386,"") -> D | B139: =IF(ISERROR(MATCH(Q_29DIC!B386,Q_29DIC!G:G,0)),Q_29DIC!B386,"") -> MANCINI G | C139: =IF(B139<>"",Q_29DIC!C386,"") -> Atalanta
A140: =IF(B140<>"",Q_29DIC!A140,"") -> C | B140: =IF(ISERROR(MATCH(Q_29DIC!B140,Q_29DIC!G:G,0)),Q_29DIC!B140,"") -> D'ALESSANDRO | C140: =IF(B140<>"",Q_29DIC!C140,"") -> Benevento
A141: =IF(B141<>"",Q_29DIC!A489,"") -> C | B141: =IF(ISERROR(MATCH(Q_29DIC!B489,Q_29DIC!G:G,0)),Q_29DIC!B489,"") -> CRECCO | C141: =IF(B141<>"",Q_29DIC!C489,"") -> Lazio
A142: =IF(B142<>"",Q_29DIC!A142,"") -> C | B142: =IF(ISERROR(MATCH(Q_29DIC!B142,Q_29DIC!G:G,0)),Q_29DIC!B142,"") -> DONSAH | C142: =IF(B142<>"",Q_29DIC!C142,"") -> Bologna
A143: =IF(B143<>"",Q_29DIC!A490,"") -> C | B143: =IF(ISERROR(MATCH(Q_29DIC!B490,Q_29DIC!G:G,0)),Q_29DIC!B490,"") -> DI GENNARO D | C143: =IF(B143<>"",Q_29DIC!C490,"") -> Lazio
A144: =IF(B144<>"",Q_29DIC!A381,"") | B144: =IF(ISERROR(MATCH(Q_29DIC!B381,Q_29DIC!G:G,0)),Q_29DIC!B381,"") | C144: =IF(B144<>"",Q_29DIC!C381,"")
A145: =IF(B145<>"",Q_29DIC!A456,"") -> D | B145: =IF(ISERROR(MATCH(Q_29DIC!B456,Q_29DIC!G:G,0)),Q_29DIC!B456,"") -> ANDERSEN | C145: =IF(B145<>"",Q_29DIC!C456,"") -> Sampdoria
A146: =IF(B146<>"",Q_29DIC!A146,"") | B146: =IF(ISERROR(MATCH(Q_29DIC!B146,Q_29DIC!G:G,0)),Q_29DIC!B146,"") | C146: =IF(B146<>"",Q_29DIC!C146,"")
A147: =IF(B147<>"",Q_29DIC!A147,"") | B147: =IF(ISERROR(MATCH(Q_29DIC!B147,Q_29DIC!G:G,0)),Q_29DIC!B147,"") | C147: =IF(B147<>"",Q_29DIC!C147,"")
A148: =IF(B148<>"",Q_29DIC!A148,"") | B148: =IF(ISERROR(MATCH(Q_29DIC!B148,Q_29DIC!G:G,0)),Q_29DIC!B148,"") | C148: =IF(B148<>"",Q_29DIC!C148,"")
A149: =IF(B149<>"",Q_29DIC!A149,"") | B149: =IF(ISERROR(MATCH(Q_29DIC!B149,Q_29DIC!G:G,0)),Q_29DIC!B149,"") | C149: =IF(B149<>"",Q_29DIC!C149,"")
A150: =IF(B150<>"",Q_29DIC!A265,"") -> P | B150: =IF(ISERROR(MATCH(Q_29DIC!B265,Q_29DIC!G:G,0)),Q_29DIC!B265,"") -> RAFAEL | C150: =IF(B150<>"",Q_29DIC!C265,"") -> Cagliari
A151: =IF(B151<>"",Q_29DIC!A151,"") -> C | B151: =IF(ISERROR(MATCH(Q_29DIC!B151,Q_29DIC!G:G,0)),Q_29DIC!B151,"") -> MEDEIROS | C151: =IF(B151<>"",Q_29DIC!C151,"") -> Genoa
A152: =IF(B152<>"",Q_29DIC!A152,"") -> A | B152: =IF(ISERROR(MATCH(Q_29DIC!B152,Q_29DIC!G:G,0)),Q_29DIC!B152,"") -> MATRI | C152: =IF(B152<>"",Q_29DIC!C152,"") -> Sassuolo
A153: =IF(B153<>"",Q_29DIC!A153,"") | B153: =IF(ISERROR(MATCH(Q_29DIC!B153,Q_29DIC!G:G,0)),Q_29DIC!B153,"") | C153: =IF(B153<>"",Q_29DIC!C153,"")
A154: =IF(B154<>"",Q_29DIC!A377,"") -> A | B154: =IF(ISERROR(MATCH(Q_29DIC!B377,Q_29DIC!G:G,0)),Q_29DIC!B377,"") -> TONEV | C154: =IF(B154<>"",Q_29DIC!C377,"") -> Crotone
A155: =IF(B155<>"",Q_29DIC!A379,"") -> A | B155: =IF(ISERROR(MATCH(Q_29DIC!B379,Q_29DIC!G:G,0)),Q_29DIC!B379,"") -> PETKOVIC | C155: =IF(B155<>"",Q_29DIC!C379,"") -> Verona
A156: =IF(B156<>"",Q_29DIC!A418,"") -> P | B156: =IF(ISERROR(MATCH(Q_29DIC!B418,Q_29DIC!G:G,0)),Q_29DIC!B418,"") -> FESTA | C156: =IF(B156<>"",Q_29DIC!C418,"") -> Crotone
A157: =IF(B157<>"",Q_29DIC!A157,"") | B157: =IF(ISERROR(MATCH(Q_29DIC!B157,Q_29DIC!G:G,0)),Q_29DIC!B157,"") | C157: =IF(B157<>"",Q_29DIC!C157,"")
A158: =IF(B158<>"",Q_29DIC!A158,"") | B158: =IF(ISERROR(MATCH(Q_29DIC!B158,Q_29DIC!G:G,0)),Q_29DIC!B158,"") | C158: =IF(B158<>"",Q_29DIC!C158,"")
A159: =IF(B159<>"",Q_29DIC!A139,"") | B159: =IF(ISERROR(MATCH(Q_29DIC!B139,Q_29DIC!G:G,0)),Q_29DIC!B139,"") | C159: =IF(B159<>"",Q_29DIC!C139,"")
A160: =IF(B160<>"",Q_29DIC!A160,"") | B160: =IF(ISERROR(MATCH(Q_29DIC!B160,Q_29DIC!G:G,0)),Q_29DIC!B160,"") | C160: =IF(B160<>"",Q_29DIC!C160,"")
A161: =IF(B161<>"",Q_29DIC!A161,"") | B161: =IF(ISERROR(MATCH(Q_29DIC!B161,Q_29DIC!G:G,0)),Q_29DIC!B161,"") | C161: =IF(B161<>"",Q_29DIC!C161,"")
A162: =IF(B162<>"",Q_29DIC!A162,"") | B162: =IF(ISERROR(MATCH(Q_29DIC!B162,Q_29DIC!G:G,0)),Q_29DIC!B162,"") | C162: =IF(B162<>"",Q_29DIC!C162,"")
...

Sheet Lista B
A1: RUOLO | B1: GIOCATORE | C1: SQUADRA
A2: A | B2: ANTENUCCI | C2: SPAL
A3: C | B3: RAFINHA | C3: Inter
A4: C | B4: DZEMAILI | C4: Bologna
A5: A | B5: PARIGINI | C5: Benevento
A6: A | B6: PALACIO | C6: Bologna
A7: D | B7: MARUSIC | C7: Lazio
A8: C | B8: BARAK | C8: Udinese
A9: A | B9: TROTTA | C9: Crotone
A10: C | B10: LINETTY | C10: Sampdoria
A11: C | B11: LAZZARI M | C11: SPAL
A12: C | B12: FALLETTI | C12: Bologna
... A278: D | B278: MIKULIC | C278: Sampdoria

Sheet C
A1: RUOLO | B1: GIOCATORE | C1: SQUADRA
A2: =IF(B2<>"",Q_29DIC!A2,"") | B2: =IF(ISERROR(MATCH(Q_29DIC!B2,Q_29DIC!I:I,0)),Q_29DIC!B2,"") | C2: =IF(B2<>"",Q_29DIC!C2,"")
A3: =IF(B3<>"",Q_29DIC!A3,"") | B3: =IF(ISERROR(MATCH(Q_29DIC!B3,Q_29DIC!I:I,0)),Q_29DIC!B3,"") | C3: =IF(B3<>"",Q_29DIC!C3,"")
A4: =IF(B4<>"",Q_29DIC!A4,"") | B4: =IF(ISERROR(MATCH(Q_29DIC!B4,Q_29DIC!I:I,0)),Q_29DIC!B4,"") | C4: =IF(B4<>"",Q_29DIC!C4,"")
A5: =IF(B5<>"",Q_29DIC!A5,"") | B5: =IF(ISERROR(MATCH(Q_29DIC!B5,Q_29DIC!I:I,0)),Q_29DIC!B5,"") | C5: =IF(B5<>"",Q_29DIC!C5,"")
A6: =IF(B6<>"",Q_29DIC!A6,"") | B6: =IF(ISERROR(MATCH(Q_29DIC!B6,Q_29DIC!I:I,0)),Q_29DIC!B6,"") | C6: =IF(B6<>"",Q_29DIC!C6,"")
A7: =IF(B7<>"",Q_29DIC!A7,"") | B7: =IF(ISERROR(MATCH(Q_29DIC!B7,Q_29DIC!I:I,0)),Q_29DIC!B7,"") | C7: =IF(B7<>"",Q_29DIC!C7,"")
A8: =IF(B8<>"",Q_29DIC!A8,"") | B8: =IF(ISERROR(MATCH(Q_29DIC!B8,Q_29DIC!I:I,0)),Q_29DIC!B8,"") | C8: =IF(B8<>"",Q_29DIC!C8,"")
A9: =IF(B9<>"",Q_29DIC!A9,"") | B9: =IF(ISERROR(MATCH(Q_29DIC!B9,Q_29DIC!I:I,0)),Q_29DIC!B9,"") | C9: =IF(B9<>"",Q_29DIC!C9,"")
A10: =IF(B10<>"",Q_29DIC!A10,"") | B10: =IF(ISERROR(MATCH(Q_29DIC!B10,Q_29DIC!I:I,0)),Q_29DIC!B10,"") | C10: =IF(B10<>"",Q_29DIC!C10,"")
A11: =IF(B11<>"",Q_29DIC!A11,"") | B11: =IF(ISERROR(MATCH(Q_29DIC!B11,Q_29DIC!I:I,0)),Q_29DIC!B11,"") | C11: =IF(B11<>"",Q_29DIC!C11,"")
A12: =IF(B12<>"",Q_29DIC!A12,"") | B12: =IF(ISERROR(MATCH(Q_29DIC!B12,Q_29DIC!I:I,0)),Q_29DIC!B12,"") | C12: =IF(B12<>"",Q_29DIC!C12,"")
A13: =IF(B13<>"",Q_29DIC!A13,"") | B13: =IF(ISERROR(MATCH(Q_29DIC!B13,Q_29DIC!I:I,0)),Q_29DIC!B13,"") | C13: =IF(B13<>"",Q_29DIC!C13,"")
... A49: =IF(B49<>"",Q_29DIC!A49,"") | B49: =IF(ISERROR(MATCH(Q_29DIC!B49,Q_29DIC!I:I,0)),Q_29DIC!B49,"") | C49: =IF(B49<>"",Q_29DIC!C49,"")
A50: =IF(B50<>"",Q_29DIC!A344,"") | B50: =IF(ISERROR(MATCH(Q_29DIC!B344,Q_29DIC!I:I,0)),Q_29DIC!B344,"") | C50: =IF(B50<>"",Q_29DIC!C344,"")
A51: =IF(B51<>"",Q_29DIC!A51,"") | B51: =IF(ISERROR(MATCH(Q_29DIC!B51,Q_29DIC!I:I,0)),Q_29DIC!B51,"") | C51: =IF(B51<>"",Q_29DIC!C51,"")
A52: =IF(B52<>"",Q_29DIC!A52,"") | B52: =IF(ISERROR(MATCH(Q_29DIC!B52,Q_29DIC!I:I,0)),Q_29DIC!B52,"") | C52: =IF(B52<>"",Q_29DIC!C52,"")
A53: =IF(B53<>"",Q_29DIC!A53,"") | B53: =IF(ISERROR(MATCH(Q_29DIC!B53,Q_29DIC!I:I,0)),Q_29DIC!B53,"") | C53: =IF(B53<>"",Q_29DIC!C53,"")
A54: =IF(B54<>"",Q_29DIC!A54,"") | B54: =IF(ISERROR(MATCH(Q_29DIC!B54,Q_29DIC!I:I,0)),Q_29DIC!B54,"") | C54: =IF(B54<>"",Q_29DIC!C54,"")
A55: =IF(B55<>"",Q_29DIC!A55,"") | B55: =IF(ISERROR(MATCH(Q_29DIC!B55,Q_29DIC!I:I,0)),Q_29DIC!B55,"") | C55: =IF(B55<>"",Q_29DIC!C55,"")
A56: =IF(B56<>"",Q_29DIC!A56,"") | B56: =IF(ISERROR(MATCH(Q_29DIC!B56,Q_29DIC!I:I,0)),Q_29DIC!B56,"") | C56: =IF(B56<>"",Q_29DIC!C56,"")
A57: =IF(B57<>"",Q_29DIC!A57,"") | B57: =IF(ISERROR(MATCH(Q_29DIC!B57,Q_29DIC!I:I,0)),Q_29DIC!B57,"") | C57: =IF(B57<>"",Q_29DIC!C57,"")
A58: =IF(B58<>"",Q_29DIC!A376,"") -> A | B58: =IF(ISERROR(MATCH(Q_29DIC!B376,Q_29DIC!I:I,0)),Q_29DIC!B376,"") -> PARIGINI | C58: =IF(B58<>"",Q_29DIC!C376,"") -> Benevento
A59: =IF(B59<>"",Q_29DIC!A59,"") -> C | B59: =IF(ISERROR(MATCH(Q_29DIC!B59,Q_29DIC!I:I,0)),Q_29DIC!B59,"") -> RAFINHA | C59: =IF(B59<>"",Q_29DIC!C59,"") -> Inter
A60: =IF(B60<>"",Q_29DIC!A60,"") -> C | B60: =IF(ISERROR(MATCH(Q_29DIC!B60,Q_29DIC!I:I,0)),Q_29DIC!B60,"") -> DZEMAILI | C60: =IF(B60<>"",Q_29DIC!C60,"") -> Bologna
A61: =IF(B61<>"",Q_29DIC!A61,"") | B61: =IF(ISERROR(MATCH(Q_29DIC!B61,Q_29DIC!I:I,0)),Q_29DIC!B61,"") | C61: =IF(B61<>"",Q_29DIC!C61,"")
A62: =IF(B62<>"",Q_29DIC!A62,"") | B62: =IF(ISERROR(MATCH(Q_29DIC!B62,Q_29DIC!I:I,0)),Q_29DIC!B62,"") | C62: =IF(B62<>"",Q_29DIC!C62,"")
A63: =IF(B63<>"",Q_29DIC!A63,"") | B63: =IF(ISERROR(MATCH(Q_29DIC!B63,Q_29DIC!I:I,0)),Q_29DIC!B63,"") | C63: =IF(B63<>"",Q_29DIC!C63,"")
A64: =IF(B64<>"",Q_29DIC!A64,"") | B64: =IF(ISERROR(MATCH(Q_29DIC!B64,Q_29DIC!I:I,0)),Q_29DIC!B64,"") | C64: =IF(B64<>"",Q_29DIC!C64,"")
A65: =IF(B65<>"",Q_29DIC!A65,"") | B65: =IF(ISERROR(MATCH(Q_29DIC!B65,Q_29DIC!I:I,0)),Q_29DIC!B65,"") | C65: =IF(B65<>"",Q_29DIC!C65,"")
A66: =IF(B66<>"",Q_29DIC!A66,"") | B66: =IF(ISERROR(MATCH(Q_29DIC!B66,Q_29DIC!I:I,0)),Q_29DIC!B66,"") | C66: =IF(B66<>"",Q_29DIC!C66,"")
A67: =IF(B67<>"",Q_29DIC!A67,"") | B67: =IF(ISERROR(MATCH(Q_29DIC!B67,Q_29DIC!I:I,0)),Q_29DIC!B67,"") | C67: =IF(B67<>"",Q_29DIC!C67,"")
A68: =IF(B68<>"",Q_29DIC!A68,"") -> C | B68: =IF(ISERROR(MATCH(Q_29DIC!B68,Q_29DIC!I:I,0)),Q_29DIC!B68,"") -> VERETOUT | C68: =IF(B68<>"",Q_29DIC!C68,"") -> Fiorentina
A69: =IF(B69<>"",Q_29DIC!A69,"") | B69: =IF(ISERROR(MATCH(Q_29DIC!B69,Q_29DIC!I:I,0)),Q_29DIC!B69,"") | C69: =IF(B69<>"",Q_29DIC!C69,"")
A70: =IF(B70<>"",Q_29DIC!A70,"") | B70: =IF(ISERROR(MATCH(Q_29DIC!B70,Q_29DIC!I:I,0)),Q_29DIC!B70,"") | C70: =IF(B70<>"",Q_29DIC!C70,"")
... A72: =IF(B72<>"",Q_29DIC!A72,"") | B72: =IF(ISERROR(MATCH(Q_29DIC!B72,Q_29DIC!I:I,0)),Q_29DIC!B72,"") | C72: =IF(B72<>"",Q_29DIC!C72,"")
A73: =IF(B73<>"",Q_29DIC!A400,"") -> C | B73: =IF(ISERROR(MATCH(Q_29DIC!B400,Q_29DIC!I:I,0)),Q_29DIC!B400,"") -> FALLETTI | C73: =IF(B73<>"",Q_29DIC!C400,"") -> Bologna
A74: =IF(B74<>"",Q_29DIC!A74,"") | B74: =IF(ISERROR(MATCH(Q_29DIC!B74,Q_29DIC!I:I,0)),Q_29DIC!B74,"") | C74: =IF(B74<>"",Q_29DIC!C74,"")
A75: =IF(B75<>"",Q_29DIC!A75,"") -> A | B75: =IF(ISERROR(MATCH(Q_29DIC!B75,Q_29DIC!I:I,0)),Q_29DIC!B75,"") -> PALACIO | C75: =IF(B75<>"",Q_29DIC!C75,"") -> Bologna
A76: =IF(B76<>"",Q_29DIC!A76,"") | B76: =IF(ISERROR(MATCH(Q_29DIC!B76,Q_29DIC!I:I,0)),Q_29DIC!B76,"") | C76: =IF(B76<>"",Q_29DIC!C76,"")
A77: =IF(B77<>"",Q_29DIC!A77,"") | B77: =IF(ISERROR(MATCH(Q_29DIC!B77,Q_29DIC!I:I,0)),Q_29DIC!B77,"") | C77: =IF(B77<>"",Q_29DIC!C77,"")
A78: =IF(B78<>"",Q_29DIC!A78,"") | B78: =IF(ISERROR(MATCH(Q_29DIC!B78,Q_29DIC!I:I,0)),Q_29DIC!B78,"") | C78: =IF(B78<>"",Q_29DIC!C78,"")
A79: =IF(B79<>"",Q_29DIC!A79,"") -> D | B79: =IF(ISERROR(MATCH(Q_29DIC!B79,Q_29DIC!I:I,0)),Q_29DIC!B79,"") -> MARUSIC | C79: =IF(B79<>"",Q_29DIC!C79,"") -> Lazio
A80: =IF(B80<>"",Q_29DIC!A80,"") | B80: =IF(ISERROR(MATCH(Q_29DIC!B80,Q_29DIC!I:I,0)),Q_29DIC!B80,"") | C80: =IF(B80<>"",Q_29DIC!C80,"")
A81: =IF(B81<>"",Q_29DIC!A81,"") | B81: =IF(ISERROR(MATCH(Q_29DIC!B81,Q_29DIC!I:I,0)),Q_29DIC!B81,"") | C81: =IF(B81<>"",Q_29DIC!C81,"")
A82: =IF(B82<>"",Q_29DIC!A82,"") | B82: =IF(ISERROR(MATCH(Q_29DIC!B82,Q_29DIC!I:I,0)),Q_29DIC!B82,"") | C82: =IF(B82<>"",Q_29DIC!C82,"")
A83: =IF(B83<>"",Q_29DIC!A83,"") | B83: =IF(ISERROR(MATCH(Q_29DIC!B83,Q_29DIC!I:I,0)),Q_29DIC!B83,"") | C83: =IF(B83<>"",Q_29DIC!C83,"")
A84: =IF(B84<>"",Q_29DIC!A84,"") | B84: =IF(ISERROR(MATCH(Q_29DIC!B84,Q_29DIC!I:I,0)),Q_29DIC!B84,"") | C84: =IF(B84<>"",Q_29DIC!C84,"")
A85: =IF(B85<>"",Q_29DIC!A85,"") | B85: =IF(ISERROR(MATCH(Q_29DIC!B85,Q_29DIC!I:I,0)),Q_29DIC!B85,"") | C85: =IF(B85<>"",Q_29DIC!C85,"")
... A102: =IF(B102<>"",Q_29DIC!A102,"") -> C | B102: =IF(ISERROR(MATCH(Q_29DIC!B102,Q_29DIC!I:I,0)),Q_29DIC!B102,"") -> LINETTY | C102: =IF(B102<>"",Q_29DIC!C102,"") -> Sampdoria
A103: =IF(B103<>"",Q_29DIC!A491,"") -> C | B103: =IF(ISERROR(MATCH(Q_29DIC!B491,Q_29DIC!I:I,0)),Q_29DIC!B491,"") -> GIACCHERINI | C103: =IF(B103<>"",Q_29DIC!C491,"") -> Chievo
A104: =IF(B104<>"",Q_29DIC!A104,"") | B104: =IF(ISERROR(MATCH(Q_29DIC!B104,Q_29DIC!I:I,0)),Q_29DIC!B104,"") | C104: =IF(B104<>"",Q_29DIC!C104,"")
A105: =IF(B105<>"",Q_29DIC!A105,"") | B105: =IF(ISERROR(MATCH(Q_29DIC!B105,Q_29DIC!I:I,0)),Q_29DIC!B105,"") | C105: =IF(B105<>"",Q_29DIC!C105,"")
A106: =IF(B106<>"",Q_29DIC!A106,"") | B106: =IF(ISERROR(MATCH(Q_29DIC!B106,Q_29DIC!I:I,0)),Q_29DIC!B106,"") | C106: =IF(B106<>"",Q_29DIC!C106,"")
A107: =IF(B107<>"",Q_29DIC!A512,"") -> A | B107: =IF(ISERROR(MATCH(Q_29DIC!B512,Q_29DIC!I:I,0)),Q_29DIC!B512,"") -> SALCEDO MORA | C107: =IF(B107<>"",Q_29DIC!C512,"") -> Genoa
A108: =IF(B108<>"",Q_29DIC!A108,"") | B108: =IF(ISERROR(MATCH(Q_29DIC!B108,Q_29DIC!I:I,0)),Q_29DIC!B108,"") | C108: =IF(B108<>"",Q_29DIC!C108,"")
A109: =IF(B109<>"",Q_29DIC!A109,"") | B109: =IF(ISERROR(MATCH(Q_29DIC!B109,Q_29DIC!I:I,0)),Q_29DIC!B109,"") | C109: =IF(B109<>"",Q_29DIC!C109,"")
A110: =IF(B110<>"",Q_29DIC!A110,"") | B110: =IF(ISERROR(MATCH(Q_29DIC!B110,Q_29DIC!I:I,0)),Q_29DIC!B110,"") | C110: =IF(B110<>"",Q_29DIC!C110,"")
A111: =IF(B111<>"",Q_29DIC!A111,"") | B111: =IF(ISERROR(MATCH(Q_29DIC!B111,Q_29DIC!I:I,0)),Q_29DIC!B111,"") | C111: =IF(B111<>"",Q_29DIC!C111,"")
A112: =IF(B112<>"",Q_29DIC!A112,"") | B112: =IF(ISERROR(MATCH(Q_29DIC!B112,Q_29DIC!I:I,0)),Q_29DIC!B112,"") | C112: =IF(B112<>"",Q_29DIC!C112,"")
A113: =IF(B113<>"",Q_29DIC!A113,"") | B113: =IF(ISERROR(MATCH(Q_29DIC!B113,Q_29DIC!I:I,0)),Q_29DIC!B113,"") | C113: =IF(B113<>"",Q_29DIC!C113,"")
A114: =IF(B114<>"",Q_29DIC!A114,"") | B114: =IF(ISERROR(MATCH(Q_29DIC!B114,Q_29DIC!I:I,0)),Q_29DIC!B114,"") | C114: =IF(B114<>"",Q_29DIC!C114,"")
A115: =IF(B115<>"",Q_29DIC!A115,"") | B115: =IF(ISERROR(MATCH(Q_29DIC!B115,Q_29DIC!I:I,0)),Q_29DIC!B115,"") | C115: =IF(B115<>"",Q_29DIC!C115,"")
A116: =IF(B116<>"",Q_29DIC!A243,"") | B116: =IF(ISERROR(MATCH(Q_29DIC!B243,Q_29DIC!I:I,0)),Q_29DIC!B243,"") | C116: =IF(B116<>"",Q_29DIC!C243,"")
A117: =IF(B117<>"",Q_29DIC!A117,"") | B117: =IF(ISERROR(MATCH(Q_29DIC!B117,Q_29DIC!I:I,0)),Q_29DIC!B117,"") | C117: =IF(B117<>"",Q_29DIC!C117,"")
A118: =IF(B118<>"",Q_29DIC!A118,"") | B118: =IF(ISERROR(MATCH(Q_29DIC!B118,Q_29DIC!I:I,0)),Q_29DIC!B118,"") | C118: =IF(B118<>"",Q_29DIC!C118,"")
A119: =IF(B119<>"",Q_29DIC!A119,"") | B119: =IF(ISERROR(MATCH(Q_29DIC!B119,Q_29DIC!I:I,0)),Q_29DIC!B119,"") | C119: =IF(B119<>"",Q_29DIC!C119,"")
A120: =IF(B120<>"",Q_29DIC!A120,"") | B120: =IF(ISERROR(MATCH(Q_29DIC!B120,Q_29DIC!I:I,0)),Q_29DIC!B120,"") | C120: =IF(B120<>"",Q_29DIC!C120,"")
A121: =IF(B121<>"",Q_29DIC!A121,"") | B121: =IF(ISERROR(MATCH(Q_29DIC!B121,Q_29DIC!I:I,0)),Q_29DIC!B121,"") | C121: =IF(B121<>"",Q_29DIC!C121,"")
A122: =IF(B122<>"",Q_29DIC!A122,"") | B122: =IF(ISERROR(MATCH(Q_29DIC!B122,Q_29DIC!I:I,0)),Q_29DIC!B122,"") | C122: =IF(B122<>"",Q_29DIC!C122,"")
A123: =IF(B123<>"",Q_29DIC!A331,"") | B123: =IF(ISERROR(MATCH(Q_29DIC!B331,Q_29DIC!I:I,0)),Q_29DIC!B331,"") | C123: =IF(B123<>"",Q_29DIC!C331,"")
A124: =IF(B124<>"",Q_29DIC!A124,"") | B124: =IF(ISERROR(MATCH(Q_29DIC!B124,Q_29DIC!I:I,0)),Q_29DIC!B124,"") | C124: =IF(B124<>"",Q_29DIC!C124,"")
A125: =IF(B125<>"",Q_29DIC!A125,"") | B125: =IF(ISERROR(MATCH(Q_29DIC!B125,Q_29DIC!I:I,0)),Q_29DIC!B125,"") | C125: =IF(B125<>"",Q_29DIC!C125,"")
A126: =IF(B126<>"",Q_29DIC!A126,"") -> C | B126: =IF(ISERROR(MATCH(Q_29DIC!B126,Q_29DIC!I:I,0)),Q_29DIC!B126,"") -> PELLEGRINI | C126: =IF(B126<>"",Q_29DIC!C126,"") -> Roma
A127: =IF(B127<>"",Q_29DIC!A127,"") | B127: =IF(ISERROR(MATCH(Q_29DIC!B127,Q_29DIC!I:I,0)),Q_29DIC!B127,"") | C127: =IF(B127<>"",Q_29DIC!C127,"")
A128: =IF(B128<>"",Q_29DIC!A128,"") -> A | B128: =IF(ISERROR(MATCH(Q_29DIC!B128,Q_29DIC!I:I,0)),Q_29DIC!B128,"") -> TAARABT | C128: =IF(B128<>"",Q_29DIC!C128,"") -> Genoa
A129: =IF(B129<>"",Q_29DIC!A129,"") | B129: =IF(ISERROR(MATCH(Q_29DIC!B129,Q_29DIC!I:I,0)),Q_29DIC!B129,"") | C129: =IF(B129<>"",Q_29DIC!C129,"")
A130: =IF(B130<>"",Q_29DIC!A130,"") | B130: =IF(ISERROR(MATCH(Q_29DIC!B130,Q_29DIC!I:I,0)),Q_29DIC!B130,"") | C130: =IF(B130<>"",Q_29DIC!C130,"")
A131: =IF(B131<>"",Q_29DIC!A131,"") | B131: =IF(ISERROR(MATCH(Q_29DIC!B131,Q_29DIC!I:I,0)),Q_29DIC!B131,"") | C131: =IF(B131<>"",Q_29DIC!C131,"")
A132: =IF(B132<>"",Q_29DIC!A132,"") | B132: =IF(ISERROR(MATCH(Q_29DIC!B132,Q_29DIC!I:I,0)),Q_29DIC!B132,"") | C132: =IF(B132<>"",Q_29DIC!C132,"")
A133: =IF(B133<>"",Q_29DIC!A133,"") | B133: =IF(ISERROR(MATCH(Q_29DIC!B133,Q_29DIC!I:I,0)),Q_29DIC!B133,"") | C133: =IF(B133<>"",Q_29DIC!C133,"")
A134: =IF(B134<>"",Q_29DIC!A134,"") | B134: =IF(ISERROR(MATCH(Q_29DIC!B134,Q_29DIC!I:I,0)),Q_29DIC!B134,"") | C134: =IF(B134<>"",Q_29DIC!C134,"")
A135: =IF(B135<>"",Q_29DIC!A135,"") -> P | B135: =IF(ISERROR(MATCH(Q_29DIC!B135,Q_29DIC!I:I,0)),Q_29DIC!B135,"") -> BIZZARRI | C135: =IF(B135<>"",Q_29DIC!C135,"") -> Udinese
... A140: =IF(B140<>"",Q_29DIC!A140,"") | B140: =IF(ISERROR(MATCH(Q_29DIC!B140,Q_29DIC!I:I,0)),Q_29DIC!B140,"") | C140: =IF(B140<>"",Q_29DIC!C140,"")
A141: =IF(B141<>"",Q_29DIC!A363,"") -> D | B141: =IF(ISERROR(MATCH(Q_29DIC!B363,Q_29DIC!I:I,0)),Q_29DIC!B363,"") -> MILENKOVIC | C141: =IF(B141<>"",Q_29DIC!C363,"") -> Fiorentina
A142: =IF(B142<>"",Q_29DIC!A142,"") -> C | B142: =IF(ISERROR(MATCH(Q_29DIC!B142,Q_29DIC!I:I,0)),Q_29DIC!B142,"") -> DONSAH | C142: =IF(B142<>"",Q_29DIC!C142,"") -> Bologna
A143: =IF(B143<>"",Q_29DIC!A386,"") -> D | B143: =IF(ISERROR(MATCH(Q_29DIC!B386,Q_29DIC!I:I,0)),Q_29DIC!B386,"") -> MANCINI G | C143: =IF(B143<>"",Q_29DIC!C386,"") -> Atalanta
A144: =IF(B144<>"",Q_29DIC!A489,"") -> C | B144: =IF(ISERROR(MATCH(Q_29DIC!B489,Q_29DIC!I:I,0)),Q_29DIC!B489,"") -> CRECCO | C144: =IF(B144<>"",Q_29DIC!C489,"") -> Lazio
A145: =IF(B145<>"",Q_29DIC!A490,"") -> C | B145: =IF(ISERROR(MATCH(Q_29DIC!B490,Q_29DIC!I:I,0)),Q_29DIC!B490,"") -> DI GENNARO D | C145: =IF(B145<>"",Q_29DIC!C490,"") -> Lazio
A146: =IF(B146<>"",Q_29DIC!A146,"") | B146: =IF(ISERROR(MATCH(Q_29DIC!B146,Q_29DIC!I:I,0)),Q_29DIC!B146,"") | C146: =IF(B146<>"",Q_29DIC!C146,"")
A147: =IF(B147<>"",Q_29DIC!A147,"") | B147: =IF(ISERROR(MATCH(Q_29DIC!B147,Q_29DIC!I:I,0)),Q_29DIC!B147,"") | C147: =IF(B147<>"",Q_29DIC!C147,"")
A148: =IF(B148<>"",Q_29DIC!A148,"") | B148: =IF(ISERROR(MATCH(Q_29DIC!B148,Q_29DIC!I:I,0)),Q_29DIC!B148,"") | C148: =IF(B148<>"",Q_29DIC!C148,"")
A149: =IF(B149<>"",Q_29DIC!A149,"") | B149: =IF(ISERROR(MATCH(Q_29DIC!B149,Q_29DIC!I:I,0)),Q_29DIC!B149,"") | C149: =IF(B149<>"",Q_29DIC!C149,"")
A150: =IF(B150<>"",Q_29DIC!A381,"") | B150: =IF(ISERROR(MATCH(Q_29DIC!B381,Q_29DIC!I:I,0)),Q_29DIC!B381,"") | C150: =IF(B150<>"",Q_29DIC!C381,"")
A151: =IF(B151<>"",Q_29DIC!A151,"") -> C | B151: =IF(ISERROR(MATCH(Q_29DIC!B151,Q_29DIC!I:I,0)),Q_29DIC!B151,"") -> MEDEIROS | C151: =IF(B151<>"",Q_29DIC!C151,"") -> Genoa
A152: =IF(B152<>"",Q_29DIC!A152,"") -> A | B152: =IF(ISERROR(MATCH(Q_29DIC!B152,Q_29DIC!I:I,0)),Q_29DIC!B152,"") -> MATRI | C152: =IF(B152<>"",Q_29DIC!C152,"") -> Sassuolo
A153: =IF(B153<>"",Q_29DIC!A153,"") | B153: =IF(ISERROR(MATCH(Q_29DIC!B153,Q_29DIC!I:I,0)),Q_29DIC!B153,"") | C153: =IF(B153<>"",Q_29DIC!C153,"")
A154: =IF(B154<>"",Q_29DIC!A456,"") -> D | B154: =IF(ISERROR(MATCH(Q_29DIC!B456,Q_29DIC!I:I,0)),Q_29DIC!B456,"") -> ANDERSEN | C154: =IF(B154<>"",Q_29DIC!C456,"") -> Sampdoria
A155: =IF(B155<>"",Q_29DIC!A265,"") -> P | B155: =IF(ISERROR(MATCH(Q_29DIC!B265,Q_29DIC!I:I,0)),Q_29DIC!B265,"") -> RAFAEL | C155: =IF(B155<>"",Q_29DIC!C265,"") -> Cagliari
A156: =IF(B156<>"",Q_29DIC!A377,"") -> A | B156: =IF(ISERROR(MATCH(Q_29DIC!B377,Q_29DIC!I:I,0)),Q_29DIC!B377,"") -> TONEV | C156: =IF(B156<>"",Q_29DIC!C377,"") -> Crotone
...

Sheet Lista C
A1: RUOLO | B1: GIOCATORE | C1: SQUADRA
A2: A | B2: ANTENUCCI | C2: SPAL
A3: A | B3: PARIGINI | C3: Benevento
A4: C | B4: RAFINHA | C4: Inter
A5: C | B5: DZEMAILI | C5: Bologna
A6: C | B6: VERETOUT | C6: Fiorentina
A7: C | B7: FALLETTI | C7: Bologna
A8: A | B8: PALACIO | C8: Bologna
A9: D | B9: MARUSIC | C9: Lazio
A10: C | B10: BARAK | C10: Udinese
A11: C | B11: LINETTY | C11: Sampdoria
A12: C | B12: GIACCHERINI | C12: Chievo
... A276: D | B276: MIKULIC | C276: Sampdoria

Sheet D
A1: RUOLO | B1: GIOCATORE | C1: SQUADRA
A2: =IF(B2<>"",Q_29DIC!A2,"") | B2: =IF(ISERROR(MATCH(Q_29DIC!B2,Q_29DIC!K:K,0)),Q_29DIC!B2,"") | C2: =IF(B2<>"",Q_29DIC!C2,"")
A3: =IF(B3<>"",Q_29DIC!A3,"") | B3: =IF(ISERROR(MATCH(Q_29DIC!B3,Q_29DIC!K:K,0)),Q_29DIC!B3,"") | C3: =IF(B3<>"",Q_29DIC!C3,"")
A4: =IF(B4<>"",Q_29DIC!A4,"") | B4: =IF(ISERROR(MATCH(Q_29DIC!B4,Q_29DIC!K:K,0)),Q_29DIC!B4,"") | C4: =IF(B4<>"",Q_29DIC!C4,"")
A5: =IF(B5<>"",Q_29DIC!A5,"") | B5: =IF(ISERROR(MATCH(Q_29DIC!B5,Q_29DIC!K:K,0)),Q_29DIC!B5,"") | C5: =IF(B5<>"",Q_29DIC!C5,"")
A6: =IF(B6<>"",Q_29DIC!A6,"") | B6: =IF(ISERROR(MATCH(Q_29DIC!B6,Q_29DIC!K:K,0)),Q_29DIC!B6,"") | C6: =IF(B6<>"",Q_29DIC!C6,"")
A7: =IF(B7<>"",Q_29DIC!A7,"") | B7: =IF(ISERROR(MATCH(Q_29DIC!B7,Q_29DIC!K:K,0)),Q_29DIC!B7,"") | C7: =IF(B7<>"",Q_29DIC!C7,"")
A8: =IF(B8<>"",Q_29DIC!A8,"") | B8: =IF(ISERROR(MATCH(Q_29DIC!B8,Q_29DIC!K:K,0)),Q_29DIC!B8,"") | C8: =IF(B8<>"",Q_29DIC!C8,"")
A9: =IF(B9<>"",Q_29DIC!A9,"") | B9: =IF(ISERROR(MATCH(Q_29DIC!B9,Q_29DIC!K:K,0)),Q_29DIC!B9,"") | C9: =IF(B9<>"",Q_29DIC!C9,"")
A10: =IF(B10<>"",Q_29DIC!A10,"") | B10: =IF(ISERROR(MATCH(Q_29DIC!B10,Q_29DIC!K:K,0)),Q_29DIC!B10,"") | C10: =IF(B10<>"",Q_29DIC!C10,"")
A11: =IF(B11<>"",Q_29DIC!A11,"") | B11: =IF(ISERROR(MATCH(Q_29DIC!B11,Q_29DIC!K:K,0)),Q_29DIC!B11,"") | C11: =IF(B11<>"",Q_29DIC!C11,"")
A12: =IF(B12<>"",Q_29DIC!A12,"") | B12: =IF(ISERROR(MATCH(Q_29DIC!B12,Q_29DIC!K:K,0)),Q_29DIC!B12,"") | C12: =IF(B12<>"",Q_29DIC!C12,"")
A13: =IF(B13<>"",Q_29DIC!A13,"") | B13: =IF(ISERROR(MATCH(Q_29DIC!B13,Q_29DIC!K:K,0)),Q_29DIC!B13,"") | C13: =IF(B13<>"",Q_29DIC!C13,"")
... A49: =IF(B49<>"",Q_29DIC!A49,"") | B49: =IF(ISERROR(MATCH(Q_29DIC!B49,Q_29DIC!K:K,0)),Q_29DIC!B49,"") | C49: =IF(B49<>"",Q_29DIC!C49,"")
A50: =IF(B50<>"",Q_29DIC!A163,"") -> D | B50: =IF(ISERROR(MATCH(Q_29DIC!B163,Q_29DIC!K:K,0)),Q_29DIC!B163,"") -> PELUSO | C50: =IF(B50<>"",Q_29DIC!C163,"") -> Sassuolo
A51: =IF(B51<>"",Q_29DIC!A51,"") | B51: =IF(ISERROR(MATCH(Q_29DIC!B51,Q_29DIC!K:K,0)),Q_29DIC!B51,"") | C51: =IF(B51<>"",Q_29DIC!C51,"")
A52: =IF(B52<>"",Q_29DIC!A52,"") | B52: =IF(ISERROR(MATCH(Q_29DIC!B52,Q_29DIC!K:K,0)),Q_29DIC!B52,"") | C52: =IF(B52<>"",Q_29DIC!C52,"")
A53: =IF(B53<>"",Q_29DIC!A53,"") | B53: =IF(ISERROR(MATCH(Q_29DIC!B53,Q_29DIC!K:K,0)),Q_29DIC!B53,"") | C53: =IF(B53<>"",Q_29DIC!C53,"")
A54: =IF(B54<>"",Q_29DIC!A54,"") | B54: =IF(ISERROR(MATCH(Q_29DIC!B54,Q_29DIC!K:K,0)),Q_29DIC!B54,"") | C54: =IF(B54<>"",Q_29DIC!C54,"")
A55: =IF(B55<>"",Q_29DIC!A55,"") | B55: =IF(ISERROR(MATCH(Q_29DIC!B55,Q_29DIC!K:K,0)),Q_29DIC!B55,"") | C55: =IF(B55<>"",Q_29DIC!C55,"")
A56: =IF(B56<>"",Q_29DIC!A56,"") | B56: =IF(ISERROR(MATCH(Q_29DIC!B56,Q_29DIC!K:K,0)),Q_29DIC!B56,"") | C56: =IF(B56<>"",Q_29DIC!C56,"")
A57: =IF(B57<>"",Q_29DIC!A57,"") | B57: =IF(ISERROR(MATCH(Q_29DIC!B57,Q_29DIC!K:K,0)),Q_29DIC!B57,"") | C57: =IF(B57<>"",Q_29DIC!C57,"")
A58: =IF(B58<>"",Q_29DIC!A58,"") | B58: =IF(ISERROR(MATCH(Q_29DIC!B58,Q_29DIC!K:K,0)),Q_29DIC!B58,"") | C58: =IF(B58<>"",Q_29DIC!C58,"")
A59: =IF(B59<>"",Q_29DIC!A59,"") -> C | B59: =IF(ISERROR(MATCH(Q_29DIC!B59,Q_29DIC!K:K,0)),Q_29DIC!B59,"") -> RAFINHA | C59: =IF(B59<>"",Q_29DIC!C59,"") -> Inter
A60: =IF(B60<>"",Q_29DIC!A60,"") -> C | B60: =IF(ISERROR(MATCH(Q_29DIC!B60,Q_29DIC!K:K,0)),Q_29DIC!B60,"") -> DZEMAILI | C60: =IF(B60<>"",Q_29DIC!C60,"") -> Bologna
A61: =IF(B61<>"",Q_29DIC!A61,"") | B61: =IF(ISERROR(MATCH(Q_29DIC!B61,Q_29DIC!K:K,0)),Q_29DIC!B61,"") | C61: =IF(B61<>"",Q_29DIC!C61,"")
A62: =IF(B62<>"",Q_29DIC!A62,"") | B62: =IF(ISERROR(MATCH(Q_29DIC!B62,Q_29DIC!K:K,0)),Q_29DIC!B62,"") | C62: =IF(B62<>"",Q_29DIC!C62,"")
... A72: =IF(B72<>"",Q_29DIC!A72,"") | B72: =IF(ISERROR(MATCH(Q_29DIC!B72,Q_29DIC!K:K,0)),Q_29DIC!B72,"") | C72: =IF(B72<>"",Q_29DIC!C72,"")
A73: =IF(B73<>"",Q_29DIC!A376,"") -> A | B73: =IF(ISERROR(MATCH(Q_29DIC!B376,Q_29DIC!K:K,0)),Q_29DIC!B376,"") -> PARIGINI | C73: =IF(B73<>"",Q_29DIC!C376,"") -> Benevento
A74: =IF(B74<>"",Q_29DIC!A74,"") | B74: =IF(ISERROR(MATCH(Q_29DIC!B74,Q_29DIC!K:K,0)),Q_29DIC!B74,"") | C74: =IF(B74<>"",Q_29DIC!C74,"")
A75: =IF(B75<>"",Q_29DIC!A75,"") | B75: =IF(ISERROR(MATCH(Q_29DIC!B75,Q_29DIC!K:K,0)),Q_29DIC!B75,"") | C75: =IF(B75<>"",Q_29DIC!C75,"")
A76: =IF(B76<>"",Q_29DIC!A400,"") -> C | B76: =IF(ISERROR(MATCH(Q_29DIC!B400,Q_29DIC!K:K,0)),Q_29DIC!B400,"") -> FALLETTI | C76: =IF(B76<>"",Q_29DIC!C400,"") -> Bologna
A77: =IF(B77<>"",Q_29DIC!A77,"") | B77: =IF(ISERROR(MATCH(Q_29DIC!B77,Q_29DIC!K:K,0)),Q_29DIC!B77,"") | C77: =IF(B77<>"",Q_29DIC!C77,"")
A78: =IF(B78<>"",Q_29DIC!A78,"") | B78: =IF(ISERROR(MATCH(Q_29DIC!B78,Q_29DIC!K:K,0)),Q_29DIC!B78,"") | C78: =IF(B78<>"",Q_29DIC!C78,"")
A79: =IF(B79<>"",Q_29DIC!A79,"") -> D | B79: =IF(ISERROR(MATCH(Q_29DIC!B79,Q_29DIC!K:K,0)),Q_29DIC!B79,"") -> MARUSIC | C79: =IF(B79<>"",Q_29DIC!C79,"") -> Lazio
A80: =IF(B80<>"",Q_29DIC!A80,"") | B80: =IF(ISERROR(MATCH(Q_29DIC!B80,Q_29DIC!K:K,0)),Q_29DIC!B80,"") | C80: =IF(B80<>"",Q_29DIC!C80,"")
A81: =IF(B81<>"",Q_29DIC!A81,"") | B81: =IF(ISERROR(MATCH(Q_29DIC!B81,Q_29DIC!K:K,0)),Q_29DIC!B81,"") | C81: =IF(B81<>"",Q_29DIC!C81,"")
A82: =IF(B82<>"",Q_29DIC!A82,"") | B82: =IF(ISERROR(MATCH(Q_29DIC!B82,Q_29DIC!K:K,0)),Q_29DIC!B82,"") | C82: =IF(B82<>"",Q_29DIC!C82,"")
A83: =IF(B83<>"",Q_29DIC!A83,"") | B83: =IF(ISERROR(MATCH(Q_29DIC!B83,Q_29DIC!K:K,0)),Q_29DIC!B83,"") | C83: =IF(B83<>"",Q_29DIC!C83,"")
A84: =IF(B84<>"",Q_29DIC!A84,"") | B84: =IF(ISERROR(MATCH(Q_29DIC!B84,Q_29DIC!K:K,0)),Q_29DIC!B84,"") | C84: =IF(B84<>"",Q_29DIC!C84,"")
A85: =IF(B85<>"",Q_29DIC!A85,"") | B85: =IF(ISERROR(MATCH(Q_29DIC!B85,Q_29DIC!K:K,0)),Q_29DIC!B85,"") | C85: =IF(B85<>"",Q_29DIC!C85,"")
A86: =IF(B86<>"",Q_29DIC!A86,"") -> C | B86: =IF(ISERROR(MATCH(Q_29DIC!B86,Q_29DIC!K:K,0)),Q_29DIC!B86,"") -> BARAK | C86: =IF(B86<>"",Q_29DIC!C86,"") -> Udinese
A87: =IF(B87<>"",Q_29DIC!A87,"") | B87: =IF(ISERROR(MATCH(Q_29DIC!B87,Q_29DIC!K:K,0)),Q_29DIC!B87,"") | C87: =IF(B87<>"",Q_29DIC!C87,"")
A88: =IF(B88<>"",Q_29DIC!A88,"") | B88: =IF(ISERROR(MATCH(Q_29DIC!B88,Q_29DIC!K:K,0)),Q_29DIC!B88,"") | C88: =IF(B88<>"",Q_29DIC!C88,"")
... A102: =IF(B102<>"",Q_29DIC!A102,"") -> C | B102: =IF(ISERROR(MATCH(Q_29DIC!B102,Q_29DIC!K:K,0)),Q_29DIC!B102,"") -> LINETTY | C102: =IF(B102<>"",Q_29DIC!C102,"") -> Sampdoria
A103: =IF(B103<>"",Q_29DIC!A491,"") -> C | B103: =IF(ISERROR(MATCH(Q_29DIC!B491,Q_29DIC!K:K,0)),Q_29DIC!B491,"") -> GIACCHERINI | C103: =IF(B103<>"",Q_29DIC!C491,"") -> Chievo
A104: =IF(B104<>"",Q_29DIC!A104,"") | B104: =IF(ISERROR(MATCH(Q_29DIC!B104,Q_29DIC!K:K,0)),Q_29DIC!B104,"") | C104: =IF(B104<>"",Q_29DIC!C104,"")
A105: =IF(B105<>"",Q_29DIC!A105,"") | B105: =IF(ISERROR(MATCH(Q_29DIC!B105,Q_29DIC!K:K,0)),Q_29DIC!B105,"") | C105: =IF(B105<>"",Q_29DIC!C105,"")
A106: =IF(B106<>"",Q_29DIC!A106,"") | B106: =IF(ISERROR(MATCH(Q_29DIC!B106,Q_29DIC!K:K,0)),Q_29DIC!B106,"") | C106: =IF(B106<>"",Q_29DIC!C106,"")
A107: =IF(B107<>"",Q_29DIC!A107,"") | B107: =IF(ISERROR(MATCH(Q_29DIC!B107,Q_29DIC!K:K,0)),Q_29DIC!B107,"") | C107: =IF(B107<>"",Q_29DIC!C107,"")
A108: =IF(B108<>"",Q_29DIC!A108,"") | B108: =IF(ISERROR(MATCH(Q_29DIC!B108,Q_29DIC!K:K,0)),Q_29DIC!B108,"") | C108: =IF(B108<>"",Q_29DIC!C108,"")
A109: =IF(B109<>"",Q_29DIC!A109,"") | B109: =IF(ISERROR(MATCH(Q_29DIC!B109,Q_29DIC!K:K,0)),Q_29DIC!B109,"") | C109: =IF(B109<>"",Q_29DIC!C109,"")
A110: =IF(B110<>"",Q_29DIC!A110,"") -> D | B110: =IF(ISERROR(MATCH(Q_29DIC!B110,Q_29DIC!K:K,0)),Q_29DIC!B110,"") -> NUYTINCK | C110: =IF(B110<>"",Q_29DIC!C110,"") -> Udinese
A111: =IF(B111<>"",Q_29DIC!A111,"") | B111: =IF(ISERROR(MATCH(Q_29DIC!B111,Q_29DIC!K:K,0)),Q_29DIC!B111,"") | C111: =IF(B111<>"",Q_29DIC!C111,"")
A112: =IF(B112<>"",Q_29DIC!A112,"") | B112: =IF(ISERROR(MATCH(Q_29DIC!B112,Q_29DIC!K:K,0)),Q_29DIC!B112,"") | C112: =IF(B112<>"",Q_29DIC!C112,"")
A113: =IF(B113<>"",Q_29DIC!A113,"") | B113: =IF(ISERROR(MATCH(Q_29DIC!B113,Q_29DIC!K:K,0)),Q_29DIC!B113,"") | C113: =IF(B113<>"",Q_29DIC!C113,"")
A114: =IF(B114<>"",Q_29DIC!A114,"") | B114: =IF(ISERROR(MATCH(Q_29DIC!B114,Q_29DIC!K:K,0)),Q_29DIC!B114,"") | C114: =IF(B114<>"",Q_29DIC!C114,"")
A115: =IF(B115<>"",Q_29DIC!A115,"") | B115: =IF(ISERROR(MATCH(Q_29DIC!B115,Q_29DIC!K:K,0)),Q_29DIC!B115,"") | C115: =IF(B115<>"",Q_29DIC!C115,"")
A116: =IF(B116<>"",Q_29DIC!A512,"") -> A | B116: =IF(ISERROR(MATCH(Q_29DIC!B512,Q_29DIC!K:K,0)),Q_29DIC!B512,"") -> SALCEDO MORA | C116: =IF(B116<>"",Q_29DIC!C512,"") -> Genoa
A117: =IF(B117<>"",Q_29DIC!A117,"") | B117: =IF(ISERROR(MATCH(Q_29DIC!B117,Q_29DIC!K:K,0)),Q_29DIC!B117,"") | C117: =IF(B117<>"",Q_29DIC!C117,"")
A118: =IF(B118<>"",Q_29DIC!A118,"") -> D | B118: =IF(ISERROR(MATCH(Q_29DIC!B118,Q_29DIC!K:K,0)),Q_29DIC!B118,"") -> LUKAKU J | C118: =IF(B118<>"",Q_29DIC!C118,"") -> Lazio
A119: =IF(B119<>"",Q_29DIC!A119,"") | B119: =IF(ISERROR(MATCH(Q_29DIC!B119,Q_29DIC!K:K,0)),Q_29DIC!B119,"") | C119: =IF(B119<>"",Q_29DIC!C119,"")
A120: =IF(B120<>"",Q_29DIC!A243,"") | B120: =IF(ISERROR(MATCH(Q_29DIC!B243,Q_29DIC!K:K,0)),Q_29DIC!B243,"") | C120: =IF(B120<>"",Q_29DIC!C243,"")
A121: =IF(B121<>"",Q_29DIC!A121,"") | B121: =IF(ISERROR(MATCH(Q_29DIC!B121,Q_29DIC!K:K,0)),Q_29DIC!B121,"") | C121: =IF(B121<>"",Q_29DIC!C121,"")
A122: =IF(B122<>"",Q_29DIC!A122,"") | B122: =IF(ISERROR(MATCH(Q_29DIC!B122,Q_29DIC!K:K,0)),Q_29DIC!B122,"") | C122: =IF(B122<>"",Q_29DIC!C122,"")
A123: =IF(B123<>"",Q_29DIC!A331,"") -> D | B123: =IF(ISERROR(MATCH(Q_29DIC!B331,Q_29DIC!K:K,0)),Q_29DIC!B331,"") -> VENUTI | C123: =IF(B123<>"",Q_29DIC!C331,"") -> Benevento
A124: =IF(B124<>"",Q_29DIC!A124,"") | B124: =IF(ISERROR(MATCH(Q_29DIC!B124,Q_29DIC!K:K,0)),Q_29DIC!B124,"") | C124: =IF(B124<>"",Q_29DIC!C124,"")
A125: =IF(B125<>"",Q_29DIC!A125,"") | B125: =IF(ISERROR(MATCH(Q_29DIC!B125,Q_29DIC!K:K,0)),Q_29DIC!B125,"") | C125: =IF(B125<>"",Q_29DIC!C125,"")
A126: =IF(B126<>"",Q_29DIC!A126,"") -> C | B126: =IF(ISERROR(MATCH(Q_29DIC!B126,Q_29DIC!K:K,0)),Q_29DIC!B126,"") -> PELLEGRINI | C126: =IF(B126<>"",Q_29DIC!C126,"") -> Roma
A127: =IF(B127<>"",Q_29DIC!A127,"") -> C | B127: =IF(ISERROR(MATCH(Q_29DIC!B127,Q_29DIC!K:K,0)),Q_29DIC!B127,"") -> MISSIROLI | C127: =IF(B127<>"",Q_29DIC!C127,"") -> Sassuolo
A128: =IF(B128<>"",Q_29DIC!A128,"") -> A | B128: =IF(ISERROR(MATCH(Q_29DIC!B128,Q_29DIC!K:K,0)),Q_29DIC!B128,"") -> TAARABT | C128: =IF(B128<>"",Q_29DIC!C128,"") -> Genoa
A129: =IF(B129<>"",Q_29DIC!A363,"") -> D | B129: =IF(ISERROR(MATCH(Q_29DIC!B363,Q_29DIC!K:K,0)),Q_29DIC!B363,"") -> MILENKOVIC | C129: =IF(B129<>"",Q_29DIC!C363,"") -> Fiorentina
A130: =IF(B130<>"",Q_29DIC!A130,"") | B130: =IF(ISERROR(MATCH(Q_29DIC!B130,Q_29DIC!K:K,0)),Q_29DIC!B130,"") | C130: =IF(B130<>"",Q_29DIC!C130,"")
A131: =IF(B131<>"",Q_29DIC!A131,"") | B131: =IF(ISERROR(MATCH(Q_29DIC!B131,Q_29DIC!K:K,0)),Q_29DIC!B131,"") | C131: =IF(B131<>"",Q_29DIC!C131,"")
A132: =IF(B132<>"",Q_29DIC!A132,"") -> A | B132: =IF(ISERROR(MATCH(Q_29DIC!B132,Q_29DIC!K:K,0)),Q_29DIC!B132,"") -> CORNELIUS | C132: =IF(B132<>"",Q_29DIC!C132,"") -> Atalanta
A133: =IF(B133<>"",Q_29DIC!A386,"") -> D | B133: =IF(ISERROR(MATCH(Q_29DIC!B386,Q_29DIC!K:K,0)),Q_29DIC!B386,"") -> MANCINI G | C133: =IF(B133<>"",Q_29DIC!C386,"") -> Atalanta
A134: =IF(B134<>"",Q_29DIC!A134,"") | B134: =IF(ISERROR(MATCH(Q_29DIC!B134,Q_29DIC!K:K,0)),Q_29DIC!B134,"") | C134: =IF(B134<>"",Q_29DIC!C134,"")
A135: =IF(B135<>"",Q_29DIC!A135,"") -> P | B135: =IF(ISERROR(MATCH(Q_29DIC!B135,Q_29DIC!K:K,0)),Q_29DIC!B135,"") -> BIZZARRI | C135: =IF(B135<>"",Q_29DIC!C135,"") -> Udinese
A136: =IF(B136<>"",Q_29DIC!A136,"") | B136: =IF(ISERROR(MATCH(Q_29DIC!B136,Q_29DIC!K:K,0)),Q_29DIC!B136,"") | C136: =IF(B136<>"",Q_29DIC!C136,"")
A137: =IF(B137<>"",Q_29DIC!A137,"") | B137: =IF(ISERROR(MATCH(Q_29DIC!B137,Q_29DIC!K:K,0)),Q_29DIC!B137,"") | C137: =IF(B137<>"",Q_29DIC!C137,"")
A138: =IF(B138<>"",Q_29DIC!A138,"") | B138: =IF(ISERROR(MATCH(Q_29DIC!B138,Q_29DIC!K:K,0)),Q_29DIC!B138,"") | C138: =IF(B138<>"",Q_29DIC!C138,"")
A139: =IF(B139<>"",Q_29DIC!A139,"") | B139: =IF(ISERROR(MATCH(Q_29DIC!B139,Q_29DIC!K:K,0)),Q_29DIC!B139,"") | C139: =IF(B139<>"",Q_29DIC!C139,"")
A140: =IF(B140<>"",Q_29DIC!A140,"") | B140: =IF(ISERROR(MATCH(Q_29DIC!B140,Q_29DIC!K:K,0)),Q_29DIC!B140,"") | C140: =IF(B140<>"",Q_29DIC!C140,"")
A141: =IF(B141<>"",Q_29DIC!A489,"") -> C | B141: =IF(ISERROR(MATCH(Q_29DIC!B489,Q_29DIC!K:K,0)),Q_29DIC!B489,"") -> CRECCO | C141: =IF(B141<>"",Q_29DIC!C489,"") -> Lazio
A142: =IF(B142<>"",Q_29DIC!A142,"") -> C | B142: =IF(ISERROR(MATCH(Q_29DIC!B142,Q_29DIC!K:K,0)),Q_29DIC!B142,"") -> DONSAH | C142: =IF(B142<>"",Q_29DIC!C142,"") -> Bologna
A143: =IF(B143<>"",Q_29DIC!A490,"") -> C | B143: =IF(ISERROR(MATCH(Q_29DIC!B490,Q_29DIC!K:K,0)),Q_29DIC!B490,"") -> DI GENNARO D | C143: =IF(B143<>"",Q_29DIC!C490,"") -> Lazio
A144: =IF(B144<>"",Q_29DIC!A456,"") -> D | B144: =IF(ISERROR(MATCH(Q_29DIC!B456,Q_29DIC!K:K,0)),Q_29DIC!B456,"") -> ANDERSEN | C144: =IF(B144<>"",Q_29DIC!C456,"") -> Sampdoria
A145: =IF(B145<>"",Q_29DIC!A145,"") | B145: =IF(ISERROR(MATCH(Q_29DIC!B145,Q_29DIC!K:K,0)),Q_29DIC!B145,"") | C145: =IF(B145<>"",Q_29DIC!C145,"")
A146: =IF(B146<>"",Q_29DIC!A146,"") | B146: =IF(ISERROR(MATCH(Q_29DIC!B146,Q_29DIC!K:K,0)),Q_29DIC!B146,"") | C146: =IF(B146<>"",Q_29DIC!C146,"")
A147: =IF(B147<>"",Q_29DIC!A147,"") | B147: =IF(ISERROR(MATCH(Q_29DIC!B147,Q_29DIC!K:K,0)),Q_29DIC!B147,"") | C147: =IF(B147<>"",Q_29DIC!C147,"")
A148: =IF(B148<>"",Q_29DIC!A148,"") | B148: =IF(ISERROR(MATCH(Q_29DIC!B148,Q_29DIC!K:K,0)),Q_29DIC!B148,"") | C148: =IF(B148<>"",Q_29DIC!C148,"")
A149: =IF(B149<>"",Q_29DIC!A149,"") | B149: =IF(ISERROR(MATCH(Q_29DIC!B149,Q_29DIC!K:K,0)),Q_29DIC!B149,"") | C149: =IF(B149<>"",Q_29DIC!C149,"")
A150: =IF(B150<>"",Q_29DIC!A153,"") | B150: =IF(ISERROR(MATCH(Q_29DIC!B153,Q_29DIC!K:K,0)),Q_29DIC!B153,"") | C150: =IF(B150<>"",Q_29DIC!C153,"")
A151: =IF(B151<>"",Q_29DIC!A151,"") -> C | B151: =IF(ISERROR(MATCH(Q_29DIC!B151,Q_29DIC!K:K,0)),Q_29DIC!B151,"") -> MEDEIROS | C151: =IF(B151<>"",Q_29DIC!C151,"") -> Genoa
A152: =IF(B152<>"",Q_29DIC!A152,"") -> A | B152: =IF(ISERROR(MATCH(Q_29DIC!B152,Q_29DIC!K:K,0)),Q_29DIC!B152,"") -> MATRI | C152: =IF(B152<>"",Q_29DIC!C152,"") -> Sassuolo
A153: =IF(B153<>"",Q_29DIC!A265,"") -> P | B153: =IF(ISERROR(MATCH(Q_29DIC!B265,Q_29DIC!K:K,0)),Q_29DIC!B265,"") -> RAFAEL | C153: =IF(B153<>"",Q_29DIC!C265,"") -> Cagliari
A154: =IF(B154<>"",Q_29DIC!A377,"") -> A | B154: =IF(ISERROR(MATCH(Q_29DIC!B377,Q_29DIC!K:K,0)),Q_29DIC!B377,"") -> TONEV | C154: =IF(B154<>"",Q_29DIC!C377,"") -> Crotone
A155: =IF(B155<>"",Q_29DIC!A379,"") -> A | B155: =IF(ISERROR(MATCH(Q_29DIC!B379,Q_29DIC!K:K,0)),Q_29DIC!B379,"") -> PETKOVIC | C155: =IF(B155<>"",Q_29DIC!C379,"") -> Verona
A156: =IF(B156<>"",Q_29DIC!A418,"") -> P | B156: =IF(ISERROR(MATCH(Q_29DIC!B418,Q_29DIC!K:K,0)),Q_29DIC!B418,"") -> FESTA | C156: =IF(B156<>"",Q_29DIC!C418,"") -> Crotone
A157: =IF(B157<>"",Q_29DIC!A157,"") | B157: =IF(ISERROR(MATCH(Q_29DIC!B157,Q_29DIC!K:K,0)),Q_29DIC!B157,"") | C157: =IF(B157<>"",Q_29DIC!C157,"")
...

Sheet Lista D
A1: RUOLO | B1: GIOCATORE | C1: SQUADRA
A2: A | B2: ANTENUCCI | C2: SPAL
A3: D | B3: PELUSO | C3: Sassuolo
A4: C | B4: RAFINHA | C4: Inter
A5: C | B5: DZEMAILI | C5: Bologna
A6: A | B6: PARIGINI | C6: Benevento
A7: C | B7: FALLETTI | C7: Bologna
A8: D | B8: MARUSIC | C8: Lazio
A9: C | B9: BARAK | C9: Udinese
A10: A | B10: BABACAR | C10: Sassuolo
A11: C | B11: LINETTY | C11: Sampdoria
A12: C | B12: GIACCHERINI | C12: Chievo
... A276: D | B276: KEITA C | C276: Bologna

Sheet E
A1: RUOLO | B1: GIOCATORE | C1: SQUADRA
A2: =IF(B2<>"",Q_29DIC!A2,"") | B2: =IF(ISERROR(MATCH(Q_29DIC!B2,Q_29DIC!M:M,0)),Q_29DIC!B2,"") | C2: =IF(B2<>"",Q_29DIC!C2,"")
A3: =IF(B3<>"",Q_29DIC!A3,"") | B3: =IF(ISERROR(MATCH(Q_29DIC!B3,Q_29DIC!M:M,0)),Q_29DIC!B3,"") | C3: =IF(B3<>"",Q_29DIC!C3,"")
A4: =IF(B4<>"",Q_29DIC!A4,"") | B4: =IF(ISERROR(MATCH(Q_29DIC!B4,Q_29DIC!M:M,0)),Q_29DIC!B4,"") | C4: =IF(B4<>"",Q_29DIC!C4,"")
A5: =IF(B5<>"",Q_29DIC!A5,"") | B5: =IF(ISERROR(MATCH(Q_29DIC!B5,Q_29DIC!M:M,0)),Q_29DIC!B5,"") | C5: =IF(B5<>"",Q_29DIC!C5,"")
A6: =IF(B6<>"",Q_29DIC!A6,"") | B6: =IF(ISERROR(MATCH(Q_29DIC!B6,Q_29DIC!M:M,0)),Q_29DIC!B6,"") | C6: =IF(B6<>"",Q_29DIC!C6,"")
A7: =IF(B7<>"",Q_29DIC!A7,"") | B7: =IF(ISERROR(MATCH(Q_29DIC!B7,Q_29DIC!M:M,0)),Q_29DIC!B7,"") | C7: =IF(B7<>"",Q_29DIC!C7,"")
A8: =IF(B8<>"",Q_29DIC!A8,"") | B8: =IF(ISERROR(MATCH(Q_29DIC!B8,Q_29DIC!M:M,0)),Q_29DIC!B8,"") | C8: =IF(B8<>"",Q_29DIC!C8,"")
A9: =IF(B9<>"",Q_29DIC!A9,"") | B9: =IF(ISERROR(MATCH(Q_29DIC!B9,Q_29DIC!M:M,0)),Q_29DIC!B9,"") | C9: =IF(B9<>"",Q_29DIC!C9,"")
A10: =IF(B10<>"",Q_29DIC!A10,"") | B10: =IF(ISERROR(MATCH(Q_29DIC!B10,Q_29DIC!M:M,0)),Q_29DIC!B10,"") | C10: =IF(B10<>"",Q_29DIC!C10,"")
A11: =IF(B11<>"",Q_29DIC!A11,"") | B11: =IF(ISERROR(MATCH(Q_29DIC!B11,Q_29DIC!M:M,0)),Q_29DIC!B11,"") | C11: =IF(B11<>"",Q_29DIC!C11,"")
A12: =IF(B12<>"",Q_29DIC!A12,"") | B12: =IF(ISERROR(MATCH(Q_29DIC!B12,Q_29DIC!M:M,0)),Q_29DIC!B12,"") | C12: =IF(B12<>"",Q_29DIC!C12,"")
A13: =IF(B13<>"",Q_29DIC!A13,"") | B13: =IF(ISERROR(MATCH(Q_29DIC!B13,Q_29DIC!M:M,0)),Q_29DIC!B13,"") | C13: =IF(B13<>"",Q_29DIC!C13,"")
... A49: =IF(B49<>"",Q_29DIC!A49,"") | B49: =IF(ISERROR(MATCH(Q_29DIC!B49,Q_29DIC!M:M,0)),Q_29DIC!B49,"") | C49: =IF(B49<>"",Q_29DIC!C49,"")
A50: =IF(B50<>"",Q_29DIC!A344,"") -> A | B50: =IF(ISERROR(MATCH(Q_29DIC!B344,Q_29DIC!M:M,0)),Q_29DIC!B344,"") -> KARAMOH | C50: =IF(B50<>"",Q_29DIC!C344,"") -> Inter
A51: =IF(B51<>"",Q_29DIC!A51,"") | B51: =IF(ISERROR(MATCH(Q_29DIC!B51,Q_29DIC!M:M,0)),Q_29DIC!B51,"") | C51: =IF(B51<>"",Q_29DIC!C51,"")
A52: =IF(B52<>"",Q_29DIC!A52,"") | B52: =IF(ISERROR(MATCH(Q_29DIC!B52,Q_29DIC!M:M,0)),Q_29DIC!B52,"") | C52: =IF(B52<>"",Q_29DIC!C52,"")
A53: =IF(B53<>"",Q_29DIC!A53,"") | B53: =IF(ISERROR(MATCH(Q_29DIC!B53,Q_29DIC!M:M,0)),Q_29DIC!B53,"") | C53: =IF(B53<>"",Q_29DIC!C53,"")
A54: =IF(B54<>"",Q_29DIC!A54,"") | B54: =IF(ISERROR(MATCH(Q_29DIC!B54,Q_29DIC!M:M,0)),Q_29DIC!B54,"") | C54: =IF(B54<>"",Q_29DIC!C54,"")
A55: =IF(B55<>"",Q_29DIC!A55,"") | B55: =IF(ISERROR(MATCH(Q_29DIC!B55,Q_29DIC!M:M,0)),Q_29DIC!B55,"") | C55: =IF(B55<>"",Q_29DIC!C55,"")
A56: =IF(B56<>"",Q_29DIC!A56,"") | B56: =IF(ISERROR(MATCH(Q_29DIC!B56,Q_29DIC!M:M,0)),Q_29DIC!B56,"") | C56: =IF(B56<>"",Q_29DIC!C56,"")
A57: =IF(B57<>"",Q_29DIC!A57,"") | B57: =IF(ISERROR(MATCH(Q_29DIC!B57,Q_29DIC!M:M,0)),Q_29DIC!B57,"") | C57: =IF(B57<>"",Q_29DIC!C57,"")
A58: =IF(B58<>"",Q_29DIC!A58,"") | B58: =IF(ISERROR(MATCH(Q_29DIC!B58,Q_29DIC!M:M,0)),Q_29DIC!B58,"") | C58: =IF(B58<>"",Q_29DIC!C58,"")
A59: =IF(B59<>"",Q_29DIC!A59,"") -> C | B59: =IF(ISERROR(MATCH(Q_29DIC!B59,Q_29DIC!M:M,0)),Q_29DIC!B59,"") -> RAFINHA | C59: =IF(B59<>"",Q_29DIC!C59,"") -> Inter
A60: =IF(B60<>"",Q_29DIC!A60,"") -> C | B60: =IF(ISERROR(MATCH(Q_29DIC!B60,Q_29DIC!M:M,0)),Q_29DIC!B60,"") -> DZEMAILI | C60: =IF(B60<>"",Q_29DIC!C60,"") -> Bologna
A61: =IF(B61<>"",Q_29DIC!A61,"") | B61: =IF(ISERROR(MATCH(Q_29DIC!B61,Q_29DIC!M:M,0)),Q_29DIC!B61,"") | C61: =IF(B61<>"",Q_29DIC!C61,"")
A62: =IF(B62<>"",Q_29DIC!A62,"") | B62: =IF(ISERROR(MATCH(Q_29DIC!B62,Q_29DIC!M:M,0)),Q_29DIC!B62,"") | C62: =IF(B62<>"",Q_29DIC!C62,"")
... A72: =IF(B72<>"",Q_29DIC!A72,"") | B72: =IF(ISERROR(MATCH(Q_29DIC!B72,Q_29DIC!M:M,0)),Q_29DIC!B72,"") | C72: =IF(B72<>"",Q_29DIC!C72,"")
A73: =IF(B73<>"",Q_29DIC!A376,"") -> A | B73: =IF(ISERROR(MATCH(Q_29DIC!B376,Q_29DIC!M:M,0)),Q_29DIC!B376,"") -> PARIGINI | C73: =IF(B73<>"",Q_29DIC!C376,"") -> Benevento
A74: =IF(B74<>"",Q_29DIC!A74,"") | B74: =IF(ISERROR(MATCH(Q_29DIC!B74,Q_29DIC!M:M,0)),Q_29DIC!B74,"") | C74: =IF(B74<>"",Q_29DIC!C74,"")
A75: =IF(B75<>"",Q_29DIC!A75,"") | B75: =IF(ISERROR(MATCH(Q_29DIC!B75,Q_29DIC!M:M,0)),Q_29DIC!B75,"") | C75: =IF(B75<>"",Q_29DIC!C75,"")
A76: =IF(B76<>"",Q_29DIC!A217,"") -> A | B76: =IF(ISERROR(MATCH(Q_29DIC!B217,Q_29DIC!M:M,0)),Q_29DIC!B217,"") -> KOWNACKI | C76: =IF(B76<>"",Q_29DIC!C217,"") -> Sampdoria
A77: =IF(B77<>"",Q_29DIC!A77,"") | B77: =IF(ISERROR(MATCH(Q_29DIC!B77,Q_29DIC!M:M,0)),Q_29DIC!B77,"") | C77: =IF(B77<>"",Q_29DIC!C77,"")
A78: =IF(B78<>"",Q_29DIC!A78,"") | B78: =IF(ISERROR(MATCH(Q_29DIC!B78,Q_29DIC!M:M,0)),Q_29DIC!B78,"") | C78: =IF(B78<>"",Q_29DIC!C78,"")
A79: =IF(B79<>"",Q_29DIC!A79,"") | B79: =IF(ISERROR(MATCH(Q_29DIC!B79,Q_29DIC!M:M,0)),Q_29DIC!B79,"") | C79: =IF(B79<>"",Q_29DIC!C79,"")
A80: =IF(B80<>"",Q_29DIC!A80,"") | B80: =IF(ISERROR(MATCH(Q_29DIC!B80,Q_29DIC!M:M,0)),Q_29DIC!B80,"") | C80: =IF(B80<>"",Q_29DIC!C80,"")
A81: =IF(B81<>"",Q_29DIC!A81,"") | B81: =IF(ISERROR(MATCH(Q_29DIC!B81,Q_29DIC!M:M,0)),Q_29DIC!B81,"") | C81: =IF(B81<>"",Q_29DIC!C81,"")
A82: =IF(B82<>"",Q_29DIC!A82,"") | B82: =IF(ISERROR(MATCH(Q_29DIC!B82,Q_29DIC!M:M,0)),Q_29DIC!B82,"") | C82: =IF(B82<>"",Q_29DIC!C82,"")
A83: =IF(B83<>"",Q_29DIC!A83,"") | B83: =IF(ISERROR(MATCH(Q_29DIC!B83,Q_29DIC!M:M,0)),Q_29DIC!B83,"") | C83: =IF(B83<>"",Q_29DIC!C83,"")
A84: =IF(B84<>"",Q_29DIC!A84,"") | B84: =IF(ISERROR(MATCH(Q_29DIC!B84,Q_29DIC!M:M,0)),Q_29DIC!B84,"") | C84: =IF(B84<>"",Q_29DIC!C84,"")
A85: =IF(B85<>"",Q_29DIC!A85,"") | B85: =IF(ISERROR(MATCH(Q_29DIC!B85,Q_29DIC!M:M,0)),Q_29DIC!B85,"") | C85: =IF(B85<>"",Q_29DIC!C85,"")
A86: =IF(B86<>"",Q_29DIC!A86,"") -> C | B86: =IF(ISERROR(MATCH(Q_29DIC!B86,Q_29DIC!M:M,0)),Q_29DIC!B86,"") -> BARAK | C86: =IF(B86<>"",Q_29DIC!C86,"") -> Udinese
A87: =IF(B87<>"",Q_29DIC!A87,"") | B87: =IF(ISERROR(MATCH(Q_29DIC!B87,Q_29DIC!M:M,0)),Q_29DIC!B87,"") | C87: =IF(B87<>"",Q_29DIC!C87,"")
A88: =IF(B88<>"",Q_29DIC!A88,"") | B88: =IF(ISERROR(MATCH(Q_29DIC!B88,Q_29DIC!M:M,0)),Q_29DIC!B88,"") | C88: =IF(B88<>"",Q_29DIC!C88,"")
... A102: =IF(B102<>"",Q_29DIC!A102,"") -> C | B102: =IF(ISERROR(MATCH(Q_29DIC!B102,Q_29DIC!M:M,0)),Q_29DIC!B102,"") -> LINETTY | C102: =IF(B102<>"",Q_29DIC!C102,"") -> Sampdoria
A103: =IF(B103<>"",Q_29DIC!A244,"") | B103: =IF(ISERROR(MATCH(Q_29DIC!B244,Q_29DIC!M:M,0)),Q_29DIC!B244,"") | C103: =IF(B103<>"",Q_29DIC!C244,"")
A104: =IF(B104<>"",Q_29DIC!A104,"") | B104: =IF(ISERROR(MATCH(Q_29DIC!B104,Q_29DIC!M:M,0)),Q_29DIC!B104,"") | C104: =IF(B104<>"",Q_29DIC!C104,"")
A105: =IF(B105<>"",Q_29DIC!A105,"") | B105: =IF(ISERROR(MATCH(Q_29DIC!B105,Q_29DIC!M:M,0)),Q_29DIC!B105,"") | C105: =IF(B105<>"",Q_29DIC!C105,"")
A106: =IF(B106<>"",Q_29DIC!A106,"") | B106: =IF(ISERROR(MATCH(Q_29DIC!B106,Q_29DIC!M:M,0)),Q_29DIC!B106,"") | C106: =IF(B106<>"",Q_29DIC!C106,"")
A107: =IF(B107<>"",Q_29DIC!A107,"") | B107: =IF(ISERROR(MATCH(Q_29DIC!B107,Q_29DIC!M:M,0)),Q_29DIC!B107,"") | C107: =IF(B107<>"",Q_29DIC!C107,"")
A108: =IF(B108<>"",Q_29DIC!A108,"") | B108: =IF(ISERROR(MATCH(Q_29DIC!B108,Q_29DIC!M:M,0)),Q_29DIC!B108,"") | C108: =IF(B108<>"",Q_29DIC!C108,"")
A109: =IF(B109<>"",Q_29DIC!A109,"") | B109: =IF(ISERROR(MATCH(Q_29DIC!B109,Q_29DIC!M:M,0)),Q_29DIC!B109,"") | C109: =IF(B109<>"",Q_29DIC!C109,"")
A110: =IF(B110<>"",Q_29DIC!A110,"") | B110: =IF(ISERROR(MATCH(Q_29DIC!B110,Q_29DIC!M:M,0)),Q_29DIC!B110,"") | C110: =IF(B110<>"",Q_29DIC!C110,"")
A111: =IF(B111<>"",Q_29DIC!A111,"") | B111: =IF(ISERROR(MATCH(Q_29DIC!B111,Q_29DIC!M:M,0)),Q_29DIC!B111,"") | C111: =IF(B111<>"",Q_29DIC!C111,"")
A112: =IF(B112<>"",Q_29DIC!A112,"") | B112: =IF(ISERROR(MATCH(Q_29DIC!B112,Q_29DIC!M:M,0)),Q_29DIC!B112,"") | C112: =IF(B112<>"",Q_29DIC!C112,"")
A113: =IF(B113<>"",Q_29DIC!A113,"") | B113: =IF(ISERROR(MATCH(Q_29DIC!B113,Q_29DIC!M:M,0)),Q_29DIC!B113,"") | C113: =IF(B113<>"",Q_29DIC!C113,"")
A114: =IF(B114<>"",Q_29DIC!A114,"") | B114: =IF(ISERROR(MATCH(Q_29DIC!B114,Q_29DIC!M:M,0)),Q_29DIC!B114,"") | C114: =IF(B114<>"",Q_29DIC!C114,"")
A115: =IF(B115<>"",Q_29DIC!A115,"") | B115: =IF(ISERROR(MATCH(Q_29DIC!B115,Q_29DIC!M:M,0)),Q_29DIC!B115,"") | C115: =IF(B115<>"",Q_29DIC!C115,"")
... A119: =IF(B119<>"",Q_29DIC!A119,"") | B119: =IF(ISERROR(MATCH(Q_29DIC!B119,Q_29DIC!M:M,0)),Q_29DIC!B119,"") | C119: =IF(B119<>"",Q_29DIC!C119,"")
A120: =IF(B120<>"",Q_29DIC!A400,"") -> C | B120: =IF(ISERROR(MATCH(Q_29DIC!B400,Q_29DIC!M:M,0)),Q_29DIC!B400,"") -> FALLETTI | C120: =IF(B120<>"",Q_29DIC!C400,"") -> Bologna
A121: =IF(B121<>"",Q_29DIC!A491,"") -> C | B121: =IF(ISERROR(MATCH(Q_29DIC!B491,Q_29DIC!M:M,0)),Q_29DIC!B491,"") -> GIACCHERINI | C121: =IF(B121<>"",Q_29DIC!C491,"") -> Chievo
A122: =IF(B122<>"",Q_29DIC!A122,"") | B122: =IF(ISERROR(MATCH(Q_29DIC!B122,Q_29DIC!M:M,0)),Q_29DIC!B122,"") | C122: =IF(B122<>"",Q_29DIC!C122,"")
A123: =IF(B123<>"",Q_29DIC!A123,"") -> C | B123: =IF(ISERROR(MATCH(Q_29DIC!B123,Q_29DIC!M:M,0)),Q_29DIC!B123,"") -> FARAGO | C123: =IF(B123<>"",Q_29DIC!C123,"") -> Cagliari
A124: =IF(B124<>"",Q_29DIC!A124,"") | B124: =IF(ISERROR(MATCH(Q_29DIC!B124,Q_29DIC!M:M,0)),Q_29DIC!B124,"") | C124: =IF(B124<>"",Q_29DIC!C124,"")
A125: =IF(B125<>"",Q_29DIC!A125,"") | B125: =IF(ISERROR(MATCH(Q_29DIC!B125,Q_29DIC!M:M,0)),Q_29DIC!B125,"") | C125: =IF(B125<>"",Q_29DIC!C125,"")
A126: =IF(B126<>"",Q_29DIC!A126,"") -> C | B126: =IF(ISERROR(MATCH(Q_29DIC!B126,Q_29DIC!M:M,0)),Q_29DIC!B126,"") -> PELLEGRINI | C126: =IF(B126<>"",Q_29DIC!C126,"") -> Roma
A127: =IF(B127<>"",Q_29DIC!A127,"") -> C | B127: =IF(ISERROR(MATCH(Q_29DIC!B127,Q_29DIC!M:M,0)),Q_29DIC!B127,"") -> MISSIROLI | C127: =IF(B127<>"",Q_29DIC!C127,"") -> Sassuolo
A128: =IF(B128<>"",Q_29DIC!A128,"") | B128: =IF(ISERROR(MATCH(Q_29DIC!B128,Q_29DIC!M:M,0)),Q_29DIC!B128,"") | C128: =IF(B128<>"",Q_29DIC!C128,"")
A129: =IF(B129<>"",Q_29DIC!A129,"") | B129: =IF(ISERROR(MATCH(Q_29DIC!B129,Q_29DIC!M:M,0)),Q_29DIC!B129,"") | C129: =IF(B129<>"",Q_29DIC!C129,"")
A130: =IF(B130<>"",Q_29DIC!A130,"") | B130: =IF(ISERROR(MATCH(Q_29DIC!B130,Q_29DIC!M:M,0)),Q_29DIC!B130,"") | C130: =IF(B130<>"",Q_29DIC!C130,"")
A131: =IF(B131<>"",Q_29DIC!A131,"") | B131: =IF(ISERROR(MATCH(Q_29DIC!B131,Q_29DIC!M:M,0)),Q_29DIC!B131,"") | C131: =IF(B131<>"",Q_29DIC!C131,"")
A132: =IF(B132<>"",Q_29DIC!A132,"") | B132: =IF(ISERROR(MATCH(Q_29DIC!B132,Q_29DIC!M:M,0)),Q_29DIC!B132,"") | C132: =IF(B132<>"",Q_29DIC!C132,"")
A133: =IF(B133<>"",Q_29DIC!A133,"") | B133: =IF(ISERROR(MATCH(Q_29DIC!B133,Q_29DIC!M:M,0)),Q_29DIC!B133,"") | C133: =IF(B133<>"",Q_29DIC!C133,"")
... A140: =IF(B140<>"",Q_29DIC!A140,"") | B140: =IF(ISERROR(MATCH(Q_29DIC!B140,Q_29DIC!M:M,0)),Q_29DIC!B140,"") | C140: =IF(B140<>"",Q_29DIC!C140,"")
A141: =IF(B141<>"",Q_29DIC!A512,"") -> A | B141: =IF(ISERROR(MATCH(Q_29DIC!B512,Q_29DIC!M:M,0)),Q_29DIC!B512,"") -> SALCEDO MORA | C141: =IF(B141<>"",Q_29DIC!C512,"") -> Genoa
A142: =IF(B142<>"",Q_29DIC!A142,"") -> C | B142: =IF(ISERROR(MATCH(Q_29DIC!B142,Q_29DIC!M:M,0)),Q_29DIC!B142,"") -> DONSAH | C142: =IF(B142<>"",Q_29DIC!C142,"") -> Bologna
A143: =IF(B143<>"",Q_29DIC!A243,"") | B143: =IF(ISERROR(MATCH(Q_29DIC!B243,Q_29DIC!M:M,0)),Q_29DIC!B243,"") | C143: =IF(B143<>"",Q_29DIC!C243,"")
A144: =IF(B144<>"",Q_29DIC!A144,"") | B144: =IF(ISERROR(MATCH(Q_29DIC!B144,Q_29DIC!M:M,0)),Q_29DIC!B144,"") | C144: =IF(B144<>"",Q_29DIC!C144,"")
A145: =IF(B145<>"",Q_29DIC!A363,"") -> D | B145: =IF(ISERROR(MATCH(Q_29DIC!B363,Q_29DIC!M:M,0)),Q_29DIC!B363,"") -> MILENKOVIC | C145: =IF(B145<>"",Q_29DIC!C363,"") -> Fiorentina
A146: =IF(B146<>"",Q_29DIC!A146,"") -> C | B146: =IF(ISERROR(MATCH(Q_29DIC!B146,Q_29DIC!M:M,0)),Q_29DIC!B146,"") -> VIVIANI | C146: =IF(B146<>"",Q_29DIC!C146,"") -> SPAL
A147: =IF(B147<>"",Q_29DIC!A147,"") | B147: =IF(ISERROR(MATCH(Q_29DIC!B147,Q_29DIC!M:M,0)),Q_29DIC!B147,"") | C147: =IF(B147<>"",Q_29DIC!C147,"")
A148: =IF(B148<>"",Q_29DIC!A148,"") | B148: =IF(ISERROR(MATCH(Q_29DIC!B148,Q_29DIC!M:M,0)),Q_29DIC!B148,"") | C148: =IF(B148<>"",Q_29DIC!C148,"")
A149: =IF(B149<>"",Q_29DIC!A149,"") -> C | B149: =IF(ISERROR(MATCH(Q_29DIC!B149,Q_29DIC!M:M,0)),Q_29DIC!B149,"") -> BERENGUER | C149: =IF(B149<>"",Q_29DIC!C149,"") -> Torino
A150: =IF(B150<>"",Q_29DIC!A386,"") -> D | B150: =IF(ISERROR(MATCH(Q_29DIC!B386,Q_29DIC!M:M,0)),Q_29DIC!B386,"") -> MANCINI G | C150: =IF(B150<>"",Q_29DIC!C386,"") -> Atalanta
A151: =IF(B151<>"",Q_29DIC!A151,"") -> C | B151: =IF(ISERROR(MATCH(Q_29DIC!B151,Q_29DIC!M:M,0)),Q_29DIC!B151,"") -> MEDEIROS | C151: =IF(B151<>"",Q_29DIC!C151,"") -> Genoa
A152: =IF(B152<>"",Q_29DIC!A152,"") -> A | B152: =IF(ISERROR(MATCH(Q_29DIC!B152,Q_29DIC!M:M,0)),Q_29DIC!B152,"") -> MATRI | C152: =IF(B152<>"",Q_29DIC!C152,"") -> Sassuolo
A153: =IF(B153<>"",Q_29DIC!A153,"") | B153: =IF(ISERROR(MATCH(Q_29DIC!B153,Q_29DIC!M:M,0)),Q_29DIC!B153,"") | C153: =IF(B153<>"",Q_29DIC!C153,"")
A154: =IF(B154<>"",Q_29DIC!A489,"") -> C | B154: =IF(ISERROR(MATCH(Q_29DIC!B489,Q_29DIC!M:M,0)),Q_29DIC!B489,"") -> CRECCO | C154: =IF(B154<>"",Q_29DIC!C489,"") -> Lazio
A155: =IF(B155<>"",Q_29DIC!A155,"") | B155: =IF(ISERROR(MATCH(Q_29DIC!B155,Q_29DIC!M:M,0)),Q_29DIC!B155,"") | C155: =IF(B155<>"",Q_29DIC!C155,"")
A156: =IF(B156<>"",Q_29DIC!A156,"") | B156: =IF(ISERROR(MATCH(Q_29DIC!B156,Q_29DIC!M:M,0)),Q_29DIC!B156,"") | C156: =IF(B156<>"",Q_29DIC!C156,"")
A157: =IF(B157<>"",Q_29DIC!A157,"") | B157: =IF(ISERROR(MATCH(Q_29DIC!B157,Q_29DIC!M:M,0)),Q_29DIC!B157,"") | C157: =IF(B157<>"",Q_29DIC!C157,"")
A158: =IF(B158<>"",Q_29DIC!A158,"") | B158: =IF(ISERROR(MATCH(Q_29DIC!B158,Q_29DIC!M:M,0)),Q_29DIC!B158,"") | C158: =IF(B158<>"",Q_29DIC!C158,"")
A159: =IF(B159<>"",Q_29DIC!A490,"") -> C | B159: =IF(ISERROR(MATCH(Q_29DIC!B490,Q_29DIC!M:M,0)),Q_29DIC!B490,"") -> DI GENNARO D | C159: =IF(B159<>"",Q_29DIC!C490,"") -> Lazio
A160: =IF(B160<>"",Q_29DIC!A160,"") | B160: =IF(ISERROR(MATCH(Q_29DIC!B160,Q_29DIC!M:M,0)),Q_29DIC!B160,"") | C160: =IF(B160<>"",Q_29DIC!C160,"")
A161: =IF(B161<>"",Q_29DIC!A161,"") | B161: =IF(ISERROR(MATCH(Q_29DIC!B161,Q_29DIC!M:M,0)),Q_29DIC!B161,"") | C161: =IF(B161<>"",Q_29DIC!C161,"")
A162: =IF(B162<>"",Q_29DIC!A162,"") | B162: =IF(ISERROR(MATCH(Q_29DIC!B162,Q_29DIC!M:M,0)),Q_29DIC!B162,"") | C162: =IF(B162<>"",Q_29DIC!C162,"")
A163: =IF(B163<>"",Q_29DIC!A163,"") | B163: =IF(ISERROR(MATCH(Q_29DIC!B163,Q_29DIC!M:M,0)),Q_29DIC!B163,"") | C163: =IF(B163<>"",Q_29DIC!C163,"")
A164: =IF(B164<>"",Q_29DIC!A164,"") | B164: =IF(ISERROR(MATCH(Q_29DIC!B164,Q_29DIC!M:M,0)),Q_29DIC!B164,"") | C164: =IF(B164<>"",Q_29DIC!C164,"")
A165: =IF(B165<>"",Q_29DIC!A165,"") | B165: =IF(ISERROR(MATCH(Q_29DIC!B165,Q_29DIC!M:M,0)),Q_29DIC!B165,"") | C165: =IF(B165<>"",Q_29DIC!C165,"")
A166: =IF(B166<>"",Q_29DIC!A166,"") | B166: =IF(ISERROR(MATCH(Q_29DIC!B166,Q_29DIC!M:M,0)),Q_29DIC!B166,"") | C166: =IF(B166<>"",Q_29DIC!C166,"")
...

Sheet Lista E
A1: RUOLO | B1: GIOCATORE | C1: SQUADRA
A2: A | B2: ANTENUCCI | C2: SPAL
A3: A | B3: KARAMOH | C3: Inter
A4: C | B4: RAFINHA | C4: Inter
A5: C | B5: DZEMAILI | C5: Bologna
A6: A | B6: PARIGINI | C6: Benevento
A7: A | B7: KOWNACKI | C7: Sampdoria
A8: C | B8: BARAK | C8: Udinese
A9: A | B9: BABACAR | C9: Sassuolo
A10: C | B10: LINETTY | C10: Sampdoria
A11: C | B11: FALLETTI | C11: Bologna
A12: C | B12: GIACCHERINI | C12: Chievo
... A277: D | B277: MIKULIC | C277: Sampdoria

Sheet Q_29DIC
A1: A | B1: MERTENS | C1: Napoli | E1: BUFFON | G1: STRAKOSHA | I1: BERISHA | K1: HANDANOVIC | M1: SORRENTINO
A2: A | B2: ICARDI | C2: Inter | E2: SZCZESNY | G2: SORRENTINO | I2: SIRIGU | K2: CONSIGLI | M2: MIRANTE
A3: A | B3: IMMOBILE | C3: Lazio | E3: MERET | G3: NICOLAS | I3: NICOLAS | K3: VIVIANO | M3: SCUFFET
A4: A | B4: HIGUAIN | C4: Juventus | E4: ROMULO | G4: ASTORI | I4: KOLAROV | K4: ACERBI | M4: BENATIA
A5: A | B5: DZEKO | C5: Roma | E5: ROMAGNOLI A | G5: FLORENZI | I5: CALDARA | K5: RODRIGUEZ R | M5: RUGANI
A6: A | B6: DYBALA | C6: Juventus | E6: DE SCIGLIO | G6: DANILO | I6: BENATIA | K6: N'KOULOU | M6: LUKAKU J
A7: A | B7: QUAGLIARELLA | C7: Sampdoria | E7: HATEBOER | G7: CECCHERINI | I7: FLORENZI | K7: BONUCCI | M7: DANILO
A8: A | B8: INSIGNE | C8: Napoli | E8: CANCELO | G8: LETIZIA | I8: HATEBOER | K8: MUSACCHIO | M8: VITOR HUGO
A9: C | B9: HAMSIK | C9: Napoli | E9: BASTA | G9: ROSSETTINI | I9: KARSDORP | K9: BASTA | M9: CANNAVARO *
A10: A | B10: BELOTTI | C10: Torino | E10: CASTAGNE | G10: HOWEDES | I10: SALA | K10: FELIPE | M10: HEURTAUX
A11: A | B11: CALLEJON | C11: Napoli | E11: ZIELINSKI | G11: LJAJIC | I11: MORETTI | K11: COSTA F | M11: DAINELLI
A12: A | B12: GOMEZ A | C12: Atalanta | E12: BERNARDESCHI | G12: ALLAN | I12: ILICIC | K12: IAGO FALQUE | M12: ZIELINSKI
... A250: C | B250: BASTIEN | C250: Chievo | E250: PJACA * | G250: MAXI LOPEZ | I250: PJACA * | K250: BORINI | M250: CODA M
A251: C | B251: MIGUEL VELOSO | C251: Genoa
A252: C | B252: NALINI | C252: Crotone
A253: C | B253: ROHDEN | C253: Crotone
A254: C | B254: UNDER | C254: Roma
A255: C | B255: DE ROSSI | C255: Roma
A256: C | B256: BARRETO E | C256: Sampdoria
A257: C | B257: MAGNANELLI | C257: Sassuolo
A258: C | B258: RIZZO | C258: Atalanta
A259: C | B259: BENALI | C259: Crotone
A260: C | B260: GUILHERME | C260: Benevento
A261: C | B261: SANDRO | C261: Benevento
A262: A | B262: MAXI LOPEZ | C262: Udinese
... A517: A | B517: GIANNETTI | C517: Cagliari
