Workbook

Sheet A
A1: RUOLO | B1: GIOCATORE | C1: SQUADRA
A2: =IF(B2<>"",Q_29DIC!A2,"") | B2: =IF(ISERROR(MATCH(Q_29DIC!B2,Q_29DIC!E:E,0)),Q_29DIC!B2,"") | C2: =IF(B2<>"",Q_29DIC!C2,"")
A3: =IF(B3<>"",Q_29DIC!A3,"") | B3: =IF(ISERROR(MATCH(Q_29DIC!B3,Q_29DIC!E:E,0)),Q_29DIC!B3,"") | C3: =IF(B3<>"",Q_29DIC!C3,"")
A4: =IF(B4<>"",Q_29DIC!A4,"") | B4: =IF(ISERROR(MATCH(Q_29DIC!B4,Q_29DIC!E:E,0)),Q_29DIC!B4,"") | C4: =IF(B4<>"",Q_29DIC!C4,"")
A5: =IF(B5<>"",Q_29DIC!A5,"") | B5: =IF(ISERROR(MATCH(Q_29DIC!B5,Q_29DIC!E:E,0)),Q_29DIC!B5,"") | C5: =IF(B5<>"",Q_29DIC!C5,"")
A6: =IF(B6<>"",Q_29DIC!A6,"") | B6: =IF(ISERROR(MATCH(Q_29DIC!B6,Q_29DIC!E:E,0)),Q_29DIC!B6,"") | C6: =IF(B6<>"",Q_29DIC!C6,"")
A7: =IF(B7<>"",Q_29DIC!A7,"") | B7: =IF(ISERROR(MATCH(Q_29DIC!B7,Q_29DIC!E:E,0)),Q_29DIC!B7,"") | C7: =IF(B7<>"",Q_29DIC!C7,"")
A8: =IF(B8<>"",Q_29DIC!A8,"") | B8: =IF(ISERROR(MATCH(Q_29DIC!B8,Q_29DIC!E:E,0)),Q_29DIC!B8,"") | C8: =IF(B8<>"",Q_29DIC!C8,"")
A9: =IF(B9<>"",Q_29DIC!A9,"") | B9: =IF(ISERROR(MATCH(Q_29DIC!B9,Q_29DIC!E:E,0)),Q_29DIC!B9,"") | C9: =IF(B9<>"",Q_29DIC!C9,"")
A10: =IF(B10<>"",Q_29DIC!A10,"") | B10: =IF(ISERROR(MATCH(Q_29DIC!B10,Q_29DIC!E:E,0)),Q_29DIC!B10,"") | C10: =IF(B10<>"",Q_29DIC!C10,"")
A11: =IF(B11<>"",Q_29DIC!A11,"") | B11: =IF(ISERROR(MATCH(Q_29DIC!B11,Q_29DIC!E:E,0)),Q_29DIC!B11,"") | C11: =IF(B11<>"",Q_29DIC!C11,"")
A12: =IF(B12<>"",Q_29DIC!A12,"") | B12: =IF(ISERROR(MATCH(Q_29DIC!B12,Q_29DIC!E:E,0)),Q_29DIC!B12,"") | C12: =IF(B12<>"",Q_29DIC!C12,"")
A13: =IF(B13<>"",Q_29DIC!A13,"") | B13: =IF(ISERROR(MATCH(Q_29DIC!B13,Q_29DIC!E:E,0)),Q_29DIC!B13,"") | C13: =IF(B13<>"",Q_29DIC!C13,"")
... A49: =IF(B49<>"",Q_29DIC!A49,"") | B49: =IF(ISERROR(MATCH(Q_29DIC!B49,Q_29DIC!E:E,0)),Q_29DIC!B49,"") | C49: =IF(B49<>"",Q_29DIC!C49,"")
A50: =IF(B50<>"",Q_29DIC!A344,"") -> A | B50: =IF(ISERROR(MATCH(Q_29DIC!B344,Q_29DIC!E:E,0)),Q_29DIC!B344,"") -> KARAMOH | C50: =IF(B50<>"",Q_29DIC!C344,"") -> Inter
A51: =IF(B51<>"",Q_29DIC!A51,"") | B51: =IF(ISERROR(MATCH(Q_29DIC!B51,Q_29DIC!E:E,0)),Q_29DIC!B51,"") | C51: =IF(B51<>"",Q_29DIC!C51,"")
A52: =IF(B52<>"",Q_29DIC!A52,"") | B52: =IF(ISERROR(MATCH(Q_29DIC!B52,Q_29DIC!E:E,0)),Q_29DIC!B52,"") | C52: =IF(B52<>"",Q_29DIC!C52,"")
A53: =IF(B53<>"",Q_29DIC!A53,"") | B53: =IF(ISERROR(MATCH(Q_29DIC!B53,Q_29DIC!E:E,0)),Q_29DIC!B53,"") | C53: =IF(B53<>"",Q_29DIC!C53,"")
A54: =IF(B54<>"",Q_29DIC!A54,"") | B54: =IF(ISERROR(MATCH(Q_29DIC!B54,Q_29DIC!E:E,0)),Q_29DIC!B54,"") | C54: =IF(B54<>"",Q_29DIC!C54,"")
A55: =IF(B55<>"",Q_29DIC!A55,"") | B55: =IF(ISERROR(MATCH(Q_29DIC!B55,Q_29DIC!E:E,0)),Q_29DIC!B55,"") | C55: =IF(B55<>"",Q_29DIC!C55,"")
A56: =IF(B56<>"",Q_29DIC!A56,"") | B56: =IF(ISERROR(MATCH(Q_29DIC!B56,Q_29DIC!E:E,0)),Q_29DIC!B56,"") | C56: =IF(B56<>"",Q_29DIC!C56,"")
A57: =IF(B57<>"",Q_29DIC!A57,"") | B57: =IF(ISERROR(MATCH(Q_29DIC!B57,Q_29DIC!E:E,0)),Q_29DIC!B57,"") | C57: =IF(B57<>"",Q_29DIC!C57,"")
A58: =IF(B58<>"",Q_29DIC!A58,"") | B58: =IF(ISERROR(MATCH(Q_29DIC!B58,Q_29DIC!E:E,0)),Q_29DIC!B58,"") | C58: =IF(B58<>"",Q_29DIC!C58,"")
A59: =IF(B59<>"",Q_29DIC!A59,"") -> C | B59: =IF(ISERROR(MATCH(Q_29DIC!B59,Q_29DIC!E:E,0)),Q_29DIC!B59,"") -> RAFINHA | C59: =IF(B59<>"",Q_29DIC!C59,"") -> Inter
A60: =IF(B60<>"",Q_29DIC!A60,"") -> C | B60: =IF(ISERROR(MATCH(Q_29DIC!B60,Q_29DIC!E:E,0)),Q_29DIC!B60,"") -> DZEMAILI | C60: =IF(B60<>"",Q_29DIC!C60,"") -> Bologna
A61: =IF(B61<>"",Q_29DIC!A61,"") | B61: =IF(ISERROR(MATCH(Q_29DIC!B61,Q_29DIC!E:E,0)),Q_29DIC!B61,"") | C61: =IF(B61<>"",Q_29DIC!C61,"")
A62: =IF(B62<>"",Q_29DIC!A62,"") | B62: =IF(ISERROR(MATCH(Q_29DIC!B62,Q_29DIC!E:E,0)),Q_29DIC!B62,"") | C62: =IF(B62<>"",Q_29DIC!C62,"")
... A72: =IF(B72<>"",Q_29DIC!A72,"") | B72: =IF(ISERROR(MATCH(Q_29DIC!B72,Q_29DIC!E:E,0)),Q_29DIC!B72,"") | C72: =IF(B72<>"",Q_29DIC!C72,"")
A73: =IF(B73<>"",Q_29DIC!A376,"") -> A | B73: =IF(ISERROR(MATCH(Q_29DIC!B376,Q_29DIC!E:E,0)),Q_29DIC!B376,"") -> PARIGINI | C73: =IF(B73<>"",Q_29DIC!C376,"") -> Benevento
A74: =IF(B74<>"",Q_29DIC!A400,"") -> C | B74: =IF(ISERROR(MATCH(Q_29DIC!B400,Q_29DIC!E:E,0)),Q_29DIC!B400,"") -> FALLETTI | C74: =IF(B74<>"",Q_29DIC!C400,"") -> Bologna
A75: =IF(B75<>"",Q_29DIC!A75,"") | B75: =IF(ISERROR(MATCH(Q_29DIC!B75,Q_29DIC!E:E,0)),Q_29DIC!B75,"") | C75: =IF(B75<>"",Q_29DIC!C75,"")
A76: =IF(B76<>"",Q_29DIC!A491,"") -> C | B76: =IF(ISERROR(MATCH(Q_29DIC!B491,Q_29DIC!E:E,0)),Q_29DIC!B491,"") -> GIACCHERINI | C76: =IF(B76<>"",Q_29DIC!C491,"") -> Chievo
A77: =IF(B77<>"",Q_29DIC!A77,"") | B77: =IF(ISERROR(MATCH(Q_29DIC!B77,Q_29DIC!E:E,0)),Q_29DIC!B77,"") | C77: =IF(B77<>"",Q_29DIC!C77,"")
A78: =IF(B78<>"",Q_29DIC!A78,"") | B78: =IF(ISERROR(MATCH(Q_29DIC!B78,Q_29DIC!E:E,0)),Q_29DIC!B78,"") | C78: =IF(B78<>"",Q_29DIC!C78,"")
A79: =IF(B79<>"",Q_29DIC!A79,"") -> D | B79: =IF(ISERROR(MATCH(Q_29DIC!B79,Q_29DIC!E:E,0)),Q_29DIC!B79,"") -> MARUSIC | C79: =IF(B79<>"",Q_29DIC!C79,"") -> Lazio
A80: =IF(B80<>"",Q_29DIC!A80,"") | B80: =IF(ISERROR(MATCH(Q_29DIC!B80,Q_29DIC!E:E,0)),Q_29DIC!B80,"") | C80: =IF(B80<>"",Q_29DIC!C80,"")
A81: =IF(B81<>"",Q_29DIC!A81,"") | B81: =IF(ISERROR(MATCH(Q_29DIC!B81,Q_29DIC!E:E,0)),Q_29DIC!B81,"") | C81: =IF(B81<>"",Q_29DIC!C81,"")
A82: =IF(B82<>"",Q_29DIC!A82,"") | B82: =IF(ISERROR(MATCH(Q_29DIC!B82,Q_29DIC!E:E,0)),Q_29DIC!B82,"") | C82: =IF(B82<>"",Q_29DIC!C82,"")
A83: =IF(B83<>"",Q_29DIC!A83,"") | B83: =IF(ISERROR(MATCH(Q_29DIC!B83,Q_29DIC!E:E,0)),Q_29DIC!B83,"") | C83: =IF(B83<>"",Q_29DIC!C83,"")
A84: =IF(B84<>"",Q_29DIC!A84,"") | B84: =IF(ISERROR(MATCH(Q_29DIC!B84,Q_29DIC!E:E,0)),Q_29DIC!B84,"") | C84: =IF(B84<>"",Q_29DIC!C84,"")
...

Sheet Lista A
A1: RUOLO | B1: GIOCATORE | C1: SQUADRA
A2: A | B2: ANTENUCCI | C2: SPAL
A3: A | B3: KARAMOH | C3: Inter
A4: C | B4: RAFINHA | C4: Inter
A5: C | B5: DZEMAILI | C5: Bologna
A6: A | B6: PARIGINI | C6: Benevento
A7: C | B7: FALLETTI | C7: Bologna
A8: C | B8: GIACCHERINI | C8: Chievo
A9: D | B9: MARUSIC | C9: Lazio
A10: C | B10: BARAK | C10: Udinese
A11: A | B11: CERCI | C11: Verona
A12: A | B12: TROTTA | C12: Crotone
... A280: D | B280: MIKULIC | C280: Sampdoria

Sheet B
A1: RUOLO | B1: GIOCATORE | C1: SQUADRA
A2: =IF(B2<>"",Q_29DIC!A2,"") | B2: =IF(ISERROR(MATCH(Q_29DIC!B2,Q_29DIC!G:G,0)),Q_29DIC!B2,"") | C2: =IF(B2<>"",Q_29DIC!C2,"")
A3: =IF(B3<>"",Q_29DIC!A3,"") | B3: =IF(ISERROR(MATCH(Q_29DIC!B3,Q_29DIC!G:G,0)),Q_29DIC!B3,"") | C3: =IF(B3<>"",Q_29DIC!C3,"")
A4: =IF(B4<>"",Q_29DIC!A4,"") | B4: =IF(ISERROR(MATCH(Q_29DIC!B4,Q_29DIC!G:G,0)),Q_29DIC!B4,"") | C4: =IF(B4<>"",Q_29DIC!C4,"")
A5: =IF(B5<>"",Q_29DIC!A5,"") | B5: =IF(ISERROR(MATCH(Q_29DIC!B5,Q_29DIC!G:G,0)),Q_29DIC!B5,"") | C5: =IF(B5<>"",Q_29DIC!C5,"")
A6: =IF(B6<>"",Q_29DIC!A6,"") | B6: =IF(ISERROR(MATCH(Q_29DIC!B6,Q_29DIC!G:G,0)),Q_29DIC!B6,"") | C6: =IF(B6<>"",Q_29DIC!C6,"")
A7: =IF(B7<>"",Q_29DIC!A7,"") | B7: =IF(ISERROR(MATCH(Q_29DIC!B7,Q_29DIC!G:G,0)),Q_29DIC!B7,"") | C7: =IF(B7<>"",Q_29DIC!C7,"")
A8: =IF(B8<>"",Q_29DIC!A8,"") | B8: =IF(ISERROR(MATCH(Q_29DIC!B8,Q_29DIC!G:G,0)),Q_29DIC!B8,"") | C8: =IF(B8<>"",Q_29DIC!C8,"")
A9: =IF(B9<>"",Q_29DIC!A9,"") | B9: =IF(ISERROR(MATCH(Q_29DIC!B9,Q_29DIC!G:G,0)),Q_29DIC!B9,"") | C9: =IF(B9<>"",Q_29DIC!C9,"")
A10: =IF(B10<>"",Q_29DIC!A10,"") | B10: =IF(ISERROR(MATCH(Q_29DIC!B10,Q_29DIC!G:G,0)),Q_29DIC!B10,"") | C10: =IF(B10<>"",Q_29DIC!C10,"")
A11: =IF(B11<>"",Q_29DIC!A11,"") | B11: =IF(ISERROR(MATCH(Q_29DIC!B11,Q_29DIC!G:G,0)),Q_29DIC!B11,"") | C11: =IF(B11<>"",Q_29DIC!C11,"")
A12: =IF(B12<>"",Q_29DIC!A12,"") | B12: =IF(ISERROR(MATCH(Q_29DIC!B12,Q_29DIC!G:G,0)),Q_29DIC!B12,"") | C12: =IF(B12<>"",Q_29DIC!C12,"")
A13: =IF(B13<>"",Q_29DIC!A13,"") | B13: =IF(ISERROR(MATCH(Q_29DIC!B13,Q_29DIC!G:G,0)),Q_29DIC!B13,"") | C13: =IF(B13<>"",Q_29DIC!C13,"")
... A49: =IF(B49<>"",Q_29DIC!A49,"") | B49: =IF(ISERROR(MATCH(Q_29DIC!B49,Q_29DIC!G:G,0)),Q_29DIC!B49,"") | C49: =IF(B49<>"",Q_29DIC!C49,"")
A50: =IF(B50<>"",Q_29DIC!A344,"") | B50: =IF(ISERROR(MATCH(Q_29DIC!B344,Q_29DIC!G:G,0)),Q_29DIC!B344,"") | C50: =IF(B50<>"",Q_29DIC!C344,"")
A51: =IF(B51<>"",Q_29DIC!A51,"") | B51: =IF(ISERROR(MATCH(Q_29DIC!B51,Q_29DIC!G:G,0)),Q_29DIC!B51,"") | C51: =IF(B51<>"",Q_29DIC!C51,"")
A52: =IF(B52<>"",Q_29DIC!A52,"") | B52: =IF(ISERROR(MATCH(Q_29DIC!B52,Q_29DIC!G:G,0)),Q_29DIC!B52,"") | C52: =IF(B52<>"",Q_29DIC!C52,"")
A53: =IF(B53<>"",Q_29DIC!A53,"") | B53: =IF(ISERROR(MATCH(Q_29DIC!B53,Q_29DIC!G:G,0)),Q_29DIC!B53,"") | C53: =IF(B53<>"",Q_29DIC!C53,"")
A54: =IF(B54<>"",Q_29DIC!A54,"") | B54: =IF(ISERROR(MATCH(Q_29DIC!B54,Q_29DIC!G:G,0)),Q_29DIC!B54,"") | C54: =IF(B54<>"",Q_29DIC!C54,"")
A55: =IF(B55<>"",Q_29DIC!A55,"") | B55: =IF(ISERROR(MATCH(Q_29DIC!B55,Q_29DIC!G:G,0)),Q_29DIC!B55,"") | C55: =IF(B55<>"",Q_29DIC!C55,"")
A56: =IF(B56<>"",Q_29DIC!A56,"") | B56: =IF(ISERROR(MATCH(Q_29DIC!B56,Q_29DIC!G:G,0)),Q_29DIC!B56,"") | C56: =IF(B56<>"",Q_29DIC!C56,"")
A57: =IF(B57<>"",Q_29DIC!A57,"") | B57: =IF(ISERROR(MATCH(Q_29DIC!B57,Q_29DIC!G:G,0)),Q_29DIC!B57,"") | C57: =IF(B57<>"",Q_29DIC!C57,"")
A58: =IF(B58<>"",Q_29DIC!A58,"") | B58: =IF(ISERROR(MATCH(Q_29DIC!B58,Q_29DIC!G:G,0)),Q_29DIC!B58,"") | C58: =IF(B58<>"",Q_29DIC!C58,"")
A59: =IF(B59<>"",Q_29DIC!A59,"") -> C | B59: =IF(ISERROR(MATCH(Q_29DIC!B59,Q_29DIC!G:G,0)),Q_29DIC!B59,"") -> RAFINHA | C59: =IF(B59<>"",Q_29DIC!C59,"") -> Inter
A60: =IF(B60<>"",Q_29DIC!A60,"") -> C | B60: =IF(ISERROR(MATCH(Q_29DIC!B60,Q_29DIC!G:G,0)),Q_29DIC!B60,"") -> DZEMAILI | C60: =IF(B60<>"",Q_29DIC!C60,"") -> Bologna
A61: =IF(B61<>"",Q_29DIC!A61,"") | B61: =IF(ISERROR(MATCH(Q_29DIC!B61,Q_29DIC!G:G,0)),Q_29DIC!B61,"") | C61: =IF(B61<>"",Q_29DIC!C61,"")
A62: =IF(B62<>"",Q_29DIC!A62,"") | B62: =IF(ISERROR(MATCH(Q_29DIC!B62,Q_29DIC!G:G,0)),Q_29DIC!B62,"") | C62: =IF(B62<>"",Q_29DIC!C62,"")
... A72: =IF(B72<>"",Q_29DIC!A72,"") | B72: =IF(ISERROR(MATCH(Q_29DIC!B72,Q_29DIC!G:G,0)),Q_29DIC!B72,"") | C72: =IF(B72<>"",Q_29DIC!C72,"")
A73: =IF(B73<>"",Q_29DIC!A376,"") -> A | B73: =IF(ISERROR(MATCH(Q_29DIC!B376,Q_29DIC!G:G,0)),Q_29DIC!B376,"") -> PARIGINI | C73: =IF(B73<>"",Q_29DIC!C376,"") -> Benevento
A74: =IF(B74<>"",Q_29DIC!A74,"") | B74: =IF(ISERROR(MATCH(Q_29DIC!B74,Q_29DIC!G:G,0)),Q_29DIC!B74,"") | C74: =IF(B74<>"",Q_29DIC!C74,"")
A75: =IF(B75<>"",Q_29DIC!A75,"") -> A | B75: =IF(ISERROR(MATCH(Q_29DIC!B75,Q_29DIC!G:G,0)),Q_29DIC!B75,"") -> PALACIO | C75: =IF(B75<>"",Q_29DIC!C75,"") -> Bologna
A76: =IF(B76<>"",Q_29DIC!A76,"") | B76: =IF(ISERROR(MATCH(Q_29DIC!B76,Q_29DIC!G:G,0)),Q_29DIC!B76,"") | C76: =IF(B76<>"",Q_29DIC!C76,"")
A77: =IF(B77<>"",Q_29DIC!A77,"") | B77: =IF(ISERROR(MATCH(Q_29DIC!B77,Q_29DIC!G:G,0)),Q_29DIC!B77,"") | C77: =IF(B77<>"",Q_29DIC!C77,"")
A78: =IF(B78<>"",Q_29DIC!A78,"") | B78: =IF(ISERROR(MATCH(Q_29DIC!B78,Q_29DIC!G:G,0)),Q_29DIC!B78,"") | C78: =IF(B78<>"",Q_29DIC!C78,"")
A79: =IF(B79<>"",Q_29DIC!A79,"") -> D | B79: =IF(ISERROR(MATCH(Q_29DIC!B79,Q_29DIC!G:G,0)),Q_29DIC!B79,"") -> MARUSIC | C79: =IF(B79<>"",Q_29DIC!C79,"") -> Lazio
A80: =IF(B80<>"",Q_29DIC!A80,"") | B80: =IF(ISERROR(MATCH(Q_29DIC!B80,Q_29DIC!G:G,0)),Q_29DIC!B80,"") | C80: =IF(B80<>"",Q_29DIC!C80,"")
A81: =IF(B81<>"",Q_29DIC!A81,"") | B81: =IF(ISERROR(MATCH(Q_29DIC!B81,Q_29DIC!G:G,0)),Q_29DIC!B81,"") | C81: =IF(B81<>"",Q_29DIC!C81,"")
A82: =IF(B82<>"",Q_29DIC!A82,"") | B82: =IF(ISERROR(MATCH(Q_29DIC!B82,Q_29DIC!G:G,0)),Q_29DIC!B82,"") | C82: =IF(B82<>"",Q_29DIC!C82,"")
A83: =IF(B83<>"",Q_29DIC!A83,"") | B83: =IF(ISERROR(MATCH(Q_29DIC!B83,Q_29DIC!G:G,0)),Q_29DIC!B83,"") | C83: =IF(B83<>"",Q_29DIC!C83,"")
A84: =IF(B84<>"",Q_29DIC!A84,"") | B84: =IF(ISERROR(MATCH(Q_29DIC!B84,Q_29DIC!G:G,0)),Q_29DIC!B84,"") | C84: =IF(B84<>"",Q_29DIC!C84,"")
...

Sheet Lista B
A1: RUOLO | B1: GIOCATORE | C1: SQUADRA
A2: A | B2: ANTENUCCI | C2: SPAL
A3: C | B3: RAFINHA | C3: Inter
A4: C | B4: DZEMAILI | C4: Bologna
A5: A | B5: PARIGINI | C5: Benevento
A6: A | B6: PALACIO | C6: Bologna
A7: D | B7: MARUSIC | C7: Lazio
A8: C | B8: BARAK | C8: Udinese
A9: A | B9: TROTTA | C9: Crotone
A10: C | B10: LINETTY | C10: Sampdoria
A11: C | B11: LAZZARI M | C11: SPAL
A12: C | B12: FALLETTI | C12: Bologna
... A278: D | B278: MIKULIC | C278: Sampdoria

Sheet C
A1: RUOLO | B1: GIOCATORE | C1: SQUADRA
A2: =IF(B2<>"",Q_29DIC!A2,"") | B2: =IF(ISERROR(MATCH(Q_29DIC!B2,Q_29DIC!I:I,0)),Q_29DIC!B2,"") | C2: =IF(B2<>"",Q_29DIC!C2,"")
A3: =IF(B3<>"",Q_29DIC!A3,"") | B3: =IF(ISERROR(MATCH(Q_29DIC!B3,Q_29DIC!I:I,0)),Q_29DIC!B3,"") | C3: =IF(B3<>"",Q_29DIC!C3,"")
A4: =IF(B4<>"",Q_29DIC!A4,"") | B4: =IF(ISERROR(MATCH(Q_29DIC!B4,Q_29DIC!I:I,0)),Q_29DIC!B4,"") | C4: =IF(B4<>"",Q_29DIC!C4,"")
A5: =IF(B5<>"",Q_29DIC!A5,"") | B5: =IF(ISERROR(MATCH(Q_29DIC!B5,Q_29DIC!I:I,0)),Q_29DIC!B5,"") | C5: =IF(B5<>"",Q_29DIC!C5,"")
A6: =IF(B6<>"",Q_29DIC!A6,"") | B6: =IF(ISERROR(MATCH(Q_29DIC!B6,Q_29DIC!I:I,0)),Q_29DIC!B6,"") | C6: =IF(B6<>"",Q_29DIC!C6,"")
A7: =IF(B7<>"",Q_29DIC!A7,"") | B7: =IF(ISERROR(MATCH(Q_29DIC!B7,Q_29DIC!I:I,0)),Q_29DIC!B7,"") | C7: =IF(B7<>"",Q_29DIC!C7,"")
A8: =IF(B8<>"",Q_29DIC!A8,"") | B8: =IF(ISERROR(MATCH(Q_29DIC!B8,Q_29DIC!I:I,0)),Q_29DIC!B8,"") | C8: =IF(B8<>"",Q_29DIC!C8,"")
A9: =IF(B9<>"",Q_29DIC!A9,"") | B9: =IF(ISERROR(MATCH(Q_29DIC!B9,Q_29DIC!I:I,0)),Q_29DIC!B9,"") | C9: =IF(B9<>"",Q_29DIC!C9,"")
A10: =IF(B10<>"",Q_29DIC!A10,"") | B10: =IF(ISERROR(MATCH(Q_29DIC!B10,Q_29DIC!I:I,0)),Q_29DIC!B10,"") | C10: =IF(B10<>"",Q_29DIC!C10,"")
A11: =IF(B11<>"",Q_29DIC!A11,"") | B11: =IF(ISERROR(MATCH(Q_29DIC!B11,Q_29DIC!I:I,0)),Q_29DIC!B11,"") | C11: =IF(B11<>"",Q_29DIC!C11,"")
A12: =IF(B12<>"",Q_29DIC!A12,"") | B12: =IF(ISERROR(MATCH(Q_29DIC!B12,Q_29DIC!I:I,0)),Q_29DIC!B12,"") | C12: =IF(B12<>"",Q_29DIC!C12,"")
A13: =IF(B13<>"",Q_29DIC!A13,"") | B13: =IF(ISERROR(MATCH(Q_29DIC!B13,Q_29DIC!I:I,0)),Q_29DIC!B13,"") | C13: =IF(B13<>"",Q_29DIC!C13,"")
... A49: =IF(B49<>"",Q_29DIC!A49,"") | B49: =IF(ISERROR(MATCH(Q_29DIC!B49,Q_29DIC!I:I,0)),Q_29DIC!B49,"") | C49: =IF(B49<>"",Q_29DIC!C49,"")
A50: =IF(B50<>"",Q_29DIC!A344,"") | B50: =IF(ISERROR(MATCH(Q_29DIC!B344,Q_29DIC!I:I,0)),Q_29DIC!B344,"") | C50: =IF(B50<>"",Q_29DIC!C344,"")
A51: =IF(B51<>"",Q_29DIC!A51,"") | B51: =IF(ISERROR(MATCH(Q_29DIC!B51,Q_29DIC!I:I,0)),Q_29DIC!B51,"") | C51: =IF(B51<>"",Q_29DIC!C51,"")
A52: =IF(B52<>"",Q_29DIC!A52,"") | B52: =IF(ISERROR(MATCH(Q_29DIC!B52,Q_29DIC!I:I,0)),Q_29DIC!B52,"") | C52: =IF(B52<>"",Q_29DIC!C52,"")
A53: =IF(B53<>"",Q_29DIC!A53,"") | B53: =IF(ISERROR(MATCH(Q_29DIC!B53,Q_29DIC!I:I,0)),Q_29DIC!B53,"") | C53: =IF(B53<>"",Q_29DIC!C53,"")
A54: =IF(B54<>"",Q_29DIC!A54,"") | B54: =IF(ISERROR(MATCH(Q_29DIC!B54,Q_29DIC!I:I,0)),Q_29DIC!B54,"") | C54: =IF(B54<>"",Q_29DIC!C54,"")
A55: =IF(B55<>"",Q_29DIC!A55,"") | B55: =IF(ISERROR(MATCH(Q_29DIC!B55,Q_29DIC!I:I,0)),Q_29DIC!B55,"") | C55: =IF(B55<>"",Q_29DIC!C55,"")
A56: =IF(B56<>"",Q_29DIC!A56,"") | B56: =IF(ISERROR(MATCH(Q_29DIC!B56,Q_29DIC!I:I,0)),Q_29DIC!B56,"") | C56: =IF(B56<>"",Q_29DIC!C56,"")
A57: =IF(B57<>"",Q_29DIC!A57,"") | B57: =IF(ISERROR(MATCH(Q_29DIC!B57,Q_29DIC!I:I,0)),Q_29DIC!B57,"") | C57: =IF(B57<>"",Q_29DIC!C57,"")
A58: =IF(B58<>"",Q_29DIC!A376,"") -> A | B58: =IF(ISERROR(MATCH(Q_29DIC!B376,Q_29DIC!I:I,0)),Q_29DIC!B376,"") -> PARIGINI | C58: =IF(B58<>"",Q_29DIC!C376,"") -> Benevento
A59: =IF(B59<>"",Q_29DIC!A59,"") -> C | B59: =IF(ISERROR(MATCH(Q_29DIC!B59,Q_29DIC!I:I,0)),Q_29DIC!B59,"") -> RAFINHA | C59: =IF(B59<>"",Q_29DIC!C59,"") -> Inter
A60: =IF(B60<>"",Q_29DIC!A60,"") -> C | B60: =IF(ISERROR(MATCH(Q_29DIC!B60,Q_29DIC!I:I,0)),Q_29DIC!B60,"") -> DZEMAILI | C60: =IF(B60<>"",Q_29DIC!C60,"") -> Bologna
A61: =IF(B61<>"",Q_29DIC!A61,"") | B61: =IF(ISERROR(MATCH(Q_29DIC!B61,Q_29DIC!I:I,0)),Q_29DIC!B61,"") | C61: =IF(B61<>"",Q_29DIC!C61,"")
A62: =IF(B62<>"",Q_29DIC!A62,"") | B62: =IF(ISERROR(MATCH(Q_29DIC!B62,Q_29DIC!I:I,0)),Q_29DIC!B62,"") | C62: =IF(B62<>"",Q_29DIC!C62,"")
A63: =IF(B63<>"",Q_29DIC!A63,"") | B63: =IF(ISERROR(MATCH(Q_29DIC!B63,Q_29DIC!I:I,0)),Q_29DIC!B63,"") | C63: =IF(B63<>"",Q_29DIC!C63,"")
A64: =IF(B64<>"",Q_29DIC!A64,"") | B64: =IF(ISERROR(MATCH(Q_29DIC!B64,Q_29DIC!I:I,0)),Q_29DIC!B64,"") | C64: =IF(B64<>"",Q_29DIC!C64,"")
A65: =IF(B65<>"",Q_29DIC!A65,"") | B65: =IF(ISERROR(MATCH(Q_29DIC!B65,Q_29DIC!I:I,0)),Q_29DIC!B65,"") | C65: =IF(B65<>"",Q_29DIC!C65,"")
A66: =IF(B66<>"",Q_29DIC!A66,"") | B66: =IF(ISERROR(MATCH(Q_29DIC!B66,Q_29DIC!I:I,0)),Q_29DIC!B66,"") | C66: =IF(B66<>"",Q_29DIC!C66,"")
A67: =IF(B67<>"",Q_29DIC!A67,"") | B67: =IF(ISERROR(MATCH(Q_29DIC!B67,Q_29DIC!I:I,0)),Q_29DIC!B67,"") | C67: =IF(B67<>"",Q_29DIC!C67,"")
A68: =IF(B68<>"",Q_29DIC!A68,"") -> C | B68: =IF(ISERROR(MATCH(Q_29DIC!B68,Q_29DIC!I:I,0)),Q_29DIC!B68,"") -> VERETOUT | C68: =IF(B68<>"",Q_29DIC!C68,"") -> Fiorentina
A69: =IF(B69<>"",Q_29DIC!A69,"") | B69: =IF(ISERROR(MATCH(Q_29DIC!B69,Q_29DIC!I:I,0)),Q_29DIC!B69,"") | C69: =IF(B69<>"",Q_29DIC!C69,"")
A70: =IF(B70<>"",Q_29DIC!A70,"") | B70: =IF(ISERROR(MATCH(Q_29DIC!B70,Q_29DIC!I:I,0)),Q_29DIC!B70,"") | C70: =IF(B70<>"",Q_29DIC!C70,"")
... A72: =IF(B72<>"",Q_29DIC!A72,"") | B72: =IF(ISERROR(MATCH(Q_29DIC!B72,Q_29DIC!I:I,0)),Q_29DIC!B72,"") | C72: =IF(B72<>"",Q_29DIC!C72,"")
A73: =IF(B73<>"",Q_29DIC!A400,"") -> C | B73: =IF(ISERROR(MATCH(Q_29DIC!B400,Q_29DIC!I:I,0)),Q_29DIC!B400,"") -> FALLETTI | C73: =IF(B73<>"",Q_29DIC!C400,"") -> Bologna
A74: =IF(B74<>"",Q_29DIC!A74,"") | B74: =IF(ISERROR(MATCH(Q_29DIC!B74,Q_29DIC!I:I,0)),Q_29DIC!B74,"") | C74: =IF(B74<>"",Q_29DIC!C74,"")
A75: =IF(B75<>"",Q_29DIC!A75,"") -> A | B75: =IF(ISERROR(MATCH(Q_29DIC!B75,Q_29DIC!I:I,0)),Q_29DIC!B75,"") -> PALACIO | C75: =IF(B75<>"",Q_29DIC!C75,"") -> Bologna
A76: =IF(B76<>"",Q_29DIC!A76,"") | B76: =IF(ISERROR(MATCH(Q_29DIC!B76,Q_29DIC!I:I,0)),Q_29DIC!B76,"") | C76: =IF(B76<>"",Q_29DIC!C76,"")
...

Sheet Lista C
A1: RUOLO | B1: GIOCATORE | C1: SQUADRA
A2: A | B2: ANTENUCCI | C2: SPAL
A3: A | B3: PARIGINI | C3: Benevento
A4: C | B4: RAFINHA | C4: Inter
A5: C | B5: DZEMAILI | C5: Bologna
A6: C | B6: VERETOUT | C6: Fiorentina
A7: C | B7: FALLETTI | C7: Bologna
A8: A | B8: PALACIO | C8: Bologna
A9: D | B9: MARUSIC | C9: Lazio
A10: C | B10: BARAK | C10: Udinese
A11: C | B11: LINETTY | C11: Sampdoria
A12: C | B12: GIACCHERINI | C12: Chievo
... A276: D | B276: MIKULIC | C276: Sampdoria

Sheet D
A1: RUOLO | B1: GIOCATORE | C1: SQUADRA
A2: =IF(B2<>"",Q_29DIC!A2,"") | B2: =IF(ISERROR(MATCH(Q_29DIC!B2,Q_29DIC!K:K,0)),Q_29DIC!B2,"") | C2: =IF(B2<>"",Q_29DIC!C2,"")
A3: =IF(B3<>"",Q_29DIC!A3,"") | B3: =IF(ISERROR(MATCH(Q_29DIC!B3,Q_29DIC!K:K,0)),Q_29DIC!B3,"") | C3: =IF(B3<>"",Q_29DIC!C3,"")
A4: =IF(B4<>"",Q_29DIC!A4,"") | B4: =IF(ISERROR(MATCH(Q_29DIC!B4,Q_29DIC!K:K,0)),Q_29DIC!B4,"") | C4: =IF(B4<>"",Q_29DIC!C4,"")
A5: =IF(B5<>"",Q_29DIC!A5,"") | B5: =IF(ISERROR(MATCH(Q_29DIC!B5,Q_29DIC!K:K,0)),Q_29DIC!B5,"") | C5: =IF(B5<>"",Q_29DIC!C5,"")
A6: =IF(B6<>"",Q_29DIC!A6,"") | B6: =IF(ISERROR(MATCH(Q_29DIC!B6,Q_29DIC!K:K,0)),Q_29DIC!B6,"") | C6: =IF(B6<>"",Q_29DIC!C6,"")
A7: =IF(B7<>"",Q_29DIC!A7,"") | B7: =IF(ISERROR(MATCH(Q_29DIC!B7,Q_29DIC!K:K,0)),Q_29DIC!B7,"") | C7: =IF(B7<>"",Q_29DIC!C7,"")
A8: =IF(B8<>"",Q_29DIC!A8,"") | B8: =IF(ISERROR(MATCH(Q_29DIC!B8,Q_29DIC!K:K,0)),Q_29DIC!B8,"") | C8: =IF(B8<>"",Q_29DIC!C8,"")
A9: =IF(B9<>"",Q_29DIC!A9,"") | B9: =IF(ISERROR(MATCH(Q_29DIC!B9,Q_29DIC!K:K,0)),Q_29DIC!B9,"") | C9: =IF(B9<>"",Q_29DIC!C9,"")
A10: =IF(B10<>"",Q_29DIC!A10,"") | B10: =IF(ISERROR(MATCH(Q_29DIC!B10,Q_29DIC!K:K,0)),Q_29DIC!B10,"") | C10: =IF(B10<>"",Q_29DIC!C10,"")
A11: =IF(B11<>"",Q_29DIC!A11,"") | B11: =IF(ISERROR(MATCH(Q_29DIC!B11,Q_29DIC!K:K,0)),Q_29DIC!B11,"") | C11: =IF(B11<>"",Q_29DIC!C11,"")
A12: =IF(B12<>"",Q_29DIC!A12,"") | B12: =IF(ISERROR(MATCH(Q_29DIC!B12,Q_29DIC!K:K,0)),Q_29DIC!B12,"") | C12: =IF(B12<>"",Q_29DIC!C12,"")
A13: =IF(B13<>"",Q_29DIC!A13,"") | B13: =IF(ISERROR(MATCH(Q_29DIC!B13,Q_29DIC!K:K,0)),Q_29DIC!B13,"") | C13: =IF(B13<>"",Q_29DIC!C13,"")
... A49: =IF(B49<>"",Q_29DIC!A49,"") | B49: =IF(ISERROR(MATCH(Q_29DIC!B49,Q_29DIC!K:K,0)),Q_29DIC!B49,"") | C49: =IF(B49<>"",Q_29DIC!C49,"")
A50: =IF(B50<>"",Q_29DIC!A163,"") -> D | B50: =IF(ISERROR(MATCH(Q_29DIC!B163,Q_29DIC!K:K,0)),Q_29DIC!B163,"") -> PELUSO | C50: =IF(B50<>"",Q_29DIC!C163,"") -> Sassuolo
A51: =IF(B51<>"",Q_29DIC!A51,"") | B51: =IF(ISERROR(MATCH(Q_29DIC!B51,Q_29DIC!K:K,0)),Q_29DIC!B51,"") | C51: =IF(B51<>"",Q_29DIC!C51,"")
A52: =IF(B52<>"",Q_29DIC!A52,"") | B52: =IF(ISERROR(MATCH(Q_29DIC!B52,Q_29DIC!K:K,0)),Q_29DIC!B52,"") | C52: =IF(B52<>"",Q_29DIC!C52,"")
A53: =IF(B53<>"",Q_29DIC!A53,"") | B53: =IF(ISERROR(MATCH(Q_29DIC!B53,Q_29DIC!K:K,0)),Q_29DIC!B53,"") | C53: =IF(B53<>"",Q_29DIC!C53,"")
A54: =IF(B54<>"",Q_29DIC!A54,"") | B54: =IF(ISERROR(MATCH(Q_29DIC!B54,Q_29DIC!K:K,0)),Q_29DIC!B54,"") | C54: =IF(B54<>"",Q_29DIC!C54,"")
A55: =IF(B55<>"",Q_29DIC!A55,"") | B55: =IF(ISERROR(MATCH(Q_29DIC!B55,Q_29DIC!K:K,0)),Q_29DIC!B55,"") | C55: =IF(B55<>"",Q_29DIC!C55,"")
A56: =IF(B56<>"",Q_29DIC!A56,"") | B56: =IF(ISERROR(MATCH(Q_29DIC!B56,Q_29DIC!K:K,0)),Q_29DIC!B56,"") | C56: =IF(B56<>"",Q_29DIC!C56,"")
A57: =IF(B57<>"",Q_29DIC!A57,"") | B57: =IF(ISERROR(MATCH(Q_29DIC!B57,Q_29DIC!K:K,0)),Q_29DIC!B57,"") | C57: =IF(B57<>"",Q_29DIC!C57,"")
A58: =IF(B58<>"",Q_29DIC!A58,"") | B58: =IF(ISERROR(MATCH(Q_29DIC!B58,Q_29DIC!K:K,0)),Q_29DIC!B58,"") | C58: =IF(B58<>"",Q_29DIC!C58,"")
A59: =IF(B59<>"",Q_29DIC!A59,"") -> C | B59: =IF(ISERROR(MATCH(Q_29DIC!B59,Q_29DIC!K:K,0)),Q_29DIC!B59,"") -> RAFINHA | C59: =IF(B59<>"",Q_29DIC!C59,"") -> Inter
A60: =IF(B60<>"",Q_29DIC!A60,"") -> C | B60: =IF(ISERROR(MATCH(Q_29DIC!B60,Q_29DIC!K:K,0)),Q_29DIC!B60,"") -> DZEMAILI | C60: =IF(B60<>"",Q_29DIC!C60,"") -> Bologna
A61: =IF(B61<>"",Q_29DIC!A61,"") | B61: =IF(ISERROR(MATCH(Q_29DIC!B61,Q_29DIC!K:K,0)),Q_29DIC!B61,"") | C61: =IF(B61<>"",Q_29DIC!C61,"")
A62: =IF(B62<>"",Q_29DIC!A62,"") | B62: =IF(ISERROR(MATCH(Q_29DIC!B62,Q_29DIC!K:K,0)),Q_29DIC!B62,"") | C62: =IF(B62<>"",Q_29DIC!C62,"")
... A72: =IF(B72<>"",Q_29DIC!A72,"") | B72: =IF(ISERROR(MATCH(Q_29DIC!B72,Q_29DIC!K:K,0)),Q_29DIC!B72,"") | C72: =IF(B72<>"",Q_29DIC!C72,"")
A73: =IF(B73<>"",Q_29DIC!A376,"") -> A | B73: =IF(ISERROR(MATCH(Q_29DIC!B376,Q_29DIC!K:K,0)),Q_29DIC!B376,"") -> PARIGINI | C73: =IF(B73<>"",Q_29DIC!C376,"") -> Benevento
A74: =IF(B74<>"",Q_29DIC!A74,"") | B74: =IF(ISERROR(MATCH(Q_29DIC!B74,Q_29DIC!K:K,0)),Q_29DIC!B74,"") | C74: =IF(B74<>"",Q_29DIC!C74,"")
A75: =IF(B75<>"",Q_29DIC!A75,"") | B75: =IF(ISERROR(MATCH(Q_29DIC!B75,Q_29DIC!K:K,0)),Q_29DIC!B75,"") | C75: =IF(B75<>"",Q_29DIC!C75,"")
A76: =IF(B76<>"",Q_29DIC!A400,"") -> C | B76: =IF(ISERROR(MATCH(Q_29DIC!B400,Q_29DIC!K:K,0)),Q_29DIC!B400,"") -> FALLETTI | C76: =IF(B76<>"",Q_29DIC!C400,"") -> Bologna
A77: =IF(B77<>"",Q_29DIC!A77,"") | B77: =IF(ISERROR(MATCH(Q_29DIC!B77,Q_29DIC!K:K,0)),Q_29DIC!B77,"") | C77: =IF(B77<>"",Q_29DIC!C77,"")
A78: =IF(B78<>"",Q_29DIC!A78,"") | B78: =IF(ISERROR(MATCH(Q_29DIC!B78,Q_29DIC!K:K,0)),Q_29DIC!B78,"") | C78: =IF(B78<>"",Q_29DIC!C78,"")
A79: =IF(B79<>"",Q_29DIC!A79,"") -> D | B79: =IF(ISERROR(MATCH(Q_29DIC!B79,Q_29DIC!K:K,0)),Q_29DIC!B79,"") -> MARUSIC | C79: =IF(B79<>"",Q_29DIC!C79,"") -> Lazio
A80: =IF(B80<>"",Q_29DIC!A80,"") | B80: =IF(ISERROR(MATCH(Q_29DIC!B80,Q_29DIC!K:K,0)),Q_29DIC!B80,"") | C80: =IF(B80<>"",Q_29DIC!C80,"")
A81: =IF(B81<>"",Q_29DIC!A81,"") | B81: =IF(ISERROR(MATCH(Q_29DIC!B81,Q_29DIC!K:K,0)),Q_29DIC!B81,"") | C81: =IF(B81<>"",Q_29DIC!C81,"")
A82: =IF(B82<>"",Q_29DIC!A82,"") | B82: =IF(ISERROR(MATCH(Q_29DIC!B82,Q_29DIC!K:K,0)),Q_29DIC!B82,"") | C82: =IF(B82<>"",Q_29DIC!C82,"")
A83: =IF(B83<>"",Q_29DIC!A83,"") | B83: =IF(ISERROR(MATCH(Q_29DIC!B83,Q_29DIC!K:K,0)),Q_29DIC!B83,"") | C83: =IF(B83<>"",Q_29DIC!C83,"")
A84: =IF(B84<>"",Q_29DIC!A84,"") | B84: =IF(ISERROR(MATCH(Q_29DIC!B84,Q_29DIC!K:K,0)),Q_29DIC!B84,"") | C84: =IF(B84<>"",Q_29DIC!C84,"")
...

Sheet Lista D
A1: RUOLO | B1: GIOCATORE | C1: SQUADRA
A2: A | B2: ANTENUCCI | C2: SPAL
A3: D | B3: PELUSO | C3: Sassuolo
A4: C | B4: RAFINHA | C4: Inter
A5: C | B5: DZEMAILI | C5: Bologna
A6: A | B6: PARIGINI | C6: Benevento
A7: C | B7: FALLETTI | C7: Bologna
A8: D | B8: MARUSIC | C8: Lazio
A9: C | B9: BARAK | C9: Udinese
A10: A | B10: BABACAR | C10: Sassuolo
A11: C | B11: LINETTY | C11: Sampdoria
A12: C | B12: GIACCHERINI | C12: Chievo
... A276: D | B276: KEITA C | C276: Bologna

Sheet E
A1: RUOLO | B1: GIOCATORE | C1: SQUADRA
A2: =IF(B2<>"",Q_29DIC!A2,"") | B2: =IF(ISERROR(MATCH(Q_29DIC!B2,Q_29DIC!M:M,0)),Q_29DIC!B2,"") | C2: =IF(B2<>"",Q_29DIC!C2,"")
A3: =IF(B3<>"",Q_29DIC!A3,"") | B3: =IF(ISERROR(MATCH(Q_29DIC!B3,Q_29DIC!M:M,0)),Q_29DIC!B3,"") | C3: =IF(B3<>"",Q_29DIC!C3,"")
A4: =IF(B4<>"",Q_29DIC!A4,"") | B4: =IF(ISERROR(MATCH(Q_29DIC!B4,Q_29DIC!M:M,0)),Q_29DIC!B4,"") | C4: =IF(B4<>"",Q_29DIC!C4,"")
A5: =IF(B5<>"",Q_29DIC!A5,"") | B5: =IF(ISERROR(MATCH(Q_29DIC!B5,Q_29DIC!M:M,0)),Q_29DIC!B5,"") | C5: =IF(B5<>"",Q_29DIC!C5,"")
A6: =IF(B6<>"",Q_29DIC!A6,"") | B6: =IF(ISERROR(MATCH(Q_29DIC!B6,Q_29DIC!M:M,0)),Q_29DIC!B6,"") | C6: =IF(B6<>"",Q_29DIC!C6,"")
A7: =IF(B7<>"",Q_29DIC!A7,"") | B7: =IF(ISERROR(MATCH(Q_29DIC!B7,Q_29DIC!M:M,0)),Q_29DIC!B7,"") | C7: =IF(B7<>"",Q_29DIC!C7,"")
A8: =IF(B8<>"",Q_29DIC!A8,"") | B8: =IF(ISERROR(MATCH(Q_29DIC!B8,Q_29DIC!M:M,0)),Q_29DIC!B8,"") | C8: =IF(B8<>"",Q_29DIC!C8,"")
A9: =IF(B9<>"",Q_29DIC!A9,"") | B9: =IF(ISERROR(MATCH(Q_29DIC!B9,Q_29DIC!M:M,0)),Q_29DIC!B9,"") | C9: =IF(B9<>"",Q_29DIC!C9,"")
A10: =IF(B10<>"",Q_29DIC!A10,"") | B10: =IF(ISERROR(MATCH(Q_29DIC!B10,Q_29DIC!M:M,0)),Q_29DIC!B10,"") | C10: =IF(B10<>"",Q_29DIC!C10,"")
A11: =IF(B11<>"",Q_29DIC!A11,"") | B11: =IF(ISERROR(MATCH(Q_29DIC!B11,Q_29DIC!M:M,0)),Q_29DIC!B11,"") | C11: =IF(B11<>"",Q_29DIC!C11,"")
A12: =IF(B12<>"",Q_29DIC!A12,"") | B12: =IF(ISERROR(MATCH(Q_29DIC!B12,Q_29DIC!M:M,0)),Q_29DIC!B12,"") | C12: =IF(B12<>"",Q_29DIC!C12,"")
A13: =IF(B13<>"",Q_29DIC!A13,"") | B13: =IF(ISERROR(MATCH(Q_29DIC!B13,Q_29DIC!M:M,0)),Q_29DIC!B13,"") | C13: =IF(B13<>"",Q_29DIC!C13,"")
... A49: =IF(B49<>"",Q_29DIC!A49,"") | B49: =IF(ISERROR(MATCH(Q_29DIC!B49,Q_29DIC!M:M,0)),Q_29DIC!B49,"") | C49: =IF(B49<>"",Q_29DIC!C49,"")
A50: =IF(B50<>"",Q_29DIC!A344,"") -> A | B50: =IF(ISERROR(MATCH(Q_29DIC!B344,Q_29DIC!M:M,0)),Q_29DIC!B344,"") -> KARAMOH | C50: =IF(B50<>"",Q_29DIC!C344,"") -> Inter
A51: =IF(B51<>"",Q_29DIC!A51,"") | B51: =IF(ISERROR(MATCH(Q_29DIC!B51,Q_29DIC!M:M,0)),Q_29DIC!B51,"") | C51: =IF(B51<>"",Q_29DIC!C51,"")
A52: =IF(B52<>"",Q_29DIC!A52,"") | B52: =IF(ISERROR(MATCH(Q_29DIC!B52,Q_29DIC!M:M,0)),Q_29DIC!B52,"") | C52: =IF(B52<>"",Q_29DIC!C52,"")
A53: =IF(B53<>"",Q_29DIC!A53,"") | B53: =IF(ISERROR(MATCH(Q_29DIC!B53,Q_29DIC!M:M,0)),Q_29DIC!B53,"") | C53: =IF(B53<>"",Q_29DIC!C53,"")
A54: =IF(B54<>"",Q_29DIC!A54,"") | B54: =IF(ISERROR(MATCH(Q_29DIC!B54,Q_29DIC!M:M,0)),Q_29DIC!B54,"") | C54: =IF(B54<>"",Q_29DIC!C54,"")
A55: =IF(B55<>"",Q_29DIC!A55,"") | B55: =IF(ISERROR(MATCH(Q_29DIC!B55,Q_29DIC!M:M,0)),Q_29DIC!B55,"") | C55: =IF(B55<>"",Q_29DIC!C55,"")
A56: =IF(B56<>"",Q_29DIC!A56,"") | B56: =IF(ISERROR(MATCH(Q_29DIC!B56,Q_29DIC!M:M,0)),Q_29DIC!B56,"") | C56: =IF(B56<>"",Q_29DIC!C56,"")
A57: =IF(B57<>"",Q_29DIC!A57,"") | B57: =IF(ISERROR(MATCH(Q_29DIC!B57,Q_29DIC!M:M,0)),Q_29DIC!B57,"") | C57: =IF(B57<>"",Q_29DIC!C57,"")
A58: =IF(B58<>"",Q_29DIC!A58,"") | B58: =IF(ISERROR(MATCH(Q_29DIC!B58,Q_29DIC!M:M,0)),Q_29DIC!B58,"") | C58: =IF(B58<>"",Q_29DIC!C58,"")
A59: =IF(B59<>"",Q_29DIC!A59,"") -> C | B59: =IF(ISERROR(MATCH(Q_29DIC!B59,Q_29DIC!M:M,0)),Q_29DIC!B59,"") -> RAFINHA | C59: =IF(B59<>"",Q_29DIC!C59,"") -> Inter
A60: =IF(B60<>"",Q_29DIC!A60,"") -> C | B60: =IF(ISERROR(MATCH(Q_29DIC!B60,Q_29DIC!M:M,0)),Q_29DIC!B60,"") -> DZEMAILI | C60: =IF(B60<>"",Q_29DIC!C60,"") -> Bologna
A61: =IF(B61<>"",Q_29DIC!A61,"") | B61: =IF(ISERROR(MATCH(Q_29DIC!B61,Q_29DIC!M:M,0)),Q_29DIC!B61,"") | C61: =IF(B61<>"",Q_29DIC!C61,"")
A62: =IF(B62<>"",Q_29DIC!A62,"") | B62: =IF(ISERROR(MATCH(Q_29DIC!B62,Q_29DIC!M:M,0)),Q_29DIC!B62,"") | C62: =IF(B62<>"",Q_29DIC!C62,"")
... A72: =IF(B72<>"",Q_29DIC!A72,"") | B72: =IF(ISERROR(MATCH(Q_29DIC!B72,Q_29DIC!M:M,0)),Q_29DIC!B72,"") | C72: =IF(B72<>"",Q_29DIC!C72,"")
A73: =IF(B73<>"",Q_29DIC!A376,"") -> A | B73: =IF(ISERROR(MATCH(Q_29DIC!B376,Q_29DIC!M:M,0)),Q_29DIC!B376,"") -> PARIGINI | C73: =IF(B73<>"",Q_29DIC!C376,"") -> Benevento
A74: =IF(B74<>"",Q_29DIC!A74,"") | B74: =IF(ISERROR(MATCH(Q_29DIC!B74,Q_29DIC!M:M,0)),Q_29DIC!B74,"") | C74: =IF(B74<>"",Q_29DIC!C74,"")
A75: =IF(B75<>"",Q_29DIC!A75,"") | B75: =IF(ISERROR(MATCH(Q_29DIC!B75,Q_29DIC!M:M,0)),Q_29DIC!B75,"") | C75: =IF(B75<>"",Q_29DIC!C75,"")
A76: =IF(B76<>"",Q_29DIC!A217,"") -> A | B76: =IF(ISERROR(MATCH(Q_29DIC!B217,Q_29DIC!M:M,0)),Q_29DIC!B217,"") -> KOWNACKI | C76: =IF(B76<>"",Q_29DIC!C217,"") -> Sampdoria
A77: =IF(B77<>"",Q_29DIC!A77,"") | B77: =IF(ISERROR(MATCH(Q_29DIC!B77,Q_29DIC!M:M,0)),Q_29DIC!B77,"") | C77: =IF(B77<>"",Q_29DIC!C77,"")
A78: =IF(B78<>"",Q_29DIC!A78,"") | B78: =IF(ISERROR(MATCH(Q_29DIC!B78,Q_29DIC!M:M,0)),Q_29DIC!B78,"") | C78: =IF(B78<>"",Q_29DIC!C78,"")
A79: =IF(B79<>"",Q_29DIC!A79,"") | B79: =IF(ISERROR(MATCH(Q_29DIC!B79,Q_29DIC!M:M,0)),Q_29DIC!B79,"") | C79: =IF(B79<>"",Q_29DIC!C79,"")
A80: =IF(B80<>"",Q_29DIC!A80,"") | B80: =IF(ISERROR(MATCH(Q_29DIC!B80,Q_29DIC!M:M,0)),Q_29DIC!B80,"") | C80: =IF(B80<>"",Q_29DIC!C80,"")
A81: =IF(B81<>"",Q_29DIC!A81,"") | B81: =IF(ISERROR(MATCH(Q_29DIC!B81,Q_29DIC!M:M,0)),Q_29DIC!B81,"") | C81: =IF(B81<>"",Q_29DIC!C81,"")
A82: =IF(B82<>"",Q_29DIC!A82,"") | B82: =IF(ISERROR(MATCH(Q_29DIC!B82,Q_29DIC!M:M,0)),Q_29DIC!B82,"") | C82: =IF(B82<>"",Q_29DIC!C82,"")
A83: =IF(B83<>"",Q_29DIC!A83,"") | B83: =IF(ISERROR(MATCH(Q_29DIC!B83,Q_29DIC!M:M,0)),Q_29DIC!B83,"") | C83: =IF(B83<>"",Q_29DIC!C83,"")
A84: =IF(B84<>"",Q_29DIC!A84,"") | B84: =IF(ISERROR(MATCH(Q_29DIC!B84,Q_29DIC!M:M,0)),Q_29DIC!B84,"") | C84: =IF(B84<>"",Q_29DIC!C84,"")
...

Sheet Lista E
A1: RUOLO | B1: GIOCATORE | C1: SQUADRA
A2: A | B2: ANTENUCCI | C2: SPAL
A3: A | B3: KARAMOH | C3: Inter
A4: C | B4: RAFINHA | C4: Inter
A5: C | B5: DZEMAILI | C5: Bologna
A6: A | B6: PARIGINI | C6: Benevento
A7: A | B7: KOWNACKI | C7: Sampdoria
A8: C | B8: BARAK | C8: Udinese
A9: A | B9: BABACAR | C9: Sassuolo
A10: C | B10: LINETTY | C10: Sampdoria
A11: C | B11: FALLETTI | C11: Bologna
A12: C | B12: GIACCHERINI | C12: Chievo
... A277: D | B277: MIKULIC | C277: Sampdoria

Sheet Q_29DIC
A1: A | B1: MERTENS | C1: Napoli | E1: BUFFON | G1: STRAKOSHA | I1: BERISHA | K1: HANDANOVIC | M1: SORRENTINO
A2: A | B2: ICARDI | C2: Inter | E2: SZCZESNY | G2: SORRENTINO | I2: SIRIGU | K2: CONSIGLI | M2: MIRANTE
A3: A | B3: IMMOBILE | C3: Lazio | E3: MERET | G3: NICOLAS | I3: NICOLAS | K3: VIVIANO | M3: SCUFFET
A4: A | B4: HIGUAIN | C4: Juventus | E4: ROMULO | G4: ASTORI | I4: KOLAROV | K4: ACERBI | M4: BENATIA
A5: A | B5: DZEKO | C5: Roma | E5: ROMAGNOLI A | G5: FLORENZI | I5: CALDARA | K5: RODRIGUEZ R | M5: RUGANI
A6: A | B6: DYBALA | C6: Juventus | E6: DE SCIGLIO | G6: DANILO | I6: BENATIA | K6: N'KOULOU | M6: LUKAKU J
A7: A | B7: QUAGLIARELLA | C7: Sampdoria | E7: HATEBOER | G7: CECCHERINI | I7: FLORENZI | K7: BONUCCI | M7: DANILO
A8: A | B8: INSIGNE | C8: Napoli | E8: CANCELO | G8: LETIZIA | I8: HATEBOER | K8: MUSACCHIO | M8: VITOR HUGO
A9: C | B9: HAMSIK | C9: Napoli | E9: BASTA | G9: ROSSETTINI | I9: KARSDORP | K9: BASTA | M9: CANNAVARO *
A10: A | B10: BELOTTI | C10: Torino | E10: CASTAGNE | G10: HOWEDES | I10: SALA | K10: FELIPE | M10: HEURTAUX
A11: A | B11: CALLEJON | C11: Napoli | E11: ZIELINSKI | G11: LJAJIC | I11: MORETTI | K11: COSTA F | M11: DAINELLI
A12: A | B12: GOMEZ A | C12: Atalanta | E12: BERNARDESCHI | G12: ALLAN | I12: ILICIC | K12: IAGO FALQUE | M12: ZIELINSKI
... A250: C | B250: BASTIEN | C250: Chievo | E250: PJACA * | G250: MAXI LOPEZ | I250: PJACA * | K250: BORINI | M250: CODA M
A251: C | B251: MIGUEL VELOSO | C251: Genoa
A252: C | B252: NALINI | C252: Crotone
A253: C | B253: ROHDEN | C253: Crotone
A254: C | B254: UNDER | C254: Roma
A255: C | B255: DE ROSSI | C255: Roma
A256: C | B256: BARRETO E | C256: Sampdoria
A257: C | B257: MAGNANELLI | C257: Sassuolo
A258: C | B258: RIZZO | C258: Atalanta
A259: C | B259: BENALI | C259: Crotone
A260: C | B260: GUILHERME | C260: Benevento
A261: C | B261: SANDRO | C261: Benevento
A262: A | B262: MAXI LOPEZ | C262: Udinese
... A517: A | B517: GIANNETTI | C517: Cagliari
