Workbook

Sheet Serie A
A1: Posizione classifica | B1: Societa | C1: Crediti rimanenti | D1: Crediti Lega | E1: Crediti Scambi (inserirli con + o -) | K1: Crediti Svincoli1 | L1: Riparazione1 | M1: Crediti Svincoli2 | N1: Riparazione2 | O1: Totale | P1: 2017/18 | T1: Scambi
A3: 1 | B3: Tette Biscottate | C3: =RoseSerieA!B3 -> 13 | D3: 50 | K3: =SvincoliA!$B$12 -> 0 | L3: =SvincoliA!B24 -> 0 | M3: =SvincoliA!$B$37 -> 0 | N3: =SvincoliA!$B$48 -> 0 | O3: =C3+D3+E3+F3+G3+H3+I3+J3+K3-L3+M3-N3 -> 63 | P3: =ROUNDDOWN(O3/3,0) -> 21
A4: 2 | B4: Cyrano IR | C4: =RoseSerieA!D3 -> 7 | D4: 50 | K4: =SvincoliA!$D$12 -> 0 | L4: =SvincoliA!D24 -> 0 | M4: =SvincoliA!$D$37 -> 0 | N4: =SvincoliA!$D$48 -> 0 | O4: =C4+D4+E4+F4+G4+H4+I4+J4+K4-L4+M4-N4 -> 57 | P4: =ROUNDDOWN(O4/3,0) -> 19
A5: 3 | B5: SC Applauso | C5: =RoseSerieA!F3 -> 1 | D5: 50 | K5: =SvincoliA!$F$12 -> 0 | L5: =SvincoliA!F24 -> 0 | M5: =SvincoliA!$F$37 -> 0 | N5: =SvincoliA!$F$48 -> 0 | O5: =C5+D5+E5+F5+G5+H5+I5+J5+K5-L5+M5-N5 -> 51 | P5: =ROUNDDOWN(O5/3,0) -> 17
A6: 4 | B6: McTown | C6: =RoseSerieA!H3 -> 8 | D6: 50 | K6: =SvincoliA!$H$12 -> 0 | L6: =SvincoliA!H24 -> 0 | M6: =SvincoliA!$H$37 -> 0 | N6: =SvincoliA!$H$48 -> 0 | O6: =C6+D6+E6+F6+G6+H6+I6+J6+K6-L6+M6-N6 -> 58 | P6: =ROUNDDOWN(O6/3,0) -> 19
A7: 5 | B7: Flybeard | C7: =RoseSerieA!J3 -> 34 | D7: 50 | K7: =SvincoliA!$J$12 -> 0 | L7: =SvincoliA!J24 -> 0 | M7: =SvincoliA!$J$37 -> 0 | N7: =SvincoliA!$J$48 -> 0 | O7: =C7+D7+E7+F7+G7+H7+I7+J7+K7-L7+M7-N7 -> 84 | P7: =ROUNDDOWN(O7/3,0) -> 28
A8: 6 | B8: Evribadi | C8: =RoseSerieA!L3 -> 0 | D8: 50 | K8: =SvincoliA!$L$12 -> 0 | L8: =SvincoliA!L24 -> 0 | M8: =SvincoliA!$L$37 -> 0 | N8: =SvincoliA!$L$48 -> 0 | O8: =C8+D8+E8+F8+G8+H8+I8+J8+K8-L8+M8-N8 -> 50 | P8: =ROUNDDOWN(O8/3,0) -> 16
A9: 7 | B9: Bayer 04 Pappiana | C9: =RoseSerieA!N3 -> 2 | D9: 50 | K9: =SvincoliA!$N$12 -> 0 | L9: =SvincoliA!N24 -> 0 | M9: =SvincoliA!$N$37 -> 0 | N9: =SvincoliA!$N$48 -> 0 | O9: =C9+D9+E9+F9+G9+H9+I9+J9+K9-L9+M9-N9 -> 52 | P9: =ROUNDDOWN(O9/3,0) -> 17
A10: 8 | B10: INTERFOGAT | C10: =RoseSerieA!P3 -> 5 | D10: 50 | K10: =SvincoliA!$P$12 -> 0 | L10: =SvincoliA!P24 -> 0 | M10: =SvincoliA!$P$37 -> 0 | N10: =SvincoliA!$P$48 -> 0 | O10: =C10+D10+E10+F10+G10+H10+I10+J10+K10-L10+M10-N10 -> 55 | P10: =ROUNDDOWN(O10/3,0) -> 18
A11: 9 | B11: SJ Pardus | C11: =RoseSerieA!R3 -> 6 | D11: 50 | K11: =SvincoliA!$R$12 -> 0 | L11: =SvincoliA!R24 -> 0 | M11: =SvincoliA!$R$37 -> 0 | N11: =SvincoliA!$R$48 -> 0 | O11: =C11+D11+E11+F11+G11+H11+I11+J11+K11-L11+M11-N11 -> 56 | P11: =ROUNDDOWN(O11/3,0) -> 18
A12: 10 | B12: Biscotti Strimbuschistani | C12: =RoseSerieA!T3 -> 26 | D12: 50 | K12: =SvincoliA!$T$12 -> 0 | L12: =SvincoliA!T24 -> 0 | M12: =SvincoliA!$T$37 -> 0 | N12: =SvincoliA!$T$48 -> 0 | O12: =C12+D12+E12+F12+G12+H12+I12+J12+K12-L12+M12-N12 -> 76 | P12: =ROUNDDOWN(O12/3,0) -> 25
T29: De Silvestri | V29: 6

Sheet SvincoliA
A1: Tette Biscottate | C1: Cyrano IR | E1: SC Applauso | G1: MC Town | I1: FlyBeard | K1: Evribadi | M1: Bayer 04 Pappiana | O1: INTERFOGAT | Q1: SJ Pardus | S1: Biscotti Strimbuschistani | U1: Cessioni | V1: 1 Sessione
A12: Cr.Svincoli | B12: =ROUNDDOWN(SUM(B2:B10)/2,0) -> 0 | C12: Cr.Svincoli | D12: =ROUNDDOWN(SUM(D2:D10)/2,0) -> 0 | E12: Cr.Svincoli | F12: =ROUNDDOWN(SUM(F2:F10)/2,0) -> 0 | G12: Cr.Svincoli | H12: =ROUNDDOWN(SUM(H2:H10)/2,0) -> 0 | I12: Cr.Svincoli | J12: =ROUNDDOWN(SUM(J2:J10)/2,0) -> 0 | K12: Cr.Svincoli | L12: =ROUNDDOWN(SUM(L2:L10)/2,0) -> 0 | M12: Cr.Svincoli | N12: =ROUNDDOWN(SUM(N2:N10)/2,0) -> 0 | O12: Cr.Svincoli | P12: =ROUNDDOWN(SUM(P2:P10)/2,0) -> 0 | Q12: Cr.Svincoli | R12: =ROUNDDOWN(SUM(R2:R10)/2,0) -> 0 | S12: Cr.Svincoli | T12: =ROUNDDOWN(SUM(T2:T10)/2,0) -> 0
U14: Acquisti
A24: Cr.Svincoli | B24: =SUM(B14:B22) -> 0 | C24: Cr.Svincoli | D24: =SUM(D14:D22) -> 0 | E24: Cr.Svincoli | F24: =SUM(F14:F22) -> 0 | G24: Cr.Svincoli | H24: =SUM(H14:H22) -> 0 | I24: Cr.Svincoli | J24: =SUM(J14:J22) -> 0 | K24: Cr.Svincoli | L24: =SUM(L14:L22) -> 0 | M24: Cr.Svincoli | N24: =SUM(N14:N22) -> 0 | O24: Cr.Svincoli | P24: =SUM(P14:P22) -> 0 | Q24: Cr.Svincoli | R24: =SUM(R14:R22) -> 0 | S24: Cr.Svincoli | T24: =SUM(T14:T22) -> 0
B25: ='Serie A'!O3 -> 63 | D25: ='Serie A'!O4 -> 57 | F25: ='Serie A'!O5 -> 51 | H25: ='Serie A'!O6 -> 58 | J25: ='Serie A'!O7 -> 84 | L25: ='Serie A'!O8 -> 50 | N25: ='Serie A'!O9 -> 52 | P25: ='Serie A'!O10 -> 55 | R25: ='Serie A'!O11 -> 56 | T25: ='Serie A'!O12 -> 76 | U25: Parziali Live
U26: Cessioni | V26: 2 Sessione
B36: =SUM(B27:B35) -> 0 | D36: =SUM(D27:D35) -> 0 | F36: =SUM(F27:F35) -> 0 | H36: =SUM(H27:H35) -> 0 | J36: =SUM(J27:J35) -> 0 | L36: =SUM(L27:L35) -> 0 | N36: =SUM(N27:N35) -> 0 | P36: =SUM(P27:P35) -> 0 | R36: =SUM(R27:R35) -> 0 | T36: =SUM(T27:T35) -> 0
A37: Cr.Svincoli | B37: =ROUNDDOWN(SUM(B27:B35)/2,0) -> 0 | C37: Cr.Svincoli | D37: =ROUNDDOWN(SUM(D27:D35)/2,0) -> 0 | E37: Cr.Svincoli | F37: =ROUNDDOWN(SUM(F27:F35)/2,0) -> 0 | G37: Cr.Svincoli | H37: =ROUNDDOWN(SUM(H27:H35)/2,0) -> 0 | I37: Cr.Svincoli | J37: =ROUNDDOWN(SUM(J27:J35)/2,0) -> 0 | K37: Cr.Svincoli | L37: =ROUNDDOWN(SUM(L27:L35)/2,0) -> 0 | M37: Cr.Svincoli | N37: =ROUNDDOWN(SUM(N27:N35)/2,0) -> 0 | O37: Cr.Svincoli | P37: =ROUNDDOWN(SUM(P27:P35)/2,0) -> 0 | Q37: Cr.Svincoli | R37: =ROUNDDOWN(SUM(R27:R35)/2,0) -> 0 | S37: Cr.Svincoli | T37: =ROUNDDOWN(SUM(T27:T35)/2,0) -> 0
U39: Acquisti
B48: =SUM(B39:B47) -> 0 | D48: =SUM(D39:D47) -> 0 | F48: =SUM(F39:F47) -> 0 | H48: =SUM(H39:H47) -> 0 | J48: =SUM(J39:J47) -> 0 | L48: =SUM(L39:L47) -> 0 | N48: =SUM(N39:N47) -> 0 | P48: =SUM(P39:P47) -> 0 | R48: =SUM(R39:R47) -> 0 | T48: =SUM(T39:T47) -> 0
B49: =B25 -> 63 | D49: =D25 -> 57 | F49: =F25 -> 51 | H49: =H25 -> 58 | J49: =J25 -> 84 | L49: =L25 -> 50 | N49: =N25 -> 52 | P49: =P25 -> 55 | R49: =R25 -> 56 | T49: =T25 -> 76 | U49: Parziali Live

Sheet RoseMercA
A1: Tette Biscottate | C1: Cyrano IR | E1: SC Applauso | G1: MC Town | I1: FlyBeard | K1: Evribadi | M1: Bayer 04 Pappiana | O1: INTERFOGAT | Q1: SJ Pardus | S1: Biscotti Strimbuschistani | W1: non confermabili 2017/18
A2: Crediti Iniz. | C2: Crediti Iniz. | E2: Crediti Iniz. | G2: FlyBeard | I2: Crediti Iniz. | K2: Crediti Iniz. | M2: Crediti Iniz. | O2: Crediti Iniz. | Q2: Crediti Iniz. | S2: Crediti Iniz. | W2: nuovi acquisti 2016/17 - febbraio
W3: nuovi acquisti 2016/17 - febbraio da scambio
W4: riconferma 2016/17
W5: riconferma 2016/17
W6: riconferma 2016/17
B7: =+SUM(B4:B6) -> 0 | D7: =+SUM(D4:D6) -> 0 | F7: =+SUM(F4:F6) -> 0 | H7: =+SUM(H4:H6) -> 0 | J7: =+SUM(J4:J6) -> 0 | L7: =+SUM(L4:L6) -> 0 | N7: =+SUM(N4:N6) -> 0 | P7: =+SUM(P4:P6) -> 0 | R7: =+SUM(R4:R6) -> 0 | T7: =+SUM(T4:T6) -> 0 | W7: riconferma 2016/17
W8: riconferma 2016/17
B16: =+SUM(B8:B15) -> 0 | D16: =+SUM(D8:D15) -> 0 | F16: =+SUM(F8:F15) -> 0 | H16: =+SUM(H8:H15) -> 0 | J16: =+SUM(J8:J15) -> 0 | L16: =+SUM(L8:L15) -> 0 | N16: =+SUM(N8:N15) -> 0 | P16: =+SUM(P8:P15) -> 0 | R16: =+SUM(R8:R15) -> 0 | T16: =+SUM(T8:T15) -> 0
B25: =+SUM(B17:B24) -> 0 | D25: =+SUM(D17:D24) -> 0 | F25: =+SUM(F17:F24) -> 0 | H25: =+SUM(H17:H24) -> 0 | J25: =+SUM(J17:J24) -> 0 | L25: =+SUM(L17:L24) -> 0 | N25: =+SUM(N17:N24)+20 -> 20 | P25: =+SUM(P17:P24) -> 0 | R25: =+SUM(R17:R24) -> 0 | T25: =+SUM(T17:T24) -> 0
B32: =+SUM(B26:B31) -> 0 | D32: =+SUM(D26:D31) -> 0 | F32: =+SUM(F26:F31) -> 0 | H32: =+SUM(H26:H31) -> 0 | J32: =+SUM(J26:J31) -> 0 | L32: =+SUM(L26:L31) -> 0 | N32: =+SUM(N26:N31) -> 0 | P32: =+SUM(P26:P31) -> 0 | R32: =+SUM(R26:R31) -> 0 | T32: =+SUM(T26:T31) -> 0

Sheet RoseSerieA
A1: Tette Biscottate | C1: Cyrano IR | E1: SC Applauso | G1: MC Town | I1: FlyBeard | K1: Evribadi | M1: Bayer 04 Pappiana | O1: INTERFOGAT | Q1: SJ Pardus | S1: Biscotti Strimbuschistani | W1: non confermabili 2017/18
A2: Crediti Iniz. | B2: 516 | C2: Crediti Iniz. | D2: 500 | E2: Crediti Iniz. | F2: 500 | G2: FlyBeard | H2: 512 | I2: Crediti Iniz. | J2: 503 | K2: Crediti Iniz. | L2: 508 | M2: Crediti Iniz. | N2: 500 | O2: Crediti Iniz. | P2: 503 | Q2: Crediti Iniz. | R2: 500 | S2: Crediti Iniz. | T2: 508 | W2: nuovi acquisti 2016/17 - febbraio
A3: Crediti Rim. | B3: =+B2-B7-B16-B25-B32 -> 13 | C3: Crediti | D3: =+D2-D7-D16-D25-D32 -> 7 | E3: Crediti | F3: =+F2-F7-F16-F25-F32 -> 1 | G3: Crediti | H3: =+H2-H7-H16-H25-H32 -> 8 | I3: Crediti | J3: =+J2-J7-J16-J25-J32 -> 34 | K3: Crediti | L3: =+L2-L7-L16-L25-L32 -> 0 | M3: Crediti | N3: =+N2-N7-N16-N25-N32 -> 2 | O3: Crediti | P3: =+P2-P7-P16-P25-P32 -> 5 | Q3: Crediti | R3: =+R2-R7-R16-R25-R32 -> 6 | S3: Crediti | T3: =+T2-T7-T16-T25-T32 -> 26 | W3: nuovi acquisti 2016/17 - febbraio da scambio
A4: REINA | B4: 41 | C4: VIVIANO | D4: 19 | E4: DONNARUMMA G | F4: 50 | G4: SORRENTINO | H4: 10 | I4: BERISHA | J4: 1 | K4: ALLISON | L4: 1 | M4: SPORTIELLO | N4: 1 | O4: BUFFON | P4: 51 | Q4: HANDANOVIC | R4: 50 | S4: STRAKOSHA | T4: 25 | W4: riconferma 2016/17
A5: SEPE | B5: 1 | C5: CONSIGLI | D5: 7 | E5: STORARI | F5: 1 | G5: CORDAZ | H5: 1 | I5: GOLLINI | J5: 1 | K5: SKORUPSKI | L5: 1 | M5: CRAGNO | N5: 1 | O5: SZCZESNY | P5: 7 | Q5: PADELLI | R5: 1 | S5: GUERRIERI | T5: 1 | W5: riconferma 2016/17
A6: RAFAEL CABRAL | B6: 1 | C6: MIRANTE | D6: 2 | E6: DONNARUMMA A | F6: 1 | G6: SIRIGU | H6: 17 | I6: PERIN | J6: 14 | K6: LOBONT | L6: 1 | M6: SCUFFET | N6: 1 | O6: MERET | P6: 1 | Q6: BERNI | R6: 1 | S6: VARGIC | T6: 1 | W6: riconferma 2016/17
B7: =+SUM(B4:B6) -> 43 | D7: =+SUM(D4:D6) -> 28 | F7: =+SUM(F4:F6) -> 52 | H7: =+SUM(H4:H6) -> 28 | J7: =+SUM(J4:J6) -> 16 | L7: =+SUM(L4:L6) -> 3 | N7: =+SUM(N4:N6) -> 3 | P7: =+SUM(P4:P6) -> 59 | R7: =+SUM(R4:R6) -> 52 | T7: =+SUM(T4:T6) -> 27 | W7: riconferma 2016/17
A8: SKRINIAR | B8: 1 | C8: STRINIC | D8: 1 | E8: CONTI | F8: 8 | G8: SILVESTRE | H8: 4 | I8: LIROLA | J8: 3 | K8: ALBIOL | L8: 8 | M8: RODRIGUEZ R | N8: 26 | O8: D'AMBROSIO | P8: 4 | Q8: WALLACE | R8: 1 | S8: BONUCCI | T8: 26 | W8: riconferma 2016/17
A9: MUSACCHIO | B9: 10 | C9: GHOULAM | D9: 20 | E9: ALEX SANDRO | F9: 30 | G9: TOLOI | H9: 6 | I9: CALDARA | J9: 19 | K9: CHIELLINI | L9: 12 | M9: LUCIONI | N9: 2 | O9: ROMAGNOLI A | P9: 6 | Q9: ACERBI | R9: 19 | S9: MANOLAS | T9: 16
A10: MASIELLO A | B10: 8 | C10: FAZIO | D10: 7 | E10: MIRANDA | F10: 15 | G10: LICHTSTEINER | H10: 10 | I10: FLORENZI | J10: 17 | K10: VENUTI | L10: 1 | M10: HYSAJ | N10: 10 | O10: HATEBOER | P10: 4 | Q10: KOLAROV | R10: 29 | S10: DE VRIJ | T10: 18
A11: ASTORI | B11: 8 | C11: DE SILVESTRI | D11: 6 | E11: VAN DER WIEL | F11: 5 | G11: DALBERT | H11: 12 | I11: VICARI | J11: 4 | K11: RUGANI | L11: 10 | M11: KARSDORP | N11: 4 | O11: CANCELO | P11: 7 | Q11: KOULIBALY | R11: 19 | S11: BRUNO PERES | T11: 6
A12: NUYTINCK | B12: 6 | C12: ANSALDI | D12: 3 | E12: GOSENS | F12: 4 | G12: CACERES | H12: 4 | I12: PEZZELLA GIU | J12: 1 | K12: CACCIATORE | L12: 1 | M12: N'KOULOU | N12: 13 | O12: ROMULO | P12: 9 | Q12: HOWEDES | R12: 10 | S12: MASINA | T12: 5
A13: GAMBERINI | B13: 1 | C13: DANILO | D13: 2 | E13: ASAMOAH | F13: 1 | G13: GASPAR | H13: 4 | I13: PALOMINO | J13: 1 | K13: BARRECA | L13: 5 | M13: ANTONELLI | N13: 1 | O13: BASTA | P13: 5 | Q13: HECTOR MORENO | R13: 1 | S13: FERRARI A | T13: 1
A14: BENATIA | B14: 4 | C14: MARIO RUI | D14: 1 | E14: EMERSON | F14: 1 | G14: ANDREOLLI | H14: 1 | I14: IZZO | J14: 1 | K14: PEZZELLA GER | L14: 6 | M14: WIDMER | N14: 6 | O14: DE SCIGLIO | P14: 1 | Q14: LETIZIA | R14: 1 | S14: SALA | T14: 1
A15: BARZAGLI | B15: 1 | C15: RADU | D15: 1 | E15: GOBBI | F15: 1 | G15: FELIPE | H15: 1 | I15: MATTIELLO | J15: 1 | K15: SAMIR | L15: 7 | M15: ROSSETTINI | N15: 3 | O15: CASTAGNE | P15: 1 | Q15: BASTOS | R15: 1 | S15: CANNAVARO | T15: 1
B16: =+SUM(B8:B15) -> 39 | D16: =+SUM(D8:D15) -> 41 | F16: =+SUM(F8:F15) -> 65 | H16: =+SUM(H8:H15) -> 42 | J16: =+SUM(J8:J15) -> 47 | L16: =+SUM(L8:L15) -> 50 | N16: =+SUM(N8:N15) -> 65 | P16: =+SUM(P8:P15) -> 37 | R16: =+SUM(R8:R15) -> 81 | T16: =+SUM(T8:T15) -> 74
A17: JANTKO | B17: 1 | C17: BONAVENTURA | D17: 1 | E17: BERTOLACCI | F17: 1 | G17: SPINAZZOLA | H17: 3 | I17: MILINKOVIC-SAVIC | J17: 45 | K17: FREULER | L17: 1 | M17: HAMSIK | N17: 70 | O17: ZIELINSKI | P17: 16 | Q17: TORREIRA | R17: 1 | S17: CALHANOGLU | T17: 54
A18: RAMIREZ | B18: 42 | C18: STROOTMAN | D18: 36 | E18: NAINGGOLAN | F18: 71 | G18: PERISIC | H18: 74 | I18: DUNCAN | J18: 6 | K18: PJANIC | L18: 51 | M18: BORJA VALERO | N18: 31 | O18: PEROTTI | P18: 67 | Q18: KREJCI | R18: 1 | S18: JOAO PEDRO | T18: 36
A19: CICIRETTI | B19: 13 | C19: SAPONARA | D19: 23 | E19: CHIESA | F19: 47 | G19: BIRSA | H19: 30 | I19: VECINO | J19: 38 | K19: ILICIC | L19: 16 | M19: KESSIE | N19: 50 | O19: JOAO MARIO | P19: 20 | Q19: CANDREVA | R19: 40 | S19: BESSA | T19: 12
A20: IONITA | B20: 1 | C20: DE PAUL | D20: 26 | E20: CASTRO | F20: 17 | G20: DOUGLAS COSTA | H20: 51 | I20: DIAWARA | J20: 3 | K20: LUIS ALBERTO | L20: 10 | M20: FOFANA | N20: 13 | O20: BERNARDESCHI | P20: 23 | Q20: IAGO FALQUE | R20: 42 | S20: PRAET | T20: 15
A21: VERETOUT | B21: 5 | C21: LAXALT | D21: 16 | E21: JORGINHO | F21: 18 | G21: LJAJIC | H21: 61 | I21: BARELLA | J21: 6 | K21: PAROLO | L21: 13 | M21: TAIDER | N21: 3 | O21: KHEDIRA | P21: 26 | Q21: MIGUEL VELOSO | R21: 1 | S21: F.ANDERSON | T21: 33
A22: DE ROSSI | B22: 2 | C22: PELLEGRINI | D22: 4 | E22: KURTIC | F22: 10 | G22: LAZOVIC | H22: 1 | I22: GAGLIARDINI | J22: 1 | K22: BIGLIA | L22: 16 | M22: D'ALESSANDRO | N22: 5 | O22: MATUIDI | P22: 30 | Q22: LULIC | R22: 15 | S22: EYSSERIC | T22: 9
A23: BASELLI | B23: 5 | C23: CRISTANTE | D23: 9 | E23: MARCHISIO | F23: 5 | G23: CIGARINI | H23: 1 | I23: BENTANCUR | J23: 1 | K23: BENASSI | L23: 5 | M23: ROG | N23: 1 | O23: CUADRADO | P23: 30 | Q23: MAGNANELLI | R23: 1 | S23: LUCAS LEIVA | T23: 3
A24: LAZZARI M | B24: 3 | C24: DE ROON | D24: 4 | E24: BROZOVIC | F24: 3 | G24: LINETTY | H24: 1 | I24: BADELJ | J24: 1 | K24: RINCON | L24: 1 | M24: UNDER | N24: 1 | O24: ALLAN | P24: 11 | Q24: SENSI | R24: 2 | S24: BERENGUER | T24: 3
B25: =+SUM(B17:B24) -> 72 | D25: =+SUM(D17:D24) -> 119 | F25: =+SUM(F17:F24) -> 172 | H25: =+SUM(H17:H24) -> 222 | J25: =+SUM(J17:J24) -> 101 | L25: =+SUM(L17:L24) -> 113 | N25: =+SUM(N17:N24) -> 174 | P25: =+SUM(P17:P24) -> 223 | R25: =+SUM(R17:R24) -> 103 | T25: =+SUM(T17:T24) -> 165
A26: FALCINELLI | B26: 13 | C26: DZEKO | D26: 186 | E26: BERARDI | F26: 71 | G26: PALOSCHI | H26: 4 | I26: FARIAS | J26: 6 | K26: CAPRARI | L26: 34 | M26: LAPADULA | N26: 8 | O26: CORNELIUS | P26: 4 | Q26: MERTENS | R26: 177 | S26: INSIGNE | T26: 40
A27: ICARDI | B27: 222 | C27: KALINIC | D27: 81 | E27: DI FRANCESCO | F27: 24 | G27: IMMOBILE | H27: 163 | I27: DYBALA | J27: 181 | K27: HIGUAIN | L27: 193 | M27: BELOTTI | N27: 188 | O27: MILIK | P27: 64 | Q27: CALLEJON | R27: 75 | S27: SUSO | T27: 66
A28: GOMEZ A | B28: 96 | C28: DEFREL | D28: 4 | E28: ZAPATA D | F28: 36 | G28: INGLESE | H28: 38 | I28: BORRIELLO | J28: 36 | K28: BORINI | L28: 7 | M28: DESTRO | N28: 50 | O28: MANDZUKIC | P28: 46 | Q28: PUSCAS | R28: 1 | S28: QUAGLIARELLA | T28: 45
A29: BUDIMIR | B29: 16 | C29: NANI | D29: 31 | E29: PAVOLETTI | F29: 67 | G29: MAXI LOPEZ | H29: 1 | I29: SIMEONE | J29: 52 | K29: NIANG | L29: 20 | M29: ARMENTEROS | N29: 2 | O29: ANDRE SILVA | P29: 49 | Q29: BAJIC | R29: 1 | S29: PETAGNA | T29: 38
A30: EDER | B30: 1 | C30: KEAN | D30: 2 | E30: LASAGNA | F30: 10 | G30: PERICA | H30: 5 | I30: PAZZINI | J30: 17 | K30: THEREAU | L30: 25 | M30: GALABINOV | N30: 1 | O30: CUTRONE | P30: 15 | Q30: PALACIO | R30: 3 | S30: POLITANO | T30: 15
A31: SAU | B31: 1 | C31: VERDE | D31: 1 | E31: IEMMELLO | F31: 2 | G31: CAICEDO | H31: 1 | I31: PJACA | J31: 13 | K31: SHICK | L31: 63 | M31: EL SHAARAWY | N31: 7 | O31: CENTURION | P31: 1 | Q31: PUCCIARELLI | R31: 1 | S31: VERDI | T31: 12
B32: =+SUM(B26:B31) -> 349 | D32: =+SUM(D26:D31) -> 305 | F32: =+SUM(F26:F31) -> 210 | H32: =+SUM(H26:H31) -> 212 | J32: =+SUM(J26:J31) -> 305 | L32: =+SUM(L26:L31) -> 342 | N32: =+SUM(N26:N31) -> 256 | P32: =+SUM(P26:P31) -> 179 | R32: =+SUM(R26:R31) -> 258 | T32: =+SUM(T26:T31) -> 216

Sheet RoseSerieB
A1: Nedved 11 | C1: AS Tronzi | E1: MaBraviiisimi FC | G1: Mojito Football Club | I1: Skiacciak Mosca | K1: FC Marcellona | M1: Bedbees | O1: A.C. Denti | Q1: SOLOPISA1909 | S1: Mai Na Gioia Sporting Club | W1: non confermabili 2017/18
A2: Crediti Iniz. | B2: 500 | C2: Crediti Iniz. | D2: 500 | E2: Crediti Iniz. | F2: 503 | G2: Crediti Iniz. | H2: 501 | I2: Crediti Iniz. | J2: 500 | K2: Crediti Iniz. | L2: 509 | M2: Crediti Iniz. | N2: 508 | O2: Crediti Iniz. | P2: 500 | Q2: Crediti Iniz. | R2: 516 | S2: Crediti Iniz. | T2: 514 | W2: nuovi acquisti 2016/17 - febbraio
A3: Crediti Rim. | B3: =+B2-B7-B16-B25-B32 -> 490 | C3: Crediti | D3: =+D2-D7-D16-D25-D32 -> 497 | E3: Crediti | F3: =+F2-F7-F16-F25-F32 -> 501 | G3: Crediti | H3: =+H2-H7-H16-H25-H32 -> 491 | I3: Crediti | J3: =+J2-J7-J16-J25-J32 -> 475 | K3: Crediti | L3: =+L2-L7-L16-L25-L32 -> 509 | M3: Crediti | N3: =+N2-N7-N16-N25-N32 -> 498 | O3: Crediti | P3: =+P2-P7-P16-P25-P32 -> 497 | Q3: Crediti | R3: =+R2-R7-R16-R25-R32 -> 509 | S3: Crediti | T3: =+T2-T7-T16-T25-T32 -> 510 | W3: nuovi acquisti 2016/17 - febbraio da scambio
W4: riconferma 2016/17
W5: riconferma 2016/17
W6: riconferma 2016/17
B7: =+SUM(B4:B6) -> 0 | D7: =+SUM(D4:D6) -> 0 | F7: =+SUM(F4:F6) -> 0 | H7: =+SUM(H4:H6) -> 0 | J7: =+SUM(J4:J6) -> 0 | L7: =+SUM(L4:L6) -> 0 | N7: =+SUM(N4:N6) -> 0 | P7: =+SUM(P4:P6) -> 0 | R7: =+SUM(R4:R6) -> 0 | T7: =+SUM(T4:T6) -> 0 | W7: riconferma 2016/17
A8: CALDARA | B8: 10 | G8: BARRECA | H8: 7 | M8: CONTI | N8: 2 | Q8: MASIELLO | R8: 6 | S8: TOLOI | T8: 1 | W8: riconferma 2016/17
B16: =+SUM(B8:B15) -> 10 | D16: =+SUM(D8:D15) -> 0 | F16: =+SUM(F8:F15) -> 0 | H16: =+SUM(H8:H15) -> 7 | J16: =+SUM(J8:J15) -> 0 | L16: =+SUM(L8:L15) -> 0 | N16: =+SUM(N8:N15) -> 2 | P16: =+SUM(P8:P15) -> 0 | R16: =+SUM(R8:R15) -> 6 | T16: =+SUM(T8:T15) -> 1
C17: CASTRO | D17: 1 | E17: DE ROSSI | F17: 2 | G17: VERDI | H17: 3 | M17: KESSIE | N17: 8 | Q17: FREULER | R17: 1 | S17: DE PAUL | T17: 3
B25: =+SUM(B17:B24) -> 0 | D25: =+SUM(D17:D24) -> 1 | F25: =+SUM(F17:F24) -> 2 | H25: =+SUM(H17:H24) -> 3 | J25: =+SUM(J17:J24) -> 0 | L25: =+SUM(L17:L24) -> 0 | N25: =+SUM(N17:N24) -> 8 | P25: =+SUM(P17:P24) -> 0 | R25: =+SUM(R17:R24) -> 1 | T25: =+SUM(T17:T24) -> 3
C26: CAPRARI | D26: 2 | I26: EL SHAARAWY | J26: 25 | O26: LAPADULA | P26: 3
B32: =+SUM(B26:B31) -> 0 | D32: =+SUM(D26:D31) -> 2 | F32: =+SUM(F26:F31) -> 0 | H32: =+SUM(H26:H31) -> 0 | J32: =+SUM(J26:J31) -> 25 | L32: =+SUM(L26:L31) -> 0 | N32: =+SUM(N26:N31) -> 0 | P32: =+SUM(P26:P31) -> 3 | R32: =+SUM(R26:R31) -> 0 | T32: =+SUM(T26:T31) -> 0

Sheet Serie B
A1: Posizione classifica | B1: Societa | C1: Crediti rimanenti | D1: Crediti Lega | E1: Crediti Scambi | K1: Crediti Svincoli1 | L1: Riparazione1 | M1: Crediti Svincoli2 | N1: Riparazione2 | O1: Totale | P1: 2017/18 | R1: Scambi
A3: 1 | B3: Nedved11 | C3: =RoseSerieB!B3 -> 490 | D3: 50 | K3: =SvincoliB!$B$15 -> 0 | L3: =SvincoliB!$B$29 -> 0 | M3: =SvincoliB!$B$45 -> 0 | N3: =SvincoliB!$B$59 -> 0 | O3: =C3+D3+E3+F3+G3+H3+I3+J3+K3-L3+M3-N3 -> 540 | P3: =ROUNDDOWN(O3/3,0) -> 180
A4: 2 | B4: AS Tronzi | C4: =RoseSerieB!D3 -> 497 | D4: 50 | K4: =SvincoliB!$D$15 -> 0 | L4: =SvincoliB!$D$29 -> 0 | M4: =SvincoliB!$D$45 -> 0 | N4: =SvincoliB!$D$59 -> 0 | O4: =C4+D4+E4+F4+G4+H4+I4+J4+K4-L4+M4-N4 -> 547 | P4: =ROUNDDOWN(O4/3,0) -> 182
A5: 3 | B5: Ma Braviiissimi FC | C5: =RoseSerieB!F3 -> 501 | D5: 50 | K5: =SvincoliB!$F$15 -> 0 | L5: =SvincoliB!$F$29 -> 0 | M5: =SvincoliB!$F$45 -> 0 | N5: =SvincoliB!$F$59 -> 0 | O5: =C5+D5+E5+F5+G5+H5+I5+J5+K5-L5+M5-N5 -> 551 | P5: =ROUNDDOWN(O5/3,0) -> 183
A6: 4 | B6: Mojito FC | C6: =RoseSerieB!H3 -> 491 | D6: 50 | K6: =SvincoliB!$H$15 -> 0 | L6: =SvincoliB!$H$29 -> 0 | M6: =SvincoliB!$H$45 -> 0 | N6: =SvincoliB!$H$59 -> 0 | O6: =C6+D6+E6+F6+G6+H6+I6+J6+K6-L6+M6-N6 -> 541 | P6: =ROUNDDOWN(O6/3,0) -> 180
A7: 5 | B7: Skiacciak Mosca | C7: =RoseSerieB!J3 -> 475 | D7: 50 | K7: =SvincoliB!$J$15 -> 0 | L7: =SvincoliB!$J$29 -> 0 | M7: =SvincoliB!$J$45 -> 0 | N7: =SvincoliB!$J$59 -> 0 | O7: =C7+D7+E7+F7+G7+H7+I7+J7+K7-L7+M7-N7 -> 525 | P7: =ROUNDDOWN(O7/3,0) -> 175
A8: 6 | B8: Marcellona | C8: =RoseSerieB!L3 -> 509 | D8: 50 | K8: =SvincoliB!$L$15 -> 0 | L8: =SvincoliB!$L$29 -> 0 | M8: =SvincoliB!$L$45 -> 0 | N8: =SvincoliB!$L$59 -> 0 | O8: =C8+D8+E8+F8+G8+H8+I8+J8+K8-L8+M8-N8 -> 559 | P8: =ROUNDDOWN(O8/3,0) -> 186
A9: 7 | B9: Badbees | C9: =RoseSerieB!N3 -> 498 | D9: 50 | K9: =SvincoliB!$N$15 -> 0 | L9: =SvincoliB!$N$29 -> 0 | M9: =SvincoliB!$N$45 -> 0 | N9: =SvincoliB!$N$59 -> 0 | O9: =C9+D9+E9+F9+G9+H9+I9+J9+K9-L9+M9-N9 -> 548 | P9: =ROUNDDOWN(O9/3,0) -> 182
A10: 8 | B10: AC Denti | C10: =RoseSerieB!P3 -> 497 | D10: 50 | K10: =SvincoliB!$P$15 -> 0 | L10: =SvincoliB!$P$29 -> 0 | M10: =SvincoliB!$P$45 -> 0 | N10: =SvincoliB!$P$59 -> 0 | O10: =C10+D10+E10+F10+G10+H10+I10+J10+K10-L10+M10-N10 -> 547 | P10: =ROUNDDOWN(O10/3,0) -> 182
A11: 9 | B11: SOLOPISA1909 | C11: =RoseSerieB!R3 -> 509 | D11: 50 | K11: =SvincoliB!$R$15 -> 0 | L11: =SvincoliB!$R$29 -> 0 | M11: =SvincoliB!$R$45 -> 0 | N11: =SvincoliB!$R$59 -> 0 | O11: =C11+D11+E11+F11+G11+H11+I11+J11+K11-L11+M11-N11 -> 559 | P11: =ROUNDDOWN(O11/3,0) -> 186
A12: 10 | B12: Mai Na Gioia Sporting Club | C12: =RoseSerieB!T3 -> 510 | D12: 50 | K12: =SvincoliB!$T$15 -> 0 | L12: =SvincoliB!$T$29 -> 0 | M12: =SvincoliB!$T$45 -> 0 | N12: =SvincoliB!$T$59 -> 0 | O12: =C12+D12+E12+F12+G12+H12+I12+J12+K12-L12+M12-N12 -> 560 | P12: =ROUNDDOWN(O12/3,0) -> 186

Sheet SvincoliB
A1: Nedved 11 | C1: AS Tronzi | E1: MaBraviiisimi FC | G1: Mojito Football Club | I1: Skiacciak Mosca | K1: FC Marcellona | M1: Bedbees | O1: A.C. Denti | Q1: SOLOPISA1909 | S1: Mai Na Gioia Sporting Club | U1: Cessioni | V1: 1 Sessione
A15: Cr.Svincoli | B15: =ROUNDDOWN(SUM(B2:B13)/2,0) -> 0 | C15: Cr.Svincoli | D15: =ROUNDDOWN(SUM(D2:D13)/2,0) -> 0 | E15: Cr.Svincoli | F15: =ROUNDDOWN(SUM(F2:F13)/2,0) -> 0 | G15: Cr.Svincoli | H15: =ROUNDDOWN(SUM(H2:H13)/2,0) -> 0 | I15: Cr.Svincoli | J15: =ROUNDDOWN(SUM(J2:J13)/2,0) -> 0 | K15: Cr.Svincoli | L15: =ROUNDDOWN(SUM(L2:L13)/2,0) -> 0 | M15: Cr.Svincoli | N15: =ROUNDDOWN(SUM(N2:N13)/2,0) -> 0 | O15: Cr.Svincoli | P15: =ROUNDDOWN(SUM(P2:P13)/2,0) -> 0 | Q15: Cr.Svincoli | R15: =ROUNDDOWN(SUM(R2:R13)/2,0) -> 0 | S15: Cr.Svincoli | T15: =ROUNDDOWN(SUM(T2:T13)/2,0) -> 0
U17: Acquisti
A29: Cr.Svincoli | B29: =SUM(B17:B28) -> 0 | C29: Cr.Svincoli | D29: =SUM(D17:D28) -> 0 | E29: Cr.Svincoli | F29: =SUM(F17:F28) -> 0 | G29: Cr.Svincoli | H29: =SUM(H17:H28) -> 0 | I29: Cr.Svincoli | J29: =SUM(J17:J28) -> 0 | K29: Cr.Svincoli | L29: =SUM(L17:L28) -> 0 | M29: Cr.Svincoli | N29: =SUM(N17:N28) -> 0 | O29: Cr.Svincoli | P29: =SUM(P17:P28) -> 0 | Q29: Cr.Svincoli | R29: =SUM(R17:R28) -> 0 | S29: Cr.Svincoli | T29: =SUM(T17:T28) -> 0
B30: ='Serie B'!O3 -> 540 | D30: ='Serie B'!O4 -> 547 | F30: ='Serie B'!O5 -> 551 | H30: ='Serie B'!O6 -> 541 | J30: ='Serie B'!O7 -> 525 | L30: ='Serie B'!O8 -> 559 | N30: ='Serie B'!O9 -> 548 | P30: ='Serie B'!O10 -> 547 | R30: ='Serie B'!O11 -> 559 | T30: ='Serie B'!O12 -> 560 | U30: Parziali Live
U31: Cessioni | V31: 2 Sessione
A45: Cr.Svincoli | B45: =ROUNDDOWN(SUM(B32:B43)/2,0) -> 0 | C45: Cr.Svincoli | D45: =ROUNDDOWN(SUM(D32:D43)/2,0) -> 0 | E45: Cr.Svincoli | F45: =ROUNDDOWN(SUM(F32:F43)/2,0) -> 0 | G45: Cr.Svincoli | H45: =ROUNDDOWN(SUM(H32:H43)/2,0) -> 0 | I45: Cr.Svincoli | J45: =ROUNDDOWN(SUM(J32:J43)/2,0) -> 0 | K45: Cr.Svincoli | L45: =ROUNDDOWN(SUM(L32:L43)/2,0) -> 0 | M45: Cr.Svincoli | N45: =ROUNDDOWN(SUM(N32:N43)/2,0) -> 0 | O45: Cr.Svincoli | P45: =ROUNDDOWN(SUM(P32:P43)/2,0) -> 0 | Q45: Cr.Svincoli | R45: =ROUNDDOWN(SUM(R32:R43)/2,0) -> 0 | S45: Cr.Svincoli | T45: =ROUNDDOWN(SUM(T32:T43)/2,0) -> 0
U47: Acquisti
A59: Cr.Svincoli | B59: =SUM(B47:B58) -> 0 | C59: Cr.Svincoli | D59: =SUM(D47:D58) -> 0 | E59: Cr.Svincoli | F59: =SUM(F47:F58) -> 0 | G59: Cr.Svincoli | H59: =SUM(H47:H58) -> 0 | I59: Cr.Svincoli | J59: =SUM(J47:J58) -> 0 | K59: Cr.Svincoli | L59: =SUM(L47:L58) -> 0 | M59: Cr.Svincoli | N59: =SUM(N47:N58) -> 0 | O59: Cr.Svincoli | P59: =SUM(P47:P58) -> 0 | Q59: Cr.Svincoli | R59: =SUM(R47:R58) -> 0 | S59: Cr.Svincoli | T59: =SUM(T47:T58) -> 0
B60: =B30+B45-B59 -> 540 | D60: =D30+D45-D59 -> 547 | F60: =F30+F45-F59 -> 551 | H60: =H30+H45-H59 -> 541 | J60: =J30+J45-J59 -> 525 | L60: =L30+L45-L59 -> 559 | N60: =N30+N45-N59 -> 548 | P60: =P30+P45-P59 -> 547 | R60: =R30+R45-R59 -> 559 | T60: =T30+T45-T59 -> 560 | U60: Parziali Live

Sheet RoseMercB
A1: Nedved 11 | C1: AS Tronzi | E1: MaBraviiisimi FC | G1: Mojito Football Club | I1: Skiacciak Mosca | K1: FC Marcellona | M1: Bedbees | O1: A.C. Denti | Q1: SOLOPISA1909 | S1: Mai Na Gioia Sporting Club | W1: non confermabili 2017/18
A2: Crediti Iniz. | C2: Crediti Iniz. | E2: Crediti Iniz. | G2: Crediti Iniz. | I2: Crediti Iniz. | K2: Crediti Iniz. | M2: Crediti Iniz. | O2: Crediti Iniz. | Q2: Crediti Iniz. | S2: Crediti Iniz. | W2: nuovi acquisti 2016/17 - febbraio
A3: Crediti Rim. | B3: 4 | C3: Crediti | D3: 1 | E3: Crediti | F3: 0 | G3: Crediti | H3: 5 | I3: Crediti | J3: 7 | K3: Crediti | L3: 32 | M3: Crediti | N3: 5 | O3: Crediti | P3: 20 | Q3: Crediti | R3: 6 | S3: Crediti | T3: 24 | W3: nuovi acquisti 2016/17 - febbraio da scambio
W4: riconferma 2016/17
W5: riconferma 2016/17
W6: riconferma 2016/17
B7: =+SUM(B4:B6) -> 0 | D7: =+SUM(D4:D6) -> 0 | F7: =+SUM(F4:F6) -> 0 | H7: =+SUM(H4:H6) -> 0 | J7: =+SUM(J4:J6) -> 0 | L7: =+SUM(L4:L6) -> 0 | N7: =+SUM(N4:N6) -> 0 | P7: =+SUM(P4:P6) -> 0 | R7: =+SUM(R4:R6) -> 0 | T7: =+SUM(T4:T6) -> 0 | W7: riconferma 2016/17
W8: riconferma 2016/17
B16: =+SUM(B8:B15) -> 0 | D16: =+SUM(D8:D15) -> 0 | F16: =+SUM(F8:F15) -> 0 | H16: =+SUM(H8:H15) -> 0 | J16: =+SUM(J8:J15) -> 0 | L16: =+SUM(L8:L15) -> 0 | N16: =+SUM(N8:N15) -> 0 | P16: =+SUM(P8:P15) -> 0 | R16: =+SUM(R8:R15) -> 0 | T16: =+SUM(T8:T15) -> 0
B25: =+SUM(B17:B24) -> 0 | D25: =+SUM(D17:D24) -> 0 | F25: =+SUM(F17:F24) -> 0 | H25: =+SUM(H17:H24) -> 0 | J25: =+SUM(J17:J24) -> 0 | L25: =+SUM(L17:L24) -> 0 | N25: =+SUM(N17:N24)+20 -> 20 | P25: =+SUM(P17:P24) -> 0 | R25: =+SUM(R17:R24) -> 0 | T25: =+SUM(T17:T24) -> 0
B32: =+SUM(B26:B31) -> 0 | D32: =+SUM(D26:D31) -> 0 | F32: =+SUM(F26:F31) -> 0 | H32: =+SUM(H26:H31) -> 0 | J32: =+SUM(J26:J31) -> 0 | L32: =+SUM(L26:L31) -> 0 | N32: =+SUM(N26:N31) -> 0 | P32: =+SUM(P26:P31) -> 0 | R32: =+SUM(R26:R31) -> 0 | T32: =+SUM(T26:T31) -> 0

Sheet RoseSerieLP
A1: C.S. Riposa | C1: A.C. Numb3rs | E1: Bayern Bikers | G1: Team As Turbo | I1: SS Longobarda | K1: UnaJunglaCazo FC | M1: Brigata Gurren | O1: Ibradiposi | Q1: Drakeset | S1: Lucense FC | W1: non confermabili 2017/18
A2: Crediti Iniz. | B2: 518 | C2: Crediti Iniz. | D2: 507 | E2: Crediti Iniz. | F2: 500 | G2: Crediti Iniz. | H2: 521 | I2: Crediti Iniz. | J2: 500 | K2: Crediti Iniz. | L2: 521 | M2: Crediti Iniz. | N2: 503 | O2: Crediti Iniz. | P2: 532 | Q2: Crediti Iniz. | R2: 510 | S2: Crediti Iniz. | T2: 506 | W2: nuovi acquisti 2016/17 - febbraio
A3: Crediti Rim. | B3: =+B2-B7-B16-B25-B32 -> 9 | C3: Crediti | D3: =+D2-D7-D16-D25-D32 -> 4 | E3: Crediti | F3: =+F2-F7-F16-F25-F32 -> 1 | G3: Crediti | H3: =+H2-H7-H16-H25-H32 -> 13 | I3: Crediti | J3: =+J2-J7-J16-J25-J32 -> 40 | K3: Crediti | L3: =+L2-L7-L16-L25-L32 -> 5 | M3: Crediti | N3: =+N2-N7-N16-N25-N32 -> 7 | O3: Crediti | P3: =+P2-P7-P16-P25-P32 -> 0 | Q3: Crediti | R3: =+R2-R7-R16-R25-R32 -> 97 | S3: Crediti | T3: =+T2-T7-T16-T25-T32 -> 23 | W3: nuovi acquisti 2016/17 - febbraio da scambio
A4: BUFFON | B4: 49 | C4: DONNARUMMA G | D4: 50 | E4: ALLISON | F4: 1 | G4: SIRIGU | H4: 19 | I4: PERIN | J4: 1 | K4: STRAKOSHA | L4: 15 | M4: CRAGNO | N4: 6 | O4: HANDANOVIC | P4: 50 | Q4: CONSIGLI | R4: 3 | S4: REINA | T4: 41 | W4: riconferma 2016/17
A5: PINSOGLIO | B5: 1 | C5: STORARI | D5: 1 | E5: SKORUPSKI | F5: 1 | G5: BERISHA | H5: 12 | I5: VIVIANO | J5: 3 | K5: MARCHETTI | L5: 1 | M5: SORRENTINO | N5: 9 | O5: PADELLI | P5: 1 | Q5: PUGGIONI | R5: 1 | S5: SEPE | T5: 1 | W5: riconferma 2016/17
A6: SZCZESNY | B6: 7 | C6: DONNARUMMA A | D6: 1 | E6: CORDAZ | F6: 1 | G6: NICOLAS | H6: 1 | I6: SCUFFET | J6: 1 | K6: MIRANTE | L6: 3 | M6: SPORTIELLO | N6: 6 | O6: BERNI | P6: 1 | Q6: PEGOLO | R6: 1 | S6: RAFAEL CABRAL | T6: 1 | W6: riconferma 2016/17
B7: =+SUM(B4:B6) -> 57 | D7: =+SUM(D4:D6) -> 52 | F7: =+SUM(F4:F6) -> 3 | H7: =+SUM(H4:H6) -> 32 | J7: =+SUM(J4:J6) -> 5 | L7: =+SUM(L4:L6) -> 19 | N7: =+SUM(N4:N6) -> 21 | P7: =+SUM(P4:P6) -> 52 | R7: =+SUM(R4:R6) -> 5 | T7: =+SUM(T4:T6)+1 -> 44 | W7: riconferma 2016/17
A8: ROMAGNOLI A | B8: 9 | C8: RUGANI | D8: 1 | E8: LICHSTEINER | F8: 2 | G8: CALDARA | H8: 11 | I8: BASTA | J8: 4 | K8: GOBBI | L8: 3 | M8: MASIELLO | N8: 7 | O8: CONTI | P8: 1 | Q8: D'AMBROSIO | R8: 3 | S8: FERRARI | T8: 2 | W8: riconferma 2016/17
A9: KOULIBALY | B9: 17 | C9: BONUCCI | D9: 25 | E9: VENUTI | F9: 2 | G9: KOLAROV | H9: 18 | I9: MASINA | J9: 5 | K9: BARRECA | L9: 7 | M9: DE MAIO | N9: 5 | O9: MANOLAS | P9: 11 | Q9: ALEX SANDRO | R9: 26 | S9: CHIELLINI | T9: 11
A10: ASTORI | B10: 9 | C10: RODRIGUEZ R | D10: 20 | E10: IZZO | F10: 4 | G10: HATEBOER | H10: 3 | I10: COSTA | J10: 5 | K10: LUCIONI | L10: 4 | M10: ROMULO | N10: 9 | O10: MIRANDA | P10: 6 | Q10: HYSAJ | R10: 6 | S10: SILVESTRE | T10: 8
A11: MUSACCHIO | B11: 15 | C11: GHOULAM | D11: 9 | E11: SAMIR | F11: 4 | G11: FLORENZI | H11: 9 | I11: ANDREOLLI | J11: 2 | K11: BIRAGHI | L11: 3 | M11: NUYTINCK | N11: 3 | O11: DANILO | P11: 3 | Q11: LAZAAR | R11: 1 | S11: DE VRIJ | T11: 10
A12: BRUNO PERES | B12: 7 | C12: LUKAKU | D12: 1 | E12: ALBIOL | F12: 6 | G12: MORETTI | H12: 1 | I12: LIROLA | J12: 4 | K12: CACCIATORE | L12: 4 | M12: BARZAGLI | N12: 6 | O12: PEZZELLA GER | P12: 2 | Q12: STRINIC | R12: 1 | S12: ACERBI | T12: 10
A13: TOMOVIC | B13: 1 | C13: MARIO RUI | D13: 1 | E13: FAZIO | F13: 10 | G13: BENATIA | H13: 4 | I13: GAZZOLA | J13: 1 | K13: MARTELLA | L13: 1 | M13: SKRINIAR | N13: 7 | O13: TOLOI | P13: 5 | Q13: GENTILETTI | R13: 1 | S13: CANCELO | T13: 1
A14: KRAFTH | B14: 1 | C14: MIANGUE | D14: 1 | E14: HOWEDES | F14: 6 | G14: KARSDORP | H14: 3 | I14: VICARI | J14: 1 | K14: CACERES | L14: 1 | M14: PISACANE | N14: 2 | O14: REGINI | P14: 2 | Q14: MURRU | R14: 1 | S14: DE SILVESTRI | T14: 2
A15: CANNAVARO | B15: 1 | C15: WALLACE | D15: 1 | E15: DALBERT | F15: 3 | G15: SALA | H15: 1 | I15: WIDMER | J15: 1 | K15: PELUSO | L15: 1 | M15: ROSSETTINI | N15: 4 | O15: N'KOULOU | P15: 3 | Q15: JUAN JESUS | R15: 1 | S15: ANSALDI | T15: 1
B16: =+SUM(B8:B15) -> 60 | D16: =+SUM(D8:D15) -> 59 | F16: =+SUM(F8:F15) -> 37 | H16: =+SUM(H8:H15) -> 50 | J16: =+SUM(J8:J15) -> 23 | L16: =+SUM(L8:L15) -> 24 | N16: =+SUM(N8:N15) -> 43 | P16: =+SUM(P8:P15) -> 33 | R16: =+SUM(R8:R15) -> 40 | T16: =+SUM(T8:T15) -> 45
A17: MILINKOVIC-SAVIC V | B17: 53 | C17: CALHANOGLU | D17: 60 | E17: BROZOVIC | F17: 1 | G17: LJAJIC | H17: 39 | I17: JOAO PEDRO | J17: 11 | K17: GAGLIARDINI | L17: 4 | M17: HAMSIK | N17: 20 | O17: KESSIE | P17: 7 | Q17: BASELLI | R17: 20 | S17: ZIELINSKI | T17: 10
A18: NAINGGOLAN | B18: 66 | C18: FELIPE ANDERSON | D18: 30 | E18: CANDREVA | F18: 40 | G18: ILICIC | H18: 25 | I18: BARELLA | J18: 9 | K18: BERNARDESCHI | L18: 16 | M18: CRISTANTE | N18: 11 | O18: FOFANA | P18: 6 | Q18: LAXALT | R18: 5 | S18: PERISIC | T18: 68
A19: PJANIC | B19: 60 | C19: TORREIRA | D19: 4 | E19: DOUGLAS COSTA | F19: 46 | G19: DE ROSSI | H19: 3 | I19: CHIESA | J19: 45 | K19: PEROTTI | L19: 65 | M19: VECINO | N19: 28 | O19: MANDRAGORA | P19: 1 | Q19: BERTOLACCI | R19: 13 | S19: BONAVENTURA | T19: 40
A20: FREULER | B20: 4 | C20: BESSA | D20: 3 | E20: BORJA VALERO | F20: 37 | G20: PRAET | H20: 1 | I20: IAGO FALQUE | J20: 48 | K20: STROOTMAN | L20: 32 | M20: RAMIREZ | N20: 32 | O20: BADELJ | P20: 7 | Q20: DE PAUL | R20: 5 | S20: KHEDIRA | T20: 9
A21: BIGLIA | B21: 20 | C21: EYSSERIC | D21: 1 | E21: JORGINHO | F21: 8 | G21: ALLAN | H21: 5 | I21: BIRSA | J21: 30 | K21: LULIC | L21: 10 | M21: MIGUEL VELOSO | N21: 9 | O21: PAROLO | P21: 9 | Q21: JOAO MARIO | R21: 8 | S21: KREJCI | T21: 2
A22: MATUIDI | B22: 13 | C22: NALINI | D22: 1 | E22: DIAWARA | F22: 9 | G22: BENASSI | H22: 3 | I22: BERENGUER | J22: 3 | K22: CICIRETTI | L22: 11 | M22: CASTRO | N22: 13 | O22: IONITA | P22: 3 | Q22: KURTIC | R22: 5 | S22: SENSI | T22: 1
A23: CUADRADO | B23: 21 | C23: ROG | D23: 1 | E23: SPINAZZOLA | F23: 2 | G23: LUIS ALBERTO | H23: 1 | I23: JANKTO | J23: 9 | K23: MORA | L23: 1 | M23: D'ALESSANDRO | N23: 4 | O23: LAZZARI M | P23: 6 | Q23: DUNCAN | R23: 4 | S23: MISSIROLI | T23: 1
A24: CATALDI | B24: 1 | C24: BARBERIS | D24: 1 | E24: MONTOLIVO | F24: 1 | G24: DE ROON | H24: 1 | I24: LAZOVIC | J24: 1 | K24: LUCAS LEIVA | L24: 1 | M24: VIVIANI | N24: 4 | O24: SAPONARA | P24: 8 | Q24: TAIDER | R24: 1 | S24: CIGARINI | T24: 1
B25: =+SUM(B17:B24) -> 238 | D25: =+SUM(D17:D24) -> 101 | F25: =+SUM(F17:F24) -> 144 | H25: =+SUM(H17:H24) -> 78 | J25: =+SUM(J17:J24) -> 156 | L25: =+SUM(L17:L24) -> 140 | N25: =+SUM(N17:N24) -> 121 | P25: =+SUM(P17:P24) -> 47 | R25: =+SUM(R17:R24) -> 61 | T25: =+SUM(T17:T24) -> 132
A26: SUSO | B26: 115 | C26: DI FRANCESCO | D26: 1 | E26: DZEKO | F26: 159 | G26: VERDI | H26: 5 | I26: TROTTA | J26: 1 | K26: INGLESE | L26: 18 | M26: FALCINELLI | N26: 17 | O26: INSIGNE | P26: 25 | Q26: PJACA | R26: 12 | S26: BELOTTI | T26: 216
A27: ARMENTEROS | B27: 1 | C27: HIGUAIN | D27: 210 | E27: KALINIC | F27: 66 | G27: DYBALA | H27: 216 | I27: MERTENS | J27: 205 | K27: IMMOBILE | L27: 159 | M27: GOMEZ A | N27: 82 | O27: ICARDI | P27: 271 | Q27: MILIK | R27: 61 | S27: LAPADULA | T27: 36
A28: DESTRO | B28: 25 | C28: ANDRE' SILVA | D28: 42 | E28: MANDZUKIC | F28: 51 | G28: PAVOLETTI | H28: 81 | I28: LASAGNA | J28: 39 | K28: BORRIELLO | L28: 85 | M28: SIMEONE | N28: 90 | O28: FARIAS | P28: 20 | Q28: CUTRONE | R28: 40 | S28: MAXI LOPEZ | T28: 5
A29: GALABINOV | B29: 5 | C29: DEFREL | D29: 15 | E29: NIANG | F29: 33 | G29: PETAGNA | H29: 36 | I29: POLITANO | J29: 21 | K29: PAZZINI | L29: 20 | M29: CALLEJON | N29: 120 | O29: QUAGLIARELLA | P29: 82 | Q29: SCHICK | R29: 82 | S29: VERDE | T29: 3
A30: CORNELIUS | B30: 1 | C30: EL SHAARAWY | D30: 7 | E30: PALOSCHI | F30: 1 | G30: CAPRARI | H30: 9 | I30: PUCCIARELLI | J30: 7 | K30: ZAPATA D | L30: 42 | M30: CODA M | N30: 1 | O30: PANDEV | P30: 1 | Q30: BERARDI | R30: 81 | S30: BUDIMIR | T30: 1
A31: BORINI | B31: 7 | C31: NANI | D31: 16 | E31: PERICA | F31: 5 | G31: OUNAS | H31: 1 | I31: CERCI | J31: 3 | K31: IEMMELLO | L31: 9 | M31: KARAMOH | N31: 1 | O31: PELLISSIER | P31: 1 | Q31: THEREAU | R31: 31 | S31: BABACAR | T31: 1
B32: =+SUM(B26:B31) -> 154 | D32: =+SUM(D26:D31) -> 291 | F32: =+SUM(F26:F31) -> 315 | H32: =+SUM(H26:H31) -> 348 | J32: =+SUM(J26:J31) -> 276 | L32: =+SUM(L26:L31) -> 333 | N32: =+SUM(N26:N31) -> 311 | P32: =+SUM(P26:P31) -> 400 | R32: =+SUM(R26:R31) -> 307 | T32: =+SUM(T26:T31) -> 262

Sheet RoseSerieD
A1: GUAMESE DOC | C1: REAL CHUPITO | E1: UGF PISA | G1: TRANSPORTER UNITED | I1: CSKA SCINA | K1: SCARSENAL | M1: VIRGYTEAM | O1: FC CICCIOBUCCIO | Q1: SAMBUCA JUNIORS | S1: REAL PETARE | W1: non confermabili 2017/18
A2: Crediti Iniz. | B2: 565 | C2: Crediti Iniz. | D2: 511 | E2: Crediti Iniz. | F2: 500 | G2: Crediti Iniz. | H2: 509 | I2: Crediti Iniz. | J2: 509 | K2: Crediti Iniz. | L2: 502 | M2: Crediti Iniz. | N2: 500 | O2: Crediti Iniz. | P2: 500 | Q2: Crediti Iniz. | R2: 500 | S2: Crediti Iniz. | T2: 500 | W2: nuovi acquisti 2016/17 - febbraio
A3: Crediti Rim. | B3: =+B2-B7-B16-B25-B32 -> 50 | C3: Crediti | D3: =+D2-D7-D16-D25-D32 -> 4 | E3: Crediti | F3: =+F2-F7-F16-F25-F32 -> 20 | G3: Crediti | H3: =+H2-H7-H16-H25-H32 -> 3 | I3: Crediti | J3: =+J2-J7-J16-J25-J32 -> 12 | K3: Crediti | L3: =+L2-L7-L16-L25-L32 -> 36 | M3: Crediti | N3: =+N2-N7-N16-N25-N32 -> 8 | O3: Crediti | P3: =+P2-P7-P16-P25-P32 -> 6 | Q3: Crediti | R3: =+R2-R7-R16-R25-R32 -> 14 | S3: Crediti | T3: =+T2-T7-T16-T25-T32 -> 20 | W3: nuovi acquisti 2016/17 - febbraio da scambio
A4: SZCZESNY | B4: 10 | C4: STRAKOSHA | D4: 1 | E4: BERISHA | F4: 1 | G4: SEPE | H4: 1 | I4: BUFFON | J4: 55 | K4: REINA | L4: 38 | M4: ALLISON | N4: 38 | O4: HANDANOVIC | P4: 49 | Q4: SIRIGU | R4: 35 | S4: DONNARUMMA G. | T4: 60 | W4: riconferma 2016/17
A5: PERIN | B5: 23 | C5: MARCHETTI | D5: 1 | E5: MIRANTE | F5: 3 | G5: NICOLAS | H5: 5 | I5: SORRENTINO | J5: 6 | K5: SPORTIELLO | L5: 6 | M5: SKORUPSKI | N5: 7 | O5: CONSIGLI | P5: 24 | Q5: MERET | R5: 3 | S5: STORARI | T5: 1 | W5: riconferma 2016/17
A6: SCUFFET | B6: 11 | C6: VARGIC | D6: 1 | E6: GOLLINI | F6: 1 | G6: SILVESTRI | H6: 1 | I6: BELEC | J6: 1 | K6: DRAGOWSKI | L6: 1 | M6: PUGGIONI | N6: 1 | O6: VIVIANO | P6: 10 | Q6: CRAGNO | R6: 3 | S6: CORDAZ | T6: 3 | W6: riconferma 2016/17
B7: =+SUM(B4:B6) -> 44 | D7: =+SUM(D4:D6) -> 3 | F7: =+SUM(F4:F6) -> 5 | H7: =+SUM(H4:H6) -> 7 | J7: =+SUM(J4:J6) -> 62 | L7: =+SUM(L4:L6) -> 45 | N7: =+SUM(N4:N6) -> 46 | P7: =+SUM(P4:P6) -> 83 | R7: =+SUM(R4:R6) -> 41 | T7: =+SUM(T4:T6) -> 64 | W7: riconferma 2016/17
A8: ROSSETTINI | B8: 4 | C8: ASTORI | D8: 5 | E8: BENATIA | F8: 1 | G8: TOLOI | H8: 1 | I8: RUGANI | J8: 10 | K8: FAZIO | L8: 1 | M8: CONTI | N8: 28 | O8: COSTA F. | P8: 2 | Q8: LIROLA | R8: 5 | S8: VICARI | T8: 4 | W8: riconferma 2016/17
A9: BONIFAZI | B9: 1 | C9: GHOULAM | D9: 20 | E9: D'AMBROSIO | F9: 6 | G9: CANNAVARO | H9: 2 | I9: MASIELLO | J9: 10 | K9: PEZZELLA GE. | L9: 6 | M9: CALDARA | N9: 15 | O9: ACERBI | P9: 20 | Q9: CACERES | R9: 5 | S9: ROMULO | T9: 11
A10: MANOLAS | B10: 22 | C10: ROMAGNOLI | D10: 7 | E10: FLORENZI | F10: 12 | G10: EMERSON | H10: 2 | I10: REGINI | J10: 3 | K10: JUAN JESUS | L10: 1 | M10: MIRANDA | N10: 19 | O10: BONUCCI | P10: 38 | Q10: DALBERT | R10: 13 | S10: KOULIBALY | T10: 30
A11: ALEX SANDRO | B11: 31 | C11: WIDMER | D11: 5 | E11: CACCIATORE | F11: 4 | G11: OIKONOMOU | H11: 1 | I11: DE VRIJ | J11: 15 | K11: LICHSTEINER | L11: 3 | M11: CHIELLINI | N11: 13 | O11: N'KOULOU | P11: 18 | Q11: ZUKANOVIC | R11: 3 | S11: SILVESTRE | T11: 8
A12: HOWEDES | B12: 10 | C12: IZZO | D12: 1 | E12: MORETTI | F12: 3 | G12: BRUNO PERES | H12: 1 | I12: FERRARI G. | J12: 3 | K12: VICTOR HUGO | L12: 1 | M12: KOLAROV | N12: 19 | O12: FELIPE | P12: 2 | Q12: HYSAJ | R12: 4 | S12: HATEBOER | T12: 1
A13: SKRINIAR | B13: 18 | C13: SAMIR | D13: 1 | E13: MARTELLA | F13: 2 | G13: GOLDANIGA | H13: 1 | I13: LETIZIA | J13: 5 | K13: GAMBERINI | L13: 1 | M13: ALBIOL | N13: 5 | O13: BASTA | P13: 5 | Q13: SUPRAYEN | R13: 4 | S13: BARRECA | T13: 5
A14: DE SCIGLIO | B14: 1 | C14: RADU | D14: 3 | E14: DE SILVESTRI | F14: 3 | G14: KARSDORP | H14: 1 | I14: BARZAGLI | J14: 5 | K14: ANDREOLLI | L14: 1 | M14: STRINIC | N14: 3 | O14: RODRIGUEZ | P14: 18 | Q14: DANILO | R14: 3 | S14: LUCIONI | T14: 5
A15: CANCELO | B15: 10 | C15: ANSALDI | D15: 1 | E15: LAZAAR | F15: 1 | G15: WALLACE | H15: 2 | I15: DE MAIO | J15: 1 | K15: BIRASCHI | L15: 1 | M15: VAN DER WIEL | N15: 3 | O15: MUSACCHIO | P15: 5 | Q15: MASINA | R15: 1 | S15: SALA | T15: 1
B16: =+SUM(B8:B15) -> 97 | D16: =+SUM(D8:D15)+2 -> 45 | F16: =+SUM(F8:F15) -> 32 | H16: =+SUM(H8:H15) -> 11 | J16: =+SUM(J8:J15) -> 52 | L16: =+SUM(L8:L15) -> 15 | N16: =+SUM(N8:N15) -> 105 | P16: =+SUM(P8:P15) -> 108 | R16: =+SUM(R8:R15) -> 38 | T16: =+SUM(T8:T15) -> 65
A17: STROOTMAN | B17: 30 | C17: BERTOLACCI | D17: 1 | E17: BONAVENTURA | F17: 1 | G17: F. ANDERSON | H17: 18 | I17: LJAJIC | J17: 10 | K17: DE ROSSI | L17: 1 | M17: NAINGOLLAN | N17: 56 | O17: COSTA DOUGLAS | P17: 33 | Q17: CALHANOGLU | R17: 15 | S17: PJANIC | T17: 35
A18: CUADRADO | B18: 16 | C18: KESSIE | D18: 46 | E18: PERISIC | F18: 55 | G18: SAPONARA | H18: 5 | I18: HAMSIK | J18: 50 | K18: JOAO PEDRO | L18: 17 | M18: BORJA VALERO | N18: 25 | O18: LAZZARI | P18: 16 | Q18: BENTACOUR | R18: 2 | S18: BIRSA | T18: 11
A19: GONALONS | B19: 3 | C19: KHEDIRA | D19: 17 | E19: MILINKOVIC-SAVIC | F19: 40 | G19: BERNARDESCHI | H19: 4 | I19: BESSA | J19: 6 | K19: CANDREVA | L19: 20 | M19: FOFANA | N19: 12 | O19: CICIRETTI | P19: 16 | Q19: CHIESA | R19: 40 | S19: ILICIC | T19: 15
A20: JOAO MARIO | B20: 16 | C20: TAIDER | D20: 5 | E20: RINCON | F20: 4 | G20: ROHDEN | H20: 1 | I20: PEROTTI | J20: 56 | K20: EYSSERIC | L20: 12 | M20: DE ROON | N20: 7 | O20: CASTRO | P20: 13 | Q20: LUIS ALBERTO | R20: 5 | S20: VECINO | T20: 11
A21: TORREIRA | B21: 8 | C21: LAXALT | D21: 9 | E21: BROZOVIC | F21: 3 | G21: LEIVA | H21: 7 | I21: RAMIREZ | J21: 28 | K21: MONTOLIVO | L21: 1 | M21: MANDRAGORA | N21: 1 | O21: DE PAUL | P21: 12 | Q21: FREULER | R21: 10 | S21: LULIC | T21: 6
A22: JORGINHO | B22: 22 | C22: BASELLI | D22: 2 | E22: BENASSI | F22: 1 | G22: IONITA | H22: 2 | I22: D'ALESSANDRO | J22: 7 | K22: ZIELINSKI | L22: 15 | M22: CRISTANTE | N22: 3 | O22: IAGO | P22: 28 | Q22: MATUIDI | R22: 13 | S22: RIZZO | T22: 1
A23: KREJCI | B23: 1 | C23: POLI | D23: 1 | E23: KURTIC | F23: 1 | G23: VERETOUT | H23: 2 | I23: DUNCAN | J23: 1 | K23: GAGLIARDINI | L23: 1 | M23: PAROLO | N23: 15 | O23: JANKTO | P23: 21 | Q23: VIVIANI | R23: 6 | S23: PADOIN | T23: 1
A24: PRAET | B24: 12 | C24: ALLAN | D24: 1 | E24: BARELLA | F24: 1 | G24: MARCHISIO | H24: 1 | I24: BIGLIA | J24: 7 | K24: HALLFREDSSON | L24: 1 | M24: BERENGUER | N24: 10 | O24: MIGUEL VELOSO | P24: 2 | Q24: SPINAZZOLA | R24: 3 | S24: OBI | T24: 1
B25: =+SUM(B17:B24) -> 108 | D25: =+SUM(D17:D24) -> 82 | F25: =+SUM(F17:F24) -> 106 | H25: =+SUM(H17:H24) -> 40 | J25: =+SUM(J17:J24) -> 165 | L25: =+SUM(L17:L24) -> 68 | N25: =+SUM(N17:N24) -> 129 | P25: =+SUM(P17:P24) -> 141 | R25: =+SUM(R17:R24) -> 94 | T25: =+SUM(T17:T24) -> 81
A26: ORSOLINI | B26: 3 | C26: HIGUAIN | D26: 250 | E26: INSIGNE | F26: 121 | G26: ICARDI | H26: 265 | I26: MERTENS | J26: 125 | K26: FARIAS | L26: 5 | M26: IMMOBILE | N26: 170 | O26: GOMEZ | P26: 53 | Q26: BORRIELLO | R26: 36 | S26: BELOTTI | T26: 165
A27: CALLEJON | B27: 75 | C27: PAVOLETTI | D27: 70 | E27: QUAGLIARELLA | F27: 60 | G27: ANDRE SILVA | H27: 71 | I27: LAPADULA | J27: 25 | K27: DZEKO | L27: 190 | M27: BUDIMIR | N27: 18 | O27: PETAGNA | P27: 23 | Q27: DYBALA | R27: 170 | S27: BERARDI | T27: 35
A28: SHICK | B28: 100 | C28: CUTRONE | D28: 40 | E28: SIMEONE | F28: 61 | G28: KALINIC | H28: 60 | I28: PAZZINI | J28: 25 | K28: FALCINELLI | L28: 51 | M28: SAU | N28: 7 | O28: INGLESE | P28: 53 | Q28: DI FRANCESCO | R28: 26 | S28: THEREAU | T28: 16
A29: NANI | B29: 26 | C29: MAXI | D29: 1 | E29: SUSO | F29: 64 | G29: CERCI | H29: 18 | I29: GALABINOV | J29: 12 | K29: DESTRO | L29: 65 | M29: PERICA | N29: 15 | O29: LASAGNA | P29: 16 | Q29: MANDZUKIC | R29: 40 | S29: VERDI | T29: 24
A30: CAPRARI | B30: 61 | C30: EDER | D30: 15 | E30: ZAPATA | F30: 30 | G30: BORINI | H30: 1 | I30: MILIK | J30: 25 | K30: PUCCIARELLI | L30: 20 | M30: KEAN | N30: 1 | O30: PALOSCHI | P30: 4 | Q30: IEMMELLO | R30: 31 | S30: NIANG | T30: 20
A31: KARAMOH | B31: 1 | C31: VERDE | D31: 1 | E31: RICCI | F31: 1 | G31: PALACIO | H31: 3 | I31: CODA | J31: 5 | K31: EL SHARAAWY | L31: 7 | M31: PELLISSIER | N31: 1 | O31: DEFREL | P31: 13 | Q31: POLITANO | R31: 10 | S31: TROTTA | T31: 10
B32: =+SUM(B26:B31) -> 266 | D32: =+SUM(D26:D31) -> 377 | F32: =+SUM(F26:F31) -> 337 | H32: =+SUM(H26:H31)+30 -> 448 | J32: =+SUM(J26:J31)+1 -> 218 | L32: =+SUM(L26:L31) -> 338 | N32: =+SUM(N26:N31) -> 212 | P32: =+SUM(P26:P31) -> 162 | R32: =+SUM(R26:R31) -> 313 | T32: =+SUM(T26:T31) -> 270
A34: strisce | C34: verde | E34: accanto a me sx | G34: camicia sx | I34: accanto a me dx | K34: al telefono | M34: occhiali blu dx | O34: proprietario casa | Q34: occhiali in testa | S34: hard rock

Sheet Lega Pro
A1: Posizione classifica | B1: Societa | C1: Crediti rimanenti | D1: Crediti Lega | E1: Crediti Scambi | K1: Crediti Svincoli1 | L1: Riparazione1 | M1: Crediti Svincoli2 | N1: Riparazione2 | O1: Totale | P1: 2018/19 | T1: Scambi
A3: 1 | B3: C.S Riposa | C3: 14 | D3: 50 | K3: =SvincoliLP!$B$12 -> 0 | L3: =SvincoliLP!B24 -> 0 | M3: =SvincoliLP!$B$37 -> 0 | N3: =SvincoliLP!$B$48 -> 0 | O3: =C3+D3+E3+F3+G3+H3+I3+J3+K3-L3+M3-N3 -> 64 | P3: =ROUNDDOWN(O3/3,0) -> 21
A4: 2 | B4: A.C. Numb3rs | C4: 14 | D4: 50 | K4: =SvincoliLP!$D$12 -> 0 | L4: =SvincoliLP!D24 -> 0 | M4: =SvincoliLP!$D$37 -> 0 | N4: =SvincoliLP!$D$48 -> 0 | O4: =C4+D4+E4+F4+G4+H4+I4+J4+K4-L4+M4-N4 -> 64 | P4: =ROUNDDOWN(O4/3,0) -> 21
A5: 3 | B5: Bayern Bikers | C5: 5 | D5: 50 | K5: =SvincoliLP!$F$12 -> 0 | L5: =SvincoliLP!F24 -> 0 | M5: =SvincoliLP!$F$37 -> 0 | N5: =SvincoliLP!$F$48 -> 0 | O5: =C5+D5+E5+F5+G5+H5+I5+J5+K5-L5+M5-N5 -> 55 | P5: =ROUNDDOWN(O5/3,0) -> 18
A6: 4 | B6: Team As Turbo | C6: 7 | D6: 50 | K6: =SvincoliLP!$H$12 -> 0 | L6: =SvincoliLP!H24 -> 0 | M6: =SvincoliLP!$H$37 -> 0 | N6: =SvincoliLP!$H$48 -> 0 | O6: =C6+D6+E6+F6+G6+H6+I6+J6+K6-L6+M6-N6 -> 57 | P6: =ROUNDDOWN(O6/3,0) -> 19
A7: 5 | B7: SS Longobarda | C7: 11 | D7: 50 | K7: =SvincoliLP!$J$12 -> 0 | L7: =SvincoliLP!J24 -> 0 | M7: =SvincoliLP!$J$37 -> 0 | N7: =SvincoliLP!$J$48 -> 0 | O7: =C7+D7+E7+F7+G7+H7+I7+J7+K7-L7+M7-N7 -> 61 | P7: =ROUNDDOWN(O7/3,0) -> 20
A8: 6 | B8: UnaJunglaCazo FC | C8: 1 | D8: 50 | K8: =SvincoliLP!$L$12 -> 0 | L8: =SvincoliLP!L24 -> 0 | M8: =SvincoliLP!$L$37 -> 0 | N8: =SvincoliLP!$L$48 -> 0 | O8: =C8+D8+E8+F8+G8+H8+I8+J8+K8-L8+M8-N8 -> 51 | P8: =ROUNDDOWN(O8/3,0) -> 17
A9: 7 | B9: Brigata Gurren | C9: 27 | D9: 50 | K9: =SvincoliLP!$N$12 -> 0 | L9: =SvincoliLP!N24 -> 0 | M9: =SvincoliLP!$N$37 -> 0 | N9: =SvincoliLP!$N$48 -> 0 | O9: =C9+D9+E9+F9+G9+H9+I9+J9+K9-L9+M9-N9 -> 77 | P9: =ROUNDDOWN(O9/3,0) -> 25
A10: 8 | B10: Ibradiposi | C10: 6 | D10: 50 | K10: =SvincoliLP!$P$12 -> 0 | L10: =SvincoliLP!P24 -> 0 | M10: =SvincoliLP!$P$37 -> 0 | N10: =SvincoliLP!$P$48 -> 0 | O10: =C10+D10+E10+F10+G10+H10+I10+J10+K10-L10+M10-N10 -> 56 | P10: =ROUNDDOWN(O10/3,0) -> 18
A11: 9 | B11: Drakeset | C11: 9 | D11: 50 | K11: =SvincoliLP!$R$12 -> 0 | L11: =SvincoliLP!R24 -> 0 | M11: =SvincoliLP!$R$37 -> 0 | N11: =SvincoliLP!$R$48 -> 0 | O11: =C11+D11+E11+F11+G11+H11+I11+J11+K11-L11+M11-N11 -> 59 | P11: =ROUNDDOWN(O11/3,0) -> 19
A12: 10 | B12: Lucense FC | C12: 9 | D12: 50 | K12: =SvincoliLP!$T$12 -> 0 | L12: =SvincoliLP!T24 -> 0 | M12: =SvincoliLP!$T$37 -> 0 | N12: =SvincoliLP!$T$48 -> 0 | O12: =C12+D12+E12+F12+G12+H12+I12+J12+K12-L12+M12-N12 -> 59 | P12: =ROUNDDOWN(O12/3,0) -> 19

Sheet SvincoliLP
A1: C.S. Riposa | C1: A.C. Numb3rs | E1: Bayern Bikers | G1: Team As Turbo | I1: SS Longobarda | K1: UnaJunglaCazo FC | M1: Brigata Gurren | O1: Ibradiposi | Q1: Drakeset | S1: Lucense FC | U1: Cessioni | V1: 1 Sessione
A12: Cr.Svincoli | B12: =ROUNDDOWN(SUM(B2:B10)/2,0) -> 0 | C12: Cr.Svincoli | D12: =ROUNDDOWN(SUM(D2:D10)/2,0) -> 0 | E12: Cr.Svincoli | F12: =ROUNDDOWN(SUM(F2:F10)/2,0) -> 0 | G12: Cr.Svincoli | H12: =ROUNDDOWN(SUM(H2:H10)/2,0) -> 0 | I12: Cr.Svincoli | J12: =ROUNDDOWN(SUM(J2:J10)/2,0) -> 0 | K12: Cr.Svincoli | L12: =ROUNDDOWN(SUM(L2:L10)/2,0) -> 0 | M12: Cr.Svincoli | N12: =ROUNDDOWN(SUM(N2:N10)/2,0) -> 0 | O12: Cr.Svincoli | P12: =ROUNDDOWN(SUM(P2:P10)/2,0) -> 0 | Q12: Cr.Svincoli | R12: =ROUNDDOWN(SUM(R2:R10)/2,0) -> 0 | S12: Cr.Svincoli | T12: =ROUNDDOWN(SUM(T2:T10)/2,0) -> 0
U14: Acquisti
A24: Cr.Svincoli | B24: =SUM(B14:B22) -> 0 | C24: Cr.Svincoli | D24: =SUM(D14:D22) -> 0 | E24: Cr.Svincoli | F24: =SUM(F14:F22) -> 0 | G24: Cr.Svincoli | H24: =SUM(H14:H22) -> 0 | I24: Cr.Svincoli | J24: =SUM(J14:J22) -> 0 | K24: Cr.Svincoli | L24: =SUM(L14:L22) -> 0 | M24: Cr.Svincoli | N24: =SUM(N14:N22) -> 0 | O24: Cr.Svincoli | P24: =SUM(P14:P22) -> 0 | Q24: Cr.Svincoli | R24: =SUM(R14:R22) -> 0 | S24: Cr.Svincoli | T24: =SUM(T14:T22) -> 0
B25: ='Lega Pro'!O3 -> 64 | D25: ='Lega Pro'!O4 -> 64 | F25: ='Lega Pro'!O5 -> 55 | H25: ='Lega Pro'!O6 -> 57 | J25: ='Lega Pro'!O7 -> 61 | L25: ='Lega Pro'!O8 -> 51 | N25: ='Lega Pro'!O9 -> 77 | P25: ='Lega Pro'!O10 -> 56 | R25: ='Lega Pro'!O11 -> 59 | T25: ='Lega Pro'!O12 -> 59 | U25: Parziali Live
U26: Cessioni | V26: 2 Sessione
B36: =SUM(B27:B35) -> 0 | D36: =SUM(D27:D35) -> 0 | F36: =SUM(F27:F35) -> 0 | H36: =SUM(H27:H35) -> 0 | J36: =SUM(J27:J35) -> 0 | L36: =SUM(L27:L35) -> 0 | N36: =SUM(N27:N35) -> 0 | P36: =SUM(P27:P35) -> 0 | R36: =SUM(R27:R35) -> 0 | T36: =SUM(T27:T35) -> 0
A37: Cr.Svincoli | B37: =ROUNDDOWN(SUM(B27:B35)/2,0) -> 0 | C37: Cr.Svincoli | D37: =ROUNDDOWN(SUM(D27:D35)/2,0) -> 0 | E37: Cr.Svincoli | F37: =ROUNDDOWN(SUM(F27:F35)/2,0) -> 0 | G37: Cr.Svincoli | H37: =ROUNDDOWN(SUM(H27:H35)/2,0) -> 0 | I37: Cr.Svincoli | J37: =ROUNDDOWN(SUM(J27:J35)/2,0) -> 0 | K37: Cr.Svincoli | L37: =ROUNDDOWN(SUM(L27:L35)/2,0) -> 0 | M37: Cr.Svincoli | N37: =ROUNDDOWN(SUM(N27:N35)/2,0) -> 0 | O37: Cr.Svincoli | P37: =ROUNDDOWN(SUM(P27:P35)/2,0) -> 0 | Q37: Cr.Svincoli | R37: =ROUNDDOWN(SUM(R27:R35)/2,0) -> 0 | S37: Cr.Svincoli | T37: =ROUNDDOWN(SUM(T27:T35)/2,0) -> 0
U39: Acquisti
B48: =SUM(B39:B47) -> 0 | D48: =SUM(D39:D47) -> 0 | F48: =SUM(F39:F47) -> 0 | H48: =SUM(H39:H47) -> 0 | J48: =SUM(J39:J47) -> 0 | L48: =SUM(L39:L47) -> 0 | N48: =SUM(N39:N47) -> 0 | P48: =SUM(P39:P47) -> 0 | R48: =SUM(R39:R47) -> 0 | T48: =SUM(T39:T47) -> 0
B49: =B25 -> 64 | D49: =D25 -> 64 | F49: =F25 -> 55 | H49: =H25 -> 57 | J49: =J25 -> 61 | L49: =L25 -> 51 | N49: =N25 -> 77 | P49: =P25 -> 56 | R49: =R25 -> 59 | T49: =T25 -> 59 | U49: Parziali Live

Sheet RoseMercLP
A1: C.S. Riposa | C1: A.C. Numb3rs | E1: Bayern Bikers | G1: Team As Turbo | I1: SS Longobarda | K1: UnaJunglaCazo FC | M1: Brigata Gurren | O1: Ibradiposi | Q1: Drakeset | S1: Lucense FC | W1: non confermabili 2017/18
A2: Crediti Iniz. | C2: Crediti Iniz. | E2: Crediti Iniz. | G2: Crediti Iniz. | I2: Crediti Iniz. | K2: Crediti Iniz. | M2: Crediti Iniz. | O2: Crediti Iniz. | Q2: Crediti Iniz. | S2: Crediti Iniz. | W2: nuovi acquisti 2016/17 - febbraio
A3: Crediti Rim. | C3: Crediti | E3: Crediti | G3: Crediti | I3: Crediti | K3: Crediti | M3: Crediti | O3: Crediti | Q3: Crediti | S3: Crediti | W3: nuovi acquisti 2016/17 - febbraio da scambio
W4: riconferma 2016/17
W5: riconferma 2016/17
W6: riconferma 2016/17
B7: =+SUM(B4:B6) -> 0 | D7: =+SUM(D4:D6) -> 0 | F7: =+SUM(F4:F6) -> 0 | H7: =+SUM(H4:H6) -> 0 | J7: =+SUM(J4:J6) -> 0 | L7: =+SUM(L4:L6) -> 0 | N7: =+SUM(N4:N6) -> 0 | P7: =+SUM(P4:P6) -> 0 | R7: =+SUM(R4:R6) -> 0 | T7: =+SUM(T4:T6) -> 0 | W7: riconferma 2016/17
W8: riconferma 2016/17
B16: =+SUM(B8:B15) -> 0 | D16: =+SUM(D8:D15) -> 0 | F16: =+SUM(F8:F15) -> 0 | H16: =+SUM(H8:H15) -> 0 | J16: =+SUM(J8:J15) -> 0 | L16: =+SUM(L8:L15) -> 0 | N16: =+SUM(N8:N15) -> 0 | P16: =+SUM(P8:P15) -> 0 | R16: =+SUM(R8:R15) -> 0 | T16: =+SUM(T8:T15) -> 0
B25: =+SUM(B17:B24) -> 0 | D25: =+SUM(D17:D24) -> 0 | F25: =+SUM(F17:F24) -> 0 | H25: =+SUM(H17:H24) -> 0 | J25: =+SUM(J17:J24) -> 0 | L25: =+SUM(L17:L24) -> 0 | N25: =+SUM(N17:N24)+20 -> 20 | P25: =+SUM(P17:P24) -> 0 | R25: =+SUM(R17:R24) -> 0 | T25: =+SUM(T17:T24) -> 0
B32: =+SUM(B26:B31) -> 0 | D32: =+SUM(D26:D31) -> 0 | F32: =+SUM(F26:F31) -> 0 | H32: =+SUM(H26:H31) -> 0 | J32: =+SUM(J26:J31) -> 0 | L32: =+SUM(L26:L31) -> 0 | N32: =+SUM(N26:N31) -> 0 | P32: =+SUM(P26:P31) -> 0 | R32: =+SUM(R26:R31) -> 0 | T32: =+SUM(T26:T31) -> 0

Sheet Serie D
A1: Posizione classifica | B1: Societa | C1: Crediti rimanenti | D1: Crediti Lega | E1: Crediti Scambi | K1: Crediti Svincoli1 | L1: Riparazione1 | M1: Crediti Svincoli2 | N1: Riparazione2 | O1: Totale | P1: 2018/19 | R1: Scambi
A3: 1 | B3: Guamese DOC | C3: =RoseSerieD!B3 -> 50 | D3: 50 | K3: =SvincoliD!$B$12 -> 0 | L3: =SvincoliD!B24 -> 0 | M3: =SvincoliD!$B$37 -> 0 | N3: =SvincoliD!$B$48 -> 0 | O3: =C3+D3+E3+F3+G3+H3+I3+J3+K3-L3+M3-N3 -> 100 | P3: =ROUNDDOWN(O3/3,0) -> 33
A4: 2 | B4: Real Chupito | C4: =RoseSerieD!D3 -> 4 | D4: 50 | K4: =SvincoliD!$D$12 -> 0 | L4: =SvincoliD!D24 -> 0 | M4: =SvincoliD!$D$37 -> 0 | N4: =SvincoliD!$D$48 -> 0 | O4: =C4+D4+E4+F4+G4+H4+I4+J4+K4-L4+M4-N4 -> 54 | P4: =ROUNDDOWN(O4/3,0) -> 18
A5: 3 | B5: UGF Pisa | C5: =RoseSerieD!F3 -> 20 | D5: 50 | K5: =SvincoliD!$F$12 -> 0 | L5: =SvincoliD!F24 -> 0 | M5: =SvincoliD!$F$37 -> 0 | N5: =SvincoliD!$F$48 -> 0 | O5: =C5+D5+E5+F5+G5+H5+I5+J5+K5-L5+M5-N5 -> 70 | P5: =ROUNDDOWN(O5/3,0) -> 23
A6: 4 | B6: Transporter United | C6: =RoseSerieD!H3 -> 3 | D6: 50 | K6: =SvincoliD!$H$12 -> 0 | L6: =SvincoliD!H24 -> 0 | M6: =SvincoliD!$H$37 -> 0 | N6: =SvincoliD!$H$48 -> 0 | O6: =C6+D6+E6+F6+G6+H6+I6+J6+K6-L6+M6-N6 -> 53 | P6: =ROUNDDOWN(O6/3,0) -> 17
A7: 5 | B7: CSKA Scina | C7: =RoseSerieD!J3 -> 12 | D7: 50 | K7: =SvincoliD!$J$12 -> 0 | L7: =SvincoliD!J24 -> 0 | M7: =SvincoliD!$J$37 -> 0 | N7: =SvincoliD!$J$48 -> 0 | O7: =C7+D7+E7+F7+G7+H7+I7+J7+K7-L7+M7-N7 -> 62 | P7: =ROUNDDOWN(O7/3,0) -> 20
A8: 6 | B8: Scarsenal | C8: =RoseSerieD!L3 -> 36 | D8: 50 | K8: =SvincoliD!$L$12 -> 0 | L8: =SvincoliD!L24 -> 0 | M8: =SvincoliD!$L$37 -> 0 | N8: =SvincoliD!$L$48 -> 0 | O8: =C8+D8+E8+F8+G8+H8+I8+J8+K8-L8+M8-N8 -> 86 | P8: =ROUNDDOWN(O8/3,0) -> 28
A9: 7 | B9: VirgyTeam | C9: =RoseSerieD!N3 -> 8 | D9: 50 | K9: =SvincoliD!$N$12 -> 0 | L9: =SvincoliD!N24 -> 0 | M9: =SvincoliD!$N$37 -> 0 | N9: =SvincoliD!$N$48 -> 0 | O9: =C9+D9+E9+F9+G9+H9+I9+J9+K9-L9+M9-N9 -> 58 | P9: =ROUNDDOWN(O9/3,0) -> 19
A10: 8 | B10: FC CiccioBuccio | C10: =RoseSerieD!P3 -> 6 | D10: 50 | K10: =SvincoliD!$P$12 -> 0 | L10: =SvincoliD!P24 -> 0 | M10: =SvincoliD!$P$37 -> 0 | N10: =SvincoliD!$P$48 -> 0 | O10: =C10+D10+E10+F10+G10+H10+I10+J10+K10-L10+M10-N10 -> 56 | P10: =ROUNDDOWN(O10/3,0) -> 18
A11: 9 | B11: Sambuca Juniors | C11: =RoseSerieD!R3 -> 14 | D11: 50 | K11: =SvincoliD!$R$12 -> 0 | L11: =SvincoliD!R24 -> 0 | M11: =SvincoliD!$R$37 -> 0 | N11: =SvincoliD!$R$48 -> 0 | O11: =C11+D11+E11+F11+G11+H11+I11+J11+K11-L11+M11-N11 -> 64 | P11: =ROUNDDOWN(O11/3,0) -> 21
A12: 10 | B12: Real Petare | C12: =RoseSerieD!T3 -> 20 | D12: 50 | K12: =SvincoliD!$T$12 -> 0 | L12: =SvincoliD!T24 -> 0 | M12: =SvincoliD!$T$37 -> 0 | N12: =SvincoliD!$T$48 -> 0 | O12: =C12+D12+E12+F12+G12+H12+I12+J12+K12-L12+M12-N12 -> 70 | P12: =ROUNDDOWN(O12/3,0) -> 23

Sheet SvincoliD
A1: =+'Serie D'!B3 -> Guamese DOC | C1: =+'Serie D'!B4 -> Real Chupito | E1: =+'Serie D'!B5 -> UGF Pisa | G1: =+'Serie D'!B6 -> Transporter United | I1: =+'Serie D'!B7 -> CSKA Scina | K1: =+'Serie D'!B8 -> Scarsenal | M1: =+'Serie D'!B9 -> VirgyTeam | O1: =+'Serie D'!B10 -> FC CiccioBuccio | Q1: =+'Serie D'!B11 -> Sambuca Juniors | S1: =+'Serie D'!B12 -> Real Petare | U1: Cessioni | V1: 1 Sessione
A12: Cr.Svincoli | B12: =ROUNDDOWN(SUM(B2:B10)/2,0) -> 0 | C12: Cr.Svincoli | D12: =ROUNDDOWN(SUM(D2:D10)/2,0) -> 0 | E12: Cr.Svincoli | F12: =ROUNDDOWN(SUM(F2:F10)/2,0) -> 0 | G12: Cr.Svincoli | H12: =ROUNDDOWN(SUM(H2:H10)/2,0) -> 0 | I12: Cr.Svincoli | J12: =ROUNDDOWN(SUM(J2:J10)/2,0) -> 0 | K12: Cr.Svincoli | L12: =ROUNDDOWN(SUM(L2:L10)/2,0) -> 0 | M12: Cr.Svincoli | N12: =ROUNDDOWN(SUM(N2:N10)/2,0) -> 0 | O12: Cr.Svincoli | P12: =ROUNDDOWN(SUM(P2:P10)/2,0) -> 0 | Q12: Cr.Svincoli | R12: =ROUNDDOWN(SUM(R2:R10)/2,0) -> 0 | S12: Cr.Svincoli | T12: =ROUNDDOWN(SUM(T2:T10)/2,0) -> 0
U14: Acquisti
A24: Cr.Svincoli | B24: =SUM(B14:B22) -> 0 | C24: Cr.Svincoli | D24: =SUM(D14:D22) -> 0 | E24: Cr.Svincoli | F24: =SUM(F14:F22) -> 0 | G24: Cr.Svincoli | H24: =SUM(H14:H22) -> 0 | I24: Cr.Svincoli | J24: =SUM(J14:J22) -> 0 | K24: Cr.Svincoli | L24: =SUM(L14:L22) -> 0 | M24: Cr.Svincoli | N24: =SUM(N14:N22) -> 0 | O24: Cr.Svincoli | P24: =SUM(P14:P22) -> 0 | Q24: Cr.Svincoli | R24: =SUM(R14:R22) -> 0 | S24: Cr.Svincoli | T24: =SUM(T14:T22) -> 0
B25: ='Serie D'!O3 -> 100 | D25: ='Serie D'!O4 -> 54 | F25: ='Serie D'!O5 -> 70 | H25: ='Serie D'!O6 -> 53 | J25: ='Serie D'!O7 -> 62 | L25: ='Serie D'!O8 -> 86 | N25: ='Serie D'!O9 -> 58 | P25: ='Serie D'!O10 -> 56 | R25: ='Serie D'!O11 -> 64 | T25: ='Serie D'!O12 -> 70 | U25: Parziali Live
U26: Cessioni | V26: 2 Sessione
B36: =SUM(B27:B35) -> 0 | D36: =SUM(D27:D35) -> 0 | F36: =SUM(F27:F35) -> 0 | H36: =SUM(H27:H35) -> 0 | J36: =SUM(J27:J35) -> 0 | L36: =SUM(L27:L35) -> 0 | N36: =SUM(N27:N35) -> 0 | P36: =SUM(P27:P35) -> 0 | R36: =SUM(R27:R35) -> 0 | T36: =SUM(T27:T35) -> 0
A37: Cr.Svincoli | B37: =ROUNDDOWN(SUM(B27:B35)/2,0) -> 0 | C37: Cr.Svincoli | D37: =ROUNDDOWN(SUM(D27:D35)/2,0) -> 0 | E37: Cr.Svincoli | F37: =ROUNDDOWN(SUM(F27:F35)/2,0) -> 0 | G37: Cr.Svincoli | H37: =ROUNDDOWN(SUM(H27:H35)/2,0) -> 0 | I37: Cr.Svincoli | J37: =ROUNDDOWN(SUM(J27:J35)/2,0) -> 0 | K37: Cr.Svincoli | L37: =ROUNDDOWN(SUM(L27:L35)/2,0) -> 0 | M37: Cr.Svincoli | N37: =ROUNDDOWN(SUM(N27:N35)/2,0) -> 0 | O37: Cr.Svincoli | P37: =ROUNDDOWN(SUM(P27:P35)/2,0) -> 0 | Q37: Cr.Svincoli | R37: =ROUNDDOWN(SUM(R27:R35)/2,0) -> 0 | S37: Cr.Svincoli | T37: =ROUNDDOWN(SUM(T27:T35)/2,0) -> 0
U39: Acquisti
B48: =SUM(B39:B47) -> 0 | D48: =SUM(D39:D47) -> 0 | F48: =SUM(F39:F47) -> 0 | H48: =SUM(H39:H47) -> 0 | J48: =SUM(J39:J47) -> 0 | L48: =SUM(L39:L47) -> 0 | N48: =SUM(N39:N47) -> 0 | P48: =SUM(P39:P47) -> 0 | R48: =SUM(R39:R47) -> 0 | T48: =SUM(T39:T47) -> 0
B49: =B25 -> 100 | D49: =D25 -> 54 | F49: =F25 -> 70 | H49: =H25 -> 53 | J49: =J25 -> 62 | L49: =L25 -> 86 | N49: =N25 -> 58 | P49: =P25 -> 56 | R49: =R25 -> 64 | T49: =T25 -> 70 | U49: Parziali Live

Sheet RoseMercD
A1: Scarsenal | C1: Brigata Gurren | E1: Drakeset | G1: Ibradiposi | I1: UGF Pisa | K1: CSKA Scina | M1: Transporter United | O1: Real San Ginese | Q1: Guamese Doc | S1: Lucense FC | W1: non confermabili 2017/18
A2: Crediti Iniz. | C2: Crediti Iniz. | E2: Crediti Iniz. | G2: Crediti Iniz. | I2: Crediti Iniz. | K2: Crediti Iniz. | M2: Crediti Iniz. | O2: Crediti Iniz. | Q2: Crediti Iniz. | S2: Crediti Iniz. | W2: nuovi acquisti 2016/17 - febbraio
A3: Crediti Rim. | C3: Crediti | E3: Crediti | G3: Crediti | I3: Crediti | K3: Crediti | M3: Crediti | O3: Crediti | Q3: Crediti | S3: Crediti | W3: nuovi acquisti 2016/17 - febbraio da scambio
W4: riconferma 2016/17
W5: riconferma 2016/17
W6: riconferma 2016/17
B7: =+SUM(B4:B6) -> 0 | D7: =+SUM(D4:D6) -> 0 | F7: =+SUM(F4:F6) -> 0 | H7: =+SUM(H4:H6) -> 0 | J7: =+SUM(J4:J6) -> 0 | L7: =+SUM(L4:L6) -> 0 | N7: =+SUM(N4:N6) -> 0 | P7: =+SUM(P4:P6) -> 0 | R7: =+SUM(R4:R6) -> 0 | T7: =+SUM(T4:T6) -> 0 | W7: riconferma 2016/17
W8: riconferma 2016/17
B16: =+SUM(B8:B15) -> 0 | D16: =+SUM(D8:D15) -> 0 | F16: =+SUM(F8:F15) -> 0 | H16: =+SUM(H8:H15) -> 0 | J16: =+SUM(J8:J15) -> 0 | L16: =+SUM(L8:L15) -> 0 | N16: =+SUM(N8:N15) -> 0 | P16: =+SUM(P8:P15) -> 0 | R16: =+SUM(R8:R15) -> 0 | T16: =+SUM(T8:T15) -> 0
B25: =+SUM(B17:B24) -> 0 | D25: =+SUM(D17:D24) -> 0 | F25: =+SUM(F17:F24) -> 0 | H25: =+SUM(H17:H24) -> 0 | J25: =+SUM(J17:J24) -> 0 | L25: =+SUM(L17:L24) -> 0 | N25: =+SUM(N17:N24)+20 -> 20 | P25: =+SUM(P17:P24) -> 0 | R25: =+SUM(R17:R24) -> 0 | T25: =+SUM(T17:T24) -> 0
B32: =+SUM(B26:B31) -> 0 | D32: =+SUM(D26:D31) -> 0 | F32: =+SUM(F26:F31) -> 0 | H32: =+SUM(H26:H31) -> 0 | J32: =+SUM(J26:J31) -> 0 | L32: =+SUM(L26:L31) -> 0 | N32: =+SUM(N26:N31) -> 0 | P32: =+SUM(P26:P31) -> 0 | R32: =+SUM(R26:R31) -> 0 | T32: =+SUM(T26:T31) -> 0
