Workbook

Sheet TABELLONE
A1: GIRONE A | D1: ORDINE CHIAMATA SEMIFINALI | J1: 1° GIORNATA
J2: =A5 -> SKIACCIAK MOSCA | K2: =A6 -> TETTE BISCOTTATE | L2: =IF('1° GIORNATA'!$B$17=0,"",'1° GIORNATA'!B5) -> 0 | M2: =IF('1° GIORNATA'!$D$17=0,"",'1° GIORNATA'!$D$5) -> 5 | O2: =IF(L2="",0,IF(L2>M2,3,IF(L2=M2,1,0))) -> 0 | P2: =IF(M2="",0,IF(M2>L2,3,IF(M2=L2,1,0))) -> 3
A3: SQUADRE | J3: =A7 -> FLYBEARD | K3: =A8 -> INTERFOGAT | L3: =IF('1° GIORNATA'!$K$17=0,"",'1° GIORNATA'!$K$5) -> 2 | M3: =IF('1° GIORNATA'!$M$17=0,"",'1° GIORNATA'!$M$5) -> 3 | O3: =IF(L3="",0,IF(L3>M3,3,IF(L3=M3,1,0))) -> 0 | P3: =IF(M3="",0,IF(M3>L3,3,IF(M3=L3,1,0))) -> 3
A5: SKIACCIAK MOSCA | B5: A
A6: TETTE BISCOTTATE | B6: B | J6: 2° GIORNATA
A7: FLYBEARD | B7: C | J7: =A5 -> SKIACCIAK MOSCA | K7: =A7 -> FLYBEARD | L7: =IF('2° GIORNATA'!$B$17=0,"",'2° GIORNATA'!B5) -> 2 | M7: =IF('2° GIORNATA'!$D$17=0,"",'2° GIORNATA'!$D$5) -> 2 | O7: =IF(L7="",0,IF(L7>M7,3,IF(L7=M7,1,0))) -> 1 | P7: =IF(M7="",0,IF(M7>L7,3,IF(M7=L7,1,0))) -> 1
A8: INTERFOGAT | B8: D | J8: =A6 -> TETTE BISCOTTATE | K8: =A8 -> INTERFOGAT | L8: =IF('2° GIORNATA'!$K$17=0,"",'2° GIORNATA'!$K$5) -> 2 | M8: =IF('2° GIORNATA'!$M$17=0,"",'2° GIORNATA'!$M$5) -> 0 | O8: =IF(L8="",0,IF(L8>M8,3,IF(L8=M8,1,0))) -> 3 | P8: =IF(M8="",0,IF(M8>L8,3,IF(M8=L8,1,0))) -> 0
J11: 3° GIORNATA
A12: CLASSIFICA | J12: =A5 -> SKIACCIAK MOSCA | K12: =A8 -> INTERFOGAT | L12: =IF('3° GIORNATA'!$B$17=0,"",'3° GIORNATA'!B5) -> 0 | M12: =IF('3° GIORNATA'!$D$17=0,"",'3° GIORNATA'!$D$5) -> 2 | O12: =IF(L12="",0,IF(L12>M12,3,IF(L12=M12,1,0))) -> 0 | P12: =IF(M12="",0,IF(M12>L12,3,IF(M12=L12,1,0))) -> 3
J13: =A7 -> FLYBEARD | K13: =A6 -> TETTE BISCOTTATE | L13: =IF('3° GIORNATA'!$K$17=0,"",'3° GIORNATA'!$K$5) -> 2 | M13: =IF('3° GIORNATA'!$M$17=0,"",'3° GIORNATA'!$M$5) -> 1 | O13: =IF(L13="",0,IF(L13>M13,3,IF(L13=M13,1,0))) -> 3 | P13: =IF(M13="",0,IF(M13>L13,3,IF(M13=L13,1,0))) -> 0
B14: pts | C14: g.f. | D14: g.s. | E14: diff. | F14: fantaPts
A15: TETTE BISCOTTATE | B15: =$P$2+$O$8+$P$13 -> 6 | C15: =IF($M$2="",0,$M$2)+IF($L$8="",0,$L$8)+IF($M$13="",0,$M$13) -> 8 | D15: =IF($L$2="",0,$L$2)+IF($M$8="",0,$M$8)+IF($L$13="",0,$L$13) -> 2 | E15: =C15-D15 -> 6 | F15: ='1° GIORNATA'!D17+'2° GIORNATA'!K17+'3° GIORNATA'!M17 -> 222 | G15: A1 | N15: 1
A16: INTERFOGAT | B16: =$P$3+$P$8+$P$12 -> 6 | C16: =IF($M$3="",0,$M$3)+IF($M$8="",0,$M$8)+IF($M$12="",0,$M$12) -> 5 | D16: =IF($L$3="",0,$L$3)+IF($L$8="",0,$L$8)+IF($L$12="",0,$L$12) -> 4 | E16: =C16-D16 -> 1 | F16: ='1° GIORNATA'!M17+'2° GIORNATA'!M17+'3° GIORNATA'!D17 -> 207.5 | G16: A2 | N16: 2
A17: FLYBEARD | B17: =$O$3+$P$7+$O$13 -> 4 | C17: =IF($L$3="",0,$L$3)+IF($M$7="",0,$M$7)+IF($L$13="",0,$L$13) -> 6 | D17: =IF($M$3="",0,$M$3)+IF($L$7="",0,$L$7)+IF($M$13="",0,$M$13) -> 6 | E17: =C17-D17 -> 0 | F17: ='1° GIORNATA'!K17+'2° GIORNATA'!D17+'3° GIORNATA'!K17 -> 215 | G17: A3 | N17: 3
A18: SKIACCIAK MOSCA | B18: =$O$2+$O$7+$O$12 -> 1 | C18: =IF($L$2="",0,$L$2)+IF($L$7="",0,$L$7)+IF($L$12="",0,$L$12) -> 2 | D18: =IF($M$2="",0,$M$2)+IF($M$7="",0,$M$7)+IF($M$12="",0,$M$12) -> 9 | E18: =C18-D18 -> -7 | F18: ='1° GIORNATA'!B17+'2° GIORNATA'!B17+'3° GIORNATA'!B17 -> 197 | G18: A4 | N18: 4
N19: 5
A26: FINALE
A28: =A15 -> TETTE BISCOTTATE | B28: =A16 -> INTERFOGAT

Sheet 1° GIORNATA
A1: 1° GIORNATA
A3: GIRONE A
A4: Modulo 352 | C4: Modulo 343 | J4: Modulo 343 | L4: Modulo 343
A5: =TABELLONE!J2 -> SKIACCIAK MOSCA | B5: =IF(B17<66,0,IF(B17<70,1,IF(B17<74,2,IF(B17<78,3,IF(B17<82,4,IF(B17<86,5,IF(B17<90,6,IF(B17<94,7,IF(B17<98,8,IF(B17<101,9,10)))))))))) -> 0 | C5: =TABELLONE!K2 -> TETTE BISCOTTATE | D5: =IF(D17<66,0,IF(D17<70,1,IF(D17<74,2,IF(D17<78,3,IF(D17<82,4,IF(D17<86,5,IF(D17<90,6,IF(D17<94,7,IF(D17<98,8,IF(D17<101,9,10)))))))))) -> 5 | J5: =TABELLONE!J3 -> FLYBEARD | K5: =IF(K17<66,0,IF(K17<70,1,IF(K17<74,2,IF(K17<78,3,IF(K17<82,4,IF(K17<86,5,IF(K17<90,6,IF(K17<94,7,IF(K17<98,8,IF(K17<101,9,10)))))))))) -> 2 | L5: =TABELLONE!K3 -> INTERFOGAT | M5: =IF(M17<66,0,IF(M17<70,1,IF(M17<74,2,IF(M17<78,3,IF(M17<82,4,IF(M17<86,5,IF(M17<90,6,IF(M17<94,7,IF(M17<98,8,IF(M17<101,9,10)))))))))) -> 3
A6: Portogallo | B6: 4.5 | C6: Germania | D6: 2.5 | J6: Messico | K6: 5 | L6: CILE | M6: 6
A7: Mustafi | B7: 6 | C7: Cedric Soares | D7: 10 | J7: Rudiger | K7: 6 | L7: KIMMICH | M7: 7.5
A8: Guerriero | B8: 5 | C8: Jara | D8: 5.5 | J8: Ginter | K8: 5 | L8: ISLA | M8: 6
A9: Hector | B9: 5 | C9: Vasin | D9: 6.5 | F9: Assist | J9: Fonte | K9: 5 | L9: KURDYASHOV | M9: 6.5
A10: Draxler | B10: 9.5 | C10: Emre Can | D10: 6 | F10: C.Ronaldo | J10: Miranchuck | K10: 6 | L10: BERNARDO SILVA | M10: 7
A11: Dos Santos | B11: 5.5 | C11: Goretzka | D11: 9.5 | F11: Vela | J11: Vidal | K11: 10 | L11: BRANDT | M11: 7.5
A12: Aranguiz | B12: 6 | C12: Pablo Hernandez | D12: 6 | F12: Jhonathan Do Santos | J12: Vela | K12: 8 | L12: MOUTINHO | M12: 5.5
A13: Moukandjo | B13: 6 | C13: Samedov | D13: 8 | F13: Alexis Sanchez | J13: Zhirkov | K13: 6 | L13: GOLOVIN | M13: 6.5
A14: McGlinchey | B14: 5.5 | C14: Alexis Sanches | D14: 8 | F14: Brandt | J14: Edu Vargas | K14: 9.5 | L14: ANDRE SILVA | M14: 6.5
A15: Ronaldo | B15: 7.5 | C15: Chicharito | D15: 10 | F15: Kimmich | J15: Werner | K15: 6.5 | L15: WAGNER | M15: 5
A16: Bassogog | B16: 5 | C16: Smolov | D16: 10 | J16: Aboubakar | K16: 5.5 | L16: STINDL | M16: 10
B17: =SUM(B6:B16) -> 65.5 | D17: =SUM(D6:D16) -> 82 | K17: =SUM(K6:K16) -> 72.5 | M17: =SUM(M6:M16) -> 74
A18: PANCHINA | C18: PANCHINA | J18: PANCHINA | L18: PANCHINA
A19: Portogallo | B19: 4.5 | C19: Germania | D19: 2.5 | J19: Messico | K19: 5 | L19: CILE | M19: 6
A20: Medel | B20: 6.5 | C20: Shiskhin | D20: sv | J20: Henrichs | K20: 5 | L20: BRUNO ALVES | M20: sv
A21: Owona | B21: sv | C21: Fai | D21: 5 | J21: Teikeu | K21: 5 | L21: BEAUSEJOUR | M21: 6
A22: Brotherton | B22: sv | C22: Hector Moreno | D22: 10 | J22: D.Reyes | K22: 6 | L22: OYONGO | M22: sv
A23: Aquino | B23: sv | C23: Rudy | D23: 6 | J23: Corona | K23: sv | L23: RODRIGUEZ | M23: sv
A24: Mandjeck | B24: sv | C24: Andres Guardado | D24: 6 | J24: Andre Gomes | K24: 6 | L24: DANILO PEREIRA | M24: sv
A25: Irvine | B25: sv | C25: Herrera | D25: 5.5 | J25: Siani | K25: 5.5 | L25: JHONATAN DO SANTOS | M25: 7
A26: Quaresma | B26: 10 | C26: Nani | D26: 5 | J26: Peralta | K26: 6 | L26: YOUNES | M26: sv
A27: Kruse | B27: 6 | C27: Raul Jimenez | D27: 6 | J27: Zoua | K27: sv | L27: MARTINS | M27: 6.5
A28: Kunnikov | B28: sv | C28: Poloz | D28: 7 | J28: Leckie | K28: 5.5 | L28: WOOD | M28: 5.5

Sheet 2° GIORNATA
A1: 2° GIORNATA
A3: GIRONE A
A4: 352 | C4: 343
A5: =TABELLONE!J7 -> SKIACCIAK MOSCA | B5: =IF(B17<66,0,IF(B17<70,1,IF(B17<74,2,IF(B17<78,3,IF(B17<82,4,IF(B17<86,5,IF(B17<90,6,IF(B17<94,7,IF(B17<98,8,IF(B17<101,9,10)))))))))) -> 2 | C5: =TABELLONE!K7 -> FLYBEARD | D5: =IF(D17<66,0,IF(D17<70,1,IF(D17<74,2,IF(D17<78,3,IF(D17<82,4,IF(D17<86,5,IF(D17<90,6,IF(D17<94,7,IF(D17<98,8,IF(D17<101,9,10)))))))))) -> 2 | J5: =TABELLONE!J8 -> TETTE BISCOTTATE | K5: =IF(K17<66,0,IF(K17<70,1,IF(K17<74,2,IF(K17<78,3,IF(K17<82,4,IF(K17<86,5,IF(K17<90,6,IF(K17<94,7,IF(K17<98,8,IF(K17<101,9,10)))))))))) -> 2 | L5: =TABELLONE!K8 -> INTERFOGAT | M5: =IF(M17<66,0,IF(M17<70,1,IF(M17<74,2,IF(M17<78,3,IF(M17<82,4,IF(M17<86,5,IF(M17<90,6,IF(M17<94,7,IF(M17<98,8,IF(M17<101,9,10)))))))))) -> 0
A6: Portogallo | B6: 6 | C6: Messico | D6: 5.5 | J6: GERMANIA | K6: 5 | L6: CILE | M6: 5
A7: Guerreiro | B7: 7.5 | C7: Rudiger | D7: 6 | J7: HECTOR MORENO | K7: 5 | L7: KIMMICH | M7: 6
A8: Pepe | B8: 5 | C8: Ngadeo Ndagjui | D8: 7 | J8: SALCEDO | K8: 5.5 | L8: ISLA | M8: 6.5
A9: Hector | B9: 7.5 | C9: D. Reyes | D9: 5.5 | F9: Assist | J9: CEDRIC SOARES | K9: 6.5 | L9: BRUNO ALVES | M9: 6.5
A10: Draxler | B10: 5 | C10: Siani | D10: 5.5 | F10: Guerreiro | J10: EMRE CAN | K10: 6 | L10: JHONATAN DO SANTOS | M10: 5
A11: G. Dos Santos | B11: 6.5 | C11: Vidal | D11: 7 | F11: Aquino | J11: SAMEDOV | K11: 5.5 | L11: BERNARDO SILVA | M11: 6.5
A12: Aquino | B12: 8 | C12: Vela | D12: 6.5 | F12: Ngadeo Ngadjui | J12: ANDRES GUARDADO | K12: 5.5 | L12: BRANDT | M12: sv
A13: Aranguiz | B13: 6.5 | C13: Andrè Gomes | D13: 5.5 | F13: Vidal | J13: GORETZKA | K13: 6 | L13: MOUTINHO | M13: sv
A14: Moukandjo | B14: 5.5 | C14: Edu Vargas | D14: 6.5 | F14: Hector | J14: CHICHARITO | K14: 10.5 | L14: ANDRE SILVA | M14: 6.5
A15: Ronaldo | B15: 10 | C15: Aboubakar | D15: 5 | J15: ALEXIS SANCHEZ | K15: 9.5 | L15: WAGNER | M15: 9.5
A16: Quaresma | B16: 6 | C16: Werner | D16: 10 | J16: SMOLOV | K16: 6 | L16: STINDL | M16: 9
B17: =SUM(B6:B16) -> 73.5 | D17: =SUM(D6:D16) -> 70 | K17: =SUM(K6:K16) -> 71 | M17: =SUM(M6:M16) -> 60.5
A18: PANCHINA | C18: PANCHINA | J18: PANCHINA | L18: PANCHINA
A19: Portogallo | B19: 6 | C19: Messico | D19: 5.5 | J19: GERMANIA | K19: 5 | L19: CILE | M19: 5
A20: Medel | B20: 6 | C20: Fonte | D20: sv | J20: Vasin | K20: 5.5 | L20: KURDYASHOV | M20: 5
A21: Mustafi | B21: 4.5 | C21: Henrichs | D21: sv | J21: Fai | K21: 6 | L21: BEAUSEJOUR | M21: 6
A22: Owona | B22: sv | C22: Teikeu | D22: 6 | J22: Jara | K22: 6 | L22: MENA | M22: sv
A23: Mandjeck | B23: sv | C23: Miranchuk | D23: sv | J23: Herrera | K23: 5.5 | L23: LOZANO | M23: sv
A24: Irvine | B24: sv | C24: Zhirkov | D24: 6.5 | J24: Rudy | K24: 5 | L24: GOLOVIN | M24: 5
A25: McGinclhey | B25: 5.5 | C25: Carvalho | D25: 6.5 | J25: Layun | K25: sv | L25: MARTIN RODRIGUEZ | M25: sv
A26: Bassogog | B26: 6 | C26: Peralta | D26: 10 | J26: Raul Jimenez | K26: 10.5 | L26: MARTINS | M26: sv
A27: Kruse | B27: 5.5 | C27: Leckie | D27: 6 | J27: Nani | K27: sv | L27: YOUNES | M27: sv
A28: Cahill | B28: 5.5 | C28: Zouma | D28: sv | J28: Poloz | K28: 6.5 | L28: WOOD | M28: 9.5

Sheet 3° GIORNATA
A1: 3° GIORNATA
A3: GIRONE A
A5: =TABELLONE!J12 -> SKIACCIAK MOSCA | B5: =IF(B17<66,0,IF(B17<70,1,IF(B17<74,2,IF(B17<78,3,IF(B17<82,4,IF(B17<86,5,IF(B17<90,6,IF(B17<94,7,IF(B17<98,8,IF(B17<101,9,10)))))))))) -> 0 | C5: =TABELLONE!K12 -> INTERFOGAT | D5: =IF(D17<66,0,IF(D17<70,1,IF(D17<74,2,IF(D17<78,3,IF(D17<82,4,IF(D17<86,5,IF(D17<90,6,IF(D17<94,7,IF(D17<98,8,IF(D17<101,9,10)))))))))) -> 2 | J5: =TABELLONE!J13 -> FLYBEARD | K5: =IF(K17<66,0,IF(K17<70,1,IF(K17<74,2,IF(K17<78,3,IF(K17<82,4,IF(K17<86,5,IF(K17<90,6,IF(K17<94,7,IF(K17<98,8,IF(K17<101,9,10)))))))))) -> 2 | L5: =TABELLONE!K13 -> TETTE BISCOTTATE | M5: =IF(M17<66,0,IF(M17<70,1,IF(M17<74,2,IF(M17<78,3,IF(M17<82,4,IF(M17<86,5,IF(M17<90,6,IF(M17<94,7,IF(M17<98,8,IF(M17<101,9,10)))))))))) -> 1
A6: PORTOGALLO | B6: 6.5 | C6: CILE | D6: 5 | J6: MESSICO | K6: 5 | L6: GERMANIA | M6: 4.5
A7: GUERREIRO | B7: sv | C7: ELISEU | D7: 8 | J7: RUDIGER | K7: 6 | L7: MORENO | M7: 6
A8: PEPE | B8: 5.5 | C8: BRUNO ALVES | D8: 6.5 | J8: FONTE | K8: 6 | L8: JARA | M8: 5.5
A9: MEDEL | B9: sv | C9: ISLA | D9: 5 | F9: Assist | J9: NGADEU NGADJU | K9: 4.5 | L9: VASIN | M9: 4.5
A10: MOUKANDJO | B10: 5.5 | C10: BERNARDO SILVA | D10: 10 | F10: Herrera | J10: VIDAL | K10: 5.5 | L10: GUARDADO | M10: 5.5
A11: GIOVANNI DOS SANTOS | B11: 5.5 | C11: BRANDT | D11: 10 | F11: Draxler | J11: VELA | K11: 6.5 | L11: SAMEDOV | M11: 9.5
A12: DRAXLER | B12: 7.5 | C12: MOUTINHO | D12: 5.5 | F12: Kruse | J12: ZHIRKOV | K12: 3.5 | L12: GORETZKA | M12: 6.5
A13: ARANGUIZ | B13: 5 | C13: DANILO PEREIRA | D13: 6.5 | F13: Edu Vargas | J13: ANDRE GOMES | K13: 5.5 | L13: HERRERA | M13: 7.5
A14: AQUINO | B14: 6 | C14: ANDRE SILVA | D14: 10 | F14: Eliseu | J14: EDU VARGAS | K14: 7 | L14: CHICHARITO | M14: 6
A15: RONALDO | B15: 10 | C15: WAGNER | D15: 6.5 | J15: PERALTA | K15: 9.5 | L15: SMOLOV | M15: 6.5
A16: QUARESMA | B16: 6.5 | C16: STINDL | D16: sv | J16: WERNER | K16: 13.5 | L16: SANCHEZ | M16: 7
B17: =SUM(B6:B16) -> 58 | D17: =SUM(D6:D16) -> 73 | K17: =SUM(K6:K16) -> 72.5 | M17: =SUM(M6:M16) -> 69
A18: PANCHINA | C18: PANCHINA | J18: PANCHINA | L18: PANCHINA
A19: PORTOGALLO | B19: 6.5 | C19: CILE | D19: 5 | J19: MESSICO | K19: 5 | L19: GERMANIA | M19: 4.5
A20: HECTOR | B20: sv | C20: BEAUSEJOUR | D20: sv | J20: D. REYES | K20: 6 | L20: SCHISKIN | M20: sv
A21: MUSTAFI | B21: sv | C21: MENA | D21: 6 | J21: L. REYES | K21: 6 | L21: FAI | M21: 6
A22: OWONA | B22: sv | C22: KUNDRIANKOV | D22: sv | J22: TEIKEU | K22: 5 | L22: DEGENEK | M22: sv
A23: MANDJECK | B23: sv | C23: MARTIN RODRIGUEZ | D23: 10 | J23: CARVALHO | K23: sv | L23: EMRE CAN | M23: 6.5
A24: IRVINE | B24: 5.5 | C24: JHONATAN DO SANTOS | D24: 5 | J24: GLUSHAKOV | K24: 5.5 | L24: RUDY | M24: 6
A25: MCGLINCHEY | B25: 5 | C25: GOLOVIN | D25: 5.5 | J25: MIRANCHUK | K25: sv | L25: HERNANDEZ | M25: 6
A26: BASSOGOG | B26: 5.5 | C26: MARTINS | D26: sv | J26: ABOUBAKAR | K26: 9.5 | L26: JIMENEZ | M26: sv
A27: KRUSE | B27: 8 | C27: YOUNES | D27: sv | J27: ZOUA | K27: sv | L27: NANI | M27: 10
A28: CAHILL | B28: 5.5 | C28: WOOD | D28: 6.5 | J28: LECKIE | K28: 5.5 | L28: POLOZ | M28: 5.5

Sheet FINALE
A1: FINALE
A3: TABELLONE
A5: =TABELLONE!A28 -> TETTE BISCOTTATE | B5: =IF(B17<66,0,IF(B17<70,1,IF(B17<74,2,IF(B17<78,3,IF(B17<82,4,IF(B17<86,5,IF(B17<90,6,IF(B17<94,7,IF(B17<98,8,IF(B17<101,9,10)))))))))) -> 2 | C5: =TABELLONE!B28 -> INTERFOGAT | D5: =IF(D17<66,0,IF(D17<70,1,IF(D17<74,2,IF(D17<78,3,IF(D17<82,4,IF(D17<86,5,IF(D17<90,6,IF(D17<94,7,IF(D17<98,8,IF(D17<101,9,10)))))))))) -> 2
A6: GERMANIA | B6: 6 | C6: PORTOGALLO | D6: 6.5
A7: RUDIGER | B7: 6 | C7: KIMMICH | D7: 6
A8: CEDRIC SOARES | B8: 6 | C8: ELISEU | D8: 6
A9: HECTOR MORENO | B9: 5 | C9: BRUNO ALVES | D9: 5.5 | G9: Assist
A10: EMRE CAN | B10: 6 | C10: BERNARDO SILVA | D10: 5.5 | G10: Emre Can
A11: GORETZKA | B11: 13.5 | C11: DRAXLER | D11: 6.5 | G11: Herrera
A12: VIDAL | B12: 6.5 | C12: BRANDT | D12: 6 | G12: Werner
A13: ANDRÉ GOMES | B13: 6 | C13: ADRIEN SILVA | D13: 6.5 | G13: Hector
A14: RONALDO | B14: 6 | C14: ANDRE SILVA | D14: 5
A15: SANCHEZ | B15: 6.5 | C15: STINDL | D15: 6
A16: EDU VARGAS | B16: 5.5 | C16: WERNER | D16: 11 | H16: CALCI DI RIGORE
B17: =SUM(B6:B16) -> 73 | D17: =SUM(D6:D16) -> 70.5
A18: PANCHINA | C18: PANCHINA | H18: TETTE BISCOTTATE | L18: INTERFOGAT
A19: GERMANIA | B19: 6 | C19: PORTOGALLO | D19: 6.5 | H19: GIOCATORE | J19: VOTO PURO | K19: GOL | L19: GIOCATORE | N19: VOTO PURO | O19: GOL
A20: JOSÉ FONTE | B20: 6 | C20: HECTOR | D20: 7.5 | G20: 1 | H20: RUDIGER | J20: 6 | K20: SI | L20: KIMMICH | N20: 6 | O20: SI
A21: JARA | B21: 5.5 | C21: MUSTAFI | D21: sv | G21: 2 | H21: EMRE CAN | J21: 5.5 | K21: NO | L21: BERNARDO SILVA | N21: 5.5 | O21: NO
A22: ARUJIO | B22: sv | C22: ISLA | D22: 6.5 | G22: 3 | H22: GORETZKA | J22: 7.5 | K22: SI | L22: DRAXLER | N22: 6.5 | O22: SI
A23: PABLO HERNANDEZ | B23: 6 | C23: DEMIRBAY | D23: sv | G23: 4 | H23: C. RONALDO | J23: 6 | K23: SI | L23: ANDRE' SILVA | N23: 5.5 | O23: NO
A24: HERRERA | B24: 7 | C24: MARTIN RODRIGUEZ | D24: 6 | G24: 5 | H24: SANCHEZ | J24: 6.5 | K24: SI | L24: STINDL | N24: 6 | O24: SI
A25: RUDY | B25: 6 | C25: ARANGUIZ | D25: 6.5
A26: CHICHARITO | B26: 5.5 | C26: WAGNER | D26: sv | H26: 4 | L26: 3
A27: NANI | B27: 5.5 | C27: YOUNES | D27: 9.5
A28: RAUL JIMENEZ | B28: 4.5 | C28: QUARESMA | D28: 5.5

Sheet GIOCATORI
A1: COMPETIZIONE | B1: NOME_COGNOME_GIOCATORE | C1: NAZIONALE | D1: RUOLO_FANTA | E1: $_FD
A2: ConfCup2017 | B2: Claudio Bravo | C2: Cile | D2: P | E2: 23
A3: ConfCup2017 | B3: Johnny Herrera | C3: Cile | D3: P | E3: 3
A4: ConfCup2017 | B4: Cristopher Toselli | C4: Cile | D4: P | E4: 2
A5: ConfCup2017 | B5: Gonzalo Jara | C5: Cile | D5: D | E5: 8 | F5: x
A6: ConfCup2017 | B6: Gary Medel | C6: Cile | D6: D | E6: 15
A7: ConfCup2017 | B7: Mauricio Isla | C7: Cile | D7: D | E7: 20
A8: ConfCup2017 | B8: Eugenio Mena | C8: Cile | D8: D | E8: 8
A9: ConfCup2017 | B9: Enzo Roco | C9: Cile | D9: D | E9: 4
B10: beausejour | C10: cile
A11: ConfCup2017 | B11: Paulo Díaz | C11: Cile | D11: D | E11: 2 | F11: X
A12: ConfCup2017 | B12: Jean Beausejour | C12: Cile | D12: D | E12: 8
A13: ConfCup2017 | B13: Arturo Vidal | C13: Cile | D13: C | E13: 57 | F13: x
A14: ConfCup2017 | B14: Charles Aránguiz | C14: Cile | D14: C | E14: 45 | F14: X
A15: ConfCup2017 | B15: Marcelo Díaz | C15: Cile | D15: C | E15: 6
A16: ConfCup2017 | B16: José Pedro Fuenzalida | C16: Cile | D16: C | E16: 5
A17: ConfCup2017 | B17: Felipe Gutiérrez | C17: Cile | D17: C | E17: 13
A18: ConfCup2017 | B18: Francisco Silva | C18: Cile | D18: C | E18: 4
A19: ConfCup2017 | B19: Pablo Hernández | C19: Cile | D19: C | E19: 57
A20: ConfCup2017 | B20: Martin Rodriguez | C20: Cile | D20: C | E20: 9
A21: ConfCup2017 | B21: Leonardo Valencia | C21: Cile | D21: C | E21: 21
A22: ConfCup2017 | B22: Alexis Sánchez | C22: Cile | D22: A | E22: 95
A23: ConfCup2017 | B23: Eduardo Vargas | C23: Cile | D23: A | E23: 95 | F23: x
A24: ConfCup2017 | B24: Edson Puch | C24: Cile | D24: A | E24: 18
A25: ConfCup2017 | B25: Ángelo Sagal | C25: Cile | D25: A | E25: 12
A26: ConfCup2017 | B26: Marc-André ter Stegen | C26: Germania | D26: P | E26: 20
A27: ConfCup2017 | B27: Bernd Leno | C27: Germania | D27: P | E27: 6
A28: ConfCup2017 | B28: Kevin Trapp | C28: Germania | D28: P | E28: 2
A29: ConfCup2017 | B29: Shkodran Mustafi | C29: Germania | D29: D | E29: 17 | F29: X
A30: ConfCup2017 | B30: Niklas Süle | C30: Germania | D30: D | E30: 2
A31: ConfCup2017 | B31: Antonio Rüdiger | C31: Germania | D31: D | E31: 17 | F31: x
A32: ConfCup2017 | B32: Matthias Ginter | C32: Germania | D32: D | E32: 9 | F32: X
A33: ConfCup2017 | B33: Jonas Hector | C33: Germania | D33: D | E33: 22 | F33: x
A34: ConfCup2017 | B34: Marvin Plattenhardt | C34: Germania | D34: D | E34: 2
A35: ConfCup2017 | B35: Benjamin Henrichs | C35: Germania | D35: D | E35: 5
A36: ConfCup2017 | B36: Joshua Kimmich | C36: Germania | D36: D | E36: 22
A37: ConfCup2017 | B37: Emre Can | C37: Germania | D37: C | E37: 55
A38: ConfCup2017 | B38: Sebastian Rudy | C38: Germania | D38: C | E38: 48
A39: ConfCup2017 | B39: Diego Demme | C39: Germania | D39: C | E39: 6
A40: ConfCup2017 | B40: Leon Goretzka | C40: Germania | D40: C | E40: 25
...

Sheet skiacciak mosca
A1: Squadra | B1: Fabrizio Rapetti
A3: Portiere | B3: Squadra
A4: PORTOGALLO | B4: POR
A6: Difensori
A7: RAPAEL GUERRIERO | B7: POR
A8: HECTOR | B8: GER
A9: MUSTAFI | B9: GER
A10: PEPE | B10: POR
A11: MEDEL | B11: CIL
A12: SAINSBURY | B12: AUS
A13: OWONA | B13: CAM
A14: BROTHERTON | B14: NZE
A16: Centrocampisti
A17: DRAXLER | B17: GER
A18: GIOVANI DOS SANTOS | B18: MEX
A19: ARANGUIZ | B19: CIL
A20: MOUKANDJO | B20: CAM
A21: AQUINO | B21: MEX
A22: MANDJECK | B22: CAM
A23: IRVINE | B23: AUS
A24: MCGLINCHEY | B24: NZE
A26: Attaccanti
A27: RONALDO | B27: POR
A28: QUARESMA | B28: POR
A29: BASSOGOG | B29: CAM
A30: KRUSE | B30: AUS
A31: KANNUNNIKOV | B31: RUS
A32: CAHILL | B32: AUS

Sheet tette biscottate
A1: Squadra | B1: Andrea Ammannati
A3: Portiere | B3: Squadra
A4: GERMANIA | B4: GER
A6: Difensori
A7: RUDIGER | B7: GER
A8: CEDRIC SOARES | B8: POR
A9: HECTOR MORENO | B9: MEX
A10: JOSE' FONTE | B10: POR
A11: DIEGO REYES | B11: MEX
A12: ARAUJO | B12: MEX
A13: JARA | B13: CIL
A14: PAULO DIAZ | B14: CIL
A16: Centrocampisti
A17: EMRE CAN | B17: GER
A18: GORETZKA | B18: GER
A19: HERRERA | B19: MEX
A20: PABLO HERNANDEZ | B20: CIL
A21: VIDAL | B21: CIL
A22: RUDY | B22: GER
A23: LAYUN | B23: MEX
A24: ANDRE' GOMES | B24: POR
A26: Attaccanti
A27: ALEXIS SANCHEZ | B27: CIL
A28: CHICHARITO | B28: MEX
A29: NANI | B29: POR
A30: RONALDO | B30: POR
A31: RAUL JIMENEZ | B31: MEX
A32: EDUARDO VARGAS | B32: CIL

Sheet flybeard
A1: Squadra | B1: Luca Frongia & Federico Corradi
A3: Portiere | B3: Squadra
A4: MEXICO | B4: MEX
A6: Difensori
A7: RUDIGER | B7: GER
A8: JOSE FONTE | B8: POR
A9: NGADEO NGADJUI | B9: CAM
A10: DIEGO REYES | B10: MEX
A11: GINTER | B11: GER
A12: HENRICHS | B12: GER
A13: TEIKEU | B13: CAM
A14: LUIS RICARDO REYES | B14: MEX
A16: Centrocampisti
A17: ARTURO VIDAL | B17: CIL
A18: CARLOS VELA | B18: MEX
A19: MIRANCHUK | B19: RUS
A20: ANDRE GOMES | B20: POR
A21: GLUSHAKOV | B21: RUS
A22: ZHIRKOV | B22: RUS
A23: CARVALHO | B23: POR
A24: SIANI | B24: CAM
A26: Attaccanti
A27: EDU VARGAS | B27: CIL
A28: WERNER | B28: GER
A29: ABOUBAKAR | B29: CAM
A30: PERALTA | B30: MEX
A31: LECKIE | B31: AUS
A32: ZOUA | B32: CAM

Sheet interfogat
A1: Squadra | B1: Luca Valli
A3: Portiere | B3: Squadra
A4: PORTOGALLO | B4: POR
A6: Difensori
A7: KIMMICH | B7: GER
A8: ELISEU | B8: POR
A9: ISLA | B9: CIL
A10: HECTOR | B10: GER
A11: MUSTAFI | B11: GER
A12: GINTER | B12: GER
A13: BRUNO ALVES | B13: POR
A14: MENA | B14: CIL
A16: Centrocampisti
A17: BERNARDO SILVA | B17: POR
A18: BRANDT | B18: GER
A19: MOUTINHO | B19: POR
A20: DRAXLER | B20: GER
A21: ADRIEN SILVA | B21: POR
A22: DEMIRBAY | B22: GER
A23: MARTIN RODRIGUEZ | B23: CIL
A24: ARANGUIZ | B24: CIL
A26: Attaccanti
A27: ANDRE SILVA | B27: POR
A28: WAGNER | B28: GER
A29: STINDL | B29: GER
A30: WERNER | B30: GER
A31: QUARESMA | B31: POR
A32: YOUNES | B32: GER
