Workbook

Sheet Riassunto
A1: SERIE A | M1: 1 giro giu
A2: Tette Biscottate | B2: Tette Biscottate | C2: Tette Biscottate | D2: Tette Biscottate | E2: Crediti Rimasti | F2: ='Serie A'!E31 -> 503 | G2: Rimanente | M2: 2 giro giu
A3: FALCINELLI | B3: 13 | G3: P-D-C | M3: 3 giro giu
M4: 1 giro set
A5: Cyrano IR | B5: Cyrano IR | C5: Cyrano IR | D5: Cyrano IR | E5: Crediti Rimasti | F5: ='Serie A'!L31 -> 499 | G5: Rimanente | M5: 2 giro set
A6: BONAVENTURA | B6: 1 | G6: P-D-A
A8: SC APPLAUSO | B8: SC APPLAUSO | C8: SC APPLAUSO | D8: SC APPLAUSO | E8: Crediti Rimasti | F8: ='Serie A'!S31 -> 492 | G8: Rimanente
A9: CONTI | B9: 8 | G9: P-C-A
A11: MC.Town | B11: MC.Town | C11: MC.Town | D11: MC.Town | E11: Crediti Rimasti | F11: ='Serie A'!Z31 -> 505 | G11: Rimanente
A12: SPINAZZOLA | B12: 3 | C12: SILVESTRE | D12: 4 | E12: PALOSCHI | F12: 4
A14: Flybeard | B14: Flybeard | C14: Flybeard | D14: Flybeard | E14: Crediti Rimasti | F14: ='Serie A'!AG31 -> 503 | G14: Rimanente
G15: P-D-C-A
A17: Evribadi | B17: Evribadi | C17: Evribadi | D17: Evribadi | E17: Crediti Rimasti | F17: ='Serie A'!AN31 -> 474 | G17: Rimanente
A18: CAPRARI | B18: 34 | G18: P-D-C
A20: Bayer 04 Pappiana | E20: Crediti Rimasti | F20: ='Serie A'!AU31 -> 500 | G20: Rimanente
G21: P-D-C-A
A23: INTERFOGAT | E23: Crediti Rimasti | F23: ='Serie A'!BB31 -> 487 | G23: Rimanente
A24: ZIELINKSI | B24: 16 | G24: P-D-A
A26: SJ Pardus | E26: Crediti Rimasti | F26: ='Serie A'!BI31 -> 500 | G26: Rimanente
G27: P-D-C-A
A29: Biscotti Strimbuschistani | E29: Crediti Rimasti | F29: ='Serie A'!BP31 -> 468 | G29: Rimanente
A30: INSIGNE | B30: 40 | G30: P-D-C
A33: SERIE B
A34: Nedved 11 | B34: Nedved 11 | C34: Nedved 11 | D34: Nedved 11 | E34: Crediti Rimasti | F34: ='Serie B'!E31 -> 490 | G34: Rimanente
A35: CALDARA | B35: 10 | G35: P-C-A
A37: As Tronzi | E37: Crediti Rimasti | F37: ='Serie B'!L31 -> 497 | G37: Rimanente
A38: CAPRARI | B38: 2 | C38: CASTRO | D38: 1 | G38: P-D
A40: MaBraviiissimi FC | E40: Crediti Rimasti | F40: ='Serie B'!S31 -> 501 | G40: Rimanente
A41: DE ROSSI | B41: 2 | G41: P-D-A
A43: Mojito Football Club | E43: Crediti Rimasti | F43: ='Serie B'!Z31 -> 491 | G43: Rimanente
A44: VERDI | B44: 3 | C44: BARRECA | D44: 7 | G44: P-A
A46: SKIACCIAK MOSCA | E46: Crediti Rimasti | F46: ='Serie B'!AG31 -> 475 | G46: Rimanente
A47: EL SHAARAWY | B47: 25 | G47: P-D-C
A49: FC MARCELLONA | E49: Crediti Rimasti | F49: ='Serie B'!AN31 -> 509 | G49: Rimanente
G50: P-D-C-A
A52: Badbees FC | E52: Crediti Rimasti | F52: ='Serie B'!AU31 -> 498 | G52: Rimanente
A53: KESSIE | B53: 8 | C53: CONTI | D53: 2 | G53: P-A
A55: A.C. Denti | E55: Crediti Rimasti | F55: ='Serie B'!BB31 -> 497 | G55: Rimanente
A56: LAPADULA | B56: 3 | G56: P-D-C
A58: SOLOPISA1909 | E58: Crediti Rimasti | F58: ='Serie B'!BI31 -> 509 | G58: Rimanente
A59: FREULER | B59: 1 | C59: MASIELLO | D59: 6 | G59: P-A
A61: Mai Na Gioia Sporting Club | E61: Crediti Rimasti | F61: ='Serie B'!BP31 -> 510 | G61: Rimanente
A62: DE PAUL | B62: 3 | C62: TOLOI | D62: 1 | G62: P-A
A66: LEGA PRO
A67: C.S. Riposa | B67: C.S. Riposa | C67: C.S. Riposa | D67: C.S. Riposa | E67: Crediti Rimasti | F67: ='Lega Pro'!E31 -> 518 | G67: Rimanente
G68: P-D-C-A
A70: AC Numb3rs | B70: AC Numb3rs | C70: AC Numb3rs | D70: AC Numb3rs | E70: Crediti Rimasti | F70: ='Lega Pro'!L31 -> 505 | G70: Rimanente
A71: DI FRANCESCO | B71: 1 | C71: RUGANI | D71: 1 | G71: P-D-A
A73: Bayern Bikers | B73: Bayern Bikers | C73: Bayern Bikers | D73: Bayern Bikers | E73: Crediti Rimasti | F73: ='Lega Pro'!S31 -> 500 | G73: Rimanente
G74: P-D-C-A
A76: TEAM AS TURBO | B76: TEAM AS TURBO | C76: TEAM AS TURBO | D76: TEAM AS TURBO | E76: Crediti Rimasti | F76: ='Lega Pro'!Z31 -> 516 | G76: Rimanente
A77: VERDI | B77: 5 | G77: P-D-A
A79: SS LONGOBARDA | B79: SS LONGOBARDA | C79: SS LONGOBARDA | D79: SS LONGOBARDA | E79: Crediti Rimasti | F79: ='Lega Pro'!AG31 -> 489 | G79: Rimanente
A80: JOAO PEDRO | B80: 11 | G80: P-D-A
A82: UNAJUNGLACAZO fc | E82: Crediti Rimasti | F82: ='Lega Pro'!AN31 -> 499 | G82: Rimanente
A83: INGLESE | B83: 18 | C83: GAGLIARDINI | D83: 4 | G83: P-D
A85: Brigata Gurren | E85: Crediti Rimasti | F85: ='Lega Pro'!AU31 -> 459 | G85: Rimanente
A86: HAMSIK | B86: 20 | C86: FALCINELLI | D86: 17 | E86: MASIELLO | F86: 7
A88: Ibradiposi | E88: Crediti Rimasti | F88: ='Lega Pro'!BB31 -> 499 | G88: Rimanente
A89: CONTI | B89: 1 | C89: KESSIE | D89: 7 | E89: INSIGNE | F89: 25
A91: Drakeset | E91: Crediti Rimasti | F91: ='Lega Pro'!BI31 -> 477 | G91: Rimanente
A92: PJACA | B92: 12 | C92: BASELLI | D92: 20 | E92: ZAPPACOSTA | F92: 1
A94: Lucense Football Club | E94: Crediti Rimasti | F94: ='Lega Pro'!BP31 -> 495 | G94: Rimanente
A95: ZIELINSKI | B95: 10 | C95: NETO | D95: 1 | G95: D-A
A99: SERIE D
A100: GuameseDOC | B100: GuameseDOC (-6) | C100: GuameseDOC (-6) | D100: GuameseDOC (-6) | E100: Crediti Rimasti | F100: ='Serie D'!E31 -> 565 | G100: Rimanente
G101: P-D-C-A
A103: Real Chupito | B103: Real Chupito | C103: Real Chupito | D103: Real Chupito | E103: Crediti Rimasti | F103: ='Serie D'!L31 -> 509 | G103: Rimanente
A104: RUDIGER | B104: 2 | G104: P-C-A
A106: UGF Pisa | B106: UGF Pisa | C106: UGF Pisa | D106: UGF Pisa | E106: Crediti Rimasti | F106: ='Serie D'!S31 -> 498 | G106: Rimanente
A107: BENATIA | B107: 1 | C107: BONAVENTURA | D107: 1 | G107: P-A
A109: Transporters United 1462 | B109: Transporters United 1462 | C109: Transporters United 1462 | D109: Transporters United 1462 | E109: Crediti Rimasti | F109: ='Serie D'!Z31 -> 461 | G109: Rimanente
A110: DELOUFEU | B110: 30 | C110: F. ANDERSON | D110: 18 | G110: P-D
A112: Cska Scina | B112: Cska Scina | C112: Cska Scina | D112: Cska Scina | E112: Crediti Rimasti | F112: ='Serie D'!AG31 -> 498 | G112: Rimanente
A113: KEITA | B113: 1 | C113: LJAJC | D113: 10 | G113: P-D
A115: scarsenal | B115: scarsenal | C115: scarsenal | D115: scarsenal | E115: Crediti Rimasti | F115: ='Serie D'!AN31 -> 500 | G115: Rimanente
A116: DE ROSSI | B116: 1 | C116: FAZIO | D116: 1 | G116: P-A

Sheet Serie A
A1: Tette Biscottate | B1: Tette Biscottate | C1: Tette Biscottate | D1: Tette Biscottate | E1: Giugno | F1: Settembre | H1: Cyrano IR | I1: Cyrano IR | J1: Cyrano IR | K1: Cyrano IR | L1: Giugno | M1: Settembre | O1: SC APPLAUSO | P1: SC APPLAUSO | Q1: SC APPLAUSO | R1: SC APPLAUSO | S1: Giugno | T1: Settembre | V1: MC.Town | W1: MC.Town | X1: MC.Town | Y1: MC.Town | Z1: Giugno | AA1: Settembre | AC1: Flybeard | AD1: Flybeard | AE1: Flybeard | AF1: Flybeard | AG1: Giugno | AH1: Settembre | AJ1: Evribadi | AK1: Evribadi | AL1: Evribadi | AM1: Evribadi | AN1: Giugno | AO1: Settembre | AQ1: Bayer 04 Pappiana | AU1: Giugno | AV1: Settembre | AX1: INTERFOGAT | BB1: Giugno | BC1: Settembre | BE1: SJ Pardus | BI1: Giugno | BJ1: Settembre | BL1: Biscotti Strimbuschistani | BP1: Giugno | BQ1: Settembre
A2: Ruolo | B2: Calciatore | C2: Squadra | D2: Costo | H2: Ruolo | I2: Calciatore | J2: Squadra | K2: Costo | O2: Ruolo | P2: Calciatore | Q2: Squadra | R2: Costo | V2: Ruolo | W2: Calciatore | X2: Squadra | Y2: Costo | AC2: Ruolo | AD2: Calciatore | AE2: Squadra | AF2: Costo | AJ2: Ruolo | AK2: Calciatore | AL2: Squadra | AM2: Costo | AQ2: Ruolo | AR2: Calciatore | AS2: Squadra | AT2: Costo | AX2: Ruolo | AY2: Calciatore | AZ2: Squadra | BA2: Costo | BE2: Ruolo | BF2: Calciatore | BG2: Squadra | BH2: Costo | BL2: Ruolo | BM2: Calciatore | BN2: Squadra | BO2: Costo
A3: P | B3: CONSIGLI | C3: SASSUOLO | D3: 21 | E3: =IF(A3="P",IF(D3<7,"SI","NO"),IF(A3="D",IF(D3<11,"SI","NO"),IF(A3="C",IF(D3<21,"SI","NO"),IF(A3="A",IF(D3<41,"SI","NO"))))) -> NO | F3: =IF(A3="P",IF(D3<4,"SI","NO"),IF(A3="D",IF(D3<6,"SI","NO"),IF(A3="C",IF(D3<11,"SI","NO"),IF(A3="A",IF(D3<21,"SI","NO"))))) -> NO | H3: P | I3: PADELLI | J3: TORINO | K3: 1 | L3: =IF(H3="P",IF(K3<7,"SI","NO"),IF(H3="D",IF(K3<11,"SI","NO"),IF(H3="C",IF(K3<21,"SI","NO"),IF(H3="A",IF(K3<41,"SI","NO"))))) -> SI | M3: =IF(H3="P",IF(K3<4,"SI","NO"),IF(H3="D",IF(K3<6,"SI","NO"),IF(H3="C",IF(K3<11,"SI","NO"),IF(H3="A",IF(K3<21,"SI","NO"))))) -> SI | V3: P | W3: BUFFON | X3: JUVENTUS | Y3: 60 | Z3: =IF(V3="P",IF(Y3<7,"SI","NO"),IF(V3="D",IF(Y3<11,"SI","NO"),IF(V3="C",IF(Y3<21,"SI","NO"),IF(V3="A",IF(Y3<41,"SI","NO"))))) -> NO | AA3: =IF(V3="P",IF(Y3<4,"SI","NO"),IF(V3="D",IF(Y3<6,"SI","NO"),IF(V3="C",IF(Y3<11,"SI","NO"),IF(V3="A",IF(Y3<21,"SI","NO"))))) -> NO | AC3: P | AD3: GOLLINI | AE3: ATALANTA | AF3: 1 | AG3: =IF(AC3="P",IF(AF3<7,"SI","NO"),IF(AC3="D",IF(AF3<11,"SI","NO"),IF(AC3="C",IF(AF3<21,"SI","NO"),IF(AC3="A",IF(AF3<41,"SI","NO"))))) -> SI | AH3: =IF(AC3="P",IF(AF3<4,"SI","NO"),IF(AC3="D",IF(AF3<6,"SI","NO"),IF(AC3="C",IF(AF3<11,"SI","NO"),IF(AC3="A",IF(AF3<21,"SI","NO"))))) -> SI | AJ3: P | AK3: SZSZESNY | AL3: ROMA | AM3: 52 | AN3: =IF(AJ3="P",IF(AM3<7,"SI","NO"),IF(AJ3="D",IF(AM3<11,"SI","NO"),IF(AJ3="C",IF(AM3<21,"SI","NO"),IF(AJ3="A",IF(AM3<41,"SI","NO"))))) -> NO | AO3: =IF(AJ3="P",IF(AM3<4,"SI","NO"),IF(AJ3="D",IF(AM3<6,"SI","NO"),IF(AJ3="C",IF(AM3<11,"SI","NO"),IF(AJ3="A",IF(AM3<21,"SI","NO"))))) -> NO | AQ3: P | AR3: MARCHETTI | AS3: LAZIO | AT3: 16 | AU3: =IF(AQ3="P",IF(AT3<7,"SI","NO"),IF(AQ3="D",IF(AT3<11,"SI","NO"),IF(AQ3="C",IF(AT3<21,"SI","NO"),IF(AQ3="A",IF(AT3<41,"SI","NO"))))) -> NO | AV3: =IF(AQ3="P",IF(AT3<4,"SI","NO"),IF(AQ3="D",IF(AT3<6,"SI","NO"),IF(AQ3="C",IF(AT3<11,"SI","NO"),IF(AQ3="A",IF(AT3<21,"SI","NO"))))) -> NO | AX3: P | AY3: BUFFON | AZ3: JUVENTUS | BA3: 61 | BB3: =IF(AX3="P",IF(BA3<7,"SI","NO"),IF(AX3="D",IF(BA3<11,"SI","NO"),IF(AX3="C",IF(BA3<21,"SI","NO"),IF(AX3="A",IF(BA3<41,"SI","NO"))))) -> NO | BC3: =IF(AX3="P",IF(BA3<4,"SI","NO"),IF(AX3="D",IF(BA3<6,"SI","NO"),IF(AX3="C",IF(BA3<11,"SI","NO"),IF(AX3="A",IF(BA3<21,"SI","NO"))))) -> NO | BE3: P | BF3: REINA | BG3: NAPOLI | BH3: 65 | BI3: =IF(BE3="P",IF(BH3<7,"SI","NO"),IF(BE3="D",IF(BH3<11,"SI","NO"),IF(BE3="C",IF(BH3<21,"SI","NO"),IF(BE3="A",IF(BH3<41,"SI","NO"))))) -> NO | BJ3: =IF(BE3="P",IF(BH3<4,"SI","NO"),IF(BE3="D",IF(BH3<6,"SI","NO"),IF(BE3="C",IF(BH3<11,"SI","NO"),IF(BE3="A",IF(BH3<21,"SI","NO"))))) -> NO | BL3: P | BM3: DONNARUMMA | BN3: MILAN | BO3: 31 | BP3: =IF(BL3="P",IF(BO3<7,"SI","NO"),IF(BL3="D",IF(BO3<11,"SI","NO"),IF(BL3="C",IF(BO3<21,"SI","NO"),IF(BL3="A",IF(BO3<41,"SI","NO"))))) -> NO | BQ3: =IF(BL3="P",IF(BO3<4,"SI","NO"),IF(BL3="D",IF(BO3<6,"SI","NO"),IF(BL3="C",IF(BO3<11,"SI","NO"),IF(BL3="A",IF(BO3<21,"SI","NO"))))) -> NO
A4: P | B4: POMINI | C4: SASSUOLO | D4: 1 | E4: =IF(A4="P",IF(D4<7,"SI","NO"),IF(A4="D",IF(D4<11,"SI","NO"),IF(A4="C",IF(D4<21,"SI","NO"),IF(A4="A",IF(D4<41,"SI","NO"))))) -> SI | F4: =IF(A4="P",IF(D4<4,"SI","NO"),IF(A4="D",IF(D4<6,"SI","NO"),IF(A4="C",IF(D4<11,"SI","NO"),IF(A4="A",IF(D4<21,"SI","NO"))))) -> SI | H4: P | I4: HART | J4: TORINO | K4: 25 | L4: =IF(H4="P",IF(K4<7,"SI","NO"),IF(H4="D",IF(K4<11,"SI","NO"),IF(H4="C",IF(K4<21,"SI","NO"),IF(H4="A",IF(K4<41,"SI","NO"))))) -> NO | M4: =IF(H4="P",IF(K4<4,"SI","NO"),IF(H4="D",IF(K4<6,"SI","NO"),IF(H4="C",IF(K4<11,"SI","NO"),IF(H4="A",IF(K4<21,"SI","NO"))))) -> NO | O4: P | P4: HANDANOVIC | Q4: INTER | R4: 55 | S4: =IF(O4="P",IF(R4<7,"SI","NO"),IF(O4="D",IF(R4<11,"SI","NO"),IF(O4="C",IF(R4<21,"SI","NO"),IF(O4="A",IF(R4<41,"SI","NO"))))) -> NO | T4: =IF(O4="P",IF(R4<4,"SI","NO"),IF(O4="D",IF(R4<6,"SI","NO"),IF(O4="C",IF(R4<11,"SI","NO"),IF(O4="A",IF(R4<21,"SI","NO"))))) -> NO | V4: P | W4: KARNEZIS | X4: UDINESE | Y4: 3 | Z4: =IF(V4="P",IF(Y4<7,"SI","NO"),IF(V4="D",IF(Y4<11,"SI","NO"),IF(V4="C",IF(Y4<21,"SI","NO"),IF(V4="A",IF(Y4<41,"SI","NO"))))) -> SI | AA4: =IF(V4="P",IF(Y4<4,"SI","NO"),IF(V4="D",IF(Y4<6,"SI","NO"),IF(V4="C",IF(Y4<11,"SI","NO"),IF(V4="A",IF(Y4<21,"SI","NO"))))) -> SI | AC4: P | AD4: SORRENTINO | AE4: CHIEVO | AF4: 10 | AG4: =IF(AC4="P",IF(AF4<7,"SI","NO"),IF(AC4="D",IF(AF4<11,"SI","NO"),IF(AC4="C",IF(AF4<21,"SI","NO"),IF(AC4="A",IF(AF4<41,"SI","NO"))))) -> NO | AH4: =IF(AC4="P",IF(AF4<4,"SI","NO"),IF(AC4="D",IF(AF4<6,"SI","NO"),IF(AC4="C",IF(AF4<11,"SI","NO"),IF(AC4="A",IF(AF4<21,"SI","NO"))))) -> NO | AJ4: P | AK4: ALLISON | AL4: ROMA | AM4: 1 | AN4: =IF(AJ4="P",IF(AM4<7,"SI","NO"),IF(AJ4="D",IF(AM4<11,"SI","NO"),IF(AJ4="C",IF(AM4<21,"SI","NO"),IF(AJ4="A",IF(AM4<41,"SI","NO"))))) -> SI | AO4: =IF(AJ4="P",IF(AM4<4,"SI","NO"),IF(AJ4="D",IF(AM4<6,"SI","NO"),IF(AJ4="C",IF(AM4<11,"SI","NO"),IF(AJ4="A",IF(AM4<21,"SI","NO"))))) -> SI | AQ4: P | AR4: TATARUSANU | AS4: FIORENTINA | AT4: 17 | AU4: =IF(AQ4="P",IF(AT4<7,"SI","NO"),IF(AQ4="D",IF(AT4<11,"SI","NO"),IF(AQ4="C",IF(AT4<21,"SI","NO"),IF(AQ4="A",IF(AT4<41,"SI","NO"))))) -> NO | AV4: =IF(AQ4="P",IF(AT4<4,"SI","NO"),IF(AQ4="D",IF(AT4<6,"SI","NO"),IF(AQ4="C",IF(AT4<11,"SI","NO"),IF(AQ4="A",IF(AT4<21,"SI","NO"))))) -> NO | AX4: P | AY4: AUDERO | AZ4: JUVENTUS | BA4: 1 | BB4: =IF(AX4="P",IF(BA4<7,"SI","NO"),IF(AX4="D",IF(BA4<11,"SI","NO"),IF(AX4="C",IF(BA4<21,"SI","NO"),IF(AX4="A",IF(BA4<41,"SI","NO"))))) -> SI | BC4: =IF(AX4="P",IF(BA4<4,"SI","NO"),IF(AX4="D",IF(BA4<6,"SI","NO"),IF(AX4="C",IF(BA4<11,"SI","NO"),IF(AX4="A",IF(BA4<21,"SI","NO"))))) -> SI | BE4: P | BF4: RAFAEL | BG4: NAPOLI | BH4: 1 | BI4: =IF(BE4="P",IF(BH4<7,"SI","NO"),IF(BE4="D",IF(BH4<11,"SI","NO"),IF(BE4="C",IF(BH4<21,"SI","NO"),IF(BE4="A",IF(BH4<41,"SI","NO"))))) -> SI | BJ4: =IF(BE4="P",IF(BH4<4,"SI","NO"),IF(BE4="D",IF(BH4<6,"SI","NO"),IF(BE4="C",IF(BH4<11,"SI","NO"),IF(BE4="A",IF(BH4<21,"SI","NO"))))) -> SI | BL4: P | BM4: STORARI | BN4: MILAN | BO4: 15 | BP4: =IF(BL4="P",IF(BO4<7,"SI","NO"),IF(BL4="D",IF(BO4<11,"SI","NO"),IF(BL4="C",IF(BO4<21,"SI","NO"),IF(BL4="A",IF(BO4<41,"SI","NO"))))) -> NO | BQ4: =IF(BL4="P",IF(BO4<4,"SI","NO"),IF(BL4="D",IF(BO4<6,"SI","NO"),IF(BL4="C",IF(BO4<11,"SI","NO"),IF(BL4="A",IF(BO4<21,"SI","NO"))))) -> NO
A5: P | B5: SKORUPSKI | C5: EMPOLI | D5: 2 | E5: =IF(A5="P",IF(D5<7,"SI","NO"),IF(A5="D",IF(D5<11,"SI","NO"),IF(A5="C",IF(D5<21,"SI","NO"),IF(A5="A",IF(D5<41,"SI","NO"))))) -> SI | F5: =IF(A5="P",IF(D5<4,"SI","NO"),IF(A5="D",IF(D5<6,"SI","NO"),IF(A5="C",IF(D5<11,"SI","NO"),IF(A5="A",IF(D5<21,"SI","NO"))))) -> SI | H5: P | I5: SKORUPSKI | J5: EMPOLI | K5: 2 | L5: =IF(H5="P",IF(K5<7,"SI","NO"),IF(H5="D",IF(K5<11,"SI","NO"),IF(H5="C",IF(K5<21,"SI","NO"),IF(H5="A",IF(K5<41,"SI","NO"))))) -> SI | M5: =IF(H5="P",IF(K5<4,"SI","NO"),IF(H5="D",IF(K5<6,"SI","NO"),IF(H5="C",IF(K5<11,"SI","NO"),IF(H5="A",IF(K5<21,"SI","NO"))))) -> SI | O5: P | P5: CARRIZO | Q5: INTER | R5: 1 | S5: =IF(O5="P",IF(R5<7,"SI","NO"),IF(O5="D",IF(R5<11,"SI","NO"),IF(O5="C",IF(R5<21,"SI","NO"),IF(O5="A",IF(R5<41,"SI","NO"))))) -> SI | T5: =IF(O5="P",IF(R5<4,"SI","NO"),IF(O5="D",IF(R5<6,"SI","NO"),IF(O5="C",IF(R5<11,"SI","NO"),IF(O5="A",IF(R5<21,"SI","NO"))))) -> SI | V5: P | W5: CORDAZ | X5: CROTONE | Y5: 1 | Z5: =IF(V5="P",IF(Y5<7,"SI","NO"),IF(V5="D",IF(Y5<11,"SI","NO"),IF(V5="C",IF(Y5<21,"SI","NO"),IF(V5="A",IF(Y5<41,"SI","NO"))))) -> SI | AA5: =IF(V5="P",IF(Y5<4,"SI","NO"),IF(V5="D",IF(Y5<6,"SI","NO"),IF(V5="C",IF(Y5<11,"SI","NO"),IF(V5="A",IF(Y5<21,"SI","NO"))))) -> SI | AC5: P | AD5: BERISHA | AE5: ATALANTA | AF5: 1 | AG5: =IF(AC5="P",IF(AF5<7,"SI","NO"),IF(AC5="D",IF(AF5<11,"SI","NO"),IF(AC5="C",IF(AF5<21,"SI","NO"),IF(AC5="A",IF(AF5<41,"SI","NO"))))) -> SI | AH5: =IF(AC5="P",IF(AF5<4,"SI","NO"),IF(AC5="D",IF(AF5<6,"SI","NO"),IF(AC5="C",IF(AF5<11,"SI","NO"),IF(AC5="A",IF(AF5<21,"SI","NO"))))) -> SI | AJ5: P | AK5: LOBONT | AL5: ROMA | AM5: 1 | AN5: =IF(AJ5="P",IF(AM5<7,"SI","NO"),IF(AJ5="D",IF(AM5<11,"SI","NO"),IF(AJ5="C",IF(AM5<21,"SI","NO"),IF(AJ5="A",IF(AM5<41,"SI","NO"))))) -> SI | AO5: =IF(AJ5="P",IF(AM5<4,"SI","NO"),IF(AJ5="D",IF(AM5<6,"SI","NO"),IF(AJ5="C",IF(AM5<11,"SI","NO"),IF(AJ5="A",IF(AM5<21,"SI","NO"))))) -> SI | AQ5: P | AR5: SPORTIELLO | AS5: FIORENTINA | AT5: 1 | AU5: =IF(AQ5="P",IF(AT5<7,"SI","NO"),IF(AQ5="D",IF(AT5<11,"SI","NO"),IF(AQ5="C",IF(AT5<21,"SI","NO"),IF(AQ5="A",IF(AT5<41,"SI","NO"))))) -> SI | AV5: =IF(AQ5="P",IF(AT5<4,"SI","NO"),IF(AQ5="D",IF(AT5<6,"SI","NO"),IF(AQ5="C",IF(AT5<11,"SI","NO"),IF(AQ5="A",IF(AT5<21,"SI","NO"))))) -> SI | AX5: P | AY5: NETO | AZ5: JUVENTUS | BA5: 1 | BB5: =IF(AX5="P",IF(BA5<7,"SI","NO"),IF(AX5="D",IF(BA5<11,"SI","NO"),IF(AX5="C",IF(BA5<21,"SI","NO"),IF(AX5="A",IF(BA5<41,"SI","NO"))))) -> SI | BC5: =IF(AX5="P",IF(BA5<4,"SI","NO"),IF(AX5="D",IF(BA5<6,"SI","NO"),IF(AX5="C",IF(BA5<11,"SI","NO"),IF(AX5="A",IF(BA5<21,"SI","NO"))))) -> SI | BE5: P | BF5: SEPE | BG5: NAPOLI | BH5: 1 | BI5: =IF(BE5="P",IF(BH5<7,"SI","NO"),IF(BE5="D",IF(BH5<11,"SI","NO"),IF(BE5="C",IF(BH5<21,"SI","NO"),IF(BE5="A",IF(BH5<41,"SI","NO"))))) -> SI | BJ5: =IF(BE5="P",IF(BH5<4,"SI","NO"),IF(BE5="D",IF(BH5<6,"SI","NO"),IF(BE5="C",IF(BH5<11,"SI","NO"),IF(BE5="A",IF(BH5<21,"SI","NO"))))) -> SI | BL5: P | BM5: PLIZZARI | BN5: MILAN | BO5: 1 | BP5: =IF(BL5="P",IF(BO5<7,"SI","NO"),IF(BL5="D",IF(BO5<11,"SI","NO"),IF(BL5="C",IF(BO5<21,"SI","NO"),IF(BL5="A",IF(BO5<41,"SI","NO"))))) -> SI | BQ5: =IF(BL5="P",IF(BO5<4,"SI","NO"),IF(BL5="D",IF(BO5<6,"SI","NO"),IF(BL5="C",IF(BO5<11,"SI","NO"),IF(BL5="A",IF(BO5<21,"SI","NO"))))) -> SI
A6: D | B6: G. RODRIGUEZ | C6: FIORENTINA | D6: 25 | E6: =IF(A6="P",IF(D6<7,"SI","NO"),IF(A6="D",IF(D6<11,"SI","NO"),IF(A6="C",IF(D6<21,"SI","NO"),IF(A6="A",IF(D6<41,"SI","NO"))))) -> NO | F6: =IF(A6="P",IF(D6<4,"SI","NO"),IF(A6="D",IF(D6<6,"SI","NO"),IF(A6="C",IF(D6<11,"SI","NO"),IF(A6="A",IF(D6<21,"SI","NO"))))) -> NO | O6: D | P6: TOLOI | Q6: ATALANTA | R6: 1 | S6: =IF(O6="P",IF(R6<7,"SI","NO"),IF(O6="D",IF(R6<11,"SI","NO"),IF(O6="C",IF(R6<21,"SI","NO"),IF(O6="A",IF(R6<41,"SI","NO"))))) -> SI | T6: =IF(O6="P",IF(R6<4,"SI","NO"),IF(O6="D",IF(R6<6,"SI","NO"),IF(O6="C",IF(R6<11,"SI","NO"),IF(O6="A",IF(R6<21,"SI","NO"))))) -> SI | AJ6: D | AK6: HYSAJ | AL6: NAPOLI | AM6: 13 | AN6: =IF(AJ6="P",IF(AM6<7,"SI","NO"),IF(AJ6="D",IF(AM6<11,"SI","NO"),IF(AJ6="C",IF(AM6<21,"SI","NO"),IF(AJ6="A",IF(AM6<41,"SI","NO"))))) -> NO | AO6: =IF(AJ6="P",IF(AM6<4,"SI","NO"),IF(AJ6="D",IF(AM6<6,"SI","NO"),IF(AJ6="C",IF(AM6<11,"SI","NO"),IF(AJ6="A",IF(AM6<21,"SI","NO"))))) -> NO | AQ6: D | AR6: ACERBI | AS6: SASSUOLO | AT6: 25 | AU6: =IF(AQ6="P",IF(AT6<7,"SI","NO"),IF(AQ6="D",IF(AT6<11,"SI","NO"),IF(AQ6="C",IF(AT6<21,"SI","NO"),IF(AQ6="A",IF(AT6<41,"SI","NO"))))) -> NO | AV6: =IF(AQ6="P",IF(AT6<4,"SI","NO"),IF(AQ6="D",IF(AT6<6,"SI","NO"),IF(AQ6="C",IF(AT6<11,"SI","NO"),IF(AQ6="A",IF(AT6<21,"SI","NO"))))) -> NO | BE6: D | BF6: ACERBI | BG6: SASSUOLO | BH6: 20 | BI6: =IF(BE6="P",IF(BH6<7,"SI","NO"),IF(BE6="D",IF(BH6<11,"SI","NO"),IF(BE6="C",IF(BH6<21,"SI","NO"),IF(BE6="A",IF(BH6<41,"SI","NO"))))) -> NO | BJ6: =IF(BE6="P",IF(BH6<4,"SI","NO"),IF(BE6="D",IF(BH6<6,"SI","NO"),IF(BE6="C",IF(BH6<11,"SI","NO"),IF(BE6="A",IF(BH6<21,"SI","NO"))))) -> NO
A7: D | B7: GASTALDELLO | C7: BOLOGNA | D7: 3 | E7: =IF(A7="P",IF(D7<7,"SI","NO"),IF(A7="D",IF(D7<11,"SI","NO"),IF(A7="C",IF(D7<21,"SI","NO"),IF(A7="A",IF(D7<41,"SI","NO"))))) -> SI | F7: =IF(A7="P",IF(D7<4,"SI","NO"),IF(A7="D",IF(D7<6,"SI","NO"),IF(A7="C",IF(D7<11,"SI","NO"),IF(A7="A",IF(D7<21,"SI","NO"))))) -> SI | H7: D | I7: STRINIC | J7: NAPOLI | K7: 1 | L7: =IF(H7="P",IF(K7<7,"SI","NO"),IF(H7="D",IF(K7<11,"SI","NO"),IF(H7="C",IF(K7<21,"SI","NO"),IF(H7="A",IF(K7<41,"SI","NO"))))) -> SI | M7: =IF(H7="P",IF(K7<4,"SI","NO"),IF(H7="D",IF(K7<6,"SI","NO"),IF(H7="C",IF(K7<11,"SI","NO"),IF(H7="A",IF(K7<21,"SI","NO"))))) -> SI | O7: D | P7: CONTI | Q7: ATALANTA | R7: 8 | S7: 8 | V7: D | W7: RUDIGER | X7: ROMA | Y7: 10 | Z7: =IF(V7="P",IF(Y7<7,"SI","NO"),IF(V7="D",IF(Y7<11,"SI","NO"),IF(V7="C",IF(Y7<21,"SI","NO"),IF(V7="A",IF(Y7<41,"SI","NO"))))) -> SI | AA7: =IF(V7="P",IF(Y7<4,"SI","NO"),IF(V7="D",IF(Y7<6,"SI","NO"),IF(V7="C",IF(Y7<11,"SI","NO"),IF(V7="A",IF(Y7<21,"SI","NO"))))) -> NO | AC7: D | AD7: FAZIO | AE7: ROMA | AF7: 1 | AG7: =IF(AC7="P",IF(AF7<7,"SI","NO"),IF(AC7="D",IF(AF7<11,"SI","NO"),IF(AC7="C",IF(AF7<21,"SI","NO"),IF(AC7="A",IF(AF7<41,"SI","NO"))))) -> SI | AH7: =IF(AC7="P",IF(AF7<4,"SI","NO"),IF(AC7="D",IF(AF7<6,"SI","NO"),IF(AC7="C",IF(AF7<11,"SI","NO"),IF(AC7="A",IF(AF7<21,"SI","NO"))))) -> SI | AJ7: D | AK7: MASIELLO | AL7: ATALANTA | AM7: 6 | AN7: =IF(AJ7="P",IF(AM7<7,"SI","NO"),IF(AJ7="D",IF(AM7<11,"SI","NO"),IF(AJ7="C",IF(AM7<21,"SI","NO"),IF(AJ7="A",IF(AM7<41,"SI","NO"))))) -> SI | AO7: =IF(AJ7="P",IF(AM7<4,"SI","NO"),IF(AJ7="D",IF(AM7<6,"SI","NO"),IF(AJ7="C",IF(AM7<11,"SI","NO"),IF(AJ7="A",IF(AM7<21,"SI","NO"))))) -> NO | AQ7: D | AR7: WIDMER | AS7: UDINESE | AT7: 16 | AU7: =IF(AQ7="P",IF(AT7<7,"SI","NO"),IF(AQ7="D",IF(AT7<11,"SI","NO"),IF(AQ7="C",IF(AT7<21,"SI","NO"),IF(AQ7="A",IF(AT7<41,"SI","NO"))))) -> NO | AV7: =IF(AQ7="P",IF(AT7<4,"SI","NO"),IF(AQ7="D",IF(AT7<6,"SI","NO"),IF(AQ7="C",IF(AT7<11,"SI","NO"),IF(AQ7="A",IF(AT7<21,"SI","NO"))))) -> NO | AX7: D | AY7: ABATE | AZ7: MILAN | BA7: 4 | BB7: =IF(AX7="P",IF(BA7<7,"SI","NO"),IF(AX7="D",IF(BA7<11,"SI","NO"),IF(AX7="C",IF(BA7<21,"SI","NO"),IF(AX7="A",IF(BA7<41,"SI","NO"))))) -> SI | BC7: =IF(AX7="P",IF(BA7<4,"SI","NO"),IF(AX7="D",IF(BA7<6,"SI","NO"),IF(AX7="C",IF(BA7<11,"SI","NO"),IF(AX7="A",IF(BA7<21,"SI","NO"))))) -> SI | BE7: D | BF7: VERMAELEN | BG7: ROMA | BH7: 13 | BI7: =IF(BE7="P",IF(BH7<7,"SI","NO"),IF(BE7="D",IF(BH7<11,"SI","NO"),IF(BE7="C",IF(BH7<21,"SI","NO"),IF(BE7="A",IF(BH7<41,"SI","NO"))))) -> NO | BJ7: =IF(BE7="P",IF(BH7<4,"SI","NO"),IF(BE7="D",IF(BH7<6,"SI","NO"),IF(BE7="C",IF(BH7<11,"SI","NO"),IF(BE7="A",IF(BH7<21,"SI","NO"))))) -> NO | BL7: D | BM7: MAIETTA | BN7: BOLOGNA | BO7: 1 | BP7: =IF(BL7="P",IF(BO7<7,"SI","NO"),IF(BL7="D",IF(BO7<11,"SI","NO"),IF(BL7="C",IF(BO7<21,"SI","NO"),IF(BL7="A",IF(BO7<41,"SI","NO"))))) -> SI | BQ7: =IF(BL7="P",IF(BO7<4,"SI","NO"),IF(BL7="D",IF(BO7<6,"SI","NO"),IF(BL7="C",IF(BO7<11,"SI","NO"),IF(BL7="A",IF(BO7<21,"SI","NO"))))) -> SI
A8: D | B8: BRUNO ALVES | C8: CAGLIARI | D8: 6 | E8: =IF(A8="P",IF(D8<7,"SI","NO"),IF(A8="D",IF(D8<11,"SI","NO"),IF(A8="C",IF(D8<21,"SI","NO"),IF(A8="A",IF(D8<41,"SI","NO"))))) -> SI | F8: =IF(A8="P",IF(D8<4,"SI","NO"),IF(A8="D",IF(D8<6,"SI","NO"),IF(A8="C",IF(D8<11,"SI","NO"),IF(A8="A",IF(D8<21,"SI","NO"))))) -> NO | H8: D | I8: BEREZYSKI | J8: SAMPDORIA | K8: 1 | L8: =IF(H8="P",IF(K8<7,"SI","NO"),IF(H8="D",IF(K8<11,"SI","NO"),IF(H8="C",IF(K8<21,"SI","NO"),IF(H8="A",IF(K8<41,"SI","NO"))))) -> SI | M8: =IF(H8="P",IF(K8<4,"SI","NO"),IF(H8="D",IF(K8<6,"SI","NO"),IF(H8="C",IF(K8<11,"SI","NO"),IF(H8="A",IF(K8<21,"SI","NO"))))) -> SI | O8: D | P8: KOULIBALY | Q8: NAPOLI | R8: 27 | S8: =IF(O8="P",IF(R8<7,"SI","NO"),IF(O8="D",IF(R8<11,"SI","NO"),IF(O8="C",IF(R8<21,"SI","NO"),IF(O8="A",IF(R8<41,"SI","NO"))))) -> NO | T8: =IF(O8="P",IF(R8<4,"SI","NO"),IF(O8="D",IF(R8<6,"SI","NO"),IF(O8="C",IF(R8<11,"SI","NO"),IF(O8="A",IF(R8<21,"SI","NO"))))) -> NO | V8: D | W8: LICHSTEINER | X8: JUVENTUS | Y8: 5 | Z8: =IF(V8="P",IF(Y8<7,"SI","NO"),IF(V8="D",IF(Y8<11,"SI","NO"),IF(V8="C",IF(Y8<21,"SI","NO"),IF(V8="A",IF(Y8<41,"SI","NO"))))) -> SI | AA8: =IF(V8="P",IF(Y8<4,"SI","NO"),IF(V8="D",IF(Y8<6,"SI","NO"),IF(V8="C",IF(Y8<11,"SI","NO"),IF(V8="A",IF(Y8<21,"SI","NO"))))) -> SI | AC8: D | AD8: ZAPPACOSTA | AE8: TORINO | AF8: 9 | AG8: =IF(AC8="P",IF(AF8<7,"SI","NO"),IF(AC8="D",IF(AF8<11,"SI","NO"),IF(AC8="C",IF(AF8<21,"SI","NO"),IF(AC8="A",IF(AF8<41,"SI","NO"))))) -> SI | AH8: =IF(AC8="P",IF(AF8<4,"SI","NO"),IF(AC8="D",IF(AF8<6,"SI","NO"),IF(AC8="C",IF(AF8<11,"SI","NO"),IF(AC8="A",IF(AF8<21,"SI","NO"))))) -> NO | AJ8: D | AK8: CHIELLINI | AL8: JUVENTUS | AM8: 14 | AN8: =IF(AJ8="P",IF(AM8<7,"SI","NO"),IF(AJ8="D",IF(AM8<11,"SI","NO"),IF(AJ8="C",IF(AM8<21,"SI","NO"),IF(AJ8="A",IF(AM8<41,"SI","NO"))))) -> NO | AO8: =IF(AJ8="P",IF(AM8<4,"SI","NO"),IF(AJ8="D",IF(AM8<6,"SI","NO"),IF(AJ8="C",IF(AM8<11,"SI","NO"),IF(AJ8="A",IF(AM8<21,"SI","NO"))))) -> NO | AQ8: D | AR8: ISLA | AS8: CAGLIARI | AT8: 12 | AU8: =IF(AQ8="P",IF(AT8<7,"SI","NO"),IF(AQ8="D",IF(AT8<11,"SI","NO"),IF(AQ8="C",IF(AT8<21,"SI","NO"),IF(AQ8="A",IF(AT8<41,"SI","NO"))))) -> NO | AV8: =IF(AQ8="P",IF(AT8<4,"SI","NO"),IF(AQ8="D",IF(AT8<6,"SI","NO"),IF(AQ8="C",IF(AT8<11,"SI","NO"),IF(AQ8="A",IF(AT8<21,"SI","NO"))))) -> NO | AX8: D | AY8: DANI ALVES | AZ8: JUVENTUS | BA8: 36 | BB8: =IF(AX8="P",IF(BA8<7,"SI","NO"),IF(AX8="D",IF(BA8<11,"SI","NO"),IF(AX8="C",IF(BA8<21,"SI","NO"),IF(AX8="A",IF(BA8<41,"SI","NO"))))) -> NO | BC8: =IF(AX8="P",IF(BA8<4,"SI","NO"),IF(AX8="D",IF(BA8<6,"SI","NO"),IF(AX8="C",IF(BA8<11,"SI","NO"),IF(AX8="A",IF(BA8<21,"SI","NO"))))) -> NO | BE8: D | BF8: G. RODRIGUEZ | BG8: FIORENTINA | BH8: 35 | BI8: =IF(BE8="P",IF(BH8<7,"SI","NO"),IF(BE8="D",IF(BH8<11,"SI","NO"),IF(BE8="C",IF(BH8<21,"SI","NO"),IF(BE8="A",IF(BH8<41,"SI","NO"))))) -> NO | BJ8: =IF(BE8="P",IF(BH8<4,"SI","NO"),IF(BE8="D",IF(BH8<6,"SI","NO"),IF(BE8="C",IF(BH8<11,"SI","NO"),IF(BE8="A",IF(BH8<21,"SI","NO"))))) -> NO | BL8: D | BM8: MANOLAS | BN8: ROMA | BO8: 26 | BP8: =IF(BL8="P",IF(BO8<7,"SI","NO"),IF(BL8="D",IF(BO8<11,"SI","NO"),IF(BL8="C",IF(BO8<21,"SI","NO"),IF(BL8="A",IF(BO8<41,"SI","NO"))))) -> NO | BQ8: =IF(BL8="P",IF(BO8<4,"SI","NO"),IF(BL8="D",IF(BO8<6,"SI","NO"),IF(BL8="C",IF(BO8<11,"SI","NO"),IF(BL8="A",IF(BO8<21,"SI","NO"))))) -> NO
A9: D | B9: FELIPE | C9: UDINESE | D9: 2 | E9: =IF(A9="P",IF(D9<7,"SI","NO"),IF(A9="D",IF(D9<11,"SI","NO"),IF(A9="C",IF(D9<21,"SI","NO"),IF(A9="A",IF(D9<41,"SI","NO"))))) -> SI | F9: =IF(A9="P",IF(D9<4,"SI","NO"),IF(A9="D",IF(D9<6,"SI","NO"),IF(A9="C",IF(D9<11,"SI","NO"),IF(A9="A",IF(D9<21,"SI","NO"))))) -> SI | H9: D | I9: ROSSETTINI | J9: TORINO | K9: 1 | L9: =IF(H9="P",IF(K9<7,"SI","NO"),IF(H9="D",IF(K9<11,"SI","NO"),IF(H9="C",IF(K9<21,"SI","NO"),IF(H9="A",IF(K9<41,"SI","NO"))))) -> SI | M9: =IF(H9="P",IF(K9<4,"SI","NO"),IF(H9="D",IF(K9<6,"SI","NO"),IF(H9="C",IF(K9<11,"SI","NO"),IF(H9="A",IF(K9<21,"SI","NO"))))) -> SI | O9: D | P9: ZUKANOVIC | Q9: ATALANTA | R9: 8 | S9: =IF(O9="P",IF(R9<7,"SI","NO"),IF(O9="D",IF(R9<11,"SI","NO"),IF(O9="C",IF(R9<21,"SI","NO"),IF(O9="A",IF(R9<41,"SI","NO"))))) -> SI | T9: =IF(O9="P",IF(R9<4,"SI","NO"),IF(O9="D",IF(R9<6,"SI","NO"),IF(O9="C",IF(R9<11,"SI","NO"),IF(O9="A",IF(R9<21,"SI","NO"))))) -> NO | V9: D | W9: BELLUSCI | X9: EMPOLI | Y9: 1 | Z9: =IF(V9="P",IF(Y9<7,"SI","NO"),IF(V9="D",IF(Y9<11,"SI","NO"),IF(V9="C",IF(Y9<21,"SI","NO"),IF(V9="A",IF(Y9<41,"SI","NO"))))) -> SI | AA9: =IF(V9="P",IF(Y9<4,"SI","NO"),IF(V9="D",IF(Y9<6,"SI","NO"),IF(V9="C",IF(Y9<11,"SI","NO"),IF(V9="A",IF(Y9<21,"SI","NO"))))) -> SI | AC9: D | AD9: ZAMPANO | AE9: PESCARA | AF9: 5 | AG9: =IF(AC9="P",IF(AF9<7,"SI","NO"),IF(AC9="D",IF(AF9<11,"SI","NO"),IF(AC9="C",IF(AF9<21,"SI","NO"),IF(AC9="A",IF(AF9<41,"SI","NO"))))) -> SI | AH9: =IF(AC9="P",IF(AF9<4,"SI","NO"),IF(AC9="D",IF(AF9<6,"SI","NO"),IF(AC9="C",IF(AF9<11,"SI","NO"),IF(AC9="A",IF(AF9<21,"SI","NO"))))) -> SI | AJ9: D | AK9: BRUNO PERES | AL9: ROMA | AM9: 28 | AN9: =IF(AJ9="P",IF(AM9<7,"SI","NO"),IF(AJ9="D",IF(AM9<11,"SI","NO"),IF(AJ9="C",IF(AM9<21,"SI","NO"),IF(AJ9="A",IF(AM9<41,"SI","NO"))))) -> NO | AO9: =IF(AJ9="P",IF(AM9<4,"SI","NO"),IF(AJ9="D",IF(AM9<6,"SI","NO"),IF(AJ9="C",IF(AM9<11,"SI","NO"),IF(AJ9="A",IF(AM9<21,"SI","NO"))))) -> NO | AQ9: D | AR9: RUGANI | AS9: JUVENTUS | AT9: 7 | AU9: =IF(AQ9="P",IF(AT9<7,"SI","NO"),IF(AQ9="D",IF(AT9<11,"SI","NO"),IF(AQ9="C",IF(AT9<21,"SI","NO"),IF(AQ9="A",IF(AT9<41,"SI","NO"))))) -> SI | AV9: =IF(AQ9="P",IF(AT9<4,"SI","NO"),IF(AQ9="D",IF(AT9<6,"SI","NO"),IF(AQ9="C",IF(AT9<11,"SI","NO"),IF(AQ9="A",IF(AT9<21,"SI","NO"))))) -> NO | AX9: D | AY9: M.OLIVERA | AZ9: FIORENTINA | BA9: 1 | BB9: =IF(AX9="P",IF(BA9<7,"SI","NO"),IF(AX9="D",IF(BA9<11,"SI","NO"),IF(AX9="C",IF(BA9<21,"SI","NO"),IF(AX9="A",IF(BA9<41,"SI","NO"))))) -> SI | BC9: =IF(AX9="P",IF(BA9<4,"SI","NO"),IF(AX9="D",IF(BA9<6,"SI","NO"),IF(AX9="C",IF(BA9<11,"SI","NO"),IF(AX9="A",IF(BA9<21,"SI","NO"))))) -> SI | BE9: D | BF9: G. GOMEZ | BG9: MILAN | BH9: 10 | BI9: =IF(BE9="P",IF(BH9<7,"SI","NO"),IF(BE9="D",IF(BH9<11,"SI","NO"),IF(BE9="C",IF(BH9<21,"SI","NO"),IF(BE9="A",IF(BH9<41,"SI","NO"))))) -> SI | BJ9: =IF(BE9="P",IF(BH9<4,"SI","NO"),IF(BE9="D",IF(BH9<6,"SI","NO"),IF(BE9="C",IF(BH9<11,"SI","NO"),IF(BE9="A",IF(BH9<21,"SI","NO"))))) -> NO | BL9: D | BM9: GHOULAM | BN9: NAPOLI | BO9: 25 | BP9: =IF(BL9="P",IF(BO9<7,"SI","NO"),IF(BL9="D",IF(BO9<11,"SI","NO"),IF(BL9="C",IF(BO9<21,"SI","NO"),IF(BL9="A",IF(BO9<41,"SI","NO"))))) -> NO | BQ9: =IF(BL9="P",IF(BO9<4,"SI","NO"),IF(BL9="D",IF(BO9<6,"SI","NO"),IF(BL9="C",IF(BO9<11,"SI","NO"),IF(BL9="A",IF(BO9<21,"SI","NO"))))) -> NO
A10: D | B10: SKRINIAR | C10: SAMPDORIA | D10: 1 | E10: =IF(A10="P",IF(D10<7,"SI","NO"),IF(A10="D",IF(D10<11,"SI","NO"),IF(A10="C",IF(D10<21,"SI","NO"),IF(A10="A",IF(D10<41,"SI","NO"))))) -> SI | F10: =IF(A10="P",IF(D10<4,"SI","NO"),IF(A10="D",IF(D10<6,"SI","NO"),IF(A10="C",IF(D10<11,"SI","NO"),IF(A10="A",IF(D10<21,"SI","NO"))))) -> SI | H10: D | I10: D'AMBROSIO | J10: INTER | K10: 8 | L10: =IF(H10="P",IF(K10<7,"SI","NO"),IF(H10="D",IF(K10<11,"SI","NO"),IF(H10="C",IF(K10<21,"SI","NO"),IF(H10="A",IF(K10<41,"SI","NO"))))) -> SI | M10: =IF(H10="P",IF(K10<4,"SI","NO"),IF(H10="D",IF(K10<6,"SI","NO"),IF(H10="C",IF(K10<11,"SI","NO"),IF(H10="A",IF(K10<21,"SI","NO"))))) -> NO | O10: D | P10: PELUSO | Q10: SASSUOLO | R10: 3 | S10: =IF(O10="P",IF(R10<7,"SI","NO"),IF(O10="D",IF(R10<11,"SI","NO"),IF(O10="C",IF(R10<21,"SI","NO"),IF(O10="A",IF(R10<41,"SI","NO"))))) -> SI | T10: =IF(O10="P",IF(R10<4,"SI","NO"),IF(O10="D",IF(R10<6,"SI","NO"),IF(O10="C",IF(R10<11,"SI","NO"),IF(O10="A",IF(R10<21,"SI","NO"))))) -> SI | V10: D | W10: SILVESTRE | X10: SAMPDORIA | Y10: 4 | Z10: 4 | AC10: D | AD10: LIROLA | AE10: SASSUOLO | AF10: 3 | AG10: =IF(AC10="P",IF(AF10<7,"SI","NO"),IF(AC10="D",IF(AF10<11,"SI","NO"),IF(AC10="C",IF(AF10<21,"SI","NO"),IF(AC10="A",IF(AF10<41,"SI","NO"))))) -> SI | AH10: =IF(AC10="P",IF(AF10<4,"SI","NO"),IF(AC10="D",IF(AF10<6,"SI","NO"),IF(AC10="C",IF(AF10<11,"SI","NO"),IF(AC10="A",IF(AF10<21,"SI","NO"))))) -> SI | AJ10: D | AK10: ABATE | AL10: MILAN | AM10: 9 | AN10: =IF(AJ10="P",IF(AM10<7,"SI","NO"),IF(AJ10="D",IF(AM10<11,"SI","NO"),IF(AJ10="C",IF(AM10<21,"SI","NO"),IF(AJ10="A",IF(AM10<41,"SI","NO"))))) -> SI | AO10: =IF(AJ10="P",IF(AM10<4,"SI","NO"),IF(AJ10="D",IF(AM10<6,"SI","NO"),IF(AJ10="C",IF(AM10<11,"SI","NO"),IF(AJ10="A",IF(AM10<21,"SI","NO"))))) -> NO | AQ10: D | AR10: EDENILSON | AS10: GENOA | AT10: 2 | AU10: =IF(AQ10="P",IF(AT10<7,"SI","NO"),IF(AQ10="D",IF(AT10<11,"SI","NO"),IF(AQ10="C",IF(AT10<21,"SI","NO"),IF(AQ10="A",IF(AT10<41,"SI","NO"))))) -> SI | AV10: =IF(AQ10="P",IF(AT10<4,"SI","NO"),IF(AQ10="D",IF(AT10<6,"SI","NO"),IF(AQ10="C",IF(AT10<11,"SI","NO"),IF(AQ10="A",IF(AT10<21,"SI","NO"))))) -> SI | AX10: D | AY10: CONTI | AZ10: ATALANTA | BA10: 6 | BB10: =IF(AX10="P",IF(BA10<7,"SI","NO"),IF(AX10="D",IF(BA10<11,"SI","NO"),IF(AX10="C",IF(BA10<21,"SI","NO"),IF(AX10="A",IF(BA10<41,"SI","NO"))))) -> SI | BC10: =IF(AX10="P",IF(BA10<4,"SI","NO"),IF(AX10="D",IF(BA10<6,"SI","NO"),IF(AX10="C",IF(BA10<11,"SI","NO"),IF(AX10="A",IF(BA10<21,"SI","NO"))))) -> NO | BE10: D | BF10: TOMOVIC | BG10: FIORENTINA | BH10: 3 | BI10: =IF(BE10="P",IF(BH10<7,"SI","NO"),IF(BE10="D",IF(BH10<11,"SI","NO"),IF(BE10="C",IF(BH10<21,"SI","NO"),IF(BE10="A",IF(BH10<41,"SI","NO"))))) -> SI | BJ10: =IF(BE10="P",IF(BH10<4,"SI","NO"),IF(BE10="D",IF(BH10<6,"SI","NO"),IF(BE10="C",IF(BH10<11,"SI","NO"),IF(BE10="A",IF(BH10<21,"SI","NO"))))) -> SI | BL10: D | BM10: BARRECA | BN10: TORINO | BO10: 9 | BP10: =IF(BL10="P",IF(BO10<7,"SI","NO"),IF(BL10="D",IF(BO10<11,"SI","NO"),IF(BL10="C",IF(BO10<21,"SI","NO"),IF(BL10="A",IF(BO10<41,"SI","NO"))))) -> SI | BQ10: =IF(BL10="P",IF(BO10<4,"SI","NO"),IF(BL10="D",IF(BO10<6,"SI","NO"),IF(BL10="C",IF(BO10<11,"SI","NO"),IF(BL10="A",IF(BO10<21,"SI","NO"))))) -> NO
A11: D | B11: REGINI | C11: SAMPDORIA | D11: 2 | E11: =IF(A11="P",IF(D11<7,"SI","NO"),IF(A11="D",IF(D11<11,"SI","NO"),IF(A11="C",IF(D11<21,"SI","NO"),IF(A11="A",IF(D11<41,"SI","NO"))))) -> SI | F11: =IF(A11="P",IF(D11<4,"SI","NO"),IF(A11="D",IF(D11<6,"SI","NO"),IF(A11="C",IF(D11<11,"SI","NO"),IF(A11="A",IF(D11<21,"SI","NO"))))) -> SI | H11: D | I11: WIDMER | J11: UDINESE | K11: 4 | L11: =IF(H11="P",IF(K11<7,"SI","NO"),IF(H11="D",IF(K11<11,"SI","NO"),IF(H11="C",IF(K11<21,"SI","NO"),IF(H11="A",IF(K11<41,"SI","NO"))))) -> SI | M11: =IF(H11="P",IF(K11<4,"SI","NO"),IF(H11="D",IF(K11<6,"SI","NO"),IF(H11="C",IF(K11<11,"SI","NO"),IF(H11="A",IF(K11<21,"SI","NO"))))) -> SI | O11: D | P11: COSTA | Q11: EMPOLI | R11: 1 | S11: =IF(O11="P",IF(R11<7,"SI","NO"),IF(O11="D",IF(R11<11,"SI","NO"),IF(O11="C",IF(R11<21,"SI","NO"),IF(O11="A",IF(R11<41,"SI","NO"))))) -> SI | T11: =IF(O11="P",IF(R11<4,"SI","NO"),IF(O11="D",IF(R11<6,"SI","NO"),IF(O11="C",IF(R11<11,"SI","NO"),IF(O11="A",IF(R11<21,"SI","NO"))))) -> SI | V11: D | W11: GOBBI | X11: CHIEVO | Y11: 1 | Z11: =IF(V11="P",IF(Y11<7,"SI","NO"),IF(V11="D",IF(Y11<11,"SI","NO"),IF(V11="C",IF(Y11<21,"SI","NO"),IF(V11="A",IF(Y11<41,"SI","NO"))))) -> SI | AA11: =IF(V11="P",IF(Y11<4,"SI","NO"),IF(V11="D",IF(Y11<6,"SI","NO"),IF(V11="C",IF(Y11<11,"SI","NO"),IF(V11="A",IF(Y11<21,"SI","NO"))))) -> SI | AC11: D | AD11: DAINELLI | AE11: CHIEVO | AF11: 1 | AG11: =IF(AC11="P",IF(AF11<7,"SI","NO"),IF(AC11="D",IF(AF11<11,"SI","NO"),IF(AC11="C",IF(AF11<21,"SI","NO"),IF(AC11="A",IF(AF11<41,"SI","NO"))))) -> SI | AH11: =IF(AC11="P",IF(AF11<4,"SI","NO"),IF(AC11="D",IF(AF11<6,"SI","NO"),IF(AC11="C",IF(AF11<11,"SI","NO"),IF(AC11="A",IF(AF11<21,"SI","NO"))))) -> SI | AJ11: D | AK11: CACCIATORE | AL11: CHIEVO | AM11: 9 | AN11: =IF(AJ11="P",IF(AM11<7,"SI","NO"),IF(AJ11="D",IF(AM11<11,"SI","NO"),IF(AJ11="C",IF(AM11<21,"SI","NO"),IF(AJ11="A",IF(AM11<41,"SI","NO"))))) -> SI | AO11: =IF(AJ11="P",IF(AM11<4,"SI","NO"),IF(AJ11="D",IF(AM11<6,"SI","NO"),IF(AJ11="C",IF(AM11<11,"SI","NO"),IF(AJ11="A",IF(AM11<21,"SI","NO"))))) -> NO | AQ11: D | AR11: DI MARCO | AS11: EMPOLI | AT11: 1 | AU11: =IF(AQ11="P",IF(AT11<7,"SI","NO"),IF(AQ11="D",IF(AT11<11,"SI","NO"),IF(AQ11="C",IF(AT11<21,"SI","NO"),IF(AQ11="A",IF(AT11<41,"SI","NO"))))) -> SI | AV11: =IF(AQ11="P",IF(AT11<4,"SI","NO"),IF(AQ11="D",IF(AT11<6,"SI","NO"),IF(AQ11="C",IF(AT11<11,"SI","NO"),IF(AQ11="A",IF(AT11<21,"SI","NO"))))) -> SI | AX11: D | AY11: LICHSTEINER | AZ11: JUVENTUS | BA11: 16 | BB11: =IF(AX11="P",IF(BA11<7,"SI","NO"),IF(AX11="D",IF(BA11<11,"SI","NO"),IF(AX11="C",IF(BA11<21,"SI","NO"),IF(AX11="A",IF(BA11<41,"SI","NO"))))) -> NO | BC11: =IF(AX11="P",IF(BA11<4,"SI","NO"),IF(AX11="D",IF(BA11<6,"SI","NO"),IF(AX11="C",IF(BA11<11,"SI","NO"),IF(AX11="A",IF(BA11<21,"SI","NO"))))) -> NO | BE11: D | BF11: CALDARA | BG11: ATALANTA | BH11: 15 | BI11: =IF(BE11="P",IF(BH11<7,"SI","NO"),IF(BE11="D",IF(BH11<11,"SI","NO"),IF(BE11="C",IF(BH11<21,"SI","NO"),IF(BE11="A",IF(BH11<41,"SI","NO"))))) -> NO | BJ11: =IF(BE11="P",IF(BH11<4,"SI","NO"),IF(BE11="D",IF(BH11<6,"SI","NO"),IF(BE11="C",IF(BH11<11,"SI","NO"),IF(BE11="A",IF(BH11<21,"SI","NO"))))) -> NO | BL11: D | BM11: ROMAGNOLI | BN11: MILAN | BO11: 12 | BP11: =IF(BL11="P",IF(BO11<7,"SI","NO"),IF(BL11="D",IF(BO11<11,"SI","NO"),IF(BL11="C",IF(BO11<21,"SI","NO"),IF(BL11="A",IF(BO11<41,"SI","NO"))))) -> NO | BQ11: =IF(BL11="P",IF(BO11<4,"SI","NO"),IF(BL11="D",IF(BO11<6,"SI","NO"),IF(BL11="C",IF(BO11<11,"SI","NO"),IF(BL11="A",IF(BO11<21,"SI","NO"))))) -> NO
A12: D | B12: OIKONOMU | C12: BOLOGNA | D12: 1 | E12: =IF(A12="P",IF(D12<7,"SI","NO"),IF(A12="D",IF(D12<11,"SI","NO"),IF(A12="C",IF(D12<21,"SI","NO"),IF(A12="A",IF(D12<41,"SI","NO"))))) -> SI | F12: =IF(A12="P",IF(D12<4,"SI","NO"),IF(A12="D",IF(D12<6,"SI","NO"),IF(A12="C",IF(D12<11,"SI","NO"),IF(A12="A",IF(D12<21,"SI","NO"))))) -> SI | H12: D | I12: BRUNO ALVES | J12: CAGLIARI | K12: 4 | L12: =IF(H12="P",IF(K12<7,"SI","NO"),IF(H12="D",IF(K12<11,"SI","NO"),IF(H12="C",IF(K12<21,"SI","NO"),IF(H12="A",IF(K12<41,"SI","NO"))))) -> SI | M12: =IF(H12="P",IF(K12<4,"SI","NO"),IF(H12="D",IF(K12<6,"SI","NO"),IF(H12="C",IF(K12<11,"SI","NO"),IF(H12="A",IF(K12<21,"SI","NO"))))) -> SI | O12: D | P12: BURDISSO | Q12: GENOA | R12: 6 | S12: =IF(O12="P",IF(R12<7,"SI","NO"),IF(O12="D",IF(R12<11,"SI","NO"),IF(O12="C",IF(R12<21,"SI","NO"),IF(O12="A",IF(R12<41,"SI","NO"))))) -> SI | T12: =IF(O12="P",IF(R12<4,"SI","NO"),IF(O12="D",IF(R12<6,"SI","NO"),IF(O12="C",IF(R12<11,"SI","NO"),IF(O12="A",IF(R12<21,"SI","NO"))))) -> NO | V12: D | W12: MILIC | X12: FIORENTINA | Y12: 1 | Z12: =IF(V12="P",IF(Y12<7,"SI","NO"),IF(V12="D",IF(Y12<11,"SI","NO"),IF(V12="C",IF(Y12<21,"SI","NO"),IF(V12="A",IF(Y12<41,"SI","NO"))))) -> SI | AA12: =IF(V12="P",IF(Y12<4,"SI","NO"),IF(V12="D",IF(Y12<6,"SI","NO"),IF(V12="C",IF(Y12<11,"SI","NO"),IF(V12="A",IF(Y12<21,"SI","NO"))))) -> SI | AC12: D | AD12: EMERSON | AE12: ROMA | AF12: 6 | AG12: =IF(AC12="P",IF(AF12<7,"SI","NO"),IF(AC12="D",IF(AF12<11,"SI","NO"),IF(AC12="C",IF(AF12<21,"SI","NO"),IF(AC12="A",IF(AF12<41,"SI","NO"))))) -> SI | AH12: =IF(AC12="P",IF(AF12<4,"SI","NO"),IF(AC12="D",IF(AF12<6,"SI","NO"),IF(AC12="C",IF(AF12<11,"SI","NO"),IF(AC12="A",IF(AF12<21,"SI","NO"))))) -> NO | AJ12: D | AK12: RADU | AL12: LAZIO | AM12: 5 | AN12: =IF(AJ12="P",IF(AM12<7,"SI","NO"),IF(AJ12="D",IF(AM12<11,"SI","NO"),IF(AJ12="C",IF(AM12<21,"SI","NO"),IF(AJ12="A",IF(AM12<41,"SI","NO"))))) -> SI | AO12: =IF(AJ12="P",IF(AM12<4,"SI","NO"),IF(AJ12="D",IF(AM12<6,"SI","NO"),IF(AJ12="C",IF(AM12<11,"SI","NO"),IF(AJ12="A",IF(AM12<21,"SI","NO"))))) -> SI | AQ12: D | AR12: GAZZOLA | AS12: SASSUOLO | AT12: 3 | AU12: =IF(AQ12="P",IF(AT12<7,"SI","NO"),IF(AQ12="D",IF(AT12<11,"SI","NO"),IF(AQ12="C",IF(AT12<21,"SI","NO"),IF(AQ12="A",IF(AT12<41,"SI","NO"))))) -> SI | AV12: =IF(AQ12="P",IF(AT12<4,"SI","NO"),IF(AQ12="D",IF(AT12<6,"SI","NO"),IF(AQ12="C",IF(AT12<11,"SI","NO"),IF(AQ12="A",IF(AT12<21,"SI","NO"))))) -> SI | AX12: D | AY12: ANSALDI | AZ12: INTER | BA12: 11 | BB12: =IF(AX12="P",IF(BA12<7,"SI","NO"),IF(AX12="D",IF(BA12<11,"SI","NO"),IF(AX12="C",IF(BA12<21,"SI","NO"),IF(AX12="A",IF(BA12<41,"SI","NO"))))) -> NO | BC12: =IF(AX12="P",IF(BA12<4,"SI","NO"),IF(AX12="D",IF(BA12<6,"SI","NO"),IF(AX12="C",IF(BA12<11,"SI","NO"),IF(AX12="A",IF(BA12<21,"SI","NO"))))) -> NO | BE12: D | BF12: RUDIGER | BG12: ROMA | BH12: 12 | BI12: =IF(BE12="P",IF(BH12<7,"SI","NO"),IF(BE12="D",IF(BH12<11,"SI","NO"),IF(BE12="C",IF(BH12<21,"SI","NO"),IF(BE12="A",IF(BH12<41,"SI","NO"))))) -> NO | BJ12: =IF(BE12="P",IF(BH12<4,"SI","NO"),IF(BE12="D",IF(BH12<6,"SI","NO"),IF(BE12="C",IF(BH12<11,"SI","NO"),IF(BE12="A",IF(BH12<21,"SI","NO"))))) -> NO | BL12: D | BM12: ROSI | BN12: CROTONE | BO12: 1 | BP12: =IF(BL12="P",IF(BO12<7,"SI","NO"),IF(BL12="D",IF(BO12<11,"SI","NO"),IF(BL12="C",IF(BO12<21,"SI","NO"),IF(BL12="A",IF(BO12<41,"SI","NO"))))) -> SI | BQ12: =IF(BL12="P",IF(BO12<4,"SI","NO"),IF(BL12="D",IF(BO12<6,"SI","NO"),IF(BL12="C",IF(BO12<11,"SI","NO"),IF(BL12="A",IF(BO12<21,"SI","NO"))))) -> SI
A13: D | B13: DE SILVESTRI | C13: TORINO | D13: 1 | E13: =IF(A13="P",IF(D13<7,"SI","NO"),IF(A13="D",IF(D13<11,"SI","NO"),IF(A13="C",IF(D13<21,"SI","NO"),IF(A13="A",IF(D13<41,"SI","NO"))))) -> SI | F13: =IF(A13="P",IF(D13<4,"SI","NO"),IF(A13="D",IF(D13<6,"SI","NO"),IF(A13="C",IF(D13<11,"SI","NO"),IF(A13="A",IF(D13<21,"SI","NO"))))) -> SI | H13: D | I13: PELUSO | J13: SASSUOLO | K13: 1 | L13: =IF(H13="P",IF(K13<7,"SI","NO"),IF(H13="D",IF(K13<11,"SI","NO"),IF(H13="C",IF(K13<21,"SI","NO"),IF(H13="A",IF(K13<41,"SI","NO"))))) -> SI | M13: =IF(H13="P",IF(K13<4,"SI","NO"),IF(H13="D",IF(K13<6,"SI","NO"),IF(H13="C",IF(K13<11,"SI","NO"),IF(H13="A",IF(K13<21,"SI","NO"))))) -> SI | O13: D | P13: FERRARI | Q13: CROTONE | R13: 3 | S13: =IF(O13="P",IF(R13<7,"SI","NO"),IF(O13="D",IF(R13<11,"SI","NO"),IF(O13="C",IF(R13<21,"SI","NO"),IF(O13="A",IF(R13<41,"SI","NO"))))) -> SI | T13: =IF(O13="P",IF(R13<4,"SI","NO"),IF(O13="D",IF(R13<6,"SI","NO"),IF(O13="C",IF(R13<11,"SI","NO"),IF(O13="A",IF(R13<21,"SI","NO"))))) -> SI | V13: D | W13: M. OLIVERA | X13: FIORENTINA | Y13: 1 | Z13: =IF(V13="P",IF(Y13<7,"SI","NO"),IF(V13="D",IF(Y13<11,"SI","NO"),IF(V13="C",IF(Y13<21,"SI","NO"),IF(V13="A",IF(Y13<41,"SI","NO"))))) -> SI | AA13: =IF(V13="P",IF(Y13<4,"SI","NO"),IF(V13="D",IF(Y13<6,"SI","NO"),IF(V13="C",IF(Y13<11,"SI","NO"),IF(V13="A",IF(Y13<21,"SI","NO"))))) -> SI | AC13: D | AD13: BERETZKINSKI | AE13: SAMPDORIA | AF13: 1 | AG13: =IF(AC13="P",IF(AF13<7,"SI","NO"),IF(AC13="D",IF(AF13<11,"SI","NO"),IF(AC13="C",IF(AF13<21,"SI","NO"),IF(AC13="A",IF(AF13<41,"SI","NO"))))) -> SI | AH13: =IF(AC13="P",IF(AF13<4,"SI","NO"),IF(AC13="D",IF(AF13<6,"SI","NO"),IF(AC13="C",IF(AF13<11,"SI","NO"),IF(AC13="A",IF(AF13<21,"SI","NO"))))) -> SI | AJ13: D | AK13: MORETTI | AL13: TORINO | AM13: 1 | AN13: =IF(AJ13="P",IF(AM13<7,"SI","NO"),IF(AJ13="D",IF(AM13<11,"SI","NO"),IF(AJ13="C",IF(AM13<21,"SI","NO"),IF(AJ13="A",IF(AM13<41,"SI","NO"))))) -> SI | AO13: =IF(AJ13="P",IF(AM13<4,"SI","NO"),IF(AJ13="D",IF(AM13<6,"SI","NO"),IF(AJ13="C",IF(AM13<11,"SI","NO"),IF(AJ13="A",IF(AM13<21,"SI","NO"))))) -> SI | AQ13: D | AR13: PASQUAL | AS13: EMPOLI | AT13: 8 | AU13: =IF(AQ13="P",IF(AT13<7,"SI","NO"),IF(AQ13="D",IF(AT13<11,"SI","NO"),IF(AQ13="C",IF(AT13<21,"SI","NO"),IF(AQ13="A",IF(AT13<41,"SI","NO"))))) -> SI | AV13: =IF(AQ13="P",IF(AT13<4,"SI","NO"),IF(AQ13="D",IF(AT13<6,"SI","NO"),IF(AQ13="C",IF(AT13<11,"SI","NO"),IF(AQ13="A",IF(AT13<21,"SI","NO"))))) -> NO | AX13: D | AY13: CALABRIA | AZ13: MILAN | BA13: 1 | BB13: =IF(AX13="P",IF(BA13<7,"SI","NO"),IF(AX13="D",IF(BA13<11,"SI","NO"),IF(AX13="C",IF(BA13<21,"SI","NO"),IF(AX13="A",IF(BA13<41,"SI","NO"))))) -> SI | BC13: =IF(AX13="P",IF(BA13<4,"SI","NO"),IF(AX13="D",IF(BA13<6,"SI","NO"),IF(AX13="C",IF(BA13<11,"SI","NO"),IF(AX13="A",IF(BA13<21,"SI","NO"))))) -> SI | BE13: D | BF13: WALLACE | BG13: LAZIO | BH13: 1 | BI13: =IF(BE13="P",IF(BH13<7,"SI","NO"),IF(BE13="D",IF(BH13<11,"SI","NO"),IF(BE13="C",IF(BH13<21,"SI","NO"),IF(BE13="A",IF(BH13<41,"SI","NO"))))) -> SI | BJ13: =IF(BE13="P",IF(BH13<4,"SI","NO"),IF(BE13="D",IF(BH13<6,"SI","NO"),IF(BE13="C",IF(BH13<11,"SI","NO"),IF(BE13="A",IF(BH13<21,"SI","NO"))))) -> SI | BL13: D | BM13: RISPOLI | BN13: PALERMO | BO13: 1 | BP13: =IF(BL13="P",IF(BO13<7,"SI","NO"),IF(BL13="D",IF(BO13<11,"SI","NO"),IF(BL13="C",IF(BO13<21,"SI","NO"),IF(BL13="A",IF(BO13<41,"SI","NO"))))) -> SI | BQ13: =IF(BL13="P",IF(BO13<4,"SI","NO"),IF(BL13="D",IF(BO13<6,"SI","NO"),IF(BL13="C",IF(BO13<11,"SI","NO"),IF(BL13="A",IF(BO13<21,"SI","NO"))))) -> SI
A14: C | B14: STOIAN | C14: CROTONE | D14: 1 | E14: =IF(A14="P",IF(D14<7,"SI","NO"),IF(A14="D",IF(D14<11,"SI","NO"),IF(A14="C",IF(D14<21,"SI","NO"),IF(A14="A",IF(D14<41,"SI","NO"))))) -> SI | F14: =IF(A14="P",IF(D14<4,"SI","NO"),IF(A14="D",IF(D14<6,"SI","NO"),IF(A14="C",IF(D14<11,"SI","NO"),IF(A14="A",IF(D14<21,"SI","NO"))))) -> SI | H14: C | I14: JOAO MARIO | J14: INTER | K14: 26 | L14: =IF(H14="P",IF(K14<7,"SI","NO"),IF(H14="D",IF(K14<11,"SI","NO"),IF(H14="C",IF(K14<21,"SI","NO"),IF(H14="A",IF(K14<41,"SI","NO"))))) -> NO | M14: =IF(H14="P",IF(K14<4,"SI","NO"),IF(H14="D",IF(K14<6,"SI","NO"),IF(H14="C",IF(K14<11,"SI","NO"),IF(H14="A",IF(K14<21,"SI","NO"))))) -> NO | O14: C | P14: LAXALT | Q14: GENOA | R14: 20 | S14: =IF(O14="P",IF(R14<7,"SI","NO"),IF(O14="D",IF(R14<11,"SI","NO"),IF(O14="C",IF(R14<21,"SI","NO"),IF(O14="A",IF(R14<41,"SI","NO"))))) -> SI | T14: =IF(O14="P",IF(R14<4,"SI","NO"),IF(O14="D",IF(R14<6,"SI","NO"),IF(O14="C",IF(R14<11,"SI","NO"),IF(O14="A",IF(R14<21,"SI","NO"))))) -> NO | V14: C | W14: PEROTTI | X14: ROMA | Y14: 92 | Z14: =IF(V14="P",IF(Y14<7,"SI","NO"),IF(V14="D",IF(Y14<11,"SI","NO"),IF(V14="C",IF(Y14<21,"SI","NO"),IF(V14="A",IF(Y14<41,"SI","NO"))))) -> NO | AA14: =IF(V14="P",IF(Y14<4,"SI","NO"),IF(V14="D",IF(Y14<6,"SI","NO"),IF(V14="C",IF(Y14<11,"SI","NO"),IF(V14="A",IF(Y14<21,"SI","NO"))))) -> NO | AC14: C | AD14: MILINKOVIC | AE14: LAZIO | AF14: 39 | AG14: =IF(AC14="P",IF(AF14<7,"SI","NO"),IF(AC14="D",IF(AF14<11,"SI","NO"),IF(AC14="C",IF(AF14<21,"SI","NO"),IF(AC14="A",IF(AF14<41,"SI","NO"))))) -> NO | AH14: =IF(AC14="P",IF(AF14<4,"SI","NO"),IF(AC14="D",IF(AF14<6,"SI","NO"),IF(AC14="C",IF(AF14<11,"SI","NO"),IF(AC14="A",IF(AF14<21,"SI","NO"))))) -> NO | AQ14: C | AR14: PERISIC | AS14: INTER | AT14: 72 | AU14: =IF(AQ14="P",IF(AT14<7,"SI","NO"),IF(AQ14="D",IF(AT14<11,"SI","NO"),IF(AQ14="C",IF(AT14<21,"SI","NO"),IF(AQ14="A",IF(AT14<41,"SI","NO"))))) -> NO | AV14: =IF(AQ14="P",IF(AT14<4,"SI","NO"),IF(AQ14="D",IF(AT14<6,"SI","NO"),IF(AQ14="C",IF(AT14<11,"SI","NO"),IF(AQ14="A",IF(AT14<21,"SI","NO"))))) -> NO | AX14: C | AY14: SPINAZZOLA | AZ14: ATALANTA | BA14: 1 | BB14: =IF(AX14="P",IF(BA14<7,"SI","NO"),IF(AX14="D",IF(BA14<11,"SI","NO"),IF(AX14="C",IF(BA14<21,"SI","NO"),IF(AX14="A",IF(BA14<41,"SI","NO"))))) -> SI | BC14: =IF(AX14="P",IF(BA14<4,"SI","NO"),IF(AX14="D",IF(BA14<6,"SI","NO"),IF(AX14="C",IF(BA14<11,"SI","NO"),IF(AX14="A",IF(BA14<21,"SI","NO"))))) -> SI | BL14: C | BM14: SAPONARA | BN14: FIORENTINA | BO14: 36 | BP14: =IF(BL14="P",IF(BO14<7,"SI","NO"),IF(BL14="D",IF(BO14<11,"SI","NO"),IF(BL14="C",IF(BO14<21,"SI","NO"),IF(BL14="A",IF(BO14<41,"SI","NO"))))) -> NO | BQ14: =IF(BL14="P",IF(BO14<4,"SI","NO"),IF(BL14="D",IF(BO14<6,"SI","NO"),IF(BL14="C",IF(BO14<11,"SI","NO"),IF(BL14="A",IF(BO14<21,"SI","NO"))))) -> NO
A15: C | B15: PJANIC | C15: JUVENTUS | D15: 74 | E15: =IF(A15="P",IF(D15<7,"SI","NO"),IF(A15="D",IF(D15<11,"SI","NO"),IF(A15="C",IF(D15<21,"SI","NO"),IF(A15="A",IF(D15<41,"SI","NO"))))) -> NO | F15: =IF(A15="P",IF(D15<4,"SI","NO"),IF(A15="D",IF(D15<6,"SI","NO"),IF(A15="C",IF(D15<11,"SI","NO"),IF(A15="A",IF(D15<21,"SI","NO"))))) -> NO | H15: C | I15: SAPONARA | J15: FIORETINA | K15: 32 | L15: =IF(H15="P",IF(K15<7,"SI","NO"),IF(H15="D",IF(K15<11,"SI","NO"),IF(H15="C",IF(K15<21,"SI","NO"),IF(H15="A",IF(K15<41,"SI","NO"))))) -> NO | M15: =IF(H15="P",IF(K15<4,"SI","NO"),IF(H15="D",IF(K15<6,"SI","NO"),IF(H15="C",IF(K15<11,"SI","NO"),IF(H15="A",IF(K15<21,"SI","NO"))))) -> NO | O15: C | P15: BERNARDESCHI | Q15: FIORENTINA | R15: 30 | S15: =IF(O15="P",IF(R15<7,"SI","NO"),IF(O15="D",IF(R15<11,"SI","NO"),IF(O15="C",IF(R15<21,"SI","NO"),IF(O15="A",IF(R15<41,"SI","NO"))))) -> NO | T15: =IF(O15="P",IF(R15<4,"SI","NO"),IF(O15="D",IF(R15<6,"SI","NO"),IF(O15="C",IF(R15<11,"SI","NO"),IF(O15="A",IF(R15<21,"SI","NO"))))) -> NO | V15: C | W15: SUSO | X15: MILAN | Y15: 52 | Z15: =IF(V15="P",IF(Y15<7,"SI","NO"),IF(V15="D",IF(Y15<11,"SI","NO"),IF(V15="C",IF(Y15<21,"SI","NO"),IF(V15="A",IF(Y15<41,"SI","NO"))))) -> NO | AA15: =IF(V15="P",IF(Y15<4,"SI","NO"),IF(V15="D",IF(Y15<6,"SI","NO"),IF(V15="C",IF(Y15<11,"SI","NO"),IF(V15="A",IF(Y15<21,"SI","NO"))))) -> NO | AJ15: C | AK15: MERTENS | AL15: NAPOLI | AM15: 51 | AN15: =IF(AJ15="P",IF(AM15<7,"SI","NO"),IF(AJ15="D",IF(AM15<11,"SI","NO"),IF(AJ15="C",IF(AM15<21,"SI","NO"),IF(AJ15="A",IF(AM15<41,"SI","NO"))))) -> NO | AO15: =IF(AJ15="P",IF(AM15<4,"SI","NO"),IF(AJ15="D",IF(AM15<6,"SI","NO"),IF(AJ15="C",IF(AM15<11,"SI","NO"),IF(AJ15="A",IF(AM15<21,"SI","NO"))))) -> NO | AQ15: C | AR15: KHEDIRA | AS15: JUVENTUS | AT15: 41 | AU15: =IF(AQ15="P",IF(AT15<7,"SI","NO"),IF(AQ15="D",IF(AT15<11,"SI","NO"),IF(AQ15="C",IF(AT15<21,"SI","NO"),IF(AQ15="A",IF(AT15<41,"SI","NO"))))) -> NO | AV15: =IF(AQ15="P",IF(AT15<4,"SI","NO"),IF(AQ15="D",IF(AT15<6,"SI","NO"),IF(AQ15="C",IF(AT15<11,"SI","NO"),IF(AQ15="A",IF(AT15<21,"SI","NO"))))) -> NO | AX15: C | AY15: ZIELINSKI | AZ15: NAPOLI | BA15: 16 | BB15: 16 | BE15: C | BF15: PEROTTI | BG15: ROMA | BH15: 94 | BI15: =IF(BE15="P",IF(BH15<7,"SI","NO"),IF(BE15="D",IF(BH15<11,"SI","NO"),IF(BE15="C",IF(BH15<21,"SI","NO"),IF(BE15="A",IF(BH15<41,"SI","NO"))))) -> NO | BJ15: =IF(BE15="P",IF(BH15<4,"SI","NO"),IF(BE15="D",IF(BH15<6,"SI","NO"),IF(BE15="C",IF(BH15<11,"SI","NO"),IF(BE15="A",IF(BH15<21,"SI","NO"))))) -> NO | BL15: C | BM15: GOMEZ | BN15: ATALANTA | BO15: 53 | BP15: =IF(BL15="P",IF(BO15<7,"SI","NO"),IF(BL15="D",IF(BO15<11,"SI","NO"),IF(BL15="C",IF(BO15<21,"SI","NO"),IF(BL15="A",IF(BO15<41,"SI","NO"))))) -> NO | BQ15: =IF(BL15="P",IF(BO15<4,"SI","NO"),IF(BL15="D",IF(BO15<6,"SI","NO"),IF(BL15="C",IF(BO15<11,"SI","NO"),IF(BL15="A",IF(BO15<21,"SI","NO"))))) -> NO
A16: C | B16: HAMSIK | C16: NAPOLI | D16: 60 | E16: =IF(A16="P",IF(D16<7,"SI","NO"),IF(A16="D",IF(D16<11,"SI","NO"),IF(A16="C",IF(D16<21,"SI","NO"),IF(A16="A",IF(D16<41,"SI","NO"))))) -> NO | F16: =IF(A16="P",IF(D16<4,"SI","NO"),IF(A16="D",IF(D16<6,"SI","NO"),IF(A16="C",IF(D16<11,"SI","NO"),IF(A16="A",IF(D16<21,"SI","NO"))))) -> NO | H16: C | I16: JANTKO | J16: UDINESE | K16: 1 | L16: =IF(H16="P",IF(K16<7,"SI","NO"),IF(H16="D",IF(K16<11,"SI","NO"),IF(H16="C",IF(K16<21,"SI","NO"),IF(H16="A",IF(K16<41,"SI","NO"))))) -> SI | M16: =IF(H16="P",IF(K16<4,"SI","NO"),IF(H16="D",IF(K16<6,"SI","NO"),IF(H16="C",IF(K16<11,"SI","NO"),IF(H16="A",IF(K16<21,"SI","NO"))))) -> SI | O16: C | P16: IAGO FALQUE | Q16: TORINO | R16: 35 | S16: =IF(O16="P",IF(R16<7,"SI","NO"),IF(O16="D",IF(R16<11,"SI","NO"),IF(O16="C",IF(R16<21,"SI","NO"),IF(O16="A",IF(R16<41,"SI","NO"))))) -> NO | T16: =IF(O16="P",IF(R16<4,"SI","NO"),IF(O16="D",IF(R16<6,"SI","NO"),IF(O16="C",IF(R16<11,"SI","NO"),IF(O16="A",IF(R16<21,"SI","NO"))))) -> NO | V16: C | W16: TELLO | X16: FIORENTINA | Y16: 13 | Z16: =IF(V16="P",IF(Y16<7,"SI","NO"),IF(V16="D",IF(Y16<11,"SI","NO"),IF(V16="C",IF(Y16<21,"SI","NO"),IF(V16="A",IF(Y16<41,"SI","NO"))))) -> SI | AA16: =IF(V16="P",IF(Y16<4,"SI","NO"),IF(V16="D",IF(Y16<6,"SI","NO"),IF(V16="C",IF(Y16<11,"SI","NO"),IF(V16="A",IF(Y16<21,"SI","NO"))))) -> NO | AC16: C | AD16: POLITANO | AE16: SASSUOLO | AF16: 30 | AG16: =IF(AC16="P",IF(AF16<7,"SI","NO"),IF(AC16="D",IF(AF16<11,"SI","NO"),IF(AC16="C",IF(AF16<21,"SI","NO"),IF(AC16="A",IF(AF16<41,"SI","NO"))))) -> NO | AH16: =IF(AC16="P",IF(AF16<4,"SI","NO"),IF(AC16="D",IF(AF16<6,"SI","NO"),IF(AC16="C",IF(AF16<11,"SI","NO"),IF(AC16="A",IF(AF16<21,"SI","NO"))))) -> NO | AJ16: C | AK16: BASELLI | AL16: TORINO | AM16: 25 | AN16: =IF(AJ16="P",IF(AM16<7,"SI","NO"),IF(AJ16="D",IF(AM16<11,"SI","NO"),IF(AJ16="C",IF(AM16<21,"SI","NO"),IF(AJ16="A",IF(AM16<41,"SI","NO"))))) -> NO | AO16: =IF(AJ16="P",IF(AM16<4,"SI","NO"),IF(AJ16="D",IF(AM16<6,"SI","NO"),IF(AJ16="C",IF(AM16<11,"SI","NO"),IF(AJ16="A",IF(AM16<21,"SI","NO"))))) -> NO | AQ16: C | AR16: CUADRADO | AS16: JUVENTUS | AT16: 22 | AU16: =IF(AQ16="P",IF(AT16<7,"SI","NO"),IF(AQ16="D",IF(AT16<11,"SI","NO"),IF(AQ16="C",IF(AT16<21,"SI","NO"),IF(AQ16="A",IF(AT16<41,"SI","NO"))))) -> NO | AV16: =IF(AQ16="P",IF(AT16<4,"SI","NO"),IF(AQ16="D",IF(AT16<6,"SI","NO"),IF(AQ16="C",IF(AT16<11,"SI","NO"),IF(AQ16="A",IF(AT16<21,"SI","NO"))))) -> NO | AX16: C | AY16: PJANIC | AZ16: JUVENTUS | BA16: 72 | BB16: =IF(AX16="P",IF(BA16<7,"SI","NO"),IF(AX16="D",IF(BA16<11,"SI","NO"),IF(AX16="C",IF(BA16<21,"SI","NO"),IF(AX16="A",IF(BA16<41,"SI","NO"))))) -> NO | BC16: =IF(AX16="P",IF(BA16<4,"SI","NO"),IF(AX16="D",IF(BA16<6,"SI","NO"),IF(AX16="C",IF(BA16<11,"SI","NO"),IF(AX16="A",IF(BA16<21,"SI","NO"))))) -> NO | BE16: C | BF16: DE PAUL | BG16: UDINESE | BH16: 20 | BI16: =IF(BE16="P",IF(BH16<7,"SI","NO"),IF(BE16="D",IF(BH16<11,"SI","NO"),IF(BE16="C",IF(BH16<21,"SI","NO"),IF(BE16="A",IF(BH16<41,"SI","NO"))))) -> SI | BJ16: =IF(BE16="P",IF(BH16<4,"SI","NO"),IF(BE16="D",IF(BH16<6,"SI","NO"),IF(BE16="C",IF(BH16<11,"SI","NO"),IF(BE16="A",IF(BH16<21,"SI","NO"))))) -> NO | BL16: C | BM16: FELIPE ANDERSON | BN16: LAZIO | BO16: 51 | BP16: =IF(BL16="P",IF(BO16<7,"SI","NO"),IF(BL16="D",IF(BO16<11,"SI","NO"),IF(BL16="C",IF(BO16<21,"SI","NO"),IF(BL16="A",IF(BO16<41,"SI","NO"))))) -> NO | BQ16: =IF(BL16="P",IF(BO16<4,"SI","NO"),IF(BL16="D",IF(BO16<6,"SI","NO"),IF(BL16="C",IF(BO16<11,"SI","NO"),IF(BL16="A",IF(BO16<21,"SI","NO"))))) -> NO
A17: C | B17: PAROLO | C17: LAZIO | D17: 17 | E17: =IF(A17="P",IF(D17<7,"SI","NO"),IF(A17="D",IF(D17<11,"SI","NO"),IF(A17="C",IF(D17<21,"SI","NO"),IF(A17="A",IF(D17<41,"SI","NO"))))) -> SI | F17: =IF(A17="P",IF(D17<4,"SI","NO"),IF(A17="D",IF(D17<6,"SI","NO"),IF(A17="C",IF(D17<11,"SI","NO"),IF(A17="A",IF(D17<21,"SI","NO"))))) -> NO | H17: C | I17: JOAO PEDRO | J17: CAGLIARI | K17: 13 | L17: =IF(H17="P",IF(K17<7,"SI","NO"),IF(H17="D",IF(K17<11,"SI","NO"),IF(H17="C",IF(K17<21,"SI","NO"),IF(H17="A",IF(K17<41,"SI","NO"))))) -> SI | M17: =IF(H17="P",IF(K17<4,"SI","NO"),IF(H17="D",IF(K17<6,"SI","NO"),IF(H17="C",IF(K17<11,"SI","NO"),IF(H17="A",IF(K17<21,"SI","NO"))))) -> NO | O17: C | P17: KURTIC | Q17: ATALANTA | R17: 18 | S17: =IF(O17="P",IF(R17<7,"SI","NO"),IF(O17="D",IF(R17<11,"SI","NO"),IF(O17="C",IF(R17<21,"SI","NO"),IF(O17="A",IF(R17<41,"SI","NO"))))) -> SI | T17: =IF(O17="P",IF(R17<4,"SI","NO"),IF(O17="D",IF(R17<6,"SI","NO"),IF(O17="C",IF(R17<11,"SI","NO"),IF(O17="A",IF(R17<21,"SI","NO"))))) -> NO | V17: C | W17: KREJCI | X17: BOLOGNA | Y17: 21 | Z17: =IF(V17="P",IF(Y17<7,"SI","NO"),IF(V17="D",IF(Y17<11,"SI","NO"),IF(V17="C",IF(Y17<21,"SI","NO"),IF(V17="A",IF(Y17<41,"SI","NO"))))) -> NO | AA17: =IF(V17="P",IF(Y17<4,"SI","NO"),IF(V17="D",IF(Y17<6,"SI","NO"),IF(V17="C",IF(Y17<11,"SI","NO"),IF(V17="A",IF(Y17<21,"SI","NO"))))) -> NO | AC17: C | AD17: DI GENNARO | AE17: CAGLIARI | AF17: 4 | AG17: =IF(AC17="P",IF(AF17<7,"SI","NO"),IF(AC17="D",IF(AF17<11,"SI","NO"),IF(AC17="C",IF(AF17<21,"SI","NO"),IF(AC17="A",IF(AF17<41,"SI","NO"))))) -> SI | AH17: =IF(AC17="P",IF(AF17<4,"SI","NO"),IF(AC17="D",IF(AF17<6,"SI","NO"),IF(AC17="C",IF(AF17<11,"SI","NO"),IF(AC17="A",IF(AF17<21,"SI","NO"))))) -> SI | AJ17: C | AK17: STROOTMAN | AL17: ROMA | AM17: 31 | AN17: =IF(AJ17="P",IF(AM17<7,"SI","NO"),IF(AJ17="D",IF(AM17<11,"SI","NO"),IF(AJ17="C",IF(AM17<21,"SI","NO"),IF(AJ17="A",IF(AM17<41,"SI","NO"))))) -> NO | AO17: =IF(AJ17="P",IF(AM17<4,"SI","NO"),IF(AJ17="D",IF(AM17<6,"SI","NO"),IF(AJ17="C",IF(AM17<11,"SI","NO"),IF(AJ17="A",IF(AM17<21,"SI","NO"))))) -> NO | AQ17: C | AR17: JOAO PEDRO | AS17: CAGLIARI | AT17: 24 | AU17: =IF(AQ17="P",IF(AT17<7,"SI","NO"),IF(AQ17="D",IF(AT17<11,"SI","NO"),IF(AQ17="C",IF(AT17<21,"SI","NO"),IF(AQ17="A",IF(AT17<41,"SI","NO"))))) -> NO | AV17: =IF(AQ17="P",IF(AT17<4,"SI","NO"),IF(AQ17="D",IF(AT17<6,"SI","NO"),IF(AQ17="C",IF(AT17<11,"SI","NO"),IF(AQ17="A",IF(AT17<21,"SI","NO"))))) -> NO | AX17: C | AY17: ASAMOAH | AZ17: JUVENTUS | BA17: 10 | BB17: =IF(AX17="P",IF(BA17<7,"SI","NO"),IF(AX17="D",IF(BA17<11,"SI","NO"),IF(AX17="C",IF(BA17<21,"SI","NO"),IF(AX17="A",IF(BA17<41,"SI","NO"))))) -> SI | BC17: =IF(AX17="P",IF(BA17<4,"SI","NO"),IF(AX17="D",IF(BA17<6,"SI","NO"),IF(AX17="C",IF(BA17<11,"SI","NO"),IF(AX17="A",IF(BA17<21,"SI","NO"))))) -> SI | BE17: C | BF17: KURTIC | BG17: ATALANTA | BH17: 20 | BI17: =IF(BE17="P",IF(BH17<7,"SI","NO"),IF(BE17="D",IF(BH17<11,"SI","NO"),IF(BE17="C",IF(BH17<21,"SI","NO"),IF(BE17="A",IF(BH17<41,"SI","NO"))))) -> SI | BJ17: =IF(BE17="P",IF(BH17<4,"SI","NO"),IF(BE17="D",IF(BH17<6,"SI","NO"),IF(BE17="C",IF(BH17<11,"SI","NO"),IF(BE17="A",IF(BH17<21,"SI","NO"))))) -> NO | BL17: C | BM17: NAINGGOLAN | BN17: ROMA | BO17: 53 | BP17: =IF(BL17="P",IF(BO17<7,"SI","NO"),IF(BL17="D",IF(BO17<11,"SI","NO"),IF(BL17="C",IF(BO17<21,"SI","NO"),IF(BL17="A",IF(BO17<41,"SI","NO"))))) -> NO | BQ17: =IF(BL17="P",IF(BO17<4,"SI","NO"),IF(BL17="D",IF(BO17<6,"SI","NO"),IF(BL17="C",IF(BO17<11,"SI","NO"),IF(BL17="A",IF(BO17<21,"SI","NO"))))) -> NO
A18: C | B18: RIGONI L. | C18: GENOA | D18: 1 | E18: =IF(A18="P",IF(D18<7,"SI","NO"),IF(A18="D",IF(D18<11,"SI","NO"),IF(A18="C",IF(D18<21,"SI","NO"),IF(A18="A",IF(D18<41,"SI","NO"))))) -> SI | F18: =IF(A18="P",IF(D18<4,"SI","NO"),IF(A18="D",IF(D18<6,"SI","NO"),IF(A18="C",IF(D18<11,"SI","NO"),IF(A18="A",IF(D18<21,"SI","NO"))))) -> SI | H18: C | I18: PAROLO | J18: LAZIO | K18: 24 | L18: =IF(H18="P",IF(K18<7,"SI","NO"),IF(H18="D",IF(K18<11,"SI","NO"),IF(H18="C",IF(K18<21,"SI","NO"),IF(H18="A",IF(K18<41,"SI","NO"))))) -> NO | M18: =IF(H18="P",IF(K18<4,"SI","NO"),IF(H18="D",IF(K18<6,"SI","NO"),IF(H18="C",IF(K18<11,"SI","NO"),IF(H18="A",IF(K18<21,"SI","NO"))))) -> NO | O18: C | P18: JOAO MARIO | Q18: INTER | R18: 30 | S18: =IF(O18="P",IF(R18<7,"SI","NO"),IF(O18="D",IF(R18<11,"SI","NO"),IF(O18="C",IF(R18<21,"SI","NO"),IF(O18="A",IF(R18<41,"SI","NO"))))) -> NO | T18: =IF(O18="P",IF(R18<4,"SI","NO"),IF(O18="D",IF(R18<6,"SI","NO"),IF(O18="C",IF(R18<11,"SI","NO"),IF(O18="A",IF(R18<21,"SI","NO"))))) -> NO | V18: C | W18: DE PAUL | X18: UDINESE | Y18: 16 | Z18: =IF(V18="P",IF(Y18<7,"SI","NO"),IF(V18="D",IF(Y18<11,"SI","NO"),IF(V18="C",IF(Y18<21,"SI","NO"),IF(V18="A",IF(Y18<41,"SI","NO"))))) -> SI | AA18: =IF(V18="P",IF(Y18<4,"SI","NO"),IF(V18="D",IF(Y18<6,"SI","NO"),IF(V18="C",IF(Y18<11,"SI","NO"),IF(V18="A",IF(Y18<21,"SI","NO"))))) -> NO | AC18: C | AD18: PRAET | AE18: SAMPDORIA | AF18: 15 | AG18: =IF(AC18="P",IF(AF18<7,"SI","NO"),IF(AC18="D",IF(AF18<11,"SI","NO"),IF(AC18="C",IF(AF18<21,"SI","NO"),IF(AC18="A",IF(AF18<41,"SI","NO"))))) -> SI | AH18: =IF(AC18="P",IF(AF18<4,"SI","NO"),IF(AC18="D",IF(AF18<6,"SI","NO"),IF(AC18="C",IF(AF18<11,"SI","NO"),IF(AC18="A",IF(AF18<21,"SI","NO"))))) -> NO | AJ18: C | AK18: GAGLIARDINI | AL18: INTER | AM18: 31 | AN18: =IF(AJ18="P",IF(AM18<7,"SI","NO"),IF(AJ18="D",IF(AM18<11,"SI","NO"),IF(AJ18="C",IF(AM18<21,"SI","NO"),IF(AJ18="A",IF(AM18<41,"SI","NO"))))) -> NO | AO18: =IF(AJ18="P",IF(AM18<4,"SI","NO"),IF(AJ18="D",IF(AM18<6,"SI","NO"),IF(AJ18="C",IF(AM18<11,"SI","NO"),IF(AJ18="A",IF(AM18<21,"SI","NO"))))) -> NO | AQ18: C | AR18: BENASSI | AS18: TORINO | AT18: 7 | AU18: =IF(AQ18="P",IF(AT18<7,"SI","NO"),IF(AQ18="D",IF(AT18<11,"SI","NO"),IF(AQ18="C",IF(AT18<21,"SI","NO"),IF(AQ18="A",IF(AT18<41,"SI","NO"))))) -> SI | AV18: =IF(AQ18="P",IF(AT18<4,"SI","NO"),IF(AQ18="D",IF(AT18<6,"SI","NO"),IF(AQ18="C",IF(AT18<11,"SI","NO"),IF(AQ18="A",IF(AT18<21,"SI","NO"))))) -> SI | AX18: C | AY18: MARCHISIO | AZ18: JUVENTUS | BA18: 30 | BB18: =IF(AX18="P",IF(BA18<7,"SI","NO"),IF(AX18="D",IF(BA18<11,"SI","NO"),IF(AX18="C",IF(BA18<21,"SI","NO"),IF(AX18="A",IF(BA18<41,"SI","NO"))))) -> NO | BC18: =IF(AX18="P",IF(BA18<4,"SI","NO"),IF(AX18="D",IF(BA18<6,"SI","NO"),IF(AX18="C",IF(BA18<11,"SI","NO"),IF(AX18="A",IF(BA18<21,"SI","NO"))))) -> NO | BE18: C | BF18: LJAJIC | BG18: TORINO | BH18: 40 | BI18: =IF(BE18="P",IF(BH18<7,"SI","NO"),IF(BE18="D",IF(BH18<11,"SI","NO"),IF(BE18="C",IF(BH18<21,"SI","NO"),IF(BE18="A",IF(BH18<41,"SI","NO"))))) -> NO | BJ18: =IF(BE18="P",IF(BH18<4,"SI","NO"),IF(BE18="D",IF(BH18<6,"SI","NO"),IF(BE18="C",IF(BH18<11,"SI","NO"),IF(BE18="A",IF(BH18<21,"SI","NO"))))) -> NO | BL18: C | BM18: PASALIC | BN18: MILAN | BO18: 1 | BP18: =IF(BL18="P",IF(BO18<7,"SI","NO"),IF(BL18="D",IF(BO18<11,"SI","NO"),IF(BL18="C",IF(BO18<21,"SI","NO"),IF(BL18="A",IF(BO18<41,"SI","NO"))))) -> SI | BQ18: =IF(BL18="P",IF(BO18<4,"SI","NO"),IF(BL18="D",IF(BO18<6,"SI","NO"),IF(BL18="C",IF(BO18<11,"SI","NO"),IF(BL18="A",IF(BO18<21,"SI","NO"))))) -> SI
A19: C | B19: JANTKO | C19: UDINESE | D19: 1 | E19: =IF(A19="P",IF(D19<7,"SI","NO"),IF(A19="D",IF(D19<11,"SI","NO"),IF(A19="C",IF(D19<21,"SI","NO"),IF(A19="A",IF(D19<41,"SI","NO"))))) -> SI | F19: =IF(A19="P",IF(D19<4,"SI","NO"),IF(A19="D",IF(D19<6,"SI","NO"),IF(A19="C",IF(D19<11,"SI","NO"),IF(A19="A",IF(D19<21,"SI","NO"))))) -> SI | H19: C | I19: BONAVENTURA | J19: MILAN | K19: 1 | L19: 1 | O19: C | P19: LAZOVIC | Q19: GENOA | R19: 14 | S19: =IF(O19="P",IF(R19<7,"SI","NO"),IF(O19="D",IF(R19<11,"SI","NO"),IF(O19="C",IF(R19<21,"SI","NO"),IF(O19="A",IF(R19<41,"SI","NO"))))) -> SI | T19: =IF(O19="P",IF(R19<4,"SI","NO"),IF(O19="D",IF(R19<6,"SI","NO"),IF(O19="C",IF(R19<11,"SI","NO"),IF(O19="A",IF(R19<21,"SI","NO"))))) -> NO | V19: C | W19: LINETTY | X19: SAMPDORIA | Y19: 3 | Z19: =IF(V19="P",IF(Y19<7,"SI","NO"),IF(V19="D",IF(Y19<11,"SI","NO"),IF(V19="C",IF(Y19<21,"SI","NO"),IF(V19="A",IF(Y19<41,"SI","NO"))))) -> SI | AA19: =IF(V19="P",IF(Y19<4,"SI","NO"),IF(V19="D",IF(Y19<6,"SI","NO"),IF(V19="C",IF(Y19<11,"SI","NO"),IF(V19="A",IF(Y19<21,"SI","NO"))))) -> SI | AC19: C | AD19: MARCHISIO | AE19: JUVENTUS | AF19: 18 | AG19: =IF(AC19="P",IF(AF19<7,"SI","NO"),IF(AC19="D",IF(AF19<11,"SI","NO"),IF(AC19="C",IF(AF19<21,"SI","NO"),IF(AC19="A",IF(AF19<41,"SI","NO"))))) -> SI | AH19: =IF(AC19="P",IF(AF19<4,"SI","NO"),IF(AC19="D",IF(AF19<6,"SI","NO"),IF(AC19="C",IF(AF19<11,"SI","NO"),IF(AC19="A",IF(AF19<21,"SI","NO"))))) -> NO | AJ19: C | AK19: RINCON | AL19: JUVENTUS | AM19: 1 | AN19: =IF(AJ19="P",IF(AM19<7,"SI","NO"),IF(AJ19="D",IF(AM19<11,"SI","NO"),IF(AJ19="C",IF(AM19<21,"SI","NO"),IF(AJ19="A",IF(AM19<41,"SI","NO"))))) -> SI | AO19: =IF(AJ19="P",IF(AM19<4,"SI","NO"),IF(AJ19="D",IF(AM19<6,"SI","NO"),IF(AJ19="C",IF(AM19<11,"SI","NO"),IF(AJ19="A",IF(AM19<21,"SI","NO"))))) -> SI | AQ19: C | AR19: HILJEMARK | AS19: GENOA | AT19: 2 | AU19: =IF(AQ19="P",IF(AT19<7,"SI","NO"),IF(AQ19="D",IF(AT19<11,"SI","NO"),IF(AQ19="C",IF(AT19<21,"SI","NO"),IF(AQ19="A",IF(AT19<41,"SI","NO"))))) -> SI | AV19: =IF(AQ19="P",IF(AT19<4,"SI","NO"),IF(AQ19="D",IF(AT19<6,"SI","NO"),IF(AQ19="C",IF(AT19<11,"SI","NO"),IF(AQ19="A",IF(AT19<21,"SI","NO"))))) -> SI | AX19: C | AY19: DI GENNARO | AZ19: CAGLIARI | BA19: 1 | BB19: =IF(AX19="P",IF(BA19<7,"SI","NO"),IF(AX19="D",IF(BA19<11,"SI","NO"),IF(AX19="C",IF(BA19<21,"SI","NO"),IF(AX19="A",IF(BA19<41,"SI","NO"))))) -> SI | BC19: =IF(AX19="P",IF(BA19<4,"SI","NO"),IF(AX19="D",IF(BA19<6,"SI","NO"),IF(AX19="C",IF(BA19<11,"SI","NO"),IF(AX19="A",IF(BA19<21,"SI","NO"))))) -> SI | BE19: C | BF19: BADELJ | BG19: FIORENTINA | BH19: 5 | BI19: =IF(BE19="P",IF(BH19<7,"SI","NO"),IF(BE19="D",IF(BH19<11,"SI","NO"),IF(BE19="C",IF(BH19<21,"SI","NO"),IF(BE19="A",IF(BH19<41,"SI","NO"))))) -> SI | BJ19: =IF(BE19="P",IF(BH19<4,"SI","NO"),IF(BE19="D",IF(BH19<6,"SI","NO"),IF(BE19="C",IF(BH19<11,"SI","NO"),IF(BE19="A",IF(BH19<21,"SI","NO"))))) -> SI | BL19: C | BM19: VERDI | BN19: BOLOGNA | BO19: 1 | BP19: =IF(BL19="P",IF(BO19<7,"SI","NO"),IF(BL19="D",IF(BO19<11,"SI","NO"),IF(BL19="C",IF(BO19<21,"SI","NO"),IF(BL19="A",IF(BO19<41,"SI","NO"))))) -> SI | BQ19: =IF(BL19="P",IF(BO19<4,"SI","NO"),IF(BL19="D",IF(BO19<6,"SI","NO"),IF(BL19="C",IF(BO19<11,"SI","NO"),IF(BL19="A",IF(BO19<21,"SI","NO"))))) -> SI
A20: C | B20: BENALI | C20: PESCARA | D20: 3 | E20: =IF(A20="P",IF(D20<7,"SI","NO"),IF(A20="D",IF(D20<11,"SI","NO"),IF(A20="C",IF(D20<21,"SI","NO"),IF(A20="A",IF(D20<41,"SI","NO"))))) -> SI | F20: =IF(A20="P",IF(D20<4,"SI","NO"),IF(A20="D",IF(D20<6,"SI","NO"),IF(A20="C",IF(D20<11,"SI","NO"),IF(A20="A",IF(D20<21,"SI","NO"))))) -> SI | H20: C | I20: KESSIE | J20: MILAN | K20: 9 | L20: =IF(H20="P",IF(K20<7,"SI","NO"),IF(H20="D",IF(K20<11,"SI","NO"),IF(H20="C",IF(K20<21,"SI","NO"),IF(H20="A",IF(K20<41,"SI","NO"))))) -> SI | M20: =IF(H20="P",IF(K20<4,"SI","NO"),IF(H20="D",IF(K20<6,"SI","NO"),IF(H20="C",IF(K20<11,"SI","NO"),IF(H20="A",IF(K20<21,"SI","NO"))))) -> SI | O20: C | P20: BERTOLACCI | Q20: MILAN | R20: 1 | S20: =IF(O20="P",IF(R20<7,"SI","NO"),IF(O20="D",IF(R20<11,"SI","NO"),IF(O20="C",IF(R20<21,"SI","NO"),IF(O20="A",IF(R20<41,"SI","NO"))))) -> SI | T20: =IF(O20="P",IF(R20<4,"SI","NO"),IF(O20="D",IF(R20<6,"SI","NO"),IF(O20="C",IF(R20<11,"SI","NO"),IF(O20="A",IF(R20<21,"SI","NO"))))) -> SI | V20: C | W20: SPINAZZOLA | X20: ATALANTA | Y20: 3 | Z20: 3 | AA20: =IF(V20="P",IF(Y20<4,"SI","NO"),IF(V20="D",IF(Y20<6,"SI","NO"),IF(V20="C",IF(Y20<11,"SI","NO"),IF(V20="A",IF(Y20<21,"SI","NO"))))) -> SI | AC20: C | AD20: CATALDI | AE20: GENOA | AF20: 1 | AG20: =IF(AC20="P",IF(AF20<7,"SI","NO"),IF(AC20="D",IF(AF20<11,"SI","NO"),IF(AC20="C",IF(AF20<21,"SI","NO"),IF(AC20="A",IF(AF20<41,"SI","NO"))))) -> SI | AH20: =IF(AC20="P",IF(AF20<4,"SI","NO"),IF(AC20="D",IF(AF20<6,"SI","NO"),IF(AC20="C",IF(AF20<11,"SI","NO"),IF(AC20="A",IF(AF20<21,"SI","NO"))))) -> SI | AJ20: C | AK20: BONAVENTURA | AL20: MILAN | AM20: 3 | AN20: =IF(AJ20="P",IF(AM20<7,"SI","NO"),IF(AJ20="D",IF(AM20<11,"SI","NO"),IF(AJ20="C",IF(AM20<21,"SI","NO"),IF(AJ20="A",IF(AM20<41,"SI","NO"))))) -> SI | AO20: =IF(AJ20="P",IF(AM20<4,"SI","NO"),IF(AJ20="D",IF(AM20<6,"SI","NO"),IF(AJ20="C",IF(AM20<11,"SI","NO"),IF(AJ20="A",IF(AM20<21,"SI","NO"))))) -> SI | AQ20: C | AR20: GRENIER | AS20: ROMA | AT20: 1 | AU20: =IF(AQ20="P",IF(AT20<7,"SI","NO"),IF(AQ20="D",IF(AT20<11,"SI","NO"),IF(AQ20="C",IF(AT20<21,"SI","NO"),IF(AQ20="A",IF(AT20<41,"SI","NO"))))) -> SI | AV20: =IF(AQ20="P",IF(AT20<4,"SI","NO"),IF(AQ20="D",IF(AT20<6,"SI","NO"),IF(AQ20="C",IF(AT20<11,"SI","NO"),IF(AQ20="A",IF(AT20<21,"SI","NO"))))) -> SI | AX20: C | AY20: RIGONI L. | AZ20: GENOA | BA20: 5 | BB20: =IF(AX20="P",IF(BA20<7,"SI","NO"),IF(AX20="D",IF(BA20<11,"SI","NO"),IF(AX20="C",IF(BA20<21,"SI","NO"),IF(AX20="A",IF(BA20<41,"SI","NO"))))) -> SI | BC20: =IF(AX20="P",IF(BA20<4,"SI","NO"),IF(AX20="D",IF(BA20<6,"SI","NO"),IF(AX20="C",IF(BA20<11,"SI","NO"),IF(AX20="A",IF(BA20<21,"SI","NO"))))) -> SI | BE20: C | BF20: TORREIRA | BG20: SAMPDORIA | BH20: 1 | BI20: =IF(BE20="P",IF(BH20<7,"SI","NO"),IF(BE20="D",IF(BH20<11,"SI","NO"),IF(BE20="C",IF(BH20<21,"SI","NO"),IF(BE20="A",IF(BH20<41,"SI","NO"))))) -> SI | BJ20: =IF(BE20="P",IF(BH20<4,"SI","NO"),IF(BE20="D",IF(BH20<6,"SI","NO"),IF(BE20="C",IF(BH20<11,"SI","NO"),IF(BE20="A",IF(BH20<21,"SI","NO"))))) -> SI | BL20: C | BM20: KONDOGBIA | BN20: INTER | BO20: 1 | BP20: =IF(BL20="P",IF(BO20<7,"SI","NO"),IF(BL20="D",IF(BO20<11,"SI","NO"),IF(BL20="C",IF(BO20<21,"SI","NO"),IF(BL20="A",IF(BO20<41,"SI","NO"))))) -> SI | BQ20: =IF(BL20="P",IF(BO20<4,"SI","NO"),IF(BL20="D",IF(BO20<6,"SI","NO"),IF(BL20="C",IF(BO20<11,"SI","NO"),IF(BL20="A",IF(BO20<21,"SI","NO"))))) -> SI
A21: C | B21: VELOSO | C21: GENOA | D21: 5 | E21: =IF(A21="P",IF(D21<7,"SI","NO"),IF(A21="D",IF(D21<11,"SI","NO"),IF(A21="C",IF(D21<21,"SI","NO"),IF(A21="A",IF(D21<41,"SI","NO"))))) -> SI | F21: =IF(A21="P",IF(D21<4,"SI","NO"),IF(A21="D",IF(D21<6,"SI","NO"),IF(A21="C",IF(D21<11,"SI","NO"),IF(A21="A",IF(D21<21,"SI","NO"))))) -> SI | H21: C | I21: BRUNO FERNANDES | J21: SAMPDORIA | K21: 3 | L21: =IF(H21="P",IF(K21<7,"SI","NO"),IF(H21="D",IF(K21<11,"SI","NO"),IF(H21="C",IF(K21<21,"SI","NO"),IF(H21="A",IF(K21<41,"SI","NO"))))) -> SI | M21: =IF(H21="P",IF(K21<4,"SI","NO"),IF(H21="D",IF(K21<6,"SI","NO"),IF(H21="C",IF(K21<11,"SI","NO"),IF(H21="A",IF(K21<21,"SI","NO"))))) -> SI | O21: C | P21: BROZOVIC | Q21: INTER | R21: 1 | S21: =IF(O21="P",IF(R21<7,"SI","NO"),IF(O21="D",IF(R21<11,"SI","NO"),IF(O21="C",IF(R21<21,"SI","NO"),IF(O21="A",IF(R21<41,"SI","NO"))))) -> SI | T21: =IF(O21="P",IF(R21<4,"SI","NO"),IF(O21="D",IF(R21<6,"SI","NO"),IF(O21="C",IF(R21<11,"SI","NO"),IF(O21="A",IF(R21<21,"SI","NO"))))) -> SI | V21: C | W21: DIAMANTI | X21: PALERMO | Y21: 1 | Z21: =IF(V21="P",IF(Y21<7,"SI","NO"),IF(V21="D",IF(Y21<11,"SI","NO"),IF(V21="C",IF(Y21<21,"SI","NO"),IF(V21="A",IF(Y21<41,"SI","NO"))))) -> SI | AA21: =IF(V21="P",IF(Y21<4,"SI","NO"),IF(V21="D",IF(Y21<6,"SI","NO"),IF(V21="C",IF(Y21<11,"SI","NO"),IF(V21="A",IF(Y21<21,"SI","NO"))))) -> SI | AC21: C | AD21: TORREIRA | AE21: SAMPDORIA | AF21: 1 | AG21: =IF(AC21="P",IF(AF21<7,"SI","NO"),IF(AC21="D",IF(AF21<11,"SI","NO"),IF(AC21="C",IF(AF21<21,"SI","NO"),IF(AC21="A",IF(AF21<41,"SI","NO"))))) -> SI | AH21: =IF(AC21="P",IF(AF21<4,"SI","NO"),IF(AC21="D",IF(AF21<6,"SI","NO"),IF(AC21="C",IF(AF21<11,"SI","NO"),IF(AC21="A",IF(AF21<21,"SI","NO"))))) -> SI | AJ21: C | AK21: FREULER | AL21: ATALANTA | AM21: 1 | AN21: =IF(AJ21="P",IF(AM21<7,"SI","NO"),IF(AJ21="D",IF(AM21<11,"SI","NO"),IF(AJ21="C",IF(AM21<21,"SI","NO"),IF(AJ21="A",IF(AM21<41,"SI","NO"))))) -> SI | AO21: =IF(AJ21="P",IF(AM21<4,"SI","NO"),IF(AJ21="D",IF(AM21<6,"SI","NO"),IF(AJ21="C",IF(AM21<11,"SI","NO"),IF(AJ21="A",IF(AM21<21,"SI","NO"))))) -> SI | AQ21: C | AR21: KUCKA | AS21: MILAN | AT21: 1 | AU21: =IF(AQ21="P",IF(AT21<7,"SI","NO"),IF(AQ21="D",IF(AT21<11,"SI","NO"),IF(AQ21="C",IF(AT21<21,"SI","NO"),IF(AQ21="A",IF(AT21<41,"SI","NO"))))) -> SI | AV21: =IF(AQ21="P",IF(AT21<4,"SI","NO"),IF(AQ21="D",IF(AT21<6,"SI","NO"),IF(AQ21="C",IF(AT21<11,"SI","NO"),IF(AQ21="A",IF(AT21<21,"SI","NO"))))) -> SI | AX21: C | AY21: PASALIC | AZ21: MILAN | BA21: 3 | BB21: =IF(AX21="P",IF(BA21<7,"SI","NO"),IF(AX21="D",IF(BA21<11,"SI","NO"),IF(AX21="C",IF(BA21<21,"SI","NO"),IF(AX21="A",IF(BA21<41,"SI","NO"))))) -> SI | BC21: =IF(AX21="P",IF(BA21<4,"SI","NO"),IF(AX21="D",IF(BA21<6,"SI","NO"),IF(AX21="C",IF(BA21<11,"SI","NO"),IF(AX21="A",IF(BA21<21,"SI","NO"))))) -> SI | BE21: C | BF21: HETEMAJ | BG21: CHIEVO | BH21: 3 | BI21: =IF(BE21="P",IF(BH21<7,"SI","NO"),IF(BE21="D",IF(BH21<11,"SI","NO"),IF(BE21="C",IF(BH21<21,"SI","NO"),IF(BE21="A",IF(BH21<41,"SI","NO"))))) -> SI | BJ21: =IF(BE21="P",IF(BH21<4,"SI","NO"),IF(BE21="D",IF(BH21<6,"SI","NO"),IF(BE21="C",IF(BH21<11,"SI","NO"),IF(BE21="A",IF(BH21<21,"SI","NO"))))) -> SI | BL21: C | BM21: FOFANA | BN21: UDINESE | BO21: 17 | BP21: =IF(BL21="P",IF(BO21<7,"SI","NO"),IF(BL21="D",IF(BO21<11,"SI","NO"),IF(BL21="C",IF(BO21<21,"SI","NO"),IF(BL21="A",IF(BO21<41,"SI","NO"))))) -> SI | BQ21: =IF(BL21="P",IF(BO21<4,"SI","NO"),IF(BL21="D",IF(BO21<6,"SI","NO"),IF(BL21="C",IF(BO21<11,"SI","NO"),IF(BL21="A",IF(BO21<21,"SI","NO"))))) -> NO
H22: A | I22: HIGUAIN | J22: JUVENTUS | K22: 175 | L22: =IF(H22="P",IF(K22<7,"SI","NO"),IF(H22="D",IF(K22<11,"SI","NO"),IF(H22="C",IF(K22<21,"SI","NO"),IF(H22="A",IF(K22<41,"SI","NO"))))) -> NO | M22: =IF(H22="P",IF(K22<4,"SI","NO"),IF(H22="D",IF(K22<6,"SI","NO"),IF(H22="C",IF(K22<11,"SI","NO"),IF(H22="A",IF(K22<21,"SI","NO"))))) -> NO | O22: A | P22: THEREAU | Q22: UDINESE | R22: 45 | S22: =IF(O22="P",IF(R22<7,"SI","NO"),IF(O22="D",IF(R22<11,"SI","NO"),IF(O22="C",IF(R22<21,"SI","NO"),IF(O22="A",IF(R22<41,"SI","NO"))))) -> NO | T22: =IF(O22="P",IF(R22<4,"SI","NO"),IF(O22="D",IF(R22<6,"SI","NO"),IF(O22="C",IF(R22<11,"SI","NO"),IF(O22="A",IF(R22<21,"SI","NO"))))) -> NO | V22: A | W22: IMMOBILE | X22: LAZIO | Y22: 110 | Z22: =IF(V22="P",IF(Y22<7,"SI","NO"),IF(V22="D",IF(Y22<11,"SI","NO"),IF(V22="C",IF(Y22<21,"SI","NO"),IF(V22="A",IF(Y22<41,"SI","NO"))))) -> NO | AA22: =IF(V22="P",IF(Y22<4,"SI","NO"),IF(V22="D",IF(Y22<6,"SI","NO"),IF(V22="C",IF(Y22<11,"SI","NO"),IF(V22="A",IF(Y22<21,"SI","NO"))))) -> NO | AC22: A | AD22: ICARDI | AE22: INTER | AF22: 181 | AG22: =IF(AC22="P",IF(AF22<7,"SI","NO"),IF(AC22="D",IF(AF22<11,"SI","NO"),IF(AC22="C",IF(AF22<21,"SI","NO"),IF(AC22="A",IF(AF22<41,"SI","NO"))))) -> NO | AH22: =IF(AC22="P",IF(AF22<4,"SI","NO"),IF(AC22="D",IF(AF22<6,"SI","NO"),IF(AC22="C",IF(AF22<11,"SI","NO"),IF(AC22="A",IF(AF22<21,"SI","NO"))))) -> NO | AJ22: A | AK22: BABACAR | AL22: FIORENTINA | AM22: 1 | AN22: =IF(AJ22="P",IF(AM22<7,"SI","NO"),IF(AJ22="D",IF(AM22<11,"SI","NO"),IF(AJ22="C",IF(AM22<21,"SI","NO"),IF(AJ22="A",IF(AM22<41,"SI","NO"))))) -> SI | AO22: =IF(AJ22="P",IF(AM22<4,"SI","NO"),IF(AJ22="D",IF(AM22<6,"SI","NO"),IF(AJ22="C",IF(AM22<11,"SI","NO"),IF(AJ22="A",IF(AM22<21,"SI","NO"))))) -> SI | AQ22: A | AR22: SCHICK | AS22: SAMPDORIA | AT22: 92 | AU22: =IF(AQ22="P",IF(AT22<7,"SI","NO"),IF(AQ22="D",IF(AT22<11,"SI","NO"),IF(AQ22="C",IF(AT22<21,"SI","NO"),IF(AQ22="A",IF(AT22<41,"SI","NO"))))) -> NO | AV22: =IF(AQ22="P",IF(AT22<4,"SI","NO"),IF(AQ22="D",IF(AT22<6,"SI","NO"),IF(AQ22="C",IF(AT22<11,"SI","NO"),IF(AQ22="A",IF(AT22<21,"SI","NO"))))) -> NO | AX22: A | AY22: BACCA | AZ22: MILAN | BA22: 125 | BB22: =IF(AX22="P",IF(BA22<7,"SI","NO"),IF(AX22="D",IF(BA22<11,"SI","NO"),IF(AX22="C",IF(BA22<21,"SI","NO"),IF(AX22="A",IF(BA22<41,"SI","NO"))))) -> NO | BC22: =IF(AX22="P",IF(BA22<4,"SI","NO"),IF(AX22="D",IF(BA22<6,"SI","NO"),IF(AX22="C",IF(BA22<11,"SI","NO"),IF(AX22="A",IF(BA22<21,"SI","NO"))))) -> NO | BE22: A | BF22: INSIGNE | BG22: NAPOLI | BH22: 99 | BI22: =IF(BE22="P",IF(BH22<7,"SI","NO"),IF(BE22="D",IF(BH22<11,"SI","NO"),IF(BE22="C",IF(BH22<21,"SI","NO"),IF(BE22="A",IF(BH22<41,"SI","NO"))))) -> NO | BJ22: =IF(BE22="P",IF(BH22<4,"SI","NO"),IF(BE22="D",IF(BH22<6,"SI","NO"),IF(BE22="C",IF(BH22<11,"SI","NO"),IF(BE22="A",IF(BH22<21,"SI","NO"))))) -> NO | BL22: A | BM22: MURIEL | BN22: SAMPDORIA | BO22: 42 | BP22: =IF(BL22="P",IF(BO22<7,"SI","NO"),IF(BL22="D",IF(BO22<11,"SI","NO"),IF(BL22="C",IF(BO22<21,"SI","NO"),IF(BL22="A",IF(BO22<41,"SI","NO"))))) -> NO | BQ22: =IF(BL22="P",IF(BO22<4,"SI","NO"),IF(BL22="D",IF(BO22<6,"SI","NO"),IF(BL22="C",IF(BO22<11,"SI","NO"),IF(BL22="A",IF(BO22<21,"SI","NO"))))) -> NO
A23: A | B23: MILIK | C23: NAPOLI | D23: 138 | E23: =IF(A23="P",IF(D23<7,"SI","NO"),IF(A23="D",IF(D23<11,"SI","NO"),IF(A23="C",IF(D23<21,"SI","NO"),IF(A23="A",IF(D23<41,"SI","NO"))))) -> NO | F23: =IF(A23="P",IF(D23<4,"SI","NO"),IF(A23="D",IF(D23<6,"SI","NO"),IF(A23="C",IF(D23<11,"SI","NO"),IF(A23="A",IF(D23<21,"SI","NO"))))) -> NO | H23: A | I23: SCHICK | J23: SAMPDORIA | K23: 55 | L23: =IF(H23="P",IF(K23<7,"SI","NO"),IF(H23="D",IF(K23<11,"SI","NO"),IF(H23="C",IF(K23<21,"SI","NO"),IF(H23="A",IF(K23<41,"SI","NO"))))) -> NO | M23: =IF(H23="P",IF(K23<4,"SI","NO"),IF(H23="D",IF(K23<6,"SI","NO"),IF(H23="C",IF(K23<11,"SI","NO"),IF(H23="A",IF(K23<21,"SI","NO"))))) -> NO | O23: A | P23: BERARDI | Q23: SASSUOLO | R23: 96 | S23: =IF(O23="P",IF(R23<7,"SI","NO"),IF(O23="D",IF(R23<11,"SI","NO"),IF(O23="C",IF(R23<21,"SI","NO"),IF(O23="A",IF(R23<41,"SI","NO"))))) -> NO | T23: =IF(O23="P",IF(R23<4,"SI","NO"),IF(O23="D",IF(R23<6,"SI","NO"),IF(O23="C",IF(R23<11,"SI","NO"),IF(O23="A",IF(R23<21,"SI","NO"))))) -> NO | V23: A | W23: ILICIC | X23: FIORENTINA | Y23: 41 | Z23: =IF(V23="P",IF(Y23<7,"SI","NO"),IF(V23="D",IF(Y23<11,"SI","NO"),IF(V23="C",IF(Y23<21,"SI","NO"),IF(V23="A",IF(Y23<41,"SI","NO"))))) -> NO | AA23: =IF(V23="P",IF(Y23<4,"SI","NO"),IF(V23="D",IF(Y23<6,"SI","NO"),IF(V23="C",IF(Y23<11,"SI","NO"),IF(V23="A",IF(Y23<21,"SI","NO"))))) -> NO | AC23: A | AD23: BELOTTI | AE23: TORINO | AF23: 99 | AG23: =IF(AC23="P",IF(AF23<7,"SI","NO"),IF(AC23="D",IF(AF23<11,"SI","NO"),IF(AC23="C",IF(AF23<21,"SI","NO"),IF(AC23="A",IF(AF23<41,"SI","NO"))))) -> NO | AH23: =IF(AC23="P",IF(AF23<4,"SI","NO"),IF(AC23="D",IF(AF23<6,"SI","NO"),IF(AC23="C",IF(AF23<11,"SI","NO"),IF(AC23="A",IF(AF23<21,"SI","NO"))))) -> NO | AJ23: A | AK23: SALAH | AL23: ROMA | AM23: 99 | AN23: =IF(AJ23="P",IF(AM23<7,"SI","NO"),IF(AJ23="D",IF(AM23<11,"SI","NO"),IF(AJ23="C",IF(AM23<21,"SI","NO"),IF(AJ23="A",IF(AM23<41,"SI","NO"))))) -> NO | AO23: =IF(AJ23="P",IF(AM23<4,"SI","NO"),IF(AJ23="D",IF(AM23<6,"SI","NO"),IF(AJ23="C",IF(AM23<11,"SI","NO"),IF(AJ23="A",IF(AM23<21,"SI","NO"))))) -> NO | AQ23: A | AR23: DZEKO | AS23: ROMA | AT23: 67 | AU23: =IF(AQ23="P",IF(AT23<7,"SI","NO"),IF(AQ23="D",IF(AT23<11,"SI","NO"),IF(AQ23="C",IF(AT23<21,"SI","NO"),IF(AQ23="A",IF(AT23<41,"SI","NO"))))) -> NO | AV23: =IF(AQ23="P",IF(AT23<4,"SI","NO"),IF(AQ23="D",IF(AT23<6,"SI","NO"),IF(AQ23="C",IF(AT23<11,"SI","NO"),IF(AQ23="A",IF(AT23<21,"SI","NO"))))) -> NO | AX23: A | AY23: DZEKO | AZ23: ROMA | BA23: 103 | BB23: =IF(AX23="P",IF(BA23<7,"SI","NO"),IF(AX23="D",IF(BA23<11,"SI","NO"),IF(AX23="C",IF(BA23<21,"SI","NO"),IF(AX23="A",IF(BA23<41,"SI","NO"))))) -> NO | BC23: =IF(AX23="P",IF(BA23<4,"SI","NO"),IF(AX23="D",IF(BA23<6,"SI","NO"),IF(AX23="C",IF(BA23<11,"SI","NO"),IF(AX23="A",IF(BA23<21,"SI","NO"))))) -> NO | BE23: A | BF23: MURIEL | BG23: SAMPDORIA | BH23: 80 | BI23: =IF(BE23="P",IF(BH23<7,"SI","NO"),IF(BE23="D",IF(BH23<11,"SI","NO"),IF(BE23="C",IF(BH23<21,"SI","NO"),IF(BE23="A",IF(BH23<41,"SI","NO"))))) -> NO | BJ23: =IF(BE23="P",IF(BH23<4,"SI","NO"),IF(BE23="D",IF(BH23<6,"SI","NO"),IF(BE23="C",IF(BH23<11,"SI","NO"),IF(BE23="A",IF(BH23<21,"SI","NO"))))) -> NO | BL23: A | BM23: CHIESA | BN23: FIORENTINA | BO23: 22 | BP23: =IF(BL23="P",IF(BO23<7,"SI","NO"),IF(BL23="D",IF(BO23<11,"SI","NO"),IF(BL23="C",IF(BO23<21,"SI","NO"),IF(BL23="A",IF(BO23<41,"SI","NO"))))) -> SI | BQ23: =IF(BL23="P",IF(BO23<4,"SI","NO"),IF(BL23="D",IF(BO23<6,"SI","NO"),IF(BL23="C",IF(BO23<11,"SI","NO"),IF(BL23="A",IF(BO23<21,"SI","NO"))))) -> NO
A24: A | B24: FALCINELLI | C24: CROTONE | D24: 13 | E24: 13 | H24: A | I24: KEITA | J24: LAZIO | K24: 55 | L24: =IF(H24="P",IF(K24<7,"SI","NO"),IF(H24="D",IF(K24<11,"SI","NO"),IF(H24="C",IF(K24<21,"SI","NO"),IF(H24="A",IF(K24<41,"SI","NO"))))) -> NO | M24: =IF(H24="P",IF(K24<4,"SI","NO"),IF(H24="D",IF(K24<6,"SI","NO"),IF(H24="C",IF(K24<11,"SI","NO"),IF(H24="A",IF(K24<21,"SI","NO"))))) -> NO | O24: A | P24: SIMEONE | Q24: GENOA | R24: 95 | S24: =IF(O24="P",IF(R24<7,"SI","NO"),IF(O24="D",IF(R24<11,"SI","NO"),IF(O24="C",IF(R24<21,"SI","NO"),IF(O24="A",IF(R24<41,"SI","NO"))))) -> NO | T24: =IF(O24="P",IF(R24<4,"SI","NO"),IF(O24="D",IF(R24<6,"SI","NO"),IF(O24="C",IF(R24<11,"SI","NO"),IF(O24="A",IF(R24<21,"SI","NO"))))) -> NO | V24: A | W24: MATRI | X24: SASSUOLO | Y24: 35 | Z24: =IF(V24="P",IF(Y24<7,"SI","NO"),IF(V24="D",IF(Y24<11,"SI","NO"),IF(V24="C",IF(Y24<21,"SI","NO"),IF(V24="A",IF(Y24<41,"SI","NO"))))) -> SI | AA24: =IF(V24="P",IF(Y24<4,"SI","NO"),IF(V24="D",IF(Y24<6,"SI","NO"),IF(V24="C",IF(Y24<11,"SI","NO"),IF(V24="A",IF(Y24<21,"SI","NO"))))) -> NO | AC24: A | AD24: OCAMPOS | AE24: MILAN | AF24: 30 | AG24: =IF(AC24="P",IF(AF24<7,"SI","NO"),IF(AC24="D",IF(AF24<11,"SI","NO"),IF(AC24="C",IF(AF24<21,"SI","NO"),IF(AC24="A",IF(AF24<41,"SI","NO"))))) -> SI | AH24: =IF(AC24="P",IF(AF24<4,"SI","NO"),IF(AC24="D",IF(AF24<6,"SI","NO"),IF(AC24="C",IF(AF24<11,"SI","NO"),IF(AC24="A",IF(AF24<21,"SI","NO"))))) -> NO | AJ24: A | AK24: KALINIC | AL24: FIORENTINA | AM24: 83 | AN24: =IF(AJ24="P",IF(AM24<7,"SI","NO"),IF(AJ24="D",IF(AM24<11,"SI","NO"),IF(AJ24="C",IF(AM24<21,"SI","NO"),IF(AJ24="A",IF(AM24<41,"SI","NO"))))) -> NO | AO24: =IF(AJ24="P",IF(AM24<4,"SI","NO"),IF(AJ24="D",IF(AM24<6,"SI","NO"),IF(AJ24="C",IF(AM24<11,"SI","NO"),IF(AJ24="A",IF(AM24<21,"SI","NO"))))) -> NO | AQ24: A | AR24: CALLEJON | AS24: NAPOLI | AT24: 62 | AU24: =IF(AQ24="P",IF(AT24<7,"SI","NO"),IF(AQ24="D",IF(AT24<11,"SI","NO"),IF(AQ24="C",IF(AT24<21,"SI","NO"),IF(AQ24="A",IF(AT24<41,"SI","NO"))))) -> NO | AV24: =IF(AQ24="P",IF(AT24<4,"SI","NO"),IF(AQ24="D",IF(AT24<6,"SI","NO"),IF(AQ24="C",IF(AT24<11,"SI","NO"),IF(AQ24="A",IF(AT24<21,"SI","NO"))))) -> NO | AX24: A | AY24: SAU | AZ24: CAGLIARI | BA24: 26 | BB24: =IF(AX24="P",IF(BA24<7,"SI","NO"),IF(AX24="D",IF(BA24<11,"SI","NO"),IF(AX24="C",IF(BA24<21,"SI","NO"),IF(AX24="A",IF(BA24<41,"SI","NO"))))) -> SI | BC24: =IF(AX24="P",IF(BA24<4,"SI","NO"),IF(AX24="D",IF(BA24<6,"SI","NO"),IF(AX24="C",IF(BA24<11,"SI","NO"),IF(AX24="A",IF(BA24<21,"SI","NO"))))) -> NO | BE24: A | BF24: FARIAS | BG24: CAGLIARI | BH24: 3 | BI24: =IF(BE24="P",IF(BH24<7,"SI","NO"),IF(BE24="D",IF(BH24<11,"SI","NO"),IF(BE24="C",IF(BH24<21,"SI","NO"),IF(BE24="A",IF(BH24<41,"SI","NO"))))) -> SI | BJ24: =IF(BE24="P",IF(BH24<4,"SI","NO"),IF(BE24="D",IF(BH24<6,"SI","NO"),IF(BE24="C",IF(BH24<11,"SI","NO"),IF(BE24="A",IF(BH24<21,"SI","NO"))))) -> SI | BL24: A | BM24: INSIGNE | BN24: NAPOLI | BO24: 40 | BP24: 40
A25: A | B25: DELOUFEU | C25: MILAN | D25: 43 | E25: =IF(A25="P",IF(D25<7,"SI","NO"),IF(A25="D",IF(D25<11,"SI","NO"),IF(A25="C",IF(D25<21,"SI","NO"),IF(A25="A",IF(D25<41,"SI","NO"))))) -> NO | F25: =IF(A25="P",IF(D25<4,"SI","NO"),IF(A25="D",IF(D25<6,"SI","NO"),IF(A25="C",IF(D25<11,"SI","NO"),IF(A25="A",IF(D25<21,"SI","NO"))))) -> NO | O25: A | P25: TOTTI | Q25: ROMA | R25: 1 | S25: =IF(O25="P",IF(R25<7,"SI","NO"),IF(O25="D",IF(R25<11,"SI","NO"),IF(O25="C",IF(R25<21,"SI","NO"),IF(O25="A",IF(R25<41,"SI","NO"))))) -> SI | T25: =IF(O25="P",IF(R25<4,"SI","NO"),IF(O25="D",IF(R25<6,"SI","NO"),IF(O25="C",IF(R25<11,"SI","NO"),IF(O25="A",IF(R25<21,"SI","NO"))))) -> SI | V25: A | W25: PALOSCHI | X25: ATALANTA | Y25: 4 | Z25: =IF(V25="P",IF(Y25<7,"SI","NO"),IF(V25="D",IF(Y25<11,"SI","NO"),IF(V25="C",IF(Y25<21,"SI","NO"),IF(V25="A",IF(Y25<41,"SI","NO"))))) -> SI | AA25: =IF(V25="P",IF(Y25<4,"SI","NO"),IF(V25="D",IF(Y25<6,"SI","NO"),IF(V25="C",IF(Y25<11,"SI","NO"),IF(V25="A",IF(Y25<21,"SI","NO"))))) -> SI | AC25: A | AD25: FARIAS | AE25: CAGLIARI | AF25: 6 | AG25: =IF(AC25="P",IF(AF25<7,"SI","NO"),IF(AC25="D",IF(AF25<11,"SI","NO"),IF(AC25="C",IF(AF25<21,"SI","NO"),IF(AC25="A",IF(AF25<41,"SI","NO"))))) -> SI | AH25: =IF(AC25="P",IF(AF25<4,"SI","NO"),IF(AC25="D",IF(AF25<6,"SI","NO"),IF(AC25="C",IF(AF25<11,"SI","NO"),IF(AC25="A",IF(AF25<21,"SI","NO"))))) -> SI | AJ25: A | AK25: QUAGLIARELLA | AL25: SAMPDORIA | AM25: 53 | AN25: =IF(AJ25="P",IF(AM25<7,"SI","NO"),IF(AJ25="D",IF(AM25<11,"SI","NO"),IF(AJ25="C",IF(AM25<21,"SI","NO"),IF(AJ25="A",IF(AM25<41,"SI","NO"))))) -> NO | AO25: =IF(AJ25="P",IF(AM25<4,"SI","NO"),IF(AJ25="D",IF(AM25<6,"SI","NO"),IF(AJ25="C",IF(AM25<11,"SI","NO"),IF(AJ25="A",IF(AM25<21,"SI","NO"))))) -> NO | AQ25: A | AR25: LAPADULA | AS25: MILAN | AT25: 8 | AU25: =IF(AQ25="P",IF(AT25<7,"SI","NO"),IF(AQ25="D",IF(AT25<11,"SI","NO"),IF(AQ25="C",IF(AT25<21,"SI","NO"),IF(AQ25="A",IF(AT25<41,"SI","NO"))))) -> SI | AV25: =IF(AQ25="P",IF(AT25<4,"SI","NO"),IF(AQ25="D",IF(AT25<6,"SI","NO"),IF(AQ25="C",IF(AT25<11,"SI","NO"),IF(AQ25="A",IF(AT25<21,"SI","NO"))))) -> SI | AX25: A | AY25: PETAGNA | AZ25: ATALANTA | BA25: 110 | BB25: =IF(AX25="P",IF(BA25<7,"SI","NO"),IF(AX25="D",IF(BA25<11,"SI","NO"),IF(AX25="C",IF(BA25<21,"SI","NO"),IF(AX25="A",IF(BA25<41,"SI","NO"))))) -> NO | BC25: =IF(AX25="P",IF(BA25<4,"SI","NO"),IF(AX25="D",IF(BA25<6,"SI","NO"),IF(AX25="C",IF(BA25<11,"SI","NO"),IF(AX25="A",IF(BA25<21,"SI","NO"))))) -> NO | BE25: A | BF25: FALCINELLI | BG25: CROTONE | BH25: 2 | BI25: =IF(BE25="P",IF(BH25<7,"SI","NO"),IF(BE25="D",IF(BH25<11,"SI","NO"),IF(BE25="C",IF(BH25<21,"SI","NO"),IF(BE25="A",IF(BH25<41,"SI","NO"))))) -> SI | BJ25: =IF(BE25="P",IF(BH25<4,"SI","NO"),IF(BE25="D",IF(BH25<6,"SI","NO"),IF(BE25="C",IF(BH25<11,"SI","NO"),IF(BE25="A",IF(BH25<21,"SI","NO"))))) -> SI | BL25: A | BM25: EDER | BN25: INTER | BO25: 31 | BP25: =IF(BL25="P",IF(BO25<7,"SI","NO"),IF(BL25="D",IF(BO25<11,"SI","NO"),IF(BL25="C",IF(BO25<21,"SI","NO"),IF(BL25="A",IF(BO25<41,"SI","NO"))))) -> SI | BQ25: =IF(BL25="P",IF(BO25<4,"SI","NO"),IF(BL25="D",IF(BO25<6,"SI","NO"),IF(BL25="C",IF(BO25<11,"SI","NO"),IF(BL25="A",IF(BO25<21,"SI","NO"))))) -> NO
A26: A | B26: PETAGNA | C26: ATALANTA | D26: 1 | E26: =IF(A26="P",IF(D26<7,"SI","NO"),IF(A26="D",IF(D26<11,"SI","NO"),IF(A26="C",IF(D26<21,"SI","NO"),IF(A26="A",IF(D26<41,"SI","NO"))))) -> SI | F26: =IF(A26="P",IF(D26<4,"SI","NO"),IF(A26="D",IF(D26<6,"SI","NO"),IF(A26="C",IF(D26<11,"SI","NO"),IF(A26="A",IF(D26<21,"SI","NO"))))) -> SI | H26: A | I26: PJACA | J26: JUVENTUS | K26: 35 | L26: =IF(H26="P",IF(K26<7,"SI","NO"),IF(H26="D",IF(K26<11,"SI","NO"),IF(H26="C",IF(K26<21,"SI","NO"),IF(H26="A",IF(K26<41,"SI","NO"))))) -> SI | M26: =IF(H26="P",IF(K26<4,"SI","NO"),IF(H26="D",IF(K26<6,"SI","NO"),IF(H26="C",IF(K26<11,"SI","NO"),IF(H26="A",IF(K26<21,"SI","NO"))))) -> NO | O26: A | P26: RAGUSA | Q26: SASSUOLO | R26: 1 | S26: =IF(O26="P",IF(R26<7,"SI","NO"),IF(O26="D",IF(R26<11,"SI","NO"),IF(O26="C",IF(R26<21,"SI","NO"),IF(O26="A",IF(R26<41,"SI","NO"))))) -> SI | T26: =IF(O26="P",IF(R26<4,"SI","NO"),IF(O26="D",IF(R26<6,"SI","NO"),IF(O26="C",IF(R26<11,"SI","NO"),IF(O26="A",IF(R26<21,"SI","NO"))))) -> SI | V26: A | W26: NESTOROVSKI | X26: PALERMO | Y26: 5 | Z26: =IF(V26="P",IF(Y26<7,"SI","NO"),IF(V26="D",IF(Y26<11,"SI","NO"),IF(V26="C",IF(Y26<21,"SI","NO"),IF(V26="A",IF(Y26<41,"SI","NO"))))) -> SI | AA26: =IF(V26="P",IF(Y26<4,"SI","NO"),IF(V26="D",IF(Y26<6,"SI","NO"),IF(V26="C",IF(Y26<11,"SI","NO"),IF(V26="A",IF(Y26<21,"SI","NO"))))) -> SI | AC26: A | AD26: KEITA | AE26: LAZIO | AF26: 7 | AG26: =IF(AC26="P",IF(AF26<7,"SI","NO"),IF(AC26="D",IF(AF26<11,"SI","NO"),IF(AC26="C",IF(AF26<21,"SI","NO"),IF(AC26="A",IF(AF26<41,"SI","NO"))))) -> SI | AH26: =IF(AC26="P",IF(AF26<4,"SI","NO"),IF(AC26="D",IF(AF26<6,"SI","NO"),IF(AC26="C",IF(AF26<11,"SI","NO"),IF(AC26="A",IF(AF26<21,"SI","NO"))))) -> SI | AJ26: A | AK26: TROTTA | AL26: CROTONE | AM26: 1 | AN26: =IF(AJ26="P",IF(AM26<7,"SI","NO"),IF(AJ26="D",IF(AM26<11,"SI","NO"),IF(AJ26="C",IF(AM26<21,"SI","NO"),IF(AJ26="A",IF(AM26<41,"SI","NO"))))) -> SI | AO26: =IF(AJ26="P",IF(AM26<4,"SI","NO"),IF(AJ26="D",IF(AM26<6,"SI","NO"),IF(AJ26="C",IF(AM26<11,"SI","NO"),IF(AJ26="A",IF(AM26<21,"SI","NO"))))) -> SI | AQ26: A | AR26: PETKOVIC | AS26: BOLOGNA | AT26: 1 | AU26: =IF(AQ26="P",IF(AT26<7,"SI","NO"),IF(AQ26="D",IF(AT26<11,"SI","NO"),IF(AQ26="C",IF(AT26<21,"SI","NO"),IF(AQ26="A",IF(AT26<41,"SI","NO"))))) -> SI | AV26: =IF(AQ26="P",IF(AT26<4,"SI","NO"),IF(AQ26="D",IF(AT26<6,"SI","NO"),IF(AQ26="C",IF(AT26<11,"SI","NO"),IF(AQ26="A",IF(AT26<21,"SI","NO"))))) -> SI | AX26: A | AY26: PALLADINO | AZ26: GENOA | BA26: 6 | BB26: =IF(AX26="P",IF(BA26<7,"SI","NO"),IF(AX26="D",IF(BA26<11,"SI","NO"),IF(AX26="C",IF(BA26<21,"SI","NO"),IF(AX26="A",IF(BA26<41,"SI","NO"))))) -> SI | BC26: =IF(AX26="P",IF(BA26<4,"SI","NO"),IF(AX26="D",IF(BA26<6,"SI","NO"),IF(AX26="C",IF(BA26<11,"SI","NO"),IF(AX26="A",IF(BA26<21,"SI","NO"))))) -> SI | BE26: A | BF26: PELLISSIER | BG26: CHIEVO | BH26: 2 | BI26: =IF(BE26="P",IF(BH26<7,"SI","NO"),IF(BE26="D",IF(BH26<11,"SI","NO"),IF(BE26="C",IF(BH26<21,"SI","NO"),IF(BE26="A",IF(BH26<41,"SI","NO"))))) -> SI | BJ26: =IF(BE26="P",IF(BH26<4,"SI","NO"),IF(BE26="D",IF(BH26<6,"SI","NO"),IF(BE26="C",IF(BH26<11,"SI","NO"),IF(BE26="A",IF(BH26<21,"SI","NO"))))) -> SI | BL26: A | BM26: EL SHAARAWY | BN26: ROMA | BO26: 20 | BP26: =IF(BL26="P",IF(BO26<7,"SI","NO"),IF(BL26="D",IF(BO26<11,"SI","NO"),IF(BL26="C",IF(BO26<21,"SI","NO"),IF(BL26="A",IF(BO26<41,"SI","NO"))))) -> SI | BQ26: =IF(BL26="P",IF(BO26<4,"SI","NO"),IF(BL26="D",IF(BO26<6,"SI","NO"),IF(BL26="C",IF(BO26<11,"SI","NO"),IF(BL26="A",IF(BO26<21,"SI","NO"))))) -> SI
A27: A | B27: PINILLA | C27: GENOA | D27: 1 | E27: =IF(A27="P",IF(D27<7,"SI","NO"),IF(A27="D",IF(D27<11,"SI","NO"),IF(A27="C",IF(D27<21,"SI","NO"),IF(A27="A",IF(D27<41,"SI","NO"))))) -> SI | F27: =IF(A27="P",IF(D27<4,"SI","NO"),IF(A27="D",IF(D27<6,"SI","NO"),IF(A27="C",IF(D27<11,"SI","NO"),IF(A27="A",IF(D27<21,"SI","NO"))))) -> SI | O27: A | P27: BAHEBECK | Q27: PESCARA | R27: 1 | S27: =IF(O27="P",IF(R27<7,"SI","NO"),IF(O27="D",IF(R27<11,"SI","NO"),IF(O27="C",IF(R27<21,"SI","NO"),IF(O27="A",IF(R27<41,"SI","NO"))))) -> SI | T27: =IF(O27="P",IF(R27<4,"SI","NO"),IF(O27="D",IF(R27<6,"SI","NO"),IF(O27="C",IF(R27<11,"SI","NO"),IF(O27="A",IF(R27<21,"SI","NO"))))) -> SI | V27: A | W27: PELLISSIER | X27: CHIEVO | Y27: 12 | Z27: =IF(V27="P",IF(Y27<7,"SI","NO"),IF(V27="D",IF(Y27<11,"SI","NO"),IF(V27="C",IF(Y27<21,"SI","NO"),IF(V27="A",IF(Y27<41,"SI","NO"))))) -> SI | AA27: =IF(V27="P",IF(Y27<4,"SI","NO"),IF(V27="D",IF(Y27<6,"SI","NO"),IF(V27="C",IF(Y27<11,"SI","NO"),IF(V27="A",IF(Y27<21,"SI","NO"))))) -> SI | AC27: A | AD27: IBARBO | AE27: CAGLIARI | AF27: 3 | AG27: =IF(AC27="P",IF(AF27<7,"SI","NO"),IF(AC27="D",IF(AF27<11,"SI","NO"),IF(AC27="C",IF(AF27<21,"SI","NO"),IF(AC27="A",IF(AF27<41,"SI","NO"))))) -> SI | AH27: =IF(AC27="P",IF(AF27<4,"SI","NO"),IF(AC27="D",IF(AF27<6,"SI","NO"),IF(AC27="C",IF(AF27<11,"SI","NO"),IF(AC27="A",IF(AF27<21,"SI","NO"))))) -> SI | AJ27: A | AK27: CAPRARI | AL27: PESCARA | AM27: 34 | AN27: 34 | AQ27: A | AR27: GABIGOL | AS27: INTER | AT27: 20 | AU27: =IF(AQ27="P",IF(AT27<7,"SI","NO"),IF(AQ27="D",IF(AT27<11,"SI","NO"),IF(AQ27="C",IF(AT27<21,"SI","NO"),IF(AQ27="A",IF(AT27<41,"SI","NO"))))) -> SI | AV27: =IF(AQ27="P",IF(AT27<4,"SI","NO"),IF(AQ27="D",IF(AT27<6,"SI","NO"),IF(AQ27="C",IF(AT27<11,"SI","NO"),IF(AQ27="A",IF(AT27<21,"SI","NO"))))) -> SI | AX27: A | AY27: BAHEBECK | AZ27: PESCARA | BA27: 1 | BB27: =IF(AX27="P",IF(BA27<7,"SI","NO"),IF(AX27="D",IF(BA27<11,"SI","NO"),IF(AX27="C",IF(BA27<21,"SI","NO"),IF(AX27="A",IF(BA27<41,"SI","NO"))))) -> SI | BC27: =IF(AX27="P",IF(BA27<4,"SI","NO"),IF(AX27="D",IF(BA27<6,"SI","NO"),IF(AX27="C",IF(BA27<11,"SI","NO"),IF(AX27="A",IF(BA27<21,"SI","NO"))))) -> SI | BE27: A | BF27: IBARBO | BG27: CAGLIARI | BH27: 12 | BI27: =IF(BE27="P",IF(BH27<7,"SI","NO"),IF(BE27="D",IF(BH27<11,"SI","NO"),IF(BE27="C",IF(BH27<21,"SI","NO"),IF(BE27="A",IF(BH27<41,"SI","NO"))))) -> SI | BJ27: =IF(BE27="P",IF(BH27<4,"SI","NO"),IF(BE27="D",IF(BH27<6,"SI","NO"),IF(BE27="C",IF(BH27<11,"SI","NO"),IF(BE27="A",IF(BH27<21,"SI","NO"))))) -> SI | BL27: A | BM27: MEGGIORINI | BN27: CHIEVO | BO27: 16 | BP27: =IF(BL27="P",IF(BO27<7,"SI","NO"),IF(BL27="D",IF(BO27<11,"SI","NO"),IF(BL27="C",IF(BO27<21,"SI","NO"),IF(BL27="A",IF(BO27<41,"SI","NO"))))) -> SI | BQ27: =IF(BL27="P",IF(BO27<4,"SI","NO"),IF(BL27="D",IF(BO27<6,"SI","NO"),IF(BL27="C",IF(BO27<11,"SI","NO"),IF(BL27="A",IF(BO27<21,"SI","NO"))))) -> SI
A28: Crediti Residui | B28: 48 | C28: Rimanente | E28: =FLOOR(B28/3,1) -> 16 | H28: Crediti Residui | I28: 0 | J28: Rimanente | L28: =FLOOR(I28/3,1) -> 0 | O28: Crediti Residui | P28: 2 | Q28: Rimanente | S28: =FLOOR(P28/3,1) -> 0 | V28: Crediti Residui | W28: 38 | X28: Rimanente | Z28: =FLOOR(W28/3,1) -> 12 | AC28: Crediti Residui | AD28: 9 | AE28: Rimanente | AG28: =FLOOR(AD28/3,1) -> 3 | AJ28: Crediti Residui | AK28: 24 | AL28: Rimanente | AN28: =FLOOR(AK28/3,1) -> 8 | AQ28: Crediti Residui | AR28: 2 | AS28: Rimanente | AU28: =FLOOR(AR28/3,1) -> 0 | AX28: Crediti Residui | AY28: 10 | AZ28: Rimanente | BB28: =FLOOR(AY28/3,1) -> 3 | BE28: Crediti Residui | BF28: 2 | BG28: Rimanente | BI28: =FLOOR(BF28/3,1) -> 0 | BL28: Crediti Residui | BM28: 26 | BN28: Rimanente | BP28: =FLOOR(BM28/3,1) -> 8
C29: Nuovi | E29: 500 | J29: Nuovi | L29: 500 | Q29: Nuovi | S29: 500 | X29: Nuovi | Z29: 500 | AE29: Nuovi | AG29: 500 | AL29: Nuovi | AN29: 500 | AS29: Nuovi | AU29: 500 | AZ29: Nuovi | BB29: 500 | BG29: Nuovi | BI29: 500 | BN29: Nuovi | BP29: 500
C30: Conferme | E30: =SUM(E3:E27) -> 13 | F30: =SUM(F3:F27) -> 0 | J30: Conferme | L30: =SUM(L3:L27) -> 1 | M30: =SUM(M3:M27) -> 0 | Q30: Conferme | S30: =SUM(S3:S27) -> 8 | T30: =SUM(T3:T27) -> 0 | X30: Conferme | Z30: =SUM(Z3:Z27) -> 7 | AA30: =SUM(AA3:AA27) -> 0 | AE30: Conferme | AG30: =SUM(AG3:AG27) -> 0 | AH30: =SUM(AH3:AH27) -> 0 | AL30: Conferme | AN30: =SUM(AN3:AN27) -> 34 | AO30: =SUM(AO3:AO27) -> 0 | AS30: Conferme | AU30: =SUM(AU3:AU27) -> 0 | AV30: =SUM(AV3:AV27) -> 0 | AZ30: Conferme | BB30: =SUM(BB3:BB27) -> 16 | BC30: =SUM(BC3:BC27) -> 0 | BG30: Conferme | BI30: =SUM(BI3:BI27) -> 0 | BJ30: =SUM(BJ3:BJ27) -> 0 | BN30: Conferme | BP30: =SUM(BP3:BP27) -> 40 | BQ30: =SUM(BQ3:BQ27) -> 0
C31: Totali | E31: =SUM(E28:E29)-SUM(E30:F30) -> 503 | J31: Totali | L31: =SUM(L28:L29)-SUM(L30:M30) -> 499 | Q31: Totali | S31: =SUM(S28:S29)-SUM(S30:T30) -> 492 | X31: Totali | Z31: =SUM(Z28:Z29)-SUM(Z30:AA30) -> 505 | AE31: Totali | AG31: =SUM(AG28:AG29)-SUM(AG30:AH30) -> 503 | AL31: Totali | AN31: =SUM(AN28:AN29)-SUM(AN30:AO30) -> 474 | AS31: Totali | AU31: =SUM(AU28:AU29)-SUM(AU30:AV30) -> 500 | AZ31: Totali | BB31: =SUM(BB28:BB29)-SUM(BB30:BC30) -> 487 | BG31: Totali | BI31: =SUM(BI28:BI29)-SUM(BI30:BJ30) -> 500 | BN31: Totali | BP31: =SUM(BP28:BP29)-SUM(BP30:BQ30) -> 468

Sheet Serie B
A1: Nedved 11 | B1: Nedved 11 | C1: Nedved 11 | D1: Nedved 11 | E1: Giugno | F1: Settembre | H1: As Tronzi | L1: Giugno | M1: Settembre | O1: MaBraviiissimi FC | S1: Giugno | T1: Settembre | V1: Mojito Football Club | Z1: Giugno | AA1: Settembre | AC1: SKIACCIAK MOSCA | AG1: Giugno | AH1: Settembre | AJ1: FC MARCELLONA | AN1: Giugno | AO1: Settembre | AQ1: Badbees FC | AU1: Giugno | AV1: Settembre | AX1: A.C. Denti | BB1: Giugno | BC1: Settembre | BE1: SOLOPISA1909 | BI1: Giugno | BJ1: Settembre | BL1: Mai Na Gioia Sporting Club | BP1: Giugno | BQ1: Settembre
A2: Ruolo | B2: Calciatore | C2: Squadra | D2: Costo | H2: Ruolo | I2: Calciatore | J2: Squadra | K2: Costo | O2: Ruolo | P2: Calciatore | Q2: Squadra | R2: Costo | V2: Ruolo | W2: Calciatore | X2: Squadra | Y2: Costo | AC2: Ruolo | AD2: Calciatore | AE2: Squadra | AF2: Costo | AJ2: Ruolo | AK2: Calciatore | AL2: Squadra | AM2: Costo | AQ2: Ruolo | AR2: Calciatore | AS2: Squadra | AT2: Costo | AX2: Ruolo | AY2: Calciatore | AZ2: Squadra | BA2: Costo | BE2: Ruolo | BF2: Calciatore | BG2: Squadra | BH2: Costo | BL2: Ruolo | BM2: Calciatore | BN2: Squadra | BO2: Costo
A3: P | B3: VIVIANO | C3: SAMPDORIA | D3: 12 | E3: =IF(A3="P",IF(D3<7,"SI","NO"),IF(A3="D",IF(D3<11,"SI","NO"),IF(A3="C",IF(D3<21,"SI","NO"),IF(A3="A",IF(D3<41,"SI","NO"))))) -> NO | F3: =IF(A3="P",IF(D3<4,"SI","NO"),IF(A3="D",IF(D3<6,"SI","NO"),IF(A3="C",IF(D3<11,"SI","NO"),IF(A3="A",IF(D3<21,"SI","NO"))))) -> NO | H3: P | I3: TATARUSANU | J3: FIORENTINA | K3: 31 | L3: =IF(H3="P",IF(K3<7,"SI","NO"),IF(H3="D",IF(K3<11,"SI","NO"),IF(H3="C",IF(K3<21,"SI","NO"),IF(H3="A",IF(K3<41,"SI","NO"))))) -> NO | M3: =IF(H3="P",IF(K3<4,"SI","NO"),IF(H3="D",IF(K3<6,"SI","NO"),IF(H3="C",IF(K3<11,"SI","NO"),IF(H3="A",IF(K3<21,"SI","NO"))))) -> NO | O3: P | P3: MARCHETTI | Q3: LAZIO | R3: 20 | S3: =IF(O3="P",IF(R3<7,"SI","NO"),IF(O3="D",IF(R3<11,"SI","NO"),IF(O3="C",IF(R3<21,"SI","NO"),IF(O3="A",IF(R3<41,"SI","NO"))))) -> NO | T3: =IF(O3="P",IF(R3<4,"SI","NO"),IF(O3="D",IF(R3<6,"SI","NO"),IF(O3="C",IF(R3<11,"SI","NO"),IF(O3="A",IF(R3<21,"SI","NO"))))) -> NO | V3: P | W3: SORRENTINO | X3: CHIEVO | Y3: 10 | Z3: =IF(V3="P",IF(Y3<7,"SI","NO"),IF(V3="D",IF(Y3<11,"SI","NO"),IF(V3="C",IF(Y3<21,"SI","NO"),IF(V3="A",IF(Y3<41,"SI","NO"))))) -> NO | AA3: =IF(V3="P",IF(Y3<4,"SI","NO"),IF(V3="D",IF(Y3<6,"SI","NO"),IF(V3="C",IF(Y3<11,"SI","NO"),IF(V3="A",IF(Y3<21,"SI","NO"))))) -> NO | AC3: P | AD3: CONSIGLI | AE3: SASSUOLO | AF3: 11 | AG3: =IF(AC3="P",IF(AF3<7,"SI","NO"),IF(AC3="D",IF(AF3<11,"SI","NO"),IF(AC3="C",IF(AF3<21,"SI","NO"),IF(AC3="A",IF(AF3<41,"SI","NO"))))) -> NO | AH3: =IF(AC3="P",IF(AF3<4,"SI","NO"),IF(AC3="D",IF(AF3<6,"SI","NO"),IF(AC3="C",IF(AF3<11,"SI","NO"),IF(AC3="A",IF(AF3<21,"SI","NO"))))) -> NO | AJ3: P | AK3: SZCZESNY | AL3: ROMA | AM3: 46 | AN3: =IF(AJ3="P",IF(AM3<7,"SI","NO"),IF(AJ3="D",IF(AM3<11,"SI","NO"),IF(AJ3="C",IF(AM3<21,"SI","NO"),IF(AJ3="A",IF(AM3<41,"SI","NO"))))) -> NO | AO3: =IF(AJ3="P",IF(AM3<4,"SI","NO"),IF(AJ3="D",IF(AM3<6,"SI","NO"),IF(AJ3="C",IF(AM3<11,"SI","NO"),IF(AJ3="A",IF(AM3<21,"SI","NO"))))) -> NO | AQ3: P | AR3: RAFAEL | AS3: NAPOLI | AT3: 1 | AU3: =IF(AQ3="P",IF(AT3<7,"SI","NO"),IF(AQ3="D",IF(AT3<11,"SI","NO"),IF(AQ3="C",IF(AT3<21,"SI","NO"),IF(AQ3="A",IF(AT3<41,"SI","NO"))))) -> SI | AV3: =IF(AQ3="P",IF(AT3<4,"SI","NO"),IF(AQ3="D",IF(AT3<6,"SI","NO"),IF(AQ3="C",IF(AT3<11,"SI","NO"),IF(AQ3="A",IF(AT3<21,"SI","NO"))))) -> SI | AX3: P | AY3: DONNARUMMA | AZ3: MILAN | BA3: 50 | BB3: =IF(AX3="P",IF(BA3<7,"SI","NO"),IF(AX3="D",IF(BA3<11,"SI","NO"),IF(AX3="C",IF(BA3<21,"SI","NO"),IF(AX3="A",IF(BA3<41,"SI","NO"))))) -> NO | BC3: =IF(AX3="P",IF(BA3<4,"SI","NO"),IF(AX3="D",IF(BA3<6,"SI","NO"),IF(AX3="C",IF(BA3<11,"SI","NO"),IF(AX3="A",IF(BA3<21,"SI","NO"))))) -> NO | BE3: P | BF3: HANDANOVIC | BG3: INTER | BH3: 41 | BI3: =IF(BE3="P",IF(BH3<7,"SI","NO"),IF(BE3="D",IF(BH3<11,"SI","NO"),IF(BE3="C",IF(BH3<21,"SI","NO"),IF(BE3="A",IF(BH3<41,"SI","NO"))))) -> NO | BJ3: =IF(BE3="P",IF(BH3<4,"SI","NO"),IF(BE3="D",IF(BH3<6,"SI","NO"),IF(BE3="C",IF(BH3<11,"SI","NO"),IF(BE3="A",IF(BH3<21,"SI","NO"))))) -> NO | BL3: P | BM3: DONNARUMMA | BN3: MILAN | BO3: 27 | BP3: =IF(BL3="P",IF(BO3<7,"SI","NO"),IF(BL3="D",IF(BO3<11,"SI","NO"),IF(BL3="C",IF(BO3<21,"SI","NO"),IF(BL3="A",IF(BO3<41,"SI","NO"))))) -> NO | BQ3: =IF(BL3="P",IF(BO3<4,"SI","NO"),IF(BL3="D",IF(BO3<6,"SI","NO"),IF(BL3="C",IF(BO3<11,"SI","NO"),IF(BL3="A",IF(BO3<21,"SI","NO"))))) -> NO
A4: P | B4: PUGGIONI | C4: SAMPDORIA | D4: 1 | E4: =IF(A4="P",IF(D4<7,"SI","NO"),IF(A4="D",IF(D4<11,"SI","NO"),IF(A4="C",IF(D4<21,"SI","NO"),IF(A4="A",IF(D4<41,"SI","NO"))))) -> SI | F4: =IF(A4="P",IF(D4<4,"SI","NO"),IF(A4="D",IF(D4<6,"SI","NO"),IF(A4="C",IF(D4<11,"SI","NO"),IF(A4="A",IF(D4<21,"SI","NO"))))) -> SI | H4: P | I4: DRAGOWSKI | J4: FIORENTINA | K4: 1 | L4: =IF(H4="P",IF(K4<7,"SI","NO"),IF(H4="D",IF(K4<11,"SI","NO"),IF(H4="C",IF(K4<21,"SI","NO"),IF(H4="A",IF(K4<41,"SI","NO"))))) -> SI | M4: =IF(H4="P",IF(K4<4,"SI","NO"),IF(H4="D",IF(K4<6,"SI","NO"),IF(H4="C",IF(K4<11,"SI","NO"),IF(H4="A",IF(K4<21,"SI","NO"))))) -> SI | O4: P | P4: STRAKOSHA | Q4: LAZIO | R4: 1 | S4: =IF(O4="P",IF(R4<7,"SI","NO"),IF(O4="D",IF(R4<11,"SI","NO"),IF(O4="C",IF(R4<21,"SI","NO"),IF(O4="A",IF(R4<41,"SI","NO"))))) -> SI | T4: =IF(O4="P",IF(R4<4,"SI","NO"),IF(O4="D",IF(R4<6,"SI","NO"),IF(O4="C",IF(R4<11,"SI","NO"),IF(O4="A",IF(R4<21,"SI","NO"))))) -> SI | V4: P | W4: BERISHA | X4: ATALANTA | Y4: 6 | Z4: =IF(V4="P",IF(Y4<7,"SI","NO"),IF(V4="D",IF(Y4<11,"SI","NO"),IF(V4="C",IF(Y4<21,"SI","NO"),IF(V4="A",IF(Y4<41,"SI","NO"))))) -> SI | AA4: =IF(V4="P",IF(Y4<4,"SI","NO"),IF(V4="D",IF(Y4<6,"SI","NO"),IF(V4="C",IF(Y4<11,"SI","NO"),IF(V4="A",IF(Y4<21,"SI","NO"))))) -> NO | AC4: P | AD4: VIVIANO | AE4: SAMPDORIA | AF4: 10 | AG4: =IF(AC4="P",IF(AF4<7,"SI","NO"),IF(AC4="D",IF(AF4<11,"SI","NO"),IF(AC4="C",IF(AF4<21,"SI","NO"),IF(AC4="A",IF(AF4<41,"SI","NO"))))) -> NO | AH4: =IF(AC4="P",IF(AF4<4,"SI","NO"),IF(AC4="D",IF(AF4<6,"SI","NO"),IF(AC4="C",IF(AF4<11,"SI","NO"),IF(AC4="A",IF(AF4<21,"SI","NO"))))) -> NO | AJ4: P | AK4: ALLISON | AL4: ROMA | AM4: 3 | AN4: =IF(AJ4="P",IF(AM4<7,"SI","NO"),IF(AJ4="D",IF(AM4<11,"SI","NO"),IF(AJ4="C",IF(AM4<21,"SI","NO"),IF(AJ4="A",IF(AM4<41,"SI","NO"))))) -> SI | AO4: =IF(AJ4="P",IF(AM4<4,"SI","NO"),IF(AJ4="D",IF(AM4<6,"SI","NO"),IF(AJ4="C",IF(AM4<11,"SI","NO"),IF(AJ4="A",IF(AM4<21,"SI","NO"))))) -> SI | AQ4: P | AR4: HART | AS4: TORINO | AT4: 16 | AU4: =IF(AQ4="P",IF(AT4<7,"SI","NO"),IF(AQ4="D",IF(AT4<11,"SI","NO"),IF(AQ4="C",IF(AT4<21,"SI","NO"),IF(AQ4="A",IF(AT4<41,"SI","NO"))))) -> NO | AV4: =IF(AQ4="P",IF(AT4<4,"SI","NO"),IF(AQ4="D",IF(AT4<6,"SI","NO"),IF(AQ4="C",IF(AT4<11,"SI","NO"),IF(AQ4="A",IF(AT4<21,"SI","NO"))))) -> NO | AX4: P | AY4: STORARI | AZ4: MILAN | BA4: 1 | BB4: =IF(AX4="P",IF(BA4<7,"SI","NO"),IF(AX4="D",IF(BA4<11,"SI","NO"),IF(AX4="C",IF(BA4<21,"SI","NO"),IF(AX4="A",IF(BA4<41,"SI","NO"))))) -> SI | BC4: =IF(AX4="P",IF(BA4<4,"SI","NO"),IF(AX4="D",IF(BA4<6,"SI","NO"),IF(AX4="C",IF(BA4<11,"SI","NO"),IF(AX4="A",IF(BA4<21,"SI","NO"))))) -> SI | BE4: P | BF4: CARRIZO | BG4: INTER | BH4: 1 | BI4: =IF(BE4="P",IF(BH4<7,"SI","NO"),IF(BE4="D",IF(BH4<11,"SI","NO"),IF(BE4="C",IF(BH4<21,"SI","NO"),IF(BE4="A",IF(BH4<41,"SI","NO"))))) -> SI | BJ4: =IF(BE4="P",IF(BH4<4,"SI","NO"),IF(BE4="D",IF(BH4<6,"SI","NO"),IF(BE4="C",IF(BH4<11,"SI","NO"),IF(BE4="A",IF(BH4<21,"SI","NO"))))) -> SI | BL4: P | BM4: GABRIEL | BN4: CAGLIARI | BO4: 1 | BP4: =IF(BL4="P",IF(BO4<7,"SI","NO"),IF(BL4="D",IF(BO4<11,"SI","NO"),IF(BL4="C",IF(BO4<21,"SI","NO"),IF(BL4="A",IF(BO4<41,"SI","NO"))))) -> SI | BQ4: =IF(BL4="P",IF(BO4<4,"SI","NO"),IF(BL4="D",IF(BO4<6,"SI","NO"),IF(BL4="C",IF(BO4<11,"SI","NO"),IF(BL4="A",IF(BO4<21,"SI","NO"))))) -> SI
A5: P | B5: LAMANNA | C5: GENOA | D5: 1 | E5: =IF(A5="P",IF(D5<7,"SI","NO"),IF(A5="D",IF(D5<11,"SI","NO"),IF(A5="C",IF(D5<21,"SI","NO"),IF(A5="A",IF(D5<41,"SI","NO"))))) -> SI | F5: =IF(A5="P",IF(D5<4,"SI","NO"),IF(A5="D",IF(D5<6,"SI","NO"),IF(A5="C",IF(D5<11,"SI","NO"),IF(A5="A",IF(D5<21,"SI","NO"))))) -> SI | H5: P | I5: SPORTIELLO | J5: FIORENTINA | K5: 4 | L5: =IF(H5="P",IF(K5<7,"SI","NO"),IF(H5="D",IF(K5<11,"SI","NO"),IF(H5="C",IF(K5<21,"SI","NO"),IF(H5="A",IF(K5<41,"SI","NO"))))) -> SI | M5: =IF(H5="P",IF(K5<4,"SI","NO"),IF(H5="D",IF(K5<6,"SI","NO"),IF(H5="C",IF(K5<11,"SI","NO"),IF(H5="A",IF(K5<21,"SI","NO"))))) -> NO | O5: P | P5: LAMANNA | Q5: GENOA | R5: 1 | S5: =IF(O5="P",IF(R5<7,"SI","NO"),IF(O5="D",IF(R5<11,"SI","NO"),IF(O5="C",IF(R5<21,"SI","NO"),IF(O5="A",IF(R5<41,"SI","NO"))))) -> SI | T5: =IF(O5="P",IF(R5<4,"SI","NO"),IF(O5="D",IF(R5<6,"SI","NO"),IF(O5="C",IF(R5<11,"SI","NO"),IF(O5="A",IF(R5<21,"SI","NO"))))) -> SI | V5: P | W5: MIRANTE | X5: BOLOGNA | Y5: 2 | Z5: =IF(V5="P",IF(Y5<7,"SI","NO"),IF(V5="D",IF(Y5<11,"SI","NO"),IF(V5="C",IF(Y5<21,"SI","NO"),IF(V5="A",IF(Y5<41,"SI","NO"))))) -> SI | AA5: =IF(V5="P",IF(Y5<4,"SI","NO"),IF(V5="D",IF(Y5<6,"SI","NO"),IF(V5="C",IF(Y5<11,"SI","NO"),IF(V5="A",IF(Y5<21,"SI","NO"))))) -> SI | AC5: P | AD5: KARNEZIS | AE5: UDINESE | AF5: 7 | AG5: =IF(AC5="P",IF(AF5<7,"SI","NO"),IF(AC5="D",IF(AF5<11,"SI","NO"),IF(AC5="C",IF(AF5<21,"SI","NO"),IF(AC5="A",IF(AF5<41,"SI","NO"))))) -> NO | AH5: =IF(AC5="P",IF(AF5<4,"SI","NO"),IF(AC5="D",IF(AF5<6,"SI","NO"),IF(AC5="C",IF(AF5<11,"SI","NO"),IF(AC5="A",IF(AF5<21,"SI","NO"))))) -> NO | AJ5: P | AK5: LOBONT | AL5: ROMA | AM5: 1 | AN5: =IF(AJ5="P",IF(AM5<7,"SI","NO"),IF(AJ5="D",IF(AM5<11,"SI","NO"),IF(AJ5="C",IF(AM5<21,"SI","NO"),IF(AJ5="A",IF(AM5<41,"SI","NO"))))) -> SI | AO5: =IF(AJ5="P",IF(AM5<4,"SI","NO"),IF(AJ5="D",IF(AM5<6,"SI","NO"),IF(AJ5="C",IF(AM5<11,"SI","NO"),IF(AJ5="A",IF(AM5<21,"SI","NO"))))) -> SI | AQ5: P | AR5: BERISHA | AS5: ATALANTA | AT5: 1 | AU5: =IF(AQ5="P",IF(AT5<7,"SI","NO"),IF(AQ5="D",IF(AT5<11,"SI","NO"),IF(AQ5="C",IF(AT5<21,"SI","NO"),IF(AQ5="A",IF(AT5<41,"SI","NO"))))) -> SI | AV5: =IF(AQ5="P",IF(AT5<4,"SI","NO"),IF(AQ5="D",IF(AT5<6,"SI","NO"),IF(AQ5="C",IF(AT5<11,"SI","NO"),IF(AQ5="A",IF(AT5<21,"SI","NO"))))) -> SI | AX5: P | AY5: PLIZZARI | AZ5: MILAN | BA5: 1 | BB5: =IF(AX5="P",IF(BA5<7,"SI","NO"),IF(AX5="D",IF(BA5<11,"SI","NO"),IF(AX5="C",IF(BA5<21,"SI","NO"),IF(AX5="A",IF(BA5<41,"SI","NO"))))) -> SI | BC5: =IF(AX5="P",IF(BA5<4,"SI","NO"),IF(AX5="D",IF(BA5<6,"SI","NO"),IF(AX5="C",IF(BA5<11,"SI","NO"),IF(AX5="A",IF(BA5<21,"SI","NO"))))) -> SI | BE5: P | BF5: KARNEZIS | BG5: UDINESE | BH5: 2 | BI5: =IF(BE5="P",IF(BH5<7,"SI","NO"),IF(BE5="D",IF(BH5<11,"SI","NO"),IF(BE5="C",IF(BH5<21,"SI","NO"),IF(BE5="A",IF(BH5<41,"SI","NO"))))) -> SI | BJ5: =IF(BE5="P",IF(BH5<4,"SI","NO"),IF(BE5="D",IF(BH5<6,"SI","NO"),IF(BE5="C",IF(BH5<11,"SI","NO"),IF(BE5="A",IF(BH5<21,"SI","NO"))))) -> SI | BL5: P | BM5: SORRENTINO | BN5: CHIEVO | BO5: 6 | BP5: =IF(BL5="P",IF(BO5<7,"SI","NO"),IF(BL5="D",IF(BO5<11,"SI","NO"),IF(BL5="C",IF(BO5<21,"SI","NO"),IF(BL5="A",IF(BO5<41,"SI","NO"))))) -> SI | BQ5: =IF(BL5="P",IF(BO5<4,"SI","NO"),IF(BL5="D",IF(BO5<6,"SI","NO"),IF(BL5="C",IF(BO5<11,"SI","NO"),IF(BL5="A",IF(BO5<21,"SI","NO"))))) -> NO
AC6: D | AD6: BRUNO PERES | AE6: ROMA | AF6: 25 | AG6: =IF(AC6="P",IF(AF6<7,"SI","NO"),IF(AC6="D",IF(AF6<11,"SI","NO"),IF(AC6="C",IF(AF6<21,"SI","NO"),IF(AC6="A",IF(AF6<41,"SI","NO"))))) -> NO | AH6: =IF(AC6="P",IF(AF6<4,"SI","NO"),IF(AC6="D",IF(AF6<6,"SI","NO"),IF(AC6="C",IF(AF6<11,"SI","NO"),IF(AC6="A",IF(AF6<21,"SI","NO"))))) -> NO | AQ6: D | AR6: BOVO | AS6: TORINO | AT6: 4 | AU6: =IF(AQ6="P",IF(AT6<7,"SI","NO"),IF(AQ6="D",IF(AT6<11,"SI","NO"),IF(AQ6="C",IF(AT6<21,"SI","NO"),IF(AQ6="A",IF(AT6<41,"SI","NO"))))) -> SI | AV6: =IF(AQ6="P",IF(AT6<4,"SI","NO"),IF(AQ6="D",IF(AT6<6,"SI","NO"),IF(AQ6="C",IF(AT6<11,"SI","NO"),IF(AQ6="A",IF(AT6<21,"SI","NO"))))) -> SI
A7: D | B7: ALBIOL | C7: NAPOLI | D7: 11 | E7: =IF(A7="P",IF(D7<7,"SI","NO"),IF(A7="D",IF(D7<11,"SI","NO"),IF(A7="C",IF(D7<21,"SI","NO"),IF(A7="A",IF(D7<41,"SI","NO"))))) -> NO | F7: =IF(A7="P",IF(D7<4,"SI","NO"),IF(A7="D",IF(D7<6,"SI","NO"),IF(A7="C",IF(D7<11,"SI","NO"),IF(A7="A",IF(D7<21,"SI","NO"))))) -> NO | H7: D | I7: ASTORI | J7: FIORENTINA | K7: 16 | L7: =IF(H7="P",IF(K7<7,"SI","NO"),IF(H7="D",IF(K7<11,"SI","NO"),IF(H7="C",IF(K7<21,"SI","NO"),IF(H7="A",IF(K7<41,"SI","NO"))))) -> NO | M7: =IF(H7="P",IF(K7<4,"SI","NO"),IF(H7="D",IF(K7<6,"SI","NO"),IF(H7="C",IF(K7<11,"SI","NO"),IF(H7="A",IF(K7<21,"SI","NO"))))) -> NO | O7: D | P7: BENATIA | Q7: JUVENTUS | R7: 26 | S7: =IF(O7="P",IF(R7<7,"SI","NO"),IF(O7="D",IF(R7<11,"SI","NO"),IF(O7="C",IF(R7<21,"SI","NO"),IF(O7="A",IF(R7<41,"SI","NO"))))) -> NO | T7: =IF(O7="P",IF(R7<4,"SI","NO"),IF(O7="D",IF(R7<6,"SI","NO"),IF(O7="C",IF(R7<11,"SI","NO"),IF(O7="A",IF(R7<21,"SI","NO"))))) -> NO | AC7: D | AD7: DE VRJI | AE7: LAZIO | AF7: 16 | AG7: =IF(AC7="P",IF(AF7<7,"SI","NO"),IF(AC7="D",IF(AF7<11,"SI","NO"),IF(AC7="C",IF(AF7<21,"SI","NO"),IF(AC7="A",IF(AF7<41,"SI","NO"))))) -> NO | AH7: =IF(AC7="P",IF(AF7<4,"SI","NO"),IF(AC7="D",IF(AF7<6,"SI","NO"),IF(AC7="C",IF(AF7<11,"SI","NO"),IF(AC7="A",IF(AF7<21,"SI","NO"))))) -> NO | AJ7: D | AK7: BONUCCI | AL7: JUVENTUS | AM7: 32 | AN7: =IF(AJ7="P",IF(AM7<7,"SI","NO"),IF(AJ7="D",IF(AM7<11,"SI","NO"),IF(AJ7="C",IF(AM7<21,"SI","NO"),IF(AJ7="A",IF(AM7<41,"SI","NO"))))) -> NO | AO7: =IF(AJ7="P",IF(AM7<4,"SI","NO"),IF(AJ7="D",IF(AM7<6,"SI","NO"),IF(AJ7="C",IF(AM7<11,"SI","NO"),IF(AJ7="A",IF(AM7<21,"SI","NO"))))) -> NO | AQ7: D | AR7: DE VRJI | AS7: LAZIO | AT7: 10 | AU7: =IF(AQ7="P",IF(AT7<7,"SI","NO"),IF(AQ7="D",IF(AT7<11,"SI","NO"),IF(AQ7="C",IF(AT7<21,"SI","NO"),IF(AQ7="A",IF(AT7<41,"SI","NO"))))) -> SI | AV7: =IF(AQ7="P",IF(AT7<4,"SI","NO"),IF(AQ7="D",IF(AT7<6,"SI","NO"),IF(AQ7="C",IF(AT7<11,"SI","NO"),IF(AQ7="A",IF(AT7<21,"SI","NO"))))) -> NO | AX7: D | AY7: ROMAGNOLI | AZ7: MILAN | BA7: 20 | BB7: =IF(AX7="P",IF(BA7<7,"SI","NO"),IF(AX7="D",IF(BA7<11,"SI","NO"),IF(AX7="C",IF(BA7<21,"SI","NO"),IF(AX7="A",IF(BA7<41,"SI","NO"))))) -> NO | BC7: =IF(AX7="P",IF(BA7<4,"SI","NO"),IF(AX7="D",IF(BA7<6,"SI","NO"),IF(AX7="C",IF(BA7<11,"SI","NO"),IF(AX7="A",IF(BA7<21,"SI","NO"))))) -> NO | BE7: D | BF7: KOULIBALY | BG7: NAPOLI | BH7: 15 | BI7: =IF(BE7="P",IF(BH7<7,"SI","NO"),IF(BE7="D",IF(BH7<11,"SI","NO"),IF(BE7="C",IF(BH7<21,"SI","NO"),IF(BE7="A",IF(BH7<41,"SI","NO"))))) -> NO | BJ7: =IF(BE7="P",IF(BH7<4,"SI","NO"),IF(BE7="D",IF(BH7<6,"SI","NO"),IF(BE7="C",IF(BH7<11,"SI","NO"),IF(BE7="A",IF(BH7<21,"SI","NO"))))) -> NO | BL7: D | BM7: PELUSO | BN7: SASSUOLO | BO7: 8 | BP7: =IF(BL7="P",IF(BO7<7,"SI","NO"),IF(BL7="D",IF(BO7<11,"SI","NO"),IF(BL7="C",IF(BO7<21,"SI","NO"),IF(BL7="A",IF(BO7<41,"SI","NO"))))) -> SI | BQ7: =IF(BL7="P",IF(BO7<4,"SI","NO"),IF(BL7="D",IF(BO7<6,"SI","NO"),IF(BL7="C",IF(BO7<11,"SI","NO"),IF(BL7="A",IF(BO7<21,"SI","NO"))))) -> NO
A8: D | B8: DE VRJI | C8: LAZIO | D8: 16 | E8: =IF(A8="P",IF(D8<7,"SI","NO"),IF(A8="D",IF(D8<11,"SI","NO"),IF(A8="C",IF(D8<21,"SI","NO"),IF(A8="A",IF(D8<41,"SI","NO"))))) -> NO | F8: =IF(A8="P",IF(D8<4,"SI","NO"),IF(A8="D",IF(D8<6,"SI","NO"),IF(A8="C",IF(D8<11,"SI","NO"),IF(A8="A",IF(D8<21,"SI","NO"))))) -> NO | H8: D | I8: LAURINI | J8: EMPOLI | K8: 1 | L8: =IF(H8="P",IF(K8<7,"SI","NO"),IF(H8="D",IF(K8<11,"SI","NO"),IF(H8="C",IF(K8<21,"SI","NO"),IF(H8="A",IF(K8<41,"SI","NO"))))) -> SI | M8: =IF(H8="P",IF(K8<4,"SI","NO"),IF(H8="D",IF(K8<6,"SI","NO"),IF(H8="C",IF(K8<11,"SI","NO"),IF(H8="A",IF(K8<21,"SI","NO"))))) -> SI | O8: D | P8: PALETTA | Q8: MILAN | R8: 10 | S8: =IF(O8="P",IF(R8<7,"SI","NO"),IF(O8="D",IF(R8<11,"SI","NO"),IF(O8="C",IF(R8<21,"SI","NO"),IF(O8="A",IF(R8<41,"SI","NO"))))) -> SI | T8: =IF(O8="P",IF(R8<4,"SI","NO"),IF(O8="D",IF(R8<6,"SI","NO"),IF(O8="C",IF(R8<11,"SI","NO"),IF(O8="A",IF(R8<21,"SI","NO"))))) -> NO | V8: D | W8: BARRECA | X8: TORINO | Y8: 7 | Z8: 7 | AC8: D | AD8: DE SILVESTRI | AE8: TORINO | AF8: 20 | AG8: =IF(AC8="P",IF(AF8<7,"SI","NO"),IF(AC8="D",IF(AF8<11,"SI","NO"),IF(AC8="C",IF(AF8<21,"SI","NO"),IF(AC8="A",IF(AF8<41,"SI","NO"))))) -> NO | AH8: =IF(AC8="P",IF(AF8<4,"SI","NO"),IF(AC8="D",IF(AF8<6,"SI","NO"),IF(AC8="C",IF(AF8<11,"SI","NO"),IF(AC8="A",IF(AF8<21,"SI","NO"))))) -> NO | AJ8: D | AK8: ALBIOL | AL8: NAPOLI | AM8: 18 | AN8: =IF(AJ8="P",IF(AM8<7,"SI","NO"),IF(AJ8="D",IF(AM8<11,"SI","NO"),IF(AJ8="C",IF(AM8<21,"SI","NO"),IF(AJ8="A",IF(AM8<41,"SI","NO"))))) -> NO | AO8: =IF(AJ8="P",IF(AM8<4,"SI","NO"),IF(AJ8="D",IF(AM8<6,"SI","NO"),IF(AJ8="C",IF(AM8<11,"SI","NO"),IF(AJ8="A",IF(AM8<21,"SI","NO"))))) -> NO | AQ8: D | AR8: MASINA | AS8: BOLOGNA | AT8: 5 | AU8: =IF(AQ8="P",IF(AT8<7,"SI","NO"),IF(AQ8="D",IF(AT8<11,"SI","NO"),IF(AQ8="C",IF(AT8<21,"SI","NO"),IF(AQ8="A",IF(AT8<41,"SI","NO"))))) -> SI | AV8: =IF(AQ8="P",IF(AT8<4,"SI","NO"),IF(AQ8="D",IF(AT8<6,"SI","NO"),IF(AQ8="C",IF(AT8<11,"SI","NO"),IF(AQ8="A",IF(AT8<21,"SI","NO"))))) -> SI | AX8: D | AY8: ISLA | AZ8: CAGLIARI | BA8: 7 | BB8: =IF(AX8="P",IF(BA8<7,"SI","NO"),IF(AX8="D",IF(BA8<11,"SI","NO"),IF(AX8="C",IF(BA8<21,"SI","NO"),IF(AX8="A",IF(BA8<41,"SI","NO"))))) -> SI | BC8: =IF(AX8="P",IF(BA8<4,"SI","NO"),IF(AX8="D",IF(BA8<6,"SI","NO"),IF(AX8="C",IF(BA8<11,"SI","NO"),IF(AX8="A",IF(BA8<21,"SI","NO"))))) -> NO | BE8: D | BF8: ANSALDI | BG8: INTER | BH8: 6 | BI8: =IF(BE8="P",IF(BH8<7,"SI","NO"),IF(BE8="D",IF(BH8<11,"SI","NO"),IF(BE8="C",IF(BH8<21,"SI","NO"),IF(BE8="A",IF(BH8<41,"SI","NO"))))) -> SI | BJ8: =IF(BE8="P",IF(BH8<4,"SI","NO"),IF(BE8="D",IF(BH8<6,"SI","NO"),IF(BE8="C",IF(BH8<11,"SI","NO"),IF(BE8="A",IF(BH8<21,"SI","NO"))))) -> NO | BL8: D | BM8: CASTAN | BN8: TORINO | BO8: 4 | BP8: =IF(BL8="P",IF(BO8<7,"SI","NO"),IF(BL8="D",IF(BO8<11,"SI","NO"),IF(BL8="C",IF(BO8<21,"SI","NO"),IF(BL8="A",IF(BO8<41,"SI","NO"))))) -> SI | BQ8: =IF(BL8="P",IF(BO8<4,"SI","NO"),IF(BL8="D",IF(BO8<6,"SI","NO"),IF(BL8="C",IF(BO8<11,"SI","NO"),IF(BL8="A",IF(BO8<21,"SI","NO"))))) -> SI
A9: D | B9: ASTORI | C9: FIORENTINA | D9: 12 | E9: =IF(A9="P",IF(D9<7,"SI","NO"),IF(A9="D",IF(D9<11,"SI","NO"),IF(A9="C",IF(D9<21,"SI","NO"),IF(A9="A",IF(D9<41,"SI","NO"))))) -> NO | F9: =IF(A9="P",IF(D9<4,"SI","NO"),IF(A9="D",IF(D9<6,"SI","NO"),IF(A9="C",IF(D9<11,"SI","NO"),IF(A9="A",IF(D9<21,"SI","NO"))))) -> NO | H9: D | I9: GOLDANIGA | J9: PALERMO | K9: 3 | L9: =IF(H9="P",IF(K9<7,"SI","NO"),IF(H9="D",IF(K9<11,"SI","NO"),IF(H9="C",IF(K9<21,"SI","NO"),IF(H9="A",IF(K9<41,"SI","NO"))))) -> SI | M9: =IF(H9="P",IF(K9<4,"SI","NO"),IF(H9="D",IF(K9<6,"SI","NO"),IF(H9="C",IF(K9<11,"SI","NO"),IF(H9="A",IF(K9<21,"SI","NO"))))) -> SI | O9: D | P9: PASQUAL | Q9: EMPOLI | R9: 7 | S9: =IF(O9="P",IF(R9<7,"SI","NO"),IF(O9="D",IF(R9<11,"SI","NO"),IF(O9="C",IF(R9<21,"SI","NO"),IF(O9="A",IF(R9<41,"SI","NO"))))) -> SI | T9: =IF(O9="P",IF(R9<4,"SI","NO"),IF(O9="D",IF(R9<6,"SI","NO"),IF(O9="C",IF(R9<11,"SI","NO"),IF(O9="A",IF(R9<21,"SI","NO"))))) -> NO | V9: D | W9: MASINA | X9: BOLOGNA | Y9: 6 | Z9: =IF(V9="P",IF(Y9<7,"SI","NO"),IF(V9="D",IF(Y9<11,"SI","NO"),IF(V9="C",IF(Y9<21,"SI","NO"),IF(V9="A",IF(Y9<41,"SI","NO"))))) -> SI | AA9: =IF(V9="P",IF(Y9<4,"SI","NO"),IF(V9="D",IF(Y9<6,"SI","NO"),IF(V9="C",IF(Y9<11,"SI","NO"),IF(V9="A",IF(Y9<21,"SI","NO"))))) -> NO | AC9: D | AD9: FAZIO | AE9: ROMA | AF9: 10 | AG9: =IF(AC9="P",IF(AF9<7,"SI","NO"),IF(AC9="D",IF(AF9<11,"SI","NO"),IF(AC9="C",IF(AF9<21,"SI","NO"),IF(AC9="A",IF(AF9<41,"SI","NO"))))) -> SI | AH9: =IF(AC9="P",IF(AF9<4,"SI","NO"),IF(AC9="D",IF(AF9<6,"SI","NO"),IF(AC9="C",IF(AF9<11,"SI","NO"),IF(AC9="A",IF(AF9<21,"SI","NO"))))) -> NO | AJ9: D | AK9: MUNOZ | AL9: GENOA | AM9: 2 | AN9: =IF(AJ9="P",IF(AM9<7,"SI","NO"),IF(AJ9="D",IF(AM9<11,"SI","NO"),IF(AJ9="C",IF(AM9<21,"SI","NO"),IF(AJ9="A",IF(AM9<41,"SI","NO"))))) -> SI | AO9: =IF(AJ9="P",IF(AM9<4,"SI","NO"),IF(AJ9="D",IF(AM9<6,"SI","NO"),IF(AJ9="C",IF(AM9<11,"SI","NO"),IF(AJ9="A",IF(AM9<21,"SI","NO"))))) -> SI | AQ9: D | AR9: BEREZINSKY | AS9: SAMPDORIA | AT9: 1 | AU9: =IF(AQ9="P",IF(AT9<7,"SI","NO"),IF(AQ9="D",IF(AT9<11,"SI","NO"),IF(AQ9="C",IF(AT9<21,"SI","NO"),IF(AQ9="A",IF(AT9<41,"SI","NO"))))) -> SI | AV9: =IF(AQ9="P",IF(AT9<4,"SI","NO"),IF(AQ9="D",IF(AT9<6,"SI","NO"),IF(AQ9="C",IF(AT9<11,"SI","NO"),IF(AQ9="A",IF(AT9<21,"SI","NO"))))) -> SI | AX9: D | AY9: MURILLO | AZ9: INTER | BA9: 22 | BB9: =IF(AX9="P",IF(BA9<7,"SI","NO"),IF(AX9="D",IF(BA9<11,"SI","NO"),IF(AX9="C",IF(BA9<21,"SI","NO"),IF(AX9="A",IF(BA9<41,"SI","NO"))))) -> NO | BC9: =IF(AX9="P",IF(BA9<4,"SI","NO"),IF(AX9="D",IF(BA9<6,"SI","NO"),IF(AX9="C",IF(BA9<11,"SI","NO"),IF(AX9="A",IF(BA9<21,"SI","NO"))))) -> NO | BE9: D | BF9: CHIELLINI | BG9: JUVENTUS | BH9: 13 | BI9: =IF(BE9="P",IF(BH9<7,"SI","NO"),IF(BE9="D",IF(BH9<11,"SI","NO"),IF(BE9="C",IF(BH9<21,"SI","NO"),IF(BE9="A",IF(BH9<41,"SI","NO"))))) -> NO | BJ9: =IF(BE9="P",IF(BH9<4,"SI","NO"),IF(BE9="D",IF(BH9<6,"SI","NO"),IF(BE9="C",IF(BH9<11,"SI","NO"),IF(BE9="A",IF(BH9<21,"SI","NO"))))) -> NO | BL9: D | BM9: FELIPE | BN9: UDINESE | BO9: 3 | BP9: =IF(BL9="P",IF(BO9<7,"SI","NO"),IF(BL9="D",IF(BO9<11,"SI","NO"),IF(BL9="C",IF(BO9<21,"SI","NO"),IF(BL9="A",IF(BO9<41,"SI","NO"))))) -> SI | BQ9: =IF(BL9="P",IF(BO9<4,"SI","NO"),IF(BL9="D",IF(BO9<6,"SI","NO"),IF(BL9="C",IF(BO9<11,"SI","NO"),IF(BL9="A",IF(BO9<21,"SI","NO"))))) -> SI
A10: D | B10: DANI ALVES | C10: JUVENTUS | D10: 12 | E10: =IF(A10="P",IF(D10<7,"SI","NO"),IF(A10="D",IF(D10<11,"SI","NO"),IF(A10="C",IF(D10<21,"SI","NO"),IF(A10="A",IF(D10<41,"SI","NO"))))) -> NO | F10: =IF(A10="P",IF(D10<4,"SI","NO"),IF(A10="D",IF(D10<6,"SI","NO"),IF(A10="C",IF(D10<11,"SI","NO"),IF(A10="A",IF(D10<21,"SI","NO"))))) -> NO | H10: D | I10: MURRU | J10: CAGLIARI | K10: 1 | L10: =IF(H10="P",IF(K10<7,"SI","NO"),IF(H10="D",IF(K10<11,"SI","NO"),IF(H10="C",IF(K10<21,"SI","NO"),IF(H10="A",IF(K10<41,"SI","NO"))))) -> SI | M10: =IF(H10="P",IF(K10<4,"SI","NO"),IF(H10="D",IF(K10<6,"SI","NO"),IF(H10="C",IF(K10<11,"SI","NO"),IF(H10="A",IF(K10<21,"SI","NO"))))) -> SI | O10: D | P10: IZZO | Q10: GENOA | R10: 7 | S10: =IF(O10="P",IF(R10<7,"SI","NO"),IF(O10="D",IF(R10<11,"SI","NO"),IF(O10="C",IF(R10<21,"SI","NO"),IF(O10="A",IF(R10<41,"SI","NO"))))) -> SI | T10: =IF(O10="P",IF(R10<4,"SI","NO"),IF(O10="D",IF(R10<6,"SI","NO"),IF(O10="C",IF(R10<11,"SI","NO"),IF(O10="A",IF(R10<21,"SI","NO"))))) -> NO | V10: D | W10: GAMBERINI | X10: CHIEVO | Y10: 1 | Z10: =IF(V10="P",IF(Y10<7,"SI","NO"),IF(V10="D",IF(Y10<11,"SI","NO"),IF(V10="C",IF(Y10<21,"SI","NO"),IF(V10="A",IF(Y10<41,"SI","NO"))))) -> SI | AA10: =IF(V10="P",IF(Y10<4,"SI","NO"),IF(V10="D",IF(Y10<6,"SI","NO"),IF(V10="C",IF(Y10<11,"SI","NO"),IF(V10="A",IF(Y10<21,"SI","NO"))))) -> SI | AC10: D | AD10: JUAN JESUS | AE10: ROMA | AF10: 5 | AG10: =IF(AC10="P",IF(AF10<7,"SI","NO"),IF(AC10="D",IF(AF10<11,"SI","NO"),IF(AC10="C",IF(AF10<21,"SI","NO"),IF(AC10="A",IF(AF10<41,"SI","NO"))))) -> SI | AH10: =IF(AC10="P",IF(AF10<4,"SI","NO"),IF(AC10="D",IF(AF10<6,"SI","NO"),IF(AC10="C",IF(AF10<11,"SI","NO"),IF(AC10="A",IF(AF10<21,"SI","NO"))))) -> SI | AJ10: D | AK10: GOBBI | AL10: CHIEVO | AM10: 1 | AN10: =IF(AJ10="P",IF(AM10<7,"SI","NO"),IF(AJ10="D",IF(AM10<11,"SI","NO"),IF(AJ10="C",IF(AM10<21,"SI","NO"),IF(AJ10="A",IF(AM10<41,"SI","NO"))))) -> SI | AO10: =IF(AJ10="P",IF(AM10<4,"SI","NO"),IF(AJ10="D",IF(AM10<6,"SI","NO"),IF(AJ10="C",IF(AM10<11,"SI","NO"),IF(AJ10="A",IF(AM10<21,"SI","NO"))))) -> SI | AQ10: D | AR10: FAZIO | AS10: ROMA | AT10: 8 | AU10: =IF(AQ10="P",IF(AT10<7,"SI","NO"),IF(AQ10="D",IF(AT10<11,"SI","NO"),IF(AQ10="C",IF(AT10<21,"SI","NO"),IF(AQ10="A",IF(AT10<41,"SI","NO"))))) -> SI | AV10: =IF(AQ10="P",IF(AT10<4,"SI","NO"),IF(AQ10="D",IF(AT10<6,"SI","NO"),IF(AQ10="C",IF(AT10<11,"SI","NO"),IF(AQ10="A",IF(AT10<21,"SI","NO"))))) -> NO | AX10: D | AY10: CASTAN | AZ10: TORINO | BA10: 12 | BB10: =IF(AX10="P",IF(BA10<7,"SI","NO"),IF(AX10="D",IF(BA10<11,"SI","NO"),IF(AX10="C",IF(BA10<21,"SI","NO"),IF(AX10="A",IF(BA10<41,"SI","NO"))))) -> NO | BC10: =IF(AX10="P",IF(BA10<4,"SI","NO"),IF(AX10="D",IF(BA10<6,"SI","NO"),IF(AX10="C",IF(BA10<11,"SI","NO"),IF(AX10="A",IF(BA10<21,"SI","NO"))))) -> NO | BE10: D | BF10: MASIELLO | BG10: ATALANTA | BH10: 6 | BI10: 6 | BL10: D | BM10: D'AMBROSIO | BN10: CHIEVO | BO10: 5 | BP10: =IF(BL10="P",IF(BO10<7,"SI","NO"),IF(BL10="D",IF(BO10<11,"SI","NO"),IF(BL10="C",IF(BO10<21,"SI","NO"),IF(BL10="A",IF(BO10<41,"SI","NO"))))) -> SI | BQ10: =IF(BL10="P",IF(BO10<4,"SI","NO"),IF(BL10="D",IF(BO10<6,"SI","NO"),IF(BL10="C",IF(BO10<11,"SI","NO"),IF(BL10="A",IF(BO10<21,"SI","NO"))))) -> SI
A11: D | B11: GOLDANIGA | C11: PALERMO | D11: 1 | E11: =IF(A11="P",IF(D11<7,"SI","NO"),IF(A11="D",IF(D11<11,"SI","NO"),IF(A11="C",IF(D11<21,"SI","NO"),IF(A11="A",IF(D11<41,"SI","NO"))))) -> SI | F11: =IF(A11="P",IF(D11<4,"SI","NO"),IF(A11="D",IF(D11<6,"SI","NO"),IF(A11="C",IF(D11<11,"SI","NO"),IF(A11="A",IF(D11<21,"SI","NO"))))) -> SI | H11: D | I11: MASIELLO | J11: ATALANTA | K11: 1 | L11: =IF(H11="P",IF(K11<7,"SI","NO"),IF(H11="D",IF(K11<11,"SI","NO"),IF(H11="C",IF(K11<21,"SI","NO"),IF(H11="A",IF(K11<41,"SI","NO"))))) -> SI | M11: =IF(H11="P",IF(K11<4,"SI","NO"),IF(H11="D",IF(K11<6,"SI","NO"),IF(H11="C",IF(K11<11,"SI","NO"),IF(H11="A",IF(K11<21,"SI","NO"))))) -> SI | O11: D | P11: REGINI | Q11: SAMPDORIA | R11: 4 | S11: =IF(O11="P",IF(R11<7,"SI","NO"),IF(O11="D",IF(R11<11,"SI","NO"),IF(O11="C",IF(R11<21,"SI","NO"),IF(O11="A",IF(R11<41,"SI","NO"))))) -> SI | T11: =IF(O11="P",IF(R11<4,"SI","NO"),IF(O11="D",IF(R11<6,"SI","NO"),IF(O11="C",IF(R11<11,"SI","NO"),IF(O11="A",IF(R11<21,"SI","NO"))))) -> SI | V11: D | W11: LIROLA | X11: SASSUOLO | Y11: 1 | Z11: =IF(V11="P",IF(Y11<7,"SI","NO"),IF(V11="D",IF(Y11<11,"SI","NO"),IF(V11="C",IF(Y11<21,"SI","NO"),IF(V11="A",IF(Y11<41,"SI","NO"))))) -> SI | AA11: =IF(V11="P",IF(Y11<4,"SI","NO"),IF(V11="D",IF(Y11<6,"SI","NO"),IF(V11="C",IF(Y11<11,"SI","NO"),IF(V11="A",IF(Y11<21,"SI","NO"))))) -> SI | AC11: D | AD11: RISPOLI | AE11: PALERMO | AF11: 1 | AG11: =IF(AC11="P",IF(AF11<7,"SI","NO"),IF(AC11="D",IF(AF11<11,"SI","NO"),IF(AC11="C",IF(AF11<21,"SI","NO"),IF(AC11="A",IF(AF11<41,"SI","NO"))))) -> SI | AH11: =IF(AC11="P",IF(AF11<4,"SI","NO"),IF(AC11="D",IF(AF11<6,"SI","NO"),IF(AC11="C",IF(AF11<11,"SI","NO"),IF(AC11="A",IF(AF11<21,"SI","NO"))))) -> SI | AJ11: D | AK11: TOLOI | AL11: ATALANTA | AM11: 1 | AN11: =IF(AJ11="P",IF(AM11<7,"SI","NO"),IF(AJ11="D",IF(AM11<11,"SI","NO"),IF(AJ11="C",IF(AM11<21,"SI","NO"),IF(AJ11="A",IF(AM11<41,"SI","NO"))))) -> SI | AO11: =IF(AJ11="P",IF(AM11<4,"SI","NO"),IF(AJ11="D",IF(AM11<6,"SI","NO"),IF(AJ11="C",IF(AM11<11,"SI","NO"),IF(AJ11="A",IF(AM11<21,"SI","NO"))))) -> SI | AQ11: D | AR11: CONTI | AS11: ATALANTA | AT11: 2 | AU11: 2 | AX11: D | AY11: FERRARI | AZ11: CROTONE | BA11: 7 | BB11: =IF(AX11="P",IF(BA11<7,"SI","NO"),IF(AX11="D",IF(BA11<11,"SI","NO"),IF(AX11="C",IF(BA11<21,"SI","NO"),IF(AX11="A",IF(BA11<41,"SI","NO"))))) -> SI | BC11: =IF(AX11="P",IF(BA11<4,"SI","NO"),IF(AX11="D",IF(BA11<6,"SI","NO"),IF(AX11="C",IF(BA11<11,"SI","NO"),IF(AX11="A",IF(BA11<21,"SI","NO"))))) -> NO | BE11: D | BF11: MAIETTA | BG11: BOLOGNA | BH11: 1 | BI11: =IF(BE11="P",IF(BH11<7,"SI","NO"),IF(BE11="D",IF(BH11<11,"SI","NO"),IF(BE11="C",IF(BH11<21,"SI","NO"),IF(BE11="A",IF(BH11<41,"SI","NO"))))) -> SI | BJ11: =IF(BE11="P",IF(BH11<4,"SI","NO"),IF(BE11="D",IF(BH11<6,"SI","NO"),IF(BE11="C",IF(BH11<11,"SI","NO"),IF(BE11="A",IF(BH11<21,"SI","NO"))))) -> SI | BL11: D | BM11: DRAME | BN11: ATALANTA | BO11: 2 | BP11: =IF(BL11="P",IF(BO11<7,"SI","NO"),IF(BL11="D",IF(BO11<11,"SI","NO"),IF(BL11="C",IF(BO11<21,"SI","NO"),IF(BL11="A",IF(BO11<41,"SI","NO"))))) -> SI | BQ11: =IF(BL11="P",IF(BO11<4,"SI","NO"),IF(BL11="D",IF(BO11<6,"SI","NO"),IF(BL11="C",IF(BO11<11,"SI","NO"),IF(BL11="A",IF(BO11<21,"SI","NO"))))) -> SI
A12: D | B12: CALDARA | C12: ATALANTA | D12: 10 | E12: 10 | H12: D | I12: DE MAIO | J12: FIORENTINA | K12: 1 | L12: =IF(H12="P",IF(K12<7,"SI","NO"),IF(H12="D",IF(K12<11,"SI","NO"),IF(H12="C",IF(K12<21,"SI","NO"),IF(H12="A",IF(K12<41,"SI","NO"))))) -> SI | M12: =IF(H12="P",IF(K12<4,"SI","NO"),IF(H12="D",IF(K12<6,"SI","NO"),IF(H12="C",IF(K12<11,"SI","NO"),IF(H12="A",IF(K12<21,"SI","NO"))))) -> SI | O12: D | P12: FELIPE | Q12: UDINESE | R12: 1 | S12: =IF(O12="P",IF(R12<7,"SI","NO"),IF(O12="D",IF(R12<11,"SI","NO"),IF(O12="C",IF(R12<21,"SI","NO"),IF(O12="A",IF(R12<41,"SI","NO"))))) -> SI | T12: =IF(O12="P",IF(R12<4,"SI","NO"),IF(O12="D",IF(R12<6,"SI","NO"),IF(O12="C",IF(R12<11,"SI","NO"),IF(O12="A",IF(R12<21,"SI","NO"))))) -> SI | V12: D | W12: BURDISSO | X12: GENOA | Y12: 5 | Z12: =IF(V12="P",IF(Y12<7,"SI","NO"),IF(V12="D",IF(Y12<11,"SI","NO"),IF(V12="C",IF(Y12<21,"SI","NO"),IF(V12="A",IF(Y12<41,"SI","NO"))))) -> SI | AA12: =IF(V12="P",IF(Y12<4,"SI","NO"),IF(V12="D",IF(Y12<6,"SI","NO"),IF(V12="C",IF(Y12<11,"SI","NO"),IF(V12="A",IF(Y12<21,"SI","NO"))))) -> SI | AC12: D | AD12: MARIO RUI | AE12: ROMA | AF12: 1 | AG12: =IF(AC12="P",IF(AF12<7,"SI","NO"),IF(AC12="D",IF(AF12<11,"SI","NO"),IF(AC12="C",IF(AF12<21,"SI","NO"),IF(AC12="A",IF(AF12<41,"SI","NO"))))) -> SI | AH12: =IF(AC12="P",IF(AF12<4,"SI","NO"),IF(AC12="D",IF(AF12<6,"SI","NO"),IF(AC12="C",IF(AF12<11,"SI","NO"),IF(AC12="A",IF(AF12<21,"SI","NO"))))) -> SI | AJ12: D | AK12: RADU | AL12: LAZIO | AM12: 1 | AN12: =IF(AJ12="P",IF(AM12<7,"SI","NO"),IF(AJ12="D",IF(AM12<11,"SI","NO"),IF(AJ12="C",IF(AM12<21,"SI","NO"),IF(AJ12="A",IF(AM12<41,"SI","NO"))))) -> SI | AO12: =IF(AJ12="P",IF(AM12<4,"SI","NO"),IF(AJ12="D",IF(AM12<6,"SI","NO"),IF(AJ12="C",IF(AM12<11,"SI","NO"),IF(AJ12="A",IF(AM12<21,"SI","NO"))))) -> SI | AQ12: D | AR12: MURRU | AS12: CAGLIARI | AT12: 1 | AU12: =IF(AQ12="P",IF(AT12<7,"SI","NO"),IF(AQ12="D",IF(AT12<11,"SI","NO"),IF(AQ12="C",IF(AT12<21,"SI","NO"),IF(AQ12="A",IF(AT12<41,"SI","NO"))))) -> SI | AV12: =IF(AQ12="P",IF(AT12<4,"SI","NO"),IF(AQ12="D",IF(AT12<6,"SI","NO"),IF(AQ12="C",IF(AT12<11,"SI","NO"),IF(AQ12="A",IF(AT12<21,"SI","NO"))))) -> SI | AX12: D | AY12: SAMIR | AZ12: UDINESE | BA12: 1 | BB12: =IF(AX12="P",IF(BA12<7,"SI","NO"),IF(AX12="D",IF(BA12<11,"SI","NO"),IF(AX12="C",IF(BA12<21,"SI","NO"),IF(AX12="A",IF(BA12<41,"SI","NO"))))) -> SI | BC12: =IF(AX12="P",IF(BA12<4,"SI","NO"),IF(AX12="D",IF(BA12<6,"SI","NO"),IF(AX12="C",IF(BA12<11,"SI","NO"),IF(AX12="A",IF(BA12<21,"SI","NO"))))) -> SI | BL12: D | BM12: TOLOI | BN12: SAMPDORIA | BO12: 1 | BP12: 1
A13: D | B13: GAMBERINI | C13: CHIEVO | D13: 1 | E13: =IF(A13="P",IF(D13<7,"SI","NO"),IF(A13="D",IF(D13<11,"SI","NO"),IF(A13="C",IF(D13<21,"SI","NO"),IF(A13="A",IF(D13<41,"SI","NO"))))) -> SI | F13: =IF(A13="P",IF(D13<4,"SI","NO"),IF(A13="D",IF(D13<6,"SI","NO"),IF(A13="C",IF(D13<11,"SI","NO"),IF(A13="A",IF(D13<21,"SI","NO"))))) -> SI | H13: D | I13: SALAMON | J13: CAGLIARI | K13: 1 | L13: =IF(H13="P",IF(K13<7,"SI","NO"),IF(H13="D",IF(K13<11,"SI","NO"),IF(H13="C",IF(K13<21,"SI","NO"),IF(H13="A",IF(K13<41,"SI","NO"))))) -> SI | M13: =IF(H13="P",IF(K13<4,"SI","NO"),IF(H13="D",IF(K13<6,"SI","NO"),IF(H13="C",IF(K13<11,"SI","NO"),IF(H13="A",IF(K13<21,"SI","NO"))))) -> SI | O13: D | P13: EMERSON PALMIERI | Q13: ROMA | R13: 13 | S13: =IF(O13="P",IF(R13<7,"SI","NO"),IF(O13="D",IF(R13<11,"SI","NO"),IF(O13="C",IF(R13<21,"SI","NO"),IF(O13="A",IF(R13<41,"SI","NO"))))) -> NO | T13: =IF(O13="P",IF(R13<4,"SI","NO"),IF(O13="D",IF(R13<6,"SI","NO"),IF(O13="C",IF(R13<11,"SI","NO"),IF(O13="A",IF(R13<21,"SI","NO"))))) -> NO | V13: D | W13: COSTA | X13: EMPOLI | Y13: 1 | Z13: =IF(V13="P",IF(Y13<7,"SI","NO"),IF(V13="D",IF(Y13<11,"SI","NO"),IF(V13="C",IF(Y13<21,"SI","NO"),IF(V13="A",IF(Y13<41,"SI","NO"))))) -> SI | AA13: =IF(V13="P",IF(Y13<4,"SI","NO"),IF(V13="D",IF(Y13<6,"SI","NO"),IF(V13="C",IF(Y13<11,"SI","NO"),IF(V13="A",IF(Y13<21,"SI","NO"))))) -> SI | AC13: D | AD13: ZAPPACOSTA | AE13: TORINO | AF13: 1 | AG13: =IF(AC13="P",IF(AF13<7,"SI","NO"),IF(AC13="D",IF(AF13<11,"SI","NO"),IF(AC13="C",IF(AF13<21,"SI","NO"),IF(AC13="A",IF(AF13<41,"SI","NO"))))) -> SI | AH13: =IF(AC13="P",IF(AF13<4,"SI","NO"),IF(AC13="D",IF(AF13<6,"SI","NO"),IF(AC13="C",IF(AF13<11,"SI","NO"),IF(AC13="A",IF(AF13<21,"SI","NO"))))) -> SI | AJ13: D | AK13: MORETTI | AL13: TORINO | AM13: 1 | AN13: =IF(AJ13="P",IF(AM13<7,"SI","NO"),IF(AJ13="D",IF(AM13<11,"SI","NO"),IF(AJ13="C",IF(AM13<21,"SI","NO"),IF(AJ13="A",IF(AM13<41,"SI","NO"))))) -> SI | AO13: =IF(AJ13="P",IF(AM13<4,"SI","NO"),IF(AJ13="D",IF(AM13<6,"SI","NO"),IF(AJ13="C",IF(AM13<11,"SI","NO"),IF(AJ13="A",IF(AM13<21,"SI","NO"))))) -> SI | AQ13: D | AR13: ROSI | AS13: CROTONE | AT13: 1 | AU13: =IF(AQ13="P",IF(AT13<7,"SI","NO"),IF(AQ13="D",IF(AT13<11,"SI","NO"),IF(AQ13="C",IF(AT13<21,"SI","NO"),IF(AQ13="A",IF(AT13<41,"SI","NO"))))) -> SI | AV13: =IF(AQ13="P",IF(AT13<4,"SI","NO"),IF(AQ13="D",IF(AT13<6,"SI","NO"),IF(AQ13="C",IF(AT13<11,"SI","NO"),IF(AQ13="A",IF(AT13<21,"SI","NO"))))) -> SI | AX13: D | AY13: DAINELLI | AZ13: CHIEVO | BA13: 1 | BB13: =IF(AX13="P",IF(BA13<7,"SI","NO"),IF(AX13="D",IF(BA13<11,"SI","NO"),IF(AX13="C",IF(BA13<21,"SI","NO"),IF(AX13="A",IF(BA13<41,"SI","NO"))))) -> SI | BC13: =IF(AX13="P",IF(BA13<4,"SI","NO"),IF(AX13="D",IF(BA13<6,"SI","NO"),IF(AX13="C",IF(BA13<11,"SI","NO"),IF(AX13="A",IF(BA13<21,"SI","NO"))))) -> SI | BE13: D | BF13: DE SILVESTRI | BG13: TORINO | BH13: 1 | BI13: =IF(BE13="P",IF(BH13<7,"SI","NO"),IF(BE13="D",IF(BH13<11,"SI","NO"),IF(BE13="C",IF(BH13<21,"SI","NO"),IF(BE13="A",IF(BH13<41,"SI","NO"))))) -> SI | BJ13: =IF(BE13="P",IF(BH13<4,"SI","NO"),IF(BE13="D",IF(BH13<6,"SI","NO"),IF(BE13="C",IF(BH13<11,"SI","NO"),IF(BE13="A",IF(BH13<21,"SI","NO"))))) -> SI | BL13: D | BM13: ALEESAMI | BN13: PALERMO | BO13: 2 | BP13: =IF(BL13="P",IF(BO13<7,"SI","NO"),IF(BL13="D",IF(BO13<11,"SI","NO"),IF(BL13="C",IF(BO13<21,"SI","NO"),IF(BL13="A",IF(BO13<41,"SI","NO"))))) -> SI | BQ13: =IF(BL13="P",IF(BO13<4,"SI","NO"),IF(BL13="D",IF(BO13<6,"SI","NO"),IF(BL13="C",IF(BO13<11,"SI","NO"),IF(BL13="A",IF(BO13<21,"SI","NO"))))) -> SI
H14: C | I14: HAMSIK | J14: NAPOLI | K14: 86 | L14: =IF(H14="P",IF(K14<7,"SI","NO"),IF(H14="D",IF(K14<11,"SI","NO"),IF(H14="C",IF(K14<21,"SI","NO"),IF(H14="A",IF(K14<41,"SI","NO"))))) -> NO | M14: =IF(H14="P",IF(K14<4,"SI","NO"),IF(H14="D",IF(K14<6,"SI","NO"),IF(H14="C",IF(K14<11,"SI","NO"),IF(H14="A",IF(K14<21,"SI","NO"))))) -> NO
A15: C | B15: CANDREVA | C15: INTER | D15: 61 | E15: =IF(A15="P",IF(D15<7,"SI","NO"),IF(A15="D",IF(D15<11,"SI","NO"),IF(A15="C",IF(D15<21,"SI","NO"),IF(A15="A",IF(D15<41,"SI","NO"))))) -> NO | F15: =IF(A15="P",IF(D15<4,"SI","NO"),IF(A15="D",IF(D15<6,"SI","NO"),IF(A15="C",IF(D15<11,"SI","NO"),IF(A15="A",IF(D15<21,"SI","NO"))))) -> NO | H15: C | I15: BANEGA | J15: INTER | K15: 23 | L15: =IF(H15="P",IF(K15<7,"SI","NO"),IF(H15="D",IF(K15<11,"SI","NO"),IF(H15="C",IF(K15<21,"SI","NO"),IF(H15="A",IF(K15<41,"SI","NO"))))) -> NO | M15: =IF(H15="P",IF(K15<4,"SI","NO"),IF(H15="D",IF(K15<6,"SI","NO"),IF(H15="C",IF(K15<11,"SI","NO"),IF(H15="A",IF(K15<21,"SI","NO"))))) -> NO | O15: C | P15: A. GOMEZ | Q15: ATALANTA | R15: 58 | S15: =IF(O15="P",IF(R15<7,"SI","NO"),IF(O15="D",IF(R15<11,"SI","NO"),IF(O15="C",IF(R15<21,"SI","NO"),IF(O15="A",IF(R15<41,"SI","NO"))))) -> NO | T15: =IF(O15="P",IF(R15<4,"SI","NO"),IF(O15="D",IF(R15<6,"SI","NO"),IF(O15="C",IF(R15<11,"SI","NO"),IF(O15="A",IF(R15<21,"SI","NO"))))) -> NO | V15: C | W15: CANDREVA | X15: INTER | Y15: 91 | Z15: =IF(V15="P",IF(Y15<7,"SI","NO"),IF(V15="D",IF(Y15<11,"SI","NO"),IF(V15="C",IF(Y15<21,"SI","NO"),IF(V15="A",IF(Y15<41,"SI","NO"))))) -> NO | AA15: =IF(V15="P",IF(Y15<4,"SI","NO"),IF(V15="D",IF(Y15<6,"SI","NO"),IF(V15="C",IF(Y15<11,"SI","NO"),IF(V15="A",IF(Y15<21,"SI","NO"))))) -> NO | AC15: C | AD15: MEDEL | AE15: INTER | AF15: 1 | AG15: =IF(AC15="P",IF(AF15<7,"SI","NO"),IF(AC15="D",IF(AF15<11,"SI","NO"),IF(AC15="C",IF(AF15<21,"SI","NO"),IF(AC15="A",IF(AF15<41,"SI","NO"))))) -> SI | AH15: =IF(AC15="P",IF(AF15<4,"SI","NO"),IF(AC15="D",IF(AF15<6,"SI","NO"),IF(AC15="C",IF(AF15<11,"SI","NO"),IF(AC15="A",IF(AF15<21,"SI","NO"))))) -> SI | AJ15: C | AK15: IAGO FALQUE | AL15: TORINO | AM15: 46 | AN15: =IF(AJ15="P",IF(AM15<7,"SI","NO"),IF(AJ15="D",IF(AM15<11,"SI","NO"),IF(AJ15="C",IF(AM15<21,"SI","NO"),IF(AJ15="A",IF(AM15<41,"SI","NO"))))) -> NO | AO15: =IF(AJ15="P",IF(AM15<4,"SI","NO"),IF(AJ15="D",IF(AM15<6,"SI","NO"),IF(AJ15="C",IF(AM15<11,"SI","NO"),IF(AJ15="A",IF(AM15<21,"SI","NO"))))) -> NO | AQ15: C | AR15: SAPONARA | AS15: FIORENTINA | AT15: 46 | AU15: =IF(AQ15="P",IF(AT15<7,"SI","NO"),IF(AQ15="D",IF(AT15<11,"SI","NO"),IF(AQ15="C",IF(AT15<21,"SI","NO"),IF(AQ15="A",IF(AT15<41,"SI","NO"))))) -> NO | AV15: =IF(AQ15="P",IF(AT15<4,"SI","NO"),IF(AQ15="D",IF(AT15<6,"SI","NO"),IF(AQ15="C",IF(AT15<11,"SI","NO"),IF(AQ15="A",IF(AT15<21,"SI","NO"))))) -> NO | AX15: C | AY15: PERISIC | AZ15: INTER | BA15: 72 | BB15: =IF(AX15="P",IF(BA15<7,"SI","NO"),IF(AX15="D",IF(BA15<11,"SI","NO"),IF(AX15="C",IF(BA15<21,"SI","NO"),IF(AX15="A",IF(BA15<41,"SI","NO"))))) -> NO | BC15: =IF(AX15="P",IF(BA15<4,"SI","NO"),IF(AX15="D",IF(BA15<6,"SI","NO"),IF(AX15="C",IF(BA15<11,"SI","NO"),IF(AX15="A",IF(BA15<21,"SI","NO"))))) -> NO | BE15: C | BF15: BANEGA | BG15: INTER | BH15: 21 | BI15: =IF(BE15="P",IF(BH15<7,"SI","NO"),IF(BE15="D",IF(BH15<11,"SI","NO"),IF(BE15="C",IF(BH15<21,"SI","NO"),IF(BE15="A",IF(BH15<41,"SI","NO"))))) -> NO | BJ15: =IF(BE15="P",IF(BH15<4,"SI","NO"),IF(BE15="D",IF(BH15<6,"SI","NO"),IF(BE15="C",IF(BH15<11,"SI","NO"),IF(BE15="A",IF(BH15<21,"SI","NO"))))) -> NO | BL15: C | BM15: MERTENS | BN15: NAPOLI | BO15: 57 | BP15: =IF(BL15="P",IF(BO15<7,"SI","NO"),IF(BL15="D",IF(BO15<11,"SI","NO"),IF(BL15="C",IF(BO15<21,"SI","NO"),IF(BL15="A",IF(BO15<41,"SI","NO"))))) -> NO | BQ15: =IF(BL15="P",IF(BO15<4,"SI","NO"),IF(BL15="D",IF(BO15<6,"SI","NO"),IF(BL15="C",IF(BO15<11,"SI","NO"),IF(BL15="A",IF(BO15<21,"SI","NO"))))) -> NO
A16: C | B16: BORJA VALERO | C16: FIORENTINA | D16: 39 | E16: =IF(A16="P",IF(D16<7,"SI","NO"),IF(A16="D",IF(D16<11,"SI","NO"),IF(A16="C",IF(D16<21,"SI","NO"),IF(A16="A",IF(D16<41,"SI","NO"))))) -> NO | F16: =IF(A16="P",IF(D16<4,"SI","NO"),IF(A16="D",IF(D16<6,"SI","NO"),IF(A16="C",IF(D16<11,"SI","NO"),IF(A16="A",IF(D16<21,"SI","NO"))))) -> NO | H16: C | I16: R. ALVAREZ | J16: SAMPDORIA | K16: 16 | L16: =IF(H16="P",IF(K16<7,"SI","NO"),IF(H16="D",IF(K16<11,"SI","NO"),IF(H16="C",IF(K16<21,"SI","NO"),IF(H16="A",IF(K16<41,"SI","NO"))))) -> SI | M16: =IF(H16="P",IF(K16<4,"SI","NO"),IF(H16="D",IF(K16<6,"SI","NO"),IF(H16="C",IF(K16<11,"SI","NO"),IF(H16="A",IF(K16<21,"SI","NO"))))) -> NO | O16: C | P16: PRAET | Q16: SAMPDORIA | R16: 17 | S16: =IF(O16="P",IF(R16<7,"SI","NO"),IF(O16="D",IF(R16<11,"SI","NO"),IF(O16="C",IF(R16<21,"SI","NO"),IF(O16="A",IF(R16<41,"SI","NO"))))) -> SI | T16: =IF(O16="P",IF(R16<4,"SI","NO"),IF(O16="D",IF(R16<6,"SI","NO"),IF(O16="C",IF(R16<11,"SI","NO"),IF(O16="A",IF(R16<21,"SI","NO"))))) -> NO | V16: C | W16: NAINGGOLAN | X16: ROMA | Y16: 62 | Z16: =IF(V16="P",IF(Y16<7,"SI","NO"),IF(V16="D",IF(Y16<11,"SI","NO"),IF(V16="C",IF(Y16<21,"SI","NO"),IF(V16="A",IF(Y16<41,"SI","NO"))))) -> NO | AA16: =IF(V16="P",IF(Y16<4,"SI","NO"),IF(V16="D",IF(Y16<6,"SI","NO"),IF(V16="C",IF(Y16<11,"SI","NO"),IF(V16="A",IF(Y16<21,"SI","NO"))))) -> NO | AC16: C | AD16: POLITANO | AE16: SASSUOLO | AF16: 22 | AG16: =IF(AC16="P",IF(AF16<7,"SI","NO"),IF(AC16="D",IF(AF16<11,"SI","NO"),IF(AC16="C",IF(AF16<21,"SI","NO"),IF(AC16="A",IF(AF16<41,"SI","NO"))))) -> NO | AH16: =IF(AC16="P",IF(AF16<4,"SI","NO"),IF(AC16="D",IF(AF16<6,"SI","NO"),IF(AC16="C",IF(AF16<11,"SI","NO"),IF(AC16="A",IF(AF16<21,"SI","NO"))))) -> NO | AJ16: C | AK16: SUSO | AL16: MILAN | AM16: 51 | AN16: =IF(AJ16="P",IF(AM16<7,"SI","NO"),IF(AJ16="D",IF(AM16<11,"SI","NO"),IF(AJ16="C",IF(AM16<21,"SI","NO"),IF(AJ16="A",IF(AM16<41,"SI","NO"))))) -> NO | AO16: =IF(AJ16="P",IF(AM16<4,"SI","NO"),IF(AJ16="D",IF(AM16<6,"SI","NO"),IF(AJ16="C",IF(AM16<11,"SI","NO"),IF(AJ16="A",IF(AM16<21,"SI","NO"))))) -> NO | AQ16: C | AR16: KESSIE | AS16: MILAN | AT16: 8 | AU16: 8 | AX16: C | AY16: CUADRADO | AZ16: JUVENTUS | BA16: 30 | BB16: =IF(AX16="P",IF(BA16<7,"SI","NO"),IF(AX16="D",IF(BA16<11,"SI","NO"),IF(AX16="C",IF(BA16<21,"SI","NO"),IF(AX16="A",IF(BA16<41,"SI","NO"))))) -> NO | BC16: =IF(AX16="P",IF(BA16<4,"SI","NO"),IF(AX16="D",IF(BA16<6,"SI","NO"),IF(AX16="C",IF(BA16<11,"SI","NO"),IF(AX16="A",IF(BA16<21,"SI","NO"))))) -> NO | BE16: C | BF16: FOFANA | BG16: UDINESE | BH16: 5 | BI16: =IF(BE16="P",IF(BH16<7,"SI","NO"),IF(BE16="D",IF(BH16<11,"SI","NO"),IF(BE16="C",IF(BH16<21,"SI","NO"),IF(BE16="A",IF(BH16<41,"SI","NO"))))) -> SI | BJ16: =IF(BE16="P",IF(BH16<4,"SI","NO"),IF(BE16="D",IF(BH16<6,"SI","NO"),IF(BE16="C",IF(BH16<11,"SI","NO"),IF(BE16="A",IF(BH16<21,"SI","NO"))))) -> SI | BL16: C | BM16: PAREDES | BN16: ROMA | BO16: 21 | BP16: =IF(BL16="P",IF(BO16<7,"SI","NO"),IF(BL16="D",IF(BO16<11,"SI","NO"),IF(BL16="C",IF(BO16<21,"SI","NO"),IF(BL16="A",IF(BO16<41,"SI","NO"))))) -> NO | BQ16: =IF(BL16="P",IF(BO16<4,"SI","NO"),IF(BL16="D",IF(BO16<6,"SI","NO"),IF(BL16="C",IF(BO16<11,"SI","NO"),IF(BL16="A",IF(BO16<21,"SI","NO"))))) -> NO
A17: C | B17: PELLEGRINI | C17: SASSUOLO | D17: 5 | E17: =IF(A17="P",IF(D17<7,"SI","NO"),IF(A17="D",IF(D17<11,"SI","NO"),IF(A17="C",IF(D17<21,"SI","NO"),IF(A17="A",IF(D17<41,"SI","NO"))))) -> SI | F17: =IF(A17="P",IF(D17<4,"SI","NO"),IF(A17="D",IF(D17<6,"SI","NO"),IF(A17="C",IF(D17<11,"SI","NO"),IF(A17="A",IF(D17<21,"SI","NO"))))) -> SI | H17: C | I17: LOCATELLI | J17: MILAN | K17: 15 | L17: =IF(H17="P",IF(K17<7,"SI","NO"),IF(H17="D",IF(K17<11,"SI","NO"),IF(H17="C",IF(K17<21,"SI","NO"),IF(H17="A",IF(K17<41,"SI","NO"))))) -> SI | M17: =IF(H17="P",IF(K17<4,"SI","NO"),IF(H17="D",IF(K17<6,"SI","NO"),IF(H17="C",IF(K17<11,"SI","NO"),IF(H17="A",IF(K17<21,"SI","NO"))))) -> NO | O17: C | P17: PELLEGRINI | Q17: SASSUOLO | R17: 13 | S17: =IF(O17="P",IF(R17<7,"SI","NO"),IF(O17="D",IF(R17<11,"SI","NO"),IF(O17="C",IF(R17<21,"SI","NO"),IF(O17="A",IF(R17<41,"SI","NO"))))) -> SI | T17: =IF(O17="P",IF(R17<4,"SI","NO"),IF(O17="D",IF(R17<6,"SI","NO"),IF(O17="C",IF(R17<11,"SI","NO"),IF(O17="A",IF(R17<21,"SI","NO"))))) -> NO | V17: C | W17: BENASSI | X17: TORINO | Y17: 9 | Z17: =IF(V17="P",IF(Y17<7,"SI","NO"),IF(V17="D",IF(Y17<11,"SI","NO"),IF(V17="C",IF(Y17<21,"SI","NO"),IF(V17="A",IF(Y17<41,"SI","NO"))))) -> SI | AA17: =IF(V17="P",IF(Y17<4,"SI","NO"),IF(V17="D",IF(Y17<6,"SI","NO"),IF(V17="C",IF(Y17<11,"SI","NO"),IF(V17="A",IF(Y17<21,"SI","NO"))))) -> SI | AC17: C | AD17: KREJCI | AE17: BOLOGNA | AF17: 16 | AG17: =IF(AC17="P",IF(AF17<7,"SI","NO"),IF(AC17="D",IF(AF17<11,"SI","NO"),IF(AC17="C",IF(AF17<21,"SI","NO"),IF(AC17="A",IF(AF17<41,"SI","NO"))))) -> SI | AH17: =IF(AC17="P",IF(AF17<4,"SI","NO"),IF(AC17="D",IF(AF17<6,"SI","NO"),IF(AC17="C",IF(AF17<11,"SI","NO"),IF(AC17="A",IF(AF17<21,"SI","NO"))))) -> NO | AJ17: C | AK17: DUNCAN | AL17: SASSUOLO | AM17: 15 | AN17: =IF(AJ17="P",IF(AM17<7,"SI","NO"),IF(AJ17="D",IF(AM17<11,"SI","NO"),IF(AJ17="C",IF(AM17<21,"SI","NO"),IF(AJ17="A",IF(AM17<41,"SI","NO"))))) -> SI | AO17: =IF(AJ17="P",IF(AM17<4,"SI","NO"),IF(AJ17="D",IF(AM17<6,"SI","NO"),IF(AJ17="C",IF(AM17<11,"SI","NO"),IF(AJ17="A",IF(AM17<21,"SI","NO"))))) -> NO | AQ17: C | AR17: CUADRADO | AS17: JUVENTUS | AT17: 16 | AU17: =IF(AQ17="P",IF(AT17<7,"SI","NO"),IF(AQ17="D",IF(AT17<11,"SI","NO"),IF(AQ17="C",IF(AT17<21,"SI","NO"),IF(AQ17="A",IF(AT17<41,"SI","NO"))))) -> SI | AV17: =IF(AQ17="P",IF(AT17<4,"SI","NO"),IF(AQ17="D",IF(AT17<6,"SI","NO"),IF(AQ17="C",IF(AT17<11,"SI","NO"),IF(AQ17="A",IF(AT17<21,"SI","NO"))))) -> NO | AX17: C | AY17: LINETTY | AZ17: SAMPDORIA | BA17: 1 | BB17: =IF(AX17="P",IF(BA17<7,"SI","NO"),IF(AX17="D",IF(BA17<11,"SI","NO"),IF(AX17="C",IF(BA17<21,"SI","NO"),IF(AX17="A",IF(BA17<41,"SI","NO"))))) -> SI | BC17: =IF(AX17="P",IF(BA17<4,"SI","NO"),IF(AX17="D",IF(BA17<6,"SI","NO"),IF(AX17="C",IF(BA17<11,"SI","NO"),IF(AX17="A",IF(BA17<21,"SI","NO"))))) -> SI | BE17: C | BF17: FELIPE ANDERSON | BG17: LAZIO | BH17: 32 | BI17: =IF(BE17="P",IF(BH17<7,"SI","NO"),IF(BE17="D",IF(BH17<11,"SI","NO"),IF(BE17="C",IF(BH17<21,"SI","NO"),IF(BE17="A",IF(BH17<41,"SI","NO"))))) -> NO | BJ17: =IF(BE17="P",IF(BH17<4,"SI","NO"),IF(BE17="D",IF(BH17<6,"SI","NO"),IF(BE17="C",IF(BH17<11,"SI","NO"),IF(BE17="A",IF(BH17<21,"SI","NO"))))) -> NO | BL17: C | BM17: NTCHAM | BN17: GENOA | BO17: 8 | BP17: =IF(BL17="P",IF(BO17<7,"SI","NO"),IF(BL17="D",IF(BO17<11,"SI","NO"),IF(BL17="C",IF(BO17<21,"SI","NO"),IF(BL17="A",IF(BO17<41,"SI","NO"))))) -> SI | BQ17: =IF(BL17="P",IF(BO17<4,"SI","NO"),IF(BL17="D",IF(BO17<6,"SI","NO"),IF(BL17="C",IF(BO17<11,"SI","NO"),IF(BL17="A",IF(BO17<21,"SI","NO"))))) -> SI
A18: C | B18: KESSIE | C18: MILAN | D18: 8 | E18: =IF(A18="P",IF(D18<7,"SI","NO"),IF(A18="D",IF(D18<11,"SI","NO"),IF(A18="C",IF(D18<21,"SI","NO"),IF(A18="A",IF(D18<41,"SI","NO"))))) -> SI | F18: =IF(A18="P",IF(D18<4,"SI","NO"),IF(A18="D",IF(D18<6,"SI","NO"),IF(A18="C",IF(D18<11,"SI","NO"),IF(A18="A",IF(D18<21,"SI","NO"))))) -> SI | H18: C | I18: BASELLI | J18: TORINO | K18: 15 | L18: =IF(H18="P",IF(K18<7,"SI","NO"),IF(H18="D",IF(K18<11,"SI","NO"),IF(H18="C",IF(K18<21,"SI","NO"),IF(H18="A",IF(K18<41,"SI","NO"))))) -> SI | M18: =IF(H18="P",IF(K18<4,"SI","NO"),IF(H18="D",IF(K18<6,"SI","NO"),IF(H18="C",IF(K18<11,"SI","NO"),IF(H18="A",IF(K18<21,"SI","NO"))))) -> NO | O18: C | P18: TARAABT | Q18: GENOA | R18: 17 | S18: =IF(O18="P",IF(R18<7,"SI","NO"),IF(O18="D",IF(R18<11,"SI","NO"),IF(O18="C",IF(R18<21,"SI","NO"),IF(O18="A",IF(R18<41,"SI","NO"))))) -> SI | T18: =IF(O18="P",IF(R18<4,"SI","NO"),IF(O18="D",IF(R18<6,"SI","NO"),IF(O18="C",IF(R18<11,"SI","NO"),IF(O18="A",IF(R18<21,"SI","NO"))))) -> NO | AC18: C | AD18: PAREDES | AE18: ROMA | AF18: 10 | AG18: =IF(AC18="P",IF(AF18<7,"SI","NO"),IF(AC18="D",IF(AF18<11,"SI","NO"),IF(AC18="C",IF(AF18<21,"SI","NO"),IF(AC18="A",IF(AF18<41,"SI","NO"))))) -> SI | AH18: =IF(AC18="P",IF(AF18<4,"SI","NO"),IF(AC18="D",IF(AF18<6,"SI","NO"),IF(AC18="C",IF(AF18<11,"SI","NO"),IF(AC18="A",IF(AF18<21,"SI","NO"))))) -> SI | AJ18: C | AK18: VECINO | AL18: FIORENTINA | AM18: 2 | AN18: =IF(AJ18="P",IF(AM18<7,"SI","NO"),IF(AJ18="D",IF(AM18<11,"SI","NO"),IF(AJ18="C",IF(AM18<21,"SI","NO"),IF(AJ18="A",IF(AM18<41,"SI","NO"))))) -> SI | AO18: =IF(AJ18="P",IF(AM18<4,"SI","NO"),IF(AJ18="D",IF(AM18<6,"SI","NO"),IF(AJ18="C",IF(AM18<11,"SI","NO"),IF(AJ18="A",IF(AM18<21,"SI","NO"))))) -> SI | AQ18: C | AR18: IAGO FALQUE | AS18: TORINO | AT18: 21 | AU18: =IF(AQ18="P",IF(AT18<7,"SI","NO"),IF(AQ18="D",IF(AT18<11,"SI","NO"),IF(AQ18="C",IF(AT18<21,"SI","NO"),IF(AQ18="A",IF(AT18<41,"SI","NO"))))) -> NO | AV18: =IF(AQ18="P",IF(AT18<4,"SI","NO"),IF(AQ18="D",IF(AT18<6,"SI","NO"),IF(AQ18="C",IF(AT18<11,"SI","NO"),IF(AQ18="A",IF(AT18<21,"SI","NO"))))) -> NO | AX18: C | AY18: FOFANA | AZ18: UDINESE | BA18: 8 | BB18: =IF(AX18="P",IF(BA18<7,"SI","NO"),IF(AX18="D",IF(BA18<11,"SI","NO"),IF(AX18="C",IF(BA18<21,"SI","NO"),IF(AX18="A",IF(BA18<41,"SI","NO"))))) -> SI | BC18: =IF(AX18="P",IF(BA18<4,"SI","NO"),IF(AX18="D",IF(BA18<6,"SI","NO"),IF(AX18="C",IF(BA18<11,"SI","NO"),IF(AX18="A",IF(BA18<21,"SI","NO"))))) -> SI | BE18: C | BF18: FREULER | BG18: ATALANTA | BH18: 1 | BI18: 1 | BL18: C | BM18: DE PAUL | BN18: UDINESE | BO18: 3 | BP18: 3
A19: C | B19: EL KADDOURI | C19: EMPOLI | D19: 2 | E19: =IF(A19="P",IF(D19<7,"SI","NO"),IF(A19="D",IF(D19<11,"SI","NO"),IF(A19="C",IF(D19<21,"SI","NO"),IF(A19="A",IF(D19<41,"SI","NO"))))) -> SI | F19: =IF(A19="P",IF(D19<4,"SI","NO"),IF(A19="D",IF(D19<6,"SI","NO"),IF(A19="C",IF(D19<11,"SI","NO"),IF(A19="A",IF(D19<21,"SI","NO"))))) -> SI | H19: C | I19: KUCKA | J19: MILAN | K19: 2 | L19: =IF(H19="P",IF(K19<7,"SI","NO"),IF(H19="D",IF(K19<11,"SI","NO"),IF(H19="C",IF(K19<21,"SI","NO"),IF(H19="A",IF(K19<41,"SI","NO"))))) -> SI | M19: =IF(H19="P",IF(K19<4,"SI","NO"),IF(H19="D",IF(K19<6,"SI","NO"),IF(H19="C",IF(K19<11,"SI","NO"),IF(H19="A",IF(K19<21,"SI","NO"))))) -> SI | O19: C | P19: DE ROSSI | Q19: ROMA | R19: 2 | S19: 2 | V19: C | W19: VERDI | X19: BOLOGNA | Y19: 3 | Z19: 3 | AC19: C | AD19: AQUILANI | AE19: SASSUOLO | AF19: 2 | AG19: =IF(AC19="P",IF(AF19<7,"SI","NO"),IF(AC19="D",IF(AF19<11,"SI","NO"),IF(AC19="C",IF(AF19<21,"SI","NO"),IF(AC19="A",IF(AF19<41,"SI","NO"))))) -> SI | AH19: =IF(AC19="P",IF(AF19<4,"SI","NO"),IF(AC19="D",IF(AF19<6,"SI","NO"),IF(AC19="C",IF(AF19<11,"SI","NO"),IF(AC19="A",IF(AF19<21,"SI","NO"))))) -> SI | AJ19: C | AK19: DZEMAILI | AM19: 1 | AN19: =IF(AJ19="P",IF(AM19<7,"SI","NO"),IF(AJ19="D",IF(AM19<11,"SI","NO"),IF(AJ19="C",IF(AM19<21,"SI","NO"),IF(AJ19="A",IF(AM19<41,"SI","NO"))))) -> SI | AO19: =IF(AJ19="P",IF(AM19<4,"SI","NO"),IF(AJ19="D",IF(AM19<6,"SI","NO"),IF(AJ19="C",IF(AM19<11,"SI","NO"),IF(AJ19="A",IF(AM19<21,"SI","NO"))))) -> SI | AQ19: C | AR19: POLITANO | AS19: SASSUOLO | AT19: 16 | AU19: =IF(AQ19="P",IF(AT19<7,"SI","NO"),IF(AQ19="D",IF(AT19<11,"SI","NO"),IF(AQ19="C",IF(AT19<21,"SI","NO"),IF(AQ19="A",IF(AT19<41,"SI","NO"))))) -> SI | AV19: =IF(AQ19="P",IF(AT19<4,"SI","NO"),IF(AQ19="D",IF(AT19<6,"SI","NO"),IF(AQ19="C",IF(AT19<11,"SI","NO"),IF(AQ19="A",IF(AT19<21,"SI","NO"))))) -> NO | AX19: C | AY19: MILINKOVIC SAVIC | AZ19: LAZIO | BA19: 2 | BB19: =IF(AX19="P",IF(BA19<7,"SI","NO"),IF(AX19="D",IF(BA19<11,"SI","NO"),IF(AX19="C",IF(BA19<21,"SI","NO"),IF(AX19="A",IF(BA19<41,"SI","NO"))))) -> SI | BC19: =IF(AX19="P",IF(BA19<4,"SI","NO"),IF(AX19="D",IF(BA19<6,"SI","NO"),IF(AX19="C",IF(BA19<11,"SI","NO"),IF(AX19="A",IF(BA19<21,"SI","NO"))))) -> SI | BE19: C | BF19: PRAET | BG19: SAMPDORIA | BH19: 9 | BI19: =IF(BE19="P",IF(BH19<7,"SI","NO"),IF(BE19="D",IF(BH19<11,"SI","NO"),IF(BE19="C",IF(BH19<21,"SI","NO"),IF(BE19="A",IF(BH19<41,"SI","NO"))))) -> SI | BJ19: =IF(BE19="P",IF(BH19<4,"SI","NO"),IF(BE19="D",IF(BH19<6,"SI","NO"),IF(BE19="C",IF(BH19<11,"SI","NO"),IF(BE19="A",IF(BH19<21,"SI","NO"))))) -> SI | BL19: C | BM19: MILINKOVIC-SAVIC | BN19: LAZIO | BO19: 29 | BP19: =IF(BL19="P",IF(BO19<7,"SI","NO"),IF(BL19="D",IF(BO19<11,"SI","NO"),IF(BL19="C",IF(BO19<21,"SI","NO"),IF(BL19="A",IF(BO19<41,"SI","NO"))))) -> NO | BQ19: =IF(BL19="P",IF(BO19<4,"SI","NO"),IF(BL19="D",IF(BO19<6,"SI","NO"),IF(BL19="C",IF(BO19<11,"SI","NO"),IF(BL19="A",IF(BO19<21,"SI","NO"))))) -> NO
A20: C | B20: TAARABT | C20: GENOA | D20: 35 | E20: =IF(A20="P",IF(D20<7,"SI","NO"),IF(A20="D",IF(D20<11,"SI","NO"),IF(A20="C",IF(D20<21,"SI","NO"),IF(A20="A",IF(D20<41,"SI","NO"))))) -> NO | F20: =IF(A20="P",IF(D20<4,"SI","NO"),IF(A20="D",IF(D20<6,"SI","NO"),IF(A20="C",IF(D20<11,"SI","NO"),IF(A20="A",IF(D20<21,"SI","NO"))))) -> NO | H20: C | I20: CASTRO | J20: CHIEVO | K20: 1 | L20: 1 | O20: C | P20: VERRE | Q20: PESCARA | R20: 1 | S20: =IF(O20="P",IF(R20<7,"SI","NO"),IF(O20="D",IF(R20<11,"SI","NO"),IF(O20="C",IF(R20<21,"SI","NO"),IF(O20="A",IF(R20<41,"SI","NO"))))) -> SI | T20: =IF(O20="P",IF(R20<4,"SI","NO"),IF(O20="D",IF(R20<6,"SI","NO"),IF(O20="C",IF(R20<11,"SI","NO"),IF(O20="A",IF(R20<21,"SI","NO"))))) -> SI | V20: C | W20: GAGLIARDINI | X20: INTER | Y20: 16 | Z20: =IF(V20="P",IF(Y20<7,"SI","NO"),IF(V20="D",IF(Y20<11,"SI","NO"),IF(V20="C",IF(Y20<21,"SI","NO"),IF(V20="A",IF(Y20<41,"SI","NO"))))) -> SI | AA20: =IF(V20="P",IF(Y20<4,"SI","NO"),IF(V20="D",IF(Y20<6,"SI","NO"),IF(V20="C",IF(Y20<11,"SI","NO"),IF(V20="A",IF(Y20<21,"SI","NO"))))) -> NO | AC20: C | AD20: HILJEMARK | AE20: GENOA | AF20: 6 | AG20: =IF(AC20="P",IF(AF20<7,"SI","NO"),IF(AC20="D",IF(AF20<11,"SI","NO"),IF(AC20="C",IF(AF20<21,"SI","NO"),IF(AC20="A",IF(AF20<41,"SI","NO"))))) -> SI | AH20: =IF(AC20="P",IF(AF20<4,"SI","NO"),IF(AC20="D",IF(AF20<6,"SI","NO"),IF(AC20="C",IF(AF20<11,"SI","NO"),IF(AC20="A",IF(AF20<21,"SI","NO"))))) -> SI | AJ20: C | AK20: KONDOGBIA | AL20: INTER | AM20: 1 | AN20: =IF(AJ20="P",IF(AM20<7,"SI","NO"),IF(AJ20="D",IF(AM20<11,"SI","NO"),IF(AJ20="C",IF(AM20<21,"SI","NO"),IF(AJ20="A",IF(AM20<41,"SI","NO"))))) -> SI | AO20: =IF(AJ20="P",IF(AM20<4,"SI","NO"),IF(AJ20="D",IF(AM20<6,"SI","NO"),IF(AJ20="C",IF(AM20<11,"SI","NO"),IF(AJ20="A",IF(AM20<21,"SI","NO"))))) -> SI | AQ20: C | AR20: KREJCI | AS20: BOLOGNA | AT20: 3 | AU20: =IF(AQ20="P",IF(AT20<7,"SI","NO"),IF(AQ20="D",IF(AT20<11,"SI","NO"),IF(AQ20="C",IF(AT20<21,"SI","NO"),IF(AQ20="A",IF(AT20<41,"SI","NO"))))) -> SI | AV20: =IF(AQ20="P",IF(AT20<4,"SI","NO"),IF(AQ20="D",IF(AT20<6,"SI","NO"),IF(AQ20="C",IF(AT20<11,"SI","NO"),IF(AQ20="A",IF(AT20<21,"SI","NO"))))) -> SI | AX20: C | AY20: LULIC | AZ20: LAZIO | BA20: 18 | BB20: =IF(AX20="P",IF(BA20<7,"SI","NO"),IF(AX20="D",IF(BA20<11,"SI","NO"),IF(AX20="C",IF(BA20<21,"SI","NO"),IF(AX20="A",IF(BA20<41,"SI","NO"))))) -> SI | BC20: =IF(AX20="P",IF(BA20<4,"SI","NO"),IF(AX20="D",IF(BA20<6,"SI","NO"),IF(AX20="C",IF(BA20<11,"SI","NO"),IF(AX20="A",IF(BA20<21,"SI","NO"))))) -> NO | BE20: C | BF20: DZEMAILI | BG20: MONTREAL | BH20: 1 | BI20: =IF(BE20="P",IF(BH20<7,"SI","NO"),IF(BE20="D",IF(BH20<11,"SI","NO"),IF(BE20="C",IF(BH20<21,"SI","NO"),IF(BE20="A",IF(BH20<41,"SI","NO"))))) -> SI | BJ20: =IF(BE20="P",IF(BH20<4,"SI","NO"),IF(BE20="D",IF(BH20<6,"SI","NO"),IF(BE20="C",IF(BH20<11,"SI","NO"),IF(BE20="A",IF(BH20<21,"SI","NO"))))) -> SI | BL20: C | BM20: RIGONI | BN20: GENOA | BO20: 2 | BP20: =IF(BL20="P",IF(BO20<7,"SI","NO"),IF(BL20="D",IF(BO20<11,"SI","NO"),IF(BL20="C",IF(BO20<21,"SI","NO"),IF(BL20="A",IF(BO20<41,"SI","NO"))))) -> SI | BQ20: =IF(BL20="P",IF(BO20<4,"SI","NO"),IF(BL20="D",IF(BO20<6,"SI","NO"),IF(BL20="C",IF(BO20<11,"SI","NO"),IF(BL20="A",IF(BO20<21,"SI","NO"))))) -> SI
A21: C | B21: DE ROSSI | C21: ROMA | D21: 2 | E21: =IF(A21="P",IF(D21<7,"SI","NO"),IF(A21="D",IF(D21<11,"SI","NO"),IF(A21="C",IF(D21<21,"SI","NO"),IF(A21="A",IF(D21<41,"SI","NO"))))) -> SI | F21: =IF(A21="P",IF(D21<4,"SI","NO"),IF(A21="D",IF(D21<6,"SI","NO"),IF(A21="C",IF(D21<11,"SI","NO"),IF(A21="A",IF(D21<21,"SI","NO"))))) -> SI | H21: C | I21: OBI | J21: TORINO | K21: 1 | L21: =IF(H21="P",IF(K21<7,"SI","NO"),IF(H21="D",IF(K21<11,"SI","NO"),IF(H21="C",IF(K21<21,"SI","NO"),IF(H21="A",IF(K21<41,"SI","NO"))))) -> SI | M21: =IF(H21="P",IF(K21<4,"SI","NO"),IF(H21="D",IF(K21<6,"SI","NO"),IF(H21="C",IF(K21<11,"SI","NO"),IF(H21="A",IF(K21<21,"SI","NO"))))) -> SI | O21: C | P21: VALDIFIORI | Q21: TORINO | R21: 1 | S21: =IF(O21="P",IF(R21<7,"SI","NO"),IF(O21="D",IF(R21<11,"SI","NO"),IF(O21="C",IF(R21<21,"SI","NO"),IF(O21="A",IF(R21<41,"SI","NO"))))) -> SI | T21: =IF(O21="P",IF(R21<4,"SI","NO"),IF(O21="D",IF(R21<6,"SI","NO"),IF(O21="C",IF(R21<11,"SI","NO"),IF(O21="A",IF(R21<21,"SI","NO"))))) -> SI | V21: C | W21: EL KADDOURI | X21: EMPOLI | Y21: 5 | Z21: =IF(V21="P",IF(Y21<7,"SI","NO"),IF(V21="D",IF(Y21<11,"SI","NO"),IF(V21="C",IF(Y21<21,"SI","NO"),IF(V21="A",IF(Y21<41,"SI","NO"))))) -> SI | AA21: =IF(V21="P",IF(Y21<4,"SI","NO"),IF(V21="D",IF(Y21<6,"SI","NO"),IF(V21="C",IF(Y21<11,"SI","NO"),IF(V21="A",IF(Y21<21,"SI","NO"))))) -> SI | AC21: C | AD21: GRENIER | AE21: ROMA | AF21: 1 | AG21: =IF(AC21="P",IF(AF21<7,"SI","NO"),IF(AC21="D",IF(AF21<11,"SI","NO"),IF(AC21="C",IF(AF21<21,"SI","NO"),IF(AC21="A",IF(AF21<41,"SI","NO"))))) -> SI | AH21: =IF(AC21="P",IF(AF21<4,"SI","NO"),IF(AC21="D",IF(AF21<6,"SI","NO"),IF(AC21="C",IF(AF21<11,"SI","NO"),IF(AC21="A",IF(AF21<21,"SI","NO"))))) -> SI | AJ21: C | AK21: BROZOVIC | AL21: INTER | AM21: 5 | AN21: =IF(AJ21="P",IF(AM21<7,"SI","NO"),IF(AJ21="D",IF(AM21<11,"SI","NO"),IF(AJ21="C",IF(AM21<21,"SI","NO"),IF(AJ21="A",IF(AM21<41,"SI","NO"))))) -> SI | AO21: =IF(AJ21="P",IF(AM21<4,"SI","NO"),IF(AJ21="D",IF(AM21<6,"SI","NO"),IF(AJ21="C",IF(AM21<11,"SI","NO"),IF(AJ21="A",IF(AM21<21,"SI","NO"))))) -> SI | AQ21: C | AR21: GNOUKORI | AS21: UDINESE | AT21: 1 | AU21: =IF(AQ21="P",IF(AT21<7,"SI","NO"),IF(AQ21="D",IF(AT21<11,"SI","NO"),IF(AQ21="C",IF(AT21<21,"SI","NO"),IF(AQ21="A",IF(AT21<41,"SI","NO"))))) -> SI | AV21: =IF(AQ21="P",IF(AT21<4,"SI","NO"),IF(AQ21="D",IF(AT21<6,"SI","NO"),IF(AQ21="C",IF(AT21<11,"SI","NO"),IF(AQ21="A",IF(AT21<21,"SI","NO"))))) -> SI | AX21: C | AY21: FREULER | AZ21: ATALANTA | BA21: 1 | BB21: =IF(AX21="P",IF(BA21<7,"SI","NO"),IF(AX21="D",IF(BA21<11,"SI","NO"),IF(AX21="C",IF(BA21<21,"SI","NO"),IF(AX21="A",IF(BA21<41,"SI","NO"))))) -> SI | BC21: =IF(AX21="P",IF(BA21<4,"SI","NO"),IF(AX21="D",IF(BA21<6,"SI","NO"),IF(AX21="C",IF(BA21<11,"SI","NO"),IF(AX21="A",IF(BA21<21,"SI","NO"))))) -> SI | BE21: C | BF21: BENASSI | BG21: TORINO | BH21: 4 | BI21: =IF(BE21="P",IF(BH21<7,"SI","NO"),IF(BE21="D",IF(BH21<11,"SI","NO"),IF(BE21="C",IF(BH21<21,"SI","NO"),IF(BE21="A",IF(BH21<41,"SI","NO"))))) -> SI | BJ21: =IF(BE21="P",IF(BH21<4,"SI","NO"),IF(BE21="D",IF(BH21<6,"SI","NO"),IF(BE21="C",IF(BH21<11,"SI","NO"),IF(BE21="A",IF(BH21<21,"SI","NO"))))) -> SI | BL21: C | BM21: DI GENNARO | BN21: CAGLIARI | BO21: 1 | BP21: =IF(BL21="P",IF(BO21<7,"SI","NO"),IF(BL21="D",IF(BO21<11,"SI","NO"),IF(BL21="C",IF(BO21<21,"SI","NO"),IF(BL21="A",IF(BO21<41,"SI","NO"))))) -> SI | BQ21: =IF(BL21="P",IF(BO21<4,"SI","NO"),IF(BL21="D",IF(BO21<6,"SI","NO"),IF(BL21="C",IF(BO21<11,"SI","NO"),IF(BL21="A",IF(BO21<21,"SI","NO"))))) -> SI
H22: A | I22: CAPRARI | J22: PESCARA | K22: 2 | L22: 2 | O22: A | P22: DYBALA | Q22: JUVENTUS | R22: 184 | S22: =IF(O22="P",IF(R22<7,"SI","NO"),IF(O22="D",IF(R22<11,"SI","NO"),IF(O22="C",IF(R22<21,"SI","NO"),IF(O22="A",IF(R22<41,"SI","NO"))))) -> NO | T22: =IF(O22="P",IF(R22<4,"SI","NO"),IF(O22="D",IF(R22<6,"SI","NO"),IF(O22="C",IF(R22<11,"SI","NO"),IF(O22="A",IF(R22<21,"SI","NO"))))) -> NO | V22: A | W22: BELOTTI | X22: TORINO | Y22: 120 | Z22: =IF(V22="P",IF(Y22<7,"SI","NO"),IF(V22="D",IF(Y22<11,"SI","NO"),IF(V22="C",IF(Y22<21,"SI","NO"),IF(V22="A",IF(Y22<41,"SI","NO"))))) -> NO | AA22: =IF(V22="P",IF(Y22<4,"SI","NO"),IF(V22="D",IF(Y22<6,"SI","NO"),IF(V22="C",IF(Y22<11,"SI","NO"),IF(V22="A",IF(Y22<21,"SI","NO"))))) -> NO | AJ22: A | AK22: BABACAR | AL22: FIORENTINA | AM22: 1 | AN22: =IF(AJ22="P",IF(AM22<7,"SI","NO"),IF(AJ22="D",IF(AM22<11,"SI","NO"),IF(AJ22="C",IF(AM22<21,"SI","NO"),IF(AJ22="A",IF(AM22<41,"SI","NO"))))) -> SI | AO22: =IF(AJ22="P",IF(AM22<4,"SI","NO"),IF(AJ22="D",IF(AM22<6,"SI","NO"),IF(AJ22="C",IF(AM22<11,"SI","NO"),IF(AJ22="A",IF(AM22<21,"SI","NO"))))) -> SI | BE22: A | BF22: MURIEL | BG22: SAMPDORIA | BH22: 38 | BI22: =IF(BE22="P",IF(BH22<7,"SI","NO"),IF(BE22="D",IF(BH22<11,"SI","NO"),IF(BE22="C",IF(BH22<21,"SI","NO"),IF(BE22="A",IF(BH22<41,"SI","NO"))))) -> SI | BJ22: =IF(BE22="P",IF(BH22<4,"SI","NO"),IF(BE22="D",IF(BH22<6,"SI","NO"),IF(BE22="C",IF(BH22<11,"SI","NO"),IF(BE22="A",IF(BH22<21,"SI","NO"))))) -> NO | BL22: A | BM22: BELOTTI | BN22: TORINO | BO22: 165 | BP22: =IF(BL22="P",IF(BO22<7,"SI","NO"),IF(BL22="D",IF(BO22<11,"SI","NO"),IF(BL22="C",IF(BO22<21,"SI","NO"),IF(BL22="A",IF(BO22<41,"SI","NO"))))) -> NO | BQ22: =IF(BL22="P",IF(BO22<4,"SI","NO"),IF(BL22="D",IF(BO22<6,"SI","NO"),IF(BL22="C",IF(BO22<11,"SI","NO"),IF(BL22="A",IF(BO22<21,"SI","NO"))))) -> NO
A23: A | B23: BACCA | C23: MILAN | D23: 151 | E23: =IF(A23="P",IF(D23<7,"SI","NO"),IF(A23="D",IF(D23<11,"SI","NO"),IF(A23="C",IF(D23<21,"SI","NO"),IF(A23="A",IF(D23<41,"SI","NO"))))) -> NO | F23: =IF(A23="P",IF(D23<4,"SI","NO"),IF(A23="D",IF(D23<6,"SI","NO"),IF(A23="C",IF(D23<11,"SI","NO"),IF(A23="A",IF(D23<21,"SI","NO"))))) -> NO | H23: A | I23: MILIK | J23: NAPOLI | K23: 121 | L23: =IF(H23="P",IF(K23<7,"SI","NO"),IF(H23="D",IF(K23<11,"SI","NO"),IF(H23="C",IF(K23<21,"SI","NO"),IF(H23="A",IF(K23<41,"SI","NO"))))) -> NO | M23: =IF(H23="P",IF(K23<4,"SI","NO"),IF(H23="D",IF(K23<6,"SI","NO"),IF(H23="C",IF(K23<11,"SI","NO"),IF(H23="A",IF(K23<21,"SI","NO"))))) -> NO | O23: A | P23: THEREAU | Q23: UDINESE | R23: 55 | S23: =IF(O23="P",IF(R23<7,"SI","NO"),IF(O23="D",IF(R23<11,"SI","NO"),IF(O23="C",IF(R23<21,"SI","NO"),IF(O23="A",IF(R23<41,"SI","NO"))))) -> NO | T23: =IF(O23="P",IF(R23<4,"SI","NO"),IF(O23="D",IF(R23<6,"SI","NO"),IF(O23="C",IF(R23<11,"SI","NO"),IF(O23="A",IF(R23<21,"SI","NO"))))) -> NO | V23: A | W23: CALLEJON | X23: NAPOLI | Y23: 84 | Z23: =IF(V23="P",IF(Y23<7,"SI","NO"),IF(V23="D",IF(Y23<11,"SI","NO"),IF(V23="C",IF(Y23<21,"SI","NO"),IF(V23="A",IF(Y23<41,"SI","NO"))))) -> NO | AA23: =IF(V23="P",IF(Y23<4,"SI","NO"),IF(V23="D",IF(Y23<6,"SI","NO"),IF(V23="C",IF(Y23<11,"SI","NO"),IF(V23="A",IF(Y23<21,"SI","NO"))))) -> NO | AC23: A | AD23: ICARDI | AE23: INTER | AF23: 200 | AG23: =IF(AC23="P",IF(AF23<7,"SI","NO"),IF(AC23="D",IF(AF23<11,"SI","NO"),IF(AC23="C",IF(AF23<21,"SI","NO"),IF(AC23="A",IF(AF23<41,"SI","NO"))))) -> NO | AH23: =IF(AC23="P",IF(AF23<4,"SI","NO"),IF(AC23="D",IF(AF23<6,"SI","NO"),IF(AC23="C",IF(AF23<11,"SI","NO"),IF(AC23="A",IF(AF23<21,"SI","NO"))))) -> NO | AJ23: A | AK23: PAVOLETTI | AL23: NAPOLI | AM23: 96 | AN23: =IF(AJ23="P",IF(AM23<7,"SI","NO"),IF(AJ23="D",IF(AM23<11,"SI","NO"),IF(AJ23="C",IF(AM23<21,"SI","NO"),IF(AJ23="A",IF(AM23<41,"SI","NO"))))) -> NO | AO23: =IF(AJ23="P",IF(AM23<4,"SI","NO"),IF(AJ23="D",IF(AM23<6,"SI","NO"),IF(AJ23="C",IF(AM23<11,"SI","NO"),IF(AJ23="A",IF(AM23<21,"SI","NO"))))) -> NO | AQ23: A | AR23: DZEKO | AS23: ROMA | AT23: 117 | AU23: =IF(AQ23="P",IF(AT23<7,"SI","NO"),IF(AQ23="D",IF(AT23<11,"SI","NO"),IF(AQ23="C",IF(AT23<21,"SI","NO"),IF(AQ23="A",IF(AT23<41,"SI","NO"))))) -> NO | AV23: =IF(AQ23="P",IF(AT23<4,"SI","NO"),IF(AQ23="D",IF(AT23<6,"SI","NO"),IF(AQ23="C",IF(AT23<11,"SI","NO"),IF(AQ23="A",IF(AT23<21,"SI","NO"))))) -> NO | AX23: A | AY23: IMMOBILE | AZ23: LAZIO | BA23: 102 | BB23: =IF(AX23="P",IF(BA23<7,"SI","NO"),IF(AX23="D",IF(BA23<11,"SI","NO"),IF(AX23="C",IF(BA23<21,"SI","NO"),IF(AX23="A",IF(BA23<41,"SI","NO"))))) -> NO | BC23: =IF(AX23="P",IF(BA23<4,"SI","NO"),IF(AX23="D",IF(BA23<6,"SI","NO"),IF(AX23="C",IF(BA23<11,"SI","NO"),IF(AX23="A",IF(BA23<21,"SI","NO"))))) -> NO | BE23: A | BF23: ILICIC | BG23: FIORENTINA | BH23: 28 | BI23: =IF(BE23="P",IF(BH23<7,"SI","NO"),IF(BE23="D",IF(BH23<11,"SI","NO"),IF(BE23="C",IF(BH23<21,"SI","NO"),IF(BE23="A",IF(BH23<41,"SI","NO"))))) -> SI | BJ23: =IF(BE23="P",IF(BH23<4,"SI","NO"),IF(BE23="D",IF(BH23<6,"SI","NO"),IF(BE23="C",IF(BH23<11,"SI","NO"),IF(BE23="A",IF(BH23<21,"SI","NO"))))) -> NO | BL23: A | BM23: IMMOBILE | BN23: LAZIO | BO23: 142 | BP23: =IF(BL23="P",IF(BO23<7,"SI","NO"),IF(BL23="D",IF(BO23<11,"SI","NO"),IF(BL23="C",IF(BO23<21,"SI","NO"),IF(BL23="A",IF(BO23<41,"SI","NO"))))) -> NO | BQ23: =IF(BL23="P",IF(BO23<4,"SI","NO"),IF(BL23="D",IF(BO23<6,"SI","NO"),IF(BL23="C",IF(BO23<11,"SI","NO"),IF(BL23="A",IF(BO23<21,"SI","NO"))))) -> NO
A24: A | B24: MANDZUKIC | C24: JUVENTUS | D24: 47 | E24: =IF(A24="P",IF(D24<7,"SI","NO"),IF(A24="D",IF(D24<11,"SI","NO"),IF(A24="C",IF(D24<21,"SI","NO"),IF(A24="A",IF(D24<41,"SI","NO"))))) -> NO | F24: =IF(A24="P",IF(D24<4,"SI","NO"),IF(A24="D",IF(D24<6,"SI","NO"),IF(A24="C",IF(D24<11,"SI","NO"),IF(A24="A",IF(D24<21,"SI","NO"))))) -> NO | H24: A | I24: SALAH | J24: ROMA | K24: 100 | L24: =IF(H24="P",IF(K24<7,"SI","NO"),IF(H24="D",IF(K24<11,"SI","NO"),IF(H24="C",IF(K24<21,"SI","NO"),IF(H24="A",IF(K24<41,"SI","NO"))))) -> NO | M24: =IF(H24="P",IF(K24<4,"SI","NO"),IF(H24="D",IF(K24<6,"SI","NO"),IF(H24="C",IF(K24<11,"SI","NO"),IF(H24="A",IF(K24<21,"SI","NO"))))) -> NO | O24: A | P24: TRAJKOVSKI | Q24: PALERMO | R24: 6 | S24: =IF(O24="P",IF(R24<7,"SI","NO"),IF(O24="D",IF(R24<11,"SI","NO"),IF(O24="C",IF(R24<21,"SI","NO"),IF(O24="A",IF(R24<41,"SI","NO"))))) -> SI | T24: =IF(O24="P",IF(R24<4,"SI","NO"),IF(O24="D",IF(R24<6,"SI","NO"),IF(O24="C",IF(R24<11,"SI","NO"),IF(O24="A",IF(R24<21,"SI","NO"))))) -> SI | V24: A | W24: MCHEDLIDZE | X24: EMPOLI | Y24: 54 | Z24: =IF(V24="P",IF(Y24<7,"SI","NO"),IF(V24="D",IF(Y24<11,"SI","NO"),IF(V24="C",IF(Y24<21,"SI","NO"),IF(V24="A",IF(Y24<41,"SI","NO"))))) -> NO | AA24: =IF(V24="P",IF(Y24<4,"SI","NO"),IF(V24="D",IF(Y24<6,"SI","NO"),IF(V24="C",IF(Y24<11,"SI","NO"),IF(V24="A",IF(Y24<21,"SI","NO"))))) -> NO | AC24: A | AD24: DEFREL | AE24: SASSUOLO | AF24: 40 | AG24: =IF(AC24="P",IF(AF24<7,"SI","NO"),IF(AC24="D",IF(AF24<11,"SI","NO"),IF(AC24="C",IF(AF24<21,"SI","NO"),IF(AC24="A",IF(AF24<41,"SI","NO"))))) -> SI | AH24: =IF(AC24="P",IF(AF24<4,"SI","NO"),IF(AC24="D",IF(AF24<6,"SI","NO"),IF(AC24="C",IF(AF24<11,"SI","NO"),IF(AC24="A",IF(AF24<21,"SI","NO"))))) -> NO | AJ24: A | AK24: BERARDI | AL24: SASSUOLO | AM24: 93 | AN24: =IF(AJ24="P",IF(AM24<7,"SI","NO"),IF(AJ24="D",IF(AM24<11,"SI","NO"),IF(AJ24="C",IF(AM24<21,"SI","NO"),IF(AJ24="A",IF(AM24<41,"SI","NO"))))) -> NO | AO24: =IF(AJ24="P",IF(AM24<4,"SI","NO"),IF(AJ24="D",IF(AM24<6,"SI","NO"),IF(AJ24="C",IF(AM24<11,"SI","NO"),IF(AJ24="A",IF(AM24<21,"SI","NO"))))) -> NO | AQ24: A | AR24: SIMEONE | AS24: GENOA | AT24: 100 | AU24: =IF(AQ24="P",IF(AT24<7,"SI","NO"),IF(AQ24="D",IF(AT24<11,"SI","NO"),IF(AQ24="C",IF(AT24<21,"SI","NO"),IF(AQ24="A",IF(AT24<41,"SI","NO"))))) -> NO | AV24: =IF(AQ24="P",IF(AT24<4,"SI","NO"),IF(AQ24="D",IF(AT24<6,"SI","NO"),IF(AQ24="C",IF(AT24<11,"SI","NO"),IF(AQ24="A",IF(AT24<21,"SI","NO"))))) -> NO | AX24: A | AY24: CHIESA | AZ24: FIORENTINA | BA24: 42 | BB24: =IF(AX24="P",IF(BA24<7,"SI","NO"),IF(AX24="D",IF(BA24<11,"SI","NO"),IF(AX24="C",IF(BA24<21,"SI","NO"),IF(AX24="A",IF(BA24<41,"SI","NO"))))) -> NO | BC24: =IF(AX24="P",IF(BA24<4,"SI","NO"),IF(AX24="D",IF(BA24<6,"SI","NO"),IF(AX24="C",IF(BA24<11,"SI","NO"),IF(AX24="A",IF(BA24<21,"SI","NO"))))) -> NO | BE24: A | BF24: BERARDI | BG24: SASSUOLO | BH24: 183 | BI24: =IF(BE24="P",IF(BH24<7,"SI","NO"),IF(BE24="D",IF(BH24<11,"SI","NO"),IF(BE24="C",IF(BH24<21,"SI","NO"),IF(BE24="A",IF(BH24<41,"SI","NO"))))) -> NO | BJ24: =IF(BE24="P",IF(BH24<4,"SI","NO"),IF(BE24="D",IF(BH24<6,"SI","NO"),IF(BE24="C",IF(BH24<11,"SI","NO"),IF(BE24="A",IF(BH24<21,"SI","NO"))))) -> NO | BL24: A | BM24: LAPADULA | BN24: MILAN | BO24: 11 | BP24: =IF(BL24="P",IF(BO24<7,"SI","NO"),IF(BL24="D",IF(BO24<11,"SI","NO"),IF(BL24="C",IF(BO24<21,"SI","NO"),IF(BL24="A",IF(BO24<41,"SI","NO"))))) -> SI | BQ24: =IF(BL24="P",IF(BO24<4,"SI","NO"),IF(BL24="D",IF(BO24<6,"SI","NO"),IF(BL24="C",IF(BO24<11,"SI","NO"),IF(BL24="A",IF(BO24<21,"SI","NO"))))) -> SI
A25: A | B25: GILARDINO | C25: PESCARA | D25: 12 | E25: =IF(A25="P",IF(D25<7,"SI","NO"),IF(A25="D",IF(D25<11,"SI","NO"),IF(A25="C",IF(D25<21,"SI","NO"),IF(A25="A",IF(D25<41,"SI","NO"))))) -> SI | F25: =IF(A25="P",IF(D25<4,"SI","NO"),IF(A25="D",IF(D25<6,"SI","NO"),IF(A25="C",IF(D25<11,"SI","NO"),IF(A25="A",IF(D25<21,"SI","NO"))))) -> SI | H25: A | I25: ZAPATA | J25: UDINESE | K25: 48 | L25: =IF(H25="P",IF(K25<7,"SI","NO"),IF(H25="D",IF(K25<11,"SI","NO"),IF(H25="C",IF(K25<21,"SI","NO"),IF(H25="A",IF(K25<41,"SI","NO"))))) -> NO | M25: =IF(H25="P",IF(K25<4,"SI","NO"),IF(H25="D",IF(K25<6,"SI","NO"),IF(H25="C",IF(K25<11,"SI","NO"),IF(H25="A",IF(K25<21,"SI","NO"))))) -> NO | O25: A | P25: SIMEONE | Q25: GENOA | R25: 1 | S25: =IF(O25="P",IF(R25<7,"SI","NO"),IF(O25="D",IF(R25<11,"SI","NO"),IF(O25="C",IF(R25<21,"SI","NO"),IF(O25="A",IF(R25<41,"SI","NO"))))) -> SI | T25: =IF(O25="P",IF(R25<4,"SI","NO"),IF(O25="D",IF(R25<6,"SI","NO"),IF(O25="C",IF(R25<11,"SI","NO"),IF(O25="A",IF(R25<21,"SI","NO"))))) -> SI | V25: A | W25: MACCARONE | X25: EMPOLI | Y25: 1 | Z25: =IF(V25="P",IF(Y25<7,"SI","NO"),IF(V25="D",IF(Y25<11,"SI","NO"),IF(V25="C",IF(Y25<21,"SI","NO"),IF(V25="A",IF(Y25<41,"SI","NO"))))) -> SI | AA25: =IF(V25="P",IF(Y25<4,"SI","NO"),IF(V25="D",IF(Y25<6,"SI","NO"),IF(V25="C",IF(Y25<11,"SI","NO"),IF(V25="A",IF(Y25<21,"SI","NO"))))) -> SI | AC25: A | AD25: MANDZUKIC | AE25: JUVENTUS | AF25: 80 | AG25: =IF(AC25="P",IF(AF25<7,"SI","NO"),IF(AC25="D",IF(AF25<11,"SI","NO"),IF(AC25="C",IF(AF25<21,"SI","NO"),IF(AC25="A",IF(AF25<41,"SI","NO"))))) -> NO | AH25: =IF(AC25="P",IF(AF25<4,"SI","NO"),IF(AC25="D",IF(AF25<6,"SI","NO"),IF(AC25="C",IF(AF25<11,"SI","NO"),IF(AC25="A",IF(AF25<21,"SI","NO"))))) -> NO | AJ25: A | AK25: KALINIC | AL25: FIORENTINA | AM25: 94 | AN25: =IF(AJ25="P",IF(AM25<7,"SI","NO"),IF(AJ25="D",IF(AM25<11,"SI","NO"),IF(AJ25="C",IF(AM25<21,"SI","NO"),IF(AJ25="A",IF(AM25<41,"SI","NO"))))) -> NO | AO25: =IF(AJ25="P",IF(AM25<4,"SI","NO"),IF(AJ25="D",IF(AM25<6,"SI","NO"),IF(AJ25="C",IF(AM25<11,"SI","NO"),IF(AJ25="A",IF(AM25<21,"SI","NO"))))) -> NO | AQ25: A | AR25: BAHEBECK | AS25: PESCARA | AT25: 1 | AU25: =IF(AQ25="P",IF(AT25<7,"SI","NO"),IF(AQ25="D",IF(AT25<11,"SI","NO"),IF(AQ25="C",IF(AT25<21,"SI","NO"),IF(AQ25="A",IF(AT25<41,"SI","NO"))))) -> SI | AV25: =IF(AQ25="P",IF(AT25<4,"SI","NO"),IF(AQ25="D",IF(AT25<6,"SI","NO"),IF(AQ25="C",IF(AT25<11,"SI","NO"),IF(AQ25="A",IF(AT25<21,"SI","NO"))))) -> SI | AX25: A | AY25: OCAMPOS | AZ25: MILAN | BA25: 36 | BB25: =IF(AX25="P",IF(BA25<7,"SI","NO"),IF(AX25="D",IF(BA25<11,"SI","NO"),IF(AX25="C",IF(BA25<21,"SI","NO"),IF(AX25="A",IF(BA25<41,"SI","NO"))))) -> SI | BC25: =IF(AX25="P",IF(BA25<4,"SI","NO"),IF(AX25="D",IF(BA25<6,"SI","NO"),IF(AX25="C",IF(BA25<11,"SI","NO"),IF(AX25="A",IF(BA25<21,"SI","NO"))))) -> NO | BE25: A | BF25: ZAPATA | BG25: UDINESE | BH25: 49 | BI25: =IF(BE25="P",IF(BH25<7,"SI","NO"),IF(BE25="D",IF(BH25<11,"SI","NO"),IF(BE25="C",IF(BH25<21,"SI","NO"),IF(BE25="A",IF(BH25<41,"SI","NO"))))) -> NO | BJ25: =IF(BE25="P",IF(BH25<4,"SI","NO"),IF(BE25="D",IF(BH25<6,"SI","NO"),IF(BE25="C",IF(BH25<11,"SI","NO"),IF(BE25="A",IF(BH25<21,"SI","NO"))))) -> NO | BL25: A | BM25: DJORDJEVIC | BN25: LAZIO | BO25: 1 | BP25: =IF(BL25="P",IF(BO25<7,"SI","NO"),IF(BL25="D",IF(BO25<11,"SI","NO"),IF(BL25="C",IF(BO25<21,"SI","NO"),IF(BL25="A",IF(BO25<41,"SI","NO"))))) -> SI | BQ25: =IF(BL25="P",IF(BO25<4,"SI","NO"),IF(BL25="D",IF(BO25<6,"SI","NO"),IF(BL25="C",IF(BO25<11,"SI","NO"),IF(BL25="A",IF(BO25<21,"SI","NO"))))) -> SI
A26: A | B26: ZAPATA | C26: UDINESE | D26: 35 | E26: =IF(A26="P",IF(D26<7,"SI","NO"),IF(A26="D",IF(D26<11,"SI","NO"),IF(A26="C",IF(D26<21,"SI","NO"),IF(A26="A",IF(D26<41,"SI","NO"))))) -> SI | F26: =IF(A26="P",IF(D26<4,"SI","NO"),IF(A26="D",IF(D26<6,"SI","NO"),IF(A26="C",IF(D26<11,"SI","NO"),IF(A26="A",IF(D26<21,"SI","NO"))))) -> NO | H26: A | I26: EDER | J26: INTER | K26: 36 | L26: =IF(H26="P",IF(K26<7,"SI","NO"),IF(H26="D",IF(K26<11,"SI","NO"),IF(H26="C",IF(K26<21,"SI","NO"),IF(H26="A",IF(K26<41,"SI","NO"))))) -> SI | M26: =IF(H26="P",IF(K26<4,"SI","NO"),IF(H26="D",IF(K26<6,"SI","NO"),IF(H26="C",IF(K26<11,"SI","NO"),IF(H26="A",IF(K26<21,"SI","NO"))))) -> NO | O26: A | P26: PINILLA | Q26: GENOA | R26: 2 | S26: =IF(O26="P",IF(R26<7,"SI","NO"),IF(O26="D",IF(R26<11,"SI","NO"),IF(O26="C",IF(R26<21,"SI","NO"),IF(O26="A",IF(R26<41,"SI","NO"))))) -> SI | T26: =IF(O26="P",IF(R26<4,"SI","NO"),IF(O26="D",IF(R26<6,"SI","NO"),IF(O26="C",IF(R26<11,"SI","NO"),IF(O26="A",IF(R26<21,"SI","NO"))))) -> SI | V26: A | W26: MEGGIORINI | X26: CHIEVO | Y26: 12 | Z26: =IF(V26="P",IF(Y26<7,"SI","NO"),IF(V26="D",IF(Y26<11,"SI","NO"),IF(V26="C",IF(Y26<21,"SI","NO"),IF(V26="A",IF(Y26<41,"SI","NO"))))) -> SI | AA26: =IF(V26="P",IF(Y26<4,"SI","NO"),IF(V26="D",IF(Y26<6,"SI","NO"),IF(V26="C",IF(Y26<11,"SI","NO"),IF(V26="A",IF(Y26<21,"SI","NO"))))) -> SI | AC26: A | AD26: EL SHAARAWY | AE26: ROMA | AF26: 25 | AG26: 25 | AJ26: A | AK26: ITURBE | AL26: TORINO | AM26: 25 | AN26: =IF(AJ26="P",IF(AM26<7,"SI","NO"),IF(AJ26="D",IF(AM26<11,"SI","NO"),IF(AJ26="C",IF(AM26<21,"SI","NO"),IF(AJ26="A",IF(AM26<41,"SI","NO"))))) -> SI | AO26: =IF(AJ26="P",IF(AM26<4,"SI","NO"),IF(AJ26="D",IF(AM26<6,"SI","NO"),IF(AJ26="C",IF(AM26<11,"SI","NO"),IF(AJ26="A",IF(AM26<21,"SI","NO"))))) -> NO | AX26: A | AY26: LAPADULA | AZ26: MILAN | BA26: 3 | BB26: 3 | BE26: A | BF26: TOTTI | BG26: ROMA | BH26: 1 | BI26: =IF(BE26="P",IF(BH26<7,"SI","NO"),IF(BE26="D",IF(BH26<11,"SI","NO"),IF(BE26="C",IF(BH26<21,"SI","NO"),IF(BE26="A",IF(BH26<41,"SI","NO"))))) -> SI | BJ26: =IF(BE26="P",IF(BH26<4,"SI","NO"),IF(BE26="D",IF(BH26<6,"SI","NO"),IF(BE26="C",IF(BH26<11,"SI","NO"),IF(BE26="A",IF(BH26<21,"SI","NO"))))) -> SI | BL26: A | BM26: NESTOROVSKI | BN26: PALERMO | BO26: 2 | BP26: =IF(BL26="P",IF(BO26<7,"SI","NO"),IF(BL26="D",IF(BO26<11,"SI","NO"),IF(BL26="C",IF(BO26<21,"SI","NO"),IF(BL26="A",IF(BO26<41,"SI","NO"))))) -> SI | BQ26: =IF(BL26="P",IF(BO26<4,"SI","NO"),IF(BL26="D",IF(BO26<6,"SI","NO"),IF(BL26="C",IF(BO26<11,"SI","NO"),IF(BL26="A",IF(BO26<21,"SI","NO"))))) -> SI
A27: A | B27: SAU | C27: CAGLIARI | D27: 32 | E27: =IF(A27="P",IF(D27<7,"SI","NO"),IF(A27="D",IF(D27<11,"SI","NO"),IF(A27="C",IF(D27<21,"SI","NO"),IF(A27="A",IF(D27<41,"SI","NO"))))) -> SI | F27: =IF(A27="P",IF(D27<4,"SI","NO"),IF(A27="D",IF(D27<6,"SI","NO"),IF(A27="C",IF(D27<11,"SI","NO"),IF(A27="A",IF(D27<21,"SI","NO"))))) -> NO | H27: A | I27: GILARDINO | J27: PESCARA | K27: 10 | L27: =IF(H27="P",IF(K27<7,"SI","NO"),IF(H27="D",IF(K27<11,"SI","NO"),IF(H27="C",IF(K27<21,"SI","NO"),IF(H27="A",IF(K27<41,"SI","NO"))))) -> SI | M27: =IF(H27="P",IF(K27<4,"SI","NO"),IF(H27="D",IF(K27<6,"SI","NO"),IF(H27="C",IF(K27<11,"SI","NO"),IF(H27="A",IF(K27<21,"SI","NO"))))) -> SI | O27: A | P27: SILVA | Q27: PALERMO | R27: 1 | S27: =IF(O27="P",IF(R27<7,"SI","NO"),IF(O27="D",IF(R27<11,"SI","NO"),IF(O27="C",IF(R27<21,"SI","NO"),IF(O27="A",IF(R27<41,"SI","NO"))))) -> SI | T27: =IF(O27="P",IF(R27<4,"SI","NO"),IF(O27="D",IF(R27<6,"SI","NO"),IF(O27="C",IF(R27<11,"SI","NO"),IF(O27="A",IF(R27<21,"SI","NO"))))) -> SI | V27: A | W27: GABIGOL | X27: INTER | Y27: 7 | Z27: =IF(V27="P",IF(Y27<7,"SI","NO"),IF(V27="D",IF(Y27<11,"SI","NO"),IF(V27="C",IF(Y27<21,"SI","NO"),IF(V27="A",IF(Y27<41,"SI","NO"))))) -> SI | AA27: =IF(V27="P",IF(Y27<4,"SI","NO"),IF(V27="D",IF(Y27<6,"SI","NO"),IF(V27="C",IF(Y27<11,"SI","NO"),IF(V27="A",IF(Y27<21,"SI","NO"))))) -> SI | AC27: A | AD27: RAGUSA | AE27: SASSUOLO | AF27: 18 | AG27: =IF(AC27="P",IF(AF27<7,"SI","NO"),IF(AC27="D",IF(AF27<11,"SI","NO"),IF(AC27="C",IF(AF27<21,"SI","NO"),IF(AC27="A",IF(AF27<41,"SI","NO"))))) -> SI | AH27: =IF(AC27="P",IF(AF27<4,"SI","NO"),IF(AC27="D",IF(AF27<6,"SI","NO"),IF(AC27="C",IF(AF27<11,"SI","NO"),IF(AC27="A",IF(AF27<21,"SI","NO"))))) -> SI | AJ27: A | AK27: TROTTA | AL27: CROTONE | AM27: 1 | AN27: =IF(AJ27="P",IF(AM27<7,"SI","NO"),IF(AJ27="D",IF(AM27<11,"SI","NO"),IF(AJ27="C",IF(AM27<21,"SI","NO"),IF(AJ27="A",IF(AM27<41,"SI","NO"))))) -> SI | AO27: =IF(AJ27="P",IF(AM27<4,"SI","NO"),IF(AJ27="D",IF(AM27<6,"SI","NO"),IF(AJ27="C",IF(AM27<11,"SI","NO"),IF(AJ27="A",IF(AM27<21,"SI","NO"))))) -> SI | AQ27: A | AR27: MEGGIORINI | AS27: CHIEVO | AT27: 9 | AU27: =IF(AQ27="P",IF(AT27<7,"SI","NO"),IF(AQ27="D",IF(AT27<11,"SI","NO"),IF(AQ27="C",IF(AT27<21,"SI","NO"),IF(AQ27="A",IF(AT27<41,"SI","NO"))))) -> SI | AV27: =IF(AQ27="P",IF(AT27<4,"SI","NO"),IF(AQ27="D",IF(AT27<6,"SI","NO"),IF(AQ27="C",IF(AT27<11,"SI","NO"),IF(AQ27="A",IF(AT27<21,"SI","NO"))))) -> SI | AX27: A | AY27: DEOLOUFEU | AZ27: MILAN | BA27: 55 | BB27: =IF(AX27="P",IF(BA27<7,"SI","NO"),IF(AX27="D",IF(BA27<11,"SI","NO"),IF(AX27="C",IF(BA27<21,"SI","NO"),IF(AX27="A",IF(BA27<41,"SI","NO"))))) -> NO | BC27: =IF(AX27="P",IF(BA27<4,"SI","NO"),IF(AX27="D",IF(BA27<6,"SI","NO"),IF(AX27="C",IF(BA27<11,"SI","NO"),IF(AX27="A",IF(BA27<21,"SI","NO"))))) -> NO | BE27: A | BF27: KEITA | BG27: LAZIO | BH27: 1 | BI27: =IF(BE27="P",IF(BH27<7,"SI","NO"),IF(BE27="D",IF(BH27<11,"SI","NO"),IF(BE27="C",IF(BH27<21,"SI","NO"),IF(BE27="A",IF(BH27<41,"SI","NO"))))) -> SI | BJ27: =IF(BE27="P",IF(BH27<4,"SI","NO"),IF(BE27="D",IF(BH27<6,"SI","NO"),IF(BE27="C",IF(BH27<11,"SI","NO"),IF(BE27="A",IF(BH27<21,"SI","NO"))))) -> SI | BL27: A | BM27: BOYE | BN27: TORINO | BO27: 1 | BP27: =IF(BL27="P",IF(BO27<7,"SI","NO"),IF(BL27="D",IF(BO27<11,"SI","NO"),IF(BL27="C",IF(BO27<21,"SI","NO"),IF(BL27="A",IF(BO27<41,"SI","NO"))))) -> SI | BQ27: =IF(BL27="P",IF(BO27<4,"SI","NO"),IF(BL27="D",IF(BO27<6,"SI","NO"),IF(BL27="C",IF(BO27<11,"SI","NO"),IF(BL27="A",IF(BO27<21,"SI","NO"))))) -> SI
A28: Crediti Residui | B28: 0 | C28: Rimanente | E28: =FLOOR(B28/3,1) -> 0 | H28: Crediti Residui | I28: 0 | J28: Rimanente | L28: =FLOOR(I28/3,1) -> 0 | O28: Crediti Residui | P28: 11 | Q28: Rimanente | S28: =FLOOR(P28/3,1) -> 3 | V28: Crediti Residui | W28: 5 | X28: Rimanente | Z28: =FLOOR(W28/3,1) -> 1 | AC28: Crediti Residui | AD28: 0 | AE28: Rimanente | AG28: =FLOOR(AD28/3,1) -> 0 | AJ28: Crediti Residui | AK28: 28 | AL28: Rimanente | AN28: =FLOOR(AK28/3,1) -> 9 | AQ28: Crediti Residui | AR28: 26 | AS28: Rimanente | AU28: =FLOOR(AR28/3,1) -> 8 | AX28: Crediti Residui | AY28: 2 | AZ28: Rimanente | BB28: =FLOOR(AY28/3,1) -> 0 | BE28: Crediti Residui | BF28: 49 | BG28: Rimanente | BI28: =FLOOR(BF28/3,1) -> 16 | BL28: Crediti Residui | BM28: 43 | BN28: Rimanente | BP28: =FLOOR(BM28/3,1) -> 14
C29: Nuovi | E29: 500 | J29: Nuovi | L29: 500 | Q29: Nuovi | S29: 500 | X29: Nuovi | Z29: 500 | AE29: Nuovi | AG29: 500 | AL29: Nuovi | AN29: 500 | AS29: Nuovi | AU29: 500 | AZ29: Nuovi | BB29: 500 | BG29: Nuovi | BI29: 500 | BN29: Nuovi | BP29: 500
C30: Conferme | E30: =SUM(E3:E27) -> 10 | F30: =SUM(F3:F27) -> 0 | J30: Conferme | L30: =SUM(L3:L27) -> 3 | M30: =SUM(M3:M27) -> 0 | Q30: Conferme | S30: =SUM(S3:S27) -> 2 | T30: =SUM(T3:T27) -> 0 | X30: Conferme | Z30: =SUM(Z3:Z27) -> 10 | AA30: =SUM(AA3:AA27) -> 0 | AE30: Conferme | AG30: =SUM(AG3:AG27) -> 25 | AH30: =SUM(AH3:AH27) -> 0 | AL30: Conferme | AN30: =SUM(AN3:AN27) -> 0 | AO30: =SUM(AO3:AO27) -> 0 | AS30: Conferme | AU30: =SUM(AU3:AU27) -> 10 | AV30: =SUM(AV3:AV27) -> 0 | AZ30: Conferme | BB30: =SUM(BB3:BB27) -> 3 | BC30: =SUM(BC3:BC27) -> 0 | BG30: Conferme | BI30: =SUM(BI3:BI27) -> 7 | BJ30: =SUM(BJ3:BJ27) -> 0 | BN30: Conferme | BP30: =SUM(BP3:BP27) -> 4 | BQ30: =SUM(BQ3:BQ27) -> 0
C31: Totali | E31: =SUM(E28:E29)-SUM(E30:F30) -> 490 | J31: Totali | L31: =SUM(L28:L29)-SUM(L30:M30) -> 497 | Q31: Totali | S31: =SUM(S28:S29)-SUM(S30:T30) -> 501 | X31: Totali | Z31: =SUM(Z28:Z29)-SUM(Z30:AA30) -> 491 | AE31: Totali | AG31: =SUM(AG28:AG29)-SUM(AG30:AH30) -> 475 | AL31: Totali | AN31: =SUM(AN28:AN29)-SUM(AN30:AO30) -> 509 | AS31: Totali | AU31: =SUM(AU28:AU29)-SUM(AU30:AV30) -> 498 | AZ31: Totali | BB31: =SUM(BB28:BB29)-SUM(BB30:BC30) -> 497 | BG31: Totali | BI31: =SUM(BI28:BI29)-SUM(BI30:BJ30) -> 509 | BN31: Totali | BP31: =SUM(BP28:BP29)-SUM(BP30:BQ30) -> 510

Sheet Lega Pro
A1: C.S. Riposa | B1: C.S. Riposa | C1: C.S. Riposa | D1: C.S. Riposa | E1: Giugno | F1: Settembre | H1: AC Numb3rs | I1: AC Numb3rs | J1: AC Numb3rs | K1: AC Numb3rs | L1: Giugno | M1: Settembre | O1: Bayern Bikers | P1: Bayern Bikers | Q1: Bayern Bikers | R1: Bayern Bikers | S1: Giugno | T1: Settembre | V1: TEAM AS TURBO | W1: TEAM AS TURBO | X1: TEAM AS TURBO | Y1: TEAM AS TURBO | Z1: Giugno | AA1: Settembre | AC1: SS LONGOBARDA | AD1: SS LONGOBARDA | AE1: SS LONGOBARDA | AF1: SS LONGOBARDA | AG1: Giugno | AH1: Settembre | AJ1: UNAJUNGLACAZO fc | AN1: Giugno | AO1: Settembre | AQ1: Brigata Gurren | AU1: Giugno | AV1: Settembre | AX1: Ibradiposi | BB1: Giugno | BC1: Settembre | BE1: Drakeset | BI1: Giugno | BJ1: Settembre | BL1: Lucense Football Club | BP1: Giugno | BQ1: Settembre
A2: Ruolo | B2: Calciatore | C2: Squadra | D2: Costo | H2: Ruolo | I2: Calciatore | J2: Squadra | K2: Costo | O2: Ruolo | P2: Calciatore | Q2: Squadra | R2: Costo | V2: Ruolo | W2: Calciatore | X2: Squadra | Y2: Costo | AC2: Ruolo | AD2: Calciatore | AE2: Squadra | AF2: Costo | AJ2: Ruolo | AK2: Calciatore | AL2: Squadra | AM2: Costo | AQ2: Ruolo | AR2: Calciatore | AS2: Squadra | AT2: Costo | AX2: Ruolo | AY2: Calciatore | AZ2: Squadra | BA2: Costo | BE2: Ruolo | BF2: Calciatore | BG2: Squadra | BH2: Costo | BL2: Ruolo | BM2: Calciatore | BN2: Squadra | BO2: Costo
A3: P | B3: HANDANOVIC | C3: INTER | D3: 57 | E3: =IF(A3="P",IF(D3<7,"SI","NO"),IF(A3="D",IF(D3<11,"SI","NO"),IF(A3="C",IF(D3<21,"SI","NO"),IF(A3="A",IF(D3<41,"SI","NO"))))) -> NO | F3: =IF(A3="P",IF(D3<4,"SI","NO"),IF(A3="D",IF(D3<6,"SI","NO"),IF(A3="C",IF(D3<11,"SI","NO"),IF(A3="A",IF(D3<21,"SI","NO"))))) -> NO | H3: P | I3: TATARUSANU | J3: FIORENTINA | K3: 20 | L3: =IF(H3="P",IF(K3<7,"SI","NO"),IF(H3="D",IF(K3<11,"SI","NO"),IF(H3="C",IF(K3<21,"SI","NO"),IF(H3="A",IF(K3<41,"SI","NO"))))) -> NO | M3: =IF(H3="P",IF(K3<4,"SI","NO"),IF(H3="D",IF(K3<6,"SI","NO"),IF(H3="C",IF(K3<11,"SI","NO"),IF(H3="A",IF(K3<21,"SI","NO"))))) -> NO | O3: P | P3: SZCZESNY | Q3: ROMA | R3: 35 | S3: =IF(O3="P",IF(R3<7,"SI","NO"),IF(O3="D",IF(R3<11,"SI","NO"),IF(O3="C",IF(R3<21,"SI","NO"),IF(O3="A",IF(R3<41,"SI","NO"))))) -> NO | T3: =IF(O3="P",IF(R3<4,"SI","NO"),IF(O3="D",IF(R3<6,"SI","NO"),IF(O3="C",IF(R3<11,"SI","NO"),IF(O3="A",IF(R3<21,"SI","NO"))))) -> NO | V3: P | W3: VIVIANO | X3: SAMPDORIA | Y3: 20 | Z3: =IF(V3="P",IF(Y3<7,"SI","NO"),IF(V3="D",IF(Y3<11,"SI","NO"),IF(V3="C",IF(Y3<21,"SI","NO"),IF(V3="A",IF(Y3<41,"SI","NO"))))) -> NO | AA3: =IF(V3="P",IF(Y3<4,"SI","NO"),IF(V3="D",IF(Y3<6,"SI","NO"),IF(V3="C",IF(Y3<11,"SI","NO"),IF(V3="A",IF(Y3<21,"SI","NO"))))) -> NO | AC3: P | AD3: BUFFON | AE3: JUVENTUS | AF3: 65 | AG3: =IF(AC3="P",IF(AF3<7,"SI","NO"),IF(AC3="D",IF(AF3<11,"SI","NO"),IF(AC3="C",IF(AF3<21,"SI","NO"),IF(AC3="A",IF(AF3<41,"SI","NO"))))) -> NO | AH3: =IF(AC3="P",IF(AF3<4,"SI","NO"),IF(AC3="D",IF(AF3<6,"SI","NO"),IF(AC3="C",IF(AF3<11,"SI","NO"),IF(AC3="A",IF(AF3<21,"SI","NO"))))) -> NO | AJ3: P | AK3: MIRANTE | AL3: BOLOGNA | AM3: 1 | AN3: =IF(AJ3="P",IF(AM3<7,"SI","NO"),IF(AJ3="D",IF(AM3<11,"SI","NO"),IF(AJ3="C",IF(AM3<21,"SI","NO"),IF(AJ3="A",IF(AM3<41,"SI","NO"))))) -> SI | AO3: =IF(AJ3="P",IF(AM3<4,"SI","NO"),IF(AJ3="D",IF(AM3<6,"SI","NO"),IF(AJ3="C",IF(AM3<11,"SI","NO"),IF(AJ3="A",IF(AM3<21,"SI","NO"))))) -> SI | AQ3: P | AR3: SORRENTINO | AS3: CHIEVO | AT3: 16 | AU3: =IF(AQ3="P",IF(AT3<7,"SI","NO"),IF(AQ3="D",IF(AT3<11,"SI","NO"),IF(AQ3="C",IF(AT3<21,"SI","NO"),IF(AQ3="A",IF(AT3<41,"SI","NO"))))) -> NO | AV3: =IF(AQ3="P",IF(AT3<4,"SI","NO"),IF(AQ3="D",IF(AT3<6,"SI","NO"),IF(AQ3="C",IF(AT3<11,"SI","NO"),IF(AQ3="A",IF(AT3<21,"SI","NO"))))) -> NO | BE3: P | BF3: SPORTIELLO | BG3: FIORENTINA | BH3: 20 | BI3: =IF(BE3="P",IF(BH3<7,"SI","NO"),IF(BE3="D",IF(BH3<11,"SI","NO"),IF(BE3="C",IF(BH3<21,"SI","NO"),IF(BE3="A",IF(BH3<41,"SI","NO"))))) -> NO | BJ3: =IF(BE3="P",IF(BH3<4,"SI","NO"),IF(BE3="D",IF(BH3<6,"SI","NO"),IF(BE3="C",IF(BH3<11,"SI","NO"),IF(BE3="A",IF(BH3<21,"SI","NO"))))) -> NO | BL3: P | BM3: BUFFON | BN3: JUVENTUS | BO3: 50 | BP3: =IF(BL3="P",IF(BO3<7,"SI","NO"),IF(BL3="D",IF(BO3<11,"SI","NO"),IF(BL3="C",IF(BO3<21,"SI","NO"),IF(BL3="A",IF(BO3<41,"SI","NO"))))) -> NO | BQ3: =IF(BL3="P",IF(BO3<4,"SI","NO"),IF(BL3="D",IF(BO3<6,"SI","NO"),IF(BL3="C",IF(BO3<11,"SI","NO"),IF(BL3="A",IF(BO3<21,"SI","NO"))))) -> NO
A4: P | B4: CARRIZO | C4: INTER | D4: 1 | E4: =IF(A4="P",IF(D4<7,"SI","NO"),IF(A4="D",IF(D4<11,"SI","NO"),IF(A4="C",IF(D4<21,"SI","NO"),IF(A4="A",IF(D4<41,"SI","NO"))))) -> SI | F4: =IF(A4="P",IF(D4<4,"SI","NO"),IF(A4="D",IF(D4<6,"SI","NO"),IF(A4="C",IF(D4<11,"SI","NO"),IF(A4="A",IF(D4<21,"SI","NO"))))) -> SI | H4: P | I4: SPORTIELLO | J4: FIORENTINA | K4: 6 | L4: =IF(H4="P",IF(K4<7,"SI","NO"),IF(H4="D",IF(K4<11,"SI","NO"),IF(H4="C",IF(K4<21,"SI","NO"),IF(H4="A",IF(K4<41,"SI","NO"))))) -> SI | M4: =IF(H4="P",IF(K4<4,"SI","NO"),IF(H4="D",IF(K4<6,"SI","NO"),IF(H4="C",IF(K4<11,"SI","NO"),IF(H4="A",IF(K4<21,"SI","NO"))))) -> NO | O4: P | P4: ALLISON | Q4: ROMA | R4: 1 | S4: =IF(O4="P",IF(R4<7,"SI","NO"),IF(O4="D",IF(R4<11,"SI","NO"),IF(O4="C",IF(R4<21,"SI","NO"),IF(O4="A",IF(R4<41,"SI","NO"))))) -> SI | T4: =IF(O4="P",IF(R4<4,"SI","NO"),IF(O4="D",IF(R4<6,"SI","NO"),IF(O4="C",IF(R4<11,"SI","NO"),IF(O4="A",IF(R4<21,"SI","NO"))))) -> SI | V4: P | W4: PUGGIONI | X4: SAMPDORIA | Y4: 5 | Z4: =IF(V4="P",IF(Y4<7,"SI","NO"),IF(V4="D",IF(Y4<11,"SI","NO"),IF(V4="C",IF(Y4<21,"SI","NO"),IF(V4="A",IF(Y4<41,"SI","NO"))))) -> SI | AA4: =IF(V4="P",IF(Y4<4,"SI","NO"),IF(V4="D",IF(Y4<6,"SI","NO"),IF(V4="C",IF(Y4<11,"SI","NO"),IF(V4="A",IF(Y4<21,"SI","NO"))))) -> NO | AC4: P | AD4: NETO | AE4: JUVENTUS | AF4: 1 | AG4: =IF(AC4="P",IF(AF4<7,"SI","NO"),IF(AC4="D",IF(AF4<11,"SI","NO"),IF(AC4="C",IF(AF4<21,"SI","NO"),IF(AC4="A",IF(AF4<41,"SI","NO"))))) -> SI | AH4: =IF(AC4="P",IF(AF4<4,"SI","NO"),IF(AC4="D",IF(AF4<6,"SI","NO"),IF(AC4="C",IF(AF4<11,"SI","NO"),IF(AC4="A",IF(AF4<21,"SI","NO"))))) -> SI | AJ4: P | AK4: CONSIGLI | AL4: SASSUOLO | AM4: 15 | AN4: =IF(AJ4="P",IF(AM4<7,"SI","NO"),IF(AJ4="D",IF(AM4<11,"SI","NO"),IF(AJ4="C",IF(AM4<21,"SI","NO"),IF(AJ4="A",IF(AM4<41,"SI","NO"))))) -> NO | AO4: =IF(AJ4="P",IF(AM4<4,"SI","NO"),IF(AJ4="D",IF(AM4<6,"SI","NO"),IF(AJ4="C",IF(AM4<11,"SI","NO"),IF(AJ4="A",IF(AM4<21,"SI","NO"))))) -> NO | AQ4: P | AR4: ALLISON | AS4: ROMA | AT4: 1 | AU4: =IF(AQ4="P",IF(AT4<7,"SI","NO"),IF(AQ4="D",IF(AT4<11,"SI","NO"),IF(AQ4="C",IF(AT4<21,"SI","NO"),IF(AQ4="A",IF(AT4<41,"SI","NO"))))) -> SI | AV4: =IF(AQ4="P",IF(AT4<4,"SI","NO"),IF(AQ4="D",IF(AT4<6,"SI","NO"),IF(AQ4="C",IF(AT4<11,"SI","NO"),IF(AQ4="A",IF(AT4<21,"SI","NO"))))) -> SI | AX4: P | AY4: KARNEZIS | AZ4: UDINESE | BA4: 9 | BB4: =IF(AX4="P",IF(BA4<7,"SI","NO"),IF(AX4="D",IF(BA4<11,"SI","NO"),IF(AX4="C",IF(BA4<21,"SI","NO"),IF(AX4="A",IF(BA4<41,"SI","NO"))))) -> NO | BC4: =IF(AX4="P",IF(BA4<4,"SI","NO"),IF(AX4="D",IF(BA4<6,"SI","NO"),IF(AX4="C",IF(BA4<11,"SI","NO"),IF(AX4="A",IF(BA4<21,"SI","NO"))))) -> NO | BE4: P | BF4: TATARUSANU | BG4: FIORENTINA | BH4: 19 | BI4: =IF(BE4="P",IF(BH4<7,"SI","NO"),IF(BE4="D",IF(BH4<11,"SI","NO"),IF(BE4="C",IF(BH4<21,"SI","NO"),IF(BE4="A",IF(BH4<41,"SI","NO"))))) -> NO | BJ4: =IF(BE4="P",IF(BH4<4,"SI","NO"),IF(BE4="D",IF(BH4<6,"SI","NO"),IF(BE4="C",IF(BH4<11,"SI","NO"),IF(BE4="A",IF(BH4<21,"SI","NO"))))) -> NO | BL4: P | BM4: NETO | BN4: JUVENTUS | BO4: 1 | BP4: 1
A5: P | B5: BERNI | C5: INTER | D5: 1 | E5: =IF(A5="P",IF(D5<7,"SI","NO"),IF(A5="D",IF(D5<11,"SI","NO"),IF(A5="C",IF(D5<21,"SI","NO"),IF(A5="A",IF(D5<41,"SI","NO"))))) -> SI | F5: =IF(A5="P",IF(D5<4,"SI","NO"),IF(A5="D",IF(D5<6,"SI","NO"),IF(A5="C",IF(D5<11,"SI","NO"),IF(A5="A",IF(D5<21,"SI","NO"))))) -> SI | H5: P | I5: DROGOWSKI | J5: FIORENTINA | K5: 1 | L5: =IF(H5="P",IF(K5<7,"SI","NO"),IF(H5="D",IF(K5<11,"SI","NO"),IF(H5="C",IF(K5<21,"SI","NO"),IF(H5="A",IF(K5<41,"SI","NO"))))) -> SI | M5: =IF(H5="P",IF(K5<4,"SI","NO"),IF(H5="D",IF(K5<6,"SI","NO"),IF(H5="C",IF(K5<11,"SI","NO"),IF(H5="A",IF(K5<21,"SI","NO"))))) -> SI | O5: P | P5: LOBONT | Q5: ROMA | R5: 1 | S5: =IF(O5="P",IF(R5<7,"SI","NO"),IF(O5="D",IF(R5<11,"SI","NO"),IF(O5="C",IF(R5<21,"SI","NO"),IF(O5="A",IF(R5<41,"SI","NO"))))) -> SI | T5: =IF(O5="P",IF(R5<4,"SI","NO"),IF(O5="D",IF(R5<6,"SI","NO"),IF(O5="C",IF(R5<11,"SI","NO"),IF(O5="A",IF(R5<21,"SI","NO"))))) -> SI | V5: P | W5: LAMANNA | X5: GENOA | Y5: 1 | Z5: =IF(V5="P",IF(Y5<7,"SI","NO"),IF(V5="D",IF(Y5<11,"SI","NO"),IF(V5="C",IF(Y5<21,"SI","NO"),IF(V5="A",IF(Y5<41,"SI","NO"))))) -> SI | AA5: =IF(V5="P",IF(Y5<4,"SI","NO"),IF(V5="D",IF(Y5<6,"SI","NO"),IF(V5="C",IF(Y5<11,"SI","NO"),IF(V5="A",IF(Y5<21,"SI","NO"))))) -> SI | AC5: P | AD5: PERIN | AE5: GENOA | AF5: 1 | AG5: =IF(AC5="P",IF(AF5<7,"SI","NO"),IF(AC5="D",IF(AF5<11,"SI","NO"),IF(AC5="C",IF(AF5<21,"SI","NO"),IF(AC5="A",IF(AF5<41,"SI","NO"))))) -> SI | AH5: =IF(AC5="P",IF(AF5<4,"SI","NO"),IF(AC5="D",IF(AF5<6,"SI","NO"),IF(AC5="C",IF(AF5<11,"SI","NO"),IF(AC5="A",IF(AF5<21,"SI","NO"))))) -> SI | AJ5: P | AK5: PEGOLO | AL5: SASSUOLO | AM5: 1 | AN5: =IF(AJ5="P",IF(AM5<7,"SI","NO"),IF(AJ5="D",IF(AM5<11,"SI","NO"),IF(AJ5="C",IF(AM5<21,"SI","NO"),IF(AJ5="A",IF(AM5<41,"SI","NO"))))) -> SI | AO5: =IF(AJ5="P",IF(AM5<4,"SI","NO"),IF(AJ5="D",IF(AM5<6,"SI","NO"),IF(AJ5="C",IF(AM5<11,"SI","NO"),IF(AJ5="A",IF(AM5<21,"SI","NO"))))) -> SI | AQ5: P | AR5: SZCZESNY | AS5: ROMA | AT5: 17 | AU5: =IF(AQ5="P",IF(AT5<7,"SI","NO"),IF(AQ5="D",IF(AT5<11,"SI","NO"),IF(AQ5="C",IF(AT5<21,"SI","NO"),IF(AQ5="A",IF(AT5<41,"SI","NO"))))) -> NO | AV5: =IF(AQ5="P",IF(AT5<4,"SI","NO"),IF(AQ5="D",IF(AT5<6,"SI","NO"),IF(AQ5="C",IF(AT5<11,"SI","NO"),IF(AQ5="A",IF(AT5<21,"SI","NO"))))) -> NO | AX5: P | AY5: PUGGIONI | AZ5: SAMPDORIA | BA5: 1 | BB5: =IF(AX5="P",IF(BA5<7,"SI","NO"),IF(AX5="D",IF(BA5<11,"SI","NO"),IF(AX5="C",IF(BA5<21,"SI","NO"),IF(AX5="A",IF(BA5<41,"SI","NO"))))) -> SI | BC5: =IF(AX5="P",IF(BA5<4,"SI","NO"),IF(AX5="D",IF(BA5<6,"SI","NO"),IF(AX5="C",IF(BA5<11,"SI","NO"),IF(AX5="A",IF(BA5<21,"SI","NO"))))) -> SI | BE5: P | BF5: DRAGOWSKI | BG5: FIORENTINA | BH5: 1 | BI5: =IF(BE5="P",IF(BH5<7,"SI","NO"),IF(BE5="D",IF(BH5<11,"SI","NO"),IF(BE5="C",IF(BH5<21,"SI","NO"),IF(BE5="A",IF(BH5<41,"SI","NO"))))) -> SI | BJ5: =IF(BE5="P",IF(BH5<4,"SI","NO"),IF(BE5="D",IF(BH5<6,"SI","NO"),IF(BE5="C",IF(BH5<11,"SI","NO"),IF(BE5="A",IF(BH5<21,"SI","NO"))))) -> SI | BL5: P | BM5: AUDERO | BN5: JUVENTUS | BO5: 1 | BP5: =IF(BL5="P",IF(BO5<7,"SI","NO"),IF(BL5="D",IF(BO5<11,"SI","NO"),IF(BL5="C",IF(BO5<21,"SI","NO"),IF(BL5="A",IF(BO5<41,"SI","NO"))))) -> SI | BQ5: =IF(BL5="P",IF(BO5<4,"SI","NO"),IF(BL5="D",IF(BO5<6,"SI","NO"),IF(BL5="C",IF(BO5<11,"SI","NO"),IF(BL5="A",IF(BO5<21,"SI","NO"))))) -> SI
A6: D | B6: MIRANDA | C6: INTER | D6: 22 | E6: =IF(A6="P",IF(D6<7,"SI","NO"),IF(A6="D",IF(D6<11,"SI","NO"),IF(A6="C",IF(D6<21,"SI","NO"),IF(A6="A",IF(D6<41,"SI","NO"))))) -> NO | F6: =IF(A6="P",IF(D6<4,"SI","NO"),IF(A6="D",IF(D6<6,"SI","NO"),IF(A6="C",IF(D6<11,"SI","NO"),IF(A6="A",IF(D6<21,"SI","NO"))))) -> NO | AQ6: D | AR6: CECCHERINI | AS6: CROTONE | AT6: 1 | AU6: =IF(AQ6="P",IF(AT6<7,"SI","NO"),IF(AQ6="D",IF(AT6<11,"SI","NO"),IF(AQ6="C",IF(AT6<21,"SI","NO"),IF(AQ6="A",IF(AT6<41,"SI","NO"))))) -> SI | AV6: =IF(AQ6="P",IF(AT6<4,"SI","NO"),IF(AQ6="D",IF(AT6<6,"SI","NO"),IF(AQ6="C",IF(AT6<11,"SI","NO"),IF(AQ6="A",IF(AT6<21,"SI","NO"))))) -> SI | AX6: D | AY6: GOLDANIGA | AZ6: PALERMO | BA6: 3 | BB6: =IF(AX6="P",IF(BA6<7,"SI","NO"),IF(AX6="D",IF(BA6<11,"SI","NO"),IF(AX6="C",IF(BA6<21,"SI","NO"),IF(AX6="A",IF(BA6<41,"SI","NO"))))) -> SI | BC6: =IF(AX6="P",IF(BA6<4,"SI","NO"),IF(AX6="D",IF(BA6<6,"SI","NO"),IF(AX6="C",IF(BA6<11,"SI","NO"),IF(AX6="A",IF(BA6<21,"SI","NO"))))) -> SI | BL6: D | BM6: DE VRIJ | BN6: LAZIO | BO6: 13 | BP6: =IF(BL6="P",IF(BO6<7,"SI","NO"),IF(BL6="D",IF(BO6<11,"SI","NO"),IF(BL6="C",IF(BO6<21,"SI","NO"),IF(BL6="A",IF(BO6<41,"SI","NO"))))) -> NO | BQ6: =IF(BL6="P",IF(BO6<4,"SI","NO"),IF(BL6="D",IF(BO6<6,"SI","NO"),IF(BL6="C",IF(BO6<11,"SI","NO"),IF(BL6="A",IF(BO6<21,"SI","NO"))))) -> NO
A7: D | B7: KOULIBALY | C7: NAPOLI | D7: 22 | E7: =IF(A7="P",IF(D7<7,"SI","NO"),IF(A7="D",IF(D7<11,"SI","NO"),IF(A7="C",IF(D7<21,"SI","NO"),IF(A7="A",IF(D7<41,"SI","NO"))))) -> NO | F7: =IF(A7="P",IF(D7<4,"SI","NO"),IF(A7="D",IF(D7<6,"SI","NO"),IF(A7="C",IF(D7<11,"SI","NO"),IF(A7="A",IF(D7<21,"SI","NO"))))) -> NO | H7: D | I7: DANI ALVES | J7: JUVENTUS | K7: 20 | L7: =IF(H7="P",IF(K7<7,"SI","NO"),IF(H7="D",IF(K7<11,"SI","NO"),IF(H7="C",IF(K7<21,"SI","NO"),IF(H7="A",IF(K7<41,"SI","NO"))))) -> NO | M7: =IF(H7="P",IF(K7<4,"SI","NO"),IF(H7="D",IF(K7<6,"SI","NO"),IF(H7="C",IF(K7<11,"SI","NO"),IF(H7="A",IF(K7<21,"SI","NO"))))) -> NO | O7: D | P7: PALETTA | Q7: MILAN | R7: 1 | S7: =IF(O7="P",IF(R7<7,"SI","NO"),IF(O7="D",IF(R7<11,"SI","NO"),IF(O7="C",IF(R7<21,"SI","NO"),IF(O7="A",IF(R7<41,"SI","NO"))))) -> SI | T7: =IF(O7="P",IF(R7<4,"SI","NO"),IF(O7="D",IF(R7<6,"SI","NO"),IF(O7="C",IF(R7<11,"SI","NO"),IF(O7="A",IF(R7<21,"SI","NO"))))) -> SI | V7: D | W7: ALEXSANDRO | X7: JUVENTUS | Y7: 20 | Z7: =IF(V7="P",IF(Y7<7,"SI","NO"),IF(V7="D",IF(Y7<11,"SI","NO"),IF(V7="C",IF(Y7<21,"SI","NO"),IF(V7="A",IF(Y7<41,"SI","NO"))))) -> NO | AA7: =IF(V7="P",IF(Y7<4,"SI","NO"),IF(V7="D",IF(Y7<6,"SI","NO"),IF(V7="C",IF(Y7<11,"SI","NO"),IF(V7="A",IF(Y7<21,"SI","NO"))))) -> NO | AC7: D | AD7: BONUCCI | AE7: JUVENTUS | AF7: 27 | AG7: =IF(AC7="P",IF(AF7<7,"SI","NO"),IF(AC7="D",IF(AF7<11,"SI","NO"),IF(AC7="C",IF(AF7<21,"SI","NO"),IF(AC7="A",IF(AF7<41,"SI","NO"))))) -> NO | AH7: =IF(AC7="P",IF(AF7<4,"SI","NO"),IF(AC7="D",IF(AF7<6,"SI","NO"),IF(AC7="C",IF(AF7<11,"SI","NO"),IF(AC7="A",IF(AF7<21,"SI","NO"))))) -> NO | AJ7: D | AK7: WIDMER | AL7: UDINESE | AM7: 7 | AN7: =IF(AJ7="P",IF(AM7<7,"SI","NO"),IF(AJ7="D",IF(AM7<11,"SI","NO"),IF(AJ7="C",IF(AM7<21,"SI","NO"),IF(AJ7="A",IF(AM7<41,"SI","NO"))))) -> SI | AO7: =IF(AJ7="P",IF(AM7<4,"SI","NO"),IF(AJ7="D",IF(AM7<6,"SI","NO"),IF(AJ7="C",IF(AM7<11,"SI","NO"),IF(AJ7="A",IF(AM7<21,"SI","NO"))))) -> NO | AQ7: D | AR7: MASIELLO | AS7: ATALANTA | AT7: 7 | AU7: 7 | AX7: D | AY7: REGINI | AZ7: SAMPDORIA | BA7: 3 | BB7: =IF(AX7="P",IF(BA7<7,"SI","NO"),IF(AX7="D",IF(BA7<11,"SI","NO"),IF(AX7="C",IF(BA7<21,"SI","NO"),IF(AX7="A",IF(BA7<41,"SI","NO"))))) -> SI | BC7: =IF(AX7="P",IF(BA7<4,"SI","NO"),IF(AX7="D",IF(BA7<6,"SI","NO"),IF(AX7="C",IF(BA7<11,"SI","NO"),IF(AX7="A",IF(BA7<21,"SI","NO"))))) -> SI | BE7: D | BF7: DE SCIGLIO | BG7: MILAN | BH7: 1 | BI7: =IF(BE7="P",IF(BH7<7,"SI","NO"),IF(BE7="D",IF(BH7<11,"SI","NO"),IF(BE7="C",IF(BH7<21,"SI","NO"),IF(BE7="A",IF(BH7<41,"SI","NO"))))) -> SI | BJ7: =IF(BE7="P",IF(BH7<4,"SI","NO"),IF(BE7="D",IF(BH7<6,"SI","NO"),IF(BE7="C",IF(BH7<11,"SI","NO"),IF(BE7="A",IF(BH7<21,"SI","NO"))))) -> SI | BL7: D | BM7: FLORENZI | BN7: ROMA | BO7: 16 | BP7: =IF(BL7="P",IF(BO7<7,"SI","NO"),IF(BL7="D",IF(BO7<11,"SI","NO"),IF(BL7="C",IF(BO7<21,"SI","NO"),IF(BL7="A",IF(BO7<41,"SI","NO"))))) -> NO | BQ7: =IF(BL7="P",IF(BO7<4,"SI","NO"),IF(BL7="D",IF(BO7<6,"SI","NO"),IF(BL7="C",IF(BO7<11,"SI","NO"),IF(BL7="A",IF(BO7<21,"SI","NO"))))) -> NO
A8: D | B8: CHIELLINI | C8: JUVENTUS | D8: 20 | E8: =IF(A8="P",IF(D8<7,"SI","NO"),IF(A8="D",IF(D8<11,"SI","NO"),IF(A8="C",IF(D8<21,"SI","NO"),IF(A8="A",IF(D8<41,"SI","NO"))))) -> NO | F8: =IF(A8="P",IF(D8<4,"SI","NO"),IF(A8="D",IF(D8<6,"SI","NO"),IF(A8="C",IF(D8<11,"SI","NO"),IF(A8="A",IF(D8<21,"SI","NO"))))) -> NO | H8: D | I8: BRUNO PERES | J8: ROMA | K8: 20 | L8: =IF(H8="P",IF(K8<7,"SI","NO"),IF(H8="D",IF(K8<11,"SI","NO"),IF(H8="C",IF(K8<21,"SI","NO"),IF(H8="A",IF(K8<41,"SI","NO"))))) -> NO | M8: =IF(H8="P",IF(K8<4,"SI","NO"),IF(H8="D",IF(K8<6,"SI","NO"),IF(H8="C",IF(K8<11,"SI","NO"),IF(H8="A",IF(K8<21,"SI","NO"))))) -> NO | O8: D | P8: KRAFTH | Q8: BOLOGNA | R8: 4 | S8: =IF(O8="P",IF(R8<7,"SI","NO"),IF(O8="D",IF(R8<11,"SI","NO"),IF(O8="C",IF(R8<21,"SI","NO"),IF(O8="A",IF(R8<41,"SI","NO"))))) -> SI | T8: =IF(O8="P",IF(R8<4,"SI","NO"),IF(O8="D",IF(R8<6,"SI","NO"),IF(O8="C",IF(R8<11,"SI","NO"),IF(O8="A",IF(R8<21,"SI","NO"))))) -> SI | V8: D | W8: RODRIGUEZ G. | X8: FIORENTINA | Y8: 13 | Z8: =IF(V8="P",IF(Y8<7,"SI","NO"),IF(V8="D",IF(Y8<11,"SI","NO"),IF(V8="C",IF(Y8<21,"SI","NO"),IF(V8="A",IF(Y8<41,"SI","NO"))))) -> NO | AA8: =IF(V8="P",IF(Y8<4,"SI","NO"),IF(V8="D",IF(Y8<6,"SI","NO"),IF(V8="C",IF(Y8<11,"SI","NO"),IF(V8="A",IF(Y8<21,"SI","NO"))))) -> NO | AC8: D | AD8: BARRECA | AE8: TORINO | AF8: 3 | AG8: =IF(AC8="P",IF(AF8<7,"SI","NO"),IF(AC8="D",IF(AF8<11,"SI","NO"),IF(AC8="C",IF(AF8<21,"SI","NO"),IF(AC8="A",IF(AF8<41,"SI","NO"))))) -> SI | AH8: =IF(AC8="P",IF(AF8<4,"SI","NO"),IF(AC8="D",IF(AF8<6,"SI","NO"),IF(AC8="C",IF(AF8<11,"SI","NO"),IF(AC8="A",IF(AF8<21,"SI","NO"))))) -> SI | AJ8: D | AK8: BIRAGHI | AL8: PESCARA | AM8: 1 | AN8: =IF(AJ8="P",IF(AM8<7,"SI","NO"),IF(AJ8="D",IF(AM8<11,"SI","NO"),IF(AJ8="C",IF(AM8<21,"SI","NO"),IF(AJ8="A",IF(AM8<41,"SI","NO"))))) -> SI | AO8: =IF(AJ8="P",IF(AM8<4,"SI","NO"),IF(AJ8="D",IF(AM8<6,"SI","NO"),IF(AJ8="C",IF(AM8<11,"SI","NO"),IF(AJ8="A",IF(AM8<21,"SI","NO"))))) -> SI | AQ8: D | AR8: BRUNO PERES | AS8: ROMA | AT8: 20 | AU8: =IF(AQ8="P",IF(AT8<7,"SI","NO"),IF(AQ8="D",IF(AT8<11,"SI","NO"),IF(AQ8="C",IF(AT8<21,"SI","NO"),IF(AQ8="A",IF(AT8<41,"SI","NO"))))) -> NO | AV8: =IF(AQ8="P",IF(AT8<4,"SI","NO"),IF(AQ8="D",IF(AT8<6,"SI","NO"),IF(AQ8="C",IF(AT8<11,"SI","NO"),IF(AQ8="A",IF(AT8<21,"SI","NO"))))) -> NO | AX8: D | AY8: ASTORI | AZ8: FIORENTINA | BA8: 6 | BB8: =IF(AX8="P",IF(BA8<7,"SI","NO"),IF(AX8="D",IF(BA8<11,"SI","NO"),IF(AX8="C",IF(BA8<21,"SI","NO"),IF(AX8="A",IF(BA8<41,"SI","NO"))))) -> SI | BC8: =IF(AX8="P",IF(BA8<4,"SI","NO"),IF(AX8="D",IF(BA8<6,"SI","NO"),IF(AX8="C",IF(BA8<11,"SI","NO"),IF(AX8="A",IF(BA8<21,"SI","NO"))))) -> NO | BE8: D | BF8: CACCIATORE | BG8: CHIEVO | BH8: 3 | BI8: =IF(BE8="P",IF(BH8<7,"SI","NO"),IF(BE8="D",IF(BH8<11,"SI","NO"),IF(BE8="C",IF(BH8<21,"SI","NO"),IF(BE8="A",IF(BH8<41,"SI","NO"))))) -> SI | BJ8: =IF(BE8="P",IF(BH8<4,"SI","NO"),IF(BE8="D",IF(BH8<6,"SI","NO"),IF(BE8="C",IF(BH8<11,"SI","NO"),IF(BE8="A",IF(BH8<21,"SI","NO"))))) -> SI | BL8: D | BM8: FERRARI | BN8: CROTONE | BO8: 2 | BP8: =IF(BL8="P",IF(BO8<7,"SI","NO"),IF(BL8="D",IF(BO8<11,"SI","NO"),IF(BL8="C",IF(BO8<21,"SI","NO"),IF(BL8="A",IF(BO8<41,"SI","NO"))))) -> SI | BQ8: =IF(BL8="P",IF(BO8<4,"SI","NO"),IF(BL8="D",IF(BO8<6,"SI","NO"),IF(BL8="C",IF(BO8<11,"SI","NO"),IF(BL8="A",IF(BO8<21,"SI","NO"))))) -> SI
A9: D | B9: CANNAVARO | C9: SASSUOLO | D9: 10 | E9: =IF(A9="P",IF(D9<7,"SI","NO"),IF(A9="D",IF(D9<11,"SI","NO"),IF(A9="C",IF(D9<21,"SI","NO"),IF(A9="A",IF(D9<41,"SI","NO"))))) -> SI | F9: =IF(A9="P",IF(D9<4,"SI","NO"),IF(A9="D",IF(D9<6,"SI","NO"),IF(A9="C",IF(D9<11,"SI","NO"),IF(A9="A",IF(D9<21,"SI","NO"))))) -> NO | H9: D | I9: MARTELLA | J9: CROTONE | K9: 3 | L9: =IF(H9="P",IF(K9<7,"SI","NO"),IF(H9="D",IF(K9<11,"SI","NO"),IF(H9="C",IF(K9<21,"SI","NO"),IF(H9="A",IF(K9<41,"SI","NO"))))) -> SI | M9: =IF(H9="P",IF(K9<4,"SI","NO"),IF(H9="D",IF(K9<6,"SI","NO"),IF(H9="C",IF(K9<11,"SI","NO"),IF(H9="A",IF(K9<21,"SI","NO"))))) -> SI | O9: D | P9: BURDISSO | Q9: GENOA | R9: 1 | S9: =IF(O9="P",IF(R9<7,"SI","NO"),IF(O9="D",IF(R9<11,"SI","NO"),IF(O9="C",IF(R9<21,"SI","NO"),IF(O9="A",IF(R9<41,"SI","NO"))))) -> SI | T9: =IF(O9="P",IF(R9<4,"SI","NO"),IF(O9="D",IF(R9<6,"SI","NO"),IF(O9="C",IF(R9<11,"SI","NO"),IF(O9="A",IF(R9<21,"SI","NO"))))) -> SI | V9: D | W9: GASTALDELLO | X9: BOLOGNA | Y9: 2 | Z9: =IF(V9="P",IF(Y9<7,"SI","NO"),IF(V9="D",IF(Y9<11,"SI","NO"),IF(V9="C",IF(Y9<21,"SI","NO"),IF(V9="A",IF(Y9<41,"SI","NO"))))) -> SI | AA9: =IF(V9="P",IF(Y9<4,"SI","NO"),IF(V9="D",IF(Y9<6,"SI","NO"),IF(V9="C",IF(Y9<11,"SI","NO"),IF(V9="A",IF(Y9<21,"SI","NO"))))) -> SI | AC9: D | AD9: PASQUAL | AE9: EMPOLI | AF9: 3 | AG9: =IF(AC9="P",IF(AF9<7,"SI","NO"),IF(AC9="D",IF(AF9<11,"SI","NO"),IF(AC9="C",IF(AF9<21,"SI","NO"),IF(AC9="A",IF(AF9<41,"SI","NO"))))) -> SI | AH9: =IF(AC9="P",IF(AF9<4,"SI","NO"),IF(AC9="D",IF(AF9<6,"SI","NO"),IF(AC9="C",IF(AF9<11,"SI","NO"),IF(AC9="A",IF(AF9<21,"SI","NO"))))) -> SI | AJ9: D | AK9: BRUNO ALVES | AL9: CAGLIARI | AM9: 1 | AN9: =IF(AJ9="P",IF(AM9<7,"SI","NO"),IF(AJ9="D",IF(AM9<11,"SI","NO"),IF(AJ9="C",IF(AM9<21,"SI","NO"),IF(AJ9="A",IF(AM9<41,"SI","NO"))))) -> SI | AO9: =IF(AJ9="P",IF(AM9<4,"SI","NO"),IF(AJ9="D",IF(AM9<6,"SI","NO"),IF(AJ9="C",IF(AM9<11,"SI","NO"),IF(AJ9="A",IF(AM9<21,"SI","NO"))))) -> SI | AQ9: D | AR9: GOBBI | AS9: CHIEVO | AT9: 1 | AU9: =IF(AQ9="P",IF(AT9<7,"SI","NO"),IF(AQ9="D",IF(AT9<11,"SI","NO"),IF(AQ9="C",IF(AT9<21,"SI","NO"),IF(AQ9="A",IF(AT9<41,"SI","NO"))))) -> SI | AV9: =IF(AQ9="P",IF(AT9<4,"SI","NO"),IF(AQ9="D",IF(AT9<6,"SI","NO"),IF(AQ9="C",IF(AT9<11,"SI","NO"),IF(AQ9="A",IF(AT9<21,"SI","NO"))))) -> SI | AX9: D | AY9: WIDMER | AZ9: UDINESE | BA9: 10 | BB9: =IF(AX9="P",IF(BA9<7,"SI","NO"),IF(AX9="D",IF(BA9<11,"SI","NO"),IF(AX9="C",IF(BA9<21,"SI","NO"),IF(AX9="A",IF(BA9<41,"SI","NO"))))) -> SI | BC9: =IF(AX9="P",IF(BA9<4,"SI","NO"),IF(AX9="D",IF(BA9<6,"SI","NO"),IF(AX9="C",IF(BA9<11,"SI","NO"),IF(AX9="A",IF(BA9<21,"SI","NO"))))) -> NO | BE9: D | BF9: D'AMBROSIO | BG9: INTER | BH9: 3 | BI9: =IF(BE9="P",IF(BH9<7,"SI","NO"),IF(BE9="D",IF(BH9<11,"SI","NO"),IF(BE9="C",IF(BH9<21,"SI","NO"),IF(BE9="A",IF(BH9<41,"SI","NO"))))) -> SI | BJ9: =IF(BE9="P",IF(BH9<4,"SI","NO"),IF(BE9="D",IF(BH9<6,"SI","NO"),IF(BE9="C",IF(BH9<11,"SI","NO"),IF(BE9="A",IF(BH9<21,"SI","NO"))))) -> SI | BL9: D | BM9: IZZO | BN9: GENOA | BO9: 4 | BP9: =IF(BL9="P",IF(BO9<7,"SI","NO"),IF(BL9="D",IF(BO9<11,"SI","NO"),IF(BL9="C",IF(BO9<21,"SI","NO"),IF(BL9="A",IF(BO9<41,"SI","NO"))))) -> SI | BQ9: =IF(BL9="P",IF(BO9<4,"SI","NO"),IF(BL9="D",IF(BO9<6,"SI","NO"),IF(BL9="C",IF(BO9<11,"SI","NO"),IF(BL9="A",IF(BO9<21,"SI","NO"))))) -> SI
A10: D | B10: MOLINARO | C10: TORINO | D10: 2 | E10: =IF(A10="P",IF(D10<7,"SI","NO"),IF(A10="D",IF(D10<11,"SI","NO"),IF(A10="C",IF(D10<21,"SI","NO"),IF(A10="A",IF(D10<41,"SI","NO"))))) -> SI | F10: =IF(A10="P",IF(D10<4,"SI","NO"),IF(A10="D",IF(D10<6,"SI","NO"),IF(A10="C",IF(D10<11,"SI","NO"),IF(A10="A",IF(D10<21,"SI","NO"))))) -> SI | H10: D | I10: CACCIATORE | J10: CHIEVO | K10: 3 | L10: =IF(H10="P",IF(K10<7,"SI","NO"),IF(H10="D",IF(K10<11,"SI","NO"),IF(H10="C",IF(K10<21,"SI","NO"),IF(H10="A",IF(K10<41,"SI","NO"))))) -> SI | M10: =IF(H10="P",IF(K10<4,"SI","NO"),IF(H10="D",IF(K10<6,"SI","NO"),IF(H10="C",IF(K10<11,"SI","NO"),IF(H10="A",IF(K10<21,"SI","NO"))))) -> SI | O10: D | P10: HYSAJ | Q10: NAPOLI | R10: 7 | S10: =IF(O10="P",IF(R10<7,"SI","NO"),IF(O10="D",IF(R10<11,"SI","NO"),IF(O10="C",IF(R10<21,"SI","NO"),IF(O10="A",IF(R10<41,"SI","NO"))))) -> SI | T10: =IF(O10="P",IF(R10<4,"SI","NO"),IF(O10="D",IF(R10<6,"SI","NO"),IF(O10="C",IF(R10<11,"SI","NO"),IF(O10="A",IF(R10<21,"SI","NO"))))) -> NO | V10: D | W10: ISLA | X10: CAGLIARI | Y10: 3 | Z10: =IF(V10="P",IF(Y10<7,"SI","NO"),IF(V10="D",IF(Y10<11,"SI","NO"),IF(V10="C",IF(Y10<21,"SI","NO"),IF(V10="A",IF(Y10<41,"SI","NO"))))) -> SI | AA10: =IF(V10="P",IF(Y10<4,"SI","NO"),IF(V10="D",IF(Y10<6,"SI","NO"),IF(V10="C",IF(Y10<11,"SI","NO"),IF(V10="A",IF(Y10<21,"SI","NO"))))) -> SI | AC10: D | AD10: DIMARCO | AE10: EMPOLI | AF10: 1 | AG10: =IF(AC10="P",IF(AF10<7,"SI","NO"),IF(AC10="D",IF(AF10<11,"SI","NO"),IF(AC10="C",IF(AF10<21,"SI","NO"),IF(AC10="A",IF(AF10<41,"SI","NO"))))) -> SI | AH10: =IF(AC10="P",IF(AF10<4,"SI","NO"),IF(AC10="D",IF(AF10<6,"SI","NO"),IF(AC10="C",IF(AF10<11,"SI","NO"),IF(AC10="A",IF(AF10<21,"SI","NO"))))) -> SI | AJ10: D | AK10: GOBBI | AL10: CHIEVO | AM10: 2 | AN10: =IF(AJ10="P",IF(AM10<7,"SI","NO"),IF(AJ10="D",IF(AM10<11,"SI","NO"),IF(AJ10="C",IF(AM10<21,"SI","NO"),IF(AJ10="A",IF(AM10<41,"SI","NO"))))) -> SI | AO10: =IF(AJ10="P",IF(AM10<4,"SI","NO"),IF(AJ10="D",IF(AM10<6,"SI","NO"),IF(AJ10="C",IF(AM10<11,"SI","NO"),IF(AJ10="A",IF(AM10<21,"SI","NO"))))) -> SI | AQ10: D | AR10: ANSALDI | AS10: INTER | AT10: 4 | AU10: =IF(AQ10="P",IF(AT10<7,"SI","NO"),IF(AQ10="D",IF(AT10<11,"SI","NO"),IF(AQ10="C",IF(AT10<21,"SI","NO"),IF(AQ10="A",IF(AT10<41,"SI","NO"))))) -> SI | AV10: =IF(AQ10="P",IF(AT10<4,"SI","NO"),IF(AQ10="D",IF(AT10<6,"SI","NO"),IF(AQ10="C",IF(AT10<11,"SI","NO"),IF(AQ10="A",IF(AT10<21,"SI","NO"))))) -> SI | AX10: D | AY10: OIKONOMU | AZ10: BOLOGNA | BA10: 3 | BB10: =IF(AX10="P",IF(BA10<7,"SI","NO"),IF(AX10="D",IF(BA10<11,"SI","NO"),IF(AX10="C",IF(BA10<21,"SI","NO"),IF(AX10="A",IF(BA10<41,"SI","NO"))))) -> SI | BC10: =IF(AX10="P",IF(BA10<4,"SI","NO"),IF(AX10="D",IF(BA10<6,"SI","NO"),IF(AX10="C",IF(BA10<11,"SI","NO"),IF(AX10="A",IF(BA10<21,"SI","NO"))))) -> SI | BE10: D | BF10: TOMOVIC | BG10: FIORENTINA | BH10: 5 | BI10: =IF(BE10="P",IF(BH10<7,"SI","NO"),IF(BE10="D",IF(BH10<11,"SI","NO"),IF(BE10="C",IF(BH10<21,"SI","NO"),IF(BE10="A",IF(BH10<41,"SI","NO"))))) -> SI | BJ10: =IF(BE10="P",IF(BH10<4,"SI","NO"),IF(BE10="D",IF(BH10<6,"SI","NO"),IF(BE10="C",IF(BH10<11,"SI","NO"),IF(BE10="A",IF(BH10<21,"SI","NO"))))) -> SI | BL10: D | BM10: HYSAJ | BN10: NAPOLI | BO10: 9 | BP10: =IF(BL10="P",IF(BO10<7,"SI","NO"),IF(BL10="D",IF(BO10<11,"SI","NO"),IF(BL10="C",IF(BO10<21,"SI","NO"),IF(BL10="A",IF(BO10<41,"SI","NO"))))) -> SI | BQ10: =IF(BL10="P",IF(BO10<4,"SI","NO"),IF(BL10="D",IF(BO10<6,"SI","NO"),IF(BL10="C",IF(BO10<11,"SI","NO"),IF(BL10="A",IF(BO10<21,"SI","NO"))))) -> NO
A11: D | B11: SILVESTRE | C11: SAMPDORIA | D11: 2 | E11: =IF(A11="P",IF(D11<7,"SI","NO"),IF(A11="D",IF(D11<11,"SI","NO"),IF(A11="C",IF(D11<21,"SI","NO"),IF(A11="A",IF(D11<41,"SI","NO"))))) -> SI | F11: =IF(A11="P",IF(D11<4,"SI","NO"),IF(A11="D",IF(D11<6,"SI","NO"),IF(A11="C",IF(D11<11,"SI","NO"),IF(A11="A",IF(D11<21,"SI","NO"))))) -> SI | H11: D | I11: RUGANI | J11: JUVENTUS | K11: 1 | L11: 1 | O11: D | P11: ZAPPACOSTA | Q11: TORINO | R11: 1 | S11: =IF(O11="P",IF(R11<7,"SI","NO"),IF(O11="D",IF(R11<11,"SI","NO"),IF(O11="C",IF(R11<21,"SI","NO"),IF(O11="A",IF(R11<41,"SI","NO"))))) -> SI | T11: =IF(O11="P",IF(R11<4,"SI","NO"),IF(O11="D",IF(R11<6,"SI","NO"),IF(O11="C",IF(R11<11,"SI","NO"),IF(O11="A",IF(R11<21,"SI","NO"))))) -> SI | V11: D | W11: RISPOLI | X11: PALERMO | Y11: 1 | Z11: =IF(V11="P",IF(Y11<7,"SI","NO"),IF(V11="D",IF(Y11<11,"SI","NO"),IF(V11="C",IF(Y11<21,"SI","NO"),IF(V11="A",IF(Y11<41,"SI","NO"))))) -> SI | AA11: =IF(V11="P",IF(Y11<4,"SI","NO"),IF(V11="D",IF(Y11<6,"SI","NO"),IF(V11="C",IF(Y11<11,"SI","NO"),IF(V11="A",IF(Y11<21,"SI","NO"))))) -> SI | AC11: D | AD11: CEPPITELLI | AE11: CAGLIARI | AF11: 1 | AG11: =IF(AC11="P",IF(AF11<7,"SI","NO"),IF(AC11="D",IF(AF11<11,"SI","NO"),IF(AC11="C",IF(AF11<21,"SI","NO"),IF(AC11="A",IF(AF11<41,"SI","NO"))))) -> SI | AH11: =IF(AC11="P",IF(AF11<4,"SI","NO"),IF(AC11="D",IF(AF11<6,"SI","NO"),IF(AC11="C",IF(AF11<11,"SI","NO"),IF(AC11="A",IF(AF11<21,"SI","NO"))))) -> SI | AJ11: D | AK11: DANILO | AL11: UDINESE | AM11: 3 | AN11: =IF(AJ11="P",IF(AM11<7,"SI","NO"),IF(AJ11="D",IF(AM11<11,"SI","NO"),IF(AJ11="C",IF(AM11<21,"SI","NO"),IF(AJ11="A",IF(AM11<41,"SI","NO"))))) -> SI | AO11: =IF(AJ11="P",IF(AM11<4,"SI","NO"),IF(AJ11="D",IF(AM11<6,"SI","NO"),IF(AJ11="C",IF(AM11<11,"SI","NO"),IF(AJ11="A",IF(AM11<21,"SI","NO"))))) -> SI | AQ11: D | AR11: ROSSETTINI | AS11: BOLOGNA | AT11: 1 | AU11: =IF(AQ11="P",IF(AT11<7,"SI","NO"),IF(AQ11="D",IF(AT11<11,"SI","NO"),IF(AQ11="C",IF(AT11<21,"SI","NO"),IF(AQ11="A",IF(AT11<41,"SI","NO"))))) -> SI | AV11: =IF(AQ11="P",IF(AT11<4,"SI","NO"),IF(AQ11="D",IF(AT11<6,"SI","NO"),IF(AQ11="C",IF(AT11<11,"SI","NO"),IF(AQ11="A",IF(AT11<21,"SI","NO"))))) -> SI | AX11: D | AY11: ANTONELLI | AZ11: MILAN | BA11: 1 | BB11: =IF(AX11="P",IF(BA11<7,"SI","NO"),IF(AX11="D",IF(BA11<11,"SI","NO"),IF(AX11="C",IF(BA11<21,"SI","NO"),IF(AX11="A",IF(BA11<41,"SI","NO"))))) -> SI | BC11: =IF(AX11="P",IF(BA11<4,"SI","NO"),IF(AX11="D",IF(BA11<6,"SI","NO"),IF(AX11="C",IF(BA11<11,"SI","NO"),IF(AX11="A",IF(BA11<21,"SI","NO"))))) -> SI | BE11: D | BF11: VESELJ | BG11: EMPOLI | BH11: 1 | BI11: =IF(BE11="P",IF(BH11<7,"SI","NO"),IF(BE11="D",IF(BH11<11,"SI","NO"),IF(BE11="C",IF(BH11<21,"SI","NO"),IF(BE11="A",IF(BH11<41,"SI","NO"))))) -> SI | BJ11: =IF(BE11="P",IF(BH11<4,"SI","NO"),IF(BE11="D",IF(BH11<6,"SI","NO"),IF(BE11="C",IF(BH11<11,"SI","NO"),IF(BE11="A",IF(BH11<21,"SI","NO"))))) -> SI | BL11: D | BM11: GAMBERINI | BN11: CHIEVO | BO11: 1 | BP11: =IF(BL11="P",IF(BO11<7,"SI","NO"),IF(BL11="D",IF(BO11<11,"SI","NO"),IF(BL11="C",IF(BO11<21,"SI","NO"),IF(BL11="A",IF(BO11<41,"SI","NO"))))) -> SI | BQ11: =IF(BL11="P",IF(BO11<4,"SI","NO"),IF(BL11="D",IF(BO11<6,"SI","NO"),IF(BL11="C",IF(BO11<11,"SI","NO"),IF(BL11="A",IF(BO11<21,"SI","NO"))))) -> SI
A12: D | B12: MAKSIMOVIC | C12: NAPOLI | D12: 10 | E12: =IF(A12="P",IF(D12<7,"SI","NO"),IF(A12="D",IF(D12<11,"SI","NO"),IF(A12="C",IF(D12<21,"SI","NO"),IF(A12="A",IF(D12<41,"SI","NO"))))) -> SI | F12: =IF(A12="P",IF(D12<4,"SI","NO"),IF(A12="D",IF(D12<6,"SI","NO"),IF(A12="C",IF(D12<11,"SI","NO"),IF(A12="A",IF(D12<21,"SI","NO"))))) -> NO | H12: D | I12: COSTA | J12: EMPOLI | K12: 1 | L12: =IF(H12="P",IF(K12<7,"SI","NO"),IF(H12="D",IF(K12<11,"SI","NO"),IF(H12="C",IF(K12<21,"SI","NO"),IF(H12="A",IF(K12<41,"SI","NO"))))) -> SI | M12: =IF(H12="P",IF(K12<4,"SI","NO"),IF(H12="D",IF(K12<6,"SI","NO"),IF(H12="C",IF(K12<11,"SI","NO"),IF(H12="A",IF(K12<21,"SI","NO"))))) -> SI | O12: D | P12: LICHSTEINER | Q12: JUVENTUS | R12: 2 | S12: =IF(O12="P",IF(R12<7,"SI","NO"),IF(O12="D",IF(R12<11,"SI","NO"),IF(O12="C",IF(R12<21,"SI","NO"),IF(O12="A",IF(R12<41,"SI","NO"))))) -> SI | T12: =IF(O12="P",IF(R12<4,"SI","NO"),IF(O12="D",IF(R12<6,"SI","NO"),IF(O12="C",IF(R12<11,"SI","NO"),IF(O12="A",IF(R12<21,"SI","NO"))))) -> SI | V12: D | W12: ROSSETTINI | X12: BOLOGNA | Y12: 1 | Z12: =IF(V12="P",IF(Y12<7,"SI","NO"),IF(V12="D",IF(Y12<11,"SI","NO"),IF(V12="C",IF(Y12<21,"SI","NO"),IF(V12="A",IF(Y12<41,"SI","NO"))))) -> SI | AA12: =IF(V12="P",IF(Y12<4,"SI","NO"),IF(V12="D",IF(Y12<6,"SI","NO"),IF(V12="C",IF(Y12<11,"SI","NO"),IF(V12="A",IF(Y12<21,"SI","NO"))))) -> SI | AC12: D | AD12: ZAMPANO | AE12: PESCARA | AF12: 1 | AG12: =IF(AC12="P",IF(AF12<7,"SI","NO"),IF(AC12="D",IF(AF12<11,"SI","NO"),IF(AC12="C",IF(AF12<21,"SI","NO"),IF(AC12="A",IF(AF12<41,"SI","NO"))))) -> SI | AH12: =IF(AC12="P",IF(AF12<4,"SI","NO"),IF(AC12="D",IF(AF12<6,"SI","NO"),IF(AC12="C",IF(AF12<11,"SI","NO"),IF(AC12="A",IF(AF12<21,"SI","NO"))))) -> SI | AJ12: D | AK12: TOMOVIC | AL12: FIORENTINA | AM12: 1 | AN12: =IF(AJ12="P",IF(AM12<7,"SI","NO"),IF(AJ12="D",IF(AM12<11,"SI","NO"),IF(AJ12="C",IF(AM12<21,"SI","NO"),IF(AJ12="A",IF(AM12<41,"SI","NO"))))) -> SI | AO12: =IF(AJ12="P",IF(AM12<4,"SI","NO"),IF(AJ12="D",IF(AM12<6,"SI","NO"),IF(AJ12="C",IF(AM12<11,"SI","NO"),IF(AJ12="A",IF(AM12<21,"SI","NO"))))) -> SI | AQ12: D | AR12: DANILO | AS12: UDINESE | AT12: 1 | AU12: =IF(AQ12="P",IF(AT12<7,"SI","NO"),IF(AQ12="D",IF(AT12<11,"SI","NO"),IF(AQ12="C",IF(AT12<21,"SI","NO"),IF(AQ12="A",IF(AT12<41,"SI","NO"))))) -> SI | AV12: =IF(AQ12="P",IF(AT12<4,"SI","NO"),IF(AQ12="D",IF(AT12<6,"SI","NO"),IF(AQ12="C",IF(AT12<11,"SI","NO"),IF(AQ12="A",IF(AT12<21,"SI","NO"))))) -> SI | AX12: D | AY12: CONTI | AZ12: ATALANTA | BA12: 1 | BB12: 1 | BE12: D | BF12: ZAPPACOSTA | BG12: TORINO | BH12: 1 | BI12: 1 | BL12: D | BM12: TONELLI | BN12: NAPOLI | BO12: 2 | BP12: =IF(BL12="P",IF(BO12<7,"SI","NO"),IF(BL12="D",IF(BO12<11,"SI","NO"),IF(BL12="C",IF(BO12<21,"SI","NO"),IF(BL12="A",IF(BO12<41,"SI","NO"))))) -> SI | BQ12: =IF(BL12="P",IF(BO12<4,"SI","NO"),IF(BL12="D",IF(BO12<6,"SI","NO"),IF(BL12="C",IF(BO12<11,"SI","NO"),IF(BL12="A",IF(BO12<21,"SI","NO"))))) -> SI
