Workbook

Sheet TABELLONE
A1: GIRONE A | D1: ORDINE CHIAMATA QUARTI | G1: ORDINE CHIAMATA SEMIFINALI | J1: 1° GIORNATA
J2: =A5 -> NEDVED 11 | K2: =A6 -> INTERFOGAT | L2: =IF('1° GIORNATA'!$B$17=0,"",'1° GIORNATA'!B5) -> 1 | M2: =IF('1° GIORNATA'!$D$17=0,"",'1° GIORNATA'!$D$5) -> 1 | O2: =IF(L2="",0,IF(L2>M2,3,IF(L2=M2,1,0))) -> 1 | P2: =IF(M2="",0,IF(M2>L2,3,IF(M2=L2,1,0))) -> 1
A3: SQUADRE | J3: =A7 -> SKIACCIAK MOSCA | K3: =A8 -> EVRIBADI | L3: =IF('1° GIORNATA'!$K$17=0,"",'1° GIORNATA'!$K$5) -> 1 | M3: =IF('1° GIORNATA'!$M$17=0,"",'1° GIORNATA'!$M$5) -> 2 | O3: =IF(L3="",0,IF(L3>M3,3,IF(L3=M3,1,0))) -> 0 | P3: =IF(M3="",0,IF(M3>L3,3,IF(M3=L3,1,0))) -> 3
A5: NEDVED 11 | B5: A
A6: INTERFOGAT | B6: B | G6: ORDINE CHIAMATA FINALE | J6: 2° GIORNATA
A7: SKIACCIAK MOSCA | B7: C | J7: =A5 -> NEDVED 11 | K7: =A7 -> SKIACCIAK MOSCA | L7: =IF('2° GIORNATA'!$B$17=0,"",'2° GIORNATA'!B5) | M7: =IF('2° GIORNATA'!$D$17=0,"",'2° GIORNATA'!$D$5) | O7: =IF(L7="",0,IF(L7>M7,3,IF(L7=M7,1,0))) -> 0 | P7: =IF(M7="",0,IF(M7>L7,3,IF(M7=L7,1,0))) -> 0
A8: EVRIBADI | B8: D | J8: =A6 -> INTERFOGAT | K8: =A8 -> EVRIBADI | L8: =IF('2° GIORNATA'!$K$17=0,"",'2° GIORNATA'!$K$5) | M8: =IF('2° GIORNATA'!$M$17=0,"",'2° GIORNATA'!$M$5) | O8: =IF(L8="",0,IF(L8>M8,3,IF(L8=M8,1,0))) -> 0 | P8: =IF(M8="",0,IF(M8>L8,3,IF(M8=L8,1,0))) -> 0
J11: 3° GIORNATA
A12: CLASSIFICA | J12: =A5 -> NEDVED 11 | K12: =A8 -> EVRIBADI | L12: =IF('3° GIORNATA'!$B$17=0,"",'3° GIORNATA'!B5) | M12: =IF('3° GIORNATA'!$D$17=0,"",'3° GIORNATA'!$D$5) | O12: =IF(L12="",0,IF(L12>M12,3,IF(L12=M12,1,0))) -> 0 | P12: =IF(M12="",0,IF(M12>L12,3,IF(M12=L12,1,0))) -> 0
J13: =A7 -> SKIACCIAK MOSCA | K13: =A6 -> INTERFOGAT | L13: =IF('3° GIORNATA'!$K$17=0,"",'3° GIORNATA'!$K$5) | M13: =IF('3° GIORNATA'!$M$17=0,"",'3° GIORNATA'!$M$5) | O13: =IF(L13="",0,IF(L13>M13,3,IF(L13=M13,1,0))) -> 0 | P13: =IF(M13="",0,IF(M13>L13,3,IF(M13=L13,1,0))) -> 0
B14: pts | C14: g.f. | D14: g.s. | E14: diff. | F14: fantaPts
A15: EVRIBADI | B15: =$P$3+$P$8+$P$12 -> 3 | C15: =IF($M$3="",0,$M$3)+IF($M$8="",0,$M$8)+IF($M$12="",0,$M$12) -> 2 | D15: =IF($L$3="",0,$L$3)+IF($L$8="",0,$L$8)+IF($L$12="",0,$L$12) -> 1 | E15: =C15-D15 -> 1 | F15: ='1° GIORNATA'!M17+'2° GIORNATA'!M17+'3° GIORNATA'!D17 -> 72.5 | G15: A1 | N15: 1
A16: INTERFOGAT | B16: =$P$2+$O$8+$P$13 -> 1 | C16: =IF($M$2="",0,$M$2)+IF($L$8="",0,$L$8)+IF($M$13="",0,$M$13) -> 1 | D16: =IF($L$2="",0,$L$2)+IF($M$8="",0,$M$8)+IF($L$13="",0,$L$13) -> 1 | E16: =C16-D16 -> 0 | F16: ='1° GIORNATA'!D17+'2° GIORNATA'!K17+'3° GIORNATA'!M17 -> 67.5 | G16: A2 | N16: 2
A17: NEDVED 11 | B17: =$O$2+$O$7+$O$12 -> 1 | C17: =IF($L$2="",0,$L$2)+IF($L$7="",0,$L$7)+IF($L$12="",0,$L$12) -> 1 | D17: =IF($M$2="",0,$M$2)+IF($M$7="",0,$M$7)+IF($M$12="",0,$M$12) -> 1 | E17: =C17-D17 -> 0 | F17: ='1° GIORNATA'!B17+'2° GIORNATA'!B17+'3° GIORNATA'!B17 -> 66 | G17: A3 | N17: 3
A18: SKIACCIAK MOSCA | B18: =$O$3+$P$7+$O$13 -> 0 | C18: =IF($L$3="",0,$L$3)+IF($M$7="",0,$M$7)+IF($L$13="",0,$L$13) -> 1 | D18: =IF($M$3="",0,$M$3)+IF($L$7="",0,$L$7)+IF($M$13="",0,$M$13) -> 2 | E18: =C18-D18 -> -1 | F18: ='1° GIORNATA'!K17+'2° GIORNATA'!D17+'3° GIORNATA'!K17 -> 69 | G18: A4 | N18: 4
A27: GIRONE B | J27: 1° GIORNATA
J28: =A31 -> CS RIPOSA | K28: =A32 -> SOLO PISA 1909 | L28: =IF('1° GIORNATA'!$B$46=0,"",'1° GIORNATA'!$B$34) -> 1 | M28: =IF('1° GIORNATA'!$D$46=0,"",'1° GIORNATA'!$D$34) -> 2 | O28: =IF(L28="",0,IF(L28>M28,3,IF(L28=M28,1,0))) -> 0 | P28: =IF(M28="",0,IF(M28>L28,3,IF(M28=L28,1,0))) -> 3
A29: SQUADRE | J29: =A33 -> MOJITO FC | K29: =A34 -> FC MARCELLONA | L29: =IF('1° GIORNATA'!$K$46=0,"",'1° GIORNATA'!$K$34) -> 0 | M29: =IF('1° GIORNATA'!$M$46=0,"",'1° GIORNATA'!$M$34) -> 1 | O29: =IF(L29="",0,IF(L29>M29,3,IF(L29=M29,1,0))) -> 0 | P29: =IF(M29="",0,IF(M29>L29,3,IF(M29=L29,1,0))) -> 3
A31: CS RIPOSA | B31: E
A32: SOLO PISA 1909 | B32: F | J32: 2° GIORNATA
A33: MOJITO FC | B33: G | J33: =A31 -> CS RIPOSA | K33: =A33 -> MOJITO FC | L33: =IF('2° GIORNATA'!$B$46=0,"",'2° GIORNATA'!$B$34) | M33: =IF('2° GIORNATA'!$D$46=0,"",'2° GIORNATA'!$D$34) | O33: =IF(L33="",0,IF(L33>M33,3,IF(L33=M33,1,0))) -> 0 | P33: =IF(M33="",0,IF(M33>L33,3,IF(M33=L33,1,0))) -> 0
A34: FC MARCELLONA | B34: H | J34: =A32 -> SOLO PISA 1909 | K34: =A34 -> FC MARCELLONA | L34: =IF('2° GIORNATA'!$K$46=0,"",'2° GIORNATA'!$K$34) | M34: =IF('2° GIORNATA'!$M$46=0,"",'2° GIORNATA'!$M$34) | O34: =IF(L34="",0,IF(L34>M34,3,IF(L34=M34,1,0))) -> 0 | P34: =IF(M34="",0,IF(M34>L34,3,IF(M34=L34,1,0))) -> 0
J37: 3° GIORNATA
A38: CLASSIFICA | J38: =A31 -> CS RIPOSA | K38: =A34 -> FC MARCELLONA | L38: =IF('3° GIORNATA'!$B$46=0,"",'3° GIORNATA'!$B$34) | M38: =IF('3° GIORNATA'!$D$46=0,"",'3° GIORNATA'!$D$34) | O38: =IF(L38="",0,IF(L38>M38,3,IF(L38=M38,1,0))) -> 0 | P38: =IF(M38="",0,IF(M38>L38,3,IF(M38=L38,1,0))) -> 0
J39: =A33 -> MOJITO FC | K39: =A32 -> SOLO PISA 1909 | L39: =IF('3° GIORNATA'!$K$46=0,"",'3° GIORNATA'!$K$34) | M39: =IF('3° GIORNATA'!$M$46=0,"",'3° GIORNATA'!$M$34) | O39: =IF(L39="",0,IF(L39>M39,3,IF(L39=M39,1,0))) -> 0 | P39: =IF(M39="",0,IF(M39>L39,3,IF(M39=L39,1,0))) -> 0
B40: pts | C40: g.f. | D40: g.s. | E40: diff. | F40: fantaPts
A41: SOLO PISA 1909 | B41: =$P$28+$O$34+$P$39 -> 3 | C41: =IF($M$28="",0,$M$28)+IF($L$34="",0,$L$34)+IF($M$39="",0,$M$39) -> 2 | D41: =IF($L$28="",0,$L$28)+IF($M$34="",0,$M$34)+IF($L$39="",0,$L$39) -> 1 | E41: =C41-D41 -> 1 | F41: ='1° GIORNATA'!D46+'2° GIORNATA'!K46+'3° GIORNATA'!M46 -> 72 | G41: B1 | N41: 1
A42: FC MARCELLONA | B42: =$P$29+$P$34+$P$38 -> 3 | C42: =IF($M$29="",0,$M$29)+IF($M$34="",0,$M$34)+IF($M$38="",0,$M$38) -> 1 | D42: =IF($L$29="",0,$L$29)+IF($L$34="",0,$L$34)+IF($L$38="",0,$L$38) -> 0 | E42: =C42-D42 -> 1 | F42: ='1° GIORNATA'!M46+'2° GIORNATA'!M46+'3° GIORNATA'!D46 -> 69.5 | G42: B2 | N42: 2
A43: CS RIPOSA | B43: =$O$28+$O$33+$O$38 -> 0 | C43: =IF($L$28="",0,$L$28)+IF($L$33="",0,$L$33)+IF($L$38="",0,$L$38) -> 1 | D43: =IF($M$28="",0,$M$28)+IF($M$33="",0,$M$33)+IF($M$38="",0,$M$38) -> 2 | E43: =C43-D43 -> -1 | F43: ='1° GIORNATA'!B46+'2° GIORNATA'!B46+'3° GIORNATA'!B46 -> 68.5 | G43: B3 | N43: 3
A44: MOJITO FC | B44: =$O$29+$P$33+$O$39 -> 0 | C44: =IF($L$29="",0,$L$29)+IF($M$33="",0,$M$33)+IF($L$39="",0,$L$39) -> 0 | D44: =IF($M$29="",0,$M$29)+IF($L$33="",0,$L$33)+IF($M$39="",0,$M$39) -> 1 | E44: =C44-D44 -> -1 | F44: ='1° GIORNATA'!K46+'2° GIORNATA'!D46+'3° GIORNATA'!K46 -> 64.5 | G44: B4 | N44: 4
A53: GIRONE C | J53: 1° GIORNATA
J54: =A57 -> TETTE BISCOTTATE | K54: =A58 -> AC DENTI | L54: =IF('1° GIORNATA'!$B$75=0,"",'1° GIORNATA'!$B$63) -> 2 | M54: =IF('1° GIORNATA'!$D$75=0,"",'1° GIORNATA'!$D$63) -> 0 | O54: =IF(L54="",0,IF(L54>M54,3,IF(L54=M54,1,0))) -> 3 | P54: =IF(M54="",0,IF(M54>L54,3,IF(M54=L54,1,0))) -> 0
A55: SQUADRE | J55: =A59 -> MAI NA GIOIA SC | K55: =A60 -> SC APPLAUSO | L55: =IF('1° GIORNATA'!$K$75=0,"",'1° GIORNATA'!$K$63) -> 2 | M55: =IF('1° GIORNATA'!$M$75=0,"",'1° GIORNATA'!$M$63) -> 2 | O55: =IF(L55="",0,IF(L55>M55,3,IF(L55=M55,1,0))) -> 1 | P55: =IF(M55="",0,IF(M55>L55,3,IF(M55=L55,1,0))) -> 1
A57: TETTE BISCOTTATE | B57: I
A58: AC DENTI | B58: J | J58: 2° GIORNATA
A59: MAI NA GIOIA SC | B59: K | J59: =A57 -> TETTE BISCOTTATE | K59: =A59 -> MAI NA GIOIA SC | L59: =IF('2° GIORNATA'!$B$75=0,"",'2° GIORNATA'!$B$63) | M59: =IF('2° GIORNATA'!$D$75=0,"",'2° GIORNATA'!$D$63) | O59: =IF(L59="",0,IF(L59>M59,3,IF(L59=M59,1,0))) -> 0 | P59: =IF(M59="",0,IF(M59>L59,3,IF(M59=L59,1,0))) -> 0
A60: SC APPLAUSO | B60: L | J60: =A58 -> AC DENTI | K60: =A60 -> SC APPLAUSO | L60: =IF('2° GIORNATA'!$K$75=0,"",'2° GIORNATA'!$K$63) | M60: =IF('2° GIORNATA'!$M$75=0,"",'2° GIORNATA'!$M$63) | O60: =IF(L60="",0,IF(L60>M60,3,IF(L60=M60,1,0))) -> 0 | P60: =IF(M60="",0,IF(M60>L60,3,IF(M60=L60,1,0))) -> 0
J63: 3° GIORNATA
A64: CLASSIFICA | J64: =A57 -> TETTE BISCOTTATE | K64: =A60 -> SC APPLAUSO | L64: =IF('3° GIORNATA'!$B$75=0,"",'3° GIORNATA'!$B$63) | M64: =IF('3° GIORNATA'!$D$75=0,"",'3° GIORNATA'!$D$63) | O64: =IF(L64="",0,IF(L64>M64,3,IF(L64=M64,1,0))) -> 0 | P64: =IF(M64="",0,IF(M64>L64,3,IF(M64=L64,1,0))) -> 0
J65: =A59 -> MAI NA GIOIA SC | K65: =A58 -> AC DENTI | L65: =IF('3° GIORNATA'!$K$75=0,"",'3° GIORNATA'!$K$63) | M65: =IF('3° GIORNATA'!$M$75=0,"",'3° GIORNATA'!$M$63) | O65: =IF(L65="",0,IF(L65>M65,3,IF(L65=M65,1,0))) -> 0 | P65: =IF(M65="",0,IF(M65>L65,3,IF(M65=L65,1,0))) -> 0
B66: pts | C66: g.f. | D66: g.s. | E66: diff. | F66: fantaPts
A67: TETTE BISCOTTATE | B67: =$O$54+$O$59+$O$64 -> 3 | C67: =IF($L$54="",0,$L$54)+IF($L$59="",0,$L$59)+IF($L$64="",0,$L$64) -> 2 | D67: =IF($M$54="",0,$M$54)+IF($M$59="",0,$M$59)+IF($M$64="",0,$M$64) -> 0 | E67: =C67-D67 -> 2 | F67: ='1° GIORNATA'!B75+'2° GIORNATA'!B75+'3° GIORNATA'!B75 -> 70 | G67: C1 | N67: 1
A68: SC APPLAUSO | B68: =$P$55+$P$60+$P$64 -> 1 | C68: =IF($M$55="",0,$M$55)+IF($M$60="",0,$M$60)+IF($M$64="",0,$M$64) -> 2 | D68: =IF($L$55="",0,$L$55)+IF($L$60="",0,$L$60)+IF($L$64="",0,$L$64) -> 2 | E68: =C68-D68 -> 0 | F68: ='1° GIORNATA'!M75+'2° GIORNATA'!M75+'3° GIORNATA'!D75 -> 71 | G68: C2 | N68: 2
A69: MAI NA GIOIA SC | B69: =$O$55+$P$59+$O$65 -> 1 | C69: =IF($L$55="",0,$L$55)+IF($M$59="",0,$M$59)+IF($L$65="",0,$L$65) -> 2 | D69: =IF($M$55="",0,$M$55)+IF($L$59="",0,$L$59)+IF($M$65="",0,$M$65) -> 2 | E69: =C69-D69 -> 0 | F69: ='1° GIORNATA'!K75+'2° GIORNATA'!D75+'3° GIORNATA'!K75 -> 70.5 | G69: C3 | N69: 3
A70: AC DENTI | B70: =$P$54+$O$60+$P$65 -> 0 | C70: =IF($M$54="",0,$M$54)+IF($L$60="",0,$L$60)+IF($M$65="",0,$M$65) -> 0 | D70: =IF($L$54="",0,$L$54)+IF($M$60="",0,$M$60)+IF($L$65="",0,$L$65) -> 2 | E70: =C70-D70 -> -2 | F70: ='1° GIORNATA'!D75+'2° GIORNATA'!K75+'3° GIORNATA'!M75 -> 65.5 | G70: C4 | N70: 4
A79: GIRONE D | J79: 1° GIORNATA
J80: =A83 -> FLYBEARD | K80: =A84 -> MABRAVIIISSIMI FC | L80: =IF('1° GIORNATA'!$B$104=0,"",'1° GIORNATA'!$B$92) -> 0 | M80: =IF('1° GIORNATA'!$D$104=0,"",'1° GIORNATA'!$D$92) -> 1 | O80: =IF(L80="",0,IF(L80>M80,3,IF(L80=M80,1,0))) -> 0 | P80: =IF(M80="",0,IF(M80>L80,3,IF(M80=L80,1,0))) -> 3
A81: SQUADRE | J81: =A85 -> TEAM AS TURBO | K81: =A86 -> EL TRINCHE CARLOCIVH | L81: =IF('1° GIORNATA'!$K$104=0,"",'1° GIORNATA'!$K$92) -> 0 | M81: =IF('1° GIORNATA'!$M$104=0,"",'1° GIORNATA'!$M$92) -> 3 | O81: =IF(L81="",0,IF(L81>M81,3,IF(L81=M81,1,0))) -> 0 | P81: =IF(M81="",0,IF(M81>L81,3,IF(M81=L81,1,0))) -> 3
A83: FLYBEARD | B83: M
A84: MABRAVIIISSIMI FC | B84: N | J84: 2° GIORNATA
A85: TEAM AS TURBO | B85: O | J85: =A83 -> FLYBEARD | K85: =A85 -> TEAM AS TURBO | L85: =IF('2° GIORNATA'!$B$104=0,"",'2° GIORNATA'!$B$92) | M85: =IF('2° GIORNATA'!$D$104=0,"",'2° GIORNATA'!$D$92) | O85: =IF(L85="",0,IF(L85>M85,3,IF(L85=M85,1,0))) -> 0 | P85: =IF(M85="",0,IF(M85>L85,3,IF(M85=L85,1,0))) -> 0
A86: EL TRINCHE CARLOCIVH | B86: P | J86: =A84 -> MABRAVIIISSIMI FC | K86: =A86 -> EL TRINCHE CARLOCIVH | L86: =IF('2° GIORNATA'!$K$104=0,"",'2° GIORNATA'!$K$92) | M86: =IF('2° GIORNATA'!$M$104=0,"",'2° GIORNATA'!$M$92) | O86: =IF(L86="",0,IF(L86>M86,3,IF(L86=M86,1,0))) -> 0 | P86: =IF(M86="",0,IF(M86>L86,3,IF(M86=L86,1,0))) -> 0
J89: 3° GIORNATA
A90: CLASSIFICA | J90: =A83 -> FLYBEARD | K90: =A86 -> EL TRINCHE CARLOCIVH | L90: =IF('3° GIORNATA'!$B$104=0,"",'3° GIORNATA'!$B$92) | M90: =IF('3° GIORNATA'!$D$104=0,"",'3° GIORNATA'!$D$92) | O90: =IF(L90="",0,IF(L90>M90,3,IF(L90=M90,1,0))) -> 0 | P90: =IF(M90="",0,IF(M90>L90,3,IF(M90=L90,1,0))) -> 0
J91: =A85 -> TEAM AS TURBO | K91: =A84 -> MABRAVIIISSIMI FC | L91: =IF('3° GIORNATA'!$K$104=0,"",'3° GIORNATA'!$K$92) | M91: =IF('3° GIORNATA'!$M$104=0,"",'3° GIORNATA'!$M$92) | O91: =IF(L91="",0,IF(L91>M91,3,IF(L91=M91,1,0))) -> 0 | P91: =IF(M91="",0,IF(M91>L91,3,IF(M91=L91,1,0))) -> 0
B92: pts | C92: g.f. | D92: g.s. | E92: diff. | F92: fantaPts
A93: EL TRINCHE CARLOCIVH | B93: =$P$81+$P$86+$P$90 -> 3 | C93: =IF($M$81="",0,$M$81)+IF($M$86="",0,$M$86)+IF($M$90="",0,$M$90) -> 3 | D93: =IF($L$81="",0,$L$81)+IF($L$86="",0,$L$86)+IF($L$90="",0,$L$90) -> 0 | E93: =C93-D93 -> 3 | F93: ='1° GIORNATA'!M104+'2° GIORNATA'!M104+'3° GIORNATA'!D104 -> 77 | G93: D1 | N93: 1
A94: MABRAVIIISSIMI FC | B94: =$P$80+$O$86+$P$91 -> 3 | C94: =IF($M$80="",0,$M$80)+IF($L$86="",0,$L$86)+IF($M$91="",0,$M$91) -> 1 | D94: =IF($L$80="",0,$L$80)+IF($M$86="",0,$M$86)+IF($L$91="",0,$L$91) -> 0 | E94: =C94-D94 -> 1 | F94: ='1° GIORNATA'!D104+'2° GIORNATA'!K104+'3° GIORNATA'!M104 -> 67.5 | G94: D2 | N94: 2
A95: FLYBEARD | B95: =$O$80+$O$85+$O$90 -> 0 | C95: =IF($L$80="",0,$L$80)+IF($L$85="",0,$L$85)+IF($L$90="",0,$L$90) -> 0 | D95: =IF($M$80="",0,$M$80)+IF($M$85="",0,$M$85)+IF($M$90="",0,$M$90) -> 1 | E95: =C95-D95 -> -1 | F95: ='1° GIORNATA'!B104+'2° GIORNATA'!B104+'3° GIORNATA'!B104 -> 64.5 | G95: D3 | N95: 3
A96: TEAM AS TURBO | B96: =$O$81+$P$85+$O$91 -> 0 | C96: =IF($L$81="",0,$L$81)+IF($M$85="",0,$M$85)+IF($L$91="",0,$L$91) -> 0 | D96: =IF($M$81="",0,$M$81)+IF($L$85="",0,$L$85)+IF($M$91="",0,$M$91) -> 3 | E96: =C96-D96 -> -3 | F96: ='1° GIORNATA'!K104+'2° GIORNATA'!D104+'3° GIORNATA'!K104 -> 58.5 | G96: D4 | N96: 4
A105: QUARTI DI FINALE
A107: =A15 -> EVRIBADI | B107: =A42 -> FC MARCELLONA | E107: =QUARTI!B5 -> 0 | F107: =QUARTI!D5 -> 0 | G107: E1
A108: =A67 -> TETTE BISCOTTATE | B108: =A94 -> MABRAVIIISSIMI FC | E108: =QUARTI!K5 -> 0 | F108: =QUARTI!M5 -> 0 | G108: E2
A109: =A16 -> INTERFOGAT | B109: =A41 -> SOLO PISA 1909 | E109: =QUARTI!B34 -> 0 | F109: =QUARTI!D34 -> 0 | G109: F1
A110: =A68 -> SC APPLAUSO | B110: =A93 -> EL TRINCHE CARLOCIVH | E110: =QUARTI!K34 -> 0 | F110: =QUARTI!M34 -> 0 | G110: F2
A112: SEMIFINALI
A114: =IF(E107>F107,A107,IF(E107=F107,"rigori",B107)) -> rigori | B114: =IF(E108>F108,A108,IF(E108=F108,"rigori",B108)) -> rigori | E114: =SEMIFINALE!B5 -> 0 | F114: =SEMIFINALE!D5 -> 0 | G114: G1
A115: =IF(E109>F109,A109,IF(E109=F109,"rigori",B109)) -> rigori | B115: =IF(E110>F110,A110,IF(E110=F110,"rigori",B110)) -> rigori | E115: =SEMIFINALE!K5 -> 0 | F115: =SEMIFINALE!M5 -> 0 | G115: G2
A118: FINALE
A120: =IF(E114>F114,A114,IF(E114=F114,"rigori",B114)) -> rigori | B120: =IF(E115>F115,A115,IF(E115=F115,"rigori",B115)) -> rigori | E120: =FINALE!B5 -> 0 | F120: =FINALE!D5 -> 0

Sheet 1° GIORNATA
A1: 1° GIORNATA | D1: ASSIST | E1: http://www.fantagazzetta.com/news/nazionali/11_06_2016/analisi-assist---speciale-europei-2016-prima-giornata-226134
A3: GIRONE A
A5: =TABELLONE!J2 -> NEDVED 11 | B5: =IF(B17<66,0,IF(B17<70,1,IF(B17<74,2,IF(B17<78,3,IF(B17<82,4,IF(B17<86,5,IF(B17<90,6,IF(B17<94,7,IF(B17<98,8,IF(B17<101,9,10)))))))))) -> 1 | C5: =TABELLONE!K2 -> INTERFOGAT | D5: =IF(D17<66,0,IF(D17<70,1,IF(D17<74,2,IF(D17<78,3,IF(D17<82,4,IF(D17<86,5,IF(D17<90,6,IF(D17<94,7,IF(D17<98,8,IF(D17<101,9,10)))))))))) -> 1 | J5: =TABELLONE!J3 -> SKIACCIAK MOSCA | K5: =IF(K17<66,0,IF(K17<70,1,IF(K17<74,2,IF(K17<78,3,IF(K17<82,4,IF(K17<86,5,IF(K17<90,6,IF(K17<94,7,IF(K17<98,8,IF(K17<101,9,10)))))))))) -> 1 | L5: =TABELLONE!K3 -> EVRIBADI | M5: =IF(M17<66,0,IF(M17<70,1,IF(M17<74,2,IF(M17<78,3,IF(M17<82,4,IF(M17<86,5,IF(M17<90,6,IF(M17<94,7,IF(M17<98,8,IF(M17<101,9,10)))))))))) -> 2
A6: SPAGNA | B6: 6 | C6: AUSTRIA | D6: 4.5 | J6: ISLANDA | K6: 5.5 | L6: UNGHERIA | M6: 6.5
A7: HECTOR | B7: 6 | C7: HINTEREGGER | D7: 5 | J7: BOATENG | K7: 6.5 | L7: BARZAGLI | M7: 6.5
A8: PEPE | B8: 5.5 | C8: HOWEDES | D8: 5.5 | J8: SRNA | K8: 6.5 | L8: BONUCCI | M8: 8
A9: VERTONGHEN | B9: 5 | C9: GUNTER | D9: 6.5 | J9: RICARDO RODRIGUEZ | K9: 6.5 | L9: SMALLING | M9: 5.5
A10: HUBOCAN | B10: 6.5 | C10: DRAXLER | D10: 6 | F10: Assist: | J10: MATUIDI | K10: 5.5 | L10: DE ROSSI | M10: 6
A11: SANCHES | B11: 5.5 | C11: FLORENZI | D11: 6.5 | F11: Payet | J11: QUARESMA | K11: 6 | L11: JOAO MOUTINHO | M11: 5.5
A12: CARVALHO | B12: 5.5 | C12: HARNIK | D12: 5 | F12: Shaqiri | J12: KOKE | K12: 10 | L12: KROOS | M12: 7.5
A13: INIESTA | B13: 8.5 | C13: GROSICKI | D13: 6.5 | F13: Ramsey | J13: BERHAMI | K13: 5.5 | L13: POGBA | M13: 5.5
A14: DZSUDZSAK | B14: 6.5 | C14: MANDZUKIC | D14: 6 | F14: Błaszczykowski | J14: GRIEZMANN | K14: 5.5 | L14: ROBSON-KANU | M14: 10
A15: CRISTIANO RONALDO | B15: 5.5 | C15: PEDRO | D15: 6 | F15: Kroos | J15: SIGTHORSSON | K15: 6 | L15: DZYUBA | M15: 6.5
A16: KOKORIN | B16: 5.5 | C16: NANI | D16: 10 | F16: Ozil | J16: CIKALLESHI | K16: 5.5 | L16: SEFEROVIC | M16: 5
B17: =SUM(B6:B16) -> 66 | D17: =SUM(D6:D16) -> 67.5 | F17: Iniesta | K17: =SUM(K6:K16) -> 69 | M17: =SUM(M6:M16) -> 72.5
A18: PANCHINA | C18: PANCHINA | F18: Coleman | J18: PANCHINA | L18: PANCHINA
A19: SPAGNA | B19: 6 | C19: AUSTRIA | D19: 4.5 | F19: Bonucci | J19: ISLANDA | K19: 5.5 | L19: UNGHERIA | M19: 6.5
A20: OLSSON | B20: 6.5 | C20: DENAYER | D20: sv | F20: Candreva | J20: KLEIN | K20: 6 | L20: MAVRAJ | M20: 5.5
A21: KEOGH | B21: sv | C21: SKULASON | D21: 6 | F21: Mak | J21: GUERRIERO | K21: 6 | L21: LIMBERSKYI | M21: 6
A22: GONUL | B22: 5.5 | C22: MACZYNSKI | D22: 6.5 | F22: Schennikov | J22: KAYA | K22: sv | L22: IGNASHEVICH | M22: 6.5
A23: CARRASCO | B23: 5.5 | C23: HENDERSON | D23: sv | F23: Priskin | J23: ADRIEN SILVA | K23: sv | L23: T.MOTTA | M23: 5.5
A24: YARMOLENKO | B24: 6.5 | C24: MILNER | D24: sv | F24: Andrè Gomes | J24: HILJEMARK | K24: sv | L24: DOCKAL | M24: sv
A25: GLUSHAKOV | B25: 6.5 | C25: BAUMGARTLINGER | D25: 6.5 | F25: Gudmundsson | J25: KING | K25: sv | L25: ROTAN | M25: sv
A26: SCHURRLE | B26: sv | C26: EDER | D26: sv | J26: DIER | K26: 10 | L26: SZALAI | M26: 9.5
A27: SANE | B27: sv | C27: NEMEC | D27: 6 | J27: BENTEKE | K27: sv | L27: NEMETH | M27: 6
A28: BATSHUAYI | B28: sv | C28: WASHINGTON | D28: 6 | J28: NIKOLIC | K28: sv | L28: PRISKIN | M28: 7.5
A32: GIRONE B
A34: =TABELLONE!J28 -> CS RIPOSA | B34: =IF(B46<66,0,IF(B46<70,1,IF(B46<74,2,IF(B46<78,3,IF(B46<82,4,IF(B46<86,5,IF(B46<90,6,IF(B46<94,7,IF(B46<98,8,IF(B46<101,9,10)))))))))) -> 1 | C34: =TABELLONE!K28 -> SOLO PISA 1909 | D34: =IF(D46<66,0,IF(D46<70,1,IF(D46<74,2,IF(D46<78,3,IF(D46<82,4,IF(D46<86,5,IF(D46<90,6,IF(D46<94,7,IF(D46<98,8,IF(D46<101,9,10)))))))))) -> 2 | J34: =TABELLONE!J29 -> MOJITO FC | K34: =IF(K46<66,0,IF(K46<70,1,IF(K46<74,2,IF(K46<78,3,IF(K46<82,4,IF(K46<86,5,IF(K46<90,6,IF(K46<94,7,IF(K46<98,8,IF(K46<101,9,10)))))))))) -> 0 | L34: =TABELLONE!K29 -> FC MARCELLONA | M34: =IF(M46<66,0,IF(M46<70,1,IF(M46<74,2,IF(M46<78,3,IF(M46<82,4,IF(M46<86,5,IF(M46<90,6,IF(M46<94,7,IF(M46<98,8,IF(M46<101,9,10)))))))))) -> 1
A35: ITALIA | B35: 6.5 | C35: CROAZIA | D35: 6 | J35: FRANCIA | K35: 5.5 | L35: SVIZZERA | M35: 7
A36: MCLAUGHLIN | B36: 6 | C36: ERKIN | D36: 5.5 | J36: LICHSTEINER | K36: 5.5 | L36: KOSCIELNY | M36: 5.5
A37: PAZDAN | B37: 6 | C37: ALDERWEIRELD | D37: 4.5 | J37: HUMMELS | K37: 6 | L37: CAHILL | M37: 5.5
A38: SMOLINKOV | B38: 6.5 | C38: ROSE | D38: 5.5 | J38: GLIK | K38: 6.5 | L38: DJOUROU | M38: 5.5
A39: LENJANI | B39: 6.5 | C39: PAYET | D39: 12 | J39: KADAR | K39: 6.5 | L39: WEISS | M39: 5.5
A40: NAINGGOLAN | B40: 5.5 | C40: KANTÉ | D40: 6 | J40: CANDREVA | K40: 8 | L40: FELLAINI | M40: 6
A41: KEDHIRA | B41: 6.5 | C41: WITSEL | D41: 5.5 | J41: XHAKA | K41: 6 | L41: MODRIC | M41: 10.5
A42: ROSICKY | B42: 6 | C42: DAVID SILVA | D42: 6.5 | J42: ARDA TURAN | K42: 5.5 | L42: DZEMAILI | M42: 6.5
A43: KONOPLYANKA | B43: 6 | C43: HOOLAHAN | D43: 10 | J43: BROZOVIC | K43: 5.5 | L43: GOTZE | M43: 5.5
A44: ROONEY | B44: 6.5 | C44: KANE | D44: 5.5 | J44: LUKAKU | K44: 4 | L44: VARDY | M44: 7
A45: IMMOBILE | B45: 6.5 | C45: BERG | D45: 5 | J45: GUIDETTI | K45: 5.5 | L45: NOLITO | M45: 5
B46: =SUM(B35:B45) -> 68.5 | D46: =SUM(D35:D45) -> 72 | K46: =SUM(K35:K45) -> 64.5 | M46: =SUM(M35:M45) -> 69.5
A47: PANCHINA | C47: PANCHINA | J47: PANCHINA | L47: PANCHINA
A48: ITALIA | B48: 6.5 | C48: CROAZIA | D48: 6 | J48: FRANCIA | K48: 5.5 | L48: SVIZZERA | M48: 7
A49: PEKARIK | B49: 5.5 | C49: SHEVSHUK | D49: 5.5 | J49: GRANQVIST | K49: 6 | L49: VIDA | M49: 6
A50: SIVOK | B50: 6.5 | C50: RAKITSKY | D50: 6 | J50: EVANS | K50: 6.5 | L50: TOPAL | M50: 5.5
A51: LANG | B51: 6 | J51: MATEL | K51: sv | L51: WAWRZYNIAK | M51: sv
A52: PECOVSKY | B52: sv | C52: ROSHI | D52: 5.5 | J52: THIAGO ALCANTARA | K52: 5.5 | L52: EKDAL | M52: sv
A53: KUCKA | B53: 5.5 | C53: HALFREDSON | D53: sv | J53: DARIDA | K53: 5.5 | L53: STURARO | M53: sv
A54: XHAKA T. | B54: 6 | C54: SISSOKO | D54: sv | J54: GARMASH | K54: sv | L54: BJARNASON | M54: 9.5
A55: EDER | B55: 5 | C55: COMAN | D55: 6 | J55: ORIGI | K55: 5.5 | L55: GOLOVIN | M55: 5.5
A56: KESERU | B56: sv | C56: STURRIDGE | D56: sv | J56: MURPHY | K56: sv | L56: BODVARSSON | M56: 7
A57: NECID | B57: 5 | C57: VAZQUEZ | D57: sv | J57: SKODA | K57: sv | L57: LAFATA | M57: 5
A61: GIRONE C
A63: =TABELLONE!J54 -> TETTE BISCOTTATE | B63: =IF(B75<66,0,IF(B75<70,1,IF(B75<74,2,IF(B75<78,3,IF(B75<82,4,IF(B75<86,5,IF(B75<90,6,IF(B75<94,7,IF(B75<98,8,IF(B75<101,9,10)))))))))) -> 2 | C63: =TABELLONE!K54 -> AC DENTI | D63: =IF(D75<66,0,IF(D75<70,1,IF(D75<74,2,IF(D75<78,3,IF(D75<82,4,IF(D75<86,5,IF(D75<90,6,IF(D75<94,7,IF(D75<98,8,IF(D75<101,9,10)))))))))) -> 0 | J63: =TABELLONE!J55 -> MAI NA GIOIA SC | K63: =IF(K75<66,0,IF(K75<70,1,IF(K75<74,2,IF(K75<78,3,IF(K75<82,4,IF(K75<86,5,IF(K75<90,6,IF(K75<94,7,IF(K75<98,8,IF(K75<101,9,10)))))))))) -> 2 | L63: =TABELLONE!K55 -> SC APPLAUSO | M63: =IF(M75<66,0,IF(M75<70,1,IF(M75<74,2,IF(M75<78,3,IF(M75<82,4,IF(M75<86,5,IF(M75<90,6,IF(M75<94,7,IF(M75<98,8,IF(M75<101,9,10)))))))))) -> 2
A64: INGHILTERRA | B64: 4.5 | C64: PORTOGALLO | D64: 5 | J64: TURCHIA | K64: 4 | L64: GERMANIA | M64: 7.5
A65: SERGIO RAMOS | B65: 6 | C65: RAMI | D65: 5.5 | J65: CHIELLINI | K65: 6 | L65: JORDI ALBA | M65: 6
A66: CORLUKA | B66: 7 | C66: PISZCZEK | D66: 6 | J66: SAGNA | K66: 5.5 | L66: ELISEU | M66: 5
A67: COLEMAN | B67: 7.5 | C67: LINDELOF | D67: 5.5 | J67: VRSALJKO | K67: 5.5 | L67: TAYLOR | M67: 6
A68: OZIL | B68: 7 | C68: KOVACIC | D68: 6 | J68: BEREZUTSKI V. | K68: 10 | L68: LUSTIG | M68: 5.5
A69: SIGURDSSON | B69: 6.5 | C69: JOAO MARIO | D69: 6 | J69: FABREGAS | K69: 6 | L69: PERISIC | M69: 7
A70: RAMSEY | B70: 8 | C70: SHATOV | D70: 5 | J70: RAKITIC | K70: 6.5 | L70: BUSQUETS | M70: 6
A71: JUNOZOVIC | B71: 6 | C71: CALHANOGU | D71: 5 | J71: STANCIU | K71: 5.5 | L71: GIACCHERINI | M71: 10
A72: OZYAKUP | B72: 6.5 | C72: ARNAUTOVIC | D72: 6.5 | J72: IBRAHIMOVIC | K72: 6 | L72: WILSHERE | M72: 6
A73: LEWANDOWSKY | B73: 6.5 | C73: MEHMEDI | D73: 6 | J73: PELLE’ | K73: 9.5 | L73: MULLER | M73: 6
A74: JANKO | B74: 4.5 | C74: GIROUD | D74: 9 | J74: KALINIC | K74: 6 | L74: LONG | M74: 6
B75: =SUM(B64:B74) -> 70 | D75: =SUM(D64:D74) -> 65.5 | K75: =SUM(K64:K74) -> 70.5 | M75: =SUM(M64:M74) -> 71
A76: PANCHINA | C76: PANCHINA | J76: PANCHINA | L76: PANCHINA
A77: INGHILTERRA | B77: 4.5 | C77: PORTOGALLO | D77: 5 | J77: TURCHIA | K77: 4 | L77: GERMANIA | M77: 7.5
A78: VIEIRINHA | B78: 5 | C78: CANA | D78: 3.5 | J78: BRUNO ALVES | K78: sv | L78: DURICA | M78: 5
A79: GRIGORE | B79: 6.5 | C79: BALTA | D79: 5.5 | J79: STRINIC | K79: 5.5 | L79: O'SHEA | M79: 6
A80: ARNASON | B80: 5.5 | C80: FIOLA | D80: 6 | J80: MUSTAFI | K80: 10 | L80: CATHCART | M80: 5.5
A81: POPA | B81: 5.5 | C81: KALLSTROM | D81: 6 | J81: BLASZCZYKOWSKI | K81: 8 | L81: MAK | M81: 7
A82: SVENTO | B82: 6 | C82: SURAL | D82: sv | J82: PAROLO | K82: 5.5 | L82: ALLEN | M82: 7
A83: CHIPCIU | B83: 6 | C83: TUFAN | D83: 6 | J83: BADELJ | K83: 6 | L83: WHELAN | M83: 5.5
A84: ZOZULYA | B84: 5.5 | C84: GIGNAC | D84: sv | J84: KEANE | K84: sv | L84: PJACA | M84: sv
A85: SMOLOV | B85: 5 | C85: HINTERSEER | D85: sv | J85: ANDONE | K85: 6 | L85: EL SHAARAWY | M85: sv
A86: OKOTIE | B86: 5 | L86: WARD | M86: 6
A90: GIRONE D
A92: =TABELLONE!J80 -> FLYBEARD | B92: =IF(B104<66,0,IF(B104<70,1,IF(B104<74,2,IF(B104<78,3,IF(B104<82,4,IF(B104<86,5,IF(B104<90,6,IF(B104<94,7,IF(B104<98,8,IF(B104<101,9,10)))))))))) -> 0 | C92: =TABELLONE!K80 -> MABRAVIIISSIMI FC | D92: =IF(D104<66,0,IF(D104<70,1,IF(D104<74,2,IF(D104<78,3,IF(D104<82,4,IF(D104<86,5,IF(D104<90,6,IF(D104<94,7,IF(D104<98,8,IF(D104<101,9,10)))))))))) -> 1 | J92: =TABELLONE!J81 -> TEAM AS TURBO | K92: =IF(K104<66,0,IF(K104<70,1,IF(K104<74,2,IF(K104<78,3,IF(K104<82,4,IF(K104<86,5,IF(K104<90,6,IF(K104<94,7,IF(K104<98,8,IF(K104<101,9,10)))))))))) -> 0 | L92: =TABELLONE!K81 -> EL TRINCHE CARLOCIVH | M92: =IF(M104<66,0,IF(M104<70,1,IF(M104<74,2,IF(M104<78,3,IF(M104<82,4,IF(M104<86,5,IF(M104<90,6,IF(M104<94,7,IF(M104<98,8,IF(M104<101,9,10)))))))))) -> 3
A93: RUSSIA | B93: 5.5 | C93: POLONIA | D93: 6.5 | J93: BELGIO | K93: 4.5 | L93: GALLES | M93: 5
A94: DARMIAN | B94: 5 | C94: JUANFRAN | D94: 6.5 | J94: EVRA | K94: 5 | L94: PIQUE | M94: 10
A95: RAT | B95: 5 | C95: SKRTEL | D95: 5 | J95: VERMAELEN | K95: 5 | L95: AGOLLI | M95: 6
A96: WALKER | B96: 6 | C96: DRAGOVIC | D96: 4 | J96: CHIRICHES | K96: 5 | L96: A.WILLIAMS | M96: 5.5
A97: FUCHS | B97: 6.5 | C97: HAZARD | D97: 6.5 | J97: HYSAJ | K97: 6.5 | L97: DE BRUYNE | M97: 4.5
A98: HAMSIK | B98: 6.5 | C98: SHAQIRI | D98: 6.5 | J98: ZIELINSKI | K98: 5 | L98: ALABA | M98: 6.5
A99: KRYCHOWIAK | B99: 6.5 | C99: SHIROKOV | D99: 6 | J99: SCHWEINSTEIGER | K99: 9.5 | L99: FORSBERG | M99: 6.5
A100: DANILO PEREIRA | B100: 5.5 | C100: WALTERS | D100: 6 | J100: BARKLEY | K100: 0 | L100: ANDRE GOMES | M100: 7.5
A101: ALLI | B101: 6 | C101: MILIK | D101: 10.5 | J101: MARIO GOMEZ | K101: 6 | L101: BALE | M101: 10
A102: MORATA | B102: 6 | C102: YILMAZ | D102: 5 | J102: ADURIZ | K102: 6 | L102: LAFFERTY | M102: 6
A103: ZAZA | B103: 6 | C103: DURIS | D103: 5 | J103: MERTENS | K103: 6 | L103: B.STANCU | M103: 9.5
B104: =SUM(B93:B103) -> 64.5 | D104: =SUM(D93:D103) -> 67.5 | K104: =SUM(K93:K103) -> 58.5 | M104: =SUM(M93:M103) -> 77
A105: PANCHINA | C105: PANCHINA | J105: PANCHINA | L105: PANCHINA
A106: RUSSIA | B106: 5.5 | C106: POLONIA | D106: 6.5 | J106: BELGIO | K106: 4.5 | L106: GALLES | M106: 5
A107: SUTTNER | B107: sv | C107: STONES | D107: sv | J107: FEDETSKIY | K107: 6 | L107: FONTE | M107: sv
A108: FILIP | B108: sv | C108: DAVIS | D108: 7 | J108: BERETZUSKY A. | K108: sv | L108: SCHAR | M108: 9
A109: LALLANA | B109: 5 | C109: SAEVARSSON | D109: 6 | L109: KADERABEK | M109: 6.5
A110: LARSSON | B110: 6 | C110: BERNARDESCHI | D110: sv | J110: SAMEDOV | K110: sv | L110: INAN | M110: 5.5
A111: RAFA SILVA | B111: sv | C111: STEPANENKO | D111: 5.5 | J111: TORJE | K111: sv | L111: MEMUSHAJ | M111: sv
A112: SCHNEIDERLIN | B112: sv | C112: GUNNARSON | D112: 7 | J112: SEN | K112: 5 | L112: NORWOOD | M112: 5.5
A113: MARTIAL | B113: 6 | C113: STERLING | D113: 5 | J113: KREJCI | K113: sv | L113: FINNBOGASSON | M113: sv
A114: TOSUN | B114: 4.5 | C114: INSIGNE | D114: sv | J114: EMBOLO | K114: 6 | L114: BALAJ | M114: sv
...

Sheet 2° GIORNATA
A1: 2° GIORNATA
A3: GIRONE A
A5: =TABELLONE!J7 -> NEDVED 11 | B5: =IF(B17<66,0,IF(B17<70,1,IF(B17<74,2,IF(B17<78,3,IF(B17<82,4,IF(B17<86,5,IF(B17<90,6,IF(B17<94,7,IF(B17<98,8,IF(B17<101,9,10)))))))))) -> 0 | C5: =TABELLONE!K7 -> SKIACCIAK MOSCA | D5: =IF(D17<66,0,IF(D17<70,1,IF(D17<74,2,IF(D17<78,3,IF(D17<82,4,IF(D17<86,5,IF(D17<90,6,IF(D17<94,7,IF(D17<98,8,IF(D17<101,9,10)))))))))) -> 0 | J5: =TABELLONE!J8 -> INTERFOGAT | K5: =IF(K17<66,0,IF(K17<70,1,IF(K17<74,2,IF(K17<78,3,IF(K17<82,4,IF(K17<86,5,IF(K17<90,6,IF(K17<94,7,IF(K17<98,8,IF(K17<101,9,10)))))))))) -> 0 | L5: =TABELLONE!K8 -> EVRIBADI | M5: =IF(M17<66,0,IF(M17<70,1,IF(M17<74,2,IF(M17<78,3,IF(M17<82,4,IF(M17<86,5,IF(M17<90,6,IF(M17<94,7,IF(M17<98,8,IF(M17<101,9,10)))))))))) -> 0
A6: SPAGNA
A7: HECTOR
A8: PEPE
A9: VERTONGHEN
A10: SANCHES
A11: INIESTA
A12: YARMOLENKO
A13: DZSUDZSAK
A14: CR7
A15: KOKORIN
A16: SCHURRLE
B17: =SUM(B6:B16) -> 0 | D17: =SUM(D6:D16) -> 0 | K17: =SUM(K6:K16) -> 0 | M17: =SUM(M6:M16) -> 0
A18: PANCHINA | C18: PANCHINA | J18: PANCHINA | L18: PANCHINA
A19: SPAGNA
A20: OLSSON
A21: GONUL
A22: CARRASCO
A23: CARVALHO
A24: GLUSHAKOV
A25: DEMBELE
A26: SANE
A27: BATSHUAYI
A28: COP
A32: GIRONE B
A34: =TABELLONE!J33 -> CS RIPOSA | B34: =IF(B46<66,0,IF(B46<70,1,IF(B46<74,2,IF(B46<78,3,IF(B46<82,4,IF(B46<86,5,IF(B46<90,6,IF(B46<94,7,IF(B46<98,8,IF(B46<101,9,10)))))))))) -> 0 | C34: =TABELLONE!K33 -> MOJITO FC | D34: =IF(D46<66,0,IF(D46<70,1,IF(D46<74,2,IF(D46<78,3,IF(D46<82,4,IF(D46<86,5,IF(D46<90,6,IF(D46<94,7,IF(D46<98,8,IF(D46<101,9,10)))))))))) -> 0 | J34: =TABELLONE!J34 -> SOLO PISA 1909 | K34: =IF(K46<66,0,IF(K46<70,1,IF(K46<74,2,IF(K46<78,3,IF(K46<82,4,IF(K46<86,5,IF(K46<90,6,IF(K46<94,7,IF(K46<98,8,IF(K46<101,9,10)))))))))) -> 0 | L34: =TABELLONE!K34 -> FC MARCELLONA | M34: =IF(M46<66,0,IF(M46<70,1,IF(M46<74,2,IF(M46<78,3,IF(M46<82,4,IF(M46<86,5,IF(M46<90,6,IF(M46<94,7,IF(M46<98,8,IF(M46<101,9,10)))))))))) -> 0
B46: =SUM(B35:B45) -> 0 | D46: =SUM(D35:D45) -> 0 | K46: =SUM(K35:K45) -> 0 | M46: =SUM(M35:M45) -> 0
A47: PANCHINA | C47: PANCHINA | J47: PANCHINA | L47: PANCHINA
A61: GIRONE C
A63: =TABELLONE!J59 -> TETTE BISCOTTATE | B63: =IF(B75<66,0,IF(B75<70,1,IF(B75<74,2,IF(B75<78,3,IF(B75<82,4,IF(B75<86,5,IF(B75<90,6,IF(B75<94,7,IF(B75<98,8,IF(B75<101,9,10)))))))))) -> 0 | C63: =TABELLONE!K59 -> MAI NA GIOIA SC | D63: =IF(D75<66,0,IF(D75<70,1,IF(D75<74,2,IF(D75<78,3,IF(D75<82,4,IF(D75<86,5,IF(D75<90,6,IF(D75<94,7,IF(D75<98,8,IF(D75<101,9,10)))))))))) -> 0 | J63: =TABELLONE!J60 -> AC DENTI | K63: =IF(K75<66,0,IF(K75<70,1,IF(K75<74,2,IF(K75<78,3,IF(K75<82,4,IF(K75<86,5,IF(K75<90,6,IF(K75<94,7,IF(K75<98,8,IF(K75<101,9,10)))))))))) -> 0 | L63: =TABELLONE!K60 -> SC APPLAUSO | M63: =IF(M75<66,0,IF(M75<70,1,IF(M75<74,2,IF(M75<78,3,IF(M75<82,4,IF(M75<86,5,IF(M75<90,6,IF(M75<94,7,IF(M75<98,8,IF(M75<101,9,10)))))))))) -> 0
B75: =SUM(B64:B74) -> 0 | D75: =SUM(D64:D74) -> 0 | K75: =SUM(K64:K74) -> 0 | M75: =SUM(M64:M74) -> 0
A76: PANCHINA | C76: PANCHINA | J76: PANCHINA | L76: PANCHINA
A90: GIRONE D
A92: =TABELLONE!J85 -> FLYBEARD | B92: =IF(B104<66,0,IF(B104<70,1,IF(B104<74,2,IF(B104<78,3,IF(B104<82,4,IF(B104<86,5,IF(B104<90,6,IF(B104<94,7,IF(B104<98,8,IF(B104<101,9,10)))))))))) -> 0 | C92: =TABELLONE!K85 -> TEAM AS TURBO | D92: =IF(D104<66,0,IF(D104<70,1,IF(D104<74,2,IF(D104<78,3,IF(D104<82,4,IF(D104<86,5,IF(D104<90,6,IF(D104<94,7,IF(D104<98,8,IF(D104<101,9,10)))))))))) -> 0 | J92: =TABELLONE!J86 -> MABRAVIIISSIMI FC | K92: =IF(K104<66,0,IF(K104<70,1,IF(K104<74,2,IF(K104<78,3,IF(K104<82,4,IF(K104<86,5,IF(K104<90,6,IF(K104<94,7,IF(K104<98,8,IF(K104<101,9,10)))))))))) -> 0 | L92: =TABELLONE!K86 -> EL TRINCHE CARLOCIVH | M92: =IF(M104<66,0,IF(M104<70,1,IF(M104<74,2,IF(M104<78,3,IF(M104<82,4,IF(M104<86,5,IF(M104<90,6,IF(M104<94,7,IF(M104<98,8,IF(M104<101,9,10)))))))))) -> 0
A93: RUSSIA
A94: DARMIAN
A95: WALKER
A96: FUCHS
A97: HAMSIK
A98: KRYCHOWIAK
A99: DANILO PEREIRA
A100: ALLI
A101: LALLANA
A102: MORATA
A103: ZAZA
B104: =SUM(B93:B103) -> 0 | D104: =SUM(D93:D103) -> 0 | K104: =SUM(K93:K103) -> 0 | M104: =SUM(M93:M103) -> 0
A105: PANCHINA | C105: PANCHINA | J105: PANCHINA | L105: PANCHINA
A106: RUSSIA
A107: RAT
A108: SUTTNER
A109: FILIP
A110: LARSSON
A111: RAFA SILVA
A112: SCHNEIDERLIN
A113: MARTIAL
A114: TOSUN
A115: RASHFORD

Sheet 3° GIORNATA
A1: 3° GIORNATA
A3: GIRONE A
A5: =TABELLONE!J12 -> NEDVED 11 | B5: =IF(B17<66,0,IF(B17<70,1,IF(B17<74,2,IF(B17<78,3,IF(B17<82,4,IF(B17<86,5,IF(B17<90,6,IF(B17<94,7,IF(B17<98,8,IF(B17<101,9,10)))))))))) -> 0 | C5: =TABELLONE!K12 -> EVRIBADI | D5: =IF(D17<66,0,IF(D17<70,1,IF(D17<74,2,IF(D17<78,3,IF(D17<82,4,IF(D17<86,5,IF(D17<90,6,IF(D17<94,7,IF(D17<98,8,IF(D17<101,9,10)))))))))) -> 0 | J5: =TABELLONE!J13 -> SKIACCIAK MOSCA | K5: =IF(K17<66,0,IF(K17<70,1,IF(K17<74,2,IF(K17<78,3,IF(K17<82,4,IF(K17<86,5,IF(K17<90,6,IF(K17<94,7,IF(K17<98,8,IF(K17<101,9,10)))))))))) -> 0 | L5: =TABELLONE!K13 -> INTERFOGAT | M5: =IF(M17<66,0,IF(M17<70,1,IF(M17<74,2,IF(M17<78,3,IF(M17<82,4,IF(M17<86,5,IF(M17<90,6,IF(M17<94,7,IF(M17<98,8,IF(M17<101,9,10)))))))))) -> 0
B17: =SUM(B6:B16) -> 0 | D17: =SUM(D6:D16) -> 0 | K17: =SUM(K6:K16) -> 0 | M17: =SUM(M6:M16) -> 0
A18: PANCHINA | C18: PANCHINA | J18: PANCHINA | L18: PANCHINA
A32: GIRONE B
A34: =TABELLONE!J38 -> CS RIPOSA | B34: =IF(B46<66,0,IF(B46<70,1,IF(B46<74,2,IF(B46<78,3,IF(B46<82,4,IF(B46<86,5,IF(B46<90,6,IF(B46<94,7,IF(B46<98,8,IF(B46<101,9,10)))))))))) -> 0 | C34: =TABELLONE!K38 -> FC MARCELLONA | D34: =IF(D46<66,0,IF(D46<70,1,IF(D46<74,2,IF(D46<78,3,IF(D46<82,4,IF(D46<86,5,IF(D46<90,6,IF(D46<94,7,IF(D46<98,8,IF(D46<101,9,10)))))))))) -> 0 | J34: =TABELLONE!J39 -> MOJITO FC | K34: =IF(K46<66,0,IF(K46<70,1,IF(K46<74,2,IF(K46<78,3,IF(K46<82,4,IF(K46<86,5,IF(K46<90,6,IF(K46<94,7,IF(K46<98,8,IF(K46<101,9,10)))))))))) -> 0 | L34: =TABELLONE!K39 -> SOLO PISA 1909 | M34: =IF(M46<66,0,IF(M46<70,1,IF(M46<74,2,IF(M46<78,3,IF(M46<82,4,IF(M46<86,5,IF(M46<90,6,IF(M46<94,7,IF(M46<98,8,IF(M46<101,9,10)))))))))) -> 0
B46: =SUM(B35:B45) -> 0 | D46: =SUM(D35:D45) -> 0 | K46: =SUM(K35:K45) -> 0 | M46: =SUM(M35:M45) -> 0
A47: PANCHINA | C47: PANCHINA | J47: PANCHINA | L47: PANCHINA
A61: GIRONE C
A63: =TABELLONE!J64 -> TETTE BISCOTTATE | B63: =IF(B75<66,0,IF(B75<70,1,IF(B75<74,2,IF(B75<78,3,IF(B75<82,4,IF(B75<86,5,IF(B75<90,6,IF(B75<94,7,IF(B75<98,8,IF(B75<101,9,10)))))))))) -> 0 | C63: =TABELLONE!K64 -> SC APPLAUSO | D63: =IF(D75<66,0,IF(D75<70,1,IF(D75<74,2,IF(D75<78,3,IF(D75<82,4,IF(D75<86,5,IF(D75<90,6,IF(D75<94,7,IF(D75<98,8,IF(D75<101,9,10)))))))))) -> 0 | J63: =TABELLONE!J65 -> MAI NA GIOIA SC | K63: =IF(K75<66,0,IF(K75<70,1,IF(K75<74,2,IF(K75<78,3,IF(K75<82,4,IF(K75<86,5,IF(K75<90,6,IF(K75<94,7,IF(K75<98,8,IF(K75<101,9,10)))))))))) -> 0 | L63: =TABELLONE!K65 -> AC DENTI | M63: =IF(M75<66,0,IF(M75<70,1,IF(M75<74,2,IF(M75<78,3,IF(M75<82,4,IF(M75<86,5,IF(M75<90,6,IF(M75<94,7,IF(M75<98,8,IF(M75<101,9,10)))))))))) -> 0
B75: =SUM(B64:B74) -> 0 | D75: =SUM(D64:D74) -> 0 | K75: =SUM(K64:K74) -> 0 | M75: =SUM(M64:M74) -> 0
A76: PANCHINA | C76: PANCHINA | J76: PANCHINA | L76: PANCHINA
A90: GIRONE D
A92: =TABELLONE!J90 -> FLYBEARD | B92: =IF(B104<66,0,IF(B104<70,1,IF(B104<74,2,IF(B104<78,3,IF(B104<82,4,IF(B104<86,5,IF(B104<90,6,IF(B104<94,7,IF(B104<98,8,IF(B104<101,9,10)))))))))) -> 0 | C92: =TABELLONE!K90 -> EL TRINCHE CARLOCIVH | D92: =IF(D104<66,0,IF(D104<70,1,IF(D104<74,2,IF(D104<78,3,IF(D104<82,4,IF(D104<86,5,IF(D104<90,6,IF(D104<94,7,IF(D104<98,8,IF(D104<101,9,10)))))))))) -> 0 | J92: =TABELLONE!J91 -> TEAM AS TURBO | K92: =IF(K104<66,0,IF(K104<70,1,IF(K104<74,2,IF(K104<78,3,IF(K104<82,4,IF(K104<86,5,IF(K104<90,6,IF(K104<94,7,IF(K104<98,8,IF(K104<101,9,10)))))))))) -> 0 | L92: =TABELLONE!K91 -> MABRAVIIISSIMI FC | M92: =IF(M104<66,0,IF(M104<70,1,IF(M104<74,2,IF(M104<78,3,IF(M104<82,4,IF(M104<86,5,IF(M104<90,6,IF(M104<94,7,IF(M104<98,8,IF(M104<101,9,10)))))))))) -> 0
B104: =SUM(B93:B103) -> 0 | D104: =SUM(D93:D103) -> 0 | K104: =SUM(K93:K103) -> 0 | M104: =SUM(M93:M103) -> 0
A105: PANCHINA | C105: PANCHINA | J105: PANCHINA | L105: PANCHINA

Sheet QUARTI
A1: QUARTI DI FINALE
A3: TABELLONE ALTO
A5: =TABELLONE!A107 -> EVRIBADI | B5: =IF(B17<66,0,IF(B17<70,1,IF(B17<74,2,IF(B17<78,3,IF(B17<82,4,IF(B17<86,5,IF(B17<90,6,IF(B17<94,7,IF(B17<98,8,IF(B17<101,9,10)))))))))) -> 0 | C5: =TABELLONE!B107 -> FC MARCELLONA | D5: =IF(D17<66,0,IF(D17<70,1,IF(D17<74,2,IF(D17<78,3,IF(D17<82,4,IF(D17<86,5,IF(D17<90,6,IF(D17<94,7,IF(D17<98,8,IF(D17<101,9,10)))))))))) -> 0 | J5: =TABELLONE!A108 -> TETTE BISCOTTATE | K5: =IF(K17<66,0,IF(K17<70,1,IF(K17<74,2,IF(K17<78,3,IF(K17<82,4,IF(K17<86,5,IF(K17<90,6,IF(K17<94,7,IF(K17<98,8,IF(K17<101,9,10)))))))))) -> 0 | L5: =TABELLONE!B108 -> MABRAVIIISSIMI FC | M5: =IF(M17<66,0,IF(M17<70,1,IF(M17<74,2,IF(M17<78,3,IF(M17<82,4,IF(M17<86,5,IF(M17<90,6,IF(M17<94,7,IF(M17<98,8,IF(M17<101,9,10)))))))))) -> 0
B17: =SUM(B6:B16) -> 0 | D17: =SUM(D6:D16) -> 0 | K17: =SUM(K6:K16) -> 0 | M17: =SUM(M6:M16) -> 0
A18: PANCHINA | C18: PANCHINA | J18: PANCHINA | L18: PANCHINA
A32: TABELLONE BASSO
A34: =TABELLONE!A109 -> INTERFOGAT | B34: =IF(B46<66,0,IF(B46<70,1,IF(B46<74,2,IF(B46<78,3,IF(B46<82,4,IF(B46<86,5,IF(B46<90,6,IF(B46<94,7,IF(B46<98,8,IF(B46<101,9,10)))))))))) -> 0 | C34: =TABELLONE!B109 -> SOLO PISA 1909 | D34: =IF(D46<66,0,IF(D46<70,1,IF(D46<74,2,IF(D46<78,3,IF(D46<82,4,IF(D46<86,5,IF(D46<90,6,IF(D46<94,7,IF(D46<98,8,IF(D46<101,9,10)))))))))) -> 0 | J34: =TABELLONE!A110 -> SC APPLAUSO | K34: =IF(K46<66,0,IF(K46<70,1,IF(K46<74,2,IF(K46<78,3,IF(K46<82,4,IF(K46<86,5,IF(K46<90,6,IF(K46<94,7,IF(K46<98,8,IF(K46<101,9,10)))))))))) -> 0 | L34: =TABELLONE!B110 -> EL TRINCHE CARLOCIVH | M34: =IF(M46<66,0,IF(M46<70,1,IF(M46<74,2,IF(M46<78,3,IF(M46<82,4,IF(M46<86,5,IF(M46<90,6,IF(M46<94,7,IF(M46<98,8,IF(M46<101,9,10)))))))))) -> 0
B46: =SUM(B35:B45) -> 0 | D46: =SUM(D35:D45) -> 0 | K46: =SUM(K35:K45) -> 0 | M46: =SUM(M35:M45) -> 0
A47: PANCHINA | C47: PANCHINA | J47: PANCHINA | L47: PANCHINA

Sheet SEMIFINALE
A1: SEMIFINALE
G3: TABELLONE
A5: =TABELLONE!A114 -> rigori | B5: =IF(B17<66,0,IF(B17<70,1,IF(B17<74,2,IF(B17<78,3,IF(B17<82,4,IF(B17<86,5,IF(B17<90,6,IF(B17<94,7,IF(B17<98,8,IF(B17<101,9,10)))))))))) -> 0 | C5: =TABELLONE!B114 -> rigori | D5: =IF(D17<66,0,IF(D17<70,1,IF(D17<74,2,IF(D17<78,3,IF(D17<82,4,IF(D17<86,5,IF(D17<90,6,IF(D17<94,7,IF(D17<98,8,IF(D17<101,9,10)))))))))) -> 0 | J5: =TABELLONE!A115 -> rigori | K5: =IF(K17<66,0,IF(K17<70,1,IF(K17<74,2,IF(K17<78,3,IF(K17<82,4,IF(K17<86,5,IF(K17<90,6,IF(K17<94,7,IF(K17<98,8,IF(K17<101,9,10)))))))))) -> 0 | L5: =TABELLONE!B115 -> rigori | M5: =IF(M17<66,0,IF(M17<70,1,IF(M17<74,2,IF(M17<78,3,IF(M17<82,4,IF(M17<86,5,IF(M17<90,6,IF(M17<94,7,IF(M17<98,8,IF(M17<101,9,10)))))))))) -> 0
B17: =SUM(B6:B16) -> 0 | D17: =SUM(D6:D16) -> 0 | K17: =SUM(K6:K16) -> 0 | M17: =SUM(M6:M16) -> 0
A18: PANCHINA | C18: PANCHINA | J18: PANCHINA | L18: PANCHINA

Sheet FINALE
A1: FINALE
A3: TABELLONE
A5: =TABELLONE!A120 -> rigori | B5: =IF(B17<66,0,IF(B17<70,1,IF(B17<74,2,IF(B17<78,3,IF(B17<82,4,IF(B17<86,5,IF(B17<90,6,IF(B17<94,7,IF(B17<98,8,IF(B17<101,9,10)))))))))) -> 0 | C5: =TABELLONE!B120 -> rigori | D5: =IF(D17<66,0,IF(D17<70,1,IF(D17<74,2,IF(D17<78,3,IF(D17<82,4,IF(D17<86,5,IF(D17<90,6,IF(D17<94,7,IF(D17<98,8,IF(D17<101,9,10)))))))))) -> 0
B17: =SUM(B6:B16) -> 0 | D17: =SUM(D6:D16) -> 0
A18: PANCHINA | C18: PANCHINA

Sheet GIOCATORI
A1: Squadra | B1: Ruolo | D1: Nome | E1: $
A2: P | B2: BERISHA | C2: Etrit | D2: Albania | E2: 6 | F2: No
A3: P | B3: XOXHA | C3: Alban | D3: Albania | E3: 1 | F3: No
A4: P | B4: SHEHI | C4: Orges | D4: Albania | E4: 1 | F4: No
A5: D | B5: ALIJI | C5: Naser | D5: Albania | E5: 2 | F5: No
A6: D | B6: VESELI | C6: Frederic | D6: Albania | E6: 1 | F6: No
A7: C | B7: KUKELI | C7: Burim | D7: Albania | E7: 4 | F7: No
A8: C | B8: LILA | C8: Andi | D8: Albania | E8: 3 | F8: No
A9: C | B9: BASHA | C9: Migjen | D9: Albania | E9: 3 | F9: No
A10: C | B10: ABRASHI | C10: Amir | D10: Albania | E10: 2 | F10: No
A11: C | B11: KACE | C11: Ergys | D11: Albania | E11: 1 | F11: No
A12: D | B12: PROEDL | C12: Sebastian | D12: Austria | E12: 2 | F12: No
A13: D | B13: GARICS | C13: Gyoergy | D13: Austria | E13: 1 | F13: No
... A105: D | B105: AZPILICUETA | C105: Cesar | D105: Spagna | E105: 2 | F105: No
A106: C | B106: MIKEL SAN JOSE' | D106: Spagna | E106: 3 | F106: No
A107: C | B107: BRUNO SORIANO | D107: Spagna | E107: 1 | F107: No
A108: P | B108: ISAKSSON | C108: Andreas | D108: Svezia | E108: 8 | F108: No
A109: P | B109: OLSEN | C109: Robin | D109: Svezia | E109: 1 | F109: No
A110: P | B110: CALGREN | C110: Patrick | D110: Svezia | E110: 1 | F110: No
A111: D | B111: AUGUSTINSSON | C111: Ludwig | D111: Svezia | E111: 2 | F111: No
A112: D | B112: JOHANSSON | C112: Erik | D112: Svezia | E112: 1 | F112: No
A113: D | B113: JANSSON | C113: Pontus | D113: Svezia | E113: 1 | F113: No
A114: C | B114: ZENGIN | C114: Erkan | D114: Svezia | E114: 5 | F114: No
A115: C | B115: DURMAZ | C115: Jimmy | D115: Svezia | E115: 4 | F115: No
A116: C | B116: LEWICKI | C116: Oscar | D116: Svezia | E116: 3 | F116: No
A117: C | B117: WERNBLOOM | C117: Pontus | D117: Svezia | E117: 2 | F117: No
A118: D | B118: MOUBANDJE | C118: Francois | D118: Svizzera | E118: 3 | F118: No
A119: D | B119: VON BERGEN | C119: Steve | D119: Svizzera | E119: 1 | F119: No
... A151: A | B151: BODE | C151: Daniel | D151: Ungheria | E151: 1 | F151: No

Sheet applauso
A1: Squadra | B1: Leonardo Buti &
A3: Portiere | B3: Squadra
A4: GERMANIA | B4: GER
A6: Difensori
A7: ALABA | B7: SPA
A8: ELISEU | B8: POR
A9: CLYNE | B9: ING
A10: O'SHEA | B10: IRL
A11: LUSTIG | B11: SVE
A12: DURICA | B12: SLO
A13: TAYLOR | B13: GAL
A14: CATHCART | B14: IRN
A16: Centrocampisti
A17: PERISIC | B17: CRO
A18: GIACCHERINI | B18: ITA
A19: BUSQUETS | B19: SPA
A20: ALLEN | B20: GAL
A21: WILSHERE | B21: ING
A22: WHELAN | B22: IRL
A23: GUDMUNDSSON | B23: ISL
A24: MAK | B24: SLO
A26: Attaccanti
A27: PJACA | B27: CRO
A28: CHURCH | B28: GAL
A29: MULLER | B29: GER
A30: LONG | B30: IRL
A31: WARD | B31: IRN
A32: EL SHAARAWY | B32: ITA

Sheet Nedved11
A1: Squadra | B1: Marco Mannucci
A3: Portiere | B3: Squadra
A4: SPAGNA | B4: SPA
A6: Difensori
A7: VERTONGHEN | B7: BEL | D7: SPAGNA
A8: HECTOR | B8: GER | D8: HECTOR
A9: KEOGH | B9: IRL | D9: PEPE
A10: PEPE | B10: POR | D10: VERTONGHEN
A11: KADLEC | B11: REP | D11: SANCHES
A12: HUBOCAN | B12: SLO | D12: INIESTA
A13: OLSSON | B13: SVE | D13: YARMOLENKO
A14: GONUL | B14: TUR | D14: DZSUDZSAK
D15: CR7
A16: Centrocampisti | D16: KOKORIN
A17: DEMBELE' | B17: BEL | D17: SCHURRLE
A18: CARRASCO | B18: BEL
A19: CARVALHO | B19: POR | D19: SPAGNA
A20: SANCHES | B20: POR | D20: OLSSON
A21: GLUSHAKOV | B21: RUS | D21: GONUL
A22: INIESTA | B22: SPA | D22: CARRASCO
A23: YARMOLENKO | B23: UCR | D23: CARVALHO
A24: DZSUDZSAK | B24: UNG | D24: GLUSHAKOV
D25: SANE
A26: Attaccanti | D26: BATSHUAYI
A27: BATSHUAYI | B27: BEL | D27: COP
A28: COP | B28: CRO
A29: SCHURRLE | B29: GER
A30: SANE' | B30: GER
A31: CRISTIANO RONALDO | B31: POR
A32: KOKORIN | B32: RUS

Sheet ac denti
A1: Squadra | B1: Luca Serani
A3: Portiere | B3: Squadra
A4: PORTOGALLO | B4: POR
A6: Difensori
A7: CANA | B7: ALB
A8: UMTITI | B8: FRA
A9: RAMI | B9: FRA
A10: McAULEY | B10: IRN
A11: PISZCZEK | B11: POL
A12: LINDELOF | B12: SVE
A13: BALTA | B13: TUR
A14: FIOLA | B14: UNG
A16: Centrocampisti
A17: KOVACIC | B17: CRO
A18: JOAO MARIO | B18: POR
A19: SURAL | B19: REP
A20: SHATOV | B20: RUS
A21: KALLSTROM | B21: SVE
A22: CALHANOGU | B22: TUR
A23: TUFAN | B23: TUR
A24: GERA | B24: UNG
A26: Attaccanti
A27: ARNAUTOVIC | B27: AUS
A28: HINTERSEER | B28: AUS
A29: KRAMARIC | B29: CRO
A30: GIROUD | B30: FRA
A31: GIGNAC | B31: FRA
A32: MEHMEDI | B32: SVI

Sheet skiacciak
A1: Squadra | B1: Fabrizio Rapetti
A3: Portiere | B3: Squadra
A4: ISLANDA | B4: ISL
A6: Difensori
A7: KLEIN | B7: AUS
A8: SRNA | B8: CRO
A9: CHESTER | B9: GAL
A10: BOATENG | B10: GER
A11: GUERREIRO | B11: POR
A12: SAPUNARU | B12: ROM
A13: RODRIGUEZ | B13: SVI
A14: KAYA | B14: TUR
A16: Centrocampisti
A17: MATUIDI | B17: FRA
A18: KING | B18: GAL
A19: DIER | B19: ING
A20: QUARESMA | B20: POR
A21: SILVA | B21: POR
A22: KOKE | B22: SPA
A23: HILJEMARK | B23: SVE
A24: BEHRAMI | B24: SVI
A26: Attaccanti
A27: CIKALLESHI | B27: ALB
A28: BENTEKE | B28: BEL
A29: GRIEZMANN | B29: FRA
A30: SIGTHORSSON | B30: ISL
A31: SESTAK | B31: SLO
A32: NIKOLIC | B32: UNG

Sheet flybeard
A1: Squadra | B1: Luca Frongia & Federico Corradi
A3: Portiere | B3: Squadra
A4: RUSSIA | B4: RUS
A6: Difensori
A7: FUCHS | B7: AUS
A8: SUTTNER | B8: AUS
A9: CAN EMRE | B9: GER
A10: DARMIAN | B10: ITA
A11: RAT | B11: ROM
A12: FILIP | B12: ROM
A13: BELLERIN | B13: SPA
A14: WALKER | B14: ING
A16: Centrocampisti
A17: SCHNEIDERLIN | B17: FRA
A18: LALLANA | B18: ING
A19: ALLI | B19: ING
A20: KRYCHOWIAK | B20: POL
A21: PEREIRA | B21: POR
A22: RAFA SILVA | B22: POR
A23: HAMSIK | B23: SLO
A24: LARSSON | B24: SVE
A26: Attaccanti
A27: MARTIAL | B27: FRA
A28: RASHFORD | B28: ING
A29: GUDJOHNSEN | B29: ISL
A30: ZAZA | B30: ITA
A31: MORATA | B31: SPA
A32: TOSUN | B32: TUR

Sheet solopisa
A1: Squadra | B1: Marco Orcesi
A3: Portiere | B3: Squadra
A4: CROAZIA | B4: CRO
A6: Difensori
A7: ALDERWEIRELD | B7: BEL
A8: MANGALA | B8: FRA
A9: ROSE | B9: ING
A10: SOARES | B10: POR
A11: ERKIN | B11: TUR
A12: RAKITSKIY | B12: UCR
A13: SHEVCHUK | B13: UCR
A14: TAH | B14: GER
A16: Centrocampisti
A17: ROSHI | B17: ALB
A18: WITSEL | B18: BEL
A19: PAYET | B19: FRA
A20: KANTE' | B20: FRA
A21: SISSOKO | B21: FRA
A22: HOOLAHAN | B22: IRL
A23: HALLFREDSSON | B23: ISL
A24: SILVA | B24: SPA
A26: Attaccanti
A27: COMAN | B27: FRA
A28: PODOLSKI | B28: GER
A29: KANE | B29: ING
A30: STURRIDGE | B30: ING
A31: LUCAS VAZQUEZ | B31: SPA
A32: BERG | B32: SVE

Sheet mojito
A1: Squadra | B1: Nicolò Doveri
A3: Portiere | B3: Squadra
A4: FRANCIA | B4: FRA
A6: Difensori
A7: HUMMELS | B7: GER
A8: BERTRAND | B8: ING
A9: EVANS | B9: IRN
A10: GLIK | B10: POL
A11: MATEL | B11: ROM
A12: GRANQVIST | B12: SVE
A13: LICHTSTEINER | B13: SVI
A14: KADAR | B14: UNG
A16: Centrocampisti
A17: BROZOVIC | B17: CRO
A18: CANDREVA | B18: ITA
A19: DARIDA | B19: REP
A20: PAVELKA | B20: REP
A21: THIAGO ALCANTARA | B21: SPA
A22: XHAKA | B22: SVI
A23: TURAN ARDA | B23: TUR
A24: GARMASH | B24: UCR
A26: Attaccanti
A27: LUKAKU | B27: BEL
A28: ORIGI | B28: BEL
A29: MURPHY | B29: IRL
A30: SKODA | B30: REP
A31: GUIDETTI | B31: SVE
A32: DERDIYOK | B32: SVI

Sheet cs riposa
A1: Squadra | B1: Leonardo Berti & Matteo Serani
A3: Portiere | B3: Squadra
A4: ITALIA | B4: ITA
A6: Difensori
A7: WARD | B7: IRL
A8: McLAUGHLIN | B8: IRN
A9: DE SCIGLIO | B9: ITA
A10: PAZDAN | B10: POL
A11: SIVOK | B11: REP
A12: SMOLNIKOV | B12: RUS
A13: PEKARIK | B13: SLO
A14: LANG | B14: UNG
A16: Centrocampisti
A17: XHAKA T. | B17: ALB
A18: LENJANI | B18: ALB
A19: NAINGGOLAN | B19: BEL
A20: KHEDIRA | B20: GER
A21: ROSICKY | B21: REP
A22: KUCKA | B22: SLO
A23: PECOVSKY | B23: SLO
A24: KONOPLYANKA | B24: UCR
A26: Attaccanti
A27: ROONEY | B27: ING
A28: IMMOBILE | B28: ITA
A29: EDER | B29: ITA
A30: NECID | B30: REP
A31: KESERU | B31: ROM
A32: ALIBEC | B32: ROM

Sheet teamasturbo
A1: Squadra | B1: Enrico Cerrai
A3: Portiere | B3: Squadra
A4: BELGIO | B4: BEL
A6: Difensori
A7: EVRA | B7: FRA
A8: VERMAELEN | B8: BEL
A9: HYSAJ | B9: ALB
A10: CHIRICHES | B10: ROM
A11: FEDETSKIY | B11: UCR
A12: DIGNE | B12: FRA
A13: KOMBAROV | B13: RUS
A14: BEREZUTSKY A. | B14: RUS
A16: Centrocampisti
A17: VOLKAN SEN | B17: TUR
A18: BARKLEY | B18: ING
A19: SCHWEINSTEIGER | B19: GER
A20: ZIELINSKI | B20: POL
A21: TORJE | B21: ROM
A22: SAMEDOV | B22: RUS
A23: SKALAK | B23: REP
A24: KREJCI | B24: REP
A26: Attaccanti
A27: MARIO GOMEZ | B27: GER
A28: ADURIZ | B28: SPA
A29: EMBOLO | B29: SVI
A30: MERTENS | B30: BEL
A31: McGINN | B31: IRN
A32: GRIGG | B32: IRN

Sheet mainagioia
A1: Squadra | B1: Francesco Pucci
A3: Portiere | B3: Squadra
A4: TURCHIA | B4: TUR
A6: Difensori
A7: CHIELLINI | B7: ITA
A8: SAGNA | B8: FRA
A9: VRSALIKO | B9: CRO
A10: BERETZUSKY V. | B10: RUS
A11: BRUNO ALVES | B11: POR
A12: STRINIC | B12: CRO
A13: MUSTAFI | B13: GER
A14: GUZMICS | B14: UNG
A16: Centrocampisti
A17: FABREGAS | B17: SPA
A18: RAKITIC | B18: CRO
A19: BLASZCZYKOWSKI | B19: POL
A20: PAROLO | B20: ITA
A21: STANCIU | B21: ROM
A22: BADELJ | B22: CRO
A23: GASHI | B23: ALB
A24: STOCH | B24: SLO
A26: Attaccanti
A27: IBRAHIMOVIC | B27: SVE
A28: PELLE | B28: ITA
A29: KALINIC | B29: CRO
A30: KEANE | B30: IRL
A31: ANDONE | B31: ROM
A32: SELEZNEV | B32: UCR

Sheet tette biscottate
A1: Squadra | B1: Andrea Ammannati
A3: Portiere | B3: Squadra
A4: INGHILTERRA | B4: ING
A6: Difensori
A7: SERGIO RAMOS | B7: SPA
A8: CORLUKA | B8: CRO
A9: VIEIRINHA | B9: POR
A10: COLEMAN | B10: IRL
A11: GRIGORE | B11: ROM
A12: ARNASON | B12: ISL
A13: BARTRA | B13: SPA
A14: SCHILDENFELD | B14: CRO
A16: Centrocampisti
A17: OZIL | B17: GER
A18: SIGURDSSON | B18: ISL
A19: RAMSEY | B19: GAL
A20: JUNOZOVIC | B20: AUS
A21: POPA | B21: ROM
A22: OZYAKUP | B22: TUR
A23: SVENTO | B23: SLO
A24: CHIPCIU | B24: ROM
A26: Attaccanti
A27: LEWANDOWSKI | B27: POL
A28: JANKO | B28: AUS
A29: ZOZULYA | B29: UCR
A30: SMOLOV | B30: RUS
A31: OKOTIE | B31: AUS
A32: STEPINSKI | B32: POL

Sheet interfogat
A1: Squadra | B1: Luca Valli
A3: Portiere | B3: Squadra
A4: AUSTRIA | B4: AUS
A6: Difensori
A7: HOWEDES | B7: GER
A8: DENAYER | B8: BEL
A9: HINTEREGGER | B9: AUS
A10: GUNTER | B10: GAL
A11: JEDRZEJCZYK | B11: POL
A12: SKULASON | B12: ISL
A13: KHACHERIDI | B13: UCR
A14: PUDIL | B14: REP
A16: Centrocampisti
A17: DRAXLER | B17: GER
A18: FLORENZI | B18: ITA
A19: HARNIK | B19: AUS
A20: HENDERSON | B20: ING
A21: GROSICKI | B21: POL
A22: MILNER | B22: ING
A23: BAUMGARTLINGER | B23: AUS
A24: MACZYNSKI | B24: POL
A26: Attaccanti
A27: MANDZUKIC | B27: CRO
A28: PEDRO | B28: SPA
A29: NANI | B29: POR
A30: NEMEC | B30: SLO
A31: EDER | B31: POR
A32: WASHINGTON | B32: IRN

Sheet eltrince
A1: Squadra | B1: Andrea Martino & Mirko Forti
A3: Portiere | B3: Squadra
A4: GALLES | B4: GAL
A6: Difensori
A7: PIQUE | B7: SPA
A8: SCHAR | B8: SVI
A9: FONTE | B9: POR
A10: WILLIAMS | B10: GAL
A11: AGOLLI | B11: ALB
A12: KADERABEK | B12: REP
A13: AJETI | B13: ALB
A14: SALATA | B14: SLO
A16: Centrocampisti
A17: DE BRUYNE | B17: BEL
A18: ALABA | B18: AUS
A19: ANDRE GOMES | B19: POR
A20: INAN | B20: TUR
A21: MEMUSHAI | B21: ALB
A22: FORSBERG | B22: SVE
A23: CABAYE | B23: FRA
A24: NORWOOD | B24: IRN
A26: Attaccanti
A27: BALE | B27: GAL
A28: LAFFERTY | B28: IRN
A29: STANCU | B29: ROM
A30: FINNBOGASON | B30: ISL
A31: BALAJ | B31: ALB
A32: KUJOVIC | B32: SVE

Sheet marcellona
A1: Squadra | B1: Giovanni Aquino
A3: Portiere | B3: Squadra
A4: SVIZZERA | B4: SVI
A6: Difensori
A7: KOSCIELNY | B7: FRA
A8: CAHILL | B8: ING
A9: DJOUROU | B9: SVI
A10: VIDA | B10: CRO
A11: MEHMET TOPAL | B11: TUR
A12: SCHENNIKOV | B12: RUS
A13: WAWRZYNIAK | B13: POL
A14: SIGURDSSON | B14: ISL
A16: Centrocampisti
A17: MODRIC | B17: CRO
A18: FELLAINI | B18: BEL
A19: WEISS | B19: SLO
A20: DZEMAILI | B20: SVI
A21: BJARNASON | B21: ISL
A22: EKDAL | B22: SVE
A23: GOLOVIN | B23: RUS
A24: STURARO | B24: ITA
A26: Attaccanti
A27: GOTZE | B27: GER
A28: VARDY | B28: ING
A29: NOLITO | B29: SPA
A30: BODVARSSON | B30: ISL
A31: SADIKU | B31: ALB
A32: LAFATA | B32: REP

Sheet ma braviiissimi
A1: Squadra | B1: Stefano Caturegli
A3: Portiere | B3: Squadra
A4: POLONIA | B4: POL
A6: Difensori
A7: JUANFRAN | B7: SPA
A8: SKRTEL | B8: SLO
A9: DRAGOVIC | B9: AUS
A10: DAVIS | B10: GAL
A11: STONES | B11: ING
A12: SUCHY | B12: REP
A13: SAEVARSSON | B13: ISL
A14: OZBAYRAKH | B14: TUR
A16: Centrocampisti
A17: HAZARD | B17: BEL
A18: SHAQIRI | B18: SVI
A19: SHIROKOV | B19: RUS
A20: WALTERS | B20: IRL
A21: BERNARDESCHI | B21: ITA
A22: GUNNARSSON | B22: ISL
A23: ELEC | B23: UNG
A24: STEPANENKO | B24: UCR
A26: Attaccanti
A27: MILIK | B27: POL
A28: YILMAZ | B28: TUR
A29: STERLING | B29: ING
A30: INSIGNE | B30: ITA
A31: DURIS | B31: SLO
A32: VOKES | B32: GAL

Sheet evribadi
A1: Squadra | B1: Fabio Nepi
A3: Portiere | B3: Squadra
A4: UNGHERIA | B4: UNG
A6: Difensori
A7: BONUCCI | B7: ITA
A8: BARZAGLI | B8: ITA
A9: SMALLING | B9: ING
A10: IGNASHEVICH | B10: RUS
A11: BRADY | B11: IRL
A12: LIMBERSKY | B12: REP
A13: MAVRAJ | B13: ALB
A14: OGBONNA | B14: ITA
A16: Centrocampisti
A17: POGBA | B17: FRA
A18: KROOS | B18: GER
A19: JOAO MOUTINHO | B19: POR
A20: DE ROSSI | B20: ITA
A21: DOCKAL | B21: REP
A22: THIAGO MOTTA | B22: ITA
A23: ROTAN | B23: UCR
A24: GELSON FERNANDES | B24: SVI
A26: Attaccanti
A27: DZYUBA | B27: RUS
A28: SEFEROVIC | B28: SVI
A29: SZALAI | B29: UNG
A30: NEMETH | B30: UNG
A31: ROBSON KANU | B31: GAL
A32: PRISKIN | B32: UNG
