Workbook

Sheet TABELLONE
A1: GIRONE A | D1: ORDINE CHIAMATA SEMIFINALI | J1: 1° GIORNATA
D2: MC TOWN | F2: 236.5 | J2: =A5 -> EVRIBADI MC | K2: =A6 -> CSKA SCINA | L2: =IF('1° GIORNATA'!$B$17=0,"",'1° GIORNATA'!B5) -> 1 | M2: =IF('1° GIORNATA'!$D$17=0,"",'1° GIORNATA'!$D$5) -> 1 | O2: =IF(L2="",0,IF(L2>M2,3,IF(L2=M2,1,0))) -> 1 | P2: =IF(M2="",0,IF(M2>L2,3,IF(M2=L2,1,0))) -> 1
A3: SQUADRE | D3: CSKA SCINA | F3: 225.5 | J3: =A7 -> SCARSENAL | K3: =A8 -> INTERFOGAT | L3: =IF('1° GIORNATA'!$K$17=0,"",'1° GIORNATA'!$K$5) -> 1 | M3: =IF('1° GIORNATA'!$M$17=0,"",'1° GIORNATA'!$M$5) -> 1 | O3: =IF(L3="",0,IF(L3>M3,3,IF(L3=M3,1,0))) -> 1 | P3: =IF(M3="",0,IF(M3>L3,3,IF(M3=L3,1,0))) -> 1
D4: SKIACCIAK MOSCA | F4: 218.5
A5: EVRIBADI MC | B5: A | D5: INTERFOGAT | F5: 213.5
A6: CSKA SCINA | B6: B | J6: 2° GIORNATA
A7: SCARSENAL | B7: C | J7: =A5 -> EVRIBADI MC | K7: =A7 -> SCARSENAL | L7: =IF('2° GIORNATA'!$B$17=0,"",'2° GIORNATA'!B5) -> 7 | M7: =IF('2° GIORNATA'!$D$17=0,"",'2° GIORNATA'!$D$5) -> 2 | O7: =IF(L7="",0,IF(L7>M7,3,IF(L7=M7,1,0))) -> 3 | P7: =IF(M7="",0,IF(M7>L7,3,IF(M7=L7,1,0))) -> 0
A8: INTERFOGAT | B8: D | J8: =A6 -> CSKA SCINA | K8: =A8 -> INTERFOGAT | L8: =IF('2° GIORNATA'!$K$17=0,"",'2° GIORNATA'!$K$5) -> 3 | M8: =IF('2° GIORNATA'!$M$17=0,"",'2° GIORNATA'!$M$5) -> 3 | O8: =IF(L8="",0,IF(L8>M8,3,IF(L8=M8,1,0))) -> 1 | P8: =IF(M8="",0,IF(M8>L8,3,IF(M8=L8,1,0))) -> 1
J11: 3° GIORNATA
A12: CLASSIFICA | J12: =A5 -> EVRIBADI MC | K12: =A8 -> INTERFOGAT | L12: =IF('3° GIORNATA'!$B$17=0,"",'3° GIORNATA'!B5) -> 0 | M12: =IF('3° GIORNATA'!$D$17=0,"",'3° GIORNATA'!$D$5) -> 2 | O12: =IF(L12="",0,IF(L12>M12,3,IF(L12=M12,1,0))) -> 0 | P12: =IF(M12="",0,IF(M12>L12,3,IF(M12=L12,1,0))) -> 3
J13: =A7 -> SCARSENAL | K13: =A6 -> CSKA SCINA | L13: =IF('3° GIORNATA'!$K$17=0,"",'3° GIORNATA'!$K$5) -> 0 | M13: =IF('3° GIORNATA'!$M$17=0,"",'3° GIORNATA'!$M$5) -> 4 | O13: =IF(L13="",0,IF(L13>M13,3,IF(L13=M13,1,0))) -> 0 | P13: =IF(M13="",0,IF(M13>L13,3,IF(M13=L13,1,0))) -> 3
B14: pts | C14: g.f. | D14: g.s. | E14: diff. | F14: fantaPts
A15: CSKA SCINA | B15: 5 | C15: 8 | D15: 4 | E15: 4 | F15: =68.5+75.5+81.5 -> 225.5 | G15: A1 | N15: 1
A16: INTERFOGAT | B16: 5 | C16: 6 | D16: 4 | E16: 2 | F16: =66.5+76.5+70.5 -> 213.5 | G16: A2 | N16: 2
A17: EVRIBADI | B17: 4 | C17: 8 | D17: 5 | E17: 3 | F17: =156.5+62.5 -> 219 | G17: A3 | N17: 3
A18: SCARSENAL | B18: 1 | C18: 3 | D18: 12 | E18: 0 | F18: =69+71+59 -> 199 | G18: A4 | N18: 4
N19: 5
A27: GIRONE B | J27: 1° GIORNATA
J28: =A31 -> SKIACCIAK MOSCA | K28: =A32 -> MC TOWN | L28: =IF('1° GIORNATA'!$B$46=0,"",'1° GIORNATA'!$B$34) -> 0 | M28: =IF('1° GIORNATA'!$D$46=0,"",'1° GIORNATA'!$D$34) -> 3 | O28: =IF(L28="",0,IF(L28>M28,3,IF(L28=M28,1,0))) -> 0 | P28: =IF(M28="",0,IF(M28>L28,3,IF(M28=L28,1,0))) -> 3
A29: SQUADRE | J29: =A33 -> SELECAO PAPPIANAOS | K29: =A34 -> AS TRONZI | L29: =IF('1° GIORNATA'!$K$46=0,"",'1° GIORNATA'!$K$34) -> 0 | M29: =IF('1° GIORNATA'!$M$46=0,"",'1° GIORNATA'!$M$34) -> 1 | O29: =IF(L29="",0,IF(L29>M29,3,IF(L29=M29,1,0))) -> 0 | P29: =IF(M29="",0,IF(M29>L29,3,IF(M29=L29,1,0))) -> 3
A31: SKIACCIAK MOSCA | B31: E
A32: MC TOWN | B32: F | J32: 2° GIORNATA
A33: SELECAO PAPPIANAOS | B33: G | J33: =A31 -> SKIACCIAK MOSCA | K33: =A33 -> SELECAO PAPPIANAOS | L33: =IF('2° GIORNATA'!$B$46=0,"",'2° GIORNATA'!$B$34) -> 6 | M33: =IF('2° GIORNATA'!$D$46=0,"",'2° GIORNATA'!$D$34) -> 0 | O33: =IF(L33="",0,IF(L33>M33,3,IF(L33=M33,1,0))) -> 3 | P33: =IF(M33="",0,IF(M33>L33,3,IF(M33=L33,1,0))) -> 0
A34: AS TRONZI | B34: H | J34: =A32 -> MC TOWN | K34: =A34 -> AS TRONZI | L34: =IF('2° GIORNATA'!$K$46=0,"",'2° GIORNATA'!$K$34) -> 4 | M34: =IF('2° GIORNATA'!$M$46=0,"",'2° GIORNATA'!$M$34) -> 1 | O34: =IF(L34="",0,IF(L34>M34,3,IF(L34=M34,1,0))) -> 3 | P34: =IF(M34="",0,IF(M34>L34,3,IF(M34=L34,1,0))) -> 0
J37: 3° GIORNATA
A38: CLASSIFICA | J38: =A31 -> SKIACCIAK MOSCA | K38: =A34 -> AS TRONZI | L38: =IF('3° GIORNATA'!$B$46=0,"",'3° GIORNATA'!$B$34) -> 1 | M38: =IF('3° GIORNATA'!$D$46=0,"",'3° GIORNATA'!$D$34) -> 0 | O38: =IF(L38="",0,IF(L38>M38,3,IF(L38=M38,1,0))) -> 3 | P38: =IF(M38="",0,IF(M38>L38,3,IF(M38=L38,1,0))) -> 0
J39: =A33 -> SELECAO PAPPIANAOS | K39: =A32 -> MC TOWN | L39: =IF('3° GIORNATA'!$K$46=0,"",'3° GIORNATA'!$K$34) -> 1 | M39: =IF('3° GIORNATA'!$M$46=0,"",'3° GIORNATA'!$M$34) -> 4 | O39: =IF(L39="",0,IF(L39>M39,3,IF(L39=M39,1,0))) -> 0 | P39: =IF(M39="",0,IF(M39>L39,3,IF(M39=L39,1,0))) -> 3
B40: pts | C40: g.f. | D40: g.s. | E40: diff. | F40: fantaPts
A41: MC TOWN | B41: 9 | C41: 11 | D41: 2 | E41: 9 | F41: =76.5+81+79 -> 236.5 | G41: B1 | N41: 1
A42: SKIACCIAK MOSCA | B42: 6 | C42: 7 | D42: 3 | E42: 4 | F42: =61.5+88.5+68.5 -> 218.5 | G42: B2 | N42: 2
A43: AS TRONZI | B43: 3 | C43: 1 | D43: 5 | E43: -4 | F43: =66+66.5+62 -> 194.5 | G43: B3 | N43: 3
A44: SELECAO PAPPIANAOS | B44: 0 | C44: 1 | D44: 11 | E44: -10 | F44: =54+56+67.5 -> 177.5 | G44: B4 | N44: 4
N45: 5
A54: SEMIFINALI
A56: CSKA SCINA | B56: =A42 -> SKIACCIAK MOSCA | E56: 0 | F56: 7 | G56: F1
A57: =A41 -> MC TOWN | B57: INTERFOGAT | E57: 4 | F57: 2 | G57: G1
A60: FINALE
A62: =IF(E56>F56,A56,IF(E56=F56,"rigori",B56)) -> SKIACCIAK MOSCA | B62: =IF(E57>F57,A57,IF(E57=F57,"rigori",B57)) -> MC TOWN

Sheet 1° GIORNATA
A1: 1° GIORNATA
A3: GIRONE A
A5: =[1]TABELLONE!J2 -> EVRIBADI | B5: =IF(B17<66,0,IF(B17<70,1,IF(B17<74,2,IF(B17<78,3,IF(B17<82,4,IF(B17<86,5,IF(B17<90,6,IF(B17<94,7,IF(B17<98,8,IF(B17<101,9,10)))))))))) -> 1 | C5: =[1]TABELLONE!K2 -> CSKA SCINA | D5: =IF(D17<66,0,IF(D17<70,1,IF(D17<74,2,IF(D17<78,3,IF(D17<82,4,IF(D17<86,5,IF(D17<90,6,IF(D17<94,7,IF(D17<98,8,IF(D17<101,9,10)))))))))) -> 1 | J5: =[1]TABELLONE!J3 -> SCARSENAL | K5: =IF(K17<66,0,IF(K17<70,1,IF(K17<74,2,IF(K17<78,3,IF(K17<82,4,IF(K17<86,5,IF(K17<90,6,IF(K17<94,7,IF(K17<98,8,IF(K17<101,9,10)))))))))) -> 1 | L5: =[1]TABELLONE!K3 -> INTERFOGAT | M5: =IF(M17<66,0,IF(M17<70,1,IF(M17<74,2,IF(M17<78,3,IF(M17<82,4,IF(M17<86,5,IF(M17<90,6,IF(M17<94,7,IF(M17<98,8,IF(M17<101,9,10)))))))))) -> 1
A6: COLOMBIA | B6: 6.5 | C6: USA | D6: 3.5 | J6: BRASILE | K6: 6 | L6: URUGUAY | M6: 2.5
A7: DANI ALVES | B7: 6 | C7: GODIN | D7: 9 | J7: MIRANDA | K7: 6.5 | L7: BALBUENA (PAR) | M7: 5.5
A8: MORGAN | B8: 5 | C8: FUNES MORI | D8: 5.5 | J8: VELAZQUEZ (VEN) | K8: 5 | L8: GIMENEZ | M8: 5.5
A9: JARA | B9: 6 | C9: MARQUINHOS | D9: 6 | F9: Banega | J9: ZAPATA | K9: 10 | L9: ARIAS | M9: 6.5
A10: F. JOHNSON | B10: 6 | C10: H. MORENO | D10: 6 | F10: Raul Jimenez (x2) | J10: SAUCEDO (BOL) | K10: 4.5 | L10: WILLIAN | M10: 6.5
A11: COUTINHO | B11: 5 | C11: BRADLEY | D11: 6 | F11: Guerra | J11: A. GONZALEZ | K11: 6 | L11: MONTERO | M11: 6.5
A12: HERRERA | B12: 10 | C12: GUARDADO | D12: 4 | J12: TAPIA | K12: 6 | L12: ELIAS | M12: 5
A13: PASTORE | B13: 3 | C13: BORGES | D13: 6 | J13: GUERRA | K13: 8 | L13: CUEVA (PER) | M13: 7
A14: MASCHERANO | B14: 7 | C14: BACCA | D14: 6.5 | J14: JONAS | K14: 5.5 | L14: HIGUAIN | M14: 6.5
A15: CAVANI | B15: 5.5 | C15: E. VALENCIA | D15: 5.5 | J15: LEZCANO (PAR) | K15: 5.5 | L15: AGUERO | M15: 6
A16: DEMPSEY | B16: 6.5 | C16: GUERRERO | D16: 10.5 | J16: BARNES (GIA) | K16: 6 | L16: JIMENEZ R. | M16: 9
B17: =SUM(B6:B16) -> 66.5 | D17: =SUM(D6:D16) -> 68.5 | K17: =SUM(K6:K16) -> 69 | M17: =SUM(M6:M16) -> 66.5
A18: PANCHINA | C18: PANCHINA | J18: PANCHINA | L18: PANCHINA
A19: COLOMBIA | B19: 6.5 | C19: USA | D19: 3.5 | J19: BRASILE | K19: 6 | L19: URUGUAY | M19: 2.5
A20: VIZCARRONDO | B20: 5.5 | C20: M. BESLER | D20: sv | J20: LAYUN (MEX) | K20: 6.5 | L20: GIL | M20: 5.5
A21: RONCAGLIA | B21: sv | C21: LAWRENCE(GIA) | D21: 5 | J21: MENA (CIL) | K21: 5 | L21: PEREIRA MAXI | M21: 4.5
A22: ALCENAT | B22: sv | C22: ACHILIER (ECU) | D22: 6.5 | J22: COOPER (PAN) | K22: 5.5 | L22: DUARTE | M22: 6.5
A23: BECKERMANN | B23: sv | C23: BEDOYA | D23: 5 | J23: SANCHEZ C. (URU) | K23: 5.5 | L23: PULISIC | M23: 6
A24: C. SANCHEZ (COL) | B24: sv | C24: NOBOA | D24: 6.5 | J24: FERNANDEZ A. (ARG) | K24: 5.5 | L24: JONES | M24: 5.5
A25: AUSTIN (GIA) | B25: 3 | C25: LUCAS LIMA | D25: 6 | J25: TEJADA (PAN) | K25: 6 | L25: AREVALO RIOS | M25: 5.5
A26: MARTINEZ J. (VEN) | B26: 10 | C26: B. RUIZ (C.RIC) | D26: 6.5 | J26: BOLANOS | K26: 6 | L26: MORENO M. | M26: sv
A27: LAVEZZI | B27: sv | C27: B. WOOD | D27: 5 | J27: BELFORT (HAI) | K27: 5 | L27: ORELLANA | M27: 6.5
A28: PERALTA | B28: sv | C28: B. PEREZ (PAN) | D28: 13.5 | L28: PINILLA | M28: 4.5
A32: GIRONE B
A34: =[1]TABELLONE!J28 -> SKIACCIAK MOSCA | B34: =IF(B46<66,0,IF(B46<70,1,IF(B46<74,2,IF(B46<78,3,IF(B46<82,4,IF(B46<86,5,IF(B46<90,6,IF(B46<94,7,IF(B46<98,8,IF(B46<101,9,10)))))))))) -> 0 | C34: =[1]TABELLONE!K28 -> MC TOWN | D34: =IF(D46<66,0,IF(D46<70,1,IF(D46<74,2,IF(D46<78,3,IF(D46<82,4,IF(D46<86,5,IF(D46<90,6,IF(D46<94,7,IF(D46<98,8,IF(D46<101,9,10)))))))))) -> 3 | J34: =[1]TABELLONE!J29 -> SELECAO PAPPIANAOS | K34: =IF(K46<66,0,IF(K46<70,1,IF(K46<74,2,IF(K46<78,3,IF(K46<82,4,IF(K46<86,5,IF(K46<90,6,IF(K46<94,7,IF(K46<98,8,IF(K46<101,9,10)))))))))) -> 0 | L34: =[1]TABELLONE!K29 -> AS TRONZI | M34: =IF(M46<66,0,IF(M46<70,1,IF(M46<74,2,IF(M46<78,3,IF(M46<82,4,IF(M46<86,5,IF(M46<90,6,IF(M46<94,7,IF(M46<98,8,IF(M46<101,9,10)))))))))) -> 1
A35: ARGENTINA | B35: 5 | C35: ECUADOR | D35: 6.5 | J35: CILE | K35: 2.5 | L35: MESSICO | M35: 4.5
A36: DIAZ F. (COL) | B36: 6.5 | C36: MERCADO | D36: 6 | J36: PEREIRA ALVARO | K36: 2 | L36: ROJO | M36: 6.5
A37: VALDEZ B. (PAR) | B37: 6 | C37: Y. CORONA (MEX) | D37: 7 | J37: YOTUN (PER) | K37: 5.5 | L37: FILIPE LUIS | M37: 5
A38: OTAMENDI | B38: 6.5 | C38: GAMBOA | D38: 6 | J38: MURILLO | K38: 6 | L38: OROZCO | M38: 5
A39: VIDAL | B39: 4.5 | C39: JAMES RODRIGUEZ | D39: 10 | J39: AGUILAR P. (MEX) | K39: 6 | L39: CUADRADO | M39: 6.5
A40: CASEMIRO | B40: 5.5 | C40: BANEGA | D40: 12 | J40: LAMELA | K40: 6 | L40: DI MARIA | M40: 9.5
A41: BENAVENTE (PER) | B41: 6 | C41: LODEIRO | D41: 5.5 | J41: ARANGUIZ | K41: 5 | L41: SEIJAS (VEN) | M41: 6
A42: RINCON | B42: 6 | C42: AQUINO | D42: 7.5 | J42: DIAZ M. (CIL) | K42: 6 | L42: ROMERO O. (PAR) | M42: 6.5
A43: MESSI | B43: 6.5 | C43: SANCHEZ ALEXIS | D43: 5.5 | J43: HULK | K43: 5.5 | L43: HERNANDEZ CHICARITO | M43: 5
A44: DUK (BOL) | B44: 4 | C44: RONDON | D44: 6 | J44: VARGAS EDU | K44: 4 | L44: SABORIO | M44: 6.5
A45: RUIDIAZ (PER) | B45: 5 | C45: DERLIS GONZALEZ | D45: 4.5 | J45: VALDEZ HAEDO | K45: 5.5 | L45: GUERRIER (HAI) | M45: 5
B46: =SUM(B35:B45) -> 61.5 | D46: =SUM(D35:D45) -> 76.5 | K46: =SUM(K35:K45) -> 54 | M46: =SUM(M35:M45) -> 66
...

Sheet 2° GIORNATA
A1: 2° GIORNATA
A3: GIRONE A
A5: =TABELLONE!J7 -> EVRIBADI MC | B5: =IF(B17<66,0,IF(B17<70,1,IF(B17<74,2,IF(B17<78,3,IF(B17<82,4,IF(B17<86,5,IF(B17<90,6,IF(B17<94,7,IF(B17<98,8,IF(B17<101,9,10)))))))))) -> 7 | C5: =TABELLONE!K7 -> SCARSENAL | D5: =IF(D17<66,0,IF(D17<70,1,IF(D17<74,2,IF(D17<78,3,IF(D17<82,4,IF(D17<86,5,IF(D17<90,6,IF(D17<94,7,IF(D17<98,8,IF(D17<101,9,10)))))))))) -> 2 | J5: =TABELLONE!J8 -> CSKA SCINA | K5: =IF(K17<66,0,IF(K17<70,1,IF(K17<74,2,IF(K17<78,3,IF(K17<82,4,IF(K17<86,5,IF(K17<90,6,IF(K17<94,7,IF(K17<98,8,IF(K17<101,9,10)))))))))) -> 3 | L5: =TABELLONE!K8 -> INTERFOGAT | M5: =IF(M17<66,0,IF(M17<70,1,IF(M17<74,2,IF(M17<78,3,IF(M17<82,4,IF(M17<86,5,IF(M17<90,6,IF(M17<94,7,IF(M17<98,8,IF(M17<101,9,10)))))))))) -> 3
A6: COLOMBIA | B6: 5 | C6: Brasile | D6: 5 | J6: USA | K6: 6 | L6: URUGUAY | M6: 4.5
A7: MORGAN | B7: 6 | C7: Miranda | D7: 7.5 | J7: MARQUINHOS | K7: 6 | L7: ARIAS Santiago | M7: 6
A8: JARA | B8: 6 | C8: Velazquez (ven) | D8: 5 | J8: GODIN | K8: 6.5 | L8: GIL | M8: 6.5
A9: DANI ALVES | B9: 9.5 | C9: Zapata | D9: 6.5 | F9: ASSIST | J9: H. MORENO | K9: 6.5 | L9: GIMENEZ Jose Maria | M9: 6
A10: F. JHONSON | B10: 5.5 | C10: Saucedo (bol) | D10: 6.5 | F10: dani alves (x2) | J10: FUNES MORI | K10: 6 | L10: WILLIAN | M10: 6.5
A11: MASCHERANO | B11: 6.5 | C11: A. Gonzalez | D11: 5 | F11: elias | J11: BEDOJA | K11: 6.5 | L11: MONTERO Jefferson (ecu) | M11: 8
A12: COUTINHO | B12: 17.5 | C12: Fernandez | D12: 5.5 | F12: jonas | J12: BORGES (C. RICA) | K12: 5 | L12: ELIAS | M12: 7.5
A13: HERRERA | B13: 7.5 | C13: Guerra | D13: 7.5 | F13: cardona | J13: BRADLEY | K13: 6 | L13: CUEVA Cristian (per) | M13: 10
A14: LAVEZZI | B14: 10 | C14: Jonas | D14: 7.5 | F14: a. valencia | J14: E. VALENCIA (ecu) | K14: 9.5 | L14: HIGUAIN Gonzalo | M14: 6
A15: DEMPSEY | B15: 11.5 | C15: Bolanos M. (ECU) | D15: 10 | F15: montero | J15: GUERRERO | K15: 7.5 | L15: AGUERO Sergio | M15: 9.5
A16: CAVANI | B16: 5 | C16: Barnes (gia) | D16: 5 | F16: herrera h. | J16: BACCA | K16: 10 | L16: JIMENEZ Raul | M16: 6
B17: =SUM(B6:B16) -> 90 | D17: =SUM(D6:D16) -> 71 | F17: corona j. | K17: =SUM(K6:K16) -> 75.5 | M17: =SUM(M6:M16) -> 76.5
A18: PANCHINA | C18: PANCHINA | F18: guerrero | J18: PANCHINA | L18: PANCHINA
A19: COLOMBIA | B19: 5 | C19: Brasile | D19: 5 | F19: dempsey | J19: USA | K19: 6 | L19: ERAZO Frickson (ecu) | M19: sv
A20: RONCAGLIA | B20: sv | C20: Layun | D20: 7.5 | F20: rojo | J20: ACHILLIER (ecu) | K20: 4 | L20: PEREIRA Maxi | M20: 6.5
A21: VIZCARRONDO | B21: 6.5 | C21: Mena | D21: sv | F21: pinilla | J21: LAWRANCE (gia) | K21: sv | L21: DUARTE Óscar (C.RICA) | M21: 5
A22: ALCENAT (hai) | B22: sv | C22: Cooper (pan) | D22: 5 | J22: BESLER | K22: sv | L22: PULISIC Christian | M22: sv
A23: PASTORE | B23: sv | C23: Sanchez c. (uru) | D23: 6.5 | J23: NOBOA (ecu) | K23: 6.5 | L23: JONES Jermain | M23: 10
A24: BECKERMANN | B24: sv | C24: Tapia (per) | D24: 6 | J24: KRANEVITTER | K24: sv | L24: AREVALO RIOS Egidio | M24: 6
A25: C. SANCHEZ | B25: sv | C25: Tejada (pan) | D25: 5 | J25: LUCAS LIMA | K25: 10 | L25: ORELLANA Fabián | M25: 5
A26: PERALTA | B26: 10 | C26: Lezcano (par) | D26: 5.5 | J26: WOODS | K26: 10 | L26: PINILLA Mauricio | M26: 7
A27: J. MARTINEZ | B27: 5 | C27: Belfort (hai) | D27: sv | J27: RUIZ (C.RICA) | K27: 5 | L27: MORENO Marlos | M27: sv
A28: WONDOLOWSKY | B28: 6 | J28: B. PEREZ (pan)
A32: GIRONE B
A34: =TABELLONE!J33 -> SKIACCIAK MOSCA | B34: =IF(B46<66,0,IF(B46<70,1,IF(B46<74,2,IF(B46<78,3,IF(B46<82,4,IF(B46<86,5,IF(B46<90,6,IF(B46<94,7,IF(B46<98,8,IF(B46<101,9,10)))))))))) -> 6 | C34: =TABELLONE!K33 -> SELECAO PAPPIANAOS | D34: =IF(D46<66,0,IF(D46<70,1,IF(D46<74,2,IF(D46<78,3,IF(D46<82,4,IF(D46<86,5,IF(D46<90,6,IF(D46<94,7,IF(D46<98,8,IF(D46<101,9,10)))))))))) -> 0 | J34: =TABELLONE!J34 -> MC TOWN | K34: =IF(K46<66,0,IF(K46<70,1,IF(K46<74,2,IF(K46<78,3,IF(K46<82,4,IF(K46<86,5,IF(K46<90,6,IF(K46<94,7,IF(K46<98,8,IF(K46<101,9,10)))))))))) -> 4 | L34: =TABELLONE!K34 -> AS TRONZI | M34: =IF(M46<66,0,IF(M46<70,1,IF(M46<74,2,IF(M46<78,3,IF(M46<82,4,IF(M46<86,5,IF(M46<90,6,IF(M46<94,7,IF(M46<98,8,IF(M46<101,9,10)))))))))) -> 1
A35: Argentina | B35: 6 | C35: Cile | D35: 5 | J35: Ecuador | K35: 3.5 | L35: MESSICO | M35: 6
A36: Otamendi | B36: 10 | C36: Murillo | D36: 6.5 | J36: Isla | K36: 5.5 | L36: ROJO | M36: 7.5
A37: Medel | B37: 5.5 | C37: Aguilar | D37: 6 | J37: Mercado | K37: 6 | L37: F.LUIS | M37: 7
A38: Diaz (COL) | B38: 6 | C38: Pereira A. | D38: sv | J38: Ayovi W. | K38: 6.5 | L38: MARQUEZ | M38: 6
A39: Reyes | B39: 5 | C39: Acosta (C.RIC) | D39: 5 | J39: Banega | K39: 7 | L39: DI MARIA | M39: 7
A40: Vidal | B40: 13 | C40: Lamela | D40: 6.5 | J40: Antonio Valencia | K40: 7.5 | L40: CUADRADO | M40: 6
A41: Casemiro | B41: 6 | C41: Ramirez | D41: 5 | J41: Lucas Moura | K41: 5.5 | L41: CARDONA | M41: 8
A42: Larrea (ecu) | B42: 7 | C42: Molina | D42: 6 | J42: Aquino | K42: 10.5 | L42: ROMERO (par) | M42: 4
A43: Messi | B43: 17.5 | C43: Hulk | D43: 5.5 | J43: Renato Augusto | K43: 13.5 | L43: HERNANDEZ CHICHARITO | M43: 10.5
A44: Campbell (C.RIC) | B44: 4.5 | C44: Suarez | D44: 6 | J44: Sanchez | K44: 5.5 | L44: HERNANDEZ ABEL | M44: sv
A45: Corona | B45: 8 | C45: Vargas | D45: 4.5 | J45: Gabriel | K45: 10 | L45: ITURBE | M45: 4.5
B46: =SUM(B35:B45) -> 88.5 | D46: =SUM(D35:D45) -> 56 | K46: =SUM(K35:K45) -> 81 | M46: =SUM(M35:M45) -> 66.5
...

Sheet 3° GIORNATA
A1: 3° GIORNATA
A3: GIRONE A
A5: =TABELLONE!J12 -> EVRIBADI MC | B5: =IF(B17<66,0,IF(B17<70,1,IF(B17<74,2,IF(B17<78,3,IF(B17<82,4,IF(B17<86,5,IF(B17<90,6,IF(B17<94,7,IF(B17<98,8,IF(B17<101,9,10)))))))))) -> 0 | C5: =TABELLONE!K12 -> INTERFOGAT | D5: =IF(D17<66,0,IF(D17<70,1,IF(D17<74,2,IF(D17<78,3,IF(D17<82,4,IF(D17<86,5,IF(D17<90,6,IF(D17<94,7,IF(D17<98,8,IF(D17<101,9,10)))))))))) -> 2 | J5: =TABELLONE!J13 -> SCARSENAL | K5: =IF(K17<66,0,IF(K17<70,1,IF(K17<74,2,IF(K17<78,3,IF(K17<82,4,IF(K17<86,5,IF(K17<90,6,IF(K17<94,7,IF(K17<98,8,IF(K17<101,9,10)))))))))) -> 0 | L5: =TABELLONE!K13 -> CSKA SCINA | M5: =IF(M17<66,0,IF(M17<70,1,IF(M17<74,2,IF(M17<78,3,IF(M17<82,4,IF(M17<86,5,IF(M17<90,6,IF(M17<94,7,IF(M17<98,8,IF(M17<101,9,10)))))))))) -> 4
A6: Colombia | B6: 2 | C6: URUGUAY | D6: 6 | J6: Brasile | K6: 4.5 | L6: Usa | M6: 6.5
A7: Jara | B7: 6.5 | C7: ERAZO Frickson (ecu) | D7: 6.5 | J7: Layun (MEX) | K7: 6 | L7: Godin | M7: 6
A8: F. Jhonson | B8: 6 | C8: GIL | D8: 5 | J8: Zapata | K8: 10 | L8: H.Moreno (MEX) | M8: 6
A9: Vizcarrondo | B9: 5 | C9: PEREIRA Max | D9: 6 | F9: ASSIST | J9: Mena | K9: 5.5 | L9: Marquinhos | M9: 6.5
A10: Dani Alves | B10: 6 | C10: WILLIAN | D10: 5.5 | F10: lavezzi | J10: Sanchez C. (URU) | K10: 6 | L10: Bradley | M10: 5.5
A11: Mascherano | B11: 5.5 | C11: MONTERO Jefferson (ecu) | D11: 7.5 | F11: g. gomez | J11: Gonzalez a. (URU) | K11: 6.5 | L11: Bedoya | M11: 5.5
A12: Herrera | B12: 6 | C12: ELIAS | D12: 4.5 | F12: e. vargas | J12: Guerra | K12: 5.5 | L12: Noboa (ECU) | M12: 10
A13: Coutinho | B13: 5 | C13: CUEVA Cristian (per) | D13: 6.5 | F13: cuadrado | J13: Fernandez A. (ARG) | K13: 0 | L13: Borges (C.RIC) | M13: 10
A14: Peralta O. | B14: 5 | C14: HIGUAIN Gonzalo | D14: 6.5 | F14: r. martinez | J14: Bolanos M. (ECU) | K14: 4.5 | L14: Bacca | M14: 6.5
A15: Cavani | B15: 5.5 | C15: AGUERO Sergio | D15: 7 | F15: montero | J15: Lezcano | K15: 6 | L15: E.Valencia | M15: 13
A16: Dempsey | B16: 10 | C16: PINILLA Mauricio | D16: 9.5 | F16: e. valencia (x2) | J16: Jonas | K16: 4.5 | L16: Wood | M16: 6
B17: =SUM(B6:B16) -> 62.5 | D17: =SUM(D6:D16) -> 70.5 | F17: lodeiro | K17: =SUM(K6:K16) -> 59 | M17: =SUM(M6:M16) -> 81.5
A18: PANCHINA | C18: PANCHINA | F18: zardses | J18: PANCHINA | L18: PANCHINA
A19: Colombia | B19: 2 | C19: URUGUAY | D19: 6 | J19: Brasile | K19: 4.5 | L19: Usa | M19: 6.5
A20: Morgan | B20: 5 | C20: BALBUENA | D20: 5 | J20: Velazquez (VEN) | K20: 10 | L20: Funes Mori | M20: 6.5
A21: Roncaglia | B21: 6 | C21: GIMENEZ Jose Maria | D21: 6 | J21: Cooper (PAN) | K21: sv | L21: Rosales (VEN) | M21: sv
A22: Alcenat | B22: sv | C22: DUARTE Óscar (C.RICA) | D22: sv | J22: Miranda | K22: 5.5 | L22: Lawrence (GIA) | M22: sv
A23: Pastore | B23: sv | C23: PULISIC Christian | D23: sv | J23: Saucedo (BOL) | K23: sv | L23: Guardado | M23: 6.5
A24: C. Sanchez | B24: 5.5 | C24: JONES Jermain | D24: 6.5 | J24: Tapia (PER) | K24: sv | L24: Lucas Lima | M24: 3.5
A25: Austin | B25: 4.5 | C25: AREVALO RIOS Egidio | D25: 6.5 | J25: Barnes (GIA) | K25: 4.5 | L25: Kranevitter | M25: 6
A26: Martinez J. | B26: 6 | C26: ORELLANA Fabián | D26: sv | J26: Belfort (HAI) | K26: 4.5 | L26: Guerrero | M26: 6.5
A27: Lavezzi | B27: 11.5 | C27: MORENO Marlos (COL) | D27: 9.5 | J27: Tejada (PAN) | K27: 5 | L27: Ruiz B. (C. RIC) | M27: 5
A28: Wondolowsky | B28: sv | C28: JIMENEZ Raul | D28: sv | L28: Perez B. (PAN) | M28: sv
A32: GIRONE B
A34: =TABELLONE!J38 -> SKIACCIAK MOSCA | B34: =IF(B46<66,0,IF(B46<70,1,IF(B46<74,2,IF(B46<78,3,IF(B46<82,4,IF(B46<86,5,IF(B46<90,6,IF(B46<94,7,IF(B46<98,8,IF(B46<101,9,10)))))))))) -> 1 | C34: =TABELLONE!K38 -> AS TRONZI | D34: =IF(D46<66,0,IF(D46<70,1,IF(D46<74,2,IF(D46<78,3,IF(D46<82,4,IF(D46<86,5,IF(D46<90,6,IF(D46<94,7,IF(D46<98,8,IF(D46<101,9,10)))))))))) -> 0 | J34: =TABELLONE!J39 -> SELECAO PAPPIANAOS | K34: =IF(K46<66,0,IF(K46<70,1,IF(K46<74,2,IF(K46<78,3,IF(K46<82,4,IF(K46<86,5,IF(K46<90,6,IF(K46<94,7,IF(K46<98,8,IF(K46<101,9,10)))))))))) -> 1 | L34: =TABELLONE!K39 -> MC TOWN | M34: =IF(M46<66,0,IF(M46<70,1,IF(M46<74,2,IF(M46<78,3,IF(M46<82,4,IF(M46<86,5,IF(M46<90,6,IF(M46<94,7,IF(M46<98,8,IF(M46<101,9,10)))))))))) -> 4
A35: Argentina | B35: 6 | C35: MESSICO | D35: 5 | J35: Cile | K35: 3 | L35: Ecuador | M35: 6
A36: Otamendi | B36: 6.5 | C36: YEDLIN | D36: 4 | J36: Murillo | K36: 6 | L36: Isla | M36: 5.5
A37: Medel | B37: 6.5 | C37: FILIPE LUIS | D37: 5.5 | J37: Aguilar (MEX) | K37: 6 | L37: Ayovi W. (ECU) | M37: 6
A38: Paredes (ECU) | B38: 7.5 | C38: ROJO | D38: 0 | J38: Pereira A. | K38: 0 | L38: Mercado | M38: 6.5
A39: Diaz (COL) | B39: 6.5 | C39: ARAUJO (MEX) | D39: 5.5 | J39: Acosta (C.RIC) | K39: 6.5 | L39: James Rodriguez | M39: 6
A40: Larrea (ECU) | B40: 6 | C40: DI MARIA | D40: 6 | J40: Lamela | K40: 10 | L40: Banega | M40: 6
A41: Casemiro | B41: 0 | C41: CUADRADO | D41: 7.5 | J41: Ramirez | K41: 6 | L41: Renato Augusto | M41: 5.5
A42: Vecino | B42: 6 | C42: CARDONA | D42: 6 | J42: Molina J. (MEX) | K42: 5 | L42: Antonio Valencia | M42: 10.5
A43: Vidal | B43: 7 | C43: ROMERO O. (PAR) | D43: 6 | J43: Hulk | K43: 5.5 | L43: Sanchez A. (CIL) | M43: 13.5
A44: Messi | B44: 6.5 | C44: HERNANDEZ CHICHARITO | D44: 6 | J44: Suarez | K44: 4.5 | L44: Zardes | M44: 7.5
A45: Corona j. | B45: 10 | C45: HERNANDEZ ABEL | D45: 10.5 | J45: Vargas E. | K45: 15 | L45: Gabriel | M45: 6
B46: =SUM(B35:B45) -> 68.5 | D46: =SUM(D35:D45) -> 62 | K46: =SUM(K35:K45) -> 67.5 | M46: =SUM(M35:M45) -> 79
...

Sheet SEMIFINALE
A1: SEMIFINALE
G3: TABELLONE
A5: =TABELLONE!A56 -> CSKA SCINA | B5: =IF(B17<66,0,IF(B17<70,1,IF(B17<74,2,IF(B17<78,3,IF(B17<82,4,IF(B17<86,5,IF(B17<90,6,IF(B17<94,7,IF(B17<98,8,IF(B17<101,9,10)))))))))) -> 0 | C5: =TABELLONE!B56 -> SKIACCIAK MOSCA | D5: =IF(D17<66,0,IF(D17<70,1,IF(D17<74,2,IF(D17<78,3,IF(D17<82,4,IF(D17<86,5,IF(D17<90,6,IF(D17<94,7,IF(D17<98,8,IF(D17<101,9,10)))))))))) -> 7 | J5: =TABELLONE!A57 -> MC TOWN | K5: =IF(K17<66,0,IF(K17<70,1,IF(K17<74,2,IF(K17<78,3,IF(K17<82,4,IF(K17<86,5,IF(K17<90,6,IF(K17<94,7,IF(K17<98,8,IF(K17<101,9,10)))))))))) -> 4 | L5: =TABELLONE!B57 -> INTERFOGAT | M5: =IF(M17<66,0,IF(M17<70,1,IF(M17<74,2,IF(M17<78,3,IF(M17<82,4,IF(M17<86,5,IF(M17<90,6,IF(M17<94,7,IF(M17<98,8,IF(M17<101,9,10)))))))))) -> 2
A6: Usa | B6: 4.5 | C6: Argentina | D6: 8.5 | J6: Colombia | K6: 7.5 | L6: ECUADOR | M6: 4
A7: Jara | B7: 7 | C7: Rojo | D7: 6 | J7: Mercado | K7: 6 | L7: MURILLO Jeison | M7: 6.5
A8: H.Moreno | B8: 4 | C8: Otamendi | D8: 5.5 | J8: Zapata | K8: 6 | L8: ERAZO | M8: 4.5
A9: Marquez | B9: 7 | C9: Diaz F. | D9: 5.5 | J9: Ayovi W. | K9: 5.5 | L9: ARIAS Santiago | M9: 6
A10: Cuadrado | B10: 6.5 | C10: Vidal | D10: 9 | F10: ASSIST | J10: James Rodriguez | K10: 6.5 | L10: LAMELA Erik | M10: 10
A11: Bradley | B11: 6.5 | C11: Di Maria | D11: 6 | F11: gaitan | J11: Banega | K11: 7 | L11: MONTERO Jefferson | M11: 6.5
A12: Guardado | B12: 3.5 | C12: Gaitan | D12: 7 | F12: messi (x2) | J12: Valencia A. | K12: 3 | L12: CARDONA Edwin | M12: 5.5
A13: Mascherano | B13: 7 | C13: Zusi | D13: 5 | F13: vidal (x2) | J13: Herrera | K13: 4 | L13: CUEVA Cristian | M13: 6.5
A14: E.Valencia | B14: 5.5 | C14: Messi | D14: 12.5 | F14: sanchez | J14: Sanchez | K14: 11.5 | L14: HIGUAIN Gonzalo | M14: 14
A15: Guerrero | B15: 5.5 | C15: Vargas E. | D15: 22 | F15: dempsey | J15: Dempsey | K15: 11.5 | L15: AGUERO Sergio | M15: 4
A16: Bacca | B16: 6 | C16: Peralta | D16: 4.5 | F16: jones | J16: Lavezzi | K16: 9.5 | L16: HERNANDEZ Javier | M16: 4
B17: =SUM(B6:B16) -> 63 | D17: =SUM(D6:D16) -> 91.5 | F17: guerra | K17: =SUM(K6:K16) -> 78 | M17: =SUM(M6:M16) -> 71.5
A18: PANCHINA | C18: PANCHINA | J18: PANCHINA | L18: PANCHINA
A19: Usa | B19: 4.5 | C19: Argentina | D19: 8.5 | J19: Colombia | K19: 7.5 | L19: ECUADOR | M19: 4
A20: Velazquez | B20: sv | C20: Paredes | D20: 4.5 | J20: Brooks | K20: 6 | L20: LAYUN Miguel | M20: 4
A21: Rodriguez (PER) | B21: 7 | C21: Medel | D21: 7.5 | J21: Isla | K21: sv | L21: JOHNSON Fabian | M21: 6
A22: Feltscher | B22: 5.5 | C22: Reyes | D22: 4.5 | J22: Y. Corona | K22: sv | L22: MINA Arturo | M22: 6
A23: Noboa | B23: 5.5 | C23: Pastore | D23: sv | J23: Aquino | K23: sv | L23: JONES Jermain | M23: 6
A24: Bedoya | B24: 6 | C24: Torres | D24: 6 | J24: Aranguiz | K24: 7 | L24: PÉREZ Sebastián | M24: 5.5
A25: Kranevitter | B25: sv | C25: Rincon | D25: 5 | J25: Guerra | K25: 7 | L25: GRUEZO Carlos | M25: 5.5
A26: Ayovi J. | B26: sv | C26: Corona | D26: 4.5 | J26: Marlos Moreno | K26: sv | L26: JIMENEZ Raul | M26: 4
A27: Wood | B27: 6 | C27: J Martinez | D27: 5.5 | J27: Zardes | K27: 9.5 | L27: ORELLANA Fabián | M27: sv
A28: Bolanos | B28: sv | C28: R Martinez | D28: sv | J28: Rondon | K28: 9 | L28: PINILLA Mauricio | M28: sv

Sheet FINALE
A1: FINALE
A3: TABELLONE
A5: =TABELLONE!A62 -> SKIACCIAK MOSCA | B5: =IF(B17<66,0,IF(B17<70,1,IF(B17<74,2,IF(B17<78,3,IF(B17<82,4,IF(B17<86,5,IF(B17<90,6,IF(B17<94,7,IF(B17<98,8,IF(B17<101,9,10)))))))))) -> 0 | C5: =TABELLONE!B62 -> MC TOWN | D5: =IF(D17<66,0,IF(D17<70,1,IF(D17<74,2,IF(D17<78,3,IF(D17<82,4,IF(D17<86,5,IF(D17<90,6,IF(D17<94,7,IF(D17<98,8,IF(D17<101,9,10)))))))))) -> 0
B17: =SUM(B6:B16) -> 0 | D17: =SUM(D6:D16) -> 0
A18: PANCHINA | C18: PANCHINA

Sheet SVINCOLATI
A1: Squadra | B1: Ruolo | C1: Nome | D1: $
A2: Argentina | B2: D | C2: CUESTA Victor | D2: 1
A3: Argentina | B3: D | C3: FUNES Ramiro | D3: 5 | E3: x
A4: Argentina | B4: D | C4: MAIDANA Jonathan | D4: 1
A5: Argentina | B5: D | C5: MERCADO Gabriel | D5: 2 | E5: x
A6: Argentina | B6: D | C6: OTAMENDI Nicolas | D6: 15 | E6: X
A7: Argentina | B7: D | C7: ROJO Marcos | D7: 25 | E7: X
A8: Argentina | B8: D | C8: RONCAGLIA Facundo | D8: 10 | E8: X
A9: Argentina | B9: C | C9: BANEGA Ever | D9: 60 | E9: x
A10: Argentina | B10: C | C10: PIZZARO Guido | D10: 2
A11: Argentina | B11: C | C11: DI MARIA Angel | D11: 50 | E11: X
A12: Argentina | B12: C | C12: FERNANDEZ Augusto | D12: 5 | E12: x
A13: Argentina | B13: C | C13: GAITAN Nicolas | D13: 5 | E13: X
A14: Argentina | B14: C | C14: KRANEVITTER Matias | D14: 5
A15: Argentina | B15: C | C15: LAMELA Erik | D15: 30 | E15: x
A16: Argentina | B16: C | C16: MASCHERANO Javier | D16: 30 | E16: x
A17: Argentina | B17: C | C17: PASTORE Javier | D17: 40 | E17: X
A18: Argentina | B18: A | C18: AGUERO Sergio | D18: 150 | E18: x
A19: Argentina | B19: A | C19: HIGUAIN Gonzalo | D19: 120 | E19: x
A20: Argentina | B20: A | C20: LAVEZZI Ezequiel | D20: 40 | E20: X
A21: Argentina | B21: A | C21: MESSI Lionel | D21: 200 | E21: x
A22: Cile | B22: P
A23: Cile | B23: D | C23: ISLA Mauricio | D23: 15 | E23: X
A24: Cile | B24: D | C24: JARA Gonzalo | D24: 25 | E24: X
A25: Cile | B25: D | C25: MEDEL Gary | D25: 20 | E25: x
A26: Cile | B26: D | C26: MENA Eugenio | D26: 10
A27: Cile | B27: D | C27: ROCO Enzo | D27: 1
A28: Cile | B28: C | C28: ARÁNGUIZ Charles | D28: 10 | E28: X
A29: Cile | B29: C | C29: BEAUSEJOUR Jean | D29: 15 | E29: X
A30: Cile | B30: C | C30: DÍAZ Marcelo | D30: 25 | E30: x
A31: Cile | B31: C | C31: FERNÁNDEZ Matías | D31: 15
A32: Cile | B32: C | C32: FUENZALIDA José Pedro | D32: 9
A33: Cile | B33: C | C33: HERNÁNDEZ Pablo | D33: 1
A34: Cile | B34: C | C34: PULGAR Erick | D34: 1
A35: Cile | B35: C | C35: SILVA Francisco | D35: 5
A36: Cile | B36: C | C36: VIDAL Arturo | D36: 70 | E36: x
A37: Cile | B37: A | C37: CASTILLO Nicolás | D37: 1
A38: Cile | B38: A | C38: ORELLANA Fabián | D38: 50
A39: Cile | B39: A | C39: PINILLA Mauricio | D39: 40 | E39: x
A40: Cile | B40: A | C40: PUCH Edson | D40: 5 | E40: X
...

Sheet skiacciak mosca
A1: Squadra | B1: Simone Pizzuto & Davide Pizzuto
A3: Portiere | B3: Squadra
A4: ARGENTINA | B4: ARG
A6: Difensori
A7: OTAMENDI Nicolas | B7: ARG
A8: MURILLO Jeison | B8: COL
A9: JARA Gonzalo | B9: CIL
A10: DÍAZ Farid | B10: COL
A11: RONCAGLIA Facundo | B11: ARG
A12: MEDEL Gary | B12: CIL
A13: ROJO Marcos | B13: ARG
A14: FABRA Frank | B14: COL
A16: Centrocampisti
A17: VIDAL Arturo | B17: CIL
A18: LAMELA Erik | B18: ARG
A19: GAITAN Nicolas | B19: ARG
A20: TORRES Daniel | B20: COL
A21: DI MARIA Angel | B21: ARG
A22: MASCHERANO Javier | B22: ARG
A23: ZUSI Graham | B23: USA
A24: PASTORE Javier | B24: ARG
A26: Attaccanti
A27: MESSI Lionel | B27: ARG
A28: VARGAS Eduardo | B28: CIL
A29: HIGUAIN Gonzalo | B29: ARG
A30: PINILLA Mauricio | B30: CIL
A31: PUCH Edson | B31: CIL
A32: MARTINEZ Roger | B32: COL

Sheet mc town
A1: Squadra | B1: Simone Pizzuto & Davide Pizzuto
A3: Portiere | B3: Squadra
A4: COLOMBIA | B4: COL
A6: Difensori
A7: ISLA Mauricio | B7: CIL
A8: FUNES Ramiro | B8: ARG
A9: MERCADO Gabriel | B9: ARG
A10: ZAPATA Cristián | B10: COL
A11: BROOKS John | B11: USA
A12: ARIAS Santiago | B12: COL
A13: JOHNSON Fabian | B13: USA
A14: YEDLIN DeAndre | B14: USA
A16: Centrocampisti
A17: RODRÍGUEZ James | B17: COL
A18: BANEGA Ever | B18: ARG
A19: CUADRADO Juan Guillermo | B19: COL
A20: CARDONA Edwin | B20: COL
A21: ARÁNGUIZ Charles | B21: CIL
A22: FERNANDEZ Augusto | B22: ARG
A23: BEAUSEJOUR Jean | B23: CIL
A24: DÍAZ Marcelo | B24: CIL
A26: Attaccanti
A27: SÁNCHEZ Alexis | B27: CIL
A28: BACCA Carlos | B28: COL
A29: ZARDES Gyasi | B29: USA
A30: DEMPSEY Clint | B30: USA
A31: LAVEZZI Ezequiel | B31: ARG
A32: AGUERO Sergio | B32: ARG
