Workbook

Sheet Riassunto
A1: SERIE A | M1: 1 giro giu
A2: ='Serie A'!A1:E1 -> EVRIBADI | E2: Crediti Rimasti | F2: ='Serie A'!E31 -> 533 | G2: Rimanente | H2: 3 | M2: 2 giro giu
C3: CASTAGNE | D3: 10 | E3: LAUTARO | F3: 24 | G3: P-D-C-A | M3: 3 giro giu
M4: 1 giro set
A5: BISCOTTI | E5: Crediti Rimasti | F5: ='Serie A'!L31 -> 518 | G5: Rimanente | H5: 3 | M5: 2 giro set
G6: P-D-C-A
A8: MCTOWN | E8: Crediti Rimasti | F8: ='Serie A'!S31 -> 505 | G8: Rimanente | H8: 3
A9: IZZO | B9: 7 | C9: CAPUTO | D9: 21 | G9: P-D-C-A
A11: CYRANO | E11: Crediti Rimasti | F11: ='Serie A'!Z31 -> 500 | G11: Rimanente | H11: 3
A12: COLLEY | B12: 3 | C12: CAN | D12: 6 | G12: P-D-C-A
A14: NEDVED11 | E14: Crediti Rimasti | F14: ='Serie A'!AG31 -> 504 | G14: Rimanente | H14: 3
A15: FABIAN RUIZ | B15: 15 | G15: P-D-C-A
A17: FLYBEARD | E17: Crediti Rimasti | F17: ='Serie A'!AN31 -> 516 | G17: Rimanente | H17: 3
G18: P-D-C-A
A20: INTERFOGAT | E20: Crediti Rimasti | F20: ='Serie A'!AU31 -> 504 | G20: Rimanente | H20: 3
G21: P-D-C-A
A23: MARCELLONA | E23: Crediti Rimasti | F23: ='Serie A'!BB31 -> 504 | G23: Rimanente | H23: 3
A24: SANSONE N | B24: 1 | G24: P-D-C-A
A26: PARDUS | E26: Crediti Rimasti | F26: ='Serie A'!BI31 -> 508 | G26: Rimanente | H26: 3
A27: MANCINI | B27: 10 | C27: BENASSI | D27: 10 | G27: P-D-C-A
A29: IBRADIPOSI | E29: Crediti Rimasti | F29: ='Serie A'!BP31 -> 523 | G29: Rimanente | H29: 3
A30: CRAGNO | B30: 2 | C30: ANSALDI | D30: 2 | G30: P-D-C-A
A33: SERIE B
A34: SOLO PISA | E34: Crediti Rimasti | F34: ='Serie B'!E31 -> 512 | G34: Rimanente | H34: 3
A35: UNDER | B35: 25 | C35: FREULER | D35: 13 | E35: NKOLOU | F35: 10 | G35: P-D-C-A
A37: LUCENSE | E37: Crediti Rimasti | F37: ='Serie B'!L31 -> 530 | G37: Rimanente | H37: 3
A38: GERVINHO | B38: 14 | G38: P-D-C-A
A40: AS TRONZI | E40: Crediti Rimasti | F40: ='Serie B'!S31 -> 500 | G40: Rimanente | H40: 3
G41: P-D-C-A
A43: VIRGYTEAM | E43: Crediti Rimasti | F43: ='Serie B'!Z31 -> 500 | G43: Rimanente | H43: 3
A44: FABIAN RUIZ | B44: 1 | G44: P-D-C-A
A46: MOJITO | E46: Crediti Rimasti | F46: ='Serie B'!AG31 -> 515 | G46: Rimanente | H46: 3
A47: CORREA | B47: 5 | C47: RADU I | D47: 1 | G47: P-D-C-A
A49: CSKA | E49: Crediti Rimasti | F49: ='Serie B'!AN31 -> 505 | G49: Rimanente | H49: 3
A50: CHIELLINI | B50: 8 | G50: P-D-C-A
A52: TETTE BISCOTTATE | E52: Crediti Rimasti | F52: ='Serie B'!AU31 -> 503 | G52: Rimanente | H52: 3
A53: PIATEK | B53: 30 | G53: P-D-C-A
A55: APPLAUSO | E55: Crediti Rimasti | F55: ='Serie B'!BB31 -> 515 | G55: Rimanente | H55: 3
A56: HATEBOER | B56: 8 | E56: POLITANO | F56: 21 | G56: P-D-C-A
A58: BADBEES | E58: Crediti Rimasti | F58: ='Serie B'!BI31 -> 510 | G58: Rimanente | H58: 3
A59: GOLLINI | B59: 6 | C59: MILENKOVIC | D59: 4 | G59: P-D-C-A
A61: MA BRAVISSIMI | E61: Crediti Rimasti | F61: ='Serie C'!BP31 -> 540 | G61: Rimanente | H61: 3
A62: KURTIC | B62: 3 | G62: P-D-C-A
A66: SERIE C
A67: BAYER | E67: Crediti Rimasti | F67: ='Serie C'!E31 -> 513 | G67: Rimanente | H67: 3
C68: CONTI | D68: 7 | G68: P-D-C-A
A70: TEAM AS TURBO | E70: Crediti Rimasti | F70: ='Serie C'!L31 -> 506 | G70: Rimanente | H70: 3
A71: FLORENZI | B71: 9 | C71: MEITE | D71: 1 | G71: P-D-C-A
A73: SKIACCIAK MOSCA | E73: Crediti Rimasti | F73: ='Serie C'!S31 -> 508 | G73: Rimanente | H73: 3
A74: ORSOLINI | B74: 26 | C74: LINETTY | D74: 2 | G74: P-D-C-A
A76: UGF | E76: Crediti Rimasti | F76: ='Serie C'!Z31 -> 515 | G76: Rimanente | H76: 3
A77: CASTAGNE | B77: 10 | G77: P-D-C-A
A79: AC DENTI | E79: Crediti Rimasti | F79: ='Serie C'!AG31 -> 511 | G79: Rimanente | H79: 3
A80: PETAGNA | B80: 7 | C80: MILENKOVIC | D80: 8 | G80: P-D-C-A
A82: BRIGATA | E82: Crediti Rimasti | F82: ='Serie C'!AN31 -> 562 | G82: Rimanente | H82: 3
A83: DI LORENZO | B83: 3 | G83: P-D-C-A
A85: UNAJUNGLA | E85: Crediti Rimasti | F85: ='Serie C'!AU31 -> 511 | G85: Rimanente | H85: 3
A86: BENASSI | B86: 14 | C86: CAPUTO | D86: 21 | G86: P-D-C-A
A88: FANTALISBON | E88: Crediti Rimasti | F88: ='Serie C'!BB31 -> 500 | G88: Rimanente | H88: 3
A89: CORREA | B89: 9 | C89: MALCUIT | D89: 1 | E89: RADU I | F89: 1 | G89: P-D-C-A
A91: CICCIOBUCCIO | E91: Crediti Rimasti | F91: ='Serie C'!BI31 -> 508 | G91: Rimanente | H91: 3
G92: P-D-C-A
A94: PAUL FRANK INDUSTRIES | E94: Crediti Rimasti | F94: ='Serie C'!BP31 -> 540 | G94: Rimanente | H94: 3
A95: GERVINHO | B95: 29 | E95: FABIAN RUIZ | F95: 8 | G95: P-D-C-A
A99: SERIE D
A100: REALPETARE | E100: Crediti Rimasti | F100: ='Serie D'!E31 -> 514 | G100: Rimanente | H100: 3
C101: DI LORENZO | D101: 7 | E101: FREULER | F101: 15 | G101: P-D-C-A
A103: BAYERN BIKERS | E103: Crediti Rimasti | F103: ='Serie D'!L31 -> 524 | G103: Rimanente | H103: 3
A104: PELLEGRINI L | B104: 5 | C104: CASTAGNE | D104: 5 | G104: P-D-C-A
A106: CAGNANESE | E106: Crediti Rimasti | F106: ='Serie D'!S31 -> 502 | G106: Rimanente | H106: 3
C107: IAGO FALQUE | D107: 36 | E107: ANSALDI | F107: 9 | G107: P-D-C-A
A109: SAMBUCA | E109: Crediti Rimasti | F109: ='Serie D'!Z31 -> 511 | G109: Rimanente | H109: 3
A110: BARELLA | B110: 8 | G110: P-D-C-A
A112: LONGOBARDA | E112: Crediti Rimasti | F112: ='Serie D'!AG31 -> 506 | G112: Rimanente | H112: 3
A113: MANCINI G | B113: 4 | C113: CRAGNO | D113: 1 | G113: P-D-C-A
A115: STURM AND DRUGS | E115: Crediti Rimasti | F115: ='Serie D'!AN31 -> 507 | G115: Rimanente | H115: 3
A116: SENSI | B116: 1 | C116: AINA | D116: 1 | G116: P-D-C-A
A118: CIPPA CEP | E118: Crediti Rimasti | F118: ='Serie D'!AU31 -> 509 | G118: Rimanente | H118: 3
A119: BERNARDESCHI | B119: 17 | C119: HATEBOER | D119: 8 | E119: DEFREL | F119: 27 | G119: P-D-C-A
A121: SHANGAY BIS | E121: Crediti Rimasti | F121: ='Serie D'!BB31 -> 527 | G121: Rimanente | H121: 3
A122: FABIAN RUIZ | B122: 12 | G122: P-D-C-A
A124: FC LEAD | E124: Crediti Rimasti | F124: ='Serie D'!BI31 -> 511 | G124: Rimanente | H124: 3
A125: KRUNIC | B125: 6 | C125: CAPUTO | D125: 28 | G125: P-D-C-A
A127: REAL PAGA | E127: Crediti Rimasti | F127: ='Serie D'!BP31 -> 552 | G127: Rimanente | H127: 3
A128: IZZO | B128: 4 | C128: KUOAME | D128: 1 | G128: P-D-C-A
A132: ECCELLENZA
A133: REAL CHUPITO | E133: Crediti Rimasti | F133: =Eccellenza!E31 -> 519 | G133: Rimanente | H133: 3
A134: BASELLI | B134: 1 | G134: P-D-C-A
A136: UBACICCIA | E136: Crediti Rimasti | F136: =Eccellenza!L31 -> 513 | G136: Rimanente | H136: 3
G137: P-D-C-A
A139: FC BENEBENE | E139: Crediti Rimasti | F139: =Eccellenza!S31 -> 513 | G139: Rimanente | H139: 3
G140: P-D-C-A
A142: AGAINST MODERN FOOTBALL | E142: Crediti Rimasti | F142: =Eccellenza!Z31 -> 513 | G142: Rimanente | H142: 3
C143: ZAPATA | D143: 40 | G143: P-D-C-A
A145: BOCA CCIUCCO | E145: Crediti Rimasti | F145: =Eccellenza!AG31 -> 500 | G145: Rimanente | H145: 3
A146: KEAN | B146: 1 | C146: JOAO PEDRO | D146: 12 | E146: MILENKOVIC | F146: 8 | G146: P-D-C-A
A148: REAL MARKOTI | E148: Crediti Rimasti | F148: =Eccellenza!AN31 -> 505 | G148: Rimanente | H148: 3
A149: LAZZARI | B149: 3 | C149: ORSOLINI | D149: 1 | E149: DI LORENZO | F149: 4 | G149: P-D-C-A
A151: PATITANIKOS | E151: Crediti Rimasti | F151: =Eccellenza!AU31 -> 511 | G151: Rimanente | H151: 3
G152: P-D-C-A
...

Sheet Serie A
A1: EVRIBADI | F1: 69.72 | H1: BISCOTTI | M1: 69.79 | O1: MCTOWN | T1: 70.93 | V1: CYRANO | AA1: 71.16 | AC1: NEDVED11 | AH1: 71.65 | AJ1: FLYBEARD | AO1: 72.08 | AQ1: INTERFOGAT | AV1: 72.125 | AX1: MARCELLONA | BC1: 72.71 | BE1: PARDUS | BJ1: 72.8 | BL1: IBRADIPOSI | BQ1: 72.98
A2: Ruolo | B2: Calciatore | C2: Squadra | D2: Costo | E2: Giugno | F2: Settembre | H2: Ruolo | I2: Calciatore | J2: Squadra | K2: Costo | L2: Giugno | M2: Settembre | O2: Ruolo | P2: Calciatore | Q2: Squadra | R2: Costo | S2: Giugno | T2: Settembre | V2: Ruolo | W2: Calciatore | X2: Squadra | Y2: Costo | Z2: Giugno | AA2: Settembre | AC2: Ruolo | AD2: Calciatore | AE2: Squadra | AF2: Costo | AG2: Giugno | AH2: Settembre | AJ2: Ruolo | AK2: Calciatore | AL2: Squadra | AM2: Costo | AN2: Giugno | AO2: Settembre | AQ2: Ruolo | AR2: Calciatore | AS2: Squadra | AT2: Costo | AU2: Giugno | AV2: Settembre | AX2: Ruolo | AY2: Calciatore | AZ2: Squadra | BA2: Costo | BB2: Giugno | BC2: Settembre | BE2: Ruolo | BF2: Calciatore | BG2: Squadra | BH2: Costo | BI2: Giugno | BJ2: Settembre | BL2: Ruolo | BM2: Calciatore | BN2: Squadra | BO2: Costo | BP2: Giugno | BQ2: Settembre
A3: P | B3: MIRANTE | C3: Rom | D3: 2 | E3: =IF(A3="P",IF(D3<7,"SI","NO"),IF(A3="D",IF(D3<11,"SI","NO"),IF(A3="C",IF(D3<21,"SI","NO"),IF(A3="A",IF(D3<41,"SI","NO"))))) -> SI | F3: =IF(A3="P",IF(D3<4,"SI","NO"),IF(A3="D",IF(D3<6,"SI","NO"),IF(A3="C",IF(D3<11,"SI","NO"),IF(A3="A",IF(D3<21,"SI","NO"))))) -> SI | H3: P | I3: GUERRIERI | J3: Laz | K3: 1 | L3: =IF(H3="P",IF(K3<7,"SI","NO"),IF(H3="D",IF(K3<11,"SI","NO"),IF(H3="C",IF(K3<21,"SI","NO"),IF(H3="A",IF(K3<41,"SI","NO"))))) -> SI | M3: =IF(H3="P",IF(K3<4,"SI","NO"),IF(H3="D",IF(K3<6,"SI","NO"),IF(H3="C",IF(K3<11,"SI","NO"),IF(H3="A",IF(K3<21,"SI","NO"))))) -> SI | O3: P | P3: HANDANOVIC | Q3: Int | R3: 50 | S3: =IF(O3="P",IF(R3<7,"SI","NO"),IF(O3="D",IF(R3<11,"SI","NO"),IF(O3="C",IF(R3<21,"SI","NO"),IF(O3="A",IF(R3<41,"SI","NO"))))) -> NO | T3: =IF(O3="P",IF(R3<4,"SI","NO"),IF(O3="D",IF(R3<6,"SI","NO"),IF(O3="C",IF(R3<11,"SI","NO"),IF(O3="A",IF(R3<21,"SI","NO"))))) -> NO | V3: P | W3: SEPE | X3: Par | Y3: 3 | Z3: =IF(V3="P",IF(Y3<7,"SI","NO"),IF(V3="D",IF(Y3<11,"SI","NO"),IF(V3="C",IF(Y3<21,"SI","NO"),IF(V3="A",IF(Y3<41,"SI","NO"))))) -> SI | AA3: =IF(V3="P",IF(Y3<4,"SI","NO"),IF(V3="D",IF(Y3<6,"SI","NO"),IF(V3="C",IF(Y3<11,"SI","NO"),IF(V3="A",IF(Y3<21,"SI","NO"))))) -> SI | AC3: P | AD3: DONNARUMMA A | AE3: Mil | AF3: 1 | AG3: =IF(AC3="P",IF(AF3<7,"SI","NO"),IF(AC3="D",IF(AF3<11,"SI","NO"),IF(AC3="C",IF(AF3<21,"SI","NO"),IF(AC3="A",IF(AF3<41,"SI","NO"))))) -> SI | AH3: =IF(AC3="P",IF(AF3<4,"SI","NO"),IF(AC3="D",IF(AF3<6,"SI","NO"),IF(AC3="C",IF(AF3<11,"SI","NO"),IF(AC3="A",IF(AF3<21,"SI","NO"))))) -> SI | AJ3: P | AK3: SKORUPSKI | AL3: Bol | AM3: 6 | AN3: =IF(AJ3="P",IF(AM3<7,"SI","NO"),IF(AJ3="D",IF(AM3<11,"SI","NO"),IF(AJ3="C",IF(AM3<21,"SI","NO"),IF(AJ3="A",IF(AM3<41,"SI","NO"))))) -> SI | AO3: =IF(AJ3="P",IF(AM3<4,"SI","NO"),IF(AJ3="D",IF(AM3<6,"SI","NO"),IF(AJ3="C",IF(AM3<11,"SI","NO"),IF(AJ3="A",IF(AM3<21,"SI","NO"))))) -> NO | AQ3: P | AR3: KARNEZIS | AS3: Nap | AT3: 1 | AU3: =IF(AQ3="P",IF(AT3<7,"SI","NO"),IF(AQ3="D",IF(AT3<11,"SI","NO"),IF(AQ3="C",IF(AT3<21,"SI","NO"),IF(AQ3="A",IF(AT3<41,"SI","NO"))))) -> SI | AV3: =IF(AQ3="P",IF(AT3<4,"SI","NO"),IF(AQ3="D",IF(AT3<6,"SI","NO"),IF(AQ3="C",IF(AT3<11,"SI","NO"),IF(AQ3="A",IF(AT3<21,"SI","NO"))))) -> SI | AX3: P | AY3: DONNARUMMA A | AZ3: Mil | BA3: 1 | BB3: =IF(AX3="P",IF(BA3<7,"SI","NO"),IF(AX3="D",IF(BA3<11,"SI","NO"),IF(AX3="C",IF(BA3<21,"SI","NO"),IF(AX3="A",IF(BA3<41,"SI","NO"))))) -> SI | BC3: =IF(AX3="P",IF(BA3<4,"SI","NO"),IF(AX3="D",IF(BA3<6,"SI","NO"),IF(AX3="C",IF(BA3<11,"SI","NO"),IF(AX3="A",IF(BA3<21,"SI","NO"))))) -> SI | BE3: P | BF3: PERIN | BG3: Juv | BH3: 7 | BI3: =IF(BE3="P",IF(BH3<7,"SI","NO"),IF(BE3="D",IF(BH3<11,"SI","NO"),IF(BE3="C",IF(BH3<21,"SI","NO"),IF(BE3="A",IF(BH3<41,"SI","NO"))))) -> NO | BJ3: =IF(BE3="P",IF(BH3<4,"SI","NO"),IF(BE3="D",IF(BH3<6,"SI","NO"),IF(BE3="C",IF(BH3<11,"SI","NO"),IF(BE3="A",IF(BH3<21,"SI","NO"))))) -> NO | BL3: P | BM3: SORRENTINO | BN3: Chi | BO3: 1 | BP3: =IF(BL3="P",IF(BO3<7,"SI","NO"),IF(BL3="D",IF(BO3<11,"SI","NO"),IF(BL3="C",IF(BO3<21,"SI","NO"),IF(BL3="A",IF(BO3<41,"SI","NO"))))) -> SI | BQ3: =IF(BL3="P",IF(BO3<4,"SI","NO"),IF(BL3="D",IF(BO3<6,"SI","NO"),IF(BL3="C",IF(BO3<11,"SI","NO"),IF(BL3="A",IF(BO3<21,"SI","NO"))))) -> SI
A4: P | B4: SKORUPSKI | C4: Bol | D4: 1 | E4: =IF(A4="P",IF(D4<7,"SI","NO"),IF(A4="D",IF(D4<11,"SI","NO"),IF(A4="C",IF(D4<21,"SI","NO"),IF(A4="A",IF(D4<41,"SI","NO"))))) -> SI | F4: =IF(A4="P",IF(D4<4,"SI","NO"),IF(A4="D",IF(D4<6,"SI","NO"),IF(A4="C",IF(D4<11,"SI","NO"),IF(A4="A",IF(D4<21,"SI","NO"))))) -> SI | H4: P | I4: STRAKOSHA | J4: Laz | K4: 24 | L4: =IF(H4="P",IF(K4<7,"SI","NO"),IF(H4="D",IF(K4<11,"SI","NO"),IF(H4="C",IF(K4<21,"SI","NO"),IF(H4="A",IF(K4<41,"SI","NO"))))) -> NO | M4: =IF(H4="P",IF(K4<4,"SI","NO"),IF(H4="D",IF(K4<6,"SI","NO"),IF(H4="C",IF(K4<11,"SI","NO"),IF(H4="A",IF(K4<21,"SI","NO"))))) -> NO | O4: P | P4: PADELLI | Q4: Int | R4: 1 | S4: =IF(O4="P",IF(R4<7,"SI","NO"),IF(O4="D",IF(R4<11,"SI","NO"),IF(O4="C",IF(R4<21,"SI","NO"),IF(O4="A",IF(R4<41,"SI","NO"))))) -> SI | T4: =IF(O4="P",IF(R4<4,"SI","NO"),IF(O4="D",IF(R4<6,"SI","NO"),IF(O4="C",IF(R4<11,"SI","NO"),IF(O4="A",IF(R4<21,"SI","NO"))))) -> SI | V4: P | W4: AUDERO | X4: Sam | Y4: 13 | Z4: =IF(V4="P",IF(Y4<7,"SI","NO"),IF(V4="D",IF(Y4<11,"SI","NO"),IF(V4="C",IF(Y4<21,"SI","NO"),IF(V4="A",IF(Y4<41,"SI","NO"))))) -> NO | AA4: =IF(V4="P",IF(Y4<4,"SI","NO"),IF(V4="D",IF(Y4<6,"SI","NO"),IF(V4="C",IF(Y4<11,"SI","NO"),IF(V4="A",IF(Y4<21,"SI","NO"))))) -> NO | AC4: P | AD4: DONNARUMMA G | AE4: Mil | AF4: 41 | AG4: =IF(AC4="P",IF(AF4<7,"SI","NO"),IF(AC4="D",IF(AF4<11,"SI","NO"),IF(AC4="C",IF(AF4<21,"SI","NO"),IF(AC4="A",IF(AF4<41,"SI","NO"))))) -> NO | AH4: =IF(AC4="P",IF(AF4<4,"SI","NO"),IF(AC4="D",IF(AF4<6,"SI","NO"),IF(AC4="C",IF(AF4<11,"SI","NO"),IF(AC4="A",IF(AF4<21,"SI","NO"))))) -> NO | AJ4: P | AK4: BERISHA E | AL4: Ata | AM4: 18 | AN4: =IF(AJ4="P",IF(AM4<7,"SI","NO"),IF(AJ4="D",IF(AM4<11,"SI","NO"),IF(AJ4="C",IF(AM4<21,"SI","NO"),IF(AJ4="A",IF(AM4<41,"SI","NO"))))) -> NO | AO4: =IF(AJ4="P",IF(AM4<4,"SI","NO"),IF(AJ4="D",IF(AM4<6,"SI","NO"),IF(AJ4="C",IF(AM4<11,"SI","NO"),IF(AJ4="A",IF(AM4<21,"SI","NO"))))) -> NO | AQ4: P | AR4: MERET | AS4: Nap | AT4: 1 | AU4: =IF(AQ4="P",IF(AT4<7,"SI","NO"),IF(AQ4="D",IF(AT4<11,"SI","NO"),IF(AQ4="C",IF(AT4<21,"SI","NO"),IF(AQ4="A",IF(AT4<41,"SI","NO"))))) -> SI | AV4: =IF(AQ4="P",IF(AT4<4,"SI","NO"),IF(AQ4="D",IF(AT4<6,"SI","NO"),IF(AQ4="C",IF(AT4<11,"SI","NO"),IF(AQ4="A",IF(AT4<21,"SI","NO"))))) -> SI | AX4: P | AY4: DONNARUMMA G | AZ4: Mil | BA4: 37 | BB4: =IF(AX4="P",IF(BA4<7,"SI","NO"),IF(AX4="D",IF(BA4<11,"SI","NO"),IF(AX4="C",IF(BA4<21,"SI","NO"),IF(AX4="A",IF(BA4<41,"SI","NO"))))) -> NO | BC4: =IF(AX4="P",IF(BA4<4,"SI","NO"),IF(AX4="D",IF(BA4<6,"SI","NO"),IF(AX4="C",IF(BA4<11,"SI","NO"),IF(AX4="A",IF(BA4<21,"SI","NO"))))) -> NO | BE4: P | BF4: SZCZESNY | BG4: Juv | BH4: 56 | BI4: =IF(BE4="P",IF(BH4<7,"SI","NO"),IF(BE4="D",IF(BH4<11,"SI","NO"),IF(BE4="C",IF(BH4<21,"SI","NO"),IF(BE4="A",IF(BH4<41,"SI","NO"))))) -> NO | BJ4: =IF(BE4="P",IF(BH4<4,"SI","NO"),IF(BE4="D",IF(BH4<6,"SI","NO"),IF(BE4="C",IF(BH4<11,"SI","NO"),IF(BE4="A",IF(BH4<21,"SI","NO"))))) -> NO | BL4: P | BM4: CRAGNO | BN4: Cag | BO4: 2 | BP4: =IF(BL4="P",IF(BO4<7,"SI","NO"),IF(BL4="D",IF(BO4<11,"SI","NO"),IF(BL4="C",IF(BO4<21,"SI","NO"),IF(BL4="A",IF(BO4<41,"SI","NO"))))) -> SI | BQ4: =IF(BL4="P",IF(BO4<4,"SI","NO"),IF(BL4="D",IF(BO4<6,"SI","NO"),IF(BL4="C",IF(BO4<11,"SI","NO"),IF(BL4="A",IF(BO4<21,"SI","NO"))))) -> SI
A5: P | B5: OLSEN | C5: Rom | D5: 47 | E5: =IF(A5="P",IF(D5<7,"SI","NO"),IF(A5="D",IF(D5<11,"SI","NO"),IF(A5="C",IF(D5<21,"SI","NO"),IF(A5="A",IF(D5<41,"SI","NO"))))) -> NO | F5: =IF(A5="P",IF(D5<4,"SI","NO"),IF(A5="D",IF(D5<6,"SI","NO"),IF(A5="C",IF(D5<11,"SI","NO"),IF(A5="A",IF(D5<21,"SI","NO"))))) -> NO | H5: P | I5: PROTO | J5: Laz | K5: 1 | L5: =IF(H5="P",IF(K5<7,"SI","NO"),IF(H5="D",IF(K5<11,"SI","NO"),IF(H5="C",IF(K5<21,"SI","NO"),IF(H5="A",IF(K5<41,"SI","NO"))))) -> SI | M5: =IF(H5="P",IF(K5<4,"SI","NO"),IF(H5="D",IF(K5<6,"SI","NO"),IF(H5="C",IF(K5<11,"SI","NO"),IF(H5="A",IF(K5<21,"SI","NO"))))) -> SI | O5: P | P5: PROVEDEL | Q5: Emp | R5: 1 | S5: =IF(O5="P",IF(R5<7,"SI","NO"),IF(O5="D",IF(R5<11,"SI","NO"),IF(O5="C",IF(R5<21,"SI","NO"),IF(O5="A",IF(R5<41,"SI","NO"))))) -> SI | T5: =IF(O5="P",IF(R5<4,"SI","NO"),IF(O5="D",IF(R5<6,"SI","NO"),IF(O5="C",IF(R5<11,"SI","NO"),IF(O5="A",IF(R5<21,"SI","NO"))))) -> SI | V5: P | W5: LAFONT | X5: Fio | Y5: 15 | Z5: =IF(V5="P",IF(Y5<7,"SI","NO"),IF(V5="D",IF(Y5<11,"SI","NO"),IF(V5="C",IF(Y5<21,"SI","NO"),IF(V5="A",IF(Y5<41,"SI","NO"))))) -> NO | AA5: =IF(V5="P",IF(Y5<4,"SI","NO"),IF(V5="D",IF(Y5<6,"SI","NO"),IF(V5="C",IF(Y5<11,"SI","NO"),IF(V5="A",IF(Y5<21,"SI","NO"))))) -> NO | AC5: P | AD5: REINA | AE5: Mil | AF5: 1 | AG5: =IF(AC5="P",IF(AF5<7,"SI","NO"),IF(AC5="D",IF(AF5<11,"SI","NO"),IF(AC5="C",IF(AF5<21,"SI","NO"),IF(AC5="A",IF(AF5<41,"SI","NO"))))) -> SI | AH5: =IF(AC5="P",IF(AF5<4,"SI","NO"),IF(AC5="D",IF(AF5<6,"SI","NO"),IF(AC5="C",IF(AF5<11,"SI","NO"),IF(AC5="A",IF(AF5<21,"SI","NO"))))) -> SI | AJ5: P | AK5: GOLLINI | AL5: Ata | AM5: 1 | AN5: =IF(AJ5="P",IF(AM5<7,"SI","NO"),IF(AJ5="D",IF(AM5<11,"SI","NO"),IF(AJ5="C",IF(AM5<21,"SI","NO"),IF(AJ5="A",IF(AM5<41,"SI","NO"))))) -> SI | AO5: =IF(AJ5="P",IF(AM5<4,"SI","NO"),IF(AJ5="D",IF(AM5<6,"SI","NO"),IF(AJ5="C",IF(AM5<11,"SI","NO"),IF(AJ5="A",IF(AM5<21,"SI","NO"))))) -> SI | AQ5: P | AR5: OSPINA | AS5: Nap | AT5: 6 | AU5: =IF(AQ5="P",IF(AT5<7,"SI","NO"),IF(AQ5="D",IF(AT5<11,"SI","NO"),IF(AQ5="C",IF(AT5<21,"SI","NO"),IF(AQ5="A",IF(AT5<41,"SI","NO"))))) -> SI | AV5: =IF(AQ5="P",IF(AT5<4,"SI","NO"),IF(AQ5="D",IF(AT5<6,"SI","NO"),IF(AQ5="C",IF(AT5<11,"SI","NO"),IF(AQ5="A",IF(AT5<21,"SI","NO"))))) -> NO | AX5: P | AY5: REINA | AZ5: Mil | BA5: 1 | BB5: =IF(AX5="P",IF(BA5<7,"SI","NO"),IF(AX5="D",IF(BA5<11,"SI","NO"),IF(AX5="C",IF(BA5<21,"SI","NO"),IF(AX5="A",IF(BA5<41,"SI","NO"))))) -> SI | BC5: =IF(AX5="P",IF(BA5<4,"SI","NO"),IF(AX5="D",IF(BA5<6,"SI","NO"),IF(AX5="C",IF(BA5<11,"SI","NO"),IF(AX5="A",IF(BA5<21,"SI","NO"))))) -> SI | BE5: P | BF5: PINSOGLIO | BG5: Juv | BH5: 1 | BI5: =IF(BE5="P",IF(BH5<7,"SI","NO"),IF(BE5="D",IF(BH5<11,"SI","NO"),IF(BE5="C",IF(BH5<21,"SI","NO"),IF(BE5="A",IF(BH5<41,"SI","NO"))))) -> SI | BJ5: =IF(BE5="P",IF(BH5<4,"SI","NO"),IF(BE5="D",IF(BH5<6,"SI","NO"),IF(BE5="C",IF(BH5<11,"SI","NO"),IF(BE5="A",IF(BH5<21,"SI","NO"))))) -> SI | BL5: P | BM5: LAFONT | BN5: Fio | BO5: 4 | BP5: =IF(BL5="P",IF(BO5<7,"SI","NO"),IF(BL5="D",IF(BO5<11,"SI","NO"),IF(BL5="C",IF(BO5<21,"SI","NO"),IF(BL5="A",IF(BO5<41,"SI","NO"))))) -> SI | BQ5: =IF(BL5="P",IF(BO5<4,"SI","NO"),IF(BL5="D",IF(BO5<6,"SI","NO"),IF(BL5="C",IF(BO5<11,"SI","NO"),IF(BL5="A",IF(BO5<21,"SI","NO"))))) -> NO
A6: D | B6: ROSSETTINI | C6: Chi | D6: 1 | E6: =IF(A6="P",IF(D6<7,"SI","NO"),IF(A6="D",IF(D6<11,"SI","NO"),IF(A6="C",IF(D6<21,"SI","NO"),IF(A6="A",IF(D6<41,"SI","NO"))))) -> SI | F6: =IF(A6="P",IF(D6<4,"SI","NO"),IF(A6="D",IF(D6<6,"SI","NO"),IF(A6="C",IF(D6<11,"SI","NO"),IF(A6="A",IF(D6<21,"SI","NO"))))) -> SI | H6: D | I6: CACERES | J6: Juv | K6: 1 | L6: =IF(H6="P",IF(K6<7,"SI","NO"),IF(H6="D",IF(K6<11,"SI","NO"),IF(H6="C",IF(K6<21,"SI","NO"),IF(H6="A",IF(K6<41,"SI","NO"))))) -> SI | M6: =IF(H6="P",IF(K6<4,"SI","NO"),IF(H6="D",IF(K6<6,"SI","NO"),IF(H6="C",IF(K6<11,"SI","NO"),IF(H6="A",IF(K6<21,"SI","NO"))))) -> SI | O6: D | P6: CONTI | Q6: Mil | R6: 11 | S6: =IF(O6="P",IF(R6<7,"SI","NO"),IF(O6="D",IF(R6<11,"SI","NO"),IF(O6="C",IF(R6<21,"SI","NO"),IF(O6="A",IF(R6<41,"SI","NO"))))) -> NO | T6: =IF(O6="P",IF(R6<4,"SI","NO"),IF(O6="D",IF(R6<6,"SI","NO"),IF(O6="C",IF(R6<11,"SI","NO"),IF(O6="A",IF(R6<21,"SI","NO"))))) -> NO | V6: D | W6: BONUCCI | X6: Juv | Y6: 22 | Z6: =IF(V6="P",IF(Y6<7,"SI","NO"),IF(V6="D",IF(Y6<11,"SI","NO"),IF(V6="C",IF(Y6<21,"SI","NO"),IF(V6="A",IF(Y6<41,"SI","NO"))))) -> NO | AA6: =IF(V6="P",IF(Y6<4,"SI","NO"),IF(V6="D",IF(Y6<6,"SI","NO"),IF(V6="C",IF(Y6<11,"SI","NO"),IF(V6="A",IF(Y6<21,"SI","NO"))))) -> NO | AC6: D | AD6: MARIO RUI | AE6: Nap | AF6: 8 | AG6: =IF(AC6="P",IF(AF6<7,"SI","NO"),IF(AC6="D",IF(AF6<11,"SI","NO"),IF(AC6="C",IF(AF6<21,"SI","NO"),IF(AC6="A",IF(AF6<41,"SI","NO"))))) -> SI | AH6: =IF(AC6="P",IF(AF6<4,"SI","NO"),IF(AC6="D",IF(AF6<6,"SI","NO"),IF(AC6="C",IF(AF6<11,"SI","NO"),IF(AC6="A",IF(AF6<21,"SI","NO"))))) -> NO | AJ6: D | AK6: MATTIELLO | AL6: Bol | AM6: 1 | AN6: =IF(AJ6="P",IF(AM6<7,"SI","NO"),IF(AJ6="D",IF(AM6<11,"SI","NO"),IF(AJ6="C",IF(AM6<21,"SI","NO"),IF(AJ6="A",IF(AM6<41,"SI","NO"))))) -> SI | AO6: =IF(AJ6="P",IF(AM6<4,"SI","NO"),IF(AJ6="D",IF(AM6<6,"SI","NO"),IF(AJ6="C",IF(AM6<11,"SI","NO"),IF(AJ6="A",IF(AM6<21,"SI","NO"))))) -> SI | AQ6: D | AR6: MASIELLO A | AS6: Ata | AT6: 1 | AU6: =IF(AQ6="P",IF(AT6<7,"SI","NO"),IF(AQ6="D",IF(AT6<11,"SI","NO"),IF(AQ6="C",IF(AT6<21,"SI","NO"),IF(AQ6="A",IF(AT6<41,"SI","NO"))))) -> SI | AV6: =IF(AQ6="P",IF(AT6<4,"SI","NO"),IF(AQ6="D",IF(AT6<6,"SI","NO"),IF(AQ6="C",IF(AT6<11,"SI","NO"),IF(AQ6="A",IF(AT6<21,"SI","NO"))))) -> SI | AX6: D | AY6: IZZO | AZ6: Tor | BA6: 6 | BB6: =IF(AX6="P",IF(BA6<7,"SI","NO"),IF(AX6="D",IF(BA6<11,"SI","NO"),IF(AX6="C",IF(BA6<21,"SI","NO"),IF(AX6="A",IF(BA6<41,"SI","NO"))))) -> SI | BC6: =IF(AX6="P",IF(BA6<4,"SI","NO"),IF(AX6="D",IF(BA6<6,"SI","NO"),IF(AX6="C",IF(BA6<11,"SI","NO"),IF(AX6="A",IF(BA6<21,"SI","NO"))))) -> NO | BE6: D | BF6: RADU | BG6: Laz | BH6: 2 | BI6: =IF(BE6="P",IF(BH6<7,"SI","NO"),IF(BE6="D",IF(BH6<11,"SI","NO"),IF(BE6="C",IF(BH6<21,"SI","NO"),IF(BE6="A",IF(BH6<41,"SI","NO"))))) -> SI | BJ6: =IF(BE6="P",IF(BH6<4,"SI","NO"),IF(BE6="D",IF(BH6<6,"SI","NO"),IF(BE6="C",IF(BH6<11,"SI","NO"),IF(BE6="A",IF(BH6<21,"SI","NO"))))) -> SI | BL6: D | BM6: TOLOI | BN6: Ata | BO6: 13 | BP6: =IF(BL6="P",IF(BO6<7,"SI","NO"),IF(BL6="D",IF(BO6<11,"SI","NO"),IF(BL6="C",IF(BO6<21,"SI","NO"),IF(BL6="A",IF(BO6<41,"SI","NO"))))) -> NO | BQ6: =IF(BL6="P",IF(BO6<4,"SI","NO"),IF(BL6="D",IF(BO6<6,"SI","NO"),IF(BL6="C",IF(BO6<11,"SI","NO"),IF(BL6="A",IF(BO6<21,"SI","NO"))))) -> NO
A7: D | B7: MATTIELLO | C7: Bol | D7: 4 | E7: =IF(A7="P",IF(D7<7,"SI","NO"),IF(A7="D",IF(D7<11,"SI","NO"),IF(A7="C",IF(D7<21,"SI","NO"),IF(A7="A",IF(D7<41,"SI","NO"))))) -> SI | F7: =IF(A7="P",IF(D7<4,"SI","NO"),IF(A7="D",IF(D7<6,"SI","NO"),IF(A7="C",IF(D7<11,"SI","NO"),IF(A7="A",IF(D7<21,"SI","NO"))))) -> SI | H7: D | I7: KOULIBALY | J7: Nap | K7: 35 | L7: =IF(H7="P",IF(K7<7,"SI","NO"),IF(H7="D",IF(K7<11,"SI","NO"),IF(H7="C",IF(K7<21,"SI","NO"),IF(H7="A",IF(K7<41,"SI","NO"))))) -> NO | M7: =IF(H7="P",IF(K7<4,"SI","NO"),IF(H7="D",IF(K7<6,"SI","NO"),IF(H7="C",IF(K7<11,"SI","NO"),IF(H7="A",IF(K7<21,"SI","NO"))))) -> NO | O7: D | P7: IZZO | Q7: Tor | R7: 7 | S7: =IF(O7="P",IF(R7<7,"SI","NO"),IF(O7="D",IF(R7<11,"SI","NO"),IF(O7="C",IF(R7<21,"SI","NO"),IF(O7="A",IF(R7<41,"SI","NO"))))) -> SI | T7: =IF(O7="P",IF(R7<4,"SI","NO"),IF(O7="D",IF(R7<6,"SI","NO"),IF(O7="C",IF(R7<11,"SI","NO"),IF(O7="A",IF(R7<21,"SI","NO"))))) -> NO | V7: D | W7: CHIELLINI | X7: Juv | Y7: 19 | Z7: =IF(V7="P",IF(Y7<7,"SI","NO"),IF(V7="D",IF(Y7<11,"SI","NO"),IF(V7="C",IF(Y7<21,"SI","NO"),IF(V7="A",IF(Y7<41,"SI","NO"))))) -> NO | AA7: =IF(V7="P",IF(Y7<4,"SI","NO"),IF(V7="D",IF(Y7<6,"SI","NO"),IF(V7="C",IF(Y7<11,"SI","NO"),IF(V7="A",IF(Y7<21,"SI","NO"))))) -> NO | AC7: D | AD7: TONELLI | AE7: Sam | AF7: 8 | AG7: =IF(AC7="P",IF(AF7<7,"SI","NO"),IF(AC7="D",IF(AF7<11,"SI","NO"),IF(AC7="C",IF(AF7<21,"SI","NO"),IF(AC7="A",IF(AF7<41,"SI","NO"))))) -> SI | AH7: =IF(AC7="P",IF(AF7<4,"SI","NO"),IF(AC7="D",IF(AF7<6,"SI","NO"),IF(AC7="C",IF(AF7<11,"SI","NO"),IF(AC7="A",IF(AF7<21,"SI","NO"))))) -> NO | AJ7: D | AK7: HYSAJ | AL7: Nap | AM7: 11 | AN7: =IF(AJ7="P",IF(AM7<7,"SI","NO"),IF(AJ7="D",IF(AM7<11,"SI","NO"),IF(AJ7="C",IF(AM7<21,"SI","NO"),IF(AJ7="A",IF(AM7<41,"SI","NO"))))) -> NO | AO7: =IF(AJ7="P",IF(AM7<4,"SI","NO"),IF(AJ7="D",IF(AM7<6,"SI","NO"),IF(AJ7="C",IF(AM7<11,"SI","NO"),IF(AJ7="A",IF(AM7<21,"SI","NO"))))) -> NO | AQ7: D | AR7: D'AMBROSIO | AS7: Int | AT7: 3 | AU7: =IF(AQ7="P",IF(AT7<7,"SI","NO"),IF(AQ7="D",IF(AT7<11,"SI","NO"),IF(AQ7="C",IF(AT7<21,"SI","NO"),IF(AQ7="A",IF(AT7<41,"SI","NO"))))) -> SI | AV7: =IF(AQ7="P",IF(AT7<4,"SI","NO"),IF(AQ7="D",IF(AT7<6,"SI","NO"),IF(AQ7="C",IF(AT7<11,"SI","NO"),IF(AQ7="A",IF(AT7<21,"SI","NO"))))) -> SI | AX7: D | AY7: ZUKANOVIC | AZ7: Gen | BA7: 1 | BB7: =IF(AX7="P",IF(BA7<7,"SI","NO"),IF(AX7="D",IF(BA7<11,"SI","NO"),IF(AX7="C",IF(BA7<21,"SI","NO"),IF(AX7="A",IF(BA7<41,"SI","NO"))))) -> SI | BC7: =IF(AX7="P",IF(BA7<4,"SI","NO"),IF(AX7="D",IF(BA7<6,"SI","NO"),IF(AX7="C",IF(BA7<11,"SI","NO"),IF(AX7="A",IF(BA7<21,"SI","NO"))))) -> SI | BE7: D | BF7: ALBIOL | BG7: Nap | BH7: 20 | BI7: =IF(BE7="P",IF(BH7<7,"SI","NO"),IF(BE7="D",IF(BH7<11,"SI","NO"),IF(BE7="C",IF(BH7<21,"SI","NO"),IF(BE7="A",IF(BH7<41,"SI","NO"))))) -> NO | BJ7: =IF(BE7="P",IF(BH7<4,"SI","NO"),IF(BE7="D",IF(BH7<6,"SI","NO"),IF(BE7="C",IF(BH7<11,"SI","NO"),IF(BE7="A",IF(BH7<21,"SI","NO"))))) -> NO | BL7: D | BM7: ANSALDI | BN7: Tor | BO7: 2 | BP7: =IF(BL7="P",IF(BO7<7,"SI","NO"),IF(BL7="D",IF(BO7<11,"SI","NO"),IF(BL7="C",IF(BO7<21,"SI","NO"),IF(BL7="A",IF(BO7<41,"SI","NO"))))) -> SI | BQ7: =IF(BL7="P",IF(BO7<4,"SI","NO"),IF(BL7="D",IF(BO7<6,"SI","NO"),IF(BL7="C",IF(BO7<11,"SI","NO"),IF(BL7="A",IF(BO7<21,"SI","NO"))))) -> SI
A8: D | B8: DE VRIJ | C8: Int | D8: 21 | E8: =IF(A8="P",IF(D8<7,"SI","NO"),IF(A8="D",IF(D8<11,"SI","NO"),IF(A8="C",IF(D8<21,"SI","NO"),IF(A8="A",IF(D8<41,"SI","NO"))))) -> NO | F8: =IF(A8="P",IF(D8<4,"SI","NO"),IF(A8="D",IF(D8<6,"SI","NO"),IF(A8="C",IF(D8<11,"SI","NO"),IF(A8="A",IF(D8<21,"SI","NO"))))) -> NO | H8: D | I8: ROMAGNOLI A | J8: Mil | K8: 17 | L8: =IF(H8="P",IF(K8<7,"SI","NO"),IF(H8="D",IF(K8<11,"SI","NO"),IF(H8="C",IF(K8<21,"SI","NO"),IF(H8="A",IF(K8<41,"SI","NO"))))) -> NO | M8: =IF(H8="P",IF(K8<4,"SI","NO"),IF(H8="D",IF(K8<6,"SI","NO"),IF(H8="C",IF(K8<11,"SI","NO"),IF(H8="A",IF(K8<21,"SI","NO"))))) -> NO | O8: D | P8: BIRAGHI | Q8: Fio | R8: 10 | S8: =IF(O8="P",IF(R8<7,"SI","NO"),IF(O8="D",IF(R8<11,"SI","NO"),IF(O8="C",IF(R8<21,"SI","NO"),IF(O8="A",IF(R8<41,"SI","NO"))))) -> SI | T8: =IF(O8="P",IF(R8<4,"SI","NO"),IF(O8="D",IF(R8<6,"SI","NO"),IF(O8="C",IF(R8<11,"SI","NO"),IF(O8="A",IF(R8<21,"SI","NO"))))) -> NO | V8: D | W8: RUGANI | X8: Juv | Y8: 20 | Z8: =IF(V8="P",IF(Y8<7,"SI","NO"),IF(V8="D",IF(Y8<11,"SI","NO"),IF(V8="C",IF(Y8<21,"SI","NO"),IF(V8="A",IF(Y8<41,"SI","NO"))))) -> NO | AA8: =IF(V8="P",IF(Y8<4,"SI","NO"),IF(V8="D",IF(Y8<6,"SI","NO"),IF(V8="C",IF(Y8<11,"SI","NO"),IF(V8="A",IF(Y8<21,"SI","NO"))))) -> NO | AC8: D | AD8: GHOULAM | AE8: Nap | AF8: 12 | AG8: =IF(AC8="P",IF(AF8<7,"SI","NO"),IF(AC8="D",IF(AF8<11,"SI","NO"),IF(AC8="C",IF(AF8<21,"SI","NO"),IF(AC8="A",IF(AF8<41,"SI","NO"))))) -> NO | AH8: =IF(AC8="P",IF(AF8<4,"SI","NO"),IF(AC8="D",IF(AF8<6,"SI","NO"),IF(AC8="C",IF(AF8<11,"SI","NO"),IF(AC8="A",IF(AF8<21,"SI","NO"))))) -> NO | AJ8: D | AK8: DE SILVESTRI | AL8: Tor | AM8: 1 | AN8: =IF(AJ8="P",IF(AM8<7,"SI","NO"),IF(AJ8="D",IF(AM8<11,"SI","NO"),IF(AJ8="C",IF(AM8<21,"SI","NO"),IF(AJ8="A",IF(AM8<41,"SI","NO"))))) -> SI | AO8: =IF(AJ8="P",IF(AM8<4,"SI","NO"),IF(AJ8="D",IF(AM8<6,"SI","NO"),IF(AJ8="C",IF(AM8<11,"SI","NO"),IF(AJ8="A",IF(AM8<21,"SI","NO"))))) -> SI | AQ8: D | AR8: DE SCIGLIO | AS8: Juv | AT8: 1 | AU8: =IF(AQ8="P",IF(AT8<7,"SI","NO"),IF(AQ8="D",IF(AT8<11,"SI","NO"),IF(AQ8="C",IF(AT8<21,"SI","NO"),IF(AQ8="A",IF(AT8<41,"SI","NO"))))) -> SI | AV8: =IF(AQ8="P",IF(AT8<4,"SI","NO"),IF(AQ8="D",IF(AT8<6,"SI","NO"),IF(AQ8="C",IF(AT8<11,"SI","NO"),IF(AQ8="A",IF(AT8<21,"SI","NO"))))) -> SI | AX8: D | AY8: ALEX SANDRO | AZ8: Juv | BA8: 30 | BB8: 4 | BC8: =IF(AX8="P",IF(BA8<4,"SI","NO"),IF(AX8="D",IF(BA8<6,"SI","NO"),IF(AX8="C",IF(BA8<11,"SI","NO"),IF(AX8="A",IF(BA8<21,"SI","NO"))))) -> NO | BE8: D | BF8: SAMIR | BG8: Udi | BH8: 2 | BI8: =IF(BE8="P",IF(BH8<7,"SI","NO"),IF(BE8="D",IF(BH8<11,"SI","NO"),IF(BE8="C",IF(BH8<21,"SI","NO"),IF(BE8="A",IF(BH8<41,"SI","NO"))))) -> SI | BJ8: =IF(BE8="P",IF(BH8<4,"SI","NO"),IF(BE8="D",IF(BH8<6,"SI","NO"),IF(BE8="C",IF(BH8<11,"SI","NO"),IF(BE8="A",IF(BH8<21,"SI","NO"))))) -> SI | BL8: D | BM8: BRUNO ALVES | BN8: Par | BO8: 2 | BP8: =IF(BL8="P",IF(BO8<7,"SI","NO"),IF(BL8="D",IF(BO8<11,"SI","NO"),IF(BL8="C",IF(BO8<21,"SI","NO"),IF(BL8="A",IF(BO8<41,"SI","NO"))))) -> SI | BQ8: =IF(BL8="P",IF(BO8<4,"SI","NO"),IF(BL8="D",IF(BO8<6,"SI","NO"),IF(BL8="C",IF(BO8<11,"SI","NO"),IF(BL8="A",IF(BO8<21,"SI","NO"))))) -> SI
A9: D | B9: CEPPITELLI | C9: Cag | D9: 1 | E9: =IF(A9="P",IF(D9<7,"SI","NO"),IF(A9="D",IF(D9<11,"SI","NO"),IF(A9="C",IF(D9<21,"SI","NO"),IF(A9="A",IF(D9<41,"SI","NO"))))) -> SI | F9: =IF(A9="P",IF(D9<4,"SI","NO"),IF(A9="D",IF(D9<6,"SI","NO"),IF(A9="C",IF(D9<11,"SI","NO"),IF(A9="A",IF(D9<21,"SI","NO"))))) -> SI | H9: D | I9: SKRINIAR | J9: Int | K9: 34 | L9: =IF(H9="P",IF(K9<7,"SI","NO"),IF(H9="D",IF(K9<11,"SI","NO"),IF(H9="C",IF(K9<21,"SI","NO"),IF(H9="A",IF(K9<41,"SI","NO"))))) -> NO | M9: =IF(H9="P",IF(K9<4,"SI","NO"),IF(H9="D",IF(K9<6,"SI","NO"),IF(H9="C",IF(K9<11,"SI","NO"),IF(H9="A",IF(K9<21,"SI","NO"))))) -> NO | O9: D | P9: CALABRIA | Q9: Mil | R9: 2 | S9: =IF(O9="P",IF(R9<7,"SI","NO"),IF(O9="D",IF(R9<11,"SI","NO"),IF(O9="C",IF(R9<21,"SI","NO"),IF(O9="A",IF(R9<41,"SI","NO"))))) -> SI | T9: =IF(O9="P",IF(R9<4,"SI","NO"),IF(O9="D",IF(R9<6,"SI","NO"),IF(O9="C",IF(R9<11,"SI","NO"),IF(O9="A",IF(R9<21,"SI","NO"))))) -> SI | V9: D | W9: FAZIO | X9: Rom | Y9: 7 | Z9: =IF(V9="P",IF(Y9<7,"SI","NO"),IF(V9="D",IF(Y9<11,"SI","NO"),IF(V9="C",IF(Y9<21,"SI","NO"),IF(V9="A",IF(Y9<41,"SI","NO"))))) -> SI | AA9: =IF(V9="P",IF(Y9<4,"SI","NO"),IF(V9="D",IF(Y9<6,"SI","NO"),IF(V9="C",IF(Y9<11,"SI","NO"),IF(V9="A",IF(Y9<21,"SI","NO"))))) -> NO | AC9: D | AD9: ALEX SANDRO | AE9: Juv | AF9: 34 | AG9: =IF(AC9="P",IF(AF9<7,"SI","NO"),IF(AC9="D",IF(AF9<11,"SI","NO"),IF(AC9="C",IF(AF9<21,"SI","NO"),IF(AC9="A",IF(AF9<41,"SI","NO"))))) -> NO | AH9: =IF(AC9="P",IF(AF9<4,"SI","NO"),IF(AC9="D",IF(AF9<6,"SI","NO"),IF(AC9="C",IF(AF9<11,"SI","NO"),IF(AC9="A",IF(AF9<21,"SI","NO"))))) -> NO | AJ9: D | AK9: PALOMINO | AL9: Ata | AM9: 7 | AN9: =IF(AJ9="P",IF(AM9<7,"SI","NO"),IF(AJ9="D",IF(AM9<11,"SI","NO"),IF(AJ9="C",IF(AM9<21,"SI","NO"),IF(AJ9="A",IF(AM9<41,"SI","NO"))))) -> SI | AO9: =IF(AJ9="P",IF(AM9<4,"SI","NO"),IF(AJ9="D",IF(AM9<6,"SI","NO"),IF(AJ9="C",IF(AM9<11,"SI","NO"),IF(AJ9="A",IF(AM9<21,"SI","NO"))))) -> NO | AQ9: D | AR9: ACERBI | AS9: Laz | AT9: 18 | AU9: =IF(AQ9="P",IF(AT9<7,"SI","NO"),IF(AQ9="D",IF(AT9<11,"SI","NO"),IF(AQ9="C",IF(AT9<21,"SI","NO"),IF(AQ9="A",IF(AT9<41,"SI","NO"))))) -> NO | AV9: =IF(AQ9="P",IF(AT9<4,"SI","NO"),IF(AQ9="D",IF(AT9<6,"SI","NO"),IF(AQ9="C",IF(AT9<11,"SI","NO"),IF(AQ9="A",IF(AT9<21,"SI","NO"))))) -> NO | AX9: D | AY9: CEPPITELLI | AZ9: Cag | BA9: 1 | BB9: =IF(AX9="P",IF(BA9<7,"SI","NO"),IF(AX9="D",IF(BA9<11,"SI","NO"),IF(AX9="C",IF(BA9<21,"SI","NO"),IF(AX9="A",IF(BA9<41,"SI","NO"))))) -> SI | BC9: =IF(AX9="P",IF(BA9<4,"SI","NO"),IF(AX9="D",IF(BA9<6,"SI","NO"),IF(AX9="C",IF(BA9<11,"SI","NO"),IF(AX9="A",IF(BA9<21,"SI","NO"))))) -> SI | BE9: D | BF9: LUKAKU J | BG9: Laz | BH9: 1 | BI9: =IF(BE9="P",IF(BH9<7,"SI","NO"),IF(BE9="D",IF(BH9<11,"SI","NO"),IF(BE9="C",IF(BH9<21,"SI","NO"),IF(BE9="A",IF(BH9<41,"SI","NO"))))) -> SI | BJ9: =IF(BE9="P",IF(BH9<4,"SI","NO"),IF(BE9="D",IF(BH9<6,"SI","NO"),IF(BE9="C",IF(BH9<11,"SI","NO"),IF(BE9="A",IF(BH9<21,"SI","NO"))))) -> SI | BL9: D | BM9: ROMAGNA | BN9: Cag | BO9: 3 | BP9: =IF(BL9="P",IF(BO9<7,"SI","NO"),IF(BL9="D",IF(BO9<11,"SI","NO"),IF(BL9="C",IF(BO9<21,"SI","NO"),IF(BL9="A",IF(BO9<41,"SI","NO"))))) -> SI | BQ9: =IF(BL9="P",IF(BO9<4,"SI","NO"),IF(BL9="D",IF(BO9<6,"SI","NO"),IF(BL9="C",IF(BO9<11,"SI","NO"),IF(BL9="A",IF(BO9<21,"SI","NO"))))) -> SI
A10: D | B10: GOSENS | C10: Ata | D10: 3 | E10: =IF(A10="P",IF(D10<7,"SI","NO"),IF(A10="D",IF(D10<11,"SI","NO"),IF(A10="C",IF(D10<21,"SI","NO"),IF(A10="A",IF(D10<41,"SI","NO"))))) -> SI | F10: =IF(A10="P",IF(D10<4,"SI","NO"),IF(A10="D",IF(D10<6,"SI","NO"),IF(A10="C",IF(D10<11,"SI","NO"),IF(A10="A",IF(D10<21,"SI","NO"))))) -> SI | H10: D | I10: MURRU | J10: Sam | K10: 1 | L10: =IF(H10="P",IF(K10<7,"SI","NO"),IF(H10="D",IF(K10<11,"SI","NO"),IF(H10="C",IF(K10<21,"SI","NO"),IF(H10="A",IF(K10<41,"SI","NO"))))) -> SI | M10: =IF(H10="P",IF(K10<4,"SI","NO"),IF(H10="D",IF(K10<6,"SI","NO"),IF(H10="C",IF(K10<11,"SI","NO"),IF(H10="A",IF(K10<21,"SI","NO"))))) -> SI | O10: D | P10: FERRARI G | Q10: Sas | R10: 5 | S10: =IF(O10="P",IF(R10<7,"SI","NO"),IF(O10="D",IF(R10<11,"SI","NO"),IF(O10="C",IF(R10<21,"SI","NO"),IF(O10="A",IF(R10<41,"SI","NO"))))) -> SI | T10: =IF(O10="P",IF(R10<4,"SI","NO"),IF(O10="D",IF(R10<6,"SI","NO"),IF(O10="C",IF(R10<11,"SI","NO"),IF(O10="A",IF(R10<21,"SI","NO"))))) -> SI | V10: D | W10: BIRASCHI | X10: Gen | Y10: 1 | Z10: =IF(V10="P",IF(Y10<7,"SI","NO"),IF(V10="D",IF(Y10<11,"SI","NO"),IF(V10="C",IF(Y10<21,"SI","NO"),IF(V10="A",IF(Y10<41,"SI","NO"))))) -> SI | AA10: =IF(V10="P",IF(Y10<4,"SI","NO"),IF(V10="D",IF(Y10<6,"SI","NO"),IF(V10="C",IF(Y10<11,"SI","NO"),IF(V10="A",IF(Y10<21,"SI","NO"))))) -> SI | AC10: D | AD10: BRUNO ALVES | AE10: Par | AF10: 13 | AG10: =IF(AC10="P",IF(AF10<7,"SI","NO"),IF(AC10="D",IF(AF10<11,"SI","NO"),IF(AC10="C",IF(AF10<21,"SI","NO"),IF(AC10="A",IF(AF10<41,"SI","NO"))))) -> NO | AH10: =IF(AC10="P",IF(AF10<4,"SI","NO"),IF(AC10="D",IF(AF10<6,"SI","NO"),IF(AC10="C",IF(AF10<11,"SI","NO"),IF(AC10="A",IF(AF10<21,"SI","NO"))))) -> NO | AJ10: D | AK10: MANCINI G | AL10: Ata | AM10: 11 | AN10: =IF(AJ10="P",IF(AM10<7,"SI","NO"),IF(AJ10="D",IF(AM10<11,"SI","NO"),IF(AJ10="C",IF(AM10<21,"SI","NO"),IF(AJ10="A",IF(AM10<41,"SI","NO"))))) -> NO | AO10: =IF(AJ10="P",IF(AM10<4,"SI","NO"),IF(AJ10="D",IF(AM10<6,"SI","NO"),IF(AJ10="C",IF(AM10<11,"SI","NO"),IF(AJ10="A",IF(AM10<21,"SI","NO"))))) -> NO | AQ10: D | AR10: ANSALDI | AS10: Tor | AT10: 13 | AU10: =IF(AQ10="P",IF(AT10<7,"SI","NO"),IF(AQ10="D",IF(AT10<11,"SI","NO"),IF(AQ10="C",IF(AT10<21,"SI","NO"),IF(AQ10="A",IF(AT10<41,"SI","NO"))))) -> NO | AV10: =IF(AQ10="P",IF(AT10<4,"SI","NO"),IF(AQ10="D",IF(AT10<6,"SI","NO"),IF(AQ10="C",IF(AT10<11,"SI","NO"),IF(AQ10="A",IF(AT10<21,"SI","NO"))))) -> NO | AX10: D | AY10: MURRU | AZ10: Sam | BA10: 1 | BB10: =IF(AX10="P",IF(BA10<7,"SI","NO"),IF(AX10="D",IF(BA10<11,"SI","NO"),IF(AX10="C",IF(BA10<21,"SI","NO"),IF(AX10="A",IF(BA10<41,"SI","NO"))))) -> SI | BC10: =IF(AX10="P",IF(BA10<4,"SI","NO"),IF(AX10="D",IF(BA10<6,"SI","NO"),IF(AX10="C",IF(BA10<11,"SI","NO"),IF(AX10="A",IF(BA10<21,"SI","NO"))))) -> SI | BE10: D | BF10: BASTOS | BG10: Laz | BH10: 1 | BI10: =IF(BE10="P",IF(BH10<7,"SI","NO"),IF(BE10="D",IF(BH10<11,"SI","NO"),IF(BE10="C",IF(BH10<21,"SI","NO"),IF(BE10="A",IF(BH10<41,"SI","NO"))))) -> SI | BJ10: =IF(BE10="P",IF(BH10<4,"SI","NO"),IF(BE10="D",IF(BH10<6,"SI","NO"),IF(BE10="C",IF(BH10<11,"SI","NO"),IF(BE10="A",IF(BH10<21,"SI","NO"))))) -> SI | BL10: D | BM10: N'KOULOU | BN10: Tor | BO10: 13 | BP10: =IF(BL10="P",IF(BO10<7,"SI","NO"),IF(BL10="D",IF(BO10<11,"SI","NO"),IF(BL10="C",IF(BO10<21,"SI","NO"),IF(BL10="A",IF(BO10<41,"SI","NO"))))) -> NO | BQ10: =IF(BL10="P",IF(BO10<4,"SI","NO"),IF(BL10="D",IF(BO10<6,"SI","NO"),IF(BL10="C",IF(BO10<11,"SI","NO"),IF(BL10="A",IF(BO10<21,"SI","NO"))))) -> NO
A11: D | B11: VITOR HUGO | C11: Fio | D11: 6 | E11: =IF(A11="P",IF(D11<7,"SI","NO"),IF(A11="D",IF(D11<11,"SI","NO"),IF(A11="C",IF(D11<21,"SI","NO"),IF(A11="A",IF(D11<41,"SI","NO"))))) -> SI | F11: =IF(A11="P",IF(D11<4,"SI","NO"),IF(A11="D",IF(D11<6,"SI","NO"),IF(A11="C",IF(D11<11,"SI","NO"),IF(A11="A",IF(D11<21,"SI","NO"))))) -> NO | H11: D | I11: BERESZYNSKI | J11: Sam | K11: 3 | L11: =IF(H11="P",IF(K11<7,"SI","NO"),IF(H11="D",IF(K11<11,"SI","NO"),IF(H11="C",IF(K11<21,"SI","NO"),IF(H11="A",IF(K11<41,"SI","NO"))))) -> SI | M11: =IF(H11="P",IF(K11<4,"SI","NO"),IF(H11="D",IF(K11<6,"SI","NO"),IF(H11="C",IF(K11<11,"SI","NO"),IF(H11="A",IF(K11<21,"SI","NO"))))) -> SI | O11: D | P11: BASTONI | Q11: Par | R11: 1 | S11: =IF(O11="P",IF(R11<7,"SI","NO"),IF(O11="D",IF(R11<11,"SI","NO"),IF(O11="C",IF(R11<21,"SI","NO"),IF(O11="A",IF(R11<41,"SI","NO"))))) -> SI | T11: =IF(O11="P",IF(R11<4,"SI","NO"),IF(O11="D",IF(R11<6,"SI","NO"),IF(O11="C",IF(R11<11,"SI","NO"),IF(O11="A",IF(R11<21,"SI","NO"))))) -> SI | V11: D | W11: MUSACCHIO | X11: Mil | Y11: 4 | Z11: =IF(V11="P",IF(Y11<7,"SI","NO"),IF(V11="D",IF(Y11<11,"SI","NO"),IF(V11="C",IF(Y11<21,"SI","NO"),IF(V11="A",IF(Y11<41,"SI","NO"))))) -> SI | AA11: =IF(V11="P",IF(Y11<4,"SI","NO"),IF(V11="D",IF(Y11<6,"SI","NO"),IF(V11="C",IF(Y11<11,"SI","NO"),IF(V11="A",IF(Y11<21,"SI","NO"))))) -> SI | AC11: D | AD11: PEZZELLA GER | AE11: Fio | AF11: 4 | AG11: =IF(AC11="P",IF(AF11<7,"SI","NO"),IF(AC11="D",IF(AF11<11,"SI","NO"),IF(AC11="C",IF(AF11<21,"SI","NO"),IF(AC11="A",IF(AF11<41,"SI","NO"))))) -> SI | AH11: =IF(AC11="P",IF(AF11<4,"SI","NO"),IF(AC11="D",IF(AF11<6,"SI","NO"),IF(AC11="C",IF(AF11<11,"SI","NO"),IF(AC11="A",IF(AF11<21,"SI","NO"))))) -> SI | AJ11: D | AK11: CANCELO | AL11: Juv | AM11: 21 | AN11: =IF(AJ11="P",IF(AM11<7,"SI","NO"),IF(AJ11="D",IF(AM11<11,"SI","NO"),IF(AJ11="C",IF(AM11<21,"SI","NO"),IF(AJ11="A",IF(AM11<41,"SI","NO"))))) -> NO | AO11: =IF(AJ11="P",IF(AM11<4,"SI","NO"),IF(AJ11="D",IF(AM11<6,"SI","NO"),IF(AJ11="C",IF(AM11<11,"SI","NO"),IF(AJ11="A",IF(AM11<21,"SI","NO"))))) -> NO | AQ11: D | AR11: DJIMSITI | AS11: Ata | AT11: 1 | AU11: =IF(AQ11="P",IF(AT11<7,"SI","NO"),IF(AQ11="D",IF(AT11<11,"SI","NO"),IF(AQ11="C",IF(AT11<21,"SI","NO"),IF(AQ11="A",IF(AT11<41,"SI","NO"))))) -> SI | AV11: =IF(AQ11="P",IF(AT11<4,"SI","NO"),IF(AQ11="D",IF(AT11<6,"SI","NO"),IF(AQ11="C",IF(AT11<11,"SI","NO"),IF(AQ11="A",IF(AT11<21,"SI","NO"))))) -> SI | AX11: D | AY11: LIROLA | AZ11: Sas | BA11: 4 | BB11: =IF(AX11="P",IF(BA11<7,"SI","NO"),IF(AX11="D",IF(BA11<11,"SI","NO"),IF(AX11="C",IF(BA11<21,"SI","NO"),IF(AX11="A",IF(BA11<41,"SI","NO"))))) -> SI | BC11: =IF(AX11="P",IF(BA11<4,"SI","NO"),IF(AX11="D",IF(BA11<6,"SI","NO"),IF(AX11="C",IF(BA11<11,"SI","NO"),IF(AX11="A",IF(BA11<21,"SI","NO"))))) -> SI | BE11: D | BF11: KOLAROV | BG11: Rom | BH11: 40 | BI11: =IF(BE11="P",IF(BH11<7,"SI","NO"),IF(BE11="D",IF(BH11<11,"SI","NO"),IF(BE11="C",IF(BH11<21,"SI","NO"),IF(BE11="A",IF(BH11<41,"SI","NO"))))) -> NO | BJ11: =IF(BE11="P",IF(BH11<4,"SI","NO"),IF(BE11="D",IF(BH11<6,"SI","NO"),IF(BE11="C",IF(BH11<11,"SI","NO"),IF(BE11="A",IF(BH11<21,"SI","NO"))))) -> NO | BL11: D | BM11: PEZZELLA GER | BN11: Fio | BO11: 2 | BP11: =IF(BL11="P",IF(BO11<7,"SI","NO"),IF(BL11="D",IF(BO11<11,"SI","NO"),IF(BL11="C",IF(BO11<21,"SI","NO"),IF(BL11="A",IF(BO11<41,"SI","NO"))))) -> SI | BQ11: =IF(BL11="P",IF(BO11<4,"SI","NO"),IF(BL11="D",IF(BO11<6,"SI","NO"),IF(BL11="C",IF(BO11<11,"SI","NO"),IF(BL11="A",IF(BO11<21,"SI","NO"))))) -> SI
A12: D | B12: RODRIGUEZ R | C12: Mil | D12: 10 | E12: =IF(A12="P",IF(D12<7,"SI","NO"),IF(A12="D",IF(D12<11,"SI","NO"),IF(A12="C",IF(D12<21,"SI","NO"),IF(A12="A",IF(D12<41,"SI","NO"))))) -> SI | F12: =IF(A12="P",IF(D12<4,"SI","NO"),IF(A12="D",IF(D12<6,"SI","NO"),IF(A12="C",IF(D12<11,"SI","NO"),IF(A12="A",IF(D12<21,"SI","NO"))))) -> NO | H12: D | I12: SRNA | J12: Cag | K12: 6 | L12: =IF(H12="P",IF(K12<7,"SI","NO"),IF(H12="D",IF(K12<11,"SI","NO"),IF(H12="C",IF(K12<21,"SI","NO"),IF(H12="A",IF(K12<41,"SI","NO"))))) -> SI | M12: =IF(H12="P",IF(K12<4,"SI","NO"),IF(H12="D",IF(K12<6,"SI","NO"),IF(H12="C",IF(K12<11,"SI","NO"),IF(H12="A",IF(K12<21,"SI","NO"))))) -> NO | O12: D | P12: CRISCITO | Q12: Gen | R12: 11 | S12: =IF(O12="P",IF(R12<7,"SI","NO"),IF(O12="D",IF(R12<11,"SI","NO"),IF(O12="C",IF(R12<21,"SI","NO"),IF(O12="A",IF(R12<41,"SI","NO"))))) -> NO | T12: =IF(O12="P",IF(R12<4,"SI","NO"),IF(O12="D",IF(R12<6,"SI","NO"),IF(O12="C",IF(R12<11,"SI","NO"),IF(O12="A",IF(R12<21,"SI","NO"))))) -> NO | V12: D | W12: COLLEY | X12: Sam | Y12: 3 | Z12: =IF(V12="P",IF(Y12<7,"SI","NO"),IF(V12="D",IF(Y12<11,"SI","NO"),IF(V12="C",IF(Y12<21,"SI","NO"),IF(V12="A",IF(Y12<41,"SI","NO"))))) -> SI | AA12: =IF(V12="P",IF(Y12<4,"SI","NO"),IF(V12="D",IF(Y12<6,"SI","NO"),IF(V12="C",IF(Y12<11,"SI","NO"),IF(V12="A",IF(Y12<21,"SI","NO"))))) -> SI | AC12: D | AD12: MARLON | AE12: Sas | AF12: 1 | AG12: =IF(AC12="P",IF(AF12<7,"SI","NO"),IF(AC12="D",IF(AF12<11,"SI","NO"),IF(AC12="C",IF(AF12<21,"SI","NO"),IF(AC12="A",IF(AF12<41,"SI","NO"))))) -> SI | AH12: =IF(AC12="P",IF(AF12<4,"SI","NO"),IF(AC12="D",IF(AF12<6,"SI","NO"),IF(AC12="C",IF(AF12<11,"SI","NO"),IF(AC12="A",IF(AF12<21,"SI","NO"))))) -> SI | AJ12: D | AK12: CRISCITO | AL12: Gen | AM12: 14 | AN12: =IF(AJ12="P",IF(AM12<7,"SI","NO"),IF(AJ12="D",IF(AM12<11,"SI","NO"),IF(AJ12="C",IF(AM12<21,"SI","NO"),IF(AJ12="A",IF(AM12<41,"SI","NO"))))) -> NO | AO12: =IF(AJ12="P",IF(AM12<4,"SI","NO"),IF(AJ12="D",IF(AM12<6,"SI","NO"),IF(AJ12="C",IF(AM12<11,"SI","NO"),IF(AJ12="A",IF(AM12<21,"SI","NO"))))) -> NO | AQ12: D | AR12: CANCELO | AS12: Juv | AT12: 23 | AU12: =IF(AQ12="P",IF(AT12<7,"SI","NO"),IF(AQ12="D",IF(AT12<11,"SI","NO"),IF(AQ12="C",IF(AT12<21,"SI","NO"),IF(AQ12="A",IF(AT12<41,"SI","NO"))))) -> NO | AV12: =IF(AQ12="P",IF(AT12<4,"SI","NO"),IF(AQ12="D",IF(AT12<6,"SI","NO"),IF(AQ12="C",IF(AT12<11,"SI","NO"),IF(AQ12="A",IF(AT12<21,"SI","NO"))))) -> NO | AX12: D | AY12: VITOR HUGO | AZ12: Fio | BA12: 3 | BB12: =IF(AX12="P",IF(BA12<7,"SI","NO"),IF(AX12="D",IF(BA12<11,"SI","NO"),IF(AX12="C",IF(BA12<21,"SI","NO"),IF(AX12="A",IF(BA12<41,"SI","NO"))))) -> SI | BC12: =IF(AX12="P",IF(BA12<4,"SI","NO"),IF(AX12="D",IF(BA12<6,"SI","NO"),IF(AX12="C",IF(BA12<11,"SI","NO"),IF(AX12="A",IF(BA12<21,"SI","NO"))))) -> SI | BE12: D | BF12: MANCINI G | BG12: Ata | BH12: 10 | BI12: =IF(BE12="P",IF(BH12<7,"SI","NO"),IF(BE12="D",IF(BH12<11,"SI","NO"),IF(BE12="C",IF(BH12<21,"SI","NO"),IF(BE12="A",IF(BH12<41,"SI","NO"))))) -> SI | BJ12: =IF(BE12="P",IF(BH12<4,"SI","NO"),IF(BE12="D",IF(BH12<6,"SI","NO"),IF(BE12="C",IF(BH12<11,"SI","NO"),IF(BE12="A",IF(BH12<21,"SI","NO"))))) -> NO | BL12: D | BM12: DI LORENZO | BN12: Emp | BO12: 3 | BP12: =IF(BL12="P",IF(BO12<7,"SI","NO"),IF(BL12="D",IF(BO12<11,"SI","NO"),IF(BL12="C",IF(BO12<21,"SI","NO"),IF(BL12="A",IF(BO12<41,"SI","NO"))))) -> SI | BQ12: =IF(BL12="P",IF(BO12<4,"SI","NO"),IF(BL12="D",IF(BO12<6,"SI","NO"),IF(BL12="C",IF(BO12<11,"SI","NO"),IF(BL12="A",IF(BO12<21,"SI","NO"))))) -> SI
A13: D | B13: CASTAGNE | C13: Ata | D13: 10 | E13: =IF(A13="P",IF(D13<7,"SI","NO"),IF(A13="D",IF(D13<11,"SI","NO"),IF(A13="C",IF(D13<21,"SI","NO"),IF(A13="A",IF(D13<41,"SI","NO"))))) -> SI | F13: =IF(A13="P",IF(D13<4,"SI","NO"),IF(A13="D",IF(D13<6,"SI","NO"),IF(A13="C",IF(D13<11,"SI","NO"),IF(A13="A",IF(D13<21,"SI","NO"))))) -> NO | H13: D | I13: DI LORENZO | J13: Emp | K13: 4 | L13: =IF(H13="P",IF(K13<7,"SI","NO"),IF(H13="D",IF(K13<11,"SI","NO"),IF(H13="C",IF(K13<21,"SI","NO"),IF(H13="A",IF(K13<41,"SI","NO"))))) -> SI | M13: =IF(H13="P",IF(K13<4,"SI","NO"),IF(H13="D",IF(K13<6,"SI","NO"),IF(H13="C",IF(K13<11,"SI","NO"),IF(H13="A",IF(K13<21,"SI","NO"))))) -> SI | O13: D | P13: TROOST-EKONG | Q13: Udi | R13: 1 | S13: =IF(O13="P",IF(R13<7,"SI","NO"),IF(O13="D",IF(R13<11,"SI","NO"),IF(O13="C",IF(R13<21,"SI","NO"),IF(O13="A",IF(R13<41,"SI","NO"))))) -> SI | T13: =IF(O13="P",IF(R13<4,"SI","NO"),IF(O13="D",IF(R13<6,"SI","NO"),IF(O13="C",IF(R13<11,"SI","NO"),IF(O13="A",IF(R13<21,"SI","NO"))))) -> SI | V13: D | W13: DJIDJI | X13: Tor | Y13: 4 | Z13: =IF(V13="P",IF(Y13<7,"SI","NO"),IF(V13="D",IF(Y13<11,"SI","NO"),IF(V13="C",IF(Y13<21,"SI","NO"),IF(V13="A",IF(Y13<41,"SI","NO"))))) -> SI | AC13: D | AD13: CEDRIC SOARES | AE13: Int | AF13: 16 | AG13: =IF(AC13="P",IF(AF13<7,"SI","NO"),IF(AC13="D",IF(AF13<11,"SI","NO"),IF(AC13="C",IF(AF13<21,"SI","NO"),IF(AC13="A",IF(AF13<41,"SI","NO"))))) -> NO | AH13: =IF(AC13="P",IF(AF13<4,"SI","NO"),IF(AC13="D",IF(AF13<6,"SI","NO"),IF(AC13="C",IF(AF13<11,"SI","NO"),IF(AC13="A",IF(AF13<21,"SI","NO"))))) -> NO | AJ13: D | AK13: MALCUIT | AL13: Nap | AM13: 1 | AN13: =IF(AJ13="P",IF(AM13<7,"SI","NO"),IF(AJ13="D",IF(AM13<11,"SI","NO"),IF(AJ13="C",IF(AM13<21,"SI","NO"),IF(AJ13="A",IF(AM13<41,"SI","NO"))))) -> SI | AO13: =IF(AJ13="P",IF(AM13<4,"SI","NO"),IF(AJ13="D",IF(AM13<6,"SI","NO"),IF(AJ13="C",IF(AM13<11,"SI","NO"),IF(AJ13="A",IF(AM13<21,"SI","NO"))))) -> SI | AQ13: D | AR13: AINA | AS13: Tor | AT13: 1 | AU13: =IF(AQ13="P",IF(AT13<7,"SI","NO"),IF(AQ13="D",IF(AT13<11,"SI","NO"),IF(AQ13="C",IF(AT13<21,"SI","NO"),IF(AQ13="A",IF(AT13<41,"SI","NO"))))) -> SI | AV13: =IF(AQ13="P",IF(AT13<4,"SI","NO"),IF(AQ13="D",IF(AT13<6,"SI","NO"),IF(AQ13="C",IF(AT13<11,"SI","NO"),IF(AQ13="A",IF(AT13<21,"SI","NO"))))) -> SI | AX13: D | AY13: MUSACCHIO | AZ13: Mil | BA13: 1 | BB13: =IF(AX13="P",IF(BA13<7,"SI","NO"),IF(AX13="D",IF(BA13<11,"SI","NO"),IF(AX13="C",IF(BA13<21,"SI","NO"),IF(AX13="A",IF(BA13<41,"SI","NO"))))) -> SI | BC13: =IF(AX13="P",IF(BA13<4,"SI","NO"),IF(AX13="D",IF(BA13<6,"SI","NO"),IF(AX13="C",IF(BA13<11,"SI","NO"),IF(AX13="A",IF(BA13<21,"SI","NO"))))) -> SI | BE13: D | BF13: ANDERSEN | BG13: Sam | BH13: 1 | BI13: =IF(BE13="P",IF(BH13<7,"SI","NO"),IF(BE13="D",IF(BH13<11,"SI","NO"),IF(BE13="C",IF(BH13<21,"SI","NO"),IF(BE13="A",IF(BH13<41,"SI","NO"))))) -> SI | BJ13: =IF(BE13="P",IF(BH13<4,"SI","NO"),IF(BE13="D",IF(BH13<6,"SI","NO"),IF(BE13="C",IF(BH13<11,"SI","NO"),IF(BE13="A",IF(BH13<21,"SI","NO"))))) -> SI | BL13: D | BM13: DJIDJI | BN13: Tor | BO13: 2 | BP13: =IF(BL13="P",IF(BO13<7,"SI","NO"),IF(BL13="D",IF(BO13<11,"SI","NO"),IF(BL13="C",IF(BO13<21,"SI","NO"),IF(BL13="A",IF(BO13<41,"SI","NO"))))) -> SI | BQ13: =IF(BL13="P",IF(BO13<4,"SI","NO"),IF(BL13="D",IF(BO13<6,"SI","NO"),IF(BL13="C",IF(BO13<11,"SI","NO"),IF(BL13="A",IF(BO13<21,"SI","NO"))))) -> SI
A14: C | B14: DE ROON | C14: Ata | D14: 5 | E14: =IF(A14="P",IF(D14<7,"SI","NO"),IF(A14="D",IF(D14<11,"SI","NO"),IF(A14="C",IF(D14<21,"SI","NO"),IF(A14="A",IF(D14<41,"SI","NO"))))) -> SI | F14: =IF(A14="P",IF(D14<4,"SI","NO"),IF(A14="D",IF(D14<6,"SI","NO"),IF(A14="C",IF(D14<11,"SI","NO"),IF(A14="A",IF(D14<21,"SI","NO"))))) -> SI | H14: C | I14: ILICIC | J14: Ata | K14: 16 | L14: =IF(H14="P",IF(K14<7,"SI","NO"),IF(H14="D",IF(K14<11,"SI","NO"),IF(H14="C",IF(K14<21,"SI","NO"),IF(H14="A",IF(K14<41,"SI","NO"))))) -> SI | M14: =IF(H14="P",IF(K14<4,"SI","NO"),IF(H14="D",IF(K14<6,"SI","NO"),IF(H14="C",IF(K14<11,"SI","NO"),IF(H14="A",IF(K14<21,"SI","NO"))))) -> NO | O14: C | P14: SAPONARA | Q14: Sam | R14: 13 | S14: =IF(O14="P",IF(R14<7,"SI","NO"),IF(O14="D",IF(R14<11,"SI","NO"),IF(O14="C",IF(R14<21,"SI","NO"),IF(O14="A",IF(R14<41,"SI","NO"))))) -> SI | T14: =IF(O14="P",IF(R14<4,"SI","NO"),IF(O14="D",IF(R14<6,"SI","NO"),IF(O14="C",IF(R14<11,"SI","NO"),IF(O14="A",IF(R14<21,"SI","NO"))))) -> NO | V14: C | W14: BIRSA | X14: Cag | Y14: 21 | Z14: =IF(V14="P",IF(Y14<7,"SI","NO"),IF(V14="D",IF(Y14<11,"SI","NO"),IF(V14="C",IF(Y14<21,"SI","NO"),IF(V14="A",IF(Y14<41,"SI","NO"))))) -> NO | AA14: =IF(V14="P",IF(Y14<4,"SI","NO"),IF(V14="D",IF(Y14<6,"SI","NO"),IF(V14="C",IF(Y14<11,"SI","NO"),IF(V14="A",IF(Y14<21,"SI","NO"))))) -> NO | AC14: C | AD14: KRUNIC | AE14: Emp | AF14: 16 | AG14: =IF(AC14="P",IF(AF14<7,"SI","NO"),IF(AC14="D",IF(AF14<11,"SI","NO"),IF(AC14="C",IF(AF14<21,"SI","NO"),IF(AC14="A",IF(AF14<41,"SI","NO"))))) -> SI | AH14: =IF(AC14="P",IF(AF14<4,"SI","NO"),IF(AC14="D",IF(AF14<6,"SI","NO"),IF(AC14="C",IF(AF14<11,"SI","NO"),IF(AC14="A",IF(AF14<21,"SI","NO"))))) -> NO | AJ14: C | AK14: KRUNIC | AL14: Emp | AM14: 7 | AN14: =IF(AJ14="P",IF(AM14<7,"SI","NO"),IF(AJ14="D",IF(AM14<11,"SI","NO"),IF(AJ14="C",IF(AM14<21,"SI","NO"),IF(AJ14="A",IF(AM14<41,"SI","NO"))))) -> SI | AO14: =IF(AJ14="P",IF(AM14<4,"SI","NO"),IF(AJ14="D",IF(AM14<6,"SI","NO"),IF(AJ14="C",IF(AM14<11,"SI","NO"),IF(AJ14="A",IF(AM14<21,"SI","NO"))))) -> SI | AQ14: C | AR14: PEROTTI | AS14: Rom | AT14: 21 | AU14: =IF(AQ14="P",IF(AT14<7,"SI","NO"),IF(AQ14="D",IF(AT14<11,"SI","NO"),IF(AQ14="C",IF(AT14<21,"SI","NO"),IF(AQ14="A",IF(AT14<41,"SI","NO"))))) -> NO | AV14: =IF(AQ14="P",IF(AT14<4,"SI","NO"),IF(AQ14="D",IF(AT14<6,"SI","NO"),IF(AQ14="C",IF(AT14<11,"SI","NO"),IF(AQ14="A",IF(AT14<21,"SI","NO"))))) -> NO | AX14: C | AY14: KHEDIRA | AZ14: Juv | BA14: 47 | BB14: =IF(AX14="P",IF(BA14<7,"SI","NO"),IF(AX14="D",IF(BA14<11,"SI","NO"),IF(AX14="C",IF(BA14<21,"SI","NO"),IF(AX14="A",IF(BA14<41,"SI","NO"))))) -> NO | BC14: =IF(AX14="P",IF(BA14<4,"SI","NO"),IF(AX14="D",IF(BA14<6,"SI","NO"),IF(AX14="C",IF(BA14<11,"SI","NO"),IF(AX14="A",IF(BA14<21,"SI","NO"))))) -> NO | BE14: C | BF14: DIAWARA | BG14: Nap | BH14: 1 | BI14: =IF(BE14="P",IF(BH14<7,"SI","NO"),IF(BE14="D",IF(BH14<11,"SI","NO"),IF(BE14="C",IF(BH14<21,"SI","NO"),IF(BE14="A",IF(BH14<41,"SI","NO"))))) -> SI | BJ14: =IF(BE14="P",IF(BH14<4,"SI","NO"),IF(BE14="D",IF(BH14<6,"SI","NO"),IF(BE14="C",IF(BH14<11,"SI","NO"),IF(BE14="A",IF(BH14<21,"SI","NO"))))) -> SI | BL14: C | BM14: VERDI | BN14: Nap | BO14: 17 | BP14: =IF(BL14="P",IF(BO14<7,"SI","NO"),IF(BL14="D",IF(BO14<11,"SI","NO"),IF(BL14="C",IF(BO14<21,"SI","NO"),IF(BL14="A",IF(BO14<41,"SI","NO"))))) -> SI | BQ14: =IF(BL14="P",IF(BO14<4,"SI","NO"),IF(BL14="D",IF(BO14<6,"SI","NO"),IF(BL14="C",IF(BO14<11,"SI","NO"),IF(BL14="A",IF(BO14<21,"SI","NO"))))) -> NO
A15: C | B15: DUNCAN | C15: Sas | D15: 16 | E15: =IF(A15="P",IF(D15<7,"SI","NO"),IF(A15="D",IF(D15<11,"SI","NO"),IF(A15="C",IF(D15<21,"SI","NO"),IF(A15="A",IF(D15<41,"SI","NO"))))) -> SI | F15: =IF(A15="P",IF(D15<4,"SI","NO"),IF(A15="D",IF(D15<6,"SI","NO"),IF(A15="C",IF(D15<11,"SI","NO"),IF(A15="A",IF(D15<21,"SI","NO"))))) -> NO | H15: C | I15: STURARO | J15: Gen | K15: 1 | L15: =IF(H15="P",IF(K15<7,"SI","NO"),IF(H15="D",IF(K15<11,"SI","NO"),IF(H15="C",IF(K15<21,"SI","NO"),IF(H15="A",IF(K15<41,"SI","NO"))))) -> SI | M15: =IF(H15="P",IF(K15<4,"SI","NO"),IF(H15="D",IF(K15<6,"SI","NO"),IF(H15="C",IF(K15<11,"SI","NO"),IF(H15="A",IF(K15<21,"SI","NO"))))) -> SI | O15: C | P15: KUCKA | Q15: Par | R15: 6 | S15: =IF(O15="P",IF(R15<7,"SI","NO"),IF(O15="D",IF(R15<11,"SI","NO"),IF(O15="C",IF(R15<21,"SI","NO"),IF(O15="A",IF(R15<41,"SI","NO"))))) -> SI | T15: =IF(O15="P",IF(R15<4,"SI","NO"),IF(O15="D",IF(R15<6,"SI","NO"),IF(O15="C",IF(R15<11,"SI","NO"),IF(O15="A",IF(R15<21,"SI","NO"))))) -> SI | V15: C | W15: BASELLI | X15: Tor | Y15: 5 | Z15: =IF(V15="P",IF(Y15<7,"SI","NO"),IF(V15="D",IF(Y15<11,"SI","NO"),IF(V15="C",IF(Y15<21,"SI","NO"),IF(V15="A",IF(Y15<41,"SI","NO"))))) -> SI | AA15: =IF(V15="P",IF(Y15<4,"SI","NO"),IF(V15="D",IF(Y15<6,"SI","NO"),IF(V15="C",IF(Y15<11,"SI","NO"),IF(V15="A",IF(Y15<21,"SI","NO"))))) -> SI | AC15: C | AD15: ROMULO | AE15: Laz | AF15: 9 | AG15: =IF(AC15="P",IF(AF15<7,"SI","NO"),IF(AC15="D",IF(AF15<11,"SI","NO"),IF(AC15="C",IF(AF15<21,"SI","NO"),IF(AC15="A",IF(AF15<41,"SI","NO"))))) -> SI | AH15: =IF(AC15="P",IF(AF15<4,"SI","NO"),IF(AC15="D",IF(AF15<6,"SI","NO"),IF(AC15="C",IF(AF15<11,"SI","NO"),IF(AC15="A",IF(AF15<21,"SI","NO"))))) -> SI | AJ15: C | AK15: ZIELINSKI | AL15: Nap | AM15: 53 | AN15: =IF(AJ15="P",IF(AM15<7,"SI","NO"),IF(AJ15="D",IF(AM15<11,"SI","NO"),IF(AJ15="C",IF(AM15<21,"SI","NO"),IF(AJ15="A",IF(AM15<41,"SI","NO"))))) -> NO | AO15: =IF(AJ15="P",IF(AM15<4,"SI","NO"),IF(AJ15="D",IF(AM15<6,"SI","NO"),IF(AJ15="C",IF(AM15<11,"SI","NO"),IF(AJ15="A",IF(AM15<21,"SI","NO"))))) -> NO | AQ15: C | AR15: KHEDIRA | AS15: Juv | AT15: 25 | AU15: =IF(AQ15="P",IF(AT15<7,"SI","NO"),IF(AQ15="D",IF(AT15<11,"SI","NO"),IF(AQ15="C",IF(AT15<21,"SI","NO"),IF(AQ15="A",IF(AT15<41,"SI","NO"))))) -> NO | AV15: =IF(AQ15="P",IF(AT15<4,"SI","NO"),IF(AQ15="D",IF(AT15<6,"SI","NO"),IF(AQ15="C",IF(AT15<11,"SI","NO"),IF(AQ15="A",IF(AT15<21,"SI","NO"))))) -> NO | AX15: C | AY15: BIGLIA | AZ15: Mil | BA15: 1 | BB15: =IF(AX15="P",IF(BA15<7,"SI","NO"),IF(AX15="D",IF(BA15<11,"SI","NO"),IF(AX15="C",IF(BA15<21,"SI","NO"),IF(AX15="A",IF(BA15<41,"SI","NO"))))) -> SI | BC15: =IF(AX15="P",IF(BA15<4,"SI","NO"),IF(AX15="D",IF(BA15<6,"SI","NO"),IF(AX15="C",IF(BA15<11,"SI","NO"),IF(AX15="A",IF(BA15<21,"SI","NO"))))) -> SI | BE15: C | BF15: VECINO | BG15: Int | BH15: 1 | BI15: =IF(BE15="P",IF(BH15<7,"SI","NO"),IF(BE15="D",IF(BH15<11,"SI","NO"),IF(BE15="C",IF(BH15<21,"SI","NO"),IF(BE15="A",IF(BH15<41,"SI","NO"))))) -> SI | BJ15: =IF(BE15="P",IF(BH15<4,"SI","NO"),IF(BE15="D",IF(BH15<6,"SI","NO"),IF(BE15="C",IF(BH15<11,"SI","NO"),IF(BE15="A",IF(BH15<21,"SI","NO"))))) -> SI | BL15: C | BM15: DUNCAN | BN15: Sas | BO15: 4 | BP15: =IF(BL15="P",IF(BO15<7,"SI","NO"),IF(BL15="D",IF(BO15<11,"SI","NO"),IF(BL15="C",IF(BO15<21,"SI","NO"),IF(BL15="A",IF(BO15<41,"SI","NO"))))) -> SI | BQ15: =IF(BL15="P",IF(BO15<4,"SI","NO"),IF(BL15="D",IF(BO15<6,"SI","NO"),IF(BL15="C",IF(BO15<11,"SI","NO"),IF(BL15="A",IF(BO15<21,"SI","NO"))))) -> SI
A16: C | B16: PELLEGRINI LO | C16: Rom | D16: 1 | E16: =IF(A16="P",IF(D16<7,"SI","NO"),IF(A16="D",IF(D16<11,"SI","NO"),IF(A16="C",IF(D16<21,"SI","NO"),IF(A16="A",IF(D16<41,"SI","NO"))))) -> SI | F16: =IF(A16="P",IF(D16<4,"SI","NO"),IF(A16="D",IF(D16<6,"SI","NO"),IF(A16="C",IF(D16<11,"SI","NO"),IF(A16="A",IF(D16<21,"SI","NO"))))) -> SI | H16: C | I16: VIVIANI | J16: Fro | K16: 1 | L16: =IF(H16="P",IF(K16<7,"SI","NO"),IF(H16="D",IF(K16<11,"SI","NO"),IF(H16="C",IF(K16<21,"SI","NO"),IF(H16="A",IF(K16<41,"SI","NO"))))) -> SI | M16: =IF(H16="P",IF(K16<4,"SI","NO"),IF(H16="D",IF(K16<6,"SI","NO"),IF(H16="C",IF(K16<11,"SI","NO"),IF(H16="A",IF(K16<21,"SI","NO"))))) -> SI | O16: C | P16: BESSA | Q16: Gen | R16: 9 | S16: =IF(O16="P",IF(R16<7,"SI","NO"),IF(O16="D",IF(R16<11,"SI","NO"),IF(O16="C",IF(R16<21,"SI","NO"),IF(O16="A",IF(R16<41,"SI","NO"))))) -> SI | T16: =IF(O16="P",IF(R16<4,"SI","NO"),IF(O16="D",IF(R16<6,"SI","NO"),IF(O16="C",IF(R16<11,"SI","NO"),IF(O16="A",IF(R16<21,"SI","NO"))))) -> SI | V16: C | W16: CRISTANTE | X16: Rom | Y16: 9 | Z16: =IF(V16="P",IF(Y16<7,"SI","NO"),IF(V16="D",IF(Y16<11,"SI","NO"),IF(V16="C",IF(Y16<21,"SI","NO"),IF(V16="A",IF(Y16<41,"SI","NO"))))) -> SI | AA16: =IF(V16="P",IF(Y16<4,"SI","NO"),IF(V16="D",IF(Y16<6,"SI","NO"),IF(V16="C",IF(Y16<11,"SI","NO"),IF(V16="A",IF(Y16<21,"SI","NO"))))) -> SI | AC16: C | AD16: SENSI | AE16: Sas | AF16: 1 | AG16: =IF(AC16="P",IF(AF16<7,"SI","NO"),IF(AC16="D",IF(AF16<11,"SI","NO"),IF(AC16="C",IF(AF16<21,"SI","NO"),IF(AC16="A",IF(AF16<41,"SI","NO"))))) -> SI | AH16: =IF(AC16="P",IF(AF16<4,"SI","NO"),IF(AC16="D",IF(AF16<6,"SI","NO"),IF(AC16="C",IF(AF16<11,"SI","NO"),IF(AC16="A",IF(AF16<21,"SI","NO"))))) -> SI | AJ16: C | AK16: BARELLA | AL16: Cag | AM16: 6 | AN16: =IF(AJ16="P",IF(AM16<7,"SI","NO"),IF(AJ16="D",IF(AM16<11,"SI","NO"),IF(AJ16="C",IF(AM16<21,"SI","NO"),IF(AJ16="A",IF(AM16<41,"SI","NO"))))) -> SI | AO16: =IF(AJ16="P",IF(AM16<4,"SI","NO"),IF(AJ16="D",IF(AM16<6,"SI","NO"),IF(AJ16="C",IF(AM16<11,"SI","NO"),IF(AJ16="A",IF(AM16<21,"SI","NO"))))) -> SI | AQ16: C | AR16: LULIC | AS16: Laz | AT16: 1 | AU16: =IF(AQ16="P",IF(AT16<7,"SI","NO"),IF(AQ16="D",IF(AT16<11,"SI","NO"),IF(AQ16="C",IF(AT16<21,"SI","NO"),IF(AQ16="A",IF(AT16<41,"SI","NO"))))) -> SI | AV16: =IF(AQ16="P",IF(AT16<4,"SI","NO"),IF(AQ16="D",IF(AT16<6,"SI","NO"),IF(AQ16="C",IF(AT16<11,"SI","NO"),IF(AQ16="A",IF(AT16<21,"SI","NO"))))) -> SI | AX16: C | AY16: LULIC | AZ16: Laz | BA16: 1 | BB16: =IF(AX16="P",IF(BA16<7,"SI","NO"),IF(AX16="D",IF(BA16<11,"SI","NO"),IF(AX16="C",IF(BA16<21,"SI","NO"),IF(AX16="A",IF(BA16<41,"SI","NO"))))) -> SI | BC16: =IF(AX16="P",IF(BA16<4,"SI","NO"),IF(AX16="D",IF(BA16<6,"SI","NO"),IF(AX16="C",IF(BA16<11,"SI","NO"),IF(AX16="A",IF(BA16<21,"SI","NO"))))) -> SI | BE16: C | BF16: CHIBSAH | BG16: Fro | BH16: 1 | BI16: =IF(BE16="P",IF(BH16<7,"SI","NO"),IF(BE16="D",IF(BH16<11,"SI","NO"),IF(BE16="C",IF(BH16<21,"SI","NO"),IF(BE16="A",IF(BH16<41,"SI","NO"))))) -> SI | BJ16: =IF(BE16="P",IF(BH16<4,"SI","NO"),IF(BE16="D",IF(BH16<6,"SI","NO"),IF(BE16="C",IF(BH16<11,"SI","NO"),IF(BE16="A",IF(BH16<21,"SI","NO"))))) -> SI | BL16: C | BM16: ROMULO | BN16: Laz | BO16: 15 | BP16: =IF(BL16="P",IF(BO16<7,"SI","NO"),IF(BL16="D",IF(BO16<11,"SI","NO"),IF(BL16="C",IF(BO16<21,"SI","NO"),IF(BL16="A",IF(BO16<41,"SI","NO"))))) -> SI | BQ16: =IF(BL16="P",IF(BO16<4,"SI","NO"),IF(BL16="D",IF(BO16<6,"SI","NO"),IF(BL16="C",IF(BO16<11,"SI","NO"),IF(BL16="A",IF(BO16<21,"SI","NO"))))) -> NO
A17: C | B17: BARELLA | C17: Cag | D17: 3 | E17: =IF(A17="P",IF(D17<7,"SI","NO"),IF(A17="D",IF(D17<11,"SI","NO"),IF(A17="C",IF(D17<21,"SI","NO"),IF(A17="A",IF(D17<41,"SI","NO"))))) -> SI | F17: =IF(A17="P",IF(D17<4,"SI","NO"),IF(A17="D",IF(D17<6,"SI","NO"),IF(A17="C",IF(D17<11,"SI","NO"),IF(A17="A",IF(D17<21,"SI","NO"))))) -> SI | H17: C | I17: MILINKOVIC-SAVIC | J17: Laz | K17: 69 | L17: =IF(H17="P",IF(K17<7,"SI","NO"),IF(H17="D",IF(K17<11,"SI","NO"),IF(H17="C",IF(K17<21,"SI","NO"),IF(H17="A",IF(K17<41,"SI","NO"))))) -> NO | M17: =IF(H17="P",IF(K17<4,"SI","NO"),IF(H17="D",IF(K17<6,"SI","NO"),IF(H17="C",IF(K17<11,"SI","NO"),IF(H17="A",IF(K17<21,"SI","NO"))))) -> NO | O17: C | P17: BONAVENTURA | Q17: Mil | R17: 10 | S17: =IF(O17="P",IF(R17<7,"SI","NO"),IF(O17="D",IF(R17<11,"SI","NO"),IF(O17="C",IF(R17<21,"SI","NO"),IF(O17="A",IF(R17<41,"SI","NO"))))) -> SI | T17: =IF(O17="P",IF(R17<4,"SI","NO"),IF(O17="D",IF(R17<6,"SI","NO"),IF(O17="C",IF(R17<11,"SI","NO"),IF(O17="A",IF(R17<21,"SI","NO"))))) -> SI | V17: C | W17: LOCATELLI M | X17: Sas | Y17: 1 | Z17: =IF(V17="P",IF(Y17<7,"SI","NO"),IF(V17="D",IF(Y17<11,"SI","NO"),IF(V17="C",IF(Y17<21,"SI","NO"),IF(V17="A",IF(Y17<41,"SI","NO"))))) -> SI | AA17: =IF(V17="P",IF(Y17<4,"SI","NO"),IF(V17="D",IF(Y17<6,"SI","NO"),IF(V17="C",IF(Y17<11,"SI","NO"),IF(V17="A",IF(Y17<21,"SI","NO"))))) -> SI | AC17: C | AD17: FOFANA | AE17: Udi | AF17: 12 | AG17: =IF(AC17="P",IF(AF17<7,"SI","NO"),IF(AC17="D",IF(AF17<11,"SI","NO"),IF(AC17="C",IF(AF17<21,"SI","NO"),IF(AC17="A",IF(AF17<41,"SI","NO"))))) -> SI | AH17: =IF(AC17="P",IF(AF17<4,"SI","NO"),IF(AC17="D",IF(AF17<6,"SI","NO"),IF(AC17="C",IF(AF17<11,"SI","NO"),IF(AC17="A",IF(AF17<21,"SI","NO"))))) -> NO | AJ17: C | AK17: MANDRAGORA | AL17: Udi | AM17: 2 | AN17: =IF(AJ17="P",IF(AM17<7,"SI","NO"),IF(AJ17="D",IF(AM17<11,"SI","NO"),IF(AJ17="C",IF(AM17<21,"SI","NO"),IF(AJ17="A",IF(AM17<41,"SI","NO"))))) -> SI | AO17: =IF(AJ17="P",IF(AM17<4,"SI","NO"),IF(AJ17="D",IF(AM17<6,"SI","NO"),IF(AJ17="C",IF(AM17<11,"SI","NO"),IF(AJ17="A",IF(AM17<21,"SI","NO"))))) -> SI | AQ17: C | AR17: VERDI | AS17: Nap | AT17: 24 | AU17: =IF(AQ17="P",IF(AT17<7,"SI","NO"),IF(AQ17="D",IF(AT17<11,"SI","NO"),IF(AQ17="C",IF(AT17<21,"SI","NO"),IF(AQ17="A",IF(AT17<41,"SI","NO"))))) -> NO | AV17: =IF(AQ17="P",IF(AT17<4,"SI","NO"),IF(AQ17="D",IF(AT17<6,"SI","NO"),IF(AQ17="C",IF(AT17<11,"SI","NO"),IF(AQ17="A",IF(AT17<21,"SI","NO"))))) -> NO | AX17: C | AY17: IONITA | AZ17: Cag | BA17: 1 | BB17: =IF(AX17="P",IF(BA17<7,"SI","NO"),IF(AX17="D",IF(BA17<11,"SI","NO"),IF(AX17="C",IF(BA17<21,"SI","NO"),IF(AX17="A",IF(BA17<41,"SI","NO"))))) -> SI | BC17: =IF(AX17="P",IF(BA17<4,"SI","NO"),IF(AX17="D",IF(BA17<6,"SI","NO"),IF(AX17="C",IF(BA17<11,"SI","NO"),IF(AX17="A",IF(BA17<21,"SI","NO"))))) -> SI | BE17: C | BF17: BROZOVIC | BG17: Int | BH17: 25 | BI17: =IF(BE17="P",IF(BH17<7,"SI","NO"),IF(BE17="D",IF(BH17<11,"SI","NO"),IF(BE17="C",IF(BH17<21,"SI","NO"),IF(BE17="A",IF(BH17<41,"SI","NO"))))) -> NO | BJ17: =IF(BE17="P",IF(BH17<4,"SI","NO"),IF(BE17="D",IF(BH17<6,"SI","NO"),IF(BE17="C",IF(BH17<11,"SI","NO"),IF(BE17="A",IF(BH17<21,"SI","NO"))))) -> NO | BL17: C | BM17: PULGAR | BN17: Bol | BO17: 1 | BP17: =IF(BL17="P",IF(BO17<7,"SI","NO"),IF(BL17="D",IF(BO17<11,"SI","NO"),IF(BL17="C",IF(BO17<21,"SI","NO"),IF(BL17="A",IF(BO17<41,"SI","NO"))))) -> SI
A18: C | B18: GERSON | C18: Fio | D18: 8 | E18: =IF(A18="P",IF(D18<7,"SI","NO"),IF(A18="D",IF(D18<11,"SI","NO"),IF(A18="C",IF(D18<21,"SI","NO"),IF(A18="A",IF(D18<41,"SI","NO"))))) -> SI | F18: =IF(A18="P",IF(D18<4,"SI","NO"),IF(A18="D",IF(D18<6,"SI","NO"),IF(A18="C",IF(D18<11,"SI","NO"),IF(A18="A",IF(D18<21,"SI","NO"))))) -> SI | H18: C | I18: GIACCHERINI | J18: Chi | K18: 37 | L18: =IF(H18="P",IF(K18<7,"SI","NO"),IF(H18="D",IF(K18<11,"SI","NO"),IF(H18="C",IF(K18<21,"SI","NO"),IF(H18="A",IF(K18<41,"SI","NO"))))) -> NO | M18: =IF(H18="P",IF(K18<4,"SI","NO"),IF(H18="D",IF(K18<6,"SI","NO"),IF(H18="C",IF(K18<11,"SI","NO"),IF(H18="A",IF(K18<21,"SI","NO"))))) -> NO | O18: C | P18: JOAO PEDRO | Q18: Cag | R18: 15 | S18: =IF(O18="P",IF(R18<7,"SI","NO"),IF(O18="D",IF(R18<11,"SI","NO"),IF(O18="C",IF(R18<21,"SI","NO"),IF(O18="A",IF(R18<41,"SI","NO"))))) -> SI | T18: =IF(O18="P",IF(R18<4,"SI","NO"),IF(O18="D",IF(R18<6,"SI","NO"),IF(O18="C",IF(R18<11,"SI","NO"),IF(O18="A",IF(R18<21,"SI","NO"))))) -> NO | V18: C | W18: RAMIREZ | X18: Sam | Y18: 26 | Z18: =IF(V18="P",IF(Y18<7,"SI","NO"),IF(V18="D",IF(Y18<11,"SI","NO"),IF(V18="C",IF(Y18<21,"SI","NO"),IF(V18="A",IF(Y18<41,"SI","NO"))))) -> NO | AA18: =IF(V18="P",IF(Y18<4,"SI","NO"),IF(V18="D",IF(Y18<6,"SI","NO"),IF(V18="C",IF(Y18<11,"SI","NO"),IF(V18="A",IF(Y18<21,"SI","NO"))))) -> NO | AC18: C | AD18: CHIESA | AE18: Fio | AF18: 75 | AG18: =IF(AC18="P",IF(AF18<7,"SI","NO"),IF(AC18="D",IF(AF18<11,"SI","NO"),IF(AC18="C",IF(AF18<21,"SI","NO"),IF(AC18="A",IF(AF18<41,"SI","NO"))))) -> NO | AH18: =IF(AC18="P",IF(AF18<4,"SI","NO"),IF(AC18="D",IF(AF18<6,"SI","NO"),IF(AC18="C",IF(AF18<11,"SI","NO"),IF(AC18="A",IF(AF18<21,"SI","NO"))))) -> NO | AJ18: C | AK18: BENTANCUR | AL18: Juv | AM18: 22 | AN18: =IF(AJ18="P",IF(AM18<7,"SI","NO"),IF(AJ18="D",IF(AM18<11,"SI","NO"),IF(AJ18="C",IF(AM18<21,"SI","NO"),IF(AJ18="A",IF(AM18<41,"SI","NO"))))) -> NO | AO18: =IF(AJ18="P",IF(AM18<4,"SI","NO"),IF(AJ18="D",IF(AM18<6,"SI","NO"),IF(AJ18="C",IF(AM18<11,"SI","NO"),IF(AJ18="A",IF(AM18<21,"SI","NO"))))) -> NO | AQ18: C | AR18: CUADRADO | AS18: Juv | AT18: 1 | AU18: =IF(AQ18="P",IF(AT18<7,"SI","NO"),IF(AQ18="D",IF(AT18<11,"SI","NO"),IF(AQ18="C",IF(AT18<21,"SI","NO"),IF(AQ18="A",IF(AT18<41,"SI","NO"))))) -> SI | AV18: =IF(AQ18="P",IF(AT18<4,"SI","NO"),IF(AQ18="D",IF(AT18<6,"SI","NO"),IF(AQ18="C",IF(AT18<11,"SI","NO"),IF(AQ18="A",IF(AT18<21,"SI","NO"))))) -> SI | AX18: C | AY18: FREULER | AZ18: Ata | BA18: 24 | BB18: =IF(AX18="P",IF(BA18<7,"SI","NO"),IF(AX18="D",IF(BA18<11,"SI","NO"),IF(AX18="C",IF(BA18<21,"SI","NO"),IF(AX18="A",IF(BA18<41,"SI","NO"))))) -> NO | BC18: =IF(AX18="P",IF(BA18<4,"SI","NO"),IF(AX18="D",IF(BA18<6,"SI","NO"),IF(AX18="C",IF(BA18<11,"SI","NO"),IF(AX18="A",IF(BA18<21,"SI","NO"))))) -> NO | BE18: C | BF18: BIABIANY | BG18: Par | BH18: 1 | BI18: =IF(BE18="P",IF(BH18<7,"SI","NO"),IF(BE18="D",IF(BH18<11,"SI","NO"),IF(BE18="C",IF(BH18<21,"SI","NO"),IF(BE18="A",IF(BH18<41,"SI","NO"))))) -> SI | BJ18: =IF(BE18="P",IF(BH18<4,"SI","NO"),IF(BE18="D",IF(BH18<6,"SI","NO"),IF(BE18="C",IF(BH18<11,"SI","NO"),IF(BE18="A",IF(BH18<21,"SI","NO"))))) -> SI | BL18: C | BM18: KESSIE' | BN18: Mil | BO18: 37 | BP18: =IF(BL18="P",IF(BO18<7,"SI","NO"),IF(BL18="D",IF(BO18<11,"SI","NO"),IF(BL18="C",IF(BO18<21,"SI","NO"),IF(BL18="A",IF(BO18<41,"SI","NO"))))) -> NO | BQ18: =IF(BL18="P",IF(BO18<4,"SI","NO"),IF(BL18="D",IF(BO18<6,"SI","NO"),IF(BL18="C",IF(BO18<11,"SI","NO"),IF(BL18="A",IF(BO18<21,"SI","NO"))))) -> NO
A19: C | B19: LUIS ALBERTO | C19: Laz | D19: 10 | E19: =IF(A19="P",IF(D19<7,"SI","NO"),IF(A19="D",IF(D19<11,"SI","NO"),IF(A19="C",IF(D19<21,"SI","NO"),IF(A19="A",IF(D19<41,"SI","NO"))))) -> SI | F19: =IF(A19="P",IF(D19<4,"SI","NO"),IF(A19="D",IF(D19<6,"SI","NO"),IF(A19="C",IF(D19<11,"SI","NO"),IF(A19="A",IF(D19<21,"SI","NO"))))) -> SI | H19: C | I19: JANKTO | J19: Sam | K19: 30 | L19: =IF(H19="P",IF(K19<7,"SI","NO"),IF(H19="D",IF(K19<11,"SI","NO"),IF(H19="C",IF(K19<21,"SI","NO"),IF(H19="A",IF(K19<41,"SI","NO"))))) -> NO | M19: =IF(H19="P",IF(K19<4,"SI","NO"),IF(H19="D",IF(K19<6,"SI","NO"),IF(H19="C",IF(K19<11,"SI","NO"),IF(H19="A",IF(K19<21,"SI","NO"))))) -> NO | O19: C | P19: DJURICIC | Q19: Sas | R19: 1 | S19: =IF(O19="P",IF(R19<7,"SI","NO"),IF(O19="D",IF(R19<11,"SI","NO"),IF(O19="C",IF(R19<21,"SI","NO"),IF(O19="A",IF(R19<41,"SI","NO"))))) -> SI | T19: =IF(O19="P",IF(R19<4,"SI","NO"),IF(O19="D",IF(R19<6,"SI","NO"),IF(O19="C",IF(R19<11,"SI","NO"),IF(O19="A",IF(R19<21,"SI","NO"))))) -> SI | V19: C | W19: CAN | X19: Juv | Y19: 6 | Z19: =IF(V19="P",IF(Y19<7,"SI","NO"),IF(V19="D",IF(Y19<11,"SI","NO"),IF(V19="C",IF(Y19<21,"SI","NO"),IF(V19="A",IF(Y19<41,"SI","NO"))))) -> SI | AA19: =IF(V19="P",IF(Y19<4,"SI","NO"),IF(V19="D",IF(Y19<6,"SI","NO"),IF(V19="C",IF(Y19<11,"SI","NO"),IF(V19="A",IF(Y19<21,"SI","NO"))))) -> SI | AC19: C | AD19: DOUGLAS COSTA | AE19: Juv | AF19: 75 | AG19: =IF(AC19="P",IF(AF19<7,"SI","NO"),IF(AC19="D",IF(AF19<11,"SI","NO"),IF(AC19="C",IF(AF19<21,"SI","NO"),IF(AC19="A",IF(AF19<41,"SI","NO"))))) -> NO | AH19: =IF(AC19="P",IF(AF19<4,"SI","NO"),IF(AC19="D",IF(AF19<6,"SI","NO"),IF(AC19="C",IF(AF19<11,"SI","NO"),IF(AC19="A",IF(AF19<21,"SI","NO"))))) -> NO | AJ19: C | AK19: RAMIREZ | AL19: Sam | AM19: 13 | AN19: =IF(AJ19="P",IF(AM19<7,"SI","NO"),IF(AJ19="D",IF(AM19<11,"SI","NO"),IF(AJ19="C",IF(AM19<21,"SI","NO"),IF(AJ19="A",IF(AM19<41,"SI","NO"))))) -> SI | AO19: =IF(AJ19="P",IF(AM19<4,"SI","NO"),IF(AJ19="D",IF(AM19<6,"SI","NO"),IF(AJ19="C",IF(AM19<11,"SI","NO"),IF(AJ19="A",IF(AM19<21,"SI","NO"))))) -> NO | AQ19: C | AR19: BENTANCUR | AS19: Juv | AT19: 16 | AU19: =IF(AQ19="P",IF(AT19<7,"SI","NO"),IF(AQ19="D",IF(AT19<11,"SI","NO"),IF(AQ19="C",IF(AT19<21,"SI","NO"),IF(AQ19="A",IF(AT19<41,"SI","NO"))))) -> SI | AV19: =IF(AQ19="P",IF(AT19<4,"SI","NO"),IF(AQ19="D",IF(AT19<6,"SI","NO"),IF(AQ19="C",IF(AT19<11,"SI","NO"),IF(AQ19="A",IF(AT19<21,"SI","NO"))))) -> NO | AX19: C | AY19: LOCATELLI M | AZ19: Sas | BA19: 1 | BB19: =IF(AX19="P",IF(BA19<7,"SI","NO"),IF(AX19="D",IF(BA19<11,"SI","NO"),IF(AX19="C",IF(BA19<21,"SI","NO"),IF(AX19="A",IF(BA19<41,"SI","NO"))))) -> SI | BC19: =IF(AX19="P",IF(BA19<4,"SI","NO"),IF(AX19="D",IF(BA19<6,"SI","NO"),IF(AX19="C",IF(BA19<11,"SI","NO"),IF(AX19="A",IF(BA19<21,"SI","NO"))))) -> SI | BE19: C | BF19: BENASSI | BG19: Fio | BH19: 10 | BI19: =IF(BE19="P",IF(BH19<7,"SI","NO"),IF(BE19="D",IF(BH19<11,"SI","NO"),IF(BE19="C",IF(BH19<21,"SI","NO"),IF(BE19="A",IF(BH19<41,"SI","NO"))))) -> SI | BJ19: =IF(BE19="P",IF(BH19<4,"SI","NO"),IF(BE19="D",IF(BH19<6,"SI","NO"),IF(BE19="C",IF(BH19<11,"SI","NO"),IF(BE19="A",IF(BH19<21,"SI","NO"))))) -> SI | BL19: C | BM19: MARUSIC | BN19: Laz | BO19: 8 | BP19: =IF(BL19="P",IF(BO19<7,"SI","NO"),IF(BL19="D",IF(BO19<11,"SI","NO"),IF(BL19="C",IF(BO19<21,"SI","NO"),IF(BL19="A",IF(BO19<41,"SI","NO"))))) -> SI | BQ19: =IF(BL19="P",IF(BO19<4,"SI","NO"),IF(BL19="D",IF(BO19<6,"SI","NO"),IF(BL19="C",IF(BO19<11,"SI","NO"),IF(BL19="A",IF(BO19<21,"SI","NO"))))) -> SI
A20: C | B20: LUCAS LEIVA | C20: Laz | D20: 5 | E20: =IF(A20="P",IF(D20<7,"SI","NO"),IF(A20="D",IF(D20<11,"SI","NO"),IF(A20="C",IF(D20<21,"SI","NO"),IF(A20="A",IF(D20<41,"SI","NO"))))) -> SI | F20: =IF(A20="P",IF(D20<4,"SI","NO"),IF(A20="D",IF(D20<6,"SI","NO"),IF(A20="C",IF(D20<11,"SI","NO"),IF(A20="A",IF(D20<21,"SI","NO"))))) -> SI | H20: C | I20: PRAET | J20: Sam | K20: 3 | L20: =IF(H20="P",IF(K20<7,"SI","NO"),IF(H20="D",IF(K20<11,"SI","NO"),IF(H20="C",IF(K20<21,"SI","NO"),IF(H20="A",IF(K20<41,"SI","NO"))))) -> SI | M20: =IF(H20="P",IF(K20<4,"SI","NO"),IF(H20="D",IF(K20<6,"SI","NO"),IF(H20="C",IF(K20<11,"SI","NO"),IF(H20="A",IF(K20<21,"SI","NO"))))) -> SI | O20: C | P20: CALHANOGLU | Q20: Mil | R20: 60 | S20: =IF(O20="P",IF(R20<7,"SI","NO"),IF(O20="D",IF(R20<11,"SI","NO"),IF(O20="C",IF(R20<21,"SI","NO"),IF(O20="A",IF(R20<41,"SI","NO"))))) -> NO | T20: =IF(O20="P",IF(R20<4,"SI","NO"),IF(O20="D",IF(R20<6,"SI","NO"),IF(O20="C",IF(R20<11,"SI","NO"),IF(O20="A",IF(R20<21,"SI","NO"))))) -> NO | V20: C | W20: SORIANO | X20: Bol | Y20: 22 | Z20: =IF(V20="P",IF(Y20<7,"SI","NO"),IF(V20="D",IF(Y20<11,"SI","NO"),IF(V20="C",IF(Y20<21,"SI","NO"),IF(V20="A",IF(Y20<41,"SI","NO"))))) -> NO | AA20: =IF(V20="P",IF(Y20<4,"SI","NO"),IF(V20="D",IF(Y20<6,"SI","NO"),IF(V20="C",IF(Y20<11,"SI","NO"),IF(V20="A",IF(Y20<21,"SI","NO"))))) -> NO | AC20: C | AD20: RUIZ | AE20: Nap | AF20: 15 | AG20: =IF(AC20="P",IF(AF20<7,"SI","NO"),IF(AC20="D",IF(AF20<11,"SI","NO"),IF(AC20="C",IF(AF20<21,"SI","NO"),IF(AC20="A",IF(AF20<41,"SI","NO"))))) -> SI | AH20: =IF(AC20="P",IF(AF20<4,"SI","NO"),IF(AC20="D",IF(AF20<6,"SI","NO"),IF(AC20="C",IF(AF20<11,"SI","NO"),IF(AC20="A",IF(AF20<21,"SI","NO"))))) -> NO | AJ20: C | AK20: CAN | AL20: Juv | AM20: 13 | AN20: =IF(AJ20="P",IF(AM20<7,"SI","NO"),IF(AJ20="D",IF(AM20<11,"SI","NO"),IF(AJ20="C",IF(AM20<21,"SI","NO"),IF(AJ20="A",IF(AM20<41,"SI","NO"))))) -> SI | AO20: =IF(AJ20="P",IF(AM20<4,"SI","NO"),IF(AJ20="D",IF(AM20<6,"SI","NO"),IF(AJ20="C",IF(AM20<11,"SI","NO"),IF(AJ20="A",IF(AM20<21,"SI","NO"))))) -> NO | AQ20: C | AR20: LAZZARI M | AS20: SPA | AT20: 4 | AU20: =IF(AQ20="P",IF(AT20<7,"SI","NO"),IF(AQ20="D",IF(AT20<11,"SI","NO"),IF(AQ20="C",IF(AT20<21,"SI","NO"),IF(AQ20="A",IF(AT20<41,"SI","NO"))))) -> SI | AV20: =IF(AQ20="P",IF(AT20<4,"SI","NO"),IF(AQ20="D",IF(AT20<6,"SI","NO"),IF(AQ20="C",IF(AT20<11,"SI","NO"),IF(AQ20="A",IF(AT20<21,"SI","NO"))))) -> SI | AX20: C | AY20: CHIESA | AZ20: Fio | BA20: 65 | BB20: =IF(AX20="P",IF(BA20<7,"SI","NO"),IF(AX20="D",IF(BA20<11,"SI","NO"),IF(AX20="C",IF(BA20<21,"SI","NO"),IF(AX20="A",IF(BA20<41,"SI","NO"))))) -> NO | BC20: =IF(AX20="P",IF(BA20<4,"SI","NO"),IF(AX20="D",IF(BA20<6,"SI","NO"),IF(AX20="C",IF(BA20<11,"SI","NO"),IF(AX20="A",IF(BA20<21,"SI","NO"))))) -> NO | BE20: C | BF20: DE PAUL | BG20: Udi | BH20: 32 | BI20: =IF(BE20="P",IF(BH20<7,"SI","NO"),IF(BE20="D",IF(BH20<11,"SI","NO"),IF(BE20="C",IF(BH20<21,"SI","NO"),IF(BE20="A",IF(BH20<41,"SI","NO"))))) -> NO | BJ20: =IF(BE20="P",IF(BH20<4,"SI","NO"),IF(BE20="D",IF(BH20<6,"SI","NO"),IF(BE20="C",IF(BH20<11,"SI","NO"),IF(BE20="A",IF(BH20<21,"SI","NO"))))) -> NO | BL20: C | BM20: LAZZARI M | BN20: SPA | BO20: 6 | BP20: =IF(BL20="P",IF(BO20<7,"SI","NO"),IF(BL20="D",IF(BO20<11,"SI","NO"),IF(BL20="C",IF(BO20<21,"SI","NO"),IF(BL20="A",IF(BO20<41,"SI","NO"))))) -> SI | BQ20: =IF(BL20="P",IF(BO20<4,"SI","NO"),IF(BL20="D",IF(BO20<6,"SI","NO"),IF(BL20="C",IF(BO20<11,"SI","NO"),IF(BL20="A",IF(BO20<21,"SI","NO"))))) -> SI
A21: C | B21: FERNANDES | C21: Fio | D21: 1 | E21: =IF(A21="P",IF(D21<7,"SI","NO"),IF(A21="D",IF(D21<11,"SI","NO"),IF(A21="C",IF(D21<21,"SI","NO"),IF(A21="A",IF(D21<41,"SI","NO"))))) -> SI | F21: =IF(A21="P",IF(D21<4,"SI","NO"),IF(A21="D",IF(D21<6,"SI","NO"),IF(A21="C",IF(D21<11,"SI","NO"),IF(A21="A",IF(D21<21,"SI","NO"))))) -> SI | H21: C | I21: BAKAYOKO | J21: Mil | K21: 10 | L21: =IF(H21="P",IF(K21<7,"SI","NO"),IF(H21="D",IF(K21<11,"SI","NO"),IF(H21="C",IF(K21<21,"SI","NO"),IF(H21="A",IF(K21<41,"SI","NO"))))) -> SI | M21: =IF(H21="P",IF(K21<4,"SI","NO"),IF(H21="D",IF(K21<6,"SI","NO"),IF(H21="C",IF(K21<11,"SI","NO"),IF(H21="A",IF(K21<21,"SI","NO"))))) -> SI | O21: C | P21: EKDAL | Q21: Sam | R21: 2 | S21: =IF(O21="P",IF(R21<7,"SI","NO"),IF(O21="D",IF(R21<11,"SI","NO"),IF(O21="C",IF(R21<21,"SI","NO"),IF(O21="A",IF(R21<41,"SI","NO"))))) -> SI | T21: =IF(O21="P",IF(R21<4,"SI","NO"),IF(O21="D",IF(R21<6,"SI","NO"),IF(O21="C",IF(R21<11,"SI","NO"),IF(O21="A",IF(R21<21,"SI","NO"))))) -> SI | V21: C | W21: BARILLA' | X21: Par | Y21: 5 | Z21: =IF(V21="P",IF(Y21<7,"SI","NO"),IF(V21="D",IF(Y21<11,"SI","NO"),IF(V21="C",IF(Y21<21,"SI","NO"),IF(V21="A",IF(Y21<41,"SI","NO"))))) -> SI | AA21: =IF(V21="P",IF(Y21<4,"SI","NO"),IF(V21="D",IF(Y21<6,"SI","NO"),IF(V21="C",IF(Y21<11,"SI","NO"),IF(V21="A",IF(Y21<21,"SI","NO"))))) -> SI | AC21: A | AD21: MERTENS | AE21: Nap | AF21: 100 | AG21: =IF(AC21="P",IF(AF21<7,"SI","NO"),IF(AC21="D",IF(AF21<11,"SI","NO"),IF(AC21="C",IF(AF21<21,"SI","NO"),IF(AC21="A",IF(AF21<41,"SI","NO"))))) -> NO | AH21: =IF(AC21="P",IF(AF21<4,"SI","NO"),IF(AC21="D",IF(AF21<6,"SI","NO"),IF(AC21="C",IF(AF21<11,"SI","NO"),IF(AC21="A",IF(AF21<21,"SI","NO"))))) -> NO | AJ21: C | AK21: RUIZ | AL21: Nap | AM21: 4 | AN21: =IF(AJ21="P",IF(AM21<7,"SI","NO"),IF(AJ21="D",IF(AM21<11,"SI","NO"),IF(AJ21="C",IF(AM21<21,"SI","NO"),IF(AJ21="A",IF(AM21<41,"SI","NO"))))) -> SI | AO21: =IF(AJ21="P",IF(AM21<4,"SI","NO"),IF(AJ21="D",IF(AM21<6,"SI","NO"),IF(AJ21="C",IF(AM21<11,"SI","NO"),IF(AJ21="A",IF(AM21<21,"SI","NO"))))) -> SI | AQ21: C | AR21: MATUIDI | AS21: Juv | AT21: 16 | AU21: =IF(AQ21="P",IF(AT21<7,"SI","NO"),IF(AQ21="D",IF(AT21<11,"SI","NO"),IF(AQ21="C",IF(AT21<21,"SI","NO"),IF(AQ21="A",IF(AT21<41,"SI","NO"))))) -> SI | AV21: =IF(AQ21="P",IF(AT21<4,"SI","NO"),IF(AQ21="D",IF(AT21<6,"SI","NO"),IF(AQ21="C",IF(AT21<11,"SI","NO"),IF(AQ21="A",IF(AT21<21,"SI","NO"))))) -> NO | AX21: C | AY21: PAQUETA' | AZ21: Mil | BA21: 28 | BB21: =IF(AX21="P",IF(BA21<7,"SI","NO"),IF(AX21="D",IF(BA21<11,"SI","NO"),IF(AX21="C",IF(BA21<21,"SI","NO"),IF(AX21="A",IF(BA21<41,"SI","NO"))))) -> NO | BC21: =IF(AX21="P",IF(BA21<4,"SI","NO"),IF(AX21="D",IF(BA21<6,"SI","NO"),IF(AX21="C",IF(BA21<11,"SI","NO"),IF(AX21="A",IF(BA21<21,"SI","NO"))))) -> NO | BE21: C | BF21: JOAO MARIO | BG21: Int | BH21: 1 | BI21: =IF(BE21="P",IF(BH21<7,"SI","NO"),IF(BE21="D",IF(BH21<11,"SI","NO"),IF(BE21="C",IF(BH21<21,"SI","NO"),IF(BE21="A",IF(BH21<41,"SI","NO"))))) -> SI | BJ21: =IF(BE21="P",IF(BH21<4,"SI","NO"),IF(BE21="D",IF(BH21<6,"SI","NO"),IF(BE21="C",IF(BH21<11,"SI","NO"),IF(BE21="A",IF(BH21<21,"SI","NO"))))) -> SI | BL21: C | BM21: BAKAYOKO | BN21: Mil | BO21: 4 | BP21: =IF(BL21="P",IF(BO21<7,"SI","NO"),IF(BL21="D",IF(BO21<11,"SI","NO"),IF(BL21="C",IF(BO21<21,"SI","NO"),IF(BL21="A",IF(BO21<41,"SI","NO"))))) -> SI | BQ21: =IF(BL21="P",IF(BO21<4,"SI","NO"),IF(BL21="D",IF(BO21<6,"SI","NO"),IF(BL21="C",IF(BO21<11,"SI","NO"),IF(BL21="A",IF(BO21<21,"SI","NO"))))) -> SI
A22: A | B22: INGLESE | C22: Par | D22: 41 | E22: =IF(A22="P",IF(D22<7,"SI","NO"),IF(A22="D",IF(D22<11,"SI","NO"),IF(A22="C",IF(D22<21,"SI","NO"),IF(A22="A",IF(D22<41,"SI","NO"))))) -> NO | F22: =IF(A22="P",IF(D22<4,"SI","NO"),IF(A22="D",IF(D22<6,"SI","NO"),IF(A22="C",IF(D22<11,"SI","NO"),IF(A22="A",IF(D22<21,"SI","NO"))))) -> NO | H22: A | I22: BABACAR | J22: Sas | K22: 5 | L22: =IF(H22="P",IF(K22<7,"SI","NO"),IF(H22="D",IF(K22<11,"SI","NO"),IF(H22="C",IF(K22<21,"SI","NO"),IF(H22="A",IF(K22<41,"SI","NO"))))) -> SI | M22: =IF(H22="P",IF(K22<4,"SI","NO"),IF(H22="D",IF(K22<6,"SI","NO"),IF(H22="C",IF(K22<11,"SI","NO"),IF(H22="A",IF(K22<21,"SI","NO"))))) -> SI | O22: A | P22: LASAGNA | Q22: Udi | R22: 1 | S22: =IF(O22="P",IF(R22<7,"SI","NO"),IF(O22="D",IF(R22<11,"SI","NO"),IF(O22="C",IF(R22<21,"SI","NO"),IF(O22="A",IF(R22<41,"SI","NO"))))) -> SI | T22: =IF(O22="P",IF(R22<4,"SI","NO"),IF(O22="D",IF(R22<6,"SI","NO"),IF(O22="C",IF(R22<11,"SI","NO"),IF(O22="A",IF(R22<21,"SI","NO"))))) -> SI | V22: A | W22: PALACIO | X22: Bol | Y22: 5 | Z22: =IF(V22="P",IF(Y22<7,"SI","NO"),IF(V22="D",IF(Y22<11,"SI","NO"),IF(V22="C",IF(Y22<21,"SI","NO"),IF(V22="A",IF(Y22<41,"SI","NO"))))) -> SI | AA22: =IF(V22="P",IF(Y22<4,"SI","NO"),IF(V22="D",IF(Y22<6,"SI","NO"),IF(V22="C",IF(Y22<11,"SI","NO"),IF(V22="A",IF(Y22<21,"SI","NO"))))) -> SI | AC22: A | AD22: SANABRIA | AE22: Gen | AF22: 60 | AG22: =IF(AC22="P",IF(AF22<7,"SI","NO"),IF(AC22="D",IF(AF22<11,"SI","NO"),IF(AC22="C",IF(AF22<21,"SI","NO"),IF(AC22="A",IF(AF22<41,"SI","NO"))))) -> NO | AH22: =IF(AC22="P",IF(AF22<4,"SI","NO"),IF(AC22="D",IF(AF22<6,"SI","NO"),IF(AC22="C",IF(AF22<11,"SI","NO"),IF(AC22="A",IF(AF22<21,"SI","NO"))))) -> NO | AJ22: A | AK22: THEREAU | AL22: Cag | AM22: 1 | AN22: =IF(AJ22="P",IF(AM22<7,"SI","NO"),IF(AJ22="D",IF(AM22<11,"SI","NO"),IF(AJ22="C",IF(AM22<21,"SI","NO"),IF(AJ22="A",IF(AM22<41,"SI","NO"))))) -> SI | AO22: =IF(AJ22="P",IF(AM22<4,"SI","NO"),IF(AJ22="D",IF(AM22<6,"SI","NO"),IF(AJ22="C",IF(AM22<11,"SI","NO"),IF(AJ22="A",IF(AM22<21,"SI","NO"))))) -> SI | AQ22: A | AR22: EL SHAARAWY | AS22: Rom | AT22: 10 | AU22: =IF(AQ22="P",IF(AT22<7,"SI","NO"),IF(AQ22="D",IF(AT22<11,"SI","NO"),IF(AQ22="C",IF(AT22<21,"SI","NO"),IF(AQ22="A",IF(AT22<41,"SI","NO"))))) -> SI | AV22: =IF(AQ22="P",IF(AT22<4,"SI","NO"),IF(AQ22="D",IF(AT22<6,"SI","NO"),IF(AQ22="C",IF(AT22<11,"SI","NO"),IF(AQ22="A",IF(AT22<21,"SI","NO"))))) -> SI | AX22: A | AY22: BABACAR | AZ22: Sas | BA22: 11 | BB22: =IF(AX22="P",IF(BA22<7,"SI","NO"),IF(AX22="D",IF(BA22<11,"SI","NO"),IF(AX22="C",IF(BA22<21,"SI","NO"),IF(AX22="A",IF(BA22<41,"SI","NO"))))) -> SI | BC22: =IF(AX22="P",IF(BA22<4,"SI","NO"),IF(AX22="D",IF(BA22<6,"SI","NO"),IF(AX22="C",IF(BA22<11,"SI","NO"),IF(AX22="A",IF(BA22<21,"SI","NO"))))) -> SI | BE22: A | BF22: CALLEJON | BG22: Nap | BH22: 85 | BI22: =IF(BE22="P",IF(BH22<7,"SI","NO"),IF(BE22="D",IF(BH22<11,"SI","NO"),IF(BE22="C",IF(BH22<21,"SI","NO"),IF(BE22="A",IF(BH22<41,"SI","NO"))))) -> NO | BJ22: =IF(BE22="P",IF(BH22<4,"SI","NO"),IF(BE22="D",IF(BH22<6,"SI","NO"),IF(BE22="C",IF(BH22<11,"SI","NO"),IF(BE22="A",IF(BH22<21,"SI","NO"))))) -> NO | BL22: A | BM22: PALACIO | BN22: Bol | BO22: 3 | BP22: =IF(BL22="P",IF(BO22<7,"SI","NO"),IF(BL22="D",IF(BO22<11,"SI","NO"),IF(BL22="C",IF(BO22<21,"SI","NO"),IF(BL22="A",IF(BO22<41,"SI","NO"))))) -> SI | BQ22: =IF(BL22="P",IF(BO22<4,"SI","NO"),IF(BL22="D",IF(BO22<6,"SI","NO"),IF(BL22="C",IF(BO22<11,"SI","NO"),IF(BL22="A",IF(BO22<21,"SI","NO"))))) -> SI
A23: A | B23: PANDEV | C23: Gen | D23: 1 | E23: =IF(A23="P",IF(D23<7,"SI","NO"),IF(A23="D",IF(D23<11,"SI","NO"),IF(A23="C",IF(D23<21,"SI","NO"),IF(A23="A",IF(D23<41,"SI","NO"))))) -> SI | F23: =IF(A23="P",IF(D23<4,"SI","NO"),IF(A23="D",IF(D23<6,"SI","NO"),IF(A23="C",IF(D23<11,"SI","NO"),IF(A23="A",IF(D23<21,"SI","NO"))))) -> SI | H23: A | I23: DYBALA | J23: Juv | K23: 126 | L23: =IF(H23="P",IF(K23<7,"SI","NO"),IF(H23="D",IF(K23<11,"SI","NO"),IF(H23="C",IF(K23<21,"SI","NO"),IF(H23="A",IF(K23<41,"SI","NO"))))) -> NO | M23: =IF(H23="P",IF(K23<4,"SI","NO"),IF(H23="D",IF(K23<6,"SI","NO"),IF(H23="C",IF(K23<11,"SI","NO"),IF(H23="A",IF(K23<21,"SI","NO"))))) -> NO | O23: A | P23: PELLISSIER | Q23: Chi | R23: 14 | S23: =IF(O23="P",IF(R23<7,"SI","NO"),IF(O23="D",IF(R23<11,"SI","NO"),IF(O23="C",IF(R23<21,"SI","NO"),IF(O23="A",IF(R23<41,"SI","NO"))))) -> SI | T23: =IF(O23="P",IF(R23<4,"SI","NO"),IF(O23="D",IF(R23<6,"SI","NO"),IF(O23="C",IF(R23<11,"SI","NO"),IF(O23="A",IF(R23<21,"SI","NO"))))) -> SI | V23: A | W23: MANDZUKIC | X23: Juv | Y23: 50 | Z23: =IF(V23="P",IF(Y23<7,"SI","NO"),IF(V23="D",IF(Y23<11,"SI","NO"),IF(V23="C",IF(Y23<21,"SI","NO"),IF(V23="A",IF(Y23<41,"SI","NO"))))) -> NO | AA23: =IF(V23="P",IF(Y23<4,"SI","NO"),IF(V23="D",IF(Y23<6,"SI","NO"),IF(V23="C",IF(Y23<11,"SI","NO"),IF(V23="A",IF(Y23<21,"SI","NO"))))) -> NO | AC23: A | AD23: THEREAU | AE23: Cag | AF23: 1 | AG23: =IF(AC23="P",IF(AF23<7,"SI","NO"),IF(AC23="D",IF(AF23<11,"SI","NO"),IF(AC23="C",IF(AF23<21,"SI","NO"),IF(AC23="A",IF(AF23<41,"SI","NO"))))) -> SI | AH23: =IF(AC23="P",IF(AF23<4,"SI","NO"),IF(AC23="D",IF(AF23<6,"SI","NO"),IF(AC23="C",IF(AF23<11,"SI","NO"),IF(AC23="A",IF(AF23<21,"SI","NO"))))) -> SI | AJ23: A | AK23: FAVILLI | AL23: Gen | AM23: 1 | AN23: =IF(AJ23="P",IF(AM23<7,"SI","NO"),IF(AJ23="D",IF(AM23<11,"SI","NO"),IF(AJ23="C",IF(AM23<21,"SI","NO"),IF(AJ23="A",IF(AM23<41,"SI","NO"))))) -> SI | AO23: =IF(AJ23="P",IF(AM23<4,"SI","NO"),IF(AJ23="D",IF(AM23<6,"SI","NO"),IF(AJ23="C",IF(AM23<11,"SI","NO"),IF(AJ23="A",IF(AM23<21,"SI","NO"))))) -> SI | AQ23: A | AR23: DI FRANCESCO F | AS23: Sas | AT23: 24 | AU23: =IF(AQ23="P",IF(AT23<7,"SI","NO"),IF(AQ23="D",IF(AT23<11,"SI","NO"),IF(AQ23="C",IF(AT23<21,"SI","NO"),IF(AQ23="A",IF(AT23<41,"SI","NO"))))) -> SI | AV23: =IF(AQ23="P",IF(AT23<4,"SI","NO"),IF(AQ23="D",IF(AT23<6,"SI","NO"),IF(AQ23="C",IF(AT23<11,"SI","NO"),IF(AQ23="A",IF(AT23<21,"SI","NO"))))) -> NO | AX23: A | AY23: DYBALA | AZ23: Juv | BA23: 105 | BB23: =IF(AX23="P",IF(BA23<7,"SI","NO"),IF(AX23="D",IF(BA23<11,"SI","NO"),IF(AX23="C",IF(BA23<21,"SI","NO"),IF(AX23="A",IF(BA23<41,"SI","NO"))))) -> NO | BC23: =IF(AX23="P",IF(BA23<4,"SI","NO"),IF(AX23="D",IF(BA23<6,"SI","NO"),IF(AX23="C",IF(BA23<11,"SI","NO"),IF(AX23="A",IF(BA23<21,"SI","NO"))))) -> NO | BE23: A | BF23: GABBIADINI | BG23: Sam | BH23: 112 | BI23: =IF(BE23="P",IF(BH23<7,"SI","NO"),IF(BE23="D",IF(BH23<11,"SI","NO"),IF(BE23="C",IF(BH23<21,"SI","NO"),IF(BE23="A",IF(BH23<41,"SI","NO"))))) -> NO | BJ23: =IF(BE23="P",IF(BH23<4,"SI","NO"),IF(BE23="D",IF(BH23<6,"SI","NO"),IF(BE23="C",IF(BH23<11,"SI","NO"),IF(BE23="A",IF(BH23<21,"SI","NO"))))) -> NO | BL23: A | BM23: ZAZA | BN23: Tor | BO23: 20 | BP23: =IF(BL23="P",IF(BO23<7,"SI","NO"),IF(BL23="D",IF(BO23<11,"SI","NO"),IF(BL23="C",IF(BO23<21,"SI","NO"),IF(BL23="A",IF(BO23<41,"SI","NO"))))) -> SI | BQ23: =IF(BL23="P",IF(BO23<4,"SI","NO"),IF(BL23="D",IF(BO23<6,"SI","NO"),IF(BL23="C",IF(BO23<11,"SI","NO"),IF(BL23="A",IF(BO23<21,"SI","NO"))))) -> SI
A24: A | B24: BERARDI | C24: Sas | D24: 37 | E24: =IF(A24="P",IF(D24<7,"SI","NO"),IF(A24="D",IF(D24<11,"SI","NO"),IF(A24="C",IF(D24<21,"SI","NO"),IF(A24="A",IF(D24<41,"SI","NO"))))) -> SI | F24: =IF(A24="P",IF(D24<4,"SI","NO"),IF(A24="D",IF(D24<6,"SI","NO"),IF(A24="C",IF(D24<11,"SI","NO"),IF(A24="A",IF(D24<21,"SI","NO"))))) -> NO | H24: A | I24: PETAGNA | J24: SPA | K24: 10 | L24: =IF(H24="P",IF(K24<7,"SI","NO"),IF(H24="D",IF(K24<11,"SI","NO"),IF(H24="C",IF(K24<21,"SI","NO"),IF(H24="A",IF(K24<41,"SI","NO"))))) -> SI | M24: =IF(H24="P",IF(K24<4,"SI","NO"),IF(H24="D",IF(K24<6,"SI","NO"),IF(H24="C",IF(K24<11,"SI","NO"),IF(H24="A",IF(K24<21,"SI","NO"))))) -> SI | O24: A | P24: ICARDI | Q24: Int | R24: 208 | S24: =IF(O24="P",IF(R24<7,"SI","NO"),IF(O24="D",IF(R24<11,"SI","NO"),IF(O24="C",IF(R24<21,"SI","NO"),IF(O24="A",IF(R24<41,"SI","NO"))))) -> NO | T24: =IF(O24="P",IF(R24<4,"SI","NO"),IF(O24="D",IF(R24<6,"SI","NO"),IF(O24="C",IF(R24<11,"SI","NO"),IF(O24="A",IF(R24<21,"SI","NO"))))) -> NO | V24: A | W24: INSIGNE | X24: Nap | Y24: 90 | Z24: =IF(V24="P",IF(Y24<7,"SI","NO"),IF(V24="D",IF(Y24<11,"SI","NO"),IF(V24="C",IF(Y24<21,"SI","NO"),IF(V24="A",IF(Y24<41,"SI","NO"))))) -> NO | AA24: =IF(V24="P",IF(Y24<4,"SI","NO"),IF(V24="D",IF(Y24<6,"SI","NO"),IF(V24="C",IF(Y24<11,"SI","NO"),IF(V24="A",IF(Y24<21,"SI","NO"))))) -> NO | AC24: A | AD24: ZAPATA D | AE24: Ata | AF24: 52 | AG24: =IF(AC24="P",IF(AF24<7,"SI","NO"),IF(AC24="D",IF(AF24<11,"SI","NO"),IF(AC24="C",IF(AF24<21,"SI","NO"),IF(AC24="A",IF(AF24<41,"SI","NO"))))) -> NO | AH24: =IF(AC24="P",IF(AF24<4,"SI","NO"),IF(AC24="D",IF(AF24<6,"SI","NO"),IF(AC24="C",IF(AF24<11,"SI","NO"),IF(AC24="A",IF(AF24<21,"SI","NO"))))) -> NO | AJ24: A | AK24: ORSOLINI | AL24: Bol | AM24: 1 | AN24: =IF(AJ24="P",IF(AM24<7,"SI","NO"),IF(AJ24="D",IF(AM24<11,"SI","NO"),IF(AJ24="C",IF(AM24<21,"SI","NO"),IF(AJ24="A",IF(AM24<41,"SI","NO"))))) -> SI | AO24: =IF(AJ24="P",IF(AM24<4,"SI","NO"),IF(AJ24="D",IF(AM24<6,"SI","NO"),IF(AJ24="C",IF(AM24<11,"SI","NO"),IF(AJ24="A",IF(AM24<21,"SI","NO"))))) -> SI | AQ24: A | AR24: SCHICK | AS24: Rom | AT24: 8 | AU24: =IF(AQ24="P",IF(AT24<7,"SI","NO"),IF(AQ24="D",IF(AT24<11,"SI","NO"),IF(AQ24="C",IF(AT24<21,"SI","NO"),IF(AQ24="A",IF(AT24<41,"SI","NO"))))) -> SI | AV24: =IF(AQ24="P",IF(AT24<4,"SI","NO"),IF(AQ24="D",IF(AT24<6,"SI","NO"),IF(AQ24="C",IF(AT24<11,"SI","NO"),IF(AQ24="A",IF(AT24<21,"SI","NO"))))) -> SI | AX24: A | AY24: KEITA B | AZ24: Int | BA24: 5 | BB24: =IF(AX24="P",IF(BA24<7,"SI","NO"),IF(AX24="D",IF(BA24<11,"SI","NO"),IF(AX24="C",IF(BA24<21,"SI","NO"),IF(AX24="A",IF(BA24<41,"SI","NO"))))) -> SI | BC24: =IF(AX24="P",IF(BA24<4,"SI","NO"),IF(AX24="D",IF(BA24<6,"SI","NO"),IF(AX24="C",IF(BA24<11,"SI","NO"),IF(AX24="A",IF(BA24<21,"SI","NO"))))) -> SI | BE24: A | BF24: QUAGLIARELLA | BG24: Sam | BH24: 50 | BI24: =IF(BE24="P",IF(BH24<7,"SI","NO"),IF(BE24="D",IF(BH24<11,"SI","NO"),IF(BE24="C",IF(BH24<21,"SI","NO"),IF(BE24="A",IF(BH24<41,"SI","NO"))))) -> NO | BJ24: =IF(BE24="P",IF(BH24<4,"SI","NO"),IF(BE24="D",IF(BH24<6,"SI","NO"),IF(BE24="C",IF(BH24<11,"SI","NO"),IF(BE24="A",IF(BH24<21,"SI","NO"))))) -> NO | BL24: A | BM24: IMMOBILE | BN24: Laz | BO24: 217 | BP24: =IF(BL24="P",IF(BO24<7,"SI","NO"),IF(BL24="D",IF(BO24<11,"SI","NO"),IF(BL24="C",IF(BO24<21,"SI","NO"),IF(BL24="A",IF(BO24<41,"SI","NO"))))) -> NO | BQ24: =IF(BL24="P",IF(BO24<4,"SI","NO"),IF(BL24="D",IF(BO24<6,"SI","NO"),IF(BL24="C",IF(BO24<11,"SI","NO"),IF(BL24="A",IF(BO24<21,"SI","NO"))))) -> NO
A25: A | B25: MILIK | C25: Nap | D25: 15 | E25: =IF(A25="P",IF(D25<7,"SI","NO"),IF(A25="D",IF(D25<11,"SI","NO"),IF(A25="C",IF(D25<21,"SI","NO"),IF(A25="A",IF(D25<41,"SI","NO"))))) -> SI | F25: =IF(A25="P",IF(D25<4,"SI","NO"),IF(A25="D",IF(D25<6,"SI","NO"),IF(A25="C",IF(D25<11,"SI","NO"),IF(A25="A",IF(D25<21,"SI","NO"))))) -> SI | H25: A | I25: SIMEONE | J25: Fio | K25: 61 | L25: =IF(H25="P",IF(K25<7,"SI","NO"),IF(H25="D",IF(K25<11,"SI","NO"),IF(H25="C",IF(K25<21,"SI","NO"),IF(H25="A",IF(K25<41,"SI","NO"))))) -> NO | M25: =IF(H25="P",IF(K25<4,"SI","NO"),IF(H25="D",IF(K25<6,"SI","NO"),IF(H25="C",IF(K25<11,"SI","NO"),IF(H25="A",IF(K25<21,"SI","NO"))))) -> NO | O25: A | P25: DESTRO | Q25: Bol | R25: 1 | S25: =IF(O25="P",IF(R25<7,"SI","NO"),IF(O25="D",IF(R25<11,"SI","NO"),IF(O25="C",IF(R25<21,"SI","NO"),IF(O25="A",IF(R25<41,"SI","NO"))))) -> SI | T25: =IF(O25="P",IF(R25<4,"SI","NO"),IF(O25="D",IF(R25<6,"SI","NO"),IF(O25="C",IF(R25<11,"SI","NO"),IF(O25="A",IF(R25<21,"SI","NO"))))) -> SI | V25: A | W25: BELOTTI | X25: Tor | Y25: 130 | Z25: =IF(V25="P",IF(Y25<7,"SI","NO"),IF(V25="D",IF(Y25<11,"SI","NO"),IF(V25="C",IF(Y25<21,"SI","NO"),IF(V25="A",IF(Y25<41,"SI","NO"))))) -> NO | AA25: =IF(V25="P",IF(Y25<4,"SI","NO"),IF(V25="D",IF(Y25<6,"SI","NO"),IF(V25="C",IF(Y25<11,"SI","NO"),IF(V25="A",IF(Y25<21,"SI","NO"))))) -> NO | AC25: A | AD25: FAVILLI | AE25: Gen | AF25: 8 | AG25: =IF(AC25="P",IF(AF25<7,"SI","NO"),IF(AC25="D",IF(AF25<11,"SI","NO"),IF(AC25="C",IF(AF25<21,"SI","NO"),IF(AC25="A",IF(AF25<41,"SI","NO"))))) -> SI | AH25: =IF(AC25="P",IF(AF25<4,"SI","NO"),IF(AC25="D",IF(AF25<6,"SI","NO"),IF(AC25="C",IF(AF25<11,"SI","NO"),IF(AC25="A",IF(AF25<21,"SI","NO"))))) -> SI | AJ25: A | AK25: CRISTIANO RONALDO | AL25: Juv | AM25: 230 | AN25: =IF(AJ25="P",IF(AM25<7,"SI","NO"),IF(AJ25="D",IF(AM25<11,"SI","NO"),IF(AJ25="C",IF(AM25<21,"SI","NO"),IF(AJ25="A",IF(AM25<41,"SI","NO"))))) -> NO | AO25: =IF(AJ25="P",IF(AM25<4,"SI","NO"),IF(AJ25="D",IF(AM25<6,"SI","NO"),IF(AJ25="C",IF(AM25<11,"SI","NO"),IF(AJ25="A",IF(AM25<21,"SI","NO"))))) -> NO | AQ25: A | AR25: CRISTIANO RONALDO | AS25: Juv | AT25: 212 | AU25: =IF(AQ25="P",IF(AT25<7,"SI","NO"),IF(AQ25="D",IF(AT25<11,"SI","NO"),IF(AQ25="C",IF(AT25<21,"SI","NO"),IF(AQ25="A",IF(AT25<41,"SI","NO"))))) -> NO | AV25: =IF(AQ25="P",IF(AT25<4,"SI","NO"),IF(AQ25="D",IF(AT25<6,"SI","NO"),IF(AQ25="C",IF(AT25<11,"SI","NO"),IF(AQ25="A",IF(AT25<21,"SI","NO"))))) -> NO | AX25: A | AY25: IAGO FALQUE | AZ25: Tor | BA25: 90 | BB25: =IF(AX25="P",IF(BA25<7,"SI","NO"),IF(AX25="D",IF(BA25<11,"SI","NO"),IF(AX25="C",IF(BA25<21,"SI","NO"),IF(AX25="A",IF(BA25<41,"SI","NO"))))) -> NO | BC25: =IF(AX25="P",IF(BA25<4,"SI","NO"),IF(AX25="D",IF(BA25<6,"SI","NO"),IF(AX25="C",IF(BA25<11,"SI","NO"),IF(AX25="A",IF(BA25<21,"SI","NO"))))) -> NO | BE25: A | BF25: DEFREL | BG25: Sam | BH25: 35 | BI25: =IF(BE25="P",IF(BH25<7,"SI","NO"),IF(BE25="D",IF(BH25<11,"SI","NO"),IF(BE25="C",IF(BH25<21,"SI","NO"),IF(BE25="A",IF(BH25<41,"SI","NO"))))) -> SI | BJ25: =IF(BE25="P",IF(BH25<4,"SI","NO"),IF(BE25="D",IF(BH25<6,"SI","NO"),IF(BE25="C",IF(BH25<11,"SI","NO"),IF(BE25="A",IF(BH25<21,"SI","NO"))))) -> NO | BL25: A | BM25: SIMEONE | BN25: Fio | BO25: 110 | BP25: =IF(BL25="P",IF(BO25<7,"SI","NO"),IF(BL25="D",IF(BO25<11,"SI","NO"),IF(BL25="C",IF(BO25<21,"SI","NO"),IF(BL25="A",IF(BO25<41,"SI","NO"))))) -> NO | BQ25: =IF(BL25="P",IF(BO25<4,"SI","NO"),IF(BL25="D",IF(BO25<6,"SI","NO"),IF(BL25="C",IF(BO25<11,"SI","NO"),IF(BL25="A",IF(BO25<21,"SI","NO"))))) -> NO
A26: A | B26: MARTINEZ L | C26: Int | D26: 24 | E26: =IF(A26="P",IF(D26<7,"SI","NO"),IF(A26="D",IF(D26<11,"SI","NO"),IF(A26="C",IF(D26<21,"SI","NO"),IF(A26="A",IF(D26<41,"SI","NO"))))) -> SI | F26: =IF(A26="P",IF(D26<4,"SI","NO"),IF(A26="D",IF(D26<6,"SI","NO"),IF(A26="C",IF(D26<11,"SI","NO"),IF(A26="A",IF(D26<21,"SI","NO"))))) -> NO | H26: A | I26: CUTRONE | J26: Mil | K26: 5 | L26: =IF(H26="P",IF(K26<7,"SI","NO"),IF(H26="D",IF(K26<11,"SI","NO"),IF(H26="C",IF(K26<21,"SI","NO"),IF(H26="A",IF(K26<41,"SI","NO"))))) -> SI | M26: =IF(H26="P",IF(K26<4,"SI","NO"),IF(H26="D",IF(K26<6,"SI","NO"),IF(H26="C",IF(K26<11,"SI","NO"),IF(H26="A",IF(K26<21,"SI","NO"))))) -> SI | O26: A | P26: IAGO FALQUE | Q26: Tor | R26: 16 | S26: =IF(O26="P",IF(R26<7,"SI","NO"),IF(O26="D",IF(R26<11,"SI","NO"),IF(O26="C",IF(R26<21,"SI","NO"),IF(O26="A",IF(R26<41,"SI","NO"))))) -> SI | T26: =IF(O26="P",IF(R26<4,"SI","NO"),IF(O26="D",IF(R26<6,"SI","NO"),IF(O26="C",IF(R26<11,"SI","NO"),IF(O26="A",IF(R26<21,"SI","NO"))))) -> SI | V26: A | W26: GERVINHO | X26: Par | Y26: 2 | Z26: =IF(V26="P",IF(Y26<7,"SI","NO"),IF(V26="D",IF(Y26<11,"SI","NO"),IF(V26="C",IF(Y26<21,"SI","NO"),IF(V26="A",IF(Y26<41,"SI","NO"))))) -> SI | AA26: =IF(V26="P",IF(Y26<4,"SI","NO"),IF(V26="D",IF(Y26<6,"SI","NO"),IF(V26="C",IF(Y26<11,"SI","NO"),IF(V26="A",IF(Y26<21,"SI","NO"))))) -> SI | AC26: A | AD26: ORSOLINI | AE26: Bol | AF26: 1 | AG26: =IF(AC26="P",IF(AF26<7,"SI","NO"),IF(AC26="D",IF(AF26<11,"SI","NO"),IF(AC26="C",IF(AF26<21,"SI","NO"),IF(AC26="A",IF(AF26<41,"SI","NO"))))) -> SI | AH26: =IF(AC26="P",IF(AF26<4,"SI","NO"),IF(AC26="D",IF(AF26<6,"SI","NO"),IF(AC26="C",IF(AF26<11,"SI","NO"),IF(AC26="A",IF(AF26<21,"SI","NO"))))) -> SI | AJ26: A | AK26: PIATEK | AL26: Mil | AM26: 53 | AN26: =IF(AJ26="P",IF(AM26<7,"SI","NO"),IF(AJ26="D",IF(AM26<11,"SI","NO"),IF(AJ26="C",IF(AM26<21,"SI","NO"),IF(AJ26="A",IF(AM26<41,"SI","NO"))))) -> NO | AO26: =IF(AJ26="P",IF(AM26<4,"SI","NO"),IF(AJ26="D",IF(AM26<6,"SI","NO"),IF(AJ26="C",IF(AM26<11,"SI","NO"),IF(AJ26="A",IF(AM26<21,"SI","NO"))))) -> NO | AQ26: A | AR26: KOUAME' | AS26: Gen | AT26: 72 | AU26: =IF(AQ26="P",IF(AT26<7,"SI","NO"),IF(AQ26="D",IF(AT26<11,"SI","NO"),IF(AQ26="C",IF(AT26<21,"SI","NO"),IF(AQ26="A",IF(AT26<41,"SI","NO"))))) -> NO | AV26: =IF(AQ26="P",IF(AT26<4,"SI","NO"),IF(AQ26="D",IF(AT26<6,"SI","NO"),IF(AQ26="C",IF(AT26<11,"SI","NO"),IF(AQ26="A",IF(AT26<21,"SI","NO"))))) -> NO | AX26: A | AY26: SANSONE N | AZ26: Bol | BA26: 1 | BB26: =IF(AX26="P",IF(BA26<7,"SI","NO"),IF(AX26="D",IF(BA26<11,"SI","NO"),IF(AX26="C",IF(BA26<21,"SI","NO"),IF(AX26="A",IF(BA26<41,"SI","NO"))))) -> SI | BC26: =IF(AX26="P",IF(BA26<4,"SI","NO"),IF(AX26="D",IF(BA26<6,"SI","NO"),IF(AX26="C",IF(BA26<11,"SI","NO"),IF(AX26="A",IF(BA26<21,"SI","NO"))))) -> SI | BE26: A | BF26: CAPRARI | BG26: Sam | BH26: 1 | BI26: =IF(BE26="P",IF(BH26<7,"SI","NO"),IF(BE26="D",IF(BH26<11,"SI","NO"),IF(BE26="C",IF(BH26<21,"SI","NO"),IF(BE26="A",IF(BH26<41,"SI","NO"))))) -> SI | BJ26: =IF(BE26="P",IF(BH26<4,"SI","NO"),IF(BE26="D",IF(BH26<6,"SI","NO"),IF(BE26="C",IF(BH26<11,"SI","NO"),IF(BE26="A",IF(BH26<21,"SI","NO"))))) -> SI | BL26: A | BM26: CAICEDO | BN26: Laz | BO26: 1 | BP26: =IF(BL26="P",IF(BO26<7,"SI","NO"),IF(BL26="D",IF(BO26<11,"SI","NO"),IF(BL26="C",IF(BO26<21,"SI","NO"),IF(BL26="A",IF(BO26<41,"SI","NO"))))) -> SI | BQ26: =IF(BL26="P",IF(BO26<4,"SI","NO"),IF(BL26="D",IF(BO26<6,"SI","NO"),IF(BL26="C",IF(BO26<11,"SI","NO"),IF(BL26="A",IF(BO26<21,"SI","NO"))))) -> SI
A27: A | B27: MIRALLAS | C27: Fio | D27: 1 | E27: =IF(A27="P",IF(D27<7,"SI","NO"),IF(A27="D",IF(D27<11,"SI","NO"),IF(A27="C",IF(D27<21,"SI","NO"),IF(A27="A",IF(D27<41,"SI","NO"))))) -> SI | F27: =IF(A27="P",IF(D27<4,"SI","NO"),IF(A27="D",IF(D27<6,"SI","NO"),IF(A27="C",IF(D27<11,"SI","NO"),IF(A27="A",IF(D27<21,"SI","NO"))))) -> SI | H27: A | I27: OKAKA | J27: Udi | K27: 36 | L27: =IF(H27="P",IF(K27<7,"SI","NO"),IF(H27="D",IF(K27<11,"SI","NO"),IF(H27="C",IF(K27<21,"SI","NO"),IF(H27="A",IF(K27<41,"SI","NO"))))) -> SI | M27: =IF(H27="P",IF(K27<4,"SI","NO"),IF(H27="D",IF(K27<6,"SI","NO"),IF(H27="C",IF(K27<11,"SI","NO"),IF(H27="A",IF(K27<21,"SI","NO"))))) -> NO | O27: A | P27: CAPUTO | Q27: Emp | R27: 21 | S27: =IF(O27="P",IF(R27<7,"SI","NO"),IF(O27="D",IF(R27<11,"SI","NO"),IF(O27="C",IF(R27<21,"SI","NO"),IF(O27="A",IF(R27<41,"SI","NO"))))) -> SI | T27: =IF(O27="P",IF(R27<4,"SI","NO"),IF(O27="D",IF(R27<6,"SI","NO"),IF(O27="C",IF(R27<11,"SI","NO"),IF(O27="A",IF(R27<21,"SI","NO"))))) -> NO | V27: A | W27: FARIAS | X27: Emp | Y27: 1 | Z27: =IF(V27="P",IF(Y27<7,"SI","NO"),IF(V27="D",IF(Y27<11,"SI","NO"),IF(V27="C",IF(Y27<21,"SI","NO"),IF(V27="A",IF(Y27<41,"SI","NO"))))) -> SI | AA27: =IF(V27="P",IF(Y27<4,"SI","NO"),IF(V27="D",IF(Y27<6,"SI","NO"),IF(V27="C",IF(Y27<11,"SI","NO"),IF(V27="A",IF(Y27<21,"SI","NO"))))) -> SI | AC27: A | AD27: RICCI | AE27: CRO | AF27: 3 | AG27: =IF(AC27="P",IF(AF27<7,"SI","NO"),IF(AC27="D",IF(AF27<11,"SI","NO"),IF(AC27="C",IF(AF27<21,"SI","NO"),IF(AC27="A",IF(AF27<41,"SI","NO"))))) -> SI | AH27: =IF(AC27="P",IF(AF27<4,"SI","NO"),IF(AC27="D",IF(AF27<6,"SI","NO"),IF(AC27="C",IF(AF27<11,"SI","NO"),IF(AC27="A",IF(AF27<21,"SI","NO"))))) -> SI | AJ27: A | AK27: CIANO | AL27: Fro | AM27: 2 | AN27: =IF(AJ27="P",IF(AM27<7,"SI","NO"),IF(AJ27="D",IF(AM27<11,"SI","NO"),IF(AJ27="C",IF(AM27<21,"SI","NO"),IF(AJ27="A",IF(AM27<41,"SI","NO"))))) -> SI | AO27: =IF(AJ27="P",IF(AM27<4,"SI","NO"),IF(AJ27="D",IF(AM27<6,"SI","NO"),IF(AJ27="C",IF(AM27<11,"SI","NO"),IF(AJ27="A",IF(AM27<21,"SI","NO"))))) -> SI | AQ27: A | AR27: KLUIVERT | AS27: Rom | AT27: 1 | AU27: =IF(AQ27="P",IF(AT27<7,"SI","NO"),IF(AQ27="D",IF(AT27<11,"SI","NO"),IF(AQ27="C",IF(AT27<21,"SI","NO"),IF(AQ27="A",IF(AT27<41,"SI","NO"))))) -> SI | AV27: =IF(AQ27="P",IF(AT27<4,"SI","NO"),IF(AQ27="D",IF(AT27<6,"SI","NO"),IF(AQ27="C",IF(AT27<11,"SI","NO"),IF(AQ27="A",IF(AT27<21,"SI","NO"))))) -> SI | AX27: A | AY27: QUAGLIARELLA | AZ27: Sam | BA27: 56 | BB27: =IF(AX27="P",IF(BA27<7,"SI","NO"),IF(AX27="D",IF(BA27<11,"SI","NO"),IF(AX27="C",IF(BA27<21,"SI","NO"),IF(AX27="A",IF(BA27<41,"SI","NO"))))) -> NO | BC27: =IF(AX27="P",IF(BA27<4,"SI","NO"),IF(AX27="D",IF(BA27<6,"SI","NO"),IF(AX27="C",IF(BA27<11,"SI","NO"),IF(AX27="A",IF(BA27<21,"SI","NO"))))) -> NO | BE27: A | BF27: OUNAS | BG27: Nap | BH27: 1 | BI27: =IF(BE27="P",IF(BH27<7,"SI","NO"),IF(BE27="D",IF(BH27<11,"SI","NO"),IF(BE27="C",IF(BH27<21,"SI","NO"),IF(BE27="A",IF(BH27<41,"SI","NO"))))) -> SI | BJ27: =IF(BE27="P",IF(BH27<4,"SI","NO"),IF(BE27="D",IF(BH27<6,"SI","NO"),IF(BE27="C",IF(BH27<11,"SI","NO"),IF(BE27="A",IF(BH27<21,"SI","NO"))))) -> SI | BL27: A | BM27: MARTINEZ L | BN27: Int | BO27: 27 | BP27: =IF(BL27="P",IF(BO27<7,"SI","NO"),IF(BL27="D",IF(BO27<11,"SI","NO"),IF(BL27="C",IF(BO27<21,"SI","NO"),IF(BL27="A",IF(BO27<41,"SI","NO"))))) -> SI | BQ27: =IF(BL27="P",IF(BO27<4,"SI","NO"),IF(BL27="D",IF(BO27<6,"SI","NO"),IF(BL27="C",IF(BO27<11,"SI","NO"),IF(BL27="A",IF(BO27<21,"SI","NO"))))) -> NO
A28: Crediti Residui | B28: 99 | C28: Rimanente | E28: =FLOOR(B28/3,1) -> 33 | H28: Crediti Residui | I28: 55 | J28: Rimanente | L28: =FLOOR(I28/3,1) -> 18 | O28: Crediti Residui | P28: 15 | Q28: Rimanente | S28: =FLOOR(P28/3,1) -> 5 | V28: Crediti Residui | W28: 0 | X28: Rimanente | Z28: =FLOOR(W28/3,1) -> 0 | AC28: Crediti Residui | AD28: 13 | AE28: Rimanente | AG28: =FLOOR(AD28/3,1) -> 4 | AJ28: Crediti Residui | AK28: 43 | AL28: Rimanente | AN28: =FLOOR(AK28/3,1) -> 14 | AQ28: Crediti Residui | AR28: 3 | AS28: Rimanente | AU28: =FLOOR(AR28/3,1) -> 1 | AX28: Crediti Residui | AY28: 10 | AZ28: Rimanente | BB28: =FLOOR(AY28/3,1) -> 3 | BE28: Crediti Residui | BF28: 7 | BG28: Rimanente | BI28: =FLOOR(BF28/3,1) -> 2 | BL28: Crediti Residui | BM28: 48 | BN28: Rimanente | BP28: =FLOOR(BM28/3,1) -> 16
C29: Nuovi | E29: 500 | J29: Nuovi | L29: 500 | Q29: Nuovi | S29: 500 | X29: Nuovi | Z29: 500 | AE29: Nuovi | AG29: 500 | AL29: Nuovi | AN29: 502 | AS29: Nuovi | AU29: 503 | AZ29: Nuovi | BB29: 505 | BG29: Nuovi | BI29: 506 | BN29: Nuovi | BP29: 507
C30: Conferme | E30: =SUM(E3:E27) -> 0 | F30: =SUM(F3:F27) -> 0 | J30: Conferme | L30: =SUM(L3:L27) -> 0 | M30: =SUM(M3:M27) -> 0 | Q30: Conferme | S30: =SUM(S3:S27) -> 0 | T30: =SUM(T3:T27) -> 0 | X30: Conferme | Z30: =SUM(Z3:Z27) -> 0 | AA30: =SUM(AA3:AA27) -> 0 | AE30: Conferme | AG30: =SUM(AG3:AG27) -> 0 | AH30: =SUM(AH3:AH27) -> 0 | AL30: Conferme | AN30: =SUM(AN3:AN27) -> 0 | AO30: =SUM(AO3:AO27) -> 0 | AS30: Conferme | AU30: =SUM(AU3:AU27) -> 0 | AV30: =SUM(AV3:AV27) -> 0 | AZ30: Conferme | BB30: =SUM(BB3:BB27) -> 4 | BC30: =SUM(BC3:BC27) -> 0 | BG30: Conferme | BI30: =SUM(BI3:BI27) -> 0 | BJ30: =SUM(BJ3:BJ27) -> 0 | BN30: Conferme | BP30: =SUM(BP3:BP27) -> 0 | BQ30: =SUM(BQ3:BQ27) -> 0
C31: Totali | E31: =SUM(E28:E29)-SUM(E30:F30) -> 533 | J31: Totali | L31: =SUM(L28:L29)-SUM(L30:M30) -> 518 | Q31: Totali | S31: =SUM(S28:S29)-SUM(S30:T30) -> 505 | X31: Totali | Z31: =SUM(Z28:Z29)-SUM(Z30:AA30) -> 500 | AE31: Totali | AG31: =SUM(AG28:AG29)-SUM(AG30:AH30) -> 504 | AL31: Totali | AN31: =SUM(AN28:AN29)-SUM(AN30:AO30) -> 516 | AS31: Totali | AU31: =SUM(AU28:AU29)-SUM(AU30:AV30) -> 504 | AZ31: Totali | BB31: =SUM(BB28:BB29)-SUM(BB30:BC30) -> 504 | BG31: Totali | BI31: =SUM(BI28:BI29)-SUM(BI30:BJ30) -> 508 | BN31: Totali | BP31: =SUM(BP28:BP29)-SUM(BP30:BQ30) -> 523

Sheet Serie B
A1: SOLOPISA | F1: 69.45 | H1: LUCENSE | M1: 69.64 | O1: AS TRONZI | T1: 69.9 | V1: VIRGYTEAM | AA1: 70.47 | AC1: MOJITO | AH1: 70.54 | AJ1: CSKA | AO1: 70.56 | AQ1: TETTE BISCOTTATE | AV1: 70.98 | AX1: APPLAUSO | BC1: 71.58 | BE1: BAD BEES | BJ1: 71.76 | BL1: MA BRAVISSIMI | BQ1: 72.44
A2: Ruolo | B2: Calciatore | C2: Squadra | D2: Costo | E2: Giugno | F2: Settembre | H2: Ruolo | I2: Calciatore | J2: Squadra | K2: Costo | L2: Giugno | M2: Settembre | O2: Ruolo | P2: Calciatore | Q2: Squadra | R2: Costo | S2: Giugno | T2: Settembre | V2: Ruolo | W2: Calciatore | X2: Squadra | Y2: Costo | Z2: Giugno | AA2: Settembre | AC2: Ruolo | AD2: Calciatore | AE2: Squadra | AF2: Costo | AG2: Giugno | AH2: Settembre | AJ2: Ruolo | AK2: Calciatore | AL2: Squadra | AM2: Costo | AN2: Giugno | AO2: Settembre | AQ2: Ruolo | AR2: Calciatore | AS2: Squadra | AT2: Costo | AU2: Giugno | AV2: Settembre | AX2: Ruolo | AY2: Calciatore | AZ2: Squadra | BA2: Costo | BB2: Giugno | BC2: Settembre | BE2: Ruolo | BF2: Calciatore | BG2: Squadra | BH2: Costo | BI2: Giugno | BJ2: Settembre | BL2: Ruolo | BM2: Calciatore | BN2: Squadra | BO2: Costo | BP2: Giugno | BQ2: Settembre
A3: P | B3: CRAGNO | C3: Cag | D3: 1 | E3: =IF(A3="P",IF(D3<7,"SI","NO"),IF(A3="D",IF(D3<11,"SI","NO"),IF(A3="C",IF(D3<21,"SI","NO"),IF(A3="A",IF(D3<41,"SI","NO"))))) -> SI | F3: =IF(A3="P",IF(D3<4,"SI","NO"),IF(A3="D",IF(D3<6,"SI","NO"),IF(A3="C",IF(D3<11,"SI","NO"),IF(A3="A",IF(D3<21,"SI","NO"))))) -> SI | H3: P | I3: SZCZESNY | J3: Juv | K3: 55 | L3: =IF(H3="P",IF(K3<7,"SI","NO"),IF(H3="D",IF(K3<11,"SI","NO"),IF(H3="C",IF(K3<21,"SI","NO"),IF(H3="A",IF(K3<41,"SI","NO"))))) -> NO | M3: =IF(H3="P",IF(K3<4,"SI","NO"),IF(H3="D",IF(K3<6,"SI","NO"),IF(H3="C",IF(K3<11,"SI","NO"),IF(H3="A",IF(K3<21,"SI","NO"))))) -> NO | O3: P | P3: SEPE | Q3: Par | R3: 1 | S3: =IF(O3="P",IF(R3<7,"SI","NO"),IF(O3="D",IF(R3<11,"SI","NO"),IF(O3="C",IF(R3<21,"SI","NO"),IF(O3="A",IF(R3<41,"SI","NO"))))) -> SI | T3: =IF(O3="P",IF(R3<4,"SI","NO"),IF(O3="D",IF(R3<6,"SI","NO"),IF(O3="C",IF(R3<11,"SI","NO"),IF(O3="A",IF(R3<21,"SI","NO"))))) -> SI | V3: P | W3: DONNARUMMA A | X3: Mil | Y3: 1 | Z3: =IF(V3="P",IF(Y3<7,"SI","NO"),IF(V3="D",IF(Y3<11,"SI","NO"),IF(V3="C",IF(Y3<21,"SI","NO"),IF(V3="A",IF(Y3<41,"SI","NO"))))) -> SI | AA3: =IF(V3="P",IF(Y3<4,"SI","NO"),IF(V3="D",IF(Y3<6,"SI","NO"),IF(V3="C",IF(Y3<11,"SI","NO"),IF(V3="A",IF(Y3<21,"SI","NO"))))) -> SI | AC3: P | AD3: SORRENTINO | AE3: Chi | AF3: 5 | AG3: =IF(AC3="P",IF(AF3<7,"SI","NO"),IF(AC3="D",IF(AF3<11,"SI","NO"),IF(AC3="C",IF(AF3<21,"SI","NO"),IF(AC3="A",IF(AF3<41,"SI","NO"))))) -> SI | AH3: =IF(AC3="P",IF(AF3<4,"SI","NO"),IF(AC3="D",IF(AF3<6,"SI","NO"),IF(AC3="C",IF(AF3<11,"SI","NO"),IF(AC3="A",IF(AF3<21,"SI","NO"))))) -> NO | AJ3: P | AK3: RADU I | AL3: Gen | AM3: 5 | AN3: =IF(AJ3="P",IF(AM3<7,"SI","NO"),IF(AJ3="D",IF(AM3<11,"SI","NO"),IF(AJ3="C",IF(AM3<21,"SI","NO"),IF(AJ3="A",IF(AM3<41,"SI","NO"))))) -> SI | AO3: =IF(AJ3="P",IF(AM3<4,"SI","NO"),IF(AJ3="D",IF(AM3<6,"SI","NO"),IF(AJ3="C",IF(AM3<11,"SI","NO"),IF(AJ3="A",IF(AM3<21,"SI","NO"))))) -> NO | AQ3: P | AR3: BERISHA E | AS3: Ata | AT3: 16 | AU3: =IF(AQ3="P",IF(AT3<7,"SI","NO"),IF(AQ3="D",IF(AT3<11,"SI","NO"),IF(AQ3="C",IF(AT3<21,"SI","NO"),IF(AQ3="A",IF(AT3<41,"SI","NO"))))) -> NO | AV3: =IF(AQ3="P",IF(AT3<4,"SI","NO"),IF(AQ3="D",IF(AT3<6,"SI","NO"),IF(AQ3="C",IF(AT3<11,"SI","NO"),IF(AQ3="A",IF(AT3<21,"SI","NO"))))) -> NO | AX3: P | AY3: PERIN | AZ3: Juv | BA3: 15 | BB3: =IF(AX3="P",IF(BA3<7,"SI","NO"),IF(AX3="D",IF(BA3<11,"SI","NO"),IF(AX3="C",IF(BA3<21,"SI","NO"),IF(AX3="A",IF(BA3<41,"SI","NO"))))) -> NO | BC3: =IF(AX3="P",IF(BA3<4,"SI","NO"),IF(AX3="D",IF(BA3<6,"SI","NO"),IF(AX3="C",IF(BA3<11,"SI","NO"),IF(AX3="A",IF(BA3<21,"SI","NO"))))) -> NO | BE3: P | BF3: BERISHA E | BG3: Ata | BH3: 1 | BI3: =IF(BE3="P",IF(BH3<7,"SI","NO"),IF(BE3="D",IF(BH3<11,"SI","NO"),IF(BE3="C",IF(BH3<21,"SI","NO"),IF(BE3="A",IF(BH3<41,"SI","NO"))))) -> SI | BJ3: =IF(BE3="P",IF(BH3<4,"SI","NO"),IF(BE3="D",IF(BH3<6,"SI","NO"),IF(BE3="C",IF(BH3<11,"SI","NO"),IF(BE3="A",IF(BH3<21,"SI","NO"))))) -> SI | BL3: P | BM3: BERNI | BN3: Int | BO3: 1 | BP3: =IF(BL3="P",IF(BO3<7,"SI","NO"),IF(BL3="D",IF(BO3<11,"SI","NO"),IF(BL3="C",IF(BO3<21,"SI","NO"),IF(BL3="A",IF(BO3<41,"SI","NO"))))) -> SI | BQ3: =IF(BL3="P",IF(BO3<4,"SI","NO"),IF(BL3="D",IF(BO3<6,"SI","NO"),IF(BL3="C",IF(BO3<11,"SI","NO"),IF(BL3="A",IF(BO3<21,"SI","NO"))))) -> SI
A4: P | B4: SIRIGU | C4: Tor | D4: 21 | E4: =IF(A4="P",IF(D4<7,"SI","NO"),IF(A4="D",IF(D4<11,"SI","NO"),IF(A4="C",IF(D4<21,"SI","NO"),IF(A4="A",IF(D4<41,"SI","NO"))))) -> NO | F4: =IF(A4="P",IF(D4<4,"SI","NO"),IF(A4="D",IF(D4<6,"SI","NO"),IF(A4="C",IF(D4<11,"SI","NO"),IF(A4="A",IF(D4<21,"SI","NO"))))) -> NO | H4: P | I4: CONSIGLI | J4: Sas | K4: 4 | L4: =IF(H4="P",IF(K4<7,"SI","NO"),IF(H4="D",IF(K4<11,"SI","NO"),IF(H4="C",IF(K4<21,"SI","NO"),IF(H4="A",IF(K4<41,"SI","NO"))))) -> SI | M4: =IF(H4="P",IF(K4<4,"SI","NO"),IF(H4="D",IF(K4<6,"SI","NO"),IF(H4="C",IF(K4<11,"SI","NO"),IF(H4="A",IF(K4<21,"SI","NO"))))) -> NO | O4: P | P4: ICHAZO | Q4: Tor | R4: 1 | S4: =IF(O4="P",IF(R4<7,"SI","NO"),IF(O4="D",IF(R4<11,"SI","NO"),IF(O4="C",IF(R4<21,"SI","NO"),IF(O4="A",IF(R4<41,"SI","NO"))))) -> SI | T4: =IF(O4="P",IF(R4<4,"SI","NO"),IF(O4="D",IF(R4<6,"SI","NO"),IF(O4="C",IF(R4<11,"SI","NO"),IF(O4="A",IF(R4<21,"SI","NO"))))) -> SI | V4: P | W4: DONNARUMMA G | X4: Mil | Y4: 38 | Z4: =IF(V4="P",IF(Y4<7,"SI","NO"),IF(V4="D",IF(Y4<11,"SI","NO"),IF(V4="C",IF(Y4<21,"SI","NO"),IF(V4="A",IF(Y4<41,"SI","NO"))))) -> NO | AA4: =IF(V4="P",IF(Y4<4,"SI","NO"),IF(V4="D",IF(Y4<6,"SI","NO"),IF(V4="C",IF(Y4<11,"SI","NO"),IF(V4="A",IF(Y4<21,"SI","NO"))))) -> NO | AC4: P | AD4: CONSIGLI | AE4: Sas | AF4: 15 | AG4: =IF(AC4="P",IF(AF4<7,"SI","NO"),IF(AC4="D",IF(AF4<11,"SI","NO"),IF(AC4="C",IF(AF4<21,"SI","NO"),IF(AC4="A",IF(AF4<41,"SI","NO"))))) -> NO | AH4: =IF(AC4="P",IF(AF4<4,"SI","NO"),IF(AC4="D",IF(AF4<6,"SI","NO"),IF(AC4="C",IF(AF4<11,"SI","NO"),IF(AC4="A",IF(AF4<21,"SI","NO"))))) -> NO | AJ4: P | AK4: STRAKOSHA | AL4: Laz | AM4: 20 | AN4: =IF(AJ4="P",IF(AM4<7,"SI","NO"),IF(AJ4="D",IF(AM4<11,"SI","NO"),IF(AJ4="C",IF(AM4<21,"SI","NO"),IF(AJ4="A",IF(AM4<41,"SI","NO"))))) -> NO | AO4: =IF(AJ4="P",IF(AM4<4,"SI","NO"),IF(AJ4="D",IF(AM4<6,"SI","NO"),IF(AJ4="C",IF(AM4<11,"SI","NO"),IF(AJ4="A",IF(AM4<21,"SI","NO"))))) -> NO | AQ4: P | AR4: VIVIANO | AS4: SPA | AT4: 1 | AU4: =IF(AQ4="P",IF(AT4<7,"SI","NO"),IF(AQ4="D",IF(AT4<11,"SI","NO"),IF(AQ4="C",IF(AT4<21,"SI","NO"),IF(AQ4="A",IF(AT4<41,"SI","NO"))))) -> SI | AV4: =IF(AQ4="P",IF(AT4<4,"SI","NO"),IF(AQ4="D",IF(AT4<6,"SI","NO"),IF(AQ4="C",IF(AT4<11,"SI","NO"),IF(AQ4="A",IF(AT4<21,"SI","NO"))))) -> SI | AX4: P | AY4: AUDERO | AZ4: Sam | BA4: 10 | BB4: =IF(AX4="P",IF(BA4<7,"SI","NO"),IF(AX4="D",IF(BA4<11,"SI","NO"),IF(AX4="C",IF(BA4<21,"SI","NO"),IF(AX4="A",IF(BA4<41,"SI","NO"))))) -> NO | BC4: =IF(AX4="P",IF(BA4<4,"SI","NO"),IF(AX4="D",IF(BA4<6,"SI","NO"),IF(AX4="C",IF(BA4<11,"SI","NO"),IF(AX4="A",IF(BA4<21,"SI","NO"))))) -> NO | BE4: P | BF4: GOLLINI | BG4: Ata | BH4: 6 | BI4: =IF(BE4="P",IF(BH4<7,"SI","NO"),IF(BE4="D",IF(BH4<11,"SI","NO"),IF(BE4="C",IF(BH4<21,"SI","NO"),IF(BE4="A",IF(BH4<41,"SI","NO"))))) -> SI | BJ4: =IF(BE4="P",IF(BH4<4,"SI","NO"),IF(BE4="D",IF(BH4<6,"SI","NO"),IF(BE4="C",IF(BH4<11,"SI","NO"),IF(BE4="A",IF(BH4<21,"SI","NO"))))) -> NO | BL4: P | BM4: HANDANOVIC | BN4: Int | BO4: 54 | BP4: =IF(BL4="P",IF(BO4<7,"SI","NO"),IF(BL4="D",IF(BO4<11,"SI","NO"),IF(BL4="C",IF(BO4<21,"SI","NO"),IF(BL4="A",IF(BO4<41,"SI","NO"))))) -> NO | BQ4: =IF(BL4="P",IF(BO4<4,"SI","NO"),IF(BL4="D",IF(BO4<6,"SI","NO"),IF(BL4="C",IF(BO4<11,"SI","NO"),IF(BL4="A",IF(BO4<21,"SI","NO"))))) -> NO
A5: P | B5: MUSSO | C5: Udi | D5: 1 | E5: =IF(A5="P",IF(D5<7,"SI","NO"),IF(A5="D",IF(D5<11,"SI","NO"),IF(A5="C",IF(D5<21,"SI","NO"),IF(A5="A",IF(D5<41,"SI","NO"))))) -> SI | F5: =IF(A5="P",IF(D5<4,"SI","NO"),IF(A5="D",IF(D5<6,"SI","NO"),IF(A5="C",IF(D5<11,"SI","NO"),IF(A5="A",IF(D5<21,"SI","NO"))))) -> SI | H5: P | I5: BRAZAO | J5: Par | K5: 1 | L5: =IF(H5="P",IF(K5<7,"SI","NO"),IF(H5="D",IF(K5<11,"SI","NO"),IF(H5="C",IF(K5<21,"SI","NO"),IF(H5="A",IF(K5<41,"SI","NO"))))) -> SI | M5: =IF(H5="P",IF(K5<4,"SI","NO"),IF(H5="D",IF(K5<6,"SI","NO"),IF(H5="C",IF(K5<11,"SI","NO"),IF(H5="A",IF(K5<21,"SI","NO"))))) -> SI | O5: P | P5: SIRIGU | Q5: Tor | R5: 29 | S5: =IF(O5="P",IF(R5<7,"SI","NO"),IF(O5="D",IF(R5<11,"SI","NO"),IF(O5="C",IF(R5<21,"SI","NO"),IF(O5="A",IF(R5<41,"SI","NO"))))) -> NO | T5: =IF(O5="P",IF(R5<4,"SI","NO"),IF(O5="D",IF(R5<6,"SI","NO"),IF(O5="C",IF(R5<11,"SI","NO"),IF(O5="A",IF(R5<21,"SI","NO"))))) -> NO | V5: P | W5: REINA | X5: Mil | Y5: 1 | Z5: =IF(V5="P",IF(Y5<7,"SI","NO"),IF(V5="D",IF(Y5<11,"SI","NO"),IF(V5="C",IF(Y5<21,"SI","NO"),IF(V5="A",IF(Y5<41,"SI","NO"))))) -> SI | AA5: =IF(V5="P",IF(Y5<4,"SI","NO"),IF(V5="D",IF(Y5<6,"SI","NO"),IF(V5="C",IF(Y5<11,"SI","NO"),IF(V5="A",IF(Y5<21,"SI","NO"))))) -> SI | AC5: P | AD5: RADU I | AE5: Gen | AF5: 1 | AG5: =IF(AC5="P",IF(AF5<7,"SI","NO"),IF(AC5="D",IF(AF5<11,"SI","NO"),IF(AC5="C",IF(AF5<21,"SI","NO"),IF(AC5="A",IF(AF5<41,"SI","NO"))))) -> SI | AH5: =IF(AC5="P",IF(AF5<4,"SI","NO"),IF(AC5="D",IF(AF5<6,"SI","NO"),IF(AC5="C",IF(AF5<11,"SI","NO"),IF(AC5="A",IF(AF5<21,"SI","NO"))))) -> SI | AJ5: P | AK5: PROTO | AL5: Laz | AM5: 1 | AN5: =IF(AJ5="P",IF(AM5<7,"SI","NO"),IF(AJ5="D",IF(AM5<11,"SI","NO"),IF(AJ5="C",IF(AM5<21,"SI","NO"),IF(AJ5="A",IF(AM5<41,"SI","NO"))))) -> SI | AO5: =IF(AJ5="P",IF(AM5<4,"SI","NO"),IF(AJ5="D",IF(AM5<6,"SI","NO"),IF(AJ5="C",IF(AM5<11,"SI","NO"),IF(AJ5="A",IF(AM5<21,"SI","NO"))))) -> SI | AQ5: P | AR5: GOLLINI | AS5: Ata | AT5: 7 | AU5: =IF(AQ5="P",IF(AT5<7,"SI","NO"),IF(AQ5="D",IF(AT5<11,"SI","NO"),IF(AQ5="C",IF(AT5<21,"SI","NO"),IF(AQ5="A",IF(AT5<41,"SI","NO"))))) -> NO | AV5: =IF(AQ5="P",IF(AT5<4,"SI","NO"),IF(AQ5="D",IF(AT5<6,"SI","NO"),IF(AQ5="C",IF(AT5<11,"SI","NO"),IF(AQ5="A",IF(AT5<21,"SI","NO"))))) -> NO | AX5: P | AY5: RADU I | AZ5: Gen | BA5: 1 | BB5: =IF(AX5="P",IF(BA5<7,"SI","NO"),IF(AX5="D",IF(BA5<11,"SI","NO"),IF(AX5="C",IF(BA5<21,"SI","NO"),IF(AX5="A",IF(BA5<41,"SI","NO"))))) -> SI | BC5: =IF(AX5="P",IF(BA5<4,"SI","NO"),IF(AX5="D",IF(BA5<6,"SI","NO"),IF(AX5="C",IF(BA5<11,"SI","NO"),IF(AX5="A",IF(BA5<21,"SI","NO"))))) -> SI | BE5: P | BF5: MUSSO | BG5: Udi | BH5: 1 | BI5: =IF(BE5="P",IF(BH5<7,"SI","NO"),IF(BE5="D",IF(BH5<11,"SI","NO"),IF(BE5="C",IF(BH5<21,"SI","NO"),IF(BE5="A",IF(BH5<41,"SI","NO"))))) -> SI | BJ5: =IF(BE5="P",IF(BH5<4,"SI","NO"),IF(BE5="D",IF(BH5<6,"SI","NO"),IF(BE5="C",IF(BH5<11,"SI","NO"),IF(BE5="A",IF(BH5<21,"SI","NO"))))) -> SI | BL5: P | BM5: PADELLI | BN5: Int | BO5: 1 | BP5: =IF(BL5="P",IF(BO5<7,"SI","NO"),IF(BL5="D",IF(BO5<11,"SI","NO"),IF(BL5="C",IF(BO5<21,"SI","NO"),IF(BL5="A",IF(BO5<41,"SI","NO"))))) -> SI | BQ5: =IF(BL5="P",IF(BO5<4,"SI","NO"),IF(BL5="D",IF(BO5<6,"SI","NO"),IF(BL5="C",IF(BO5<11,"SI","NO"),IF(BL5="A",IF(BO5<21,"SI","NO"))))) -> SI
A6: D | B6: GAGLIOLO | C6: Par | D6: 4 | E6: =IF(A6="P",IF(D6<7,"SI","NO"),IF(A6="D",IF(D6<11,"SI","NO"),IF(A6="C",IF(D6<21,"SI","NO"),IF(A6="A",IF(D6<41,"SI","NO"))))) -> SI | F6: =IF(A6="P",IF(D6<4,"SI","NO"),IF(A6="D",IF(D6<6,"SI","NO"),IF(A6="C",IF(D6<11,"SI","NO"),IF(A6="A",IF(D6<21,"SI","NO"))))) -> SI | H6: D | I6: MIRANDA | J6: Int | K6: 1 | L6: =IF(H6="P",IF(K6<7,"SI","NO"),IF(H6="D",IF(K6<11,"SI","NO"),IF(H6="C",IF(K6<21,"SI","NO"),IF(H6="A",IF(K6<41,"SI","NO"))))) -> SI | M6: =IF(H6="P",IF(K6<4,"SI","NO"),IF(H6="D",IF(K6<6,"SI","NO"),IF(H6="C",IF(K6<11,"SI","NO"),IF(H6="A",IF(K6<21,"SI","NO"))))) -> SI | O6: D | P6: D'AMBROSIO | Q6: Int | R6: 5 | S6: =IF(O6="P",IF(R6<7,"SI","NO"),IF(O6="D",IF(R6<11,"SI","NO"),IF(O6="C",IF(R6<21,"SI","NO"),IF(O6="A",IF(R6<41,"SI","NO"))))) -> SI | T6: =IF(O6="P",IF(R6<4,"SI","NO"),IF(O6="D",IF(R6<6,"SI","NO"),IF(O6="C",IF(R6<11,"SI","NO"),IF(O6="A",IF(R6<21,"SI","NO"))))) -> SI | V6: D | W6: MASIELLO A | X6: Ata | Y6: 10 | Z6: =IF(V6="P",IF(Y6<7,"SI","NO"),IF(V6="D",IF(Y6<11,"SI","NO"),IF(V6="C",IF(Y6<21,"SI","NO"),IF(V6="A",IF(Y6<41,"SI","NO"))))) -> SI | AA6: =IF(V6="P",IF(Y6<4,"SI","NO"),IF(V6="D",IF(Y6<6,"SI","NO"),IF(V6="C",IF(Y6<11,"SI","NO"),IF(V6="A",IF(Y6<21,"SI","NO"))))) -> NO | AC6: D | AD6: ASAMOAH | AE6: Int | AF6: 1 | AG6: =IF(AC6="P",IF(AF6<7,"SI","NO"),IF(AC6="D",IF(AF6<11,"SI","NO"),IF(AC6="C",IF(AF6<21,"SI","NO"),IF(AC6="A",IF(AF6<41,"SI","NO"))))) -> SI | AH6: =IF(AC6="P",IF(AF6<4,"SI","NO"),IF(AC6="D",IF(AF6<6,"SI","NO"),IF(AC6="C",IF(AF6<11,"SI","NO"),IF(AC6="A",IF(AF6<21,"SI","NO"))))) -> SI | AJ6: D | AK6: CONTI | AL6: Mil | AM6: 4 | AN6: =IF(AJ6="P",IF(AM6<7,"SI","NO"),IF(AJ6="D",IF(AM6<11,"SI","NO"),IF(AJ6="C",IF(AM6<21,"SI","NO"),IF(AJ6="A",IF(AM6<41,"SI","NO"))))) -> SI | AO6: =IF(AJ6="P",IF(AM6<4,"SI","NO"),IF(AJ6="D",IF(AM6<6,"SI","NO"),IF(AJ6="C",IF(AM6<11,"SI","NO"),IF(AJ6="A",IF(AM6<21,"SI","NO"))))) -> SI | AQ6: D | AR6: MANOLAS | AS6: Rom | AT6: 20 | AU6: =IF(AQ6="P",IF(AT6<7,"SI","NO"),IF(AQ6="D",IF(AT6<11,"SI","NO"),IF(AQ6="C",IF(AT6<21,"SI","NO"),IF(AQ6="A",IF(AT6<41,"SI","NO"))))) -> NO | AV6: =IF(AQ6="P",IF(AT6<4,"SI","NO"),IF(AQ6="D",IF(AT6<6,"SI","NO"),IF(AQ6="C",IF(AT6<11,"SI","NO"),IF(AQ6="A",IF(AT6<21,"SI","NO"))))) -> NO | AX6: D | AY6: TONELLI | AZ6: Sam | BA6: 8 | BB6: =IF(AX6="P",IF(BA6<7,"SI","NO"),IF(AX6="D",IF(BA6<11,"SI","NO"),IF(AX6="C",IF(BA6<21,"SI","NO"),IF(AX6="A",IF(BA6<41,"SI","NO"))))) -> SI | BC6: =IF(AX6="P",IF(BA6<4,"SI","NO"),IF(AX6="D",IF(BA6<6,"SI","NO"),IF(AX6="C",IF(BA6<11,"SI","NO"),IF(AX6="A",IF(BA6<21,"SI","NO"))))) -> NO | BE6: D | BF6: DE MAIO | BG6: Udi | BH6: 1 | BI6: =IF(BE6="P",IF(BH6<7,"SI","NO"),IF(BE6="D",IF(BH6<11,"SI","NO"),IF(BE6="C",IF(BH6<21,"SI","NO"),IF(BE6="A",IF(BH6<41,"SI","NO"))))) -> SI | BJ6: =IF(BE6="P",IF(BH6<4,"SI","NO"),IF(BE6="D",IF(BH6<6,"SI","NO"),IF(BE6="C",IF(BH6<11,"SI","NO"),IF(BE6="A",IF(BH6<21,"SI","NO"))))) -> SI | BL6: D | BM6: ROSSETTINI | BN6: Chi | BO6: 1 | BP6: =IF(BL6="P",IF(BO6<7,"SI","NO"),IF(BL6="D",IF(BO6<11,"SI","NO"),IF(BL6="C",IF(BO6<21,"SI","NO"),IF(BL6="A",IF(BO6<41,"SI","NO"))))) -> SI | BQ6: =IF(BL6="P",IF(BO6<4,"SI","NO"),IF(BL6="D",IF(BO6<6,"SI","NO"),IF(BL6="C",IF(BO6<11,"SI","NO"),IF(BL6="A",IF(BO6<21,"SI","NO"))))) -> SI
A7: D | B7: PASQUAL | C7: Emp | D7: 1 | E7: =IF(A7="P",IF(D7<7,"SI","NO"),IF(A7="D",IF(D7<11,"SI","NO"),IF(A7="C",IF(D7<21,"SI","NO"),IF(A7="A",IF(D7<41,"SI","NO"))))) -> SI | F7: =IF(A7="P",IF(D7<4,"SI","NO"),IF(A7="D",IF(D7<6,"SI","NO"),IF(A7="C",IF(D7<11,"SI","NO"),IF(A7="A",IF(D7<21,"SI","NO"))))) -> SI | H7: D | I7: CHIELLINI | J7: Juv | K7: 18 | L7: =IF(H7="P",IF(K7<7,"SI","NO"),IF(H7="D",IF(K7<11,"SI","NO"),IF(H7="C",IF(K7<21,"SI","NO"),IF(H7="A",IF(K7<41,"SI","NO"))))) -> NO | M7: =IF(H7="P",IF(K7<4,"SI","NO"),IF(H7="D",IF(K7<6,"SI","NO"),IF(H7="C",IF(K7<11,"SI","NO"),IF(H7="A",IF(K7<21,"SI","NO"))))) -> NO | O7: D | P7: MANOLAS | Q7: Rom | R7: 19 | S7: =IF(O7="P",IF(R7<7,"SI","NO"),IF(O7="D",IF(R7<11,"SI","NO"),IF(O7="C",IF(R7<21,"SI","NO"),IF(O7="A",IF(R7<41,"SI","NO"))))) -> NO | T7: =IF(O7="P",IF(R7<4,"SI","NO"),IF(O7="D",IF(R7<6,"SI","NO"),IF(O7="C",IF(R7<11,"SI","NO"),IF(O7="A",IF(R7<21,"SI","NO"))))) -> NO | V7: D | W7: ROSSETTINI | X7: Chi | Y7: 1 | Z7: =IF(V7="P",IF(Y7<7,"SI","NO"),IF(V7="D",IF(Y7<11,"SI","NO"),IF(V7="C",IF(Y7<21,"SI","NO"),IF(V7="A",IF(Y7<41,"SI","NO"))))) -> SI | AA7: =IF(V7="P",IF(Y7<4,"SI","NO"),IF(V7="D",IF(Y7<6,"SI","NO"),IF(V7="C",IF(Y7<11,"SI","NO"),IF(V7="A",IF(Y7<21,"SI","NO"))))) -> SI | AC7: D | AD7: FLORENZI | AE7: Rom | AF7: 22 | AG7: =IF(AC7="P",IF(AF7<7,"SI","NO"),IF(AC7="D",IF(AF7<11,"SI","NO"),IF(AC7="C",IF(AF7<21,"SI","NO"),IF(AC7="A",IF(AF7<41,"SI","NO"))))) -> NO | AH7: =IF(AC7="P",IF(AF7<4,"SI","NO"),IF(AC7="D",IF(AF7<6,"SI","NO"),IF(AC7="C",IF(AF7<11,"SI","NO"),IF(AC7="A",IF(AF7<21,"SI","NO"))))) -> NO | AJ7: D | AK7: CHIELLINI | AL7: Juv | AM7: 8 | AN7: =IF(AJ7="P",IF(AM7<7,"SI","NO"),IF(AJ7="D",IF(AM7<11,"SI","NO"),IF(AJ7="C",IF(AM7<21,"SI","NO"),IF(AJ7="A",IF(AM7<41,"SI","NO"))))) -> SI | AO7: =IF(AJ7="P",IF(AM7<4,"SI","NO"),IF(AJ7="D",IF(AM7<6,"SI","NO"),IF(AJ7="C",IF(AM7<11,"SI","NO"),IF(AJ7="A",IF(AM7<21,"SI","NO"))))) -> NO | AQ7: D | AR7: SILVESTRE | AS7: Emp | AT7: 6 | AU7: =IF(AQ7="P",IF(AT7<7,"SI","NO"),IF(AQ7="D",IF(AT7<11,"SI","NO"),IF(AQ7="C",IF(AT7<21,"SI","NO"),IF(AQ7="A",IF(AT7<41,"SI","NO"))))) -> SI | AV7: =IF(AQ7="P",IF(AT7<4,"SI","NO"),IF(AQ7="D",IF(AT7<6,"SI","NO"),IF(AQ7="C",IF(AT7<11,"SI","NO"),IF(AQ7="A",IF(AT7<21,"SI","NO"))))) -> NO | AX7: D | AY7: BIRAGHI | AZ7: Fio | BA7: 7 | BB7: =IF(AX7="P",IF(BA7<7,"SI","NO"),IF(AX7="D",IF(BA7<11,"SI","NO"),IF(AX7="C",IF(BA7<21,"SI","NO"),IF(AX7="A",IF(BA7<41,"SI","NO"))))) -> SI | BC7: =IF(AX7="P",IF(BA7<4,"SI","NO"),IF(AX7="D",IF(BA7<6,"SI","NO"),IF(AX7="C",IF(BA7<11,"SI","NO"),IF(AX7="A",IF(BA7<21,"SI","NO"))))) -> NO | BE7: D | BF7: ASAMOAH | BG7: Int | BH7: 7 | BI7: =IF(BE7="P",IF(BH7<7,"SI","NO"),IF(BE7="D",IF(BH7<11,"SI","NO"),IF(BE7="C",IF(BH7<21,"SI","NO"),IF(BE7="A",IF(BH7<41,"SI","NO"))))) -> SI | BJ7: =IF(BE7="P",IF(BH7<4,"SI","NO"),IF(BE7="D",IF(BH7<6,"SI","NO"),IF(BE7="C",IF(BH7<11,"SI","NO"),IF(BE7="A",IF(BH7<21,"SI","NO"))))) -> NO | BL7: D | BM7: MARIO RUI | BN7: Nap | BO7: 4 | BP7: =IF(BL7="P",IF(BO7<7,"SI","NO"),IF(BL7="D",IF(BO7<11,"SI","NO"),IF(BL7="C",IF(BO7<21,"SI","NO"),IF(BL7="A",IF(BO7<41,"SI","NO"))))) -> SI | BQ7: =IF(BL7="P",IF(BO7<4,"SI","NO"),IF(BL7="D",IF(BO7<6,"SI","NO"),IF(BL7="C",IF(BO7<11,"SI","NO"),IF(BL7="A",IF(BO7<21,"SI","NO"))))) -> SI
A8: D | B8: DE SILVESTRI | C8: Tor | D8: 25 | E8: =IF(A8="P",IF(D8<7,"SI","NO"),IF(A8="D",IF(D8<11,"SI","NO"),IF(A8="C",IF(D8<21,"SI","NO"),IF(A8="A",IF(D8<41,"SI","NO"))))) -> NO | F8: =IF(A8="P",IF(D8<4,"SI","NO"),IF(A8="D",IF(D8<6,"SI","NO"),IF(A8="C",IF(D8<11,"SI","NO"),IF(A8="A",IF(D8<21,"SI","NO"))))) -> NO | H8: D | I8: DE VRIJ | J8: Int | K8: 10 | L8: =IF(H8="P",IF(K8<7,"SI","NO"),IF(H8="D",IF(K8<11,"SI","NO"),IF(H8="C",IF(K8<21,"SI","NO"),IF(H8="A",IF(K8<41,"SI","NO"))))) -> SI | M8: =IF(H8="P",IF(K8<4,"SI","NO"),IF(H8="D",IF(K8<6,"SI","NO"),IF(H8="C",IF(K8<11,"SI","NO"),IF(H8="A",IF(K8<21,"SI","NO"))))) -> NO | O8: D | P8: ACERBI | Q8: Laz | R8: 15 | S8: =IF(O8="P",IF(R8<7,"SI","NO"),IF(O8="D",IF(R8<11,"SI","NO"),IF(O8="C",IF(R8<21,"SI","NO"),IF(O8="A",IF(R8<41,"SI","NO"))))) -> NO | T8: =IF(O8="P",IF(R8<4,"SI","NO"),IF(O8="D",IF(R8<6,"SI","NO"),IF(O8="C",IF(R8<11,"SI","NO"),IF(O8="A",IF(R8<21,"SI","NO"))))) -> NO | V8: D | W8: RUGANI | X8: Juv | Y8: 4 | Z8: =IF(V8="P",IF(Y8<7,"SI","NO"),IF(V8="D",IF(Y8<11,"SI","NO"),IF(V8="C",IF(Y8<21,"SI","NO"),IF(V8="A",IF(Y8<41,"SI","NO"))))) -> SI | AA8: =IF(V8="P",IF(Y8<4,"SI","NO"),IF(V8="D",IF(Y8<6,"SI","NO"),IF(V8="C",IF(Y8<11,"SI","NO"),IF(V8="A",IF(Y8<21,"SI","NO"))))) -> SI | AC8: D | AD8: DANILO | AE8: Bol | AF8: 4 | AG8: =IF(AC8="P",IF(AF8<7,"SI","NO"),IF(AC8="D",IF(AF8<11,"SI","NO"),IF(AC8="C",IF(AF8<21,"SI","NO"),IF(AC8="A",IF(AF8<41,"SI","NO"))))) -> SI | AH8: =IF(AC8="P",IF(AF8<4,"SI","NO"),IF(AC8="D",IF(AF8<6,"SI","NO"),IF(AC8="C",IF(AF8<11,"SI","NO"),IF(AC8="A",IF(AF8<21,"SI","NO"))))) -> SI | AJ8: D | AK8: DE VRIJ | AL8: Int | AM8: 17 | AN8: =IF(AJ8="P",IF(AM8<7,"SI","NO"),IF(AJ8="D",IF(AM8<11,"SI","NO"),IF(AJ8="C",IF(AM8<21,"SI","NO"),IF(AJ8="A",IF(AM8<41,"SI","NO"))))) -> NO | AO8: =IF(AJ8="P",IF(AM8<4,"SI","NO"),IF(AJ8="D",IF(AM8<6,"SI","NO"),IF(AJ8="C",IF(AM8<11,"SI","NO"),IF(AJ8="A",IF(AM8<21,"SI","NO"))))) -> NO | AQ8: D | AR8: TOLOI | AS8: Ata | AT8: 13 | AU8: =IF(AQ8="P",IF(AT8<7,"SI","NO"),IF(AQ8="D",IF(AT8<11,"SI","NO"),IF(AQ8="C",IF(AT8<21,"SI","NO"),IF(AQ8="A",IF(AT8<41,"SI","NO"))))) -> NO | AV8: =IF(AQ8="P",IF(AT8<4,"SI","NO"),IF(AQ8="D",IF(AT8<6,"SI","NO"),IF(AQ8="C",IF(AT8<11,"SI","NO"),IF(AQ8="A",IF(AT8<21,"SI","NO"))))) -> NO | AX8: D | AY8: ASAMOAH | AZ8: Int | BA8: 1 | BB8: =IF(AX8="P",IF(BA8<7,"SI","NO"),IF(AX8="D",IF(BA8<11,"SI","NO"),IF(AX8="C",IF(BA8<21,"SI","NO"),IF(AX8="A",IF(BA8<41,"SI","NO"))))) -> SI | BC8: =IF(AX8="P",IF(BA8<4,"SI","NO"),IF(AX8="D",IF(BA8<6,"SI","NO"),IF(AX8="C",IF(BA8<11,"SI","NO"),IF(AX8="A",IF(BA8<21,"SI","NO"))))) -> SI | BE8: D | BF8: MILENKOVIC | BG8: Fio | BH8: 4 | BI8: =IF(BE8="P",IF(BH8<7,"SI","NO"),IF(BE8="D",IF(BH8<11,"SI","NO"),IF(BE8="C",IF(BH8<21,"SI","NO"),IF(BE8="A",IF(BH8<41,"SI","NO"))))) -> SI | BJ8: =IF(BE8="P",IF(BH8<4,"SI","NO"),IF(BE8="D",IF(BH8<6,"SI","NO"),IF(BE8="C",IF(BH8<11,"SI","NO"),IF(BE8="A",IF(BH8<21,"SI","NO"))))) -> SI | BL8: D | BM8: GHOULAM | BN8: Nap | BO8: 13 | BP8: =IF(BL8="P",IF(BO8<7,"SI","NO"),IF(BL8="D",IF(BO8<11,"SI","NO"),IF(BL8="C",IF(BO8<21,"SI","NO"),IF(BL8="A",IF(BO8<41,"SI","NO"))))) -> NO | BQ8: =IF(BL8="P",IF(BO8<4,"SI","NO"),IF(BL8="D",IF(BO8<6,"SI","NO"),IF(BL8="C",IF(BO8<11,"SI","NO"),IF(BL8="A",IF(BO8<21,"SI","NO"))))) -> NO
A9: D | B9: LIROLA | C9: Sas | D9: 2 | E9: =IF(A9="P",IF(D9<7,"SI","NO"),IF(A9="D",IF(D9<11,"SI","NO"),IF(A9="C",IF(D9<21,"SI","NO"),IF(A9="A",IF(D9<41,"SI","NO"))))) -> SI | F9: =IF(A9="P",IF(D9<4,"SI","NO"),IF(A9="D",IF(D9<6,"SI","NO"),IF(A9="C",IF(D9<11,"SI","NO"),IF(A9="A",IF(D9<21,"SI","NO"))))) -> SI | H9: D | I9: RADU | J9: Laz | K9: 1 | L9: =IF(H9="P",IF(K9<7,"SI","NO"),IF(H9="D",IF(K9<11,"SI","NO"),IF(H9="C",IF(K9<21,"SI","NO"),IF(H9="A",IF(K9<41,"SI","NO"))))) -> SI | M9: =IF(H9="P",IF(K9<4,"SI","NO"),IF(H9="D",IF(K9<6,"SI","NO"),IF(H9="C",IF(K9<11,"SI","NO"),IF(H9="A",IF(K9<21,"SI","NO"))))) -> SI | O9: D | P9: FAZIO | Q9: Rom | R9: 3 | S9: =IF(O9="P",IF(R9<7,"SI","NO"),IF(O9="D",IF(R9<11,"SI","NO"),IF(O9="C",IF(R9<21,"SI","NO"),IF(O9="A",IF(R9<41,"SI","NO"))))) -> SI | T9: =IF(O9="P",IF(R9<4,"SI","NO"),IF(O9="D",IF(R9<6,"SI","NO"),IF(O9="C",IF(R9<11,"SI","NO"),IF(O9="A",IF(R9<21,"SI","NO"))))) -> SI | V9: D | W9: ACERBI | X9: Laz | Y9: 15 | Z9: =IF(V9="P",IF(Y9<7,"SI","NO"),IF(V9="D",IF(Y9<11,"SI","NO"),IF(V9="C",IF(Y9<21,"SI","NO"),IF(V9="A",IF(Y9<41,"SI","NO"))))) -> NO | AA9: =IF(V9="P",IF(Y9<4,"SI","NO"),IF(V9="D",IF(Y9<6,"SI","NO"),IF(V9="C",IF(Y9<11,"SI","NO"),IF(V9="A",IF(Y9<21,"SI","NO"))))) -> NO | AC9: D | AD9: CALDARA | AE9: Mil | AF9: 6 | AG9: =IF(AC9="P",IF(AF9<7,"SI","NO"),IF(AC9="D",IF(AF9<11,"SI","NO"),IF(AC9="C",IF(AF9<21,"SI","NO"),IF(AC9="A",IF(AF9<41,"SI","NO"))))) -> SI | AH9: =IF(AC9="P",IF(AF9<4,"SI","NO"),IF(AC9="D",IF(AF9<6,"SI","NO"),IF(AC9="C",IF(AF9<11,"SI","NO"),IF(AC9="A",IF(AF9<21,"SI","NO"))))) -> NO | AJ9: D | AK9: BRUNO ALVES | AL9: Par | AM9: 2 | AN9: =IF(AJ9="P",IF(AM9<7,"SI","NO"),IF(AJ9="D",IF(AM9<11,"SI","NO"),IF(AJ9="C",IF(AM9<21,"SI","NO"),IF(AJ9="A",IF(AM9<41,"SI","NO"))))) -> SI | AO9: =IF(AJ9="P",IF(AM9<4,"SI","NO"),IF(AJ9="D",IF(AM9<6,"SI","NO"),IF(AJ9="C",IF(AM9<11,"SI","NO"),IF(AJ9="A",IF(AM9<21,"SI","NO"))))) -> SI | AQ9: D | AR9: PALOMINO | AS9: Ata | AT9: 1 | AU9: =IF(AQ9="P",IF(AT9<7,"SI","NO"),IF(AQ9="D",IF(AT9<11,"SI","NO"),IF(AQ9="C",IF(AT9<21,"SI","NO"),IF(AQ9="A",IF(AT9<41,"SI","NO"))))) -> SI | AV9: =IF(AQ9="P",IF(AT9<4,"SI","NO"),IF(AQ9="D",IF(AT9<6,"SI","NO"),IF(AQ9="C",IF(AT9<11,"SI","NO"),IF(AQ9="A",IF(AT9<21,"SI","NO"))))) -> SI | AX9: D | AY9: KOULIBALY | AZ9: Nap | BA9: 21 | BB9: =IF(AX9="P",IF(BA9<7,"SI","NO"),IF(AX9="D",IF(BA9<11,"SI","NO"),IF(AX9="C",IF(BA9<21,"SI","NO"),IF(AX9="A",IF(BA9<41,"SI","NO"))))) -> NO | BC9: =IF(AX9="P",IF(BA9<4,"SI","NO"),IF(AX9="D",IF(BA9<6,"SI","NO"),IF(AX9="C",IF(BA9<11,"SI","NO"),IF(AX9="A",IF(BA9<21,"SI","NO"))))) -> NO | BE9: D | BF9: ROMAGNA | BG9: Cag | BH9: 1 | BI9: =IF(BE9="P",IF(BH9<7,"SI","NO"),IF(BE9="D",IF(BH9<11,"SI","NO"),IF(BE9="C",IF(BH9<21,"SI","NO"),IF(BE9="A",IF(BH9<41,"SI","NO"))))) -> SI | BJ9: =IF(BE9="P",IF(BH9<4,"SI","NO"),IF(BE9="D",IF(BH9<6,"SI","NO"),IF(BE9="C",IF(BH9<11,"SI","NO"),IF(BE9="A",IF(BH9<21,"SI","NO"))))) -> SI | BL9: D | BM9: DANILO | BN9: Bol | BO9: 1 | BP9: =IF(BL9="P",IF(BO9<7,"SI","NO"),IF(BL9="D",IF(BO9<11,"SI","NO"),IF(BL9="C",IF(BO9<21,"SI","NO"),IF(BL9="A",IF(BO9<41,"SI","NO"))))) -> SI | BQ9: =IF(BL9="P",IF(BO9<4,"SI","NO"),IF(BL9="D",IF(BO9<6,"SI","NO"),IF(BL9="C",IF(BO9<11,"SI","NO"),IF(BL9="A",IF(BO9<21,"SI","NO"))))) -> SI
A10: D | B10: HATEBOER | C10: Ata | D10: 1 | E10: =IF(A10="P",IF(D10<7,"SI","NO"),IF(A10="D",IF(D10<11,"SI","NO"),IF(A10="C",IF(D10<21,"SI","NO"),IF(A10="A",IF(D10<41,"SI","NO"))))) -> SI | F10: =IF(A10="P",IF(D10<4,"SI","NO"),IF(A10="D",IF(D10<6,"SI","NO"),IF(A10="C",IF(D10<11,"SI","NO"),IF(A10="A",IF(D10<21,"SI","NO"))))) -> SI | H10: D | I10: BERESZYNSKI | J10: Sam | K10: 1 | L10: =IF(H10="P",IF(K10<7,"SI","NO"),IF(H10="D",IF(K10<11,"SI","NO"),IF(H10="C",IF(K10<21,"SI","NO"),IF(H10="A",IF(K10<41,"SI","NO"))))) -> SI | M10: =IF(H10="P",IF(K10<4,"SI","NO"),IF(H10="D",IF(K10<6,"SI","NO"),IF(H10="C",IF(K10<11,"SI","NO"),IF(H10="A",IF(K10<21,"SI","NO"))))) -> SI | O10: D | P10: BASTONI | Q10: Par | R10: 1 | S10: =IF(O10="P",IF(R10<7,"SI","NO"),IF(O10="D",IF(R10<11,"SI","NO"),IF(O10="C",IF(R10<21,"SI","NO"),IF(O10="A",IF(R10<41,"SI","NO"))))) -> SI | T10: =IF(O10="P",IF(R10<4,"SI","NO"),IF(O10="D",IF(R10<6,"SI","NO"),IF(O10="C",IF(R10<11,"SI","NO"),IF(O10="A",IF(R10<21,"SI","NO"))))) -> SI | V10: D | W10: TOLOI | X10: Ata | Y10: 10 | Z10: =IF(V10="P",IF(Y10<7,"SI","NO"),IF(V10="D",IF(Y10<11,"SI","NO"),IF(V10="C",IF(Y10<21,"SI","NO"),IF(V10="A",IF(Y10<41,"SI","NO"))))) -> SI | AA10: =IF(V10="P",IF(Y10<4,"SI","NO"),IF(V10="D",IF(Y10<6,"SI","NO"),IF(V10="C",IF(Y10<11,"SI","NO"),IF(V10="A",IF(Y10<21,"SI","NO"))))) -> NO | AC10: D | AD10: MILENKOVIC | AE10: Fio | AF10: 2 | AG10: =IF(AC10="P",IF(AF10<7,"SI","NO"),IF(AC10="D",IF(AF10<11,"SI","NO"),IF(AC10="C",IF(AF10<21,"SI","NO"),IF(AC10="A",IF(AF10<41,"SI","NO"))))) -> SI | AH10: =IF(AC10="P",IF(AF10<4,"SI","NO"),IF(AC10="D",IF(AF10<6,"SI","NO"),IF(AC10="C",IF(AF10<11,"SI","NO"),IF(AC10="A",IF(AF10<21,"SI","NO"))))) -> SI | AJ10: D | AK10: MURRU | AL10: Sam | AM10: 1 | AN10: =IF(AJ10="P",IF(AM10<7,"SI","NO"),IF(AJ10="D",IF(AM10<11,"SI","NO"),IF(AJ10="C",IF(AM10<21,"SI","NO"),IF(AJ10="A",IF(AM10<41,"SI","NO"))))) -> SI | AO10: =IF(AJ10="P",IF(AM10<4,"SI","NO"),IF(AJ10="D",IF(AM10<6,"SI","NO"),IF(AJ10="C",IF(AM10<11,"SI","NO"),IF(AJ10="A",IF(AM10<21,"SI","NO"))))) -> SI | AQ10: D | AR10: NUYTINCK | AS10: Udi | AT10: 1 | AU10: =IF(AQ10="P",IF(AT10<7,"SI","NO"),IF(AQ10="D",IF(AT10<11,"SI","NO"),IF(AQ10="C",IF(AT10<21,"SI","NO"),IF(AQ10="A",IF(AT10<41,"SI","NO"))))) -> SI | AV10: =IF(AQ10="P",IF(AT10<4,"SI","NO"),IF(AQ10="D",IF(AT10<6,"SI","NO"),IF(AQ10="C",IF(AT10<11,"SI","NO"),IF(AQ10="A",IF(AT10<21,"SI","NO"))))) -> SI | AX10: D | AY10: ROMAGNOLI A | AZ10: Mil | BA10: 20 | BB10: =IF(AX10="P",IF(BA10<7,"SI","NO"),IF(AX10="D",IF(BA10<11,"SI","NO"),IF(AX10="C",IF(BA10<21,"SI","NO"),IF(AX10="A",IF(BA10<41,"SI","NO"))))) -> NO | BC10: =IF(AX10="P",IF(BA10<4,"SI","NO"),IF(AX10="D",IF(BA10<6,"SI","NO"),IF(AX10="C",IF(BA10<11,"SI","NO"),IF(AX10="A",IF(BA10<21,"SI","NO"))))) -> NO | BE10: D | BF10: BANI | BG10: Chi | BH10: 1 | BI10: =IF(BE10="P",IF(BH10<7,"SI","NO"),IF(BE10="D",IF(BH10<11,"SI","NO"),IF(BE10="C",IF(BH10<21,"SI","NO"),IF(BE10="A",IF(BH10<41,"SI","NO"))))) -> SI | BJ10: =IF(BE10="P",IF(BH10<4,"SI","NO"),IF(BE10="D",IF(BH10<6,"SI","NO"),IF(BE10="C",IF(BH10<11,"SI","NO"),IF(BE10="A",IF(BH10<21,"SI","NO"))))) -> SI | BL10: D | BM10: KOLAROV | BN10: Rom | BO10: 22 | BP10: =IF(BL10="P",IF(BO10<7,"SI","NO"),IF(BL10="D",IF(BO10<11,"SI","NO"),IF(BL10="C",IF(BO10<21,"SI","NO"),IF(BL10="A",IF(BO10<41,"SI","NO"))))) -> NO | BQ10: =IF(BL10="P",IF(BO10<4,"SI","NO"),IF(BL10="D",IF(BO10<6,"SI","NO"),IF(BL10="C",IF(BO10<11,"SI","NO"),IF(BL10="A",IF(BO10<21,"SI","NO"))))) -> NO
A11: D | B11: VICARI | C11: SPA | D11: 1 | E11: =IF(A11="P",IF(D11<7,"SI","NO"),IF(A11="D",IF(D11<11,"SI","NO"),IF(A11="C",IF(D11<21,"SI","NO"),IF(A11="A",IF(D11<41,"SI","NO"))))) -> SI | F11: =IF(A11="P",IF(D11<4,"SI","NO"),IF(A11="D",IF(D11<6,"SI","NO"),IF(A11="C",IF(D11<11,"SI","NO"),IF(A11="A",IF(D11<21,"SI","NO"))))) -> SI | H11: D | I11: STRYGER LARSEN | J11: Udi | K11: 1 | L11: =IF(H11="P",IF(K11<7,"SI","NO"),IF(H11="D",IF(K11<11,"SI","NO"),IF(H11="C",IF(K11<21,"SI","NO"),IF(H11="A",IF(K11<41,"SI","NO"))))) -> SI | M11: =IF(H11="P",IF(K11<4,"SI","NO"),IF(H11="D",IF(K11<6,"SI","NO"),IF(H11="C",IF(K11<11,"SI","NO"),IF(H11="A",IF(K11<21,"SI","NO"))))) -> SI | O11: D | P11: CEDRIC SOARES | Q11: Int | R11: 5 | S11: =IF(O11="P",IF(R11<7,"SI","NO"),IF(O11="D",IF(R11<11,"SI","NO"),IF(O11="C",IF(R11<21,"SI","NO"),IF(O11="A",IF(R11<41,"SI","NO"))))) -> SI | T11: =IF(O11="P",IF(R11<4,"SI","NO"),IF(O11="D",IF(R11<6,"SI","NO"),IF(O11="C",IF(R11<11,"SI","NO"),IF(O11="A",IF(R11<21,"SI","NO"))))) -> SI | V11: D | W11: LIROLA | X11: Sas | Y11: 2 | Z11: =IF(V11="P",IF(Y11<7,"SI","NO"),IF(V11="D",IF(Y11<11,"SI","NO"),IF(V11="C",IF(Y11<21,"SI","NO"),IF(V11="A",IF(Y11<41,"SI","NO"))))) -> SI | AA11: =IF(V11="P",IF(Y11<4,"SI","NO"),IF(V11="D",IF(Y11<6,"SI","NO"),IF(V11="C",IF(Y11<11,"SI","NO"),IF(V11="A",IF(Y11<21,"SI","NO"))))) -> SI | AC11: D | AD11: BONIFAZI | AE11: SPA | AF11: 1 | AG11: =IF(AC11="P",IF(AF11<7,"SI","NO"),IF(AC11="D",IF(AF11<11,"SI","NO"),IF(AC11="C",IF(AF11<21,"SI","NO"),IF(AC11="A",IF(AF11<41,"SI","NO"))))) -> SI | AH11: =IF(AC11="P",IF(AF11<4,"SI","NO"),IF(AC11="D",IF(AF11<6,"SI","NO"),IF(AC11="C",IF(AF11<11,"SI","NO"),IF(AC11="A",IF(AF11<21,"SI","NO"))))) -> SI | AJ11: D | AK11: ANDERSEN | AL11: Sam | AM11: 3 | AN11: =IF(AJ11="P",IF(AM11<7,"SI","NO"),IF(AJ11="D",IF(AM11<11,"SI","NO"),IF(AJ11="C",IF(AM11<21,"SI","NO"),IF(AJ11="A",IF(AM11<41,"SI","NO"))))) -> SI | AO11: =IF(AJ11="P",IF(AM11<4,"SI","NO"),IF(AJ11="D",IF(AM11<6,"SI","NO"),IF(AJ11="C",IF(AM11<11,"SI","NO"),IF(AJ11="A",IF(AM11<21,"SI","NO"))))) -> SI | AQ11: D | AR11: STRYGER LARSEN | AS11: Udi | AT11: 2 | AU11: =IF(AQ11="P",IF(AT11<7,"SI","NO"),IF(AQ11="D",IF(AT11<11,"SI","NO"),IF(AQ11="C",IF(AT11<21,"SI","NO"),IF(AQ11="A",IF(AT11<41,"SI","NO"))))) -> SI | AV11: =IF(AQ11="P",IF(AT11<4,"SI","NO"),IF(AQ11="D",IF(AT11<6,"SI","NO"),IF(AQ11="C",IF(AT11<11,"SI","NO"),IF(AQ11="A",IF(AT11<21,"SI","NO"))))) -> SI | AX11: D | AY11: BIRASCHI | AZ11: Gen | BA11: 1 | BB11: =IF(AX11="P",IF(BA11<7,"SI","NO"),IF(AX11="D",IF(BA11<11,"SI","NO"),IF(AX11="C",IF(BA11<21,"SI","NO"),IF(AX11="A",IF(BA11<41,"SI","NO"))))) -> SI | BC11: =IF(AX11="P",IF(BA11<4,"SI","NO"),IF(AX11="D",IF(BA11<6,"SI","NO"),IF(AX11="C",IF(BA11<11,"SI","NO"),IF(AX11="A",IF(BA11<21,"SI","NO"))))) -> SI | BE11: D | BF11: N'KOULOU | BG11: Tor | BH11: 14 | BI11: =IF(BE11="P",IF(BH11<7,"SI","NO"),IF(BE11="D",IF(BH11<11,"SI","NO"),IF(BE11="C",IF(BH11<21,"SI","NO"),IF(BE11="A",IF(BH11<41,"SI","NO"))))) -> NO | BJ11: =IF(BE11="P",IF(BH11<4,"SI","NO"),IF(BE11="D",IF(BH11<6,"SI","NO"),IF(BE11="C",IF(BH11<11,"SI","NO"),IF(BE11="A",IF(BH11<21,"SI","NO"))))) -> NO | BL11: D | BM11: NUYTINCK | BN11: Udi | BO11: 1 | BP11: =IF(BL11="P",IF(BO11<7,"SI","NO"),IF(BL11="D",IF(BO11<11,"SI","NO"),IF(BL11="C",IF(BO11<21,"SI","NO"),IF(BL11="A",IF(BO11<41,"SI","NO"))))) -> SI | BQ11: =IF(BL11="P",IF(BO11<4,"SI","NO"),IF(BL11="D",IF(BO11<6,"SI","NO"),IF(BL11="C",IF(BO11<11,"SI","NO"),IF(BL11="A",IF(BO11<21,"SI","NO"))))) -> SI
A12: D | B12: N'KOULOU | C12: Tor | D12: 10 | E12: =IF(A12="P",IF(D12<7,"SI","NO"),IF(A12="D",IF(D12<11,"SI","NO"),IF(A12="C",IF(D12<21,"SI","NO"),IF(A12="A",IF(D12<41,"SI","NO"))))) -> SI | F12: =IF(A12="P",IF(D12<4,"SI","NO"),IF(A12="D",IF(D12<6,"SI","NO"),IF(A12="C",IF(D12<11,"SI","NO"),IF(A12="A",IF(D12<21,"SI","NO"))))) -> NO | H12: D | I12: COLLEY | J12: Sam | K12: 2 | L12: =IF(H12="P",IF(K12<7,"SI","NO"),IF(H12="D",IF(K12<11,"SI","NO"),IF(H12="C",IF(K12<21,"SI","NO"),IF(H12="A",IF(K12<41,"SI","NO"))))) -> SI | M12: =IF(H12="P",IF(K12<4,"SI","NO"),IF(H12="D",IF(K12<6,"SI","NO"),IF(H12="C",IF(K12<11,"SI","NO"),IF(H12="A",IF(K12<21,"SI","NO"))))) -> SI | O12: D | P12: CALABRESI | Q12: Bol | R12: 1 | S12: =IF(O12="P",IF(R12<7,"SI","NO"),IF(O12="D",IF(R12<11,"SI","NO"),IF(O12="C",IF(R12<21,"SI","NO"),IF(O12="A",IF(R12<41,"SI","NO"))))) -> SI | T12: =IF(O12="P",IF(R12<4,"SI","NO"),IF(O12="D",IF(R12<6,"SI","NO"),IF(O12="C",IF(R12<11,"SI","NO"),IF(O12="A",IF(R12<21,"SI","NO"))))) -> SI | V12: D | W12: BIRASCHI | X12: Gen | Y12: 1 | Z12: =IF(V12="P",IF(Y12<7,"SI","NO"),IF(V12="D",IF(Y12<11,"SI","NO"),IF(V12="C",IF(Y12<21,"SI","NO"),IF(V12="A",IF(Y12<41,"SI","NO"))))) -> SI | AA12: =IF(V12="P",IF(Y12<4,"SI","NO"),IF(V12="D",IF(Y12<6,"SI","NO"),IF(V12="C",IF(Y12<11,"SI","NO"),IF(V12="A",IF(Y12<21,"SI","NO"))))) -> SI | AC12: D | AD12: DALBERT | AE12: Int | AF12: 1 | AG12: =IF(AC12="P",IF(AF12<7,"SI","NO"),IF(AC12="D",IF(AF12<11,"SI","NO"),IF(AC12="C",IF(AF12<21,"SI","NO"),IF(AC12="A",IF(AF12<41,"SI","NO"))))) -> SI | AH12: =IF(AC12="P",IF(AF12<4,"SI","NO"),IF(AC12="D",IF(AF12<6,"SI","NO"),IF(AC12="C",IF(AF12<11,"SI","NO"),IF(AC12="A",IF(AF12<21,"SI","NO"))))) -> SI | AJ12: D | AK12: CRISCITO | AL12: Gen | AM12: 14 | AN12: =IF(AJ12="P",IF(AM12<7,"SI","NO"),IF(AJ12="D",IF(AM12<11,"SI","NO"),IF(AJ12="C",IF(AM12<21,"SI","NO"),IF(AJ12="A",IF(AM12<41,"SI","NO"))))) -> NO | AO12: =IF(AJ12="P",IF(AM12<4,"SI","NO"),IF(AJ12="D",IF(AM12<6,"SI","NO"),IF(AJ12="C",IF(AM12<11,"SI","NO"),IF(AJ12="A",IF(AM12<21,"SI","NO"))))) -> NO | AQ12: D | AR12: ROGERIO | AS12: Sas | AT12: 4 | AU12: =IF(AQ12="P",IF(AT12<7,"SI","NO"),IF(AQ12="D",IF(AT12<11,"SI","NO"),IF(AQ12="C",IF(AT12<21,"SI","NO"),IF(AQ12="A",IF(AT12<41,"SI","NO"))))) -> SI | AV12: =IF(AQ12="P",IF(AT12<4,"SI","NO"),IF(AQ12="D",IF(AT12<6,"SI","NO"),IF(AQ12="C",IF(AT12<11,"SI","NO"),IF(AQ12="A",IF(AT12<21,"SI","NO"))))) -> SI | AX12: D | AY12: HATEBOER | AZ12: Ata | BA12: 8 | BB12: =IF(AX12="P",IF(BA12<7,"SI","NO"),IF(AX12="D",IF(BA12<11,"SI","NO"),IF(AX12="C",IF(BA12<21,"SI","NO"),IF(AX12="A",IF(BA12<41,"SI","NO"))))) -> SI | BC12: =IF(AX12="P",IF(BA12<4,"SI","NO"),IF(AX12="D",IF(BA12<6,"SI","NO"),IF(AX12="C",IF(BA12<11,"SI","NO"),IF(AX12="A",IF(BA12<21,"SI","NO"))))) -> NO | BE12: D | BF12: PEZZELLA GER | BG12: Fio | BH12: 13 | BI12: =IF(BE12="P",IF(BH12<7,"SI","NO"),IF(BE12="D",IF(BH12<11,"SI","NO"),IF(BE12="C",IF(BH12<21,"SI","NO"),IF(BE12="A",IF(BH12<41,"SI","NO"))))) -> NO | BJ12: =IF(BE12="P",IF(BH12<4,"SI","NO"),IF(BE12="D",IF(BH12<6,"SI","NO"),IF(BE12="C",IF(BH12<11,"SI","NO"),IF(BE12="A",IF(BH12<21,"SI","NO"))))) -> NO | BL12: D | BM12: ANDERSEN | BN12: Sam | BO12: 3 | BP12: =IF(BL12="P",IF(BO12<7,"SI","NO"),IF(BL12="D",IF(BO12<11,"SI","NO"),IF(BL12="C",IF(BO12<21,"SI","NO"),IF(BL12="A",IF(BO12<41,"SI","NO"))))) -> SI | BQ12: =IF(BL12="P",IF(BO12<4,"SI","NO"),IF(BL12="D",IF(BO12<6,"SI","NO"),IF(BL12="C",IF(BO12<11,"SI","NO"),IF(BL12="A",IF(BO12<21,"SI","NO"))))) -> SI
A13: D | B13: ROMERO C | C13: Gen | D13: 9 | E13: =IF(A13="P",IF(D13<7,"SI","NO"),IF(A13="D",IF(D13<11,"SI","NO"),IF(A13="C",IF(D13<21,"SI","NO"),IF(A13="A",IF(D13<41,"SI","NO"))))) -> SI | F13: =IF(A13="P",IF(D13<4,"SI","NO"),IF(A13="D",IF(D13<6,"SI","NO"),IF(A13="C",IF(D13<11,"SI","NO"),IF(A13="A",IF(D13<21,"SI","NO"))))) -> NO | H13: D | I13: IACOPONI | J13: Par | K13: 1 | L13: =IF(H13="P",IF(K13<7,"SI","NO"),IF(H13="D",IF(K13<11,"SI","NO"),IF(H13="C",IF(K13<21,"SI","NO"),IF(H13="A",IF(K13<41,"SI","NO"))))) -> SI | M13: =IF(H13="P",IF(K13<4,"SI","NO"),IF(H13="D",IF(K13<6,"SI","NO"),IF(H13="C",IF(K13<11,"SI","NO"),IF(H13="A",IF(K13<21,"SI","NO"))))) -> SI | O13: D | P13: AINA | Q13: Tor | R13: 1 | S13: =IF(O13="P",IF(R13<7,"SI","NO"),IF(O13="D",IF(R13<11,"SI","NO"),IF(O13="C",IF(R13<21,"SI","NO"),IF(O13="A",IF(R13<41,"SI","NO"))))) -> SI | T13: =IF(O13="P",IF(R13<4,"SI","NO"),IF(O13="D",IF(R13<6,"SI","NO"),IF(O13="C",IF(R13<11,"SI","NO"),IF(O13="A",IF(R13<21,"SI","NO"))))) -> SI | V13: D | W13: HATEBOER | X13: Ata | Y13: 12 | Z13: =IF(V13="P",IF(Y13<7,"SI","NO"),IF(V13="D",IF(Y13<11,"SI","NO"),IF(V13="C",IF(Y13<21,"SI","NO"),IF(V13="A",IF(Y13<41,"SI","NO"))))) -> NO | AA13: =IF(V13="P",IF(Y13<4,"SI","NO"),IF(V13="D",IF(Y13<6,"SI","NO"),IF(V13="C",IF(Y13<11,"SI","NO"),IF(V13="A",IF(Y13<21,"SI","NO"))))) -> NO | AC13: D | AD13: LUIZ FELIPE | AE13: Laz | AF13: 2 | AG13: =IF(AC13="P",IF(AF13<7,"SI","NO"),IF(AC13="D",IF(AF13<11,"SI","NO"),IF(AC13="C",IF(AF13<21,"SI","NO"),IF(AC13="A",IF(AF13<41,"SI","NO"))))) -> SI | AH13: =IF(AC13="P",IF(AF13<4,"SI","NO"),IF(AC13="D",IF(AF13<6,"SI","NO"),IF(AC13="C",IF(AF13<11,"SI","NO"),IF(AC13="A",IF(AF13<21,"SI","NO"))))) -> SI | AJ13: D | AK13: COLLEY | AL13: Sam | AM13: 4 | AN13: =IF(AJ13="P",IF(AM13<7,"SI","NO"),IF(AJ13="D",IF(AM13<11,"SI","NO"),IF(AJ13="C",IF(AM13<21,"SI","NO"),IF(AJ13="A",IF(AM13<41,"SI","NO"))))) -> SI | AO13: =IF(AJ13="P",IF(AM13<4,"SI","NO"),IF(AJ13="D",IF(AM13<6,"SI","NO"),IF(AJ13="C",IF(AM13<11,"SI","NO"),IF(AJ13="A",IF(AM13<21,"SI","NO"))))) -> SI | AQ13: D | AR13: MALCUIT | AS13: Nap | AT13: 13 | AU13: =IF(AQ13="P",IF(AT13<7,"SI","NO"),IF(AQ13="D",IF(AT13<11,"SI","NO"),IF(AQ13="C",IF(AT13<21,"SI","NO"),IF(AQ13="A",IF(AT13<41,"SI","NO"))))) -> NO | AV13: =IF(AQ13="P",IF(AT13<4,"SI","NO"),IF(AQ13="D",IF(AT13<6,"SI","NO"),IF(AQ13="C",IF(AT13<11,"SI","NO"),IF(AQ13="A",IF(AT13<21,"SI","NO"))))) -> NO | AX13: D | AY13: VICARI | AZ13: SPA | BA13: 1 | BB13: =IF(AX13="P",IF(BA13<7,"SI","NO"),IF(AX13="D",IF(BA13<11,"SI","NO"),IF(AX13="C",IF(BA13<21,"SI","NO"),IF(AX13="A",IF(BA13<41,"SI","NO"))))) -> SI | BC13: =IF(AX13="P",IF(BA13<4,"SI","NO"),IF(AX13="D",IF(BA13<6,"SI","NO"),IF(AX13="C",IF(BA13<11,"SI","NO"),IF(AX13="A",IF(BA13<21,"SI","NO"))))) -> SI | BE13: D | BF13: MAGNANI | BG13: Sas | BH13: 2 | BI13: =IF(BE13="P",IF(BH13<7,"SI","NO"),IF(BE13="D",IF(BH13<11,"SI","NO"),IF(BE13="C",IF(BH13<21,"SI","NO"),IF(BE13="A",IF(BH13<41,"SI","NO"))))) -> SI | BJ13: =IF(BE13="P",IF(BH13<4,"SI","NO"),IF(BE13="D",IF(BH13<6,"SI","NO"),IF(BE13="C",IF(BH13<11,"SI","NO"),IF(BE13="A",IF(BH13<21,"SI","NO"))))) -> SI | BL13: D | BM13: SRNA | BN13: Cag | BO13: 4 | BP13: =IF(BL13="P",IF(BO13<7,"SI","NO"),IF(BL13="D",IF(BO13<11,"SI","NO"),IF(BL13="C",IF(BO13<21,"SI","NO"),IF(BL13="A",IF(BO13<41,"SI","NO"))))) -> SI | BQ13: =IF(BL13="P",IF(BO13<4,"SI","NO"),IF(BL13="D",IF(BO13<6,"SI","NO"),IF(BL13="C",IF(BO13<11,"SI","NO"),IF(BL13="A",IF(BO13<21,"SI","NO"))))) -> SI
A14: C | B14: BERNARDESCHI | C14: Juv | D14: 19 | E14: =IF(A14="P",IF(D14<7,"SI","NO"),IF(A14="D",IF(D14<11,"SI","NO"),IF(A14="C",IF(D14<21,"SI","NO"),IF(A14="A",IF(D14<41,"SI","NO"))))) -> SI | F14: =IF(A14="P",IF(D14<4,"SI","NO"),IF(A14="D",IF(D14<6,"SI","NO"),IF(A14="C",IF(D14<11,"SI","NO"),IF(A14="A",IF(D14<21,"SI","NO"))))) -> NO | H14: C | I14: HETEMAJ | J14: Chi | K14: 1 | L14: =IF(H14="P",IF(K14<7,"SI","NO"),IF(H14="D",IF(K14<11,"SI","NO"),IF(H14="C",IF(K14<21,"SI","NO"),IF(H14="A",IF(K14<41,"SI","NO"))))) -> SI | M14: =IF(H14="P",IF(K14<4,"SI","NO"),IF(H14="D",IF(K14<6,"SI","NO"),IF(H14="C",IF(K14<11,"SI","NO"),IF(H14="A",IF(K14<21,"SI","NO"))))) -> SI | O14: C | P14: STURARO | Q14: Gen | R14: 2 | S14: =IF(O14="P",IF(R14<7,"SI","NO"),IF(O14="D",IF(R14<11,"SI","NO"),IF(O14="C",IF(R14<21,"SI","NO"),IF(O14="A",IF(R14<41,"SI","NO"))))) -> SI | T14: =IF(O14="P",IF(R14<4,"SI","NO"),IF(O14="D",IF(R14<6,"SI","NO"),IF(O14="C",IF(R14<11,"SI","NO"),IF(O14="A",IF(R14<21,"SI","NO"))))) -> SI | V14: C | W14: DE ROON | X14: Ata | Y14: 5 | Z14: =IF(V14="P",IF(Y14<7,"SI","NO"),IF(V14="D",IF(Y14<11,"SI","NO"),IF(V14="C",IF(Y14<21,"SI","NO"),IF(V14="A",IF(Y14<41,"SI","NO"))))) -> SI | AA14: =IF(V14="P",IF(Y14<4,"SI","NO"),IF(V14="D",IF(Y14<6,"SI","NO"),IF(V14="C",IF(Y14<11,"SI","NO"),IF(V14="A",IF(Y14<21,"SI","NO"))))) -> SI | AC14: C | AD14: ZIELINSKI | AE14: Nap | AF14: 30 | AG14: =IF(AC14="P",IF(AF14<7,"SI","NO"),IF(AC14="D",IF(AF14<11,"SI","NO"),IF(AC14="C",IF(AF14<21,"SI","NO"),IF(AC14="A",IF(AF14<41,"SI","NO"))))) -> NO | AH14: =IF(AC14="P",IF(AF14<4,"SI","NO"),IF(AC14="D",IF(AF14<6,"SI","NO"),IF(AC14="C",IF(AF14<11,"SI","NO"),IF(AC14="A",IF(AF14<21,"SI","NO"))))) -> NO | AJ14: C | AK14: ZIELINSKI | AL14: Nap | AM14: 40 | AN14: =IF(AJ14="P",IF(AM14<7,"SI","NO"),IF(AJ14="D",IF(AM14<11,"SI","NO"),IF(AJ14="C",IF(AM14<21,"SI","NO"),IF(AJ14="A",IF(AM14<41,"SI","NO"))))) -> NO | AO14: =IF(AJ14="P",IF(AM14<4,"SI","NO"),IF(AJ14="D",IF(AM14<6,"SI","NO"),IF(AJ14="C",IF(AM14<11,"SI","NO"),IF(AJ14="A",IF(AM14<21,"SI","NO"))))) -> NO | AQ14: C | AR14: KURTIC | AS14: SPA | AT14: 4 | AU14: =IF(AQ14="P",IF(AT14<7,"SI","NO"),IF(AQ14="D",IF(AT14<11,"SI","NO"),IF(AQ14="C",IF(AT14<21,"SI","NO"),IF(AQ14="A",IF(AT14<41,"SI","NO"))))) -> SI | AV14: =IF(AQ14="P",IF(AT14<4,"SI","NO"),IF(AQ14="D",IF(AT14<6,"SI","NO"),IF(AQ14="C",IF(AT14<11,"SI","NO"),IF(AQ14="A",IF(AT14<21,"SI","NO"))))) -> SI | AX14: C | AY14: VECINO | AZ14: Int | BA14: 1 | BB14: =IF(AX14="P",IF(BA14<7,"SI","NO"),IF(AX14="D",IF(BA14<11,"SI","NO"),IF(AX14="C",IF(BA14<21,"SI","NO"),IF(AX14="A",IF(BA14<41,"SI","NO"))))) -> SI | BC14: =IF(AX14="P",IF(BA14<4,"SI","NO"),IF(AX14="D",IF(BA14<6,"SI","NO"),IF(AX14="C",IF(BA14<11,"SI","NO"),IF(AX14="A",IF(BA14<21,"SI","NO"))))) -> SI | BE14: C | BF14: RINCON | BG14: Tor | BH14: 5 | BI14: =IF(BE14="P",IF(BH14<7,"SI","NO"),IF(BE14="D",IF(BH14<11,"SI","NO"),IF(BE14="C",IF(BH14<21,"SI","NO"),IF(BE14="A",IF(BH14<41,"SI","NO"))))) -> SI | BJ14: =IF(BE14="P",IF(BH14<4,"SI","NO"),IF(BE14="D",IF(BH14<6,"SI","NO"),IF(BE14="C",IF(BH14<11,"SI","NO"),IF(BE14="A",IF(BH14<21,"SI","NO"))))) -> SI | BL14: C | BM14: KURTIC | BN14: SPA | BO14: 3 | BP14: =IF(BL14="P",IF(BO14<7,"SI","NO"),IF(BL14="D",IF(BO14<11,"SI","NO"),IF(BL14="C",IF(BO14<21,"SI","NO"),IF(BL14="A",IF(BO14<41,"SI","NO"))))) -> SI | BQ14: =IF(BL14="P",IF(BO14<4,"SI","NO"),IF(BL14="D",IF(BO14<6,"SI","NO"),IF(BL14="C",IF(BO14<11,"SI","NO"),IF(BL14="A",IF(BO14<21,"SI","NO"))))) -> SI
... A27: A | B27: CIANO | C27: Fro | D27: 10 | E27: =IF(A27="P",IF(D27<7,"SI","NO"),IF(A27="D",IF(D27<11,"SI","NO"),IF(A27="C",IF(D27<21,"SI","NO"),IF(A27="A",IF(D27<41,"SI","NO"))))) -> SI | F27: =IF(A27="P",IF(D27<4,"SI","NO"),IF(A27="D",IF(D27<6,"SI","NO"),IF(A27="C",IF(D27<11,"SI","NO"),IF(A27="A",IF(D27<21,"SI","NO"))))) -> SI | H27: A | I27: CAPUTO | J27: Emp | K27: 10 | L27: =IF(H27="P",IF(K27<7,"SI","NO"),IF(H27="D",IF(K27<11,"SI","NO"),IF(H27="C",IF(K27<21,"SI","NO"),IF(H27="A",IF(K27<41,"SI","NO"))))) -> SI | M27: =IF(H27="P",IF(K27<4,"SI","NO"),IF(H27="D",IF(K27<6,"SI","NO"),IF(H27="C",IF(K27<11,"SI","NO"),IF(H27="A",IF(K27<21,"SI","NO"))))) -> SI | O27: A | P27: OKAKA | Q27: Udi | R27: 19 | S27: =IF(O27="P",IF(R27<7,"SI","NO"),IF(O27="D",IF(R27<11,"SI","NO"),IF(O27="C",IF(R27<21,"SI","NO"),IF(O27="A",IF(R27<41,"SI","NO"))))) -> SI | T27: =IF(O27="P",IF(R27<4,"SI","NO"),IF(O27="D",IF(R27<6,"SI","NO"),IF(O27="C",IF(R27<11,"SI","NO"),IF(O27="A",IF(R27<21,"SI","NO"))))) -> SI | V27: A | W27: KLUIVERT | X27: Rom | Y27: 1 | Z27: =IF(V27="P",IF(Y27<7,"SI","NO"),IF(V27="D",IF(Y27<11,"SI","NO"),IF(V27="C",IF(Y27<21,"SI","NO"),IF(V27="A",IF(Y27<41,"SI","NO"))))) -> SI | AA27: =IF(V27="P",IF(Y27<4,"SI","NO"),IF(V27="D",IF(Y27<6,"SI","NO"),IF(V27="C",IF(Y27<11,"SI","NO"),IF(V27="A",IF(Y27<21,"SI","NO"))))) -> SI | AC27: A | AD27: IMMOBILE | AE27: Laz | AF27: 216 | AG27: =IF(AC27="P",IF(AF27<7,"SI","NO"),IF(AC27="D",IF(AF27<11,"SI","NO"),IF(AC27="C",IF(AF27<21,"SI","NO"),IF(AC27="A",IF(AF27<41,"SI","NO"))))) -> NO | AH27: =IF(AC27="P",IF(AF27<4,"SI","NO"),IF(AC27="D",IF(AF27<6,"SI","NO"),IF(AC27="C",IF(AF27<11,"SI","NO"),IF(AC27="A",IF(AF27<21,"SI","NO"))))) -> NO | AJ27: A | AK27: PUSSETTO | AL27: Udi | AM27: 1 | AN27: =IF(AJ27="P",IF(AM27<7,"SI","NO"),IF(AJ27="D",IF(AM27<11,"SI","NO"),IF(AJ27="C",IF(AM27<21,"SI","NO"),IF(AJ27="A",IF(AM27<41,"SI","NO"))))) -> SI | AO27: =IF(AJ27="P",IF(AM27<4,"SI","NO"),IF(AJ27="D",IF(AM27<6,"SI","NO"),IF(AJ27="C",IF(AM27<11,"SI","NO"),IF(AJ27="A",IF(AM27<21,"SI","NO"))))) -> SI | AQ27: A | AR27: PIATEK | AS27: Mil | AT27: 30 | AU27: =IF(AQ27="P",IF(AT27<7,"SI","NO"),IF(AQ27="D",IF(AT27<11,"SI","NO"),IF(AQ27="C",IF(AT27<21,"SI","NO"),IF(AQ27="A",IF(AT27<41,"SI","NO"))))) -> SI | AV27: =IF(AQ27="P",IF(AT27<4,"SI","NO"),IF(AQ27="D",IF(AT27<6,"SI","NO"),IF(AQ27="C",IF(AT27<11,"SI","NO"),IF(AQ27="A",IF(AT27<21,"SI","NO"))))) -> NO | AX27: A | AY27: POLITANO | AZ27: Int | BA27: 22 | BB27: =IF(AX27="P",IF(BA27<7,"SI","NO"),IF(AX27="D",IF(BA27<11,"SI","NO"),IF(AX27="C",IF(BA27<21,"SI","NO"),IF(AX27="A",IF(BA27<41,"SI","NO"))))) -> SI | BC27: =IF(AX27="P",IF(BA27<4,"SI","NO"),IF(AX27="D",IF(BA27<6,"SI","NO"),IF(AX27="C",IF(BA27<11,"SI","NO"),IF(AX27="A",IF(BA27<21,"SI","NO"))))) -> NO | BE27: A | BF27: PIATEK | BG27: Mil | BH27: 45 | BI27: =IF(BE27="P",IF(BH27<7,"SI","NO"),IF(BE27="D",IF(BH27<11,"SI","NO"),IF(BE27="C",IF(BH27<21,"SI","NO"),IF(BE27="A",IF(BH27<41,"SI","NO"))))) -> NO | BJ27: =IF(BE27="P",IF(BH27<4,"SI","NO"),IF(BE27="D",IF(BH27<6,"SI","NO"),IF(BE27="C",IF(BH27<11,"SI","NO"),IF(BE27="A",IF(BH27<21,"SI","NO"))))) -> NO | BL27: A | BM27: OBERLIN | BN27: Emp | BO27: 1 | BP27: =IF(BL27="P",IF(BO27<7,"SI","NO"),IF(BL27="D",IF(BO27<11,"SI","NO"),IF(BL27="C",IF(BO27<21,"SI","NO"),IF(BL27="A",IF(BO27<41,"SI","NO"))))) -> SI | BQ27: =IF(BL27="P",IF(BO27<4,"SI","NO"),IF(BL27="D",IF(BO27<6,"SI","NO"),IF(BL27="C",IF(BO27<11,"SI","NO"),IF(BL27="A",IF(BO27<21,"SI","NO"))))) -> SI
A28: Crediti Residui | B28: 36 | C28: Rimanente | E28: =FLOOR(B28/3,1) -> 12 | H28: Crediti Residui | I28: 92 | J28: Rimanente | L28: =FLOOR(I28/3,1) -> 30 | O28: Crediti Residui | P28: 0 | Q28: Rimanente | S28: =FLOOR(P28/3,1) -> 0 | V28: Crediti Residui | W28: 0 | X28: Rimanente | Z28: =FLOOR(W28/3,1) -> 0 | AC28: Crediti Residui | AD28: 45 | AE28: Rimanente | AG28: =FLOOR(AD28/3,1) -> 15 | AJ28: Crediti Residui | AK28: 17 | AL28: Rimanente | AN28: =FLOOR(AK28/3,1) -> 5 | AQ28: Crediti Residui | AR28: 11 | AS28: Rimanente | AU28: =FLOOR(AR28/3,1) -> 3 | AX28: Crediti Residui | AY28: 47 | AZ28: Rimanente | BB28: =FLOOR(AY28/3,1) -> 15 | BE28: Crediti Residui | BF28: 30 | BG28: Rimanente | BI28: =FLOOR(BF28/3,1) -> 10 | BL28: Crediti Residui | BM28: 13 | BN28: Rimanente | BP28: =FLOOR(BM28/3,1) -> 4
C29: Nuovi | E29: 500 | J29: Nuovi | L29: 500 | Q29: Nuovi | S29: 500 | X29: Nuovi | Z29: 500 | AE29: Nuovi | AG29: 500 | AL29: Nuovi | AN29: 500 | AS29: Nuovi | AU29: 500 | AZ29: Nuovi | BB29: 500 | BG29: Nuovi | BI29: 500 | BN29: Nuovi | BP29: 504
C30: Conferme | E30: =SUM(E3:E27) -> 0 | F30: =SUM(F3:F27) -> 0 | J30: Conferme | L30: =SUM(L3:L27) -> 0 | M30: =SUM(M3:M27) -> 0 | Q30: Conferme | S30: =SUM(S3:S27) -> 0 | T30: =SUM(T3:T27) -> 0 | X30: Conferme | Z30: =SUM(Z3:Z27) -> 0 | AA30: =SUM(AA3:AA27) -> 0 | AE30: Conferme | AG30: =SUM(AG3:AG27) -> 0 | AH30: =SUM(AH3:AH27) -> 0 | AL30: Conferme | AN30: =SUM(AN3:AN27) -> 0 | AO30: =SUM(AO3:AO27) -> 0 | AS30: Conferme | AU30: =SUM(AU3:AU27) -> 0 | AV30: =SUM(AV3:AV27) -> 0 | AZ30: Conferme | BB30: =SUM(BB3:BB27) -> 0 | BC30: =SUM(BC3:BC27) -> 0 | BG30: Conferme | BI30: =SUM(BI3:BI27) -> 0 | BJ30: =SUM(BJ3:BJ27) -> 0 | BN30: Conferme | BP30: 0 | BQ30: =SUM(BQ3:BQ27) -> 0
C31: Totali | E31: =SUM(E28:E29)-SUM(E30:F30) -> 512 | J31: Totali | L31: =SUM(L28:L29)-SUM(L30:M30) -> 530 | Q31: Totali | S31: =SUM(S28:S29)-SUM(S30:T30) -> 500 | X31: Totali | Z31: =SUM(Z28:Z29)-SUM(Z30:AA30) -> 500 | AE31: Totali | AG31: =SUM(AG28:AG29)-SUM(AG30:AH30) -> 515 | AL31: Totali | AN31: =SUM(AN28:AN29)-SUM(AN30:AO30) -> 505 | AS31: Totali | AU31: =SUM(AU28:AU29)-SUM(AU30:AV30) -> 503 | AZ31: Totali | BB31: =SUM(BB28:BB29)-SUM(BB30:BC30) -> 515 | BG31: Totali | BI31: =SUM(BI28:BI29)-SUM(BI30:BJ30) -> 510 | BN31: Totali | BP31: =SUM(BP28:BP29)-SUM(BP30:BQ30) -> 508

Sheet Serie C
A1: BAYER 04 | F1: 67.27 | H1: TEAM AS TURBO | M1: 67.8 | O1: SKIACCIAK MOSCA | T1: 68.47 | V1: UGF PISA | AA1: 68.7 | AC1: AC DENTI | AH1: 69.07 | AJ1: BRIGATA GURREN | AO1: 70 | AQ1: UNAJUNGLACAZO | AV1: 70.3 | AX1: FANTA LISBON | BC1: 72.47 | BE1: CICCIOBUCCIO | BJ1: 73.01 | BL1: PAUL FRANK INDUSTRIES | BQ1: 74.33
A2: Ruolo | B2: Calciatore | C2: Squadra | D2: Costo | E2: Giugno | F2: Settembre | H2: Ruolo | I2: Calciatore | J2: Squadra | K2: Costo | L2: Giugno | M2: Settembre | O2: Ruolo | P2: Calciatore | Q2: Squadra | R2: Costo | S2: Giugno | T2: Settembre | V2: Ruolo | W2: Calciatore | X2: Squadra | Y2: Costo | Z2: Giugno | AA2: Settembre | AC2: Ruolo | AD2: Calciatore | AE2: Squadra | AF2: Costo | AG2: Giugno | AH2: Settembre | AJ2: Ruolo | AK2: Calciatore | AL2: Squadra | AM2: Costo | AN2: Giugno | AO2: Settembre | AQ2: Ruolo | AR2: Calciatore | AS2: Squadra | AT2: Costo | AU2: Giugno | AV2: Settembre | AX2: Ruolo | AY2: Calciatore | AZ2: Squadra | BA2: Costo | BB2: Giugno | BC2: Settembre | BE2: Ruolo | BF2: Calciatore | BG2: Squadra | BH2: Costo | BI2: Giugno | BJ2: Settembre | BL2: Ruolo | BM2: Calciatore | BN2: Squadra | BO2: Costo | BP2: Giugno | BQ2: Settembre
A3: P | B3: MIRANTE | C3: Rom | D3: 1 | E3: =IF(A3="P",IF(D3<7,"SI","NO"),IF(A3="D",IF(D3<11,"SI","NO"),IF(A3="C",IF(D3<21,"SI","NO"),IF(A3="A",IF(D3<41,"SI","NO"))))) -> SI | F3: =IF(A3="P",IF(D3<4,"SI","NO"),IF(A3="D",IF(D3<6,"SI","NO"),IF(A3="C",IF(D3<11,"SI","NO"),IF(A3="A",IF(D3<21,"SI","NO"))))) -> SI | H3: P | I3: KARNEZIS | J3: Nap | K3: 1 | L3: =IF(H3="P",IF(K3<7,"SI","NO"),IF(H3="D",IF(K3<11,"SI","NO"),IF(H3="C",IF(K3<21,"SI","NO"),IF(H3="A",IF(K3<41,"SI","NO"))))) -> SI | M3: =IF(H3="P",IF(K3<4,"SI","NO"),IF(H3="D",IF(K3<6,"SI","NO"),IF(H3="C",IF(K3<11,"SI","NO"),IF(H3="A",IF(K3<21,"SI","NO"))))) -> SI | O3: P | P3: KARNEZIS | Q3: Nap | R3: 1 | S3: =IF(O3="P",IF(R3<7,"SI","NO"),IF(O3="D",IF(R3<11,"SI","NO"),IF(O3="C",IF(R3<21,"SI","NO"),IF(O3="A",IF(R3<41,"SI","NO"))))) -> SI | T3: =IF(O3="P",IF(R3<4,"SI","NO"),IF(O3="D",IF(R3<6,"SI","NO"),IF(O3="C",IF(R3<11,"SI","NO"),IF(O3="A",IF(R3<21,"SI","NO"))))) -> SI | V3: P | W3: SEPE | X3: Par | Y3: 1 | Z3: =IF(V3="P",IF(Y3<7,"SI","NO"),IF(V3="D",IF(Y3<11,"SI","NO"),IF(V3="C",IF(Y3<21,"SI","NO"),IF(V3="A",IF(Y3<41,"SI","NO"))))) -> SI | AA3: =IF(V3="P",IF(Y3<4,"SI","NO"),IF(V3="D",IF(Y3<6,"SI","NO"),IF(V3="C",IF(Y3<11,"SI","NO"),IF(V3="A",IF(Y3<21,"SI","NO"))))) -> SI | AC3: P | AD3: STRAKOSHA | AE3: Laz | AF3: 19 | AG3: =IF(AC3="P",IF(AF3<7,"SI","NO"),IF(AC3="D",IF(AF3<11,"SI","NO"),IF(AC3="C",IF(AF3<21,"SI","NO"),IF(AC3="A",IF(AF3<41,"SI","NO"))))) -> NO | AH3: =IF(AC3="P",IF(AF3<4,"SI","NO"),IF(AC3="D",IF(AF3<6,"SI","NO"),IF(AC3="C",IF(AF3<11,"SI","NO"),IF(AC3="A",IF(AF3<21,"SI","NO"))))) -> NO | AJ3: P | AK3: BERNI | AL3: Int | AM3: 1 | AN3: =IF(AJ3="P",IF(AM3<7,"SI","NO"),IF(AJ3="D",IF(AM3<11,"SI","NO"),IF(AJ3="C",IF(AM3<21,"SI","NO"),IF(AJ3="A",IF(AM3<41,"SI","NO"))))) -> SI | AO3: =IF(AJ3="P",IF(AM3<4,"SI","NO"),IF(AJ3="D",IF(AM3<6,"SI","NO"),IF(AJ3="C",IF(AM3<11,"SI","NO"),IF(AJ3="A",IF(AM3<21,"SI","NO"))))) -> SI | AQ3: P | AR3: SKORUPSKI | AS3: Bol | AT3: 7 | AU3: =IF(AQ3="P",IF(AT3<7,"SI","NO"),IF(AQ3="D",IF(AT3<11,"SI","NO"),IF(AQ3="C",IF(AT3<21,"SI","NO"),IF(AQ3="A",IF(AT3<41,"SI","NO"))))) -> NO | AV3: =IF(AQ3="P",IF(AT3<4,"SI","NO"),IF(AQ3="D",IF(AT3<6,"SI","NO"),IF(AQ3="C",IF(AT3<11,"SI","NO"),IF(AQ3="A",IF(AT3<21,"SI","NO"))))) -> NO | AX3: P | AY3: VIVIANO | AZ3: SPA | BA3: 8 | BB3: =IF(AX3="P",IF(BA3<7,"SI","NO"),IF(AX3="D",IF(BA3<11,"SI","NO"),IF(AX3="C",IF(BA3<21,"SI","NO"),IF(AX3="A",IF(BA3<41,"SI","NO"))))) -> NO | BC3: =IF(AX3="P",IF(BA3<4,"SI","NO"),IF(AX3="D",IF(BA3<6,"SI","NO"),IF(AX3="C",IF(BA3<11,"SI","NO"),IF(AX3="A",IF(BA3<21,"SI","NO"))))) -> NO | BE3: P | BF3: HANDANOVIC | BG3: Int | BH3: 38 | BI3: =IF(BE3="P",IF(BH3<7,"SI","NO"),IF(BE3="D",IF(BH3<11,"SI","NO"),IF(BE3="C",IF(BH3<21,"SI","NO"),IF(BE3="A",IF(BH3<41,"SI","NO"))))) -> NO | BJ3: =IF(BE3="P",IF(BH3<4,"SI","NO"),IF(BE3="D",IF(BH3<6,"SI","NO"),IF(BE3="C",IF(BH3<11,"SI","NO"),IF(BE3="A",IF(BH3<21,"SI","NO"))))) -> NO | BL3: P | BM3: SORRENTINO | BN3: Chi | BO3: 2 | BP3: =IF(BL3="P",IF(BO3<7,"SI","NO"),IF(BL3="D",IF(BO3<11,"SI","NO"),IF(BL3="C",IF(BO3<21,"SI","NO"),IF(BL3="A",IF(BO3<41,"SI","NO"))))) -> SI | BQ3: =IF(BL3="P",IF(BO3<4,"SI","NO"),IF(BL3="D",IF(BO3<6,"SI","NO"),IF(BL3="C",IF(BO3<11,"SI","NO"),IF(BL3="A",IF(BO3<21,"SI","NO"))))) -> SI
A4: P | B4: VIVIANO | C4: SPA | D4: 1 | E4: =IF(A4="P",IF(D4<7,"SI","NO"),IF(A4="D",IF(D4<11,"SI","NO"),IF(A4="C",IF(D4<21,"SI","NO"),IF(A4="A",IF(D4<41,"SI","NO"))))) -> SI | F4: =IF(A4="P",IF(D4<4,"SI","NO"),IF(A4="D",IF(D4<6,"SI","NO"),IF(A4="C",IF(D4<11,"SI","NO"),IF(A4="A",IF(D4<21,"SI","NO"))))) -> SI | H4: P | I4: MERET | J4: Nap | K4: 13 | L4: =IF(H4="P",IF(K4<7,"SI","NO"),IF(H4="D",IF(K4<11,"SI","NO"),IF(H4="C",IF(K4<21,"SI","NO"),IF(H4="A",IF(K4<41,"SI","NO"))))) -> NO | M4: =IF(H4="P",IF(K4<4,"SI","NO"),IF(H4="D",IF(K4<6,"SI","NO"),IF(H4="C",IF(K4<11,"SI","NO"),IF(H4="A",IF(K4<21,"SI","NO"))))) -> NO | O4: P | P4: MERET | Q4: Nap | R4: 13 | S4: =IF(O4="P",IF(R4<7,"SI","NO"),IF(O4="D",IF(R4<11,"SI","NO"),IF(O4="C",IF(R4<21,"SI","NO"),IF(O4="A",IF(R4<41,"SI","NO"))))) -> NO | T4: =IF(O4="P",IF(R4<4,"SI","NO"),IF(O4="D",IF(R4<6,"SI","NO"),IF(O4="C",IF(R4<11,"SI","NO"),IF(O4="A",IF(R4<21,"SI","NO"))))) -> NO | V4: P | W4: LAFONT | X4: Fio | Y4: 19 | Z4: =IF(V4="P",IF(Y4<7,"SI","NO"),IF(V4="D",IF(Y4<11,"SI","NO"),IF(V4="C",IF(Y4<21,"SI","NO"),IF(V4="A",IF(Y4<41,"SI","NO"))))) -> NO | AA4: =IF(V4="P",IF(Y4<4,"SI","NO"),IF(V4="D",IF(Y4<6,"SI","NO"),IF(V4="C",IF(Y4<11,"SI","NO"),IF(V4="A",IF(Y4<21,"SI","NO"))))) -> NO | AC4: P | AD4: PROTO | AE4: Laz | AF4: 1 | AG4: =IF(AC4="P",IF(AF4<7,"SI","NO"),IF(AC4="D",IF(AF4<11,"SI","NO"),IF(AC4="C",IF(AF4<21,"SI","NO"),IF(AC4="A",IF(AF4<41,"SI","NO"))))) -> SI | AH4: =IF(AC4="P",IF(AF4<4,"SI","NO"),IF(AC4="D",IF(AF4<6,"SI","NO"),IF(AC4="C",IF(AF4<11,"SI","NO"),IF(AC4="A",IF(AF4<21,"SI","NO"))))) -> SI | AJ4: P | AK4: HANDANOVIC | AL4: Int | AM4: 44 | AN4: =IF(AJ4="P",IF(AM4<7,"SI","NO"),IF(AJ4="D",IF(AM4<11,"SI","NO"),IF(AJ4="C",IF(AM4<21,"SI","NO"),IF(AJ4="A",IF(AM4<41,"SI","NO"))))) -> NO | AO4: =IF(AJ4="P",IF(AM4<4,"SI","NO"),IF(AJ4="D",IF(AM4<6,"SI","NO"),IF(AJ4="C",IF(AM4<11,"SI","NO"),IF(AJ4="A",IF(AM4<21,"SI","NO"))))) -> NO | AQ4: P | AR4: SORRENTINO | AS4: Chi | AT4: 5 | AU4: =IF(AQ4="P",IF(AT4<7,"SI","NO"),IF(AQ4="D",IF(AT4<11,"SI","NO"),IF(AQ4="C",IF(AT4<21,"SI","NO"),IF(AQ4="A",IF(AT4<41,"SI","NO"))))) -> SI | AV4: =IF(AQ4="P",IF(AT4<4,"SI","NO"),IF(AQ4="D",IF(AT4<6,"SI","NO"),IF(AQ4="C",IF(AT4<11,"SI","NO"),IF(AQ4="A",IF(AT4<21,"SI","NO"))))) -> NO | AX4: P | AY4: RADU I | AZ4: Gen | BA4: 1 | BB4: =IF(AX4="P",IF(BA4<7,"SI","NO"),IF(AX4="D",IF(BA4<11,"SI","NO"),IF(AX4="C",IF(BA4<21,"SI","NO"),IF(AX4="A",IF(BA4<41,"SI","NO"))))) -> SI | BC4: =IF(AX4="P",IF(BA4<4,"SI","NO"),IF(AX4="D",IF(BA4<6,"SI","NO"),IF(AX4="C",IF(BA4<11,"SI","NO"),IF(AX4="A",IF(BA4<21,"SI","NO"))))) -> SI | BE4: P | BF4: BERISHA E | BG4: Ata | BH4: 9 | BI4: =IF(BE4="P",IF(BH4<7,"SI","NO"),IF(BE4="D",IF(BH4<11,"SI","NO"),IF(BE4="C",IF(BH4<21,"SI","NO"),IF(BE4="A",IF(BH4<41,"SI","NO"))))) -> NO | BJ4: =IF(BE4="P",IF(BH4<4,"SI","NO"),IF(BE4="D",IF(BH4<6,"SI","NO"),IF(BE4="C",IF(BH4<11,"SI","NO"),IF(BE4="A",IF(BH4<21,"SI","NO"))))) -> NO | BL4: P | BM4: LAFONT | BN4: Fio | BO4: 11 | BP4: =IF(BL4="P",IF(BO4<7,"SI","NO"),IF(BL4="D",IF(BO4<11,"SI","NO"),IF(BL4="C",IF(BO4<21,"SI","NO"),IF(BL4="A",IF(BO4<41,"SI","NO"))))) -> NO | BQ4: =IF(BL4="P",IF(BO4<4,"SI","NO"),IF(BL4="D",IF(BO4<6,"SI","NO"),IF(BL4="C",IF(BO4<11,"SI","NO"),IF(BL4="A",IF(BO4<21,"SI","NO"))))) -> NO
A5: P | B5: OLSEN | C5: Rom | D5: 42 | E5: =IF(A5="P",IF(D5<7,"SI","NO"),IF(A5="D",IF(D5<11,"SI","NO"),IF(A5="C",IF(D5<21,"SI","NO"),IF(A5="A",IF(D5<41,"SI","NO"))))) -> NO | F5: =IF(A5="P",IF(D5<4,"SI","NO"),IF(A5="D",IF(D5<6,"SI","NO"),IF(A5="C",IF(D5<11,"SI","NO"),IF(A5="A",IF(D5<21,"SI","NO"))))) -> NO | H5: P | I5: OSPINA | J5: Nap | K5: 1 | L5: =IF(H5="P",IF(K5<7,"SI","NO"),IF(H5="D",IF(K5<11,"SI","NO"),IF(H5="C",IF(K5<21,"SI","NO"),IF(H5="A",IF(K5<41,"SI","NO"))))) -> SI | M5: =IF(H5="P",IF(K5<4,"SI","NO"),IF(H5="D",IF(K5<6,"SI","NO"),IF(H5="C",IF(K5<11,"SI","NO"),IF(H5="A",IF(K5<21,"SI","NO"))))) -> SI | O5: P | P5: OSPINA | Q5: Nap | R5: 26 | S5: =IF(O5="P",IF(R5<7,"SI","NO"),IF(O5="D",IF(R5<11,"SI","NO"),IF(O5="C",IF(R5<21,"SI","NO"),IF(O5="A",IF(R5<41,"SI","NO"))))) -> NO | T5: =IF(O5="P",IF(R5<4,"SI","NO"),IF(O5="D",IF(R5<6,"SI","NO"),IF(O5="C",IF(R5<11,"SI","NO"),IF(O5="A",IF(R5<21,"SI","NO"))))) -> NO | V5: P | W5: TERRACCIANO | X5: Fio | Y5: 1 | Z5: =IF(V5="P",IF(Y5<7,"SI","NO"),IF(V5="D",IF(Y5<11,"SI","NO"),IF(V5="C",IF(Y5<21,"SI","NO"),IF(V5="A",IF(Y5<41,"SI","NO"))))) -> SI | AA5: =IF(V5="P",IF(Y5<4,"SI","NO"),IF(V5="D",IF(Y5<6,"SI","NO"),IF(V5="C",IF(Y5<11,"SI","NO"),IF(V5="A",IF(Y5<21,"SI","NO"))))) -> SI | AC5: P | AD5: MUSSO | AE5: Udi | AF5: 1 | AG5: =IF(AC5="P",IF(AF5<7,"SI","NO"),IF(AC5="D",IF(AF5<11,"SI","NO"),IF(AC5="C",IF(AF5<21,"SI","NO"),IF(AC5="A",IF(AF5<41,"SI","NO"))))) -> SI | AH5: =IF(AC5="P",IF(AF5<4,"SI","NO"),IF(AC5="D",IF(AF5<6,"SI","NO"),IF(AC5="C",IF(AF5<11,"SI","NO"),IF(AC5="A",IF(AF5<21,"SI","NO"))))) -> SI | AJ5: P | AK5: PADELLI | AL5: Int | AM5: 1 | AN5: =IF(AJ5="P",IF(AM5<7,"SI","NO"),IF(AJ5="D",IF(AM5<11,"SI","NO"),IF(AJ5="C",IF(AM5<21,"SI","NO"),IF(AJ5="A",IF(AM5<41,"SI","NO"))))) -> SI | AO5: =IF(AJ5="P",IF(AM5<4,"SI","NO"),IF(AJ5="D",IF(AM5<6,"SI","NO"),IF(AJ5="C",IF(AM5<11,"SI","NO"),IF(AJ5="A",IF(AM5<21,"SI","NO"))))) -> SI | AQ5: P | AR5: VIVIANO | AS5: SPA | AT5: 4 | AU5: =IF(AQ5="P",IF(AT5<7,"SI","NO"),IF(AQ5="D",IF(AT5<11,"SI","NO"),IF(AQ5="C",IF(AT5<21,"SI","NO"),IF(AQ5="A",IF(AT5<41,"SI","NO"))))) -> SI | AV5: =IF(AQ5="P",IF(AT5<4,"SI","NO"),IF(AQ5="D",IF(AT5<6,"SI","NO"),IF(AQ5="C",IF(AT5<11,"SI","NO"),IF(AQ5="A",IF(AT5<21,"SI","NO"))))) -> NO | AX5: P | AY5: CRAGNO | AZ5: Cag | BA5: 11 | BB5: =IF(AX5="P",IF(BA5<7,"SI","NO"),IF(AX5="D",IF(BA5<11,"SI","NO"),IF(AX5="C",IF(BA5<21,"SI","NO"),IF(AX5="A",IF(BA5<41,"SI","NO"))))) -> NO | BC5: =IF(AX5="P",IF(BA5<4,"SI","NO"),IF(AX5="D",IF(BA5<6,"SI","NO"),IF(AX5="C",IF(BA5<11,"SI","NO"),IF(AX5="A",IF(BA5<21,"SI","NO"))))) -> NO | BE5: P | BF5: PADELLI | BG5: Int | BH5: 1 | BI5: =IF(BE5="P",IF(BH5<7,"SI","NO"),IF(BE5="D",IF(BH5<11,"SI","NO"),IF(BE5="C",IF(BH5<21,"SI","NO"),IF(BE5="A",IF(BH5<41,"SI","NO"))))) -> SI | BJ5: =IF(BE5="P",IF(BH5<4,"SI","NO"),IF(BE5="D",IF(BH5<6,"SI","NO"),IF(BE5="C",IF(BH5<11,"SI","NO"),IF(BE5="A",IF(BH5<21,"SI","NO"))))) -> SI | BL5: P | BM5: PROVEDEL | BN5: Emp | BO5: 1 | BP5: =IF(BL5="P",IF(BO5<7,"SI","NO"),IF(BL5="D",IF(BO5<11,"SI","NO"),IF(BL5="C",IF(BO5<21,"SI","NO"),IF(BL5="A",IF(BO5<41,"SI","NO"))))) -> SI | BQ5: =IF(BL5="P",IF(BO5<4,"SI","NO"),IF(BL5="D",IF(BO5<6,"SI","NO"),IF(BL5="C",IF(BO5<11,"SI","NO"),IF(BL5="A",IF(BO5<21,"SI","NO"))))) -> SI
A6: D | B6: CONTI | C6: Mil | D6: 7 | E6: =IF(A6="P",IF(D6<7,"SI","NO"),IF(A6="D",IF(D6<11,"SI","NO"),IF(A6="C",IF(D6<21,"SI","NO"),IF(A6="A",IF(D6<41,"SI","NO"))))) -> SI | F6: =IF(A6="P",IF(D6<4,"SI","NO"),IF(A6="D",IF(D6<6,"SI","NO"),IF(A6="C",IF(D6<11,"SI","NO"),IF(A6="A",IF(D6<21,"SI","NO"))))) -> NO | H6: D | I6: BONUCCI | J6: Juv | K6: 24 | L6: =IF(H6="P",IF(K6<7,"SI","NO"),IF(H6="D",IF(K6<11,"SI","NO"),IF(H6="C",IF(K6<21,"SI","NO"),IF(H6="A",IF(K6<41,"SI","NO"))))) -> NO | M6: =IF(H6="P",IF(K6<4,"SI","NO"),IF(H6="D",IF(K6<6,"SI","NO"),IF(H6="C",IF(K6<11,"SI","NO"),IF(H6="A",IF(K6<21,"SI","NO"))))) -> NO | O6: D | P6: HYSAJ | Q6: Nap | R6: 5 | S6: =IF(O6="P",IF(R6<7,"SI","NO"),IF(O6="D",IF(R6<11,"SI","NO"),IF(O6="C",IF(R6<21,"SI","NO"),IF(O6="A",IF(R6<41,"SI","NO"))))) -> SI | T6: =IF(O6="P",IF(R6<4,"SI","NO"),IF(O6="D",IF(R6<6,"SI","NO"),IF(O6="C",IF(R6<11,"SI","NO"),IF(O6="A",IF(R6<21,"SI","NO"))))) -> SI | V6: D | W6: MATTIELLO | X6: Bol | Y6: 1 | Z6: =IF(V6="P",IF(Y6<7,"SI","NO"),IF(V6="D",IF(Y6<11,"SI","NO"),IF(V6="C",IF(Y6<21,"SI","NO"),IF(V6="A",IF(Y6<41,"SI","NO"))))) -> SI | AA6: =IF(V6="P",IF(Y6<4,"SI","NO"),IF(V6="D",IF(Y6<6,"SI","NO"),IF(V6="C",IF(Y6<11,"SI","NO"),IF(V6="A",IF(Y6<21,"SI","NO"))))) -> SI | AC6: D | AD6: DE SCIGLIO | AE6: Juv | AF6: 1 | AG6: =IF(AC6="P",IF(AF6<7,"SI","NO"),IF(AC6="D",IF(AF6<11,"SI","NO"),IF(AC6="C",IF(AF6<21,"SI","NO"),IF(AC6="A",IF(AF6<41,"SI","NO"))))) -> SI | AH6: =IF(AC6="P",IF(AF6<4,"SI","NO"),IF(AC6="D",IF(AF6<6,"SI","NO"),IF(AC6="C",IF(AF6<11,"SI","NO"),IF(AC6="A",IF(AF6<21,"SI","NO"))))) -> SI | AJ6: D | AK6: D'AMBROSIO | AL6: Int | AM6: 1 | AN6: =IF(AJ6="P",IF(AM6<7,"SI","NO"),IF(AJ6="D",IF(AM6<11,"SI","NO"),IF(AJ6="C",IF(AM6<21,"SI","NO"),IF(AJ6="A",IF(AM6<41,"SI","NO"))))) -> SI | AO6: =IF(AJ6="P",IF(AM6<4,"SI","NO"),IF(AJ6="D",IF(AM6<6,"SI","NO"),IF(AJ6="C",IF(AM6<11,"SI","NO"),IF(AJ6="A",IF(AM6<21,"SI","NO"))))) -> SI | AQ6: D | AR6: CACCIATORE | AS6: Cag | AT6: 4 | AU6: =IF(AQ6="P",IF(AT6<7,"SI","NO"),IF(AQ6="D",IF(AT6<11,"SI","NO"),IF(AQ6="C",IF(AT6<21,"SI","NO"),IF(AQ6="A",IF(AT6<41,"SI","NO"))))) -> SI | AV6: =IF(AQ6="P",IF(AT6<4,"SI","NO"),IF(AQ6="D",IF(AT6<6,"SI","NO"),IF(AQ6="C",IF(AT6<11,"SI","NO"),IF(AQ6="A",IF(AT6<21,"SI","NO"))))) -> SI | AX6: D | AY6: DE SCIGLIO | AZ6: Juv | BA6: 3 | BB6: =IF(AX6="P",IF(BA6<7,"SI","NO"),IF(AX6="D",IF(BA6<11,"SI","NO"),IF(AX6="C",IF(BA6<21,"SI","NO"),IF(AX6="A",IF(BA6<41,"SI","NO"))))) -> SI | BC6: =IF(AX6="P",IF(BA6<4,"SI","NO"),IF(AX6="D",IF(BA6<6,"SI","NO"),IF(AX6="C",IF(BA6<11,"SI","NO"),IF(AX6="A",IF(BA6<21,"SI","NO"))))) -> SI | BE6: D | BF6: BIRAGHI | BG6: Fio | BH6: 3 | BI6: =IF(BE6="P",IF(BH6<7,"SI","NO"),IF(BE6="D",IF(BH6<11,"SI","NO"),IF(BE6="C",IF(BH6<21,"SI","NO"),IF(BE6="A",IF(BH6<41,"SI","NO"))))) -> SI | BJ6: =IF(BE6="P",IF(BH6<4,"SI","NO"),IF(BE6="D",IF(BH6<6,"SI","NO"),IF(BE6="C",IF(BH6<11,"SI","NO"),IF(BE6="A",IF(BH6<21,"SI","NO"))))) -> SI | BL6: D | BM6: IZZO | BN6: Tor | BO6: 5 | BP6: =IF(BL6="P",IF(BO6<7,"SI","NO"),IF(BL6="D",IF(BO6<11,"SI","NO"),IF(BL6="C",IF(BO6<21,"SI","NO"),IF(BL6="A",IF(BO6<41,"SI","NO"))))) -> SI | BQ6: =IF(BL6="P",IF(BO6<4,"SI","NO"),IF(BL6="D",IF(BO6<6,"SI","NO"),IF(BL6="C",IF(BO6<11,"SI","NO"),IF(BL6="A",IF(BO6<21,"SI","NO"))))) -> SI
A7: D | B7: GAGLIOLO | C7: Par | D7: 2 | E7: =IF(A7="P",IF(D7<7,"SI","NO"),IF(A7="D",IF(D7<11,"SI","NO"),IF(A7="C",IF(D7<21,"SI","NO"),IF(A7="A",IF(D7<41,"SI","NO"))))) -> SI | F7: =IF(A7="P",IF(D7<4,"SI","NO"),IF(A7="D",IF(D7<6,"SI","NO"),IF(A7="C",IF(D7<11,"SI","NO"),IF(A7="A",IF(D7<21,"SI","NO"))))) -> SI | H7: D | I7: RUGANI | J7: Juv | K7: 1 | L7: =IF(H7="P",IF(K7<7,"SI","NO"),IF(H7="D",IF(K7<11,"SI","NO"),IF(H7="C",IF(K7<21,"SI","NO"),IF(H7="A",IF(K7<41,"SI","NO"))))) -> SI | M7: =IF(H7="P",IF(K7<4,"SI","NO"),IF(H7="D",IF(K7<6,"SI","NO"),IF(H7="C",IF(K7<11,"SI","NO"),IF(H7="A",IF(K7<21,"SI","NO"))))) -> SI | O7: D | P7: FLORENZI | Q7: Rom | R7: 20 | S7: =IF(O7="P",IF(R7<7,"SI","NO"),IF(O7="D",IF(R7<11,"SI","NO"),IF(O7="C",IF(R7<21,"SI","NO"),IF(O7="A",IF(R7<41,"SI","NO"))))) -> NO | T7: =IF(O7="P",IF(R7<4,"SI","NO"),IF(O7="D",IF(R7<6,"SI","NO"),IF(O7="C",IF(R7<11,"SI","NO"),IF(O7="A",IF(R7<21,"SI","NO"))))) -> NO | V7: D | W7: MARIO RUI | X7: Nap | Y7: 1 | Z7: =IF(V7="P",IF(Y7<7,"SI","NO"),IF(V7="D",IF(Y7<11,"SI","NO"),IF(V7="C",IF(Y7<21,"SI","NO"),IF(V7="A",IF(Y7<41,"SI","NO"))))) -> SI | AA7: =IF(V7="P",IF(Y7<4,"SI","NO"),IF(V7="D",IF(Y7<6,"SI","NO"),IF(V7="C",IF(Y7<11,"SI","NO"),IF(V7="A",IF(Y7<21,"SI","NO"))))) -> SI | AC7: D | AD7: ALBIOL | AE7: Nap | AF7: 8 | AG7: =IF(AC7="P",IF(AF7<7,"SI","NO"),IF(AC7="D",IF(AF7<11,"SI","NO"),IF(AC7="C",IF(AF7<21,"SI","NO"),IF(AC7="A",IF(AF7<41,"SI","NO"))))) -> SI | AH7: =IF(AC7="P",IF(AF7<4,"SI","NO"),IF(AC7="D",IF(AF7<6,"SI","NO"),IF(AC7="C",IF(AF7<11,"SI","NO"),IF(AC7="A",IF(AF7<21,"SI","NO"))))) -> NO | AJ7: D | AK7: DANILO | AL7: Bol | AM7: 4 | AN7: =IF(AJ7="P",IF(AM7<7,"SI","NO"),IF(AJ7="D",IF(AM7<11,"SI","NO"),IF(AJ7="C",IF(AM7<21,"SI","NO"),IF(AJ7="A",IF(AM7<41,"SI","NO"))))) -> SI | AO7: =IF(AJ7="P",IF(AM7<4,"SI","NO"),IF(AJ7="D",IF(AM7<6,"SI","NO"),IF(AJ7="C",IF(AM7<11,"SI","NO"),IF(AJ7="A",IF(AM7<21,"SI","NO"))))) -> SI | AQ7: D | AR7: BIRAGHI | AS7: Fio | AT7: 3 | AU7: =IF(AQ7="P",IF(AT7<7,"SI","NO"),IF(AQ7="D",IF(AT7<11,"SI","NO"),IF(AQ7="C",IF(AT7<21,"SI","NO"),IF(AQ7="A",IF(AT7<41,"SI","NO"))))) -> SI | AV7: =IF(AQ7="P",IF(AT7<4,"SI","NO"),IF(AQ7="D",IF(AT7<6,"SI","NO"),IF(AQ7="C",IF(AT7<11,"SI","NO"),IF(AQ7="A",IF(AT7<21,"SI","NO"))))) -> SI | AX7: D | AY7: FLORENZI | AZ7: Rom | BA7: 23 | BB7: =IF(AX7="P",IF(BA7<7,"SI","NO"),IF(AX7="D",IF(BA7<11,"SI","NO"),IF(AX7="C",IF(BA7<21,"SI","NO"),IF(AX7="A",IF(BA7<41,"SI","NO"))))) -> NO | BC7: =IF(AX7="P",IF(BA7<4,"SI","NO"),IF(AX7="D",IF(BA7<6,"SI","NO"),IF(AX7="C",IF(BA7<11,"SI","NO"),IF(AX7="A",IF(BA7<21,"SI","NO"))))) -> NO | BE7: D | BF7: DE VRIJ | BG7: Int | BH7: 29 | BI7: =IF(BE7="P",IF(BH7<7,"SI","NO"),IF(BE7="D",IF(BH7<11,"SI","NO"),IF(BE7="C",IF(BH7<21,"SI","NO"),IF(BE7="A",IF(BH7<41,"SI","NO"))))) -> NO | BJ7: =IF(BE7="P",IF(BH7<4,"SI","NO"),IF(BE7="D",IF(BH7<6,"SI","NO"),IF(BE7="C",IF(BH7<11,"SI","NO"),IF(BE7="A",IF(BH7<21,"SI","NO"))))) -> NO | BL7: D | BM7: MIRANDA | BN7: Int | BO7: 7 | BP7: =IF(BL7="P",IF(BO7<7,"SI","NO"),IF(BL7="D",IF(BO7<11,"SI","NO"),IF(BL7="C",IF(BO7<21,"SI","NO"),IF(BL7="A",IF(BO7<41,"SI","NO"))))) -> SI | BQ7: =IF(BL7="P",IF(BO7<4,"SI","NO"),IF(BL7="D",IF(BO7<6,"SI","NO"),IF(BL7="C",IF(BO7<11,"SI","NO"),IF(BL7="A",IF(BO7<21,"SI","NO"))))) -> NO
A8: D | B8: PASQUAL | C8: Emp | D8: 1 | E8: =IF(A8="P",IF(D8<7,"SI","NO"),IF(A8="D",IF(D8<11,"SI","NO"),IF(A8="C",IF(D8<21,"SI","NO"),IF(A8="A",IF(D8<41,"SI","NO"))))) -> SI | F8: =IF(A8="P",IF(D8<4,"SI","NO"),IF(A8="D",IF(D8<6,"SI","NO"),IF(A8="C",IF(D8<11,"SI","NO"),IF(A8="A",IF(D8<21,"SI","NO"))))) -> SI | H8: D | I8: FLORENZI | J8: Rom | K8: 9 | L8: =IF(H8="P",IF(K8<7,"SI","NO"),IF(H8="D",IF(K8<11,"SI","NO"),IF(H8="C",IF(K8<21,"SI","NO"),IF(H8="A",IF(K8<41,"SI","NO"))))) -> SI | M8: =IF(H8="P",IF(K8<4,"SI","NO"),IF(H8="D",IF(K8<6,"SI","NO"),IF(H8="C",IF(K8<11,"SI","NO"),IF(H8="A",IF(K8<21,"SI","NO"))))) -> NO | O8: D | P8: ALEX SANDRO | Q8: Juv | R8: 16 | S8: =IF(O8="P",IF(R8<7,"SI","NO"),IF(O8="D",IF(R8<11,"SI","NO"),IF(O8="C",IF(R8<21,"SI","NO"),IF(O8="A",IF(R8<41,"SI","NO"))))) -> NO | T8: =IF(O8="P",IF(R8<4,"SI","NO"),IF(O8="D",IF(R8<6,"SI","NO"),IF(O8="C",IF(R8<11,"SI","NO"),IF(O8="A",IF(R8<21,"SI","NO"))))) -> NO | V8: D | W8: DE SILVESTRI | X8: Tor | Y8: 1 | Z8: =IF(V8="P",IF(Y8<7,"SI","NO"),IF(V8="D",IF(Y8<11,"SI","NO"),IF(V8="C",IF(Y8<21,"SI","NO"),IF(V8="A",IF(Y8<41,"SI","NO"))))) -> SI | AA8: =IF(V8="P",IF(Y8<4,"SI","NO"),IF(V8="D",IF(Y8<6,"SI","NO"),IF(V8="C",IF(Y8<11,"SI","NO"),IF(V8="A",IF(Y8<21,"SI","NO"))))) -> SI | AC8: D | AD8: SILVESTRE | AE8: Emp | AF8: 2 | AG8: =IF(AC8="P",IF(AF8<7,"SI","NO"),IF(AC8="D",IF(AF8<11,"SI","NO"),IF(AC8="C",IF(AF8<21,"SI","NO"),IF(AC8="A",IF(AF8<41,"SI","NO"))))) -> SI | AH8: =IF(AC8="P",IF(AF8<4,"SI","NO"),IF(AC8="D",IF(AF8<6,"SI","NO"),IF(AC8="C",IF(AF8<11,"SI","NO"),IF(AC8="A",IF(AF8<21,"SI","NO"))))) -> SI | AJ8: D | AK8: SKRINIAR | AL8: Int | AM8: 7 | AN8: =IF(AJ8="P",IF(AM8<7,"SI","NO"),IF(AJ8="D",IF(AM8<11,"SI","NO"),IF(AJ8="C",IF(AM8<21,"SI","NO"),IF(AJ8="A",IF(AM8<41,"SI","NO"))))) -> SI | AO8: =IF(AJ8="P",IF(AM8<4,"SI","NO"),IF(AJ8="D",IF(AM8<6,"SI","NO"),IF(AJ8="C",IF(AM8<11,"SI","NO"),IF(AJ8="A",IF(AM8<21,"SI","NO"))))) -> NO | AQ8: D | AR8: GOLDANIGA | AS8: Fro | AT8: 1 | AU8: =IF(AQ8="P",IF(AT8<7,"SI","NO"),IF(AQ8="D",IF(AT8<11,"SI","NO"),IF(AQ8="C",IF(AT8<21,"SI","NO"),IF(AQ8="A",IF(AT8<41,"SI","NO"))))) -> SI | AV8: =IF(AQ8="P",IF(AT8<4,"SI","NO"),IF(AQ8="D",IF(AT8<6,"SI","NO"),IF(AQ8="C",IF(AT8<11,"SI","NO"),IF(AQ8="A",IF(AT8<21,"SI","NO"))))) -> SI | AX8: D | AY8: FAZIO | AZ8: Rom | BA8: 10 | BB8: =IF(AX8="P",IF(BA8<7,"SI","NO"),IF(AX8="D",IF(BA8<11,"SI","NO"),IF(AX8="C",IF(BA8<21,"SI","NO"),IF(AX8="A",IF(BA8<41,"SI","NO"))))) -> SI | BC8: =IF(AX8="P",IF(BA8<4,"SI","NO"),IF(AX8="D",IF(BA8<6,"SI","NO"),IF(AX8="C",IF(BA8<11,"SI","NO"),IF(AX8="A",IF(BA8<21,"SI","NO"))))) -> NO | BE8: D | BF8: MANOLAS | BG8: Rom | BH8: 25 | BI8: =IF(BE8="P",IF(BH8<7,"SI","NO"),IF(BE8="D",IF(BH8<11,"SI","NO"),IF(BE8="C",IF(BH8<21,"SI","NO"),IF(BE8="A",IF(BH8<41,"SI","NO"))))) -> NO | BJ8: =IF(BE8="P",IF(BH8<4,"SI","NO"),IF(BE8="D",IF(BH8<6,"SI","NO"),IF(BE8="C",IF(BH8<11,"SI","NO"),IF(BE8="A",IF(BH8<21,"SI","NO"))))) -> NO | BL8: D | BM8: ASAMOAH | BN8: Int | BO8: 12 | BP8: =IF(BL8="P",IF(BO8<7,"SI","NO"),IF(BL8="D",IF(BO8<11,"SI","NO"),IF(BL8="C",IF(BO8<21,"SI","NO"),IF(BL8="A",IF(BO8<41,"SI","NO"))))) -> NO | BQ8: =IF(BL8="P",IF(BO8<4,"SI","NO"),IF(BL8="D",IF(BO8<6,"SI","NO"),IF(BL8="C",IF(BO8<11,"SI","NO"),IF(BL8="A",IF(BO8<21,"SI","NO"))))) -> NO
A9: D | B9: CALABRIA | C9: Mil | D9: 6 | E9: =IF(A9="P",IF(D9<7,"SI","NO"),IF(A9="D",IF(D9<11,"SI","NO"),IF(A9="C",IF(D9<21,"SI","NO"),IF(A9="A",IF(D9<41,"SI","NO"))))) -> SI | F9: =IF(A9="P",IF(D9<4,"SI","NO"),IF(A9="D",IF(D9<6,"SI","NO"),IF(A9="C",IF(D9<11,"SI","NO"),IF(A9="A",IF(D9<21,"SI","NO"))))) -> NO | H9: D | I9: KARSDORP | J9: Rom | K9: 1 | L9: =IF(H9="P",IF(K9<7,"SI","NO"),IF(H9="D",IF(K9<11,"SI","NO"),IF(H9="C",IF(K9<21,"SI","NO"),IF(H9="A",IF(K9<41,"SI","NO"))))) -> SI | M9: =IF(H9="P",IF(K9<4,"SI","NO"),IF(H9="D",IF(K9<6,"SI","NO"),IF(H9="C",IF(K9<11,"SI","NO"),IF(H9="A",IF(K9<21,"SI","NO"))))) -> SI | O9: D | P9: KARSDORP | Q9: Rom | R9: 1 | S9: =IF(O9="P",IF(R9<7,"SI","NO"),IF(O9="D",IF(R9<11,"SI","NO"),IF(O9="C",IF(R9<21,"SI","NO"),IF(O9="A",IF(R9<41,"SI","NO"))))) -> SI | T9: =IF(O9="P",IF(R9<4,"SI","NO"),IF(O9="D",IF(R9<6,"SI","NO"),IF(O9="C",IF(R9<11,"SI","NO"),IF(O9="A",IF(R9<21,"SI","NO"))))) -> SI | V9: D | W9: CALDARA | X9: Mil | Y9: 1 | Z9: =IF(V9="P",IF(Y9<7,"SI","NO"),IF(V9="D",IF(Y9<11,"SI","NO"),IF(V9="C",IF(Y9<21,"SI","NO"),IF(V9="A",IF(Y9<41,"SI","NO"))))) -> SI | AA9: =IF(V9="P",IF(Y9<4,"SI","NO"),IF(V9="D",IF(Y9<6,"SI","NO"),IF(V9="C",IF(Y9<11,"SI","NO"),IF(V9="A",IF(Y9<21,"SI","NO"))))) -> SI | AC9: D | AD9: GOSENS | AE9: Ata | AF9: 4 | AG9: =IF(AC9="P",IF(AF9<7,"SI","NO"),IF(AC9="D",IF(AF9<11,"SI","NO"),IF(AC9="C",IF(AF9<21,"SI","NO"),IF(AC9="A",IF(AF9<41,"SI","NO"))))) -> SI | AH9: =IF(AC9="P",IF(AF9<4,"SI","NO"),IF(AC9="D",IF(AF9<6,"SI","NO"),IF(AC9="C",IF(AF9<11,"SI","NO"),IF(AC9="A",IF(AF9<21,"SI","NO"))))) -> SI | AJ9: D | AK9: FERRARI G | AL9: Sas | AM9: 3 | AN9: =IF(AJ9="P",IF(AM9<7,"SI","NO"),IF(AJ9="D",IF(AM9<11,"SI","NO"),IF(AJ9="C",IF(AM9<21,"SI","NO"),IF(AJ9="A",IF(AM9<41,"SI","NO"))))) -> SI | AO9: =IF(AJ9="P",IF(AM9<4,"SI","NO"),IF(AJ9="D",IF(AM9<6,"SI","NO"),IF(AJ9="C",IF(AM9<11,"SI","NO"),IF(AJ9="A",IF(AM9<21,"SI","NO"))))) -> SI | AQ9: D | AR9: ZUKANOVIC | AS9: Gen | AT9: 1 | AU9: =IF(AQ9="P",IF(AT9<7,"SI","NO"),IF(AQ9="D",IF(AT9<11,"SI","NO"),IF(AQ9="C",IF(AT9<21,"SI","NO"),IF(AQ9="A",IF(AT9<41,"SI","NO"))))) -> SI | AV9: =IF(AQ9="P",IF(AT9<4,"SI","NO"),IF(AQ9="D",IF(AT9<6,"SI","NO"),IF(AQ9="C",IF(AT9<11,"SI","NO"),IF(AQ9="A",IF(AT9<21,"SI","NO"))))) -> SI | AX9: D | AY9: HATEBOER | AZ9: Ata | BA9: 9 | BB9: =IF(AX9="P",IF(BA9<7,"SI","NO"),IF(AX9="D",IF(BA9<11,"SI","NO"),IF(AX9="C",IF(BA9<21,"SI","NO"),IF(AX9="A",IF(BA9<41,"SI","NO"))))) -> SI | BC9: =IF(AX9="P",IF(BA9<4,"SI","NO"),IF(AX9="D",IF(BA9<6,"SI","NO"),IF(AX9="C",IF(BA9<11,"SI","NO"),IF(AX9="A",IF(BA9<21,"SI","NO"))))) -> NO | BE9: D | BF9: DE SILVESTRI | BG9: Tor | BH9: 9 | BI9: =IF(BE9="P",IF(BH9<7,"SI","NO"),IF(BE9="D",IF(BH9<11,"SI","NO"),IF(BE9="C",IF(BH9<21,"SI","NO"),IF(BE9="A",IF(BH9<41,"SI","NO"))))) -> SI | BJ9: =IF(BE9="P",IF(BH9<4,"SI","NO"),IF(BE9="D",IF(BH9<6,"SI","NO"),IF(BE9="C",IF(BH9<11,"SI","NO"),IF(BE9="A",IF(BH9<21,"SI","NO"))))) -> NO | BL9: D | BM9: ALBIOL | BN9: Nap | BO9: 6 | BP9: =IF(BL9="P",IF(BO9<7,"SI","NO"),IF(BL9="D",IF(BO9<11,"SI","NO"),IF(BL9="C",IF(BO9<21,"SI","NO"),IF(BL9="A",IF(BO9<41,"SI","NO"))))) -> SI | BQ9: =IF(BL9="P",IF(BO9<4,"SI","NO"),IF(BL9="D",IF(BO9<6,"SI","NO"),IF(BL9="C",IF(BO9<11,"SI","NO"),IF(BL9="A",IF(BO9<21,"SI","NO"))))) -> NO
A10: D | B10: SKRINIAR | C10: Int | D10: 21 | E10: =IF(A10="P",IF(D10<7,"SI","NO"),IF(A10="D",IF(D10<11,"SI","NO"),IF(A10="C",IF(D10<21,"SI","NO"),IF(A10="A",IF(D10<41,"SI","NO"))))) -> NO | F10: =IF(A10="P",IF(D10<4,"SI","NO"),IF(A10="D",IF(D10<6,"SI","NO"),IF(A10="C",IF(D10<11,"SI","NO"),IF(A10="A",IF(D10<21,"SI","NO"))))) -> NO | H10: D | I10: CASTAGNE | J10: Ata | K10: 2 | L10: =IF(H10="P",IF(K10<7,"SI","NO"),IF(H10="D",IF(K10<11,"SI","NO"),IF(H10="C",IF(K10<21,"SI","NO"),IF(H10="A",IF(K10<41,"SI","NO"))))) -> SI | M10: =IF(H10="P",IF(K10<4,"SI","NO"),IF(H10="D",IF(K10<6,"SI","NO"),IF(H10="C",IF(K10<11,"SI","NO"),IF(H10="A",IF(K10<21,"SI","NO"))))) -> SI | O10: D | P10: ROGERIO | Q10: Sas | R10: 1 | S10: =IF(O10="P",IF(R10<7,"SI","NO"),IF(O10="D",IF(R10<11,"SI","NO"),IF(O10="C",IF(R10<21,"SI","NO"),IF(O10="A",IF(R10<41,"SI","NO"))))) -> SI | T10: =IF(O10="P",IF(R10<4,"SI","NO"),IF(O10="D",IF(R10<6,"SI","NO"),IF(O10="C",IF(R10<11,"SI","NO"),IF(O10="A",IF(R10<21,"SI","NO"))))) -> SI | V10: D | W10: PALOMINO | X10: Ata | Y10: 1 | Z10: =IF(V10="P",IF(Y10<7,"SI","NO"),IF(V10="D",IF(Y10<11,"SI","NO"),IF(V10="C",IF(Y10<21,"SI","NO"),IF(V10="A",IF(Y10<41,"SI","NO"))))) -> SI | AA10: =IF(V10="P",IF(Y10<4,"SI","NO"),IF(V10="D",IF(Y10<6,"SI","NO"),IF(V10="C",IF(Y10<11,"SI","NO"),IF(V10="A",IF(Y10<21,"SI","NO"))))) -> SI | AC10: D | AD10: MILENKOVIC | AE10: Fio | AF10: 8 | AG10: =IF(AC10="P",IF(AF10<7,"SI","NO"),IF(AC10="D",IF(AF10<11,"SI","NO"),IF(AC10="C",IF(AF10<21,"SI","NO"),IF(AC10="A",IF(AF10<41,"SI","NO"))))) -> SI | AH10: =IF(AC10="P",IF(AF10<4,"SI","NO"),IF(AC10="D",IF(AF10<6,"SI","NO"),IF(AC10="C",IF(AF10<11,"SI","NO"),IF(AC10="A",IF(AF10<21,"SI","NO"))))) -> NO | AJ10: D | AK10: STRYGER LARSEN | AL10: Udi | AM10: 3 | AN10: =IF(AJ10="P",IF(AM10<7,"SI","NO"),IF(AJ10="D",IF(AM10<11,"SI","NO"),IF(AJ10="C",IF(AM10<21,"SI","NO"),IF(AJ10="A",IF(AM10<41,"SI","NO"))))) -> SI | AO10: =IF(AJ10="P",IF(AM10<4,"SI","NO"),IF(AJ10="D",IF(AM10<6,"SI","NO"),IF(AJ10="C",IF(AM10<11,"SI","NO"),IF(AJ10="A",IF(AM10<21,"SI","NO"))))) -> SI | AQ10: D | AR10: HELANDER | AS10: Bol | AT10: 1 | AU10: =IF(AQ10="P",IF(AT10<7,"SI","NO"),IF(AQ10="D",IF(AT10<11,"SI","NO"),IF(AQ10="C",IF(AT10<21,"SI","NO"),IF(AQ10="A",IF(AT10<41,"SI","NO"))))) -> SI | AV10: =IF(AQ10="P",IF(AT10<4,"SI","NO"),IF(AQ10="D",IF(AT10<6,"SI","NO"),IF(AQ10="C",IF(AT10<11,"SI","NO"),IF(AQ10="A",IF(AT10<21,"SI","NO"))))) -> SI | AX10: D | AY10: KARSDORP | AZ10: Rom | BA10: 1 | BB10: =IF(AX10="P",IF(BA10<7,"SI","NO"),IF(AX10="D",IF(BA10<11,"SI","NO"),IF(AX10="C",IF(BA10<21,"SI","NO"),IF(AX10="A",IF(BA10<41,"SI","NO"))))) -> SI | BC10: =IF(AX10="P",IF(BA10<4,"SI","NO"),IF(AX10="D",IF(BA10<6,"SI","NO"),IF(AX10="C",IF(BA10<11,"SI","NO"),IF(AX10="A",IF(BA10<21,"SI","NO"))))) -> SI | BE10: D | BF10: SILVESTRE | BG10: Emp | BH10: 3 | BI10: =IF(BE10="P",IF(BH10<7,"SI","NO"),IF(BE10="D",IF(BH10<11,"SI","NO"),IF(BE10="C",IF(BH10<21,"SI","NO"),IF(BE10="A",IF(BH10<41,"SI","NO"))))) -> SI | BJ10: =IF(BE10="P",IF(BH10<4,"SI","NO"),IF(BE10="D",IF(BH10<6,"SI","NO"),IF(BE10="C",IF(BH10<11,"SI","NO"),IF(BE10="A",IF(BH10<21,"SI","NO"))))) -> SI | BL10: D | BM10: ANSALDI | BN10: Tor | BO10: 4 | BP10: =IF(BL10="P",IF(BO10<7,"SI","NO"),IF(BL10="D",IF(BO10<11,"SI","NO"),IF(BL10="C",IF(BO10<21,"SI","NO"),IF(BL10="A",IF(BO10<41,"SI","NO"))))) -> SI | BQ10: =IF(BL10="P",IF(BO10<4,"SI","NO"),IF(BL10="D",IF(BO10<6,"SI","NO"),IF(BL10="C",IF(BO10<11,"SI","NO"),IF(BL10="A",IF(BO10<21,"SI","NO"))))) -> SI
A11: D | B11: CALDARA | C11: Mil | D11: 14 | E11: =IF(A11="P",IF(D11<7,"SI","NO"),IF(A11="D",IF(D11<11,"SI","NO"),IF(A11="C",IF(D11<21,"SI","NO"),IF(A11="A",IF(D11<41,"SI","NO"))))) -> NO | F11: =IF(A11="P",IF(D11<4,"SI","NO"),IF(A11="D",IF(D11<6,"SI","NO"),IF(A11="C",IF(D11<11,"SI","NO"),IF(A11="A",IF(D11<21,"SI","NO"))))) -> NO | H11: D | I11: LUIZ FELIPE | J11: Laz | K11: 1 | L11: =IF(H11="P",IF(K11<7,"SI","NO"),IF(H11="D",IF(K11<11,"SI","NO"),IF(H11="C",IF(K11<21,"SI","NO"),IF(H11="A",IF(K11<41,"SI","NO"))))) -> SI | M11: =IF(H11="P",IF(K11<4,"SI","NO"),IF(H11="D",IF(K11<6,"SI","NO"),IF(H11="C",IF(K11<11,"SI","NO"),IF(H11="A",IF(K11<21,"SI","NO"))))) -> SI | O11: D | P11: CEDRIC SOARES | Q11: Int | R11: 9 | S11: =IF(O11="P",IF(R11<7,"SI","NO"),IF(O11="D",IF(R11<11,"SI","NO"),IF(O11="C",IF(R11<21,"SI","NO"),IF(O11="A",IF(R11<41,"SI","NO"))))) -> SI | T11: =IF(O11="P",IF(R11<4,"SI","NO"),IF(O11="D",IF(R11<6,"SI","NO"),IF(O11="C",IF(R11<11,"SI","NO"),IF(O11="A",IF(R11<21,"SI","NO"))))) -> NO | V11: D | W11: CASTAGNE | X11: Ata | Y11: 10 | Z11: =IF(V11="P",IF(Y11<7,"SI","NO"),IF(V11="D",IF(Y11<11,"SI","NO"),IF(V11="C",IF(Y11<21,"SI","NO"),IF(V11="A",IF(Y11<41,"SI","NO"))))) -> SI | AA11: =IF(V11="P",IF(Y11<4,"SI","NO"),IF(V11="D",IF(Y11<6,"SI","NO"),IF(V11="C",IF(Y11<11,"SI","NO"),IF(V11="A",IF(Y11<21,"SI","NO"))))) -> NO | AC11: D | AD11: RODRIGUEZ R | AE11: Mil | AF11: 8 | AG11: =IF(AC11="P",IF(AF11<7,"SI","NO"),IF(AC11="D",IF(AF11<11,"SI","NO"),IF(AC11="C",IF(AF11<21,"SI","NO"),IF(AC11="A",IF(AF11<41,"SI","NO"))))) -> SI | AH11: =IF(AC11="P",IF(AF11<4,"SI","NO"),IF(AC11="D",IF(AF11<6,"SI","NO"),IF(AC11="C",IF(AF11<11,"SI","NO"),IF(AC11="A",IF(AF11<21,"SI","NO"))))) -> NO | AJ11: D | AK11: DIJKS | AL11: Bol | AM11: 6 | AN11: =IF(AJ11="P",IF(AM11<7,"SI","NO"),IF(AJ11="D",IF(AM11<11,"SI","NO"),IF(AJ11="C",IF(AM11<21,"SI","NO"),IF(AJ11="A",IF(AM11<41,"SI","NO"))))) -> SI | AO11: =IF(AJ11="P",IF(AM11<4,"SI","NO"),IF(AJ11="D",IF(AM11<6,"SI","NO"),IF(AJ11="C",IF(AM11<11,"SI","NO"),IF(AJ11="A",IF(AM11<21,"SI","NO"))))) -> NO | AQ11: D | AR11: FAZIO | AS11: Rom | AT11: 9 | AU11: =IF(AQ11="P",IF(AT11<7,"SI","NO"),IF(AQ11="D",IF(AT11<11,"SI","NO"),IF(AQ11="C",IF(AT11<21,"SI","NO"),IF(AQ11="A",IF(AT11<41,"SI","NO"))))) -> SI | AV11: =IF(AQ11="P",IF(AT11<4,"SI","NO"),IF(AQ11="D",IF(AT11<6,"SI","NO"),IF(AQ11="C",IF(AT11<11,"SI","NO"),IF(AQ11="A",IF(AT11<21,"SI","NO"))))) -> NO | AX11: D | AY11: N'KOULOU | AZ11: Tor | BA11: 19 | BB11: =IF(AX11="P",IF(BA11<7,"SI","NO"),IF(AX11="D",IF(BA11<11,"SI","NO"),IF(AX11="C",IF(BA11<21,"SI","NO"),IF(AX11="A",IF(BA11<41,"SI","NO"))))) -> NO | BC11: =IF(AX11="P",IF(BA11<4,"SI","NO"),IF(AX11="D",IF(BA11<6,"SI","NO"),IF(AX11="C",IF(BA11<11,"SI","NO"),IF(AX11="A",IF(BA11<21,"SI","NO"))))) -> NO | BE11: D | BF11: GOSENS | BG11: Ata | BH11: 7 | BI11: =IF(BE11="P",IF(BH11<7,"SI","NO"),IF(BE11="D",IF(BH11<11,"SI","NO"),IF(BE11="C",IF(BH11<21,"SI","NO"),IF(BE11="A",IF(BH11<41,"SI","NO"))))) -> SI | BJ11: =IF(BE11="P",IF(BH11<4,"SI","NO"),IF(BE11="D",IF(BH11<6,"SI","NO"),IF(BE11="C",IF(BH11<11,"SI","NO"),IF(BE11="A",IF(BH11<21,"SI","NO"))))) -> NO | BL11: D | BM11: MILENKOVIC | BN11: Fio | BO11: 2 | BP11: =IF(BL11="P",IF(BO11<7,"SI","NO"),IF(BL11="D",IF(BO11<11,"SI","NO"),IF(BL11="C",IF(BO11<21,"SI","NO"),IF(BL11="A",IF(BO11<41,"SI","NO"))))) -> SI | BQ11: =IF(BL11="P",IF(BO11<4,"SI","NO"),IF(BL11="D",IF(BO11<6,"SI","NO"),IF(BL11="C",IF(BO11<11,"SI","NO"),IF(BL11="A",IF(BO11<21,"SI","NO"))))) -> SI
A12: D | B12: FERRARI G | C12: Sas | D12: 13 | E12: =IF(A12="P",IF(D12<7,"SI","NO"),IF(A12="D",IF(D12<11,"SI","NO"),IF(A12="C",IF(D12<21,"SI","NO"),IF(A12="A",IF(D12<41,"SI","NO"))))) -> NO | F12: =IF(A12="P",IF(D12<4,"SI","NO"),IF(A12="D",IF(D12<6,"SI","NO"),IF(A12="C",IF(D12<11,"SI","NO"),IF(A12="A",IF(D12<21,"SI","NO"))))) -> NO | H12: D | I12: DIJKS | J12: Bol | K12: 4 | L12: =IF(H12="P",IF(K12<7,"SI","NO"),IF(H12="D",IF(K12<11,"SI","NO"),IF(H12="C",IF(K12<21,"SI","NO"),IF(H12="A",IF(K12<41,"SI","NO"))))) -> SI | M12: =IF(H12="P",IF(K12<4,"SI","NO"),IF(H12="D",IF(K12<6,"SI","NO"),IF(H12="C",IF(K12<11,"SI","NO"),IF(H12="A",IF(K12<21,"SI","NO"))))) -> SI | O12: D | P12: PELLEGRINI LU | Q12: Cag | R12: 12 | S12: =IF(O12="P",IF(R12<7,"SI","NO"),IF(O12="D",IF(R12<11,"SI","NO"),IF(O12="C",IF(R12<21,"SI","NO"),IF(O12="A",IF(R12<41,"SI","NO"))))) -> NO | T12: =IF(O12="P",IF(R12<4,"SI","NO"),IF(O12="D",IF(R12<6,"SI","NO"),IF(O12="C",IF(R12<11,"SI","NO"),IF(O12="A",IF(R12<21,"SI","NO"))))) -> NO | V12: D | W12: CANCELO | X12: Juv | Y12: 21 | Z12: =IF(V12="P",IF(Y12<7,"SI","NO"),IF(V12="D",IF(Y12<11,"SI","NO"),IF(V12="C",IF(Y12<21,"SI","NO"),IF(V12="A",IF(Y12<41,"SI","NO"))))) -> NO | AA12: =IF(V12="P",IF(Y12<4,"SI","NO"),IF(V12="D",IF(Y12<6,"SI","NO"),IF(V12="C",IF(Y12<11,"SI","NO"),IF(V12="A",IF(Y12<21,"SI","NO"))))) -> NO | AC12: D | AD12: MAGNANI | AE12: Sas | AF12: 1 | AG12: =IF(AC12="P",IF(AF12<7,"SI","NO"),IF(AC12="D",IF(AF12<11,"SI","NO"),IF(AC12="C",IF(AF12<21,"SI","NO"),IF(AC12="A",IF(AF12<41,"SI","NO"))))) -> SI | AH12: =IF(AC12="P",IF(AF12<4,"SI","NO"),IF(AC12="D",IF(AF12<6,"SI","NO"),IF(AC12="C",IF(AF12<11,"SI","NO"),IF(AC12="A",IF(AF12<21,"SI","NO"))))) -> SI | AJ12: D | AK12: DI LORENZO | AL12: Emp | AM12: 3 | AN12: =IF(AJ12="P",IF(AM12<7,"SI","NO"),IF(AJ12="D",IF(AM12<11,"SI","NO"),IF(AJ12="C",IF(AM12<21,"SI","NO"),IF(AJ12="A",IF(AM12<41,"SI","NO"))))) -> SI | AO12: =IF(AJ12="P",IF(AM12<4,"SI","NO"),IF(AJ12="D",IF(AM12<6,"SI","NO"),IF(AJ12="C",IF(AM12<11,"SI","NO"),IF(AJ12="A",IF(AM12<21,"SI","NO"))))) -> SI | AQ12: D | AR12: BASTONI | AS12: Par | AT12: 2 | AU12: =IF(AQ12="P",IF(AT12<7,"SI","NO"),IF(AQ12="D",IF(AT12<11,"SI","NO"),IF(AQ12="C",IF(AT12<21,"SI","NO"),IF(AQ12="A",IF(AT12<41,"SI","NO"))))) -> SI | AV12: =IF(AQ12="P",IF(AT12<4,"SI","NO"),IF(AQ12="D",IF(AT12<6,"SI","NO"),IF(AQ12="C",IF(AT12<11,"SI","NO"),IF(AQ12="A",IF(AT12<21,"SI","NO"))))) -> SI | AX12: D | AY12: CANCELO | AZ12: Juv | BA12: 36 | BB12: =IF(AX12="P",IF(BA12<7,"SI","NO"),IF(AX12="D",IF(BA12<11,"SI","NO"),IF(AX12="C",IF(BA12<21,"SI","NO"),IF(AX12="A",IF(BA12<41,"SI","NO"))))) -> NO | BC12: =IF(AX12="P",IF(BA12<4,"SI","NO"),IF(AX12="D",IF(BA12<6,"SI","NO"),IF(AX12="C",IF(BA12<11,"SI","NO"),IF(AX12="A",IF(BA12<21,"SI","NO"))))) -> NO | BE12: D | BF12: MANCINI G | BG12: Ata | BH12: 1 | BI12: =IF(BE12="P",IF(BH12<7,"SI","NO"),IF(BE12="D",IF(BH12<11,"SI","NO"),IF(BE12="C",IF(BH12<21,"SI","NO"),IF(BE12="A",IF(BH12<41,"SI","NO"))))) -> SI | BJ12: =IF(BE12="P",IF(BH12<4,"SI","NO"),IF(BE12="D",IF(BH12<6,"SI","NO"),IF(BE12="C",IF(BH12<11,"SI","NO"),IF(BE12="A",IF(BH12<21,"SI","NO"))))) -> SI | BL12: D | BM12: KOLAROV | BN12: Rom | BO12: 31 | BP12: =IF(BL12="P",IF(BO12<7,"SI","NO"),IF(BL12="D",IF(BO12<11,"SI","NO"),IF(BL12="C",IF(BO12<21,"SI","NO"),IF(BL12="A",IF(BO12<41,"SI","NO"))))) -> NO | BQ12: =IF(BL12="P",IF(BO12<4,"SI","NO"),IF(BL12="D",IF(BO12<6,"SI","NO"),IF(BL12="C",IF(BO12<11,"SI","NO"),IF(BL12="A",IF(BO12<21,"SI","NO"))))) -> NO
A13: D | B13: BONIFAZI | C13: SPA | D13: 1 | E13: =IF(A13="P",IF(D13<7,"SI","NO"),IF(A13="D",IF(D13<11,"SI","NO"),IF(A13="C",IF(D13<21,"SI","NO"),IF(A13="A",IF(D13<41,"SI","NO"))))) -> SI | F13: =IF(A13="P",IF(D13<4,"SI","NO"),IF(A13="D",IF(D13<6,"SI","NO"),IF(A13="C",IF(D13<11,"SI","NO"),IF(A13="A",IF(D13<21,"SI","NO"))))) -> SI | H13: D | I13: ROMERO C | J13: Gen | K13: 4 | L13: =IF(H13="P",IF(K13<7,"SI","NO"),IF(H13="D",IF(K13<11,"SI","NO"),IF(H13="C",IF(K13<21,"SI","NO"),IF(H13="A",IF(K13<41,"SI","NO"))))) -> SI | M13: =IF(H13="P",IF(K13<4,"SI","NO"),IF(H13="D",IF(K13<6,"SI","NO"),IF(H13="C",IF(K13<11,"SI","NO"),IF(H13="A",IF(K13<21,"SI","NO"))))) -> SI | O13: D | P13: MALCUIT | Q13: Nap | R13: 10 | S13: =IF(O13="P",IF(R13<7,"SI","NO"),IF(O13="D",IF(R13<11,"SI","NO"),IF(O13="C",IF(R13<21,"SI","NO"),IF(O13="A",IF(R13<41,"SI","NO"))))) -> SI | T13: =IF(O13="P",IF(R13<4,"SI","NO"),IF(O13="D",IF(R13<6,"SI","NO"),IF(O13="C",IF(R13<11,"SI","NO"),IF(O13="A",IF(R13<21,"SI","NO"))))) -> NO | V13: D | W13: DJIDJI | X13: Tor | Y13: 1 | Z13: =IF(V13="P",IF(Y13<7,"SI","NO"),IF(V13="D",IF(Y13<11,"SI","NO"),IF(V13="C",IF(Y13<21,"SI","NO"),IF(V13="A",IF(Y13<41,"SI","NO"))))) -> SI | AA13: =IF(V13="P",IF(Y13<4,"SI","NO"),IF(V13="D",IF(Y13<6,"SI","NO"),IF(V13="C",IF(Y13<11,"SI","NO"),IF(V13="A",IF(Y13<21,"SI","NO"))))) -> SI | AC13: D | AD13: TROOST-EKONG | AE13: Udi | AF13: 1 | AG13: =IF(AC13="P",IF(AF13<7,"SI","NO"),IF(AC13="D",IF(AF13<11,"SI","NO"),IF(AC13="C",IF(AF13<21,"SI","NO"),IF(AC13="A",IF(AF13<41,"SI","NO"))))) -> SI | AH13: =IF(AC13="P",IF(AF13<4,"SI","NO"),IF(AC13="D",IF(AF13<6,"SI","NO"),IF(AC13="C",IF(AF13<11,"SI","NO"),IF(AC13="A",IF(AF13<21,"SI","NO"))))) -> SI | AJ13: D | AK13: AINA | AL13: Tor | AM13: 1 | AN13: =IF(AJ13="P",IF(AM13<7,"SI","NO"),IF(AJ13="D",IF(AM13<11,"SI","NO"),IF(AJ13="C",IF(AM13<21,"SI","NO"),IF(AJ13="A",IF(AM13<41,"SI","NO"))))) -> SI | AO13: =IF(AJ13="P",IF(AM13<4,"SI","NO"),IF(AJ13="D",IF(AM13<6,"SI","NO"),IF(AJ13="C",IF(AM13<11,"SI","NO"),IF(AJ13="A",IF(AM13<21,"SI","NO"))))) -> SI | AQ13: D | AR13: RODRIGUEZ R | AS13: Mil | AT13: 5 | AU13: =IF(AQ13="P",IF(AT13<7,"SI","NO"),IF(AQ13="D",IF(AT13<11,"SI","NO"),IF(AQ13="C",IF(AT13<21,"SI","NO"),IF(AQ13="A",IF(AT13<41,"SI","NO"))))) -> SI | AV13: =IF(AQ13="P",IF(AT13<4,"SI","NO"),IF(AQ13="D",IF(AT13<6,"SI","NO"),IF(AQ13="C",IF(AT13<11,"SI","NO"),IF(AQ13="A",IF(AT13<21,"SI","NO"))))) -> SI | AX13: D | AY13: MALCUIT | AZ13: Nap | BA13: 1 | BB13: =IF(AX13="P",IF(BA13<7,"SI","NO"),IF(AX13="D",IF(BA13<11,"SI","NO"),IF(AX13="C",IF(BA13<21,"SI","NO"),IF(AX13="A",IF(BA13<41,"SI","NO"))))) -> SI | BC13: =IF(AX13="P",IF(BA13<4,"SI","NO"),IF(AX13="D",IF(BA13<6,"SI","NO"),IF(AX13="C",IF(BA13<11,"SI","NO"),IF(AX13="A",IF(BA13<21,"SI","NO"))))) -> SI | BE13: D | BF13: TROOST-EKONG | BG13: Udi | BH13: 5 | BI13: =IF(BE13="P",IF(BH13<7,"SI","NO"),IF(BE13="D",IF(BH13<11,"SI","NO"),IF(BE13="C",IF(BH13<21,"SI","NO"),IF(BE13="A",IF(BH13<41,"SI","NO"))))) -> SI | BJ13: =IF(BE13="P",IF(BH13<4,"SI","NO"),IF(BE13="D",IF(BH13<6,"SI","NO"),IF(BE13="C",IF(BH13<11,"SI","NO"),IF(BE13="A",IF(BH13<21,"SI","NO"))))) -> SI | BL13: D | BM13: CRISCITO | BN13: Gen | BO13: 11 | BP13: =IF(BL13="P",IF(BO13<7,"SI","NO"),IF(BL13="D",IF(BO13<11,"SI","NO"),IF(BL13="C",IF(BO13<21,"SI","NO"),IF(BL13="A",IF(BO13<41,"SI","NO"))))) -> NO | BQ13: =IF(BL13="P",IF(BO13<4,"SI","NO"),IF(BL13="D",IF(BO13<6,"SI","NO"),IF(BL13="C",IF(BO13<11,"SI","NO"),IF(BL13="A",IF(BO13<21,"SI","NO"))))) -> NO
A14: C | B14: LAZOVIC | C14: Gen | D14: 24 | E14: =IF(A14="P",IF(D14<7,"SI","NO"),IF(A14="D",IF(D14<11,"SI","NO"),IF(A14="C",IF(D14<21,"SI","NO"),IF(A14="A",IF(D14<41,"SI","NO"))))) -> NO | F14: =IF(A14="P",IF(D14<4,"SI","NO"),IF(A14="D",IF(D14<6,"SI","NO"),IF(A14="C",IF(D14<11,"SI","NO"),IF(A14="A",IF(D14<21,"SI","NO"))))) -> NO | H14: C | I14: DE ROON | J14: Ata | K14: 7 | L14: =IF(H14="P",IF(K14<7,"SI","NO"),IF(H14="D",IF(K14<11,"SI","NO"),IF(H14="C",IF(K14<21,"SI","NO"),IF(H14="A",IF(K14<41,"SI","NO"))))) -> SI | M14: =IF(H14="P",IF(K14<4,"SI","NO"),IF(H14="D",IF(K14<6,"SI","NO"),IF(H14="C",IF(K14<11,"SI","NO"),IF(H14="A",IF(K14<21,"SI","NO"))))) -> SI | O14: C | P14: BERNARDESCHI | Q14: Juv | R14: 21 | S14: =IF(O14="P",IF(R14<7,"SI","NO"),IF(O14="D",IF(R14<11,"SI","NO"),IF(O14="C",IF(R14<21,"SI","NO"),IF(O14="A",IF(R14<41,"SI","NO"))))) -> NO | T14: =IF(O14="P",IF(R14<4,"SI","NO"),IF(O14="D",IF(R14<6,"SI","NO"),IF(O14="C",IF(R14<11,"SI","NO"),IF(O14="A",IF(R14<21,"SI","NO"))))) -> NO | V14: C | W14: KURTIC | X14: SPA | Y14: 6 | Z14: =IF(V14="P",IF(Y14<7,"SI","NO"),IF(V14="D",IF(Y14<11,"SI","NO"),IF(V14="C",IF(Y14<21,"SI","NO"),IF(V14="A",IF(Y14<41,"SI","NO"))))) -> SI | AA14: =IF(V14="P",IF(Y14<4,"SI","NO"),IF(V14="D",IF(Y14<6,"SI","NO"),IF(V14="C",IF(Y14<11,"SI","NO"),IF(V14="A",IF(Y14<21,"SI","NO"))))) -> SI | AC14: C | AD14: D'ALESSANDRO | AE14: Udi | AF14: 1 | AG14: =IF(AC14="P",IF(AF14<7,"SI","NO"),IF(AC14="D",IF(AF14<11,"SI","NO"),IF(AC14="C",IF(AF14<21,"SI","NO"),IF(AC14="A",IF(AF14<41,"SI","NO"))))) -> SI | AH14: =IF(AC14="P",IF(AF14<4,"SI","NO"),IF(AC14="D",IF(AF14<6,"SI","NO"),IF(AC14="C",IF(AF14<11,"SI","NO"),IF(AC14="A",IF(AF14<21,"SI","NO"))))) -> SI | AJ14: C | AK14: KUCKA | AL14: Par | AM14: 13 | AN14: =IF(AJ14="P",IF(AM14<7,"SI","NO"),IF(AJ14="D",IF(AM14<11,"SI","NO"),IF(AJ14="C",IF(AM14<21,"SI","NO"),IF(AJ14="A",IF(AM14<41,"SI","NO"))))) -> SI | AO14: =IF(AJ14="P",IF(AM14<4,"SI","NO"),IF(AJ14="D",IF(AM14<6,"SI","NO"),IF(AJ14="C",IF(AM14<11,"SI","NO"),IF(AJ14="A",IF(AM14<21,"SI","NO"))))) -> NO | AQ14: C | AR14: ILICIC | AS14: Ata | AT14: 40 | AU14: =IF(AQ14="P",IF(AT14<7,"SI","NO"),IF(AQ14="D",IF(AT14<11,"SI","NO"),IF(AQ14="C",IF(AT14<21,"SI","NO"),IF(AQ14="A",IF(AT14<41,"SI","NO"))))) -> NO | AV14: =IF(AQ14="P",IF(AT14<4,"SI","NO"),IF(AQ14="D",IF(AT14<6,"SI","NO"),IF(AQ14="C",IF(AT14<11,"SI","NO"),IF(AQ14="A",IF(AT14<21,"SI","NO"))))) -> NO | AX14: C | AY14: ILICIC | AZ14: Ata | BA14: 16 | BB14: =IF(AX14="P",IF(BA14<7,"SI","NO"),IF(AX14="D",IF(BA14<11,"SI","NO"),IF(AX14="C",IF(BA14<21,"SI","NO"),IF(AX14="A",IF(BA14<41,"SI","NO"))))) -> SI | BC14: =IF(AX14="P",IF(BA14<4,"SI","NO"),IF(AX14="D",IF(BA14<6,"SI","NO"),IF(AX14="C",IF(BA14<11,"SI","NO"),IF(AX14="A",IF(BA14<21,"SI","NO"))))) -> NO | BE14: C | BF14: ZIELINSKI | BG14: Nap | BH14: 31 | BI14: =IF(BE14="P",IF(BH14<7,"SI","NO"),IF(BE14="D",IF(BH14<11,"SI","NO"),IF(BE14="C",IF(BH14<21,"SI","NO"),IF(BE14="A",IF(BH14<41,"SI","NO"))))) -> NO | BJ14: =IF(BE14="P",IF(BH14<4,"SI","NO"),IF(BE14="D",IF(BH14<6,"SI","NO"),IF(BE14="C",IF(BH14<11,"SI","NO"),IF(BE14="A",IF(BH14<21,"SI","NO"))))) -> NO | BL14: C | BM14: KUCKA | BN14: Par | BO14: 1 | BP14: =IF(BL14="P",IF(BO14<7,"SI","NO"),IF(BL14="D",IF(BO14<11,"SI","NO"),IF(BL14="C",IF(BO14<21,"SI","NO"),IF(BL14="A",IF(BO14<41,"SI","NO"))))) -> SI | BQ14: =IF(BL14="P",IF(BO14<4,"SI","NO"),IF(BL14="D",IF(BO14<6,"SI","NO"),IF(BL14="C",IF(BO14<11,"SI","NO"),IF(BL14="A",IF(BO14<21,"SI","NO"))))) -> SI
... A27: A | B27: CASTILLEJO | C27: Mil | D27: 5 | E27: =IF(A27="P",IF(D27<7,"SI","NO"),IF(A27="D",IF(D27<11,"SI","NO"),IF(A27="C",IF(D27<21,"SI","NO"),IF(A27="A",IF(D27<41,"SI","NO"))))) -> SI | F27: =IF(A27="P",IF(D27<4,"SI","NO"),IF(A27="D",IF(D27<6,"SI","NO"),IF(A27="C",IF(D27<11,"SI","NO"),IF(A27="A",IF(D27<21,"SI","NO"))))) -> SI | H27: A | I27: ANTENUCCI | J27: SPA | K27: 40 | L27: =IF(H27="P",IF(K27<7,"SI","NO"),IF(H27="D",IF(K27<11,"SI","NO"),IF(H27="C",IF(K27<21,"SI","NO"),IF(H27="A",IF(K27<41,"SI","NO"))))) -> SI | M27: =IF(H27="P",IF(K27<4,"SI","NO"),IF(H27="D",IF(K27<6,"SI","NO"),IF(H27="C",IF(K27<11,"SI","NO"),IF(H27="A",IF(K27<21,"SI","NO"))))) -> NO | O27: A | P27: UNDER | Q27: Rom | R27: 3 | S27: =IF(O27="P",IF(R27<7,"SI","NO"),IF(O27="D",IF(R27<11,"SI","NO"),IF(O27="C",IF(R27<21,"SI","NO"),IF(O27="A",IF(R27<41,"SI","NO"))))) -> SI | T27: =IF(O27="P",IF(R27<4,"SI","NO"),IF(O27="D",IF(R27<6,"SI","NO"),IF(O27="C",IF(R27<11,"SI","NO"),IF(O27="A",IF(R27<21,"SI","NO"))))) -> SI | V27: A | W27: ANTENUCCI | X27: SPA | Y27: 20 | Z27: =IF(V27="P",IF(Y27<7,"SI","NO"),IF(V27="D",IF(Y27<11,"SI","NO"),IF(V27="C",IF(Y27<21,"SI","NO"),IF(V27="A",IF(Y27<41,"SI","NO"))))) -> SI | AA27: =IF(V27="P",IF(Y27<4,"SI","NO"),IF(V27="D",IF(Y27<6,"SI","NO"),IF(V27="C",IF(Y27<11,"SI","NO"),IF(V27="A",IF(Y27<21,"SI","NO"))))) -> SI | AC27: A | AD27: KOUAME' | AE27: Gen | AF27: 2 | AG27: =IF(AC27="P",IF(AF27<7,"SI","NO"),IF(AC27="D",IF(AF27<11,"SI","NO"),IF(AC27="C",IF(AF27<21,"SI","NO"),IF(AC27="A",IF(AF27<41,"SI","NO"))))) -> SI | AH27: =IF(AC27="P",IF(AF27<4,"SI","NO"),IF(AC27="D",IF(AF27<6,"SI","NO"),IF(AC27="C",IF(AF27<11,"SI","NO"),IF(AC27="A",IF(AF27<21,"SI","NO"))))) -> SI | AJ27: A | AK27: CIANO | AL27: Fro | AM27: 11 | AN27: =IF(AJ27="P",IF(AM27<7,"SI","NO"),IF(AJ27="D",IF(AM27<11,"SI","NO"),IF(AJ27="C",IF(AM27<21,"SI","NO"),IF(AJ27="A",IF(AM27<41,"SI","NO"))))) -> SI | AO27: =IF(AJ27="P",IF(AM27<4,"SI","NO"),IF(AJ27="D",IF(AM27<6,"SI","NO"),IF(AJ27="C",IF(AM27<11,"SI","NO"),IF(AJ27="A",IF(AM27<21,"SI","NO"))))) -> SI | AQ27: A | AR27: OKAKA | AS27: Udi | AT27: 8 | AU27: =IF(AQ27="P",IF(AT27<7,"SI","NO"),IF(AQ27="D",IF(AT27<11,"SI","NO"),IF(AQ27="C",IF(AT27<21,"SI","NO"),IF(AQ27="A",IF(AT27<41,"SI","NO"))))) -> SI | AV27: =IF(AQ27="P",IF(AT27<4,"SI","NO"),IF(AQ27="D",IF(AT27<6,"SI","NO"),IF(AQ27="C",IF(AT27<11,"SI","NO"),IF(AQ27="A",IF(AT27<21,"SI","NO"))))) -> SI | AX27: A | AY27: ZAPATA D | AZ27: Ata | BA27: 80 | BB27: =IF(AX27="P",IF(BA27<7,"SI","NO"),IF(AX27="D",IF(BA27<11,"SI","NO"),IF(AX27="C",IF(BA27<21,"SI","NO"),IF(AX27="A",IF(BA27<41,"SI","NO"))))) -> NO | BC27: =IF(AX27="P",IF(BA27<4,"SI","NO"),IF(AX27="D",IF(BA27<6,"SI","NO"),IF(AX27="C",IF(BA27<11,"SI","NO"),IF(AX27="A",IF(BA27<21,"SI","NO"))))) -> NO | BE27: A | BF27: ANTENUCCI | BG27: SPA | BH27: 31 | BI27: =IF(BE27="P",IF(BH27<7,"SI","NO"),IF(BE27="D",IF(BH27<11,"SI","NO"),IF(BE27="C",IF(BH27<21,"SI","NO"),IF(BE27="A",IF(BH27<41,"SI","NO"))))) -> SI | BJ27: =IF(BE27="P",IF(BH27<4,"SI","NO"),IF(BE27="D",IF(BH27<6,"SI","NO"),IF(BE27="C",IF(BH27<11,"SI","NO"),IF(BE27="A",IF(BH27<21,"SI","NO"))))) -> NO | BL27: A | BM27: PIATEK | BN27: Mil | BO27: 46 | BP27: =IF(BL27="P",IF(BO27<7,"SI","NO"),IF(BL27="D",IF(BO27<11,"SI","NO"),IF(BL27="C",IF(BO27<21,"SI","NO"),IF(BL27="A",IF(BO27<41,"SI","NO"))))) -> NO | BQ27: =IF(BL27="P",IF(BO27<4,"SI","NO"),IF(BL27="D",IF(BO27<6,"SI","NO"),IF(BL27="C",IF(BO27<11,"SI","NO"),IF(BL27="A",IF(BO27<21,"SI","NO"))))) -> NO
A28: Crediti Residui | B28: 41 | C28: Rimanente | E28: =FLOOR(B28/3,1) -> 13 | H28: Crediti Residui | I28: 18 | J28: Rimanente | L28: =FLOOR(I28/3,1) -> 6 | O28: Crediti Residui | P28: 24 | Q28: Rimanente | S28: =FLOOR(P28/3,1) -> 8 | V28: Crediti Residui | W28: 45 | X28: Rimanente | Z28: =FLOOR(W28/3,1) -> 15 | AC28: Crediti Residui | AD28: 35 | AE28: Rimanente | AG28: =FLOOR(AD28/3,1) -> 11 | AJ28: Crediti Residui | AK28: 187 | AL28: Rimanente | AN28: =FLOOR(AK28/3,1) -> 62 | AQ28: Crediti Residui | AR28: 33 | AS28: Rimanente | AU28: =FLOOR(AR28/3,1) -> 11 | AX28: Crediti Residui | AY28: 1 | AZ28: Rimanente | BB28: =FLOOR(AY28/3,1) -> 0 | BE28: Crediti Residui | BF28: 2 | BG28: Rimanente | BI28: =FLOOR(BF28/3,1) -> 0 | BL28: Crediti Residui | BM28: 90 | BN28: Rimanente | BP28: =FLOOR(BM28/3,1) -> 30
C29: Nuovi | E29: 500 | J29: Nuovi | L29: 500 | Q29: Nuovi | S29: 500 | X29: Nuovi | Z29: 500 | AE29: Nuovi | AG29: 500 | AL29: Nuovi | AN29: 500 | AS29: Nuovi | AU29: 500 | AZ29: Nuovi | BB29: 500 | BG29: Nuovi | BI29: 508 | BN29: Nuovi | BP29: 510
C30: Conferme | E30: =SUM(E3:E27) -> 0 | F30: =SUM(F3:F27) -> 0 | J30: Conferme | L30: =SUM(L3:L27) -> 0 | M30: =SUM(M3:M27) -> 0 | Q30: Conferme | S30: =SUM(S3:S27) -> 0 | T30: =SUM(T3:T27) -> 0 | X30: Conferme | Z30: =SUM(Z3:Z27) -> 0 | AA30: =SUM(AA3:AA27) -> 0 | AE30: Conferme | AG30: =SUM(AG3:AG27) -> 0 | AH30: =SUM(AH3:AH27) -> 0 | AL30: Conferme | AN30: =SUM(AN3:AN27) -> 0 | AO30: =SUM(AO3:AO27) -> 0 | AS30: Conferme | AU30: =SUM(AU3:AU27) -> 0 | AV30: =SUM(AV3:AV27) -> 0 | AZ30: Conferme | BB30: =SUM(BB3:BB27) -> 0 | BC30: =SUM(BC3:BC27) -> 0 | BG30: Conferme | BI30: =SUM(BI3:BI27) -> 0 | BJ30: =SUM(BJ3:BJ27) -> 0 | BN30: Conferme | BP30: =SUM(BP3:BP27) -> 0 | BQ30: =SUM(BQ3:BQ27) -> 0
C31: Totali | E31: =SUM(E28:E29)-SUM(E30:F30) -> 513 | J31: Totali | L31: =SUM(L28:L29)-SUM(L30:M30) -> 506 | Q31: Totali | S31: =SUM(S28:S29)-SUM(S30:T30) -> 508 | X31: Totali | Z31: =SUM(Z28:Z29)-SUM(Z30:AA30) -> 515 | AE31: Totali | AG31: =SUM(AG28:AG29)-SUM(AG30:AH30) -> 511 | AL31: Totali | AN31: =SUM(AN28:AN29)-SUM(AN30:AO30) -> 562 | AS31: Totali | AU31: =SUM(AU28:AU29)-SUM(AU30:AV30) -> 511 | AZ31: Totali | BB31: =SUM(BB28:BB29)-SUM(BB30:BC30) -> 500 | BG31: Totali | BI31: =SUM(BI28:BI29)-SUM(BI30:BJ30) -> 508 | BN31: Totali | BP31: =SUM(BP28:BP29)-SUM(BP30:BQ30) -> 540

Sheet Serie D
A1: REAL PETARE | F1: 66.51 | H1: BAYERBIKER | M1: 67.15 | O1: CAGNANESE | T1: 67.18 | V1: SAMBUCA | AA1: 68.55 | AC1: LONGOBARDA | AH1: 68.61 | AJ1: STURM AND DRUG | AO1: 68.79 | AQ1: CIPPA CEP | AV1: 70.54 | AX1: SHANGAY BIS | BC1: 70.55 | BE1: FC LEAD | BJ1: 70.9 | BL1: REAL PAGA | BQ1: 73.34
A2: Ruolo | B2: Calciatore | C2: Squadra | D2: Costo | E2: Giugno | F2: Settembre | H2: Ruolo | I2: Calciatore | J2: Squadra | K2: Costo | L2: Giugno | M2: Settembre | O2: Ruolo | P2: Calciatore | Q2: Squadra | R2: Costo | S2: Giugno | T2: Settembre | V2: Ruolo | W2: Calciatore | X2: Squadra | Y2: Costo | Z2: Giugno | AA2: Settembre | AC2: Ruolo | AD2: Calciatore | AE2: Squadra | AF2: Costo | AG2: Giugno | AH2: Settembre | AJ2: Ruolo | AK2: Calciatore | AL2: Squadra | AM2: Costo | AN2: Giugno | AO2: Settembre | AQ2: Ruolo | AR2: Calciatore | AS2: Squadra | AT2: Costo | AU2: Giugno | AV2: Settembre | AX2: Ruolo | AY2: Calciatore | AZ2: Squadra | BA2: Costo | BB2: Giugno | BC2: Settembre | BE2: Ruolo | BF2: Calciatore | BG2: Squadra | BH2: Costo | BI2: Giugno | BJ2: Settembre | BL2: Ruolo | BM2: Calciatore | BN2: Squadra | BO2: Costo | BP2: Giugno | BQ2: Settembre
A3: P | B3: MIRANTE | C3: Rom | D3: 1 | E3: =IF(A3="P",IF(D3<7,"SI","NO"),IF(A3="D",IF(D3<11,"SI","NO"),IF(A3="C",IF(D3<21,"SI","NO"),IF(A3="A",IF(D3<41,"SI","NO"))))) -> SI | F3: =IF(A3="P",IF(D3<4,"SI","NO"),IF(A3="D",IF(D3<6,"SI","NO"),IF(A3="C",IF(D3<11,"SI","NO"),IF(A3="A",IF(D3<21,"SI","NO"))))) -> SI | H3: P | I3: SKORUPSKI | J3: Bol | K3: 1 | L3: =IF(H3="P",IF(K3<7,"SI","NO"),IF(H3="D",IF(K3<11,"SI","NO"),IF(H3="C",IF(K3<21,"SI","NO"),IF(H3="A",IF(K3<41,"SI","NO"))))) -> SI | M3: =IF(H3="P",IF(K3<4,"SI","NO"),IF(H3="D",IF(K3<6,"SI","NO"),IF(H3="C",IF(K3<11,"SI","NO"),IF(H3="A",IF(K3<21,"SI","NO"))))) -> SI | O3: P | P3: CONSIGLI | Q3: Sas | R3: 2 | S3: =IF(O3="P",IF(R3<7,"SI","NO"),IF(O3="D",IF(R3<11,"SI","NO"),IF(O3="C",IF(R3<21,"SI","NO"),IF(O3="A",IF(R3<41,"SI","NO"))))) -> SI | T3: =IF(O3="P",IF(R3<4,"SI","NO"),IF(O3="D",IF(R3<6,"SI","NO"),IF(O3="C",IF(R3<11,"SI","NO"),IF(O3="A",IF(R3<21,"SI","NO"))))) -> SI | V3: P | W3: KARNEZIS | X3: Nap | Y3: 1 | Z3: =IF(V3="P",IF(Y3<7,"SI","NO"),IF(V3="D",IF(Y3<11,"SI","NO"),IF(V3="C",IF(Y3<21,"SI","NO"),IF(V3="A",IF(Y3<41,"SI","NO"))))) -> SI | AA3: =IF(V3="P",IF(Y3<4,"SI","NO"),IF(V3="D",IF(Y3<6,"SI","NO"),IF(V3="C",IF(Y3<11,"SI","NO"),IF(V3="A",IF(Y3<21,"SI","NO"))))) -> SI | AC3: P | AD3: SPORTIELLO | AE3: Fro | AF3: 1 | AG3: =IF(AC3="P",IF(AF3<7,"SI","NO"),IF(AC3="D",IF(AF3<11,"SI","NO"),IF(AC3="C",IF(AF3<21,"SI","NO"),IF(AC3="A",IF(AF3<41,"SI","NO"))))) -> SI | AH3: =IF(AC3="P",IF(AF3<4,"SI","NO"),IF(AC3="D",IF(AF3<6,"SI","NO"),IF(AC3="C",IF(AF3<11,"SI","NO"),IF(AC3="A",IF(AF3<21,"SI","NO"))))) -> SI | AJ3: P | AK3: SEPE | AL3: Par | AM3: 1 | AN3: =IF(AJ3="P",IF(AM3<7,"SI","NO"),IF(AJ3="D",IF(AM3<11,"SI","NO"),IF(AJ3="C",IF(AM3<21,"SI","NO"),IF(AJ3="A",IF(AM3<41,"SI","NO"))))) -> SI | AO3: =IF(AJ3="P",IF(AM3<4,"SI","NO"),IF(AJ3="D",IF(AM3<6,"SI","NO"),IF(AJ3="C",IF(AM3<11,"SI","NO"),IF(AJ3="A",IF(AM3<21,"SI","NO"))))) -> SI | AQ3: P | AR3: PERIN | AS3: Juv | AT3: 8 | AU3: =IF(AQ3="P",IF(AT3<7,"SI","NO"),IF(AQ3="D",IF(AT3<11,"SI","NO"),IF(AQ3="C",IF(AT3<21,"SI","NO"),IF(AQ3="A",IF(AT3<41,"SI","NO"))))) -> NO | AV3: =IF(AQ3="P",IF(AT3<4,"SI","NO"),IF(AQ3="D",IF(AT3<6,"SI","NO"),IF(AQ3="C",IF(AT3<11,"SI","NO"),IF(AQ3="A",IF(AT3<21,"SI","NO"))))) -> NO | AX3: P | AY3: RAFAEL CABRAL | AZ3: Sam | BA3: 1 | BB3: =IF(AX3="P",IF(BA3<7,"SI","NO"),IF(AX3="D",IF(BA3<11,"SI","NO"),IF(AX3="C",IF(BA3<21,"SI","NO"),IF(AX3="A",IF(BA3<41,"SI","NO"))))) -> SI | BC3: =IF(AX3="P",IF(BA3<4,"SI","NO"),IF(AX3="D",IF(BA3<6,"SI","NO"),IF(AX3="C",IF(BA3<11,"SI","NO"),IF(AX3="A",IF(BA3<21,"SI","NO"))))) -> SI | BE3: P | BF3: MERET | BG3: Nap | BH3: 32 | BI3: =IF(BE3="P",IF(BH3<7,"SI","NO"),IF(BE3="D",IF(BH3<11,"SI","NO"),IF(BE3="C",IF(BH3<21,"SI","NO"),IF(BE3="A",IF(BH3<41,"SI","NO"))))) -> NO | BJ3: =IF(BE3="P",IF(BH3<4,"SI","NO"),IF(BE3="D",IF(BH3<6,"SI","NO"),IF(BE3="C",IF(BH3<11,"SI","NO"),IF(BE3="A",IF(BH3<21,"SI","NO"))))) -> NO | BL3: P | BM3: DONNARUMMA G | BN3: Mil | BO3: 32 | BP3: =IF(BL3="P",IF(BO3<7,"SI","NO"),IF(BL3="D",IF(BO3<11,"SI","NO"),IF(BL3="C",IF(BO3<21,"SI","NO"),IF(BL3="A",IF(BO3<41,"SI","NO"))))) -> NO | BQ3: =IF(BL3="P",IF(BO3<4,"SI","NO"),IF(BL3="D",IF(BO3<6,"SI","NO"),IF(BL3="C",IF(BO3<11,"SI","NO"),IF(BL3="A",IF(BO3<21,"SI","NO"))))) -> NO
A4: P | B4: SIRIGU | C4: Tor | D4: 15 | E4: =IF(A4="P",IF(D4<7,"SI","NO"),IF(A4="D",IF(D4<11,"SI","NO"),IF(A4="C",IF(D4<21,"SI","NO"),IF(A4="A",IF(D4<41,"SI","NO"))))) -> NO | F4: =IF(A4="P",IF(D4<4,"SI","NO"),IF(A4="D",IF(D4<6,"SI","NO"),IF(A4="C",IF(D4<11,"SI","NO"),IF(A4="A",IF(D4<21,"SI","NO"))))) -> NO | H4: P | I4: DONNARUMMA G | J4: Mil | K4: 20 | L4: =IF(H4="P",IF(K4<7,"SI","NO"),IF(H4="D",IF(K4<11,"SI","NO"),IF(H4="C",IF(K4<21,"SI","NO"),IF(H4="A",IF(K4<41,"SI","NO"))))) -> NO | M4: =IF(H4="P",IF(K4<4,"SI","NO"),IF(H4="D",IF(K4<6,"SI","NO"),IF(H4="C",IF(K4<11,"SI","NO"),IF(H4="A",IF(K4<21,"SI","NO"))))) -> NO | O4: P | P4: AUDERO | Q4: Sam | R4: 7 | S4: =IF(O4="P",IF(R4<7,"SI","NO"),IF(O4="D",IF(R4<11,"SI","NO"),IF(O4="C",IF(R4<21,"SI","NO"),IF(O4="A",IF(R4<41,"SI","NO"))))) -> NO | T4: =IF(O4="P",IF(R4<4,"SI","NO"),IF(O4="D",IF(R4<6,"SI","NO"),IF(O4="C",IF(R4<11,"SI","NO"),IF(O4="A",IF(R4<21,"SI","NO"))))) -> NO | V4: P | W4: MERET | X4: Nap | Y4: 3 | Z4: =IF(V4="P",IF(Y4<7,"SI","NO"),IF(V4="D",IF(Y4<11,"SI","NO"),IF(V4="C",IF(Y4<21,"SI","NO"),IF(V4="A",IF(Y4<41,"SI","NO"))))) -> SI | AA4: =IF(V4="P",IF(Y4<4,"SI","NO"),IF(V4="D",IF(Y4<6,"SI","NO"),IF(V4="C",IF(Y4<11,"SI","NO"),IF(V4="A",IF(Y4<21,"SI","NO"))))) -> SI | AC4: P | AD4: CRAGNO | AE4: Cag | AF4: 1 | AG4: =IF(AC4="P",IF(AF4<7,"SI","NO"),IF(AC4="D",IF(AF4<11,"SI","NO"),IF(AC4="C",IF(AF4<21,"SI","NO"),IF(AC4="A",IF(AF4<41,"SI","NO"))))) -> SI | AH4: =IF(AC4="P",IF(AF4<4,"SI","NO"),IF(AC4="D",IF(AF4<6,"SI","NO"),IF(AC4="C",IF(AF4<11,"SI","NO"),IF(AC4="A",IF(AF4<21,"SI","NO"))))) -> SI | AJ4: P | AK4: STRAKOSHA | AL4: Laz | AM4: 15 | AN4: =IF(AJ4="P",IF(AM4<7,"SI","NO"),IF(AJ4="D",IF(AM4<11,"SI","NO"),IF(AJ4="C",IF(AM4<21,"SI","NO"),IF(AJ4="A",IF(AM4<41,"SI","NO"))))) -> NO | AO4: =IF(AJ4="P",IF(AM4<4,"SI","NO"),IF(AJ4="D",IF(AM4<6,"SI","NO"),IF(AJ4="C",IF(AM4<11,"SI","NO"),IF(AJ4="A",IF(AM4<21,"SI","NO"))))) -> NO | AQ4: P | AR4: SZCZESNY | AS4: Juv | AT4: 6 | AU4: =IF(AQ4="P",IF(AT4<7,"SI","NO"),IF(AQ4="D",IF(AT4<11,"SI","NO"),IF(AQ4="C",IF(AT4<21,"SI","NO"),IF(AQ4="A",IF(AT4<41,"SI","NO"))))) -> SI | AV4: =IF(AQ4="P",IF(AT4<4,"SI","NO"),IF(AQ4="D",IF(AT4<6,"SI","NO"),IF(AQ4="C",IF(AT4<11,"SI","NO"),IF(AQ4="A",IF(AT4<21,"SI","NO"))))) -> NO | AX4: P | AY4: AUDERO | AZ4: Sam | BA4: 10 | BB4: =IF(AX4="P",IF(BA4<7,"SI","NO"),IF(AX4="D",IF(BA4<11,"SI","NO"),IF(AX4="C",IF(BA4<21,"SI","NO"),IF(AX4="A",IF(BA4<41,"SI","NO"))))) -> NO | BC4: =IF(AX4="P",IF(BA4<4,"SI","NO"),IF(AX4="D",IF(BA4<6,"SI","NO"),IF(AX4="C",IF(BA4<11,"SI","NO"),IF(AX4="A",IF(BA4<21,"SI","NO"))))) -> NO | BE4: P | BF4: CRAGNO | BG4: Cag | BH4: 2 | BI4: =IF(BE4="P",IF(BH4<7,"SI","NO"),IF(BE4="D",IF(BH4<11,"SI","NO"),IF(BE4="C",IF(BH4<21,"SI","NO"),IF(BE4="A",IF(BH4<41,"SI","NO"))))) -> SI | BJ4: =IF(BE4="P",IF(BH4<4,"SI","NO"),IF(BE4="D",IF(BH4<6,"SI","NO"),IF(BE4="C",IF(BH4<11,"SI","NO"),IF(BE4="A",IF(BH4<21,"SI","NO"))))) -> SI | BL4: P | BM4: REINA | BN4: Mil | BO4: 1 | BP4: =IF(BL4="P",IF(BO4<7,"SI","NO"),IF(BL4="D",IF(BO4<11,"SI","NO"),IF(BL4="C",IF(BO4<21,"SI","NO"),IF(BL4="A",IF(BO4<41,"SI","NO"))))) -> SI | BQ4: =IF(BL4="P",IF(BO4<4,"SI","NO"),IF(BL4="D",IF(BO4<6,"SI","NO"),IF(BL4="C",IF(BO4<11,"SI","NO"),IF(BL4="A",IF(BO4<21,"SI","NO"))))) -> SI
