Workbook

Sheet TABELLONE
A1: GIRONE A | D1: ORDINE CHIAMATA OTTAVI | J1: 1° GIORNATA
D2: Ac Conte | F2: 400 | J2: =A5 -> Ac Denti | K2: =A6 -> Evribadi | L2: =IF('1° GIORNATA'!$B$17=0,"",'1° GIORNATA'!$B$5) -> 4 | M2: =IF('1° GIORNATA'!$D$17=0,"",'1° GIORNATA'!$D$5) -> 3 | O2: =IF(L2="",0,IF(L2>M2,3,IF(L2=M2,1,0))) -> 3 | P2: =IF(M2="",0,IF(M2>L2,3,IF(M2=L2,1,0))) -> 0
A3: SQUADRE | D3: Tette Biscottate | F3: 395 | J3: =A7 -> FC Marcellona | K3: =A8 -> Skiacciak Mosca | L3: =IF('1° GIORNATA'!$K$17=0,"",'1° GIORNATA'!$K$5) -> 2 | M3: =IF('1° GIORNATA'!$M$17=0,"",'1° GIORNATA'!$M$5) -> 1 | O3: =IF(L3="",0,IF(L3>M3,3,IF(L3=M3,1,0))) -> 3 | P3: =IF(M3="",0,IF(M3>L3,3,IF(M3=L3,1,0))) -> 0
D4: Evribadi | F4: 386 | J4: =A9 -> CS Riposa | K4: RIPOSA
A5: Ac Denti | B5: A | D5: Ac Denti | F5: 371.5
A6: Evribadi | B6: B | D6: CS Riposa | F6: 366.5 | J6: 2° GIORNATA
A7: FC Marcellona | B7: C | D7: Scarsenal | F7: 362.5 | J7: =A5 -> Ac Denti | K7: =A7 -> FC Marcellona | L7: =IF('2° GIORNATA'!$B$17=0,"",'2° GIORNATA'!$B$5) -> 3 | M7: =IF('2° GIORNATA'!$D$17=0,"",'2° GIORNATA'!$D$5) -> 0 | O7: =IF(L7="",0,IF(L7>M7,3,IF(L7=M7,1,0))) -> 3 | P7: =IF(M7="",0,IF(M7>L7,3,IF(M7=L7,1,0))) -> 0
A8: Skiacciak Mosca | B8: D | D8: Interfogat | F8: 362 | J8: =A6 -> Evribadi | K8: =A9 -> CS Riposa | L8: =IF('2° GIORNATA'!$K$17=0,"",'2° GIORNATA'!$K$5) -> 2 | M8: =IF('2° GIORNATA'!$M$17=0,"",'2° GIORNATA'!$M$5) -> 3 | O8: =IF(L8="",0,IF(L8>M8,3,IF(L8=M8,1,0))) -> 0 | P8: =IF(M8="",0,IF(M8>L8,3,IF(M8=L8,1,0))) -> 3
A9: CS Riposa | B9: E | D9: FC Marcellona | F9: 338 | J9: =A8 -> Skiacciak Mosca | K9: RIPOSA
J11: 3° GIORNATA
A12: CLASSIFICA | J12: =A5 -> Ac Denti | K12: =A8 -> Skiacciak Mosca | L12: =IF('3° GIORNATA'!$B$17=0,"",'3° GIORNATA'!$B$5) -> 3 | M12: =IF('3° GIORNATA'!$D$17=0,"",'3° GIORNATA'!$D$5) -> 2 | O12: =IF(L12="",0,IF(L12>M12,3,IF(L12=M12,1,0))) -> 3 | P12: =IF(M12="",0,IF(M12>L12,3,IF(M12=L12,1,0))) -> 0
J13: =A7 -> FC Marcellona | K13: =A9 -> CS Riposa | L13: =IF('3° GIORNATA'!$K$17=0,"",'3° GIORNATA'!$K$5) -> 2 | M13: =IF('3° GIORNATA'!$M$17=0,"",'3° GIORNATA'!$M$5) -> 2 | O13: =IF(L13="",0,IF(L13>M13,3,IF(L13=M13,1,0))) -> 1 | P13: =IF(M13="",0,IF(M13>L13,3,IF(M13=L13,1,0))) -> 1
B14: pts | C14: g.f. | D14: g.s. | E14: diff. | F14: fantaPts | J14: =A6 -> Evribadi | K14: RIPOSA
A15: Ac Denti | B15: =$O$2+$O$7+$O$12+$O$17 -> 9 | C15: =IF($L$2="",0,$L$2)+IF($L$7="",0,$L$7)+IF($L$12="",0,$L$12)+IF($L$17="",0,$L$17) -> 10 | D15: =IF($M$2="",0,$M$2)+IF($M$7="",0,$M$7)+IF($M$12="",0,$M$12)+IF(M$17="",0,$M$17) -> 8 | E15: =C15-D15 -> 2 | F15: ='1° GIORNATA'!$B$17+'2° GIORNATA'!$B$17+'3° GIORNATA'!$B$17+'4° GIORNATA'!$B$17+'5° GIORNATA'!$B$75 -> 371.5 | G15: A1 | N15: 1
A16: CS Riposa | B16: =$P$8+$P$13+$P$17+$P$23 -> 7 | C16: =IF($M$8="",0,$M$8)+IF($M$13="",0,$M$13)+IF($M$17="",0,$M$17)+IF($M$23="",0,$M$23) -> 8 | D16: =IF($L$8="",0,$L$8)+IF($L$13="",0,$L$13)+IF($L$17="",0,$L$17)+IF($L$23="",0,$L$23) -> 6 | E16: =C16-D16 -> 2 | F16: ='2° GIORNATA'!$M$17+'3° GIORNATA'!$M$17+'4° GIORNATA'!$D$17+'5° GIORNATA'!$M$17+'1° GIORNATA'!$K$75 -> 366.5 | G16: A2 | J16: 4° GIORNATA | N16: 2
A17: Evribadi | B17: =$P$2+$O$8+$O$18+$O$22 -> 6 | C17: =IF($M$2="",0,$M$2)+IF($L$8="",0,$L$8)+IF($L$18="",0,$L$18)+IF($L$22="",0,$L$22) -> 16 | D17: =IF($L$2="",0,$L$2)+IF($M$8="",0,$M$8)+IF($M$18="",0,$M$18)+IF($M$22="",0,$M$22) -> 7 | E17: =C17-D17 -> 9 | F17: ='1° GIORNATA'!$D$17+'2° GIORNATA'!$K$17+'4° GIORNATA'!$K$17+'3° GIORNATA'!$B$75+'5° GIORNATA'!B17 -> 386 | G17: A3 | J17: =A5 -> Ac Denti | K17: =A9 -> CS Riposa | L17: =IF('4° GIORNATA'!$B$17=0,"",'4° GIORNATA'!$B$5) -> 0 | M17: =IF('4° GIORNATA'!$D$17=0,"",'4° GIORNATA'!$D$5) -> 3 | N17: 3 | O17: =IF(L17="",0,IF(L17>M17,3,IF(L17=M17,1,0))) -> 0 | P17: =IF(M17="",0,IF(M17>L17,3,IF(M17=L17,1,0))) -> 3
A18: FC Marcellona | B18: =$O$3+$P$7+$O$13+$P$22 -> 4 | C18: =IF($L$3="",0,$L$3)+IF($M$7="",0,$M$7)+IF($L$13="",0,$L$13)+IF($M$22="",0,$M$22) -> 4 | D18: =IF($M$3="",0,$M$3)+IF($L$7="",0,$L$7)+IF($M$13="",0,$M$13)+IF($L$22="",0,$L$22) -> 12 | E18: =C18-D18 -> -8 | F18: ='1° GIORNATA'!$K$17+'2° GIORNATA'!$D$17+'3° GIORNATA'!$K$17+'5° GIORNATA'!$D$17+'4° GIORNATA'!$B$75 -> 338 | G18: A4 | J18: =A6 -> Evribadi | K18: =A8 -> Skiacciak Mosca | L18: =IF('4° GIORNATA'!$K$17=0,"",'4° GIORNATA'!$K$5) -> 5 | M18: =IF('4° GIORNATA'!$M$17=0,"",'4° GIORNATA'!$M$5) -> 0 | N18: 4 | O18: =IF(L18="",0,IF(L18>M18,3,IF(L18=M18,1,0))) -> 3 | P18: =IF(M18="",0,IF(M18>L18,3,IF(M18=L18,1,0))) -> 0
A19: Skiacciak Mosca | B19: =$P$3+$P$12+$P$18+O23 -> 3 | C19: =IF($M$3="",0,$M$3)+IF($M$12="",0,$M$12)+IF($M$18="",0,$M$18)+IF($L$23="",0,$L$23) -> 5 | D19: =IF($L$3="",0,$L$3)+IF($L$12="",0,$L$12)+IF($L$18="",0,$L$18)+IF($M$23="",0,$M$23) -> 10 | E19: =C19-D19 -> -5 | F19: ='1° GIORNATA'!$M$17+'2° GIORNATA'!$B$75+'3° GIORNATA'!$D$17+'4° GIORNATA'!$M$17+'5° GIORNATA'!$K$17 -> 353.5 | J19: =A7 -> FC Marcellona | K19: RIPOSA | N19: 5
J21: 5° GIORNATA
J22: =A6 -> Evribadi | K22: =A7 -> FC Marcellona | L22: =IF('5° GIORNATA'!$B$17=0,"",'5° GIORNATA'!$B$5) -> 6 | M22: =IF('5° GIORNATA'!$D$17=0,"",'5° GIORNATA'!$D$5) -> 0 | O22: =IF(L22="",0,IF(L22>M22,3,IF(L22=M22,1,0))) -> 3 | P22: =IF(M22="",0,IF(M22>L22,3,IF(M22=L22,1,0))) -> 0
J23: =A8 -> Skiacciak Mosca | K23: =A9 -> CS Riposa | L23: =IF('5° GIORNATA'!$K$17=0,"",'5° GIORNATA'!$K$5) -> 2 | M23: =IF('5° GIORNATA'!$M$17=0,"",'5° GIORNATA'!$M$5) -> 0 | O23: =IF(L23="",0,IF(L23>M23,3,IF(L23=M23,1,0))) -> 3 | P23: =IF(M23="",0,IF(M23>L23,3,IF(M23=L23,1,0))) -> 0
J24: =A5 -> Ac Denti | K24: RIPOSA
A27: GIRONE B | J27: 1° GIORNATA
J28: =A31 -> Scarsenal | K28: =A32 -> Fly Beard | L28: =IF('1° GIORNATA'!$B$46=0,"",'1° GIORNATA'!$B$34) -> 5 | M28: =IF('1° GIORNATA'!$D$46=0,"",'1° GIORNATA'!$D$34) -> 1 | O28: =IF(L28="",0,IF(L28>M28,3,IF(L28=M28,1,0))) -> 3 | P28: =IF(M28="",0,IF(M28>L28,3,IF(M28=L28,1,0))) -> 0
A29: SQUADRE | J29: =A33 -> Tette Biscottate | K29: =A34 -> Interfogat | L29: =IF('1° GIORNATA'!$K$46=0,"",'1° GIORNATA'!$K$34) -> 4 | M29: =IF('1° GIORNATA'!$M$46=0,"",'1° GIORNATA'!$M$34) -> 5 | O29: =IF(L29="",0,IF(L29>M29,3,IF(L29=M29,1,0))) -> 0 | P29: =IF(M29="",0,IF(M29>L29,3,IF(M29=L29,1,0))) -> 3
J30: =A35 -> Ac Conte | K30: RIPOSA
A31: Scarsenal | B31: F
A32: Fly Beard | B32: G | J32: 2° GIORNATA
A33: Tette Biscottate | B33: H | J33: =A31 -> Scarsenal | K33: =A33 -> Tette Biscottate | L33: =IF('2° GIORNATA'!$B$46=0,"",'2° GIORNATA'!$B$34) -> 2 | M33: =IF('2° GIORNATA'!$D$46=0,"",'2° GIORNATA'!$D$34) -> 4 | O33: =IF(L33="",0,IF(L33>M33,3,IF(L33=M33,1,0))) -> 0 | P33: =IF(M33="",0,IF(M33>L33,3,IF(M33=L33,1,0))) -> 3
A34: Interfogat | B34: I | J34: =A32 -> Fly Beard | K34: =A35 -> Ac Conte | L34: =IF('2° GIORNATA'!$K$46=0,"",'2° GIORNATA'!$K$34) -> 2 | M34: =IF('2° GIORNATA'!$M$46=0,"",'2° GIORNATA'!$M$34) -> 0 | O34: =IF(L34="",0,IF(L34>M34,3,IF(L34=M34,1,0))) -> 3 | P34: =IF(M34="",0,IF(M34>L34,3,IF(M34=L34,1,0))) -> 0
A35: Ac Conte | B35: L | J35: =A34 -> Interfogat | K35: RIPOSA
J37: 3° GIORNATA
A38: CLASSIFICA | J38: =A31 -> Scarsenal | K38: =A34 -> Interfogat | L38: =IF('3° GIORNATA'!$B$46=0,"",'3° GIORNATA'!$B$34) -> 2 | M38: =IF('3° GIORNATA'!$D$46=0,"",'3° GIORNATA'!$D$34) -> 1 | O38: =IF(L38="",0,IF(L38>M38,3,IF(L38=M38,1,0))) -> 3 | P38: =IF(M38="",0,IF(M38>L38,3,IF(M38=L38,1,0))) -> 0
J39: =A33 -> Tette Biscottate | K39: =A35 -> Ac Conte | L39: =IF('3° GIORNATA'!$K$46=0,"",'3° GIORNATA'!$K$34) -> 4 | M39: =IF('3° GIORNATA'!$M$46=0,"",'3° GIORNATA'!$M$34) -> 6 | O39: =IF(L39="",0,IF(L39>M39,3,IF(L39=M39,1,0))) -> 0 | P39: =IF(M39="",0,IF(M39>L39,3,IF(M39=L39,1,0))) -> 3
B40: pts | C40: g.f. | D40: g.s. | E40: diff. | F40: fantaPts | J40: =A32 -> Fly Beard | K40: RIPOSA
A41: Ac Conte | B41: =$P$34+$P$39+$P$43+$P$49 -> 9 | C41: =IF($M$34="",0,$M$34)+IF($M$39="",0,$M$39)+IF($M$43="",0,$M$43)+IF($M$49="",0,$M$49) -> 17 | D41: =IF($L$34="",0,$L$34)+IF($L$43="",0,$L$43)+IF($L$39="",0,$L$39)+IF($L$49="",0,$L$49) -> 10 | E41: =C41-D41 -> 7 | F41: ='1° GIORNATA'!$B$75+'2° GIORNATA'!$M$46+'3° GIORNATA'!$M$46+'4° GIORNATA'!$D$46+'5° GIORNATA'!$M$46 -> 400 | G41: B1 | N41: 1
A42: Tette Biscottate | B42: =$O$29+$P$33+$O$39+$P$48 -> 6 | C42: =IF($L$29="",0,$L$29)+IF($M$33="",0,$M$33)+IF($L$39="",0,$L$39)+IF($M$48="",0,$M$48) -> 17 | D42: =IF($M$29="",0,$M$29)+IF($M$39="",0,$M$39)+IF($L$33="",0,$L$33)+IF($L$48="",0,$L$48) -> 13 | E42: =C42-D42 -> 4 | F42: ='1° GIORNATA'!$K$46+'2° GIORNATA'!$D$46+'3° GIORNATA'!$K$46+'4° GIORNATA'!$K$75+'5° GIORNATA'!$D$46 -> 395 | G42: B2 | J42: 4° GIORNATA | N42: 2
A43: Scarsenal | B43: =$O$28+$O$33+$O$38+$O$43 -> 6 | C43: =IF($L$28="",0,$L$28)+IF($L$33="",0,$L$33)+IF($L$38="",0,$L$38)+IF($L$43="",0,$L$43) -> 9 | D43: =IF($M$28="",0,$M$28)+IF($M$33="",0,$M$33)+IF($M$38="",0,$M$38)+IF($M$43="",0,$M$43) -> 10 | E43: =C43-D43 -> -1 | F43: ='1° GIORNATA'!$B$46+'2° GIORNATA'!$B$46+'3° GIORNATA'!$B$46+'4° GIORNATA'!$B$46+'5° GIORNATA'!$K$75 -> 365.5 | G43: B3 | J43: =A31 -> Scarsenal | K43: =A35 -> Ac Conte | L43: =IF('4° GIORNATA'!$B$46=0,"",'4° GIORNATA'!$B$34) -> 0 | M43: =IF('4° GIORNATA'!$D$46=0,"",'4° GIORNATA'!$D$34) -> 4 | N43: 3 | O43: =IF(L43="",0,IF(L43>M43,3,IF(L43=M43,1,0))) -> 0 | P43: =IF(M43="",0,IF(M43>L43,3,IF(M43=L43,1,0))) -> 3
A44: Interfogat | B44: =$P$29+$P$38+$P$44+$O$49 -> 6 | C44: =IF($M$29="",0,$M$29)+IF($M$38="",0,$M$38)+IF($M$44="",0,$M$44)+IF($L$49="",0,$L$49) -> 12 | D44: =IF($L$29="",0,$L$29)+IF($L$38="",0,$L$38)+IF($L$44="",0,$L$44)+IF($M$49="",0,$M$49) -> 14 | E44: =C44-D44 -> -2 | F44: ='1° GIORNATA'!$M$46+'2° GIORNATA'!$K$75+'3° GIORNATA'!$D$46+'4° GIORNATA'!$M$46+'5° GIORNATA'!$K$46 -> 362 | G44: B4 | J44: =A32 -> Fly Beard | K44: =A34 -> Interfogat | L44: =IF('4° GIORNATA'!$K$46=0,"",'4° GIORNATA'!$K$34) -> 1 | M44: =IF('4° GIORNATA'!$M$46=0,"",'4° GIORNATA'!$M$34) -> 2 | N44: 4 | O44: =IF(L44="",0,IF(L44>M44,3,IF(L44=M44,1,0))) -> 0 | P44: =IF(M44="",0,IF(M44>L44,3,IF(M44=L44,1,0))) -> 3
A45: Fly Beard | B45: =$P$28+$O$34+$O$44+$O$48 -> 3 | C45: =IF($M$28="",0,$M$28)+IF($L$34="",0,$L$34)+IF($L$44="",0,$L$44)+IF($L$48="",0,$L$48) -> 4 | D45: =IF($L$28="",0,$L$28)+IF($M$34="",0,$M$34)+IF($M$44="",0,$M$44)+IF($M$48="",0,$M$48) -> 12 | E45: =C45-D45 -> -8 | F45: ='1° GIORNATA'!$D$46+'2° GIORNATA'!$K$46+'3° GIORNATA'!$K$75+'4° GIORNATA'!$K$46+'5° GIORNATA'!$B$46 -> 355 | J45: =A33 -> Tette Biscottate | K45: RIPOSA | N45: 5
...

Sheet 1° GIORNATA
A1: 1° GIORNATA
A3: GIRONE A
A5: AC DENTI | B5: =IF(B17<66,0,IF(B17<70,1,IF(B17<74,2,IF(B17<78,3,IF(B17<82,4,IF(B17<86,5,IF(B17<90,6,IF(B17<94,7,IF(B17<98,8,IF(B17<101,9,10)))))))))) -> 4 | C5: EVRIBADI | D5: =IF(D17<66,0,IF(D17<70,1,IF(D17<74,2,IF(D17<78,3,IF(D17<82,4,IF(D17<86,5,IF(D17<90,6,IF(D17<94,7,IF(D17<98,8,IF(D17<101,9,10)))))))))) -> 3 | J5: FC MARCELLONA | K5: =IF(K17<66,0,IF(K17<70,1,IF(K17<74,2,IF(K17<78,3,IF(K17<82,4,IF(K17<86,5,IF(K17<90,6,IF(K17<94,7,IF(K17<98,8,IF(K17<101,9,10)))))))))) -> 2 | L5: SKIACCIAK MOSCA | M5: =IF(M17<66,0,IF(M17<70,1,IF(M17<74,2,IF(M17<78,3,IF(M17<82,4,IF(M17<86,5,IF(M17<90,6,IF(M17<94,7,IF(M17<98,8,IF(M17<101,9,10)))))))))) -> 1
A6: LIVERPOOL | B6: 5 | C6: PORTO | D6: 5.5 | J6: PSG | K6: 4.5 | L6: REAL MADRID | M6: 5.5
A7: RAMOS SERGIO | B7: 6 | C7: ALABA DAVID | D7: 7 | J7: THIAGO SILVA | K7: 6 | L7: LOVREN DEJAN | M7: 6
A8: PIQUE' GERARD | B8: 9.5 | C8: LICHTSTEINER STEPHAN | D8: 6.5 | J8: HUMMELS MATS | K8: 3.5 | L8: EVRA PATRICE | M8: 6.5
A9: MAICON DOUGLAS | B9: 10 | C9: MATHIEU JEREMY | D9: 6 | J9: JORDI ALBA | K9: 4.5 | L9: MARTINS INDI BRUNO | M9: 6
A10: ROBBEN ARJEN | B10: 6 | C10: OSCAR | D10: 6 | J10: DANILO | K10: 7 | L10: KROOS TONI | M10: 7
A11: STERLING RAHEEM | B11: 5.5 | C11: SNEIJDER WESLEY | D11: 7 | J11: FABREGAS CESC | K11: 9 | L11: XABI ALONSO | M11: 7
A12: NASRI SAMIR | B12: 5 | C12: KAGAWA SHINJI | D12: 5.5 | J12: POGBA PAUL | K12: 6 | L12: MATIC NEMANJA | M12: 6
A13: BUSQUETS SERGIO | B13: 8 | C13: NANI | D13: 10 | J13: GOTZE MARIO | K13: 6 | L13: QUARESMA RICARDO | M13: 6
A14: MANDZUKIC MARIO | B14: 9 | C14: LEWANDOWSKI ROBERT | D14: 5.5 | J14: NEYMAR | K14: 6.5 | L14: DIEGO COSTA | M14: 5.5
A15: WELBECK DANNY | B15: 6.5 | C15: SANCHEZ ALEXIS | D15: 5.5 | J15: MUNIAIN IKER | K15: 6.5 | L15: TOTTI FRANCESCO | M15: 7
A16: BALOTELLI MARIO | B16: 10 | C16: CAVANI EDINSON | D16: 9.5 | J16: ITURBE JUAN | K16: 11 | L16: ADURIZ ARITZ | M16: 4.5
B17: =SUM(B6:B16) -> 80.5 | D17: =SUM(D6:D16) -> 74 | K17: =SUM(K6:K16) -> 70.5 | M17: =SUM(M6:M16) -> 67
A18: PANCHINA | C18: PANCHINA | J18: PANCHINA | L18: PANCHINA
A19: LIVERPOOL | B19: 5 | C19: PORTO | D19: 5.5 | J19: PSG | K19: 4.5 | L19: REAL MADRID | M19: 5.5
A20: JUANFRAN | B20: 6 | C20: ALEX SANDRO | D20: 6 | J20: BENATIA MEHDI | K20: 6 | L20: MANOLAS KONSTANTINOS | M20: 7
A21: PISZCZEK LUKASZ | B21: sv | C21: CHEDJOU AURELIEN | D21: 7.5 | J21: MAXI PEREIRA | K21: 3.5 | L21: MIRANDA JOAO | M21: 5
A22: CLICHY GAEL | B22: 5 | C22: SUBOTIC NEVEN | D22: 7 | J22: MERTESACKER PER | K22: 4.5 | L22: PAPASTATHOPOULOS SOKRATIS | M22: 6.5
A23: PJANIC MIRALEM | B23: 8 | C23: RAMSEY AARON | D23: 5.5 | J23: SCHWEINSTEIGER BASTIAN | K23: sv | L23: KEITA SEYDOU | M23: 7
A24: BOATENG KEVIN PRINCE | B24: 5.5 | C24: ALEX TEIXEIRA | D24: 6 | J24: GUNDOGAN ILKAY | K24: sv | L24: MOTTA THIAGO | M24: 6
A25: VERRATTI MARCO | B25: 6 | C25: DANNY | D25: 8 | J25: THIAGO ALCANTARA | K25: sv | L25: CALHANOGLU HAKAN | M25: 6
A26: DZEKO EDIN | B26: 5.5 | C26: PANDEV GORAN | D26: 6.5 | J26: OLIVEIRA NELSON | K26: sv | L26: RAMOS ADRIAN | M26: sv
A27: MITROGLOU KONSTANTINOS | B27: 10 | C27: LUIZ ADRIANO | D27: 5.5 | J27: MITROVIC ALEKSANDAR | K27: 6.5 | L27: YILMAZ BURAK | M27: 9
A28: LAVEZZI EZEQUIEL | B28: sv | C28: GIROUD OLIVIER | D28: sv | J28: DESTRO MATTIA | K28: sv | L28: BERBATOV DIMITAR | M28: 7
A32: GIRONE B
A34: SCARSENAL | B34: =IF(B46<66,0,IF(B46<70,1,IF(B46<74,2,IF(B46<78,3,IF(B46<82,4,IF(B46<86,5,IF(B46<90,6,IF(B46<94,7,IF(B46<98,8,IF(B46<101,9,10)))))))))) -> 5 | C34: FLY BEARD | D34: =IF(D46<66,0,IF(D46<70,1,IF(D46<74,2,IF(D46<78,3,IF(D46<82,4,IF(D46<86,5,IF(D46<90,6,IF(D46<94,7,IF(D46<98,8,IF(D46<101,9,10)))))))))) -> 1 | J34: TETTE BISCOTTATE | K34: =IF(K46<66,0,IF(K46<70,1,IF(K46<74,2,IF(K46<78,3,IF(K46<82,4,IF(K46<86,5,IF(K46<90,6,IF(K46<94,7,IF(K46<98,8,IF(K46<101,9,10)))))))))) -> 4 | L34: INTERFOGAT | M34: =IF(M46<66,0,IF(M46<70,1,IF(M46<74,2,IF(M46<78,3,IF(M46<82,4,IF(M46<86,5,IF(M46<90,6,IF(M46<94,7,IF(M46<98,8,IF(M46<101,9,10)))))))))) -> 5
A35: CHELSEA | B35: 5 | C35: JUVENTUS | D35: 7 | J35: BORUSSIA DORTMUND | K35: 6 | L35: BARCELLONA | M35: 6.5
A36: CAHILL GARY | B36: 6 | C36: GODIN DIEGO | D36: 5 | J36: IVANOVIC BRANISLAV | K36: 6.5 | L36: CHIELLINI GIORGIO | M36: 7
A37: DANI ALVES | B37: 6.5 | C37: MORENO ALBERTO | D37: 6.5 | J37: DAVID LUIZ | K37: 6 | L37: LUISAO | M37: 5
A38: PEPE | B38: 6 | C38: CACERES MARTIN | D38: 7 | J38: BOATENG JEROME | K38: 10 | L38: VAN DER WIEL GREGORY | M38: 5
A39: RAKITIC IVAN | B39: 4.5 | C39: MKHITARYAN HENRIKH | D39: 7 | J39: RIBERY FRANCK | K39: 7 | L39: BALE GARETH | M39: 11
A40: COUTINHO PHILIPPE | B40: 5.5 | C40: KOKE | D40: 6.5 | J40: INIESTA ANDRES | K40: 6 | L40: RODRIGUEZ JAMES | M40: 9.5
A41: HENDERSON JORDAN | B41: 6 | C41: SALVIO EDUARDO | D41: 4 | J41: ARDA TURAN | K41: 6 | L41: GERRARD STEVEN | M41: 9.5
A42: TIAGO | B42: 7 | C42: MARCHISIO CLAUDIO | D42: 6 | J42: GAITAN NICOLAS | K42: 5 | L42: RAMIRES | M42: 5.5
A43: MARTINEZ JACKSON | B43: 10 | C43: IBRAHIMOVIC ZLATAN | D43: 6 | J43: RONALDO CRISTIANO | K43: 11 | L43: TALISCA | M43: 5
A44: HULK | B44: 11 | C44: HUNTELAAR KLAAS JAN | D44: 8.5 | J44: KIESSLING STEFAN | K44: 5 | L44: TEVEZ CARLOS | M44: 14
A45: GERVINHO | B45: 15.5 | C45: RONDON SALOMON | D45: 6 | J45: IMMOBILE CIRO | K45: 11 | L45: PEDRO | M45: 5
B46: =SUM(B35:B45) -> 83 | D46: =SUM(D35:D45) -> 69.5 | K46: =SUM(K35:K45) -> 79.5 | M46: =SUM(M35:M45) -> 83
...

Sheet 2° GIORNATA
A1: 2° GIORNATA
A3: GIRONE A
A5: AC Denti | B5: =IF(B17<66,0,IF(B17<70,1,IF(B17<74,2,IF(B17<78,3,IF(B17<82,4,IF(B17<86,5,IF(B17<90,6,IF(B17<94,7,IF(B17<98,8,IF(B17<101,9,10)))))))))) -> 3 | C5: FC Marcellona | D5: =IF(D17<66,0,IF(D17<70,1,IF(D17<74,2,IF(D17<78,3,IF(D17<82,4,IF(D17<86,5,IF(D17<90,6,IF(D17<94,7,IF(D17<98,8,IF(D17<101,9,10)))))))))) -> 0 | J5: Evribadi | K5: =IF(K17<66,0,IF(K17<70,1,IF(K17<74,2,IF(K17<78,3,IF(K17<82,4,IF(K17<86,5,IF(K17<90,6,IF(K17<94,7,IF(K17<98,8,IF(K17<101,9,10)))))))))) -> 2 | L5: CS Riposa | M5: =IF(M17<66,0,IF(M17<70,1,IF(M17<74,2,IF(M17<78,3,IF(M17<82,4,IF(M17<86,5,IF(M17<90,6,IF(M17<94,7,IF(M17<98,8,IF(M17<101,9,10)))))))))) -> 3
A6: LIVERPOOL | B6: 5.5 | C6: PSG | D6: 4 | J6: PORTO | K6: 3.5 | L6: BAYERN MONACO | M6: 6.5
A7: RAMOS SERGIO | B7: 5.5 | C7: HUMMELS MATS | D7: 4.5 | J7: ALABA DAVID | K7: 6.5 | L7: LAHM PHILIPP | M7: 6
A8: PIQUE' GERARD | B8: 7.5 | C8: JORDI ALBA | D8: 6 | J8: LICHTSTEINER STEPHAN | K8: 5.5 | L8: COENTRAO FABIO | M8: 5
A9: MAICON DOUGLAS | B9: 5.5 | C9: DANILO | D9: 6 | J9: SUBOTIC NEVEN | K9: 6 | L9: MANQUILLO JAVIER | M9: 5.5
A10: ROBBEN ARJEN | B10: 5.5 | C10: VARANE RAPHAEL | D10: 6 | J10: OSCAR | K10: 6.5 | L10: OZIL MESUT | M10: 6.5
A11: STERLING RAHEEM | B11: 4 | C11: FABREGAS CESC | D11: 7 | J11: SNEIJDER WESLEY | K11: 6 | L11: MODRIC LUKA | M11: 6
A12: PJANIC MIRALEM | B12: 6.5 | C12: POGBA PAUL | D12: 4.5 | J12: DANNY | K12: 5.5 | L12: NAVAS JESUS | M12: 5.5
A13: BOATENG KEVIN PRINCE | B13: 6 | C13: GOTZE MARIO | D13: 6 | J13: KAGAWA SHINJI | K13: 8 | L13: WITSEL AXEL | M13: 7.5
A14: MANDZUKIC MARIO | B14: 6 | C14: NEYMAR | D14: 9.5 | J14: LEWANDOWSKI ROBERT | K14: 5.5 | L14: MULLER THOMAS | M14: 9.5
A15: WELBECK DANNY | B15: 18 | C15: MUNIAIN IKER | D15: 6 | J15: SANCHEZ ALEXIS | K15: 11 | L15: BENZEMA KARIM | M15: 10
A16: DZEKO EDIN | B16: 6 | C16: DESTRO MATTIA | D16: 4.5 | J16: CAVANI EDINSON | K16: 6 | L16: SON HEUNG-MIN | M16: 9.5
B17: =SUM(B6:B16) -> 76 | D17: =SUM(D6:D16) -> 64 | K17: =SUM(K6:K16) -> 70 | M17: =SUM(M6:M16) -> 77.5
A18: PANCHINA | C18: PANCHINA | J18: PANCHINA | L18: PANCHINA
A19: LIVERPOOL | B19: 5.5 | C19: PSG | D19: 4 | J19: PORTO | K19: 3.5 | L19: BAYERN MONACO | M19: 6.5
A20: JUANFRAN | B20: 7.5 | C20: BENATIA MEHDI | D20: 4.5 | J20: SRNA DARIJO | K20: 5 | L20: DEMICHELIS MARTIN | M20: 5
A21: IGNASHEVICH SERGEY | B21: 6.5 | C21: MERTESACKER PER | D21: 6.5 | J21: KOMPANY VINCENT | K21: 6 | L21: MARQUINHOS | M21: 6.5
A22: PISZCZEK LUKASZ | B22: 8 | C22: MAXI PEREIRA | D22: 5 | J22: ALEX SANDRO | K22: 5.5 | L22: SAKHO MAMADOU | M22: sv
A23: VERRATTI MARCO | B23: 9.5 | C23: SCHWEINSTEIGER BASTIAN | D23: sv | J23: NANI | K23: 6 | L23: NAINGGOLAN RADJA | M23: 7.5
A24: BUSQUETS SERGIO | B24: 5.5 | C24: THIAGO ALCANTARA | D24: sv | J24: ALEX TEIXEIRA | K24: 9 | L24: MOUTINHO JOAO | M24: 6
A25: SAHIN NURI | B25: sv | C25: DE ROSSI DANIELE | D25: sv | J25: RAMSEY AARON | K25: sv | L25: GABI | M25: sv
A26: BALOTELLI MARIO | B26: 5.5 | C26: MITROVIC ALEKSANDAR | D26: 4.5 | J26: LUIZ ADRIANO | K26: 9 | L26: DOUMBIA SEYDOU | M26: 5.5
A27: MITROGLOU KONSTANTINOS | B27: 7 | C27: OLIVEIRA NELSON | D27: sv | J27: PANDEV GORAN | K27: 5 | L27: HERNANDEZ CHICHARITO | M27: 5
A28: LAVEZZI EZEQUIEL | B28: sv | C28: ITURBE JUAN | D28: 6 | J28: GIROUD OLIVIER | K28: sv | L28: GRIEZMANN ANTOINE | M28: 5.5
A32: GIRONE B
A34: Scarsenal | B34: =IF(B46<66,0,IF(B46<70,1,IF(B46<74,2,IF(B46<78,3,IF(B46<82,4,IF(B46<86,5,IF(B46<90,6,IF(B46<94,7,IF(B46<98,8,IF(B46<101,9,10)))))))))) -> 2 | C34: Tette Biscottate | D34: =IF(D46<66,0,IF(D46<70,1,IF(D46<74,2,IF(D46<78,3,IF(D46<82,4,IF(D46<86,5,IF(D46<90,6,IF(D46<94,7,IF(D46<98,8,IF(D46<101,9,10)))))))))) -> 4 | J34: Fly Beard | K34: =IF(K46<66,0,IF(K46<70,1,IF(K46<74,2,IF(K46<78,3,IF(K46<82,4,IF(K46<86,5,IF(K46<90,6,IF(K46<94,7,IF(K46<98,8,IF(K46<101,9,10)))))))))) -> 2 | L34: AC Conte | M34: =IF(M46<66,0,IF(M46<70,1,IF(M46<74,2,IF(M46<78,3,IF(M46<82,4,IF(M46<86,5,IF(M46<90,6,IF(M46<94,7,IF(M46<98,8,IF(M46<101,9,10)))))))))) -> 0
A35: CHELSEA | B35: 6 | C35: BORUSSIA DORTMUND | D35: 6.5 | J35: JUVENTUS | K35: 5 | L35: ATLETICO MADRID | M35: 6
A36: CAHILL GARY | B36: 6 | C36: IVANOVIC BRANISLAV | D36: 5.5 | J36: GODIN DIEGO | K36: 7 | L36: TERRY JOHN | M36: 6
A37: PEPE | B37: 6.5 | C37: DAVID LUIZ | D37: 9.5 | J37: MARCELO | K37: 8 | L37: GARAY EZEQUIEL | M37: 6
A38: MONREAL NACHO | B38: 5.5 | C38: BOATENG JEROME | D38: 5.5 | J38: MORENO ALBERTO | K38: 6 | L38: KURZAWA LAYVIN | M38: 6.5
A39: SAM SIDNEY | B39: 5 | C39: INIESTA ANDRES | D39: 7.5 | J39: VIDAL ARTURO | K39: 5.5 | L39: HAZARD EDEN | M39: 5.5
A40: COUTINHO PHILIPPE | B40: 6 | C40: DOUGLAS COSTA | D40: 5 | J40: KOKE | K40: 6 | L40: TOURE' YAYA | M40: 6.5
A41: HENDERSON JORDAN | B41: 5.5 | C41: ARDA TURAN | D41: 10 | J41: SALVIO EDUARDO | K41: 8.5 | L41: DRAXLER JULIAN | M41: 6.5
A42: TOULALAN JEREMY | B42: 5.5 | C42: GAITAN NICOLAS | D42: 5 | J42: SCHONE LASSE | K42: 5 | L42: BRAHIMI YACINE | M42: 3
A43: AUBAMEYANG PIERRE-EMERICK | B43: 5.5 | C43: RONALDO CRISTIANO | D43: 6.5 | J43: HUNTELAAR KLAAS JAN | K43: 10 | L43: MESSI LIONEL | M43: 9.5
A44: MARTINEZ JACKSON | B44: 13 | C44: AGUERO SERGIO | D44: 9 | J44: RONDON SALOMON | K44: 5.5 | L44: LLORENTE FERNANDO | M44: 5.5
A45: HULK | B45: 5.5 | C45: KIESSLING STEFAN | D45: 9 | J45: MORATA ALVARO | K45: 5.5 | L45: SIGHTORSSON KOLBEINN | M45: 4
B46: =SUM(B35:B45) -> 70 | D46: =SUM(D35:D45) -> 79 | K46: =SUM(K35:K45) -> 72 | M46: =SUM(M35:M45) -> 65
...

Sheet 3° GIORNATA
A1: 3° GIORNATA
A3: GIRONE A
A5: Ac Denti | B5: =IF(B17<66,0,IF(B17<70,1,IF(B17<74,2,IF(B17<78,3,IF(B17<82,4,IF(B17<86,5,IF(B17<90,6,IF(B17<94,7,IF(B17<98,8,IF(B17<101,9,10)))))))))) -> 3 | C5: Skiacciak Mosca | D5: =IF(D17<66,0,IF(D17<70,1,IF(D17<74,2,IF(D17<78,3,IF(D17<82,4,IF(D17<86,5,IF(D17<90,6,IF(D17<94,7,IF(D17<98,8,IF(D17<101,9,10)))))))))) -> 2 | J5: FC Marcellona | K5: =IF(K17<66,0,IF(K17<70,1,IF(K17<74,2,IF(K17<78,3,IF(K17<82,4,IF(K17<86,5,IF(K17<90,6,IF(K17<94,7,IF(K17<98,8,IF(K17<101,9,10)))))))))) -> 2 | L5: CS Riposa | M5: =IF(M17<66,0,IF(M17<70,1,IF(M17<74,2,IF(M17<78,3,IF(M17<82,4,IF(M17<86,5,IF(M17<90,6,IF(M17<94,7,IF(M17<98,8,IF(M17<101,9,10)))))))))) -> 2
A6: LIVERPOOL | B6: 2 | C6: REAL MADRID | D6: 6.5 | J6: PSG | K6: 5 | L6: BAYERN MONACO | M6: 6.5
A7: PIQUE' GERARD | B7: 5 | C7: MIRANDA JOAO | D7: 6.5 | J7: HUMMELS MATS | K7: 6.5 | L7: LAHM PHILIPP | M7: 7.5
A8: JUANFRAN | B8: 7.5 | C8: MARTINS INDI BRUNO | D8: 5 | J8: JORDI ALBA | K8: 7 | L8: AZPILICUETA CESAR | M8: 0
A9: MAICON DOUGLAS | B9: 8 | C9: MANOLAS KONSTANTINOS | D9: 4 | J9: DANILO | K9: 5 | L9: DEMICHELIS MARTIN | M9: 0
A10: ROBBEN ARJEN | B10: 16 | C10: KROOS TONI | D10: 7.5 | J10: VARANE RAPHAEL | K10: 6 | L10: MODRIC LUKA | M10: 6.5
A11: STERLING RAHEEM | B11: 5 | C11: MATIC NEMANJA | D11: 7 | J11: FABREGAS CESC | K11: 7.5 | L11: GABI | M11: 5
A12: PJANIC MIRALEM | B12: 4 | C12: QUARESMA RICARDO | D12: 9.5 | J12: POGBA PAUL | K12: 4.5 | L12: WITSEL AXEL | M12: 5
A13: BOATENG KEVIN PRINCE | B13: 5 | C13: CALHANOGLU HAKAN | D13: 8 | J13: GOTZE MARIO | K13: 11 | L13: NAINGGOLAN RADJA | M13: 5.5
A14: MANDZUKIC MARIO | B14: 10 | C14: TOTTI FRANCESCO | D14: 4 | J14: NEYMAR | K14: 10 | L14: MULLER THOMAS | M14: 12
A15: WELBECK DANNY | B15: 5 | C15: RAMOS ADRIAN | D15: 9.5 | J15: MUNIAIN IKER | K15: 5 | L15: BENZEMA KARIM | M15: 14
A16: DZEKO EDIN | B16: 6.5 | C16: BERBATOV DIMITAR | D16: 6 | J16: ITURBE JUAN | K16: 3.5 | L16: GRIEZMANN ANTOINE | M16: 10.5
B17: =SUM(B6:B16) -> 74 | D17: =SUM(D6:D16) -> 73.5 | K17: =SUM(K6:K16) -> 71 | M17: =SUM(M6:M16) -> 72.5
A18: PANCHINA | C18: PANCHINA | J18: PANCHINA | L18: PANCHINA
A19: LIVERPOOL | B19: 2 | C19: REAL MADRID | D19: 6.5 | J19: PSG | K19: 6 | L19: BAYERN MONACO | M19: 6.5
A20: PISZCZEK LUKASZ | B20: 8 | C20: PAPASTATHOPOULOS SOKRATIS | D20: 6 | J20: BENATIA MEHDI | K20: 7 | L20: JEDVAJ TIN | M20: sv
A21: IGNASHEVICH SERGEY | B21: 5.5 | C21: CRISCITO DOMENICO | D21: 5.5 | J21: MERTESACKER PER | K21: 6 | L21: COENTRAO FABIO | M21: sv
A22: RAMOS SERGIO | B22: sv | C22: EVRA PATRICE | D22: sv | J22: MAXI PEREIRA | K22: 6.5 | L22: MARQUINHOS | M22: sv
A23: VERRATTI MARCO | B23: 5.5 | C23: MOTTA THIAGO | D23: 5 | J23: SCHWEINSTEIGER BASTIAN | K23: sv | L23: WILSHERE JACK | M23: 5
A24: BUSQUETS SERGIO | B24: sv | C24: XABI ALONSO | D24: 7.5 | J24: THIAGO ALCANTARA | K24: sv | L24: NAVAS JESUS | M24: 5.5
A25: SAHIN NURI | B25: sv | C25: JAVI GARCIA | J25: DE ROSSI DANIELE | K25: 4.5 | L25: MOUTINHO JOAO | M25: 6.5
A26: BALOTELLI MARIO | B26: 5 | C26: YILMAZ BURAK | D26: 4.5 | J26: DESTRO MATTIA | K26: sv | L26: HERNANDEZ CHICHARITO | M26: sv
A27: MITROGLOU KONSTANTINOS | B27: 7.5 | C27: ADURIZ ARITZ | D27: 4.5 | J27: MITROVIC ALEKSANDAR | K27: sv | L27: SON HEUNG-MIN | M27: 6.5
A28: LAVEZZI EZEQUIEL | B28: sv | C28: - | J28: OLIVEIRA NELSON | K28: sv | L28: DOUMBIA SEYDOU | M28: 10
A32: GIRONE B
A34: Scarsenal | B34: =IF(B46<66,0,IF(B46<70,1,IF(B46<74,2,IF(B46<78,3,IF(B46<82,4,IF(B46<86,5,IF(B46<90,6,IF(B46<94,7,IF(B46<98,8,IF(B46<101,9,10)))))))))) -> 2 | C34: Interfogat | D34: =IF(D46<66,0,IF(D46<70,1,IF(D46<74,2,IF(D46<78,3,IF(D46<82,4,IF(D46<86,5,IF(D46<90,6,IF(D46<94,7,IF(D46<98,8,IF(D46<101,9,10)))))))))) -> 1 | J34: Tette Biscottate | K34: =IF(K46<66,0,IF(K46<70,1,IF(K46<74,2,IF(K46<78,3,IF(K46<82,4,IF(K46<86,5,IF(K46<90,6,IF(K46<94,7,IF(K46<98,8,IF(K46<101,9,10)))))))))) -> 4 | L34: AC Conte | M34: =IF(M46<66,0,IF(M46<70,1,IF(M46<74,2,IF(M46<78,3,IF(M46<82,4,IF(M46<86,5,IF(M46<90,6,IF(M46<94,7,IF(M46<98,8,IF(M46<101,9,10)))))))))) -> 6
A35: CHELSEA | B35: 7 | C35: BARCELLONA | D35: 5 | J35: BORUSSIA DORTMUND | K35: 6 | L35: ATLETICO MADRID | M35: 6.5
A36: CAHILL GARY | B36: 6.5 | C36: CHIELLINI GIORGIO | D36: 6 | J36: IVANOVIC BRANISLAV | K36: 6 | L36: MASCHERANO JAVIER | M36: 7.5
A37: DANI ALVES | B37: 7 | C37: VAN DER WIEL GREGORY | D37: 5.5 | J37: DAVID LUIZ | K37: 6.5 | L37: TERRY JOHN | M37: 10
A38: ELISEU PEREIRA DOS SANTOS | B38: 5.5 | C38: MAXWELL | D38: 6 | J38: ZABALETA PABLO | K38: 5.5 | L38: GARAY EZEQUIEL | M38: 6
A39: RAKITIC IVAN | B39: 7 | C39: RODRIGUEZ JAMES | D39: 7 | J39: INIESTA ANDRES | K39: 8.5 | L39: HAZARD EDEN | M39: 14
A40: MATUIDI BLAISE | B40: 5.5 | C40: WILLIAN | D40: 7 | J40: ARDA TURAN | K40: 8.5 | L40: TOURE' YAYA | M40: 7
A41: TOULALAN JEREMY | B41: 6 | C41: PASTORE JAVIER | D41: 4.5 | J41: CAZORLA SANTI | K41: 6 | L41: LUCAS MOURA | M41: 6
A42: TIAGO | B42: 6 | C42: PIRLO ANDREA | D42: 5 | J42: GAITAN NICOLAS | K42: 6.5 | L42: DRAXLER JULIAN | M42: 6
A43: MARTINEZ JACKSON | B43: 5 | C43: CHOUPO-MOTING ERIC MAXIM | D43: 9.5 | J43: RONALDO CRISTIANO | K43: 10 | L43: BRAHIMI YACINE | M43: 5.5
A44: REUS MARCO | B44: 11.5 | C44: PEDRO | D44: 6.5 | J44: AGUERO SERGIO | K44: 10.5 | L44: MESSI LIONEL | M44: 11.5
A45: HULK | B45: 4.5 | C45: TEVEZ CARLOS | D45: 5 | J45: KIESSLING STEFAN | K45: 6 | L45: BELLARABI KARIM | M45: 6.5
B46: =SUM(B35:B45) -> 71.5 | D46: =SUM(D35:D45) -> 67 | K46: =SUM(K35:K45) -> 80 | M46: =SUM(M35:M45) -> 86.5
...

Sheet 4° GIORNATA
A1: 4° GIORNATA
A3: GIRONE A
A5: Ac Denti | B5: =IF(B17<66,0,IF(B17<70,1,IF(B17<74,2,IF(B17<78,3,IF(B17<82,4,IF(B17<86,5,IF(B17<90,6,IF(B17<94,7,IF(B17<98,8,IF(B17<101,9,10)))))))))) -> 0 | C5: CS Riposa | D5: =IF(D17<66,0,IF(D17<70,1,IF(D17<74,2,IF(D17<78,3,IF(D17<82,4,IF(D17<86,5,IF(D17<90,6,IF(D17<94,7,IF(D17<98,8,IF(D17<101,9,10)))))))))) -> 3 | J5: Evribadi | K5: =IF(K17<66,0,IF(K17<70,1,IF(K17<74,2,IF(K17<78,3,IF(K17<82,4,IF(K17<86,5,IF(K17<90,6,IF(K17<94,7,IF(K17<98,8,IF(K17<101,9,10)))))))))) -> 5 | L5: Skiacciak Mosca | M5: =IF(M17<66,0,IF(M17<70,1,IF(M17<74,2,IF(M17<78,3,IF(M17<82,4,IF(M17<86,5,IF(M17<90,6,IF(M17<94,7,IF(M17<98,8,IF(M17<101,9,10)))))))))) -> 0
A6: LIVERPOOL | B6: 5.5 | C6: BAYERN MONACO | D6: 6.5 | J6: PORTO | K6: 6 | L6: REAL MADRID | M6: 6
A7: RAMOS SERGIO | B7: 6 | C7: LAHM PHILIPP | D7: 6.5 | J7: ALABA DAVID | K7: 8.5 | L7: MIRANDA JOAO | M7: 5.5
A8: JUANFRAN | B8: 7.5 | C8: AZPILICUETA CESAR | D8: 5 | J8: LICHTSTEINER STEPHAN | K8: 6 | L8: PAPASTATHOPOULOS SOKRATIS | M8: 10
A9: PISZCZEK LUKASZ | B9: 7 | C9: JEDVAJ TIN | D9: 6 | J9: SRNA DARIJO | K9: 7.5 | L9: CRISCITO DOMENICO | M9: 6
A10: ROBBEN ARJEN | B10: 5.5 | C10: MODRIC LUKA | D10: 6 | J10: OSCAR | K10: 6 | L10: KROOS TONI | M10: 6.5
A11: STERLING RAHEEM | B11: 6 | C11: GABI | D11: 5.5 | J11: ALEX TEIXEIRA | K11: 9.5 | L11: XABI ALONSO | M11: 6
A12: PJANIC MIRALEM | B12: 5.5 | C12: MOUTINHO JOAO | D12: 6 | J12: NANI | K12: 10.5 | L12: MATIC NEMANJA | M12: 7
A13: NASRI SAMIR | B13: 4.5 | C13: WITSEL AXEL | D13: 5 | J13: CERCI ALESSIO | K13: 5.5 | L13: MOTTA THIAGO | M13: 7
A14: WELBECK | B14: 5.5 | C14: MULLER THOMAS | D14: 13.5 | J14: LEWANDOWSKI ROBERT | K14: 8 | L14: DIEGO COSTA | M14: 6
A15: DZEKO EDIN | B15: 5 | C15: BENZEMA KARIM | D15: 10 | J15: SANCHEZ ALEXIS | K15: 9.5 | L15: ADURIZ ARITZ
A16: LAVEZZI EZEQUIEL | B16: 5.5 | C16: GRIEZMANN ANTOINE | D16: 6 | J16: CAVANI EDINSON | K16: 6 | L16: RAMOS ADRIAN
B17: =SUM(B6:B16) -> 63.5 | D17: =SUM(D6:D16) -> 76 | K17: =SUM(K6:K16) -> 83 | M17: =SUM(M6:M16) -> 60
A18: PANCHINA | C18: PANCHINA | J18: PANCHINA | L18: PANCHINA
A19: LIVERPOOL | B19: 5.5 | C19: BAYERN MONACO | D19: 6.5 | J19: PORTO | K19: 6 | L19: REAL MADRID | M19: 6
A20: PIQUE' GERARD | C20: DEMICHELIS MARTIN | D20: 5 | J20: KOMPANY VINCENT | K20: 5 | L20: MARTINS INDI BRUNO | M20: 7
A21: IGNASHEVICH SERGEY | B21: 5 | C21: MANQUILLO JAVIER | D21: 5.5 | J21: SUBOTIC NEVEN | K21: 6 | L21: LOVREN DEJAN
A22: SKRTEL MARTIN | B22: 5 | C22: SAKHO MAMADOU | J22: ALEX SANDRO | K22: 6.5 | L22: MANOLAS KONSTANTINOS | M22: 5.5
A23: VERRATTI MARCO | C23: NAVAS JESUS | D23: 5.5 | J23: KAGAWA SHINJI | K23: 5.5 | L23: CHALANOGLU
A24: BUSQUETS SERGIO | B24: 5.5 | C24: NAINGGOLAN RADJA | D24: 6 | J24: SNEIJDER WESLEY | K24: 7.5 | L24: QUARESMA RICARDO | M24: 6
A25: BOATENG KEVIN PRINCE | B25: 5 | C25: WILSHERE JACK | J25: RAMSEY | K25: 5.5 | L25: JAVI GARCIA | M25: 5.5
A26: MANDZUKIC MARIO | B26: 5.5 | C26: SON HEUNG-MIN | D26: 13.5 | J26: LUIZ ADRIANO | K26: 17.5 | L26: TOTTI FRANCESCO | M26: sv
A27: BALOTELLI MARIO | C27: HERNANDEZ CHICHARITO | J27: PANDEV GORAN | L27: BERBATOV DIMITAR | M27: sv
A28: MITROGLOU KONSTANTINOS | B28: 5.5 | C28: DOUMBIA SEYDOU | D28: 13.5 | J28: GIROUD OLIVIER | L28: YILMAZ BURAK | M28: sv
A32: GIRONE B
A34: Scarsenal | B34: =IF(B46<66,0,IF(B46<70,1,IF(B46<74,2,IF(B46<78,3,IF(B46<82,4,IF(B46<86,5,IF(B46<90,6,IF(B46<94,7,IF(B46<98,8,IF(B46<101,9,10)))))))))) -> 0 | C34: AC Conte | D34: =IF(D46<66,0,IF(D46<70,1,IF(D46<74,2,IF(D46<78,3,IF(D46<82,4,IF(D46<86,5,IF(D46<90,6,IF(D46<94,7,IF(D46<98,8,IF(D46<101,9,10)))))))))) -> 4 | J34: Fly Beard | K34: =IF(K46<66,0,IF(K46<70,1,IF(K46<74,2,IF(K46<78,3,IF(K46<82,4,IF(K46<86,5,IF(K46<90,6,IF(K46<94,7,IF(K46<98,8,IF(K46<101,9,10)))))))))) -> 1 | L34: Interfogat | M34: =IF(M46<66,0,IF(M46<70,1,IF(M46<74,2,IF(M46<78,3,IF(M46<82,4,IF(M46<86,5,IF(M46<90,6,IF(M46<94,7,IF(M46<98,8,IF(M46<101,9,10)))))))))) -> 2
A35: CHELSEA | B35: 5.5 | C35: ATLETICO MADRID | D35: 6 | J35: JUVENTUS | K35: 4 | L35: BARCELLONA | M35: 6.5
A36: CAHILL GARY | B36: 5 | C36: MASCHERANO JAVIER | D36: 5.5 | J36: GODIN DIEGO | K36: 6 | L36: CHIELLINI GIORGIO | M36: 5.5
A37: PEPE | B37: 6 | C37: TERRY JOHN | D37: 7.5 | J37: MARCELO | K37: 7.5 | L37: VAN DER WIEL GREGORY | M37: 7.5
A38: MONREAL NACHO | B38: 4.5 | C38: GARAY EZEQUIEL | D38: 5 | J38: SIQUEIRA GUILHERME | K38: 5.5 | L38: MAXWELL | M38: 6
A39: RAKITIC IVAN | B39: 5.5 | C39: SCHAR FABIAN | D39: 6.5 | J39: KOKE | K39: 9.5 | L39: RODRIGUEZ JAMES | M39: 6
A40: MATUIDI BLAISE | B40: 6 | C40: HAZARD EDEN | D40: 4 | J40: MARCHISIO CLAUDIO | K40: 6 | L40: PASTORE JAVIER | M40: 7.5
A41: COUTINHO PHILIPPE | B41: 4.5 | C41: TOURE' YAYA | D41: 7 | J41: VIDAL ARTURO | K41: 2 | L41: PIRLO ANDREA | M41: 10
A42: TOULALAN JEREMY | B42: 5 | C42: LUCAS MOURA | D42: 6.5 | J42: SCHONE LASSE | K42: 7 | L42: RAMIRES | M42: 6
A43: AUBAMEYANG PIERRE-EMERICK | B43: 7 | C43: RAUL GARCIA | D43: 9.5 | J43: HUNTELAAR KLAAS JAN | K43: 5.5 | L43: TEVEZ CARLOS | M43: 5.5
A44: REUS MARCO | B44: 9.5 | C44: MESSI LIONEL | D44: 13.5 | J44: RONDON SALOMON | K44: 9 | L44: SUAREZ LUIS | M44: 6
A45: HULK | B45: 5.5 | C45: LLORENTE FERNANDO | D45: 7 | J45: MORATA ALVARO | K45: 5.5 | L45: LIMA RODRIGO | M45: 6
B46: =SUM(B35:B45) -> 64 | D46: =SUM(D35:D45) -> 78 | K46: =SUM(K35:K45) -> 67.5 | M46: =SUM(M35:M45) -> 72.5
...

Sheet 5° GIORNATA
A1: 4° GIORNATA
A3: GIRONE A
A5: Evribadi | B5: =IF(B17<66,0,IF(B17<70,1,IF(B17<74,2,IF(B17<78,3,IF(B17<82,4,IF(B17<86,5,IF(B17<90,6,IF(B17<94,7,IF(B17<98,8,IF(B17<101,9,10)))))))))) -> 6 | C5: FC Marcellona | D5: =IF(D17<66,0,IF(D17<70,1,IF(D17<74,2,IF(D17<78,3,IF(D17<82,4,IF(D17<86,5,IF(D17<90,6,IF(D17<94,7,IF(D17<98,8,IF(D17<101,9,10)))))))))) -> 0 | J5: Skiacciak Mosca | K5: =IF(K17<66,0,IF(K17<70,1,IF(K17<74,2,IF(K17<78,3,IF(K17<82,4,IF(K17<86,5,IF(K17<90,6,IF(K17<94,7,IF(K17<98,8,IF(K17<101,9,10)))))))))) -> 2 | L5: CS Riposa | M5: =IF(M17<66,0,IF(M17<70,1,IF(M17<74,2,IF(M17<78,3,IF(M17<82,4,IF(M17<86,5,IF(M17<90,6,IF(M17<94,7,IF(M17<98,8,IF(M17<101,9,10)))))))))) -> 0
A6: PORTO | B6: 6 | C6: PSG | D6: 5.5 | J6: REAL MADRID | K6: 7 | L6: BAYERN MONACO | M6: 2.5
A7: LICHTSTEINER STEPHAN | B7: 7 | C7: THIAGO SILVA | D7: 6.5 | J7: MIRANDA JOAO | L7: COENTRAO FABIO | M7: 6
A8: ALEX SANDRO | B8: 5.5 | C8: HUMMELS MATS | D8: 6.5 | J8: MARTINS INDI BRUNO | K8: 6.5 | L8: JEDVAJ TIN | M8: 7
A9: SRNA DARIJO | B9: 5.5 | C9: BENATIA MEHDI | D9: 4 | J9: MANOLAS KONSTANTINOS | K9: 6.5 | L9: MANQUILLO JAVIER | M9: 6
A10: OSCAR | B10: 7 | C10: DANILO | D10: 6.5 | J10: KROOS TONI | K10: 6 | L10: NAVAS JESUS | M10: 7
A11: ALEX TEIXEIRA | B11: 6 | C11: FABREGAS CESC | D11: 8.5 | J11: XABI ALONSO | K11: 9 | L11: MOUTINHO JOAO | M11: 6
A12: NANI | B12: 12 | C12: POGBA PAUL | D12: 7.5 | J12: MATIC NEMANJA | K12: 7 | L12: WITSEL AXEL | M12: 6
A13: DANNY | B13: 10 | C13: GOTZE MARIO | D13: 6.5 | J13: CALHANOGLU HAKAN | K13: 6 | L13: NAINGGOLAN RADJA | M13: 7
A14: LEWANDOWSKI ROBERT | B14: 9.5 | C14: NEYMAR | J14: DIEGO COSTA | K14: 6.5 | L14: MULLER THOMAS | M14: 5.5
A15: CAVANI EDINSON | B15: 13 | C15: MUNIAIN IKER | D15: 6 | J15: TOTTI FRANCESCO | K15: 10 | L15: GRIEZMANN ANTOINE | M15: 6.5
A16: LUIZ ADRIANO | B16: 5 | C16: ITURBE JUAN | J16: YILMAZ BURAK | K16: 6 | L16: SON HEUNG-MIN | M16: 6
B17: =SUM(B6:B16) -> 86.5 | D17: =SUM(D6:D16) -> 57.5 | K17: =SUM(K6:K16) -> 70.5 | M17: =SUM(M6:M16) -> 65.5
A18: PANCHINA | C18: PANCHINA | J18: PANCHINA | L18: PANCHINA
A19: PORTO | B19: 6 | C19: PSG | D19: 5.5 | J19: REAL MADRID | K19: 7 | L19: BAYERN MONACO | M19: 2.5
A20: SUBOTIC NEVEN | B20: 5.5 | C20: MERTESACKER PER | D20: 6.5 | J20: EVRA PATRICE | K20: sv | L20: DEMICHELIS MARTIN | M20: sv
A21: CHEDJOU AURELIEN | B21: 5.5 | C21: VARANE RAPHAEL | D21: 6.5 | J21: LOVREN DEJAN | K21: sv | L21: MARQUINHOS | M21: 7
A22: KOMPANY VINCENT | B22: 6.5 | C22: MAXI PEREIRA | D22: 5.5 | J22: - | L22: AZPILICUETA CESAR | M22: 6.5
A23: CERCI ALESSIO | B23: sv | C23: DE ROSSI DANIELE | D23: 6.5 | J23: MOTTA THIAGO | K23: sv | L23: GABI | M23: 8
A24: KAGAWA SHINJI | B24: 5.5 | C24: SCHWEINSTEIGER BASTIAN | D24: sv | J24: KEITA SEYDOU | K24: 6 | L24: WILSHERE JACK | M24: sv
A25: RAMSEY AARON | B25: 6 | C25: THIAGO ALCANTARA | D25: sv | J25: - | L25: OZIL MESUT | M25: sv
A26: SANCHEZ ALEXIS | B26: 10 | C26: MITROVIC ALEKSANDAR | D26: 6 | J26: RAMOS ADRIAN | K26: 5.5 | L26: HERNANDEZ CHICHARITO | M26: sv
A27: PANDEV GORAN | B27: sv | C27: OLIVEIRA NELSON | D27: sv | J27: ADURIZ ARITZ | K27: 6 | L27: DOUMBIA SEYDOU | M27: 5.5
A28: GIROUD OLIVIER | B28: sv | C28: DESTRO MATTIA | D28: sv | J28: - | L28: BENZEMA KARIM | M28: 7.5
A32: GIRONE B
A34: Fly Beard | B34: =IF(B46<66,0,IF(B46<70,1,IF(B46<74,2,IF(B46<78,3,IF(B46<82,4,IF(B46<86,5,IF(B46<90,6,IF(B46<94,7,IF(B46<98,8,IF(B46<101,9,10)))))))))) -> 0 | C34: Tette Biscottate | D34: =IF(D46<66,0,IF(D46<70,1,IF(D46<74,2,IF(D46<78,3,IF(D46<82,4,IF(D46<86,5,IF(D46<90,6,IF(D46<94,7,IF(D46<98,8,IF(D46<101,9,10)))))))))) -> 5 | J34: Interfogat | K34: =IF(K46<66,0,IF(K46<70,1,IF(K46<74,2,IF(K46<78,3,IF(K46<82,4,IF(K46<86,5,IF(K46<90,6,IF(K46<94,7,IF(K46<98,8,IF(K46<101,9,10)))))))))) -> 4 | L34: AC Conte | M34: =IF(M46<66,0,IF(M46<70,1,IF(M46<74,2,IF(M46<78,3,IF(M46<82,4,IF(M46<86,5,IF(M46<90,6,IF(M46<94,7,IF(M46<98,8,IF(M46<101,9,10)))))))))) -> 7
A35: JUVENTUS | B35: 6.5 | C35: BORUSSIA DORTMUND | D35: 4 | J35: BARCELLONA | K35: 6 | L35: ATLETICO MADRID | M35: 6
A36: GODIN DIEGO | B36: 6.5 | C36: IVANOVIC BRANISLAV | D36: 7 | J36: CHIELLINI GIORGIO | K36: 7 | L36: MASCHERANO JAVIER | M36: 6
A37: MARCELO | C37: DAVID LUIZ | D37: 6.5 | J37: VAN DER WIEL GREGORY | K37: 6.5 | L37: TERRY JOHN | M37: 10
A38: ARBELOA ALVARO | B38: 6 | C38: BOATENG JEROME | D38: 6.5 | J38: MAXWELL | K38: 6.5 | L38: GARAY EZEQUIEL | M38: 6
A39: KOKE | B39: 6.5 | C39: RIBERY FRANCK | D39: 6 | J39: RODRIGUEZ JAMES | K39: 6 | L39: BONUCCI LEONARDO | M39: 6.5
A40: SALVIO EDUARDO | B40: 6 | C40: ARDA TURAN | D40: 8.5 | J40: BALE GARETH | K40: 6.5 | L40: HAZARD EDEN | M40: 8.5
A41: MARCHISIO CLAUDIO | B41: 8 | C41: CAZORLA SANTI | D41: 8 | J41: PASTORE JAVIER | K41: 8 | L41: RAUL GARCIA | M41: 10
A42: VIDAL ARTURO | B42: 6.5 | C42: GAITAN NICOLAS | D42: 5.5 | J42: PIRLO ANDREA | K42: 7 | L42: BRAHIMI YACINE | M42: 6.5
A43: IBRAHIMOVIC ZLATAN | B43: 9.5 | C43: RONALDO CRISTIANO | D43: 10 | J43: SUAREZ LUIS | K43: 10 | L43: MESSI LIONEL | M43: 17
A44: HUNTELAAR KLAAS JAN | B44: 4 | C44: AGUERO SERGIO | D44: 17.5 | J44: JOVETIC STEVAN | K44: 6.5 | L44: LLORENTE FERNANDO | M44: 10
A45: RONDON SALOMON | B45: 6 | C45: KIESSLING STEFAN | D45: 4.5 | J45: TEVEZ CARLOS | K45: 10 | L45: BELLARABI KARIM | M45: 6.5
B46: =SUM(B35:B45) -> 65.5 | D46: =SUM(D35:D45) -> 84 | K46: =SUM(K35:K45) -> 80 | M46: =SUM(M35:M45) -> 93
...

Sheet QUARTI andata
A1: QUARTI andata
G3: TABELLONE ALTO
A5: =TABELLONE!A55 -> Interfogat | B5: =IF(B18<66,0,IF(B18<70,1,IF(B18<74,2,IF(B18<78,3,IF(B18<82,4,IF(B18<86,5,IF(B18<90,6,IF(B18<94,7,IF(B18<98,8,IF(B18<101,9,10)))))))))) -> 4 | C5: =TABELLONE!B55 -> Ac Denti | D5: =IF(D18<66,0,IF(D18<70,1,IF(D18<74,2,IF(D18<78,3,IF(D18<82,4,IF(D18<86,5,IF(D18<90,6,IF(D18<94,7,IF(D18<98,8,IF(D18<101,9,10)))))))))) -> 1 | J5: =TABELLONE!A56 -> Evribadi | K5: =IF(K18<66,0,IF(K18<70,1,IF(K18<74,2,IF(K18<78,3,IF(K18<82,4,IF(K18<86,5,IF(K18<90,6,IF(K18<94,7,IF(K18<98,8,IF(K18<101,9,10)))))))))) -> 1 | L5: =TABELLONE!B56 -> Tette Biscottate | M5: =IF(M18<66,0,IF(M18<70,1,IF(M18<74,2,IF(M18<78,3,IF(M18<82,4,IF(M18<86,5,IF(M18<90,6,IF(M18<94,7,IF(M18<98,8,IF(M18<101,9,10)))))))))) -> 3
A6: BARCELLONA | B6: 5.5 | C6: ARSENAL | D6: 2 | J6: PORTO | K6: 5 | L6: REAL MADRID | M6: 6.5
A7: KOSCIELNY LAURENT | B7: 5 | C7: PIQUE' GERARD | D7: 6.5 | J7: ALABA DAVID | K7: 6.5 | L7: IVANOVIC BRANISLAV | M7: 8.5
A8: MARCELO | B8: 10 | C8: JUANFRAN | D8: 6 | J8: LICHTSTEINER STEPHAN | K8: 6.5 | L8: DAVID LUIZ | M8: 6.5
A9: CHIELLINI GIORGIO | B9: 5 | C9: PISZCZEK LUKASZ | D9: 6.5 | J9: MIRANDA JOAO | K9: 5.5 | L9: BOATENG JEROME | M9: 6
A10: BALE GARETH | B10: 5 | C10: ROBBEN ARJEN | D10: 6.5 | J10: MATHIEU JEREMY | K10: 6 | L10: RIBERY FRANCK | M10: 6.5
A11: QUARESMA RICARDO | B11: 6 | C11: CALHANOGLU HAKAN | D11: 9.5 | J11: VIDAL ARTURO | K11: 5.5 | L11: INIESTA ANDRES | M11: 6
A12: PIRLO ANDREA | B12: 6.5 | C12: HERRERA HECTOR | D12: 7 | J12: ISCO | K12: 7 | L12: ARDA TURAN | M12: 6
A13: JUAN CUADRADO | B13: 5 | C13: NASRI SAMIR | D13: 5 | J13: SAUL NIGUEZ | K13: 6 | L13: CAZORLA SANTI | M13: 5
A14: TEVEZ CARLOS | B14: 10.5 | C14: MANDZUKIC MARIO | D14: 5 | J14: LEWANDOWSKI ROBERT | K14: 5.5 | L14: RONALDO CRISTIANO | M14: 10
A15: SUAREZ LUIS | B15: 14 | C15: WELBECK DANNY | D15: 5 | J15: SANCHEZ ALEXIS | K15: 5 | L15: AGUERO SERGIO | M15: 9.5
A16: PEDRO | B16: 6 | C16: MORATA ALVARO | D16: 10.5 | J16: CAVANI EDINSON | K16: 10 | L16: IBRAHIMOVIC ZLATAN | M16: 6.5
A17: FATTORE CAMPO | B17: 1 | J17: FATTORE CAMPO | K17: 1
B18: =SUM(B6:B17) -> 79.5 | D18: =SUM(D6:D17) -> 69.5 | K18: =SUM(K6:K17) -> 69.5 | M18: =SUM(M6:M17) -> 77
A19: PANCHINA | C19: PANCHINA | J19: PANCHINA | L19: PANCHINA
A20: BARCELLONA | B20: 5.5 | C20: ARSENAL | D20: 2 | J20: PORTO | K20: 5 | L20: REAL MADRID | M20: 6.5
A21: SIQUEIRA GUILHERME | B21: 5.5 | C21: CLICHY GAEL | D21: 4 | J21: KOMPANY VINCENT | K21: 5 | L21: ZABALETA PABLO | M21: 6.5
A22: BARZAGLI ANDREA | B22: sv | C22: EVRA | D22: 6.5 | J22: SUBOTIC NEVEN | K22: sv | L22: SAMUEL WALTER | M22: 5.5
A23: MAXWELL | B23: 5 | C23: PAPASTATHOPOULOS SOKRATIS | D23: 5 | J23: SRNA DARIJO | K23: 5 | L23: MARCANO IVAN | M23: 5.5
A24: WILLIAN | B24: 5 | C24: SAHIN NURI | D24: 6.5 | J24: OSCAR | K24: sv | L24: MARCHISIO CLAUDIO | M24: 7.5
A25: PASTORE JAVIER | B25: sv | C25: VERRATTI MARCO | D25: 6.5 | J25: KAGAWA SHINJI | K25: sv | L25: TELLO CRISTIAN | M25: 6.5
A26: RAMIRES | B26: 5.5 | C26: BOATENG KEVIN PRINCE | D26: 5 | J26: ALEX TEIXEIRA | K26: 5.5 | L26: DOUGLAS COSTA | M26: 5
A27: REMY LOIC | B27: sv | C27: LAVEZZI EZEQUIEL | D27: 5 | J27: PIZARRO CLAUDIO | K27: sv | L27: KIESSLING STEFAN | M27: 5.5
A28: DRMIC JOSIP | B28: 6 | C28: BERBATOV DIMITAR | D28: 9.5 | J28: GIROUD OLIVIER | K28: 4 | L28: RAMOS ADRIAN | M28: sv
A29: CHOUPO-MOTING ERIC MAXIM | B29: 6 | C29: DZEKO EDIN | D29: 6 | J29: LUIZ ADRIANO | K29: 5 | L29: IMMOBILE CIRO | M29: 6
A33: TABELLONE BASSO
A35: =TABELLONE!A57 -> Scarsenal | B35: =IF(B48<66,0,IF(B48<70,1,IF(B48<74,2,IF(B48<78,3,IF(B48<82,4,IF(B48<86,5,IF(B48<90,6,IF(B48<94,7,IF(B48<98,8,IF(B48<101,9,10)))))))))) -> 2 | C35: =TABELLONE!B57 -> CS Riposa | D35: =IF(D48<66,0,IF(D48<70,1,IF(D48<74,2,IF(D48<78,3,IF(D48<82,4,IF(D48<86,5,IF(D48<90,6,IF(D48<94,7,IF(D48<98,8,IF(D48<101,9,10)))))))))) -> 0 | J35: =TABELLONE!A58 -> FC Marcellona | K35: =IF(K48<66,0,IF(K48<70,1,IF(K48<74,2,IF(K48<78,3,IF(K48<82,4,IF(K48<86,5,IF(K48<90,6,IF(K48<94,7,IF(K48<98,8,IF(K48<101,9,10)))))))))) -> 2 | L35: =TABELLONE!B58 -> Ac Conte | M35: =IF(M48<66,0,IF(M48<70,1,IF(M48<74,2,IF(M48<78,3,IF(M48<82,4,IF(M48<86,5,IF(M48<90,6,IF(M48<94,7,IF(M48<98,8,IF(M48<101,9,10)))))))))) -> 0
A36: CHELSEA | B36: 6.5 | C36: BAYERN MONACO | D36: 6 | J36: PSG | K36: 5 | L36: ATLETICO MADRID | M36: 5.5
A37: PEPE | B37: 7 | C37: AZPILICUETA CESAR | D37: 6 | J37: THIAGO SILVA | K37: 7 | L37: MAICON | M37: 5.5
A38: BERNAT JUAN | B38: 6 | C38: DEMICHELIS MARTIN | D38: 5.5 | J38: HUMMELS MATS | K38: 5.5 | L38: CARVAJAL DANIEL | M38: 7.5
A39: DANTE | B39: 6.5 | C39: GODIN DIEGO | D39: 5 | J39: JORDI ALBA | K39: =7+1 -> 8 | L39: BONUCCI LEONARDO | M39: =6.5+1 -> 7.5
A40: MATUIDI BLAISE | B40: =7+1 -> 8 | C40: OZIL MESUT | D40: 3.5 | J40: BENATIA MEHDI | K40: 9.5 | L40: HAZARD EDEN | M40: 5
A41: KROOS TONI | B41: 6 | C41: GABI | D41: 6 | J41: FABREGAS CESC | K41: 5.5 | L41: TOURE' YAYA | M41: 6
A42: FERREIRA CARRASCO YANNICK | B42: 9.5 | C42: XAVI HERNANDEZ | D42: 4 | J42: POGBA PAUL | K42: =7+1 -> 8 | L42: BRAHIMI YACINE | M42: 6
A43: MILNER JAMES | B43: 5.5 | C43: CASEMIRO | D43: 4.5 | J43: GOTZE MARIO | K43: 5 | L43: ROSICKY TOMAS | M43: 5
A44: AUBAMEYANG PIERRE-EMERICK | B44: 6 | C44: MULLER THOMAS | D44: 5.5 | J44: SCHWEINSTEIGER BASTIAN | K44: 5.5 | L44: MESSI LIONEL | M44: 3
A45: MARTINEZ JACKSON | B45: 6 | C45: BENZEMA KARIM | D45: 6 | J45: NEYMAR | K45: 5 | L45: STRELLER MARCO | M45: 6
A46: WALCOTT THEO | B46: 5 | C46: GRIEZMANN ANTOINE | D46: 5.5 | J46: HUNTELAAR KLAAS JAN | K46: 6 | L46: DIEGO COSTA | M46: 5
...

Sheet QUARTI ritorno
A1: QUARTI ritorno
G3: TABELLONE ALTO
A5: =TABELLONE!B55 -> Ac Denti | B5: =IF(B18<66,0,IF(B18<70,1,IF(B18<74,2,IF(B18<78,3,IF(B18<82,4,IF(B18<86,5,IF(B18<90,6,IF(B18<94,7,IF(B18<98,8,IF(B18<101,9,10)))))))))) -> 3 | C5: =TABELLONE!A55 -> Interfogat | D5: =IF(D18<66,0,IF(D18<70,1,IF(D18<74,2,IF(D18<78,3,IF(D18<82,4,IF(D18<86,5,IF(D18<90,6,IF(D18<94,7,IF(D18<98,8,IF(D18<101,9,10)))))))))) -> 3 | J5: =TABELLONE!B56 -> Tette Biscottate | K5: =IF(K18<66,0,IF(K18<70,1,IF(K18<74,2,IF(K18<78,3,IF(K18<82,4,IF(K18<86,5,IF(K18<90,6,IF(K18<94,7,IF(K18<98,8,IF(K18<101,9,10)))))))))) -> 2 | L5: =TABELLONE!A56 -> Evribadi | M5: =IF(M18<66,0,IF(M18<70,1,IF(M18<74,2,IF(M18<78,3,IF(M18<82,4,IF(M18<86,5,IF(M18<90,6,IF(M18<94,7,IF(M18<98,8,IF(M18<101,9,10)))))))))) -> 3
A6: ARSENAL | B6: 6 | C6: BARCELLONA | D6: 10 | J6: REAL MADRID | K6: 1.5 | L6: PORTO | M6: 6.5
A7: PIQUE' GERARD | B7: 6.5 | C7: MARCELO | D7: 5.5 | J7: BOATENG JEROME | K7: 9.5 | L7: ALABA DAVID | M7: 7.5
A8: JUANFRAN | B8: 6.5 | C8: SIQUEIRA GUILHERME | D8: 6.5 | J8: IVANOVIC BRANISLAV | K8: 5 | L8: MIRANDA JOAO | M8: 6.5
A9: EVRA | B9: 6.5 | C9: KOSCIELNY LAURENT | D9: 6 | J9: DAVID LUIZ | K9: 9.5 | L9: LICHTSTEINER STEPHAN | M9: 7.5
A10: ROBBEN ARJEN | B10: 7 | C10: CHIELLINI GIORGIO | D10: 6.5 | J10: ARDA TURAN | K10: 7 | L10: KOKE | M10: 7
A11: HERRERA HECTOR | B11: 10 | C11: BALE GARETH | D11: 4 | J11: INIESTA ANDRES | K11: 6.5 | L11: ISCO | M11: 5
A12: CALHANOGLU HAKAN | B12: 6 | C12: QUARESMA RICARDO | D12: 4.5 | J12: RIBERY FRANCK | K12: 10.5 | L12: OSCAR | M12: 5
A13: NASRI SAMIR | B13: 3.5 | C13: WILLIAM | D13: 5.5 | J13: TELLO CRISTIAN | K13: 5.5 | L13: VIDAL ARTURO | M13: 7.5
A14: MANDZUKIC MARIO | B14: 5 | C14: SUAREZ LUIS | D14: 5.5 | J14: AGUERO SERGIO | K14: 2 | L14: LEWANDOWSKI ROBERT | M14: 10
A15: WELBECK DANNY | B15: 6.5 | C15: TEVEZ CARLOS | D15: 16 | J15: IBRAHIMOVIC ZLATAN | K15: 3 | L15: SANCHEZ ALEXIS | M15: 6.5
A16: MORATA ALVARO | B16: 10 | C16: PEDRO | D16: 5 | J16: RONALDO CRISTIANO | K16: 12.5 | L16: CAVANI EDINSON | M16: 5.5
A17: FATTORE CAMPO | B17: 1 | J17: FATTORE CAMPO | K17: 1
B18: =SUM(B6:B17) -> 74.5 | D18: =SUM(D6:D17) -> 75 | K18: =SUM(K6:K17) -> 73.5 | M18: =SUM(M6:M17) -> 74.5
A19: PANCHINA | C19: PANCHINA | J19: PANCHINA | L19: PANCHINA
A20: ARSENAL | B20: 6 | C20: BARCELLONA | D20: 7 | J20: REAL MADRID | K20: 1.5 | L20: PORTO | M20: 6.5
A21: PAPASTATHOPOULOS SOKRATIS | B21: 5.5 | C21: BARZAGLI ANDREA | D21: 6.5 | J21: ZABALETA PABLO | K21: sv | L21: MATHIEU JEREMY | M21: 6
A22: PISZCZEK LUKASZ | B22: sv | C22: MAXWELL | D22: 6 | J22: SAMUEL WALTER | K22: 3.5 | L22: ALEX SANDRO | M22: 7
A23: - | C23: MATIP JOEL | D23: 4 | J23: MARCANO IVAN | K23: 6 | L23: KOMPANY VINCENT | M23: 4
A24: SAHIN NURI | B24: sv | C24: JUAN CUADRADO | D24: sv | J24: CAZORLA SANTI | K24: 6 | L24: SAUL NIGUEZ | M24: sv
A25: VERRATTI MARCO | B25: 6.5 | C25: RAMIRES | D25: 4.5 | J25: MARCHISIO CLAUDIO | K25: 7.5 | L25: KAGAWA SHINJI | M25: sv
A26: BUSQUETS SERGIO | B26: sv | C26: PASTORE JAVIER | D26: 6.5 | J26: DOUGLAS COSTA | K26: 4.5 | L26: ALEX TEIXEIRA | M26: 4.5
A27: BERBATOV DIMITAR | B27: 5 | C27: REMY LOIC | D27: sv | J27: IMMOBILE CIRO | K27: sv | L27: PIZARRO CLAUDIO | M27: sv
A28: DZEKO EDIN | B28: sv | C28: DRMIC JOSIP | D28: 5 | J28: RAMOS ADRIAN | K28: 6 | L28: GIROUD OLIVIER | M28: 10
A29: LAVEZZI EZEQUIEL | B29: 7 | C29: CHOUPO-MOTING ERIC MAXIM | D29: 6 | J29: KIESSLING STEFAN | K29: 5 | L29: LUIZ ADRIANO | M29: 4.5
A33: TABELLONE BASSO
A35: =TABELLONE!B57 -> CS Riposa | B35: =IF(B48<66,0,IF(B48<70,1,IF(B48<74,2,IF(B48<78,3,IF(B48<82,4,IF(B48<86,5,IF(B48<90,6,IF(B48<94,7,IF(B48<98,8,IF(B48<101,9,10)))))))))) -> 4 | C35: =TABELLONE!A57 -> Scarsenal | D35: =IF(D48<66,0,IF(D48<70,1,IF(D48<74,2,IF(D48<78,3,IF(D48<82,4,IF(D48<86,5,IF(D48<90,6,IF(D48<94,7,IF(D48<98,8,IF(D48<101,9,10)))))))))) -> 1 | J35: =TABELLONE!B58 -> Ac Conte | K35: =IF(K48<66,0,IF(K48<70,1,IF(K48<74,2,IF(K48<78,3,IF(K48<82,4,IF(K48<86,5,IF(K48<90,6,IF(K48<94,7,IF(K48<98,8,IF(K48<101,9,10)))))))))) -> 3 | L35: =TABELLONE!A58 -> FC Marcellona | M35: =IF(M48<66,0,IF(M48<70,1,IF(M48<74,2,IF(M48<78,3,IF(M48<82,4,IF(M48<86,5,IF(M48<90,6,IF(M48<94,7,IF(M48<98,8,IF(M48<101,9,10)))))))))) -> 2
A36: Bayern monaco | B36: 6 | C36: CHELSEA | D36: 5 | J36: ATLETICO MADRID | K36: 6 | L36: PSG | M36: 4.5
A37: Azpilicueta cesar | B37: 6 | C37: PEPE | D37: 5 | J37: CARVAJAL DANIEL | K37: 6.5 | L37: THIAGO SILVA | M37: 10
A38: Godin diego | B38: 4.5 | C38: BERNAT JUAN | D38: 7 | J38: MASCHERANO JAVIER | K38: 7 | L38: DANILO | M38: 6
A39: Demichelis martin | B39: 3.5 | C39: DANTE | D39: 6 | J39: TERRY JOHN | K39: 6.5 | L39: JORDI ALBA | M39: 6
A40: Gabi | B40: 10.5 | C40: MATUIDI BLAISE | D40: 5 | J40: BRAHIMI YACINE | K40: 10.5 | L40: HUMMELS MATS | M40: 6
A41: Ozil mesut | B41: 6.5 | C41: FERREIRA CARRASCO YANNICK | D41: 6.5 | J41: HAZARD EDEN | K41: 10 | L41: FABREGAS CESC | M41: 5
A42: Xavi hernandez | B42: 6.5 | C42: RAKITIC IVAN | D42: 10 | J42: RAUL GARCIA | K42: 6.5 | L42: GOTZE MARIO | M42: 10.5
A43: Moutinho joao | B43: 5.5 | C43: KROOS TONI | D43: 6 | J43: DAVID SILVA | K43: 5 | L43: POGBA PAUL | M43: 6.5
A44: Muller thomas | B44: 13 | C44: AUBAMEYANG PIERRE-EMERICK | D44: 5 | J44: MESSI LIONEL | K44: 9 | L44: SCHWEINSTEIGER BASTIAN | M44: 8
A45: Benzema karim | B45: 9 | C45: WALCOTT THEO | D45: 6.5 | J45: DIEGO COSTA | K45: 3.5 | L45: NEYMAR | M45: 6.5
A46: Griezmann antoine | B46: 6 | C46: REUS MARCO | D46: 4.5 | J46: DROGBA DIDIER | K46: 5 | L46: FERNANDO TORRES | M46: 4.5
...

Sheet SEMIFINALE andata
A1: SEMIFINALE andata
G3: TABELLONE
A5: =TABELLONE!A63 -> Tette Biscottate | B5: =IF(B18<66,0,IF(B18<70,1,IF(B18<74,2,IF(B18<78,3,IF(B18<82,4,IF(B18<86,5,IF(B18<90,6,IF(B18<94,7,IF(B18<98,8,IF(B18<101,9,10)))))))))) -> 0 | C5: =TABELLONE!B63 -> Interfogat | D5: =IF(D18<66,0,IF(D18<70,1,IF(D18<74,2,IF(D18<78,3,IF(D18<82,4,IF(D18<86,5,IF(D18<90,6,IF(D18<94,7,IF(D18<98,8,IF(D18<101,9,10)))))))))) -> 3 | J5: =TABELLONE!A64 -> CS Riposa | K5: =IF(K18<66,0,IF(K18<70,1,IF(K18<74,2,IF(K18<78,3,IF(K18<82,4,IF(K18<86,5,IF(K18<90,6,IF(K18<94,7,IF(K18<98,8,IF(K18<101,9,10)))))))))) -> 0 | L5: =TABELLONE!B64 -> FC Marcellona | M5: =IF(M18<66,0,IF(M18<70,1,IF(M18<74,2,IF(M18<78,3,IF(M18<82,4,IF(M18<86,5,IF(M18<90,6,IF(M18<94,7,IF(M18<98,8,IF(M18<101,9,10)))))))))) -> 0
A6: REAL MADRID | B6: 6 | C6: BARCELLONA | D6: 6 | J6: BAYER MONACO | K6: 5 | L6: PSG | M6: 3
A7: BONUCCI LEONARDO | B7: 6 | C7: LICHSTEINER STEPHAN | D7: 6 | J7: LAHM | K7: 5 | L7: THIAGO SILVA | M7: 5
A8: BOATENG JEROME | B8: 6 | C8: CHIELLINI GIORGIO | D8: 5.5 | J8: MARQUINHOS | K8: 5 | L8: ALABA | M8: 6
A9: MATHIEU JEREMY | B9: 5.5 | C9: MARCELO | D9: 6 | J9: SERGIO RAMOS | K9: 6 | L9: BENATIA | M9: 5.5
A10: INIESTA ANDRES | B10: 6 | C10: BALE GARETH | D10: 6 | J10: MODRIC | K10: 7 | L10: JORDI ALBA | M10: 6
A11: ISCO | B11: 5.5 | C11: RODRIGUEZ JAMES | D11: 7 | J11: MOUTINHO | K11: 6 | L11: GOTZE | M11: 5
A12: ARDA TURAN | B12: 5.5 | C12: PEREYRA ROBERTO | D12: 6 | J12: XAVI ALONSO | K12: 5 | L12: ROBBEN | M12: 6.5
A13: MARCHISIO CLAUDIO | B13: 5.5 | C13: PIRLO ANDREA | D13: 6 | J13: VIDAL | K13: 9.5 | L13: KOKE | M13: 5
A14: RONALDO CRISTIANO | B14: 6 | C14: TEVEZ CARLOS | D14: 6 | J14: RAKITIC | K14: 5.5 | L14: NEYMAR | M14: 10
A15: LEWANDOWSKI ROBERT | B15: 6 | C15: SUAREZ LUIS | D15: 13.5 | J15: MULLER | K15: 5 | L15: TORRES | M15: 6
A16: MORATA ALVARO | B16: 6 | C16: MESSI LIONEL | D16: 7.5 | J16: BENZEMA | K16: 5 | L16: CAVANI | M16: 5
A17: FATTORE CAMPO | B17: 1 | J17: FATTORE CAMPO | K17: 1
B18: =SUM(B6:B17) -> 65 | D18: =SUM(D6:D17) -> 75.5 | K18: =SUM(K6:K17) -> 65 | M18: =SUM(M6:M17) -> 63
A19: PANCHINA | C19: PANCHINA | J19: PANCHINA | L19: PANCHINA
A20: REAL MADRID | B20: 6 | C20: BARCELLONA | D20: 6 | J20: BAYER MONACO | K20: 5 | L20: PSG | M20: 3
A21: JUANFRAN | B21: 5.5 | C21: BARZAGLI ANDREA | D21: 6 | J21: MIRANDA | K21: 6 | L21: PIQUE | M21: 6
A22: ADRIANO | B22: sv | C22: RAFINHA | D22: 6 | J22: MARTIN INDI | K22: 6 | L22: DANILO | M22: 5.5
A23: MARCANO | B23: sv | C23: MAXWELL | D23: 5.5 | J23: BARTRA | K23: sv | L23: SCHWEINSTEIGER | M23: sv
A24: KONDOGBIA | B24: 6.5 | C24: BRAHIMI YACINE | D24: 6 | J24: GABI | K24: 5 | L24: BUSQUETS | M24: 6.5
A25: SAUL NIGUEZ | B25: sv | C25: PASTORE JAVIER | D25: 5.5 | J25: CASEIMIRO | K25: 6 | L25: ALCANTARA | M25: 9.5
A26: TELLO | B26: sv | C26: QUARESMA RICARDO | D26: 14 | J26: MAUTIDI | K26: 6.5 | L26: J. MARTINEZ | M26: 10.5
A27: LAVEZZI | B27: 5.5 | C27: PEDRO | D27: sv | J27: GRIEZMAN | K27: 5.5 | L27: ABOUBAKAR | M27: sv
A28: BERBATOV | B28: 6 | C28: MATRI ALESSANDRO | D28: SV | J28: HERNANDEZ | K28: sv | L28: MARTIAL | M28: 6.5
A29: IBRAHIMOVIC | B29: sv | C29: MANDZUKIC MARIO | D29: 5 | J29: LLORENTE | K29: sv

Sheet SEMIFINALE ritorno
A1: SEMIFINALE ritorno
G3: TABELLONE
A5: =TABELLONE!B63 -> Interfogat | B5: =IF(B18<66,0,IF(B18<70,1,IF(B18<74,2,IF(B18<78,3,IF(B18<82,4,IF(B18<86,5,IF(B18<90,6,IF(B18<94,7,IF(B18<98,8,IF(B18<101,9,10)))))))))) -> 1 | C5: =TABELLONE!A63 -> Tette Biscottate | D5: =IF(D18<66,0,IF(D18<70,1,IF(D18<74,2,IF(D18<78,3,IF(D18<82,4,IF(D18<86,5,IF(D18<90,6,IF(D18<94,7,IF(D18<98,8,IF(D18<101,9,10)))))))))) -> 4 | J5: =TABELLONE!B64 -> FC Marcellona | K5: =IF(K18<66,0,IF(K18<70,1,IF(K18<74,2,IF(K18<78,3,IF(K18<82,4,IF(K18<86,5,IF(K18<90,6,IF(K18<94,7,IF(K18<98,8,IF(K18<101,9,10)))))))))) -> 4 | L5: =TABELLONE!A64 -> CS Riposa | M5: =IF(M18<66,0,IF(M18<70,1,IF(M18<74,2,IF(M18<78,3,IF(M18<82,4,IF(M18<86,5,IF(M18<90,6,IF(M18<94,7,IF(M18<98,8,IF(M18<101,9,10)))))))))) -> 4
A6: BARCELLONA | B6: 6 | C6: REAL MADRID | D6: 6 | J6: PSG | K6: 4 | L6: BAYER MONACO | M6: 5
A7: RAFINHA | B7: 7 | C7: BOATENG | D7: 10.5 | J7: PIQUE | K7: 6.5 | L7: LAHM | M7: 7.5
A8: BARZAGLI | B8: 7 | C8: BONUCCI | D8: 7 | J8: JORDI ALBA | K8: 6.5 | L8: SERGIO RAMOS | M8: 5.5
A9: LICHSTEINER | B9: 5.5 | C9: DANI ALVES | D9: 8 | J9: BERNAT | K9: 8 | L9: MIRANDA | M9: 6
A10: RODRIGUEZ | B10: 7 | C10: MARCHISIO | D10: 6 | J10: GOTZE | K10: 7 | L10: MOUTHINO | M10: 6.5
A11: PIRLO | B11: 6.5 | C11: ARDA TURAN | D11: 3 | J11: ALCANTARA | K11: 11.5 | L11: XABI ALONSO | M11: 10.5
A12: PEREYRA | B12: 6.5 | C12: INIESTA | D12: 8 | J12: KOKE | K12: 4.5 | L12: VIDAL | M12: 5.5
A13: PASTORE | B13: 5.5 | C13: ISCO | D13: 6.5 | J13: KROOS | K13: 6 | L13: RAKITIC | M13: 6.5
A14: MESSI | B14: 6 | C14: IBRAHIMOVIC | D14: 5 | J14: NEYMAR | K14: 13.5 | L14: MULLER | M14: 13
A15: TEVEZ | B15: 4.5 | C15: LEWANDOWSKI | D15: 14 | J15: CAVANI | K15: 4.5 | L15: BENZEMA | M15: 10
A16: SUAREZ | B16: 6 | C16: RONALDO | D16: 7.5 | J16: J.MARTINEZ | K16: 8 | L16: GRIEZMAN | M16: 5
A17: FATTORE CAMPO | B17: 1 | J17: FATTORE CAMPO | K17: 1
B18: =SUM(B6:B17) -> 68.5 | D18: =SUM(D6:D17) -> 81.5 | K18: =SUM(K6:K17) -> 81 | M18: =SUM(M6:M17) -> 81
A19: PANCHINA | C19: PANCHINA | J19: PANCHINA | L19: PANCHINA
A20: BARCELLONA | B20: 6 | C20: REAL MADRID | D20: 6 | J20: PSG | K20: 4 | L20: BAYER MONACO | M20: 5
A21: CHIELLINI | B21: 4.5 | C21: DAVID LUIZ | D21: 4 | J21: VARANE | K21: 7 | L21: MARQUINHOS | M21: 5
A22: MAXWELL | B22: 5 | C22: JUANFRAN | D22: 6 | J22: ALABA | L22: MARTINS INDI | M22: 4
A23: SIQUEIRA | C23: MARCANO | D23: 3 | J23: BENATIA | L23: COENTRAO | M23: 6
A24: QUARESMA | B24: 4 | C24: KONDOGBIA | D24: 6.5 | J24: BUSQUETS | K24: 6.5 | L24: CASEIMERO | M24: 4
A25: BRAHIMI | B25: 4 | C25: SAUL NIGUEZ | D25: 5 | J25: SCHWEINSTEIGER | L25: GABI | M25: 5.5
A26: VERRATTI | B26: 6.5 | C26: RIBERY | J26: ROBBEN | L26: MATUIDI | M26: 6
A27: PEDRO | C27: MORATA | D27: 5 | J27: TORRES | L27: HERNANDEZ | M27: 10
A28: MATRI | C28: BERBATOV | D28: 5 | J28: MARTIAL | K28: 5 | L28: LLORENTE | M28: 6
A29: MANDZUKIC | B29: 5 | C29: LAVEZZI | D29: 5.5 | J29: ABOUBAKAR | L29: MUNIR

Sheet FINALE
A1: FINALE
B3: ANDATA | K3: RITORNO
A5: =TABELLONE!A69 -> Tette Biscottate | B5: =IF(B18<66,0,IF(B18<70,1,IF(B18<74,2,IF(B18<78,3,IF(B18<82,4,IF(B18<86,5,IF(B18<90,6,IF(B18<94,7,IF(B18<98,8,IF(B18<101,9,10)))))))))) -> 3 | C5: =TABELLONE!B69 -> CS Riposa | D5: =IF(D18<66,0,IF(D18<70,1,IF(D18<74,2,IF(D18<78,3,IF(D18<82,4,IF(D18<86,5,IF(D18<90,6,IF(D18<94,7,IF(D18<98,8,IF(D18<101,9,10)))))))))) -> 1 | J5: =TABELLONE!B69 -> CS Riposa | K5: =IF(K18<66,0,IF(K18<70,1,IF(K18<74,2,IF(K18<78,3,IF(K18<82,4,IF(K18<86,5,IF(K18<90,6,IF(K18<94,7,IF(K18<98,8,IF(K18<101,9,10)))))))))) -> 3 | L5: =TABELLONE!A69 -> Tette Biscottate | M5: =IF(M18<66,0,IF(M18<70,1,IF(M18<74,2,IF(M18<78,3,IF(M18<82,4,IF(M18<86,5,IF(M18<90,6,IF(M18<94,7,IF(M18<98,8,IF(M18<101,9,10)))))))))) -> 3
A6: REAL MADRID | B6: 3 | C6: BAYER MONACO | D6: 4 | J6: BAYER | K6: 4 | L6: REAL | M6: 6
A7: DANI ALVES | B7: 6.5 | C7: LAHM | D7: 5.5 | J7: SERGIO RAMOS | K7: 6 | L7: DANI ALVES | M7: 6
A8: BONUCCI | B8: 6.5 | C8: SERGIO RAMOS | D8: 4.5 | J8: PIQUE | K8: 5.5 | L8: MARCELO | M8: 5.5
A9: MARCELO | B9: 4.5 | C9: PIQUE | D9: 5.5 | J9: LAHM | K9: 5.5 | L9: BONUCCI | M9: 7
A10: ISCO | B10: 6.5 | C10: XABI ALONSO | D10: 5.5 | J10: VIDAL | K10: 8 | L10: JAMES | M10: 5.5
A11: ALCANTARA | B11: 5 | C11: BALE | D11: 5 | J11: BALE | K11: 5 | L11: ALCANTARA | M11: 6.5
A12: JAMES RODRIGUEZ | B12: 7.5 | C12: GOTZE | D12: 7 | J12: KROOS | K12: 6 | L12: INIESTA | M12: 6
A13: INIESTA | B13: 6 | C13: VIDAL | D13: 6 | J13: XABI | K13: 6.5 | L13: SHWEINSTEIGER | M13: 6.5
A14: SUAREZ | B14: 6 | C14: TEVEZ | D14: 10.5 | J14: MULLER | K14: 10 | L14: LEWANDOWSKI | M14: 10
A15: MESSI | B15: 16 | C15: MULLER | D15: 5 | J15: TEVEZ | K15: 6 | L15: RONALDO | M15: 9
A16: RONALDO | B16: 9 | C16: NEYMAR | D16: 9.5 | J16: NEYMAR | K16: 14 | L16: MESSI | M16: 7.5
A17: FATTORE CAMPO | B17: 1 | J17: FATTORE CAMPO | K17: 1
B18: =SUM(B6:B17) -> 77.5 | D18: =SUM(D6:D17) -> 68 | K18: =SUM(K6:K17) -> 77.5 | M18: =SUM(M6:M17) -> 75.5
A19: PANCHINA | C19: PANCHINA | J19: PANCHINA | L19: PANCHINA
A20: REAL MADRID | B20: 3 | C20: BAYER MONACO | D20: 4 | J20: BAYER | K20: 4 | L20: REAL | M20: 6
A21: VARANE | B21: 4.5 | C21: LICHESTEINER | D21: 6.5 | J21: LICHSTEINER | K21: 6 | L21: CHIELLINI | M21: 6
A22: CHIELLINI | B22: 6 | C22: BENATIA | D22: 5 | J22: BENATIA | K22: 9 | L22: BERNAT | M22: 6
A23: BOATENG JEROME | B23: 5 | C23: CARVAJAL | D23: 4.5 | J23: CARVAJAL | K23: 5.5 | L23: BOATENG
A24: MARCHISIO | B24: 6.5 | C24: RAKITIC | D24: 7 | J24: GOTZE | L24: ISCO | M24: 5
A25: XAVI | B25: 6 | C25: PIRLO | D25: 5.5 | J25: PIRLO | K25: 6.5 | L25: MARCHISIO | M25: 7
A26: BUSQUETS | B26: 6.5 | C26: KROOS | D26: 6 | J26: RAKITIC | K26: 5 | L26: BUSQUETS | M26: 6
A27: LEWANDOWSKI | B27: 6 | C27: HERNANDEZ | D27: 5 | J27: HERNANDEZ | K27: 5 | L27: SUAREZ | M27: 10
A28: MORATA | B28: 11 | C28: LLORENTE | D28: 5.5 | J28: BENZEMA | K28: 6.5 | L28: MORATA | M28: 10.5
A29: JESE | B29: SV | C29: BENZEMA | D29: SV | J29: LLORENTE | L29: JESE

Sheet GIOCATORI RIMASTI
A1: Ruolo | B1: Nome | C1: Squadra
A2: A | B2: SANDRO RAMIREZ | C2: BARCELLONA
A3: A | B3: MESSI LIONEL | C3: BARCELLONA | D3: x
A4: A | B4: SUAREZ LUIS | C4: BARCELLONA | D4: x
A5: A | B5: NEYMAR | C5: BARCELLONA | D5: x
A6: A | B6: PEDRO | C6: BARCELLONA
A7: A | B7: MUNIR EL HADDADI | C7: BARCELLONA
A8: A | B8: PIZARRO CLAUDIO | C8: BAYERN MONACO
A9: A | B9: MATRI ALESSANDRO | C9: JUVENTUS
A10: A | B10: TEVEZ CARLOS | C10: JUVENTUS | D10: x
A11: A | B11: LLORENTE FERNANDO | C11: JUVENTUS | D11: x
A12: A | B12: JESE' RODRIGUEZ | C12: REAL MADRID | D12: x
A13: C | B13: RAFINHA ALCANTARA | C13: BARCELLONA
A14: C | B14: SERGI ROBERTO | C14: BARCELLONA
A15: C | B15: BUSQUETS SERGIO | C15: BARCELLONA | D15: x
A16: C | B16: XAVI HERNANDEZ | C16: BARCELLONA | D16: x
A17: C | B17: RODE SEBASTIAN | C17: BAYERN MONACO
A18: C | B18: GAUDINO GIANLUCA | C18: BAYERN MONACO
A19: C | B19: HOJBJERG PIERRE-EMILE | C19: BAYERN MONACO
A20: C | B20: ROBBEN ARJEN | C20: BAYERN MONACO
A21: C | B21: GOTZE MARIO | C21: BAYERN MONACO | D21: x
A22: C | B22: SCHWEINSTEIGER BASTIAN | C22: BAYERN MONACO | D22: x
A23: C | B23: THIAGO ALCANTARA | C23: BAYERN MONACO | D23: x
A24: C | B24: RIBERY FRANCK | C24: BAYERN MONACO
A25: C | B25: STURARO ANDREA | C25: JUVENTUS
A26: C | B26: COMAN KINGSLEY | C26: JUVENTUS
A27: C | B27: MARRONE LUCA | C27: JUVENTUS
A28: C | B28: PADOIN SIMONE | C28: JUVENTUS
A29: C | B29: PEPE SIMONE | C29: JUVENTUS
A30: C | B30: PEREYRA ROBERTO | C30: JUVENTUS
A31: C | B31: PIRLO ANDREA | C31: JUVENTUS | D31: x
A32: C | B32: POGBA PAUL | C32: JUVENTUS
A33: C | B33: LUCAS SILVA | C33: REAL MADRID
A34: C | B34: ODEGAARD MARTIN | C34: REAL MADRID
A35: C | B35: KHEDIRA SAMI | C35: REAL MADRID
A36: C | B36: ILLARRAMENDI ASIER | C36: REAL MADRID
A37: C | B37: KROOS TONI | C37: REAL MADRID | D37: X
A38: C | B38: BALE GARETH | C38: REAL MADRID | D38: x
A39: C | B39: RODRIGUEZ JAMES | C39: REAL MADRID | D39: x
A40: D | B40: VERMAELEN THOMAS | C40: BARCELLONA
...

Sheet tette biscottate
A1: Squadra | B1: Ammannati Andrea
