Workbook

Sheet TABELLONE
A1: GIRONE A | D1: ORDINE CHIAMATA QUARTI | J1: 1° GIORNATA
D2: MC TOWN | F2: 462.5 | J2: =A5 -> CS RIPOSA | K2: =A6 -> INTERFOGAT | L2: =IF('1° GIORNATA'!$B$18=1,"",'1° GIORNATA'!$B$5) -> 4 | M2: =IF('1° GIORNATA'!$D$18=0,"",'1° GIORNATA'!$D$5) -> 4 | O2: =IF(L2="",0,IF(L2>M2,3,IF(L2=M2,1,0))) -> 1 | P2: =IF(M2="",0,IF(M2>L2,3,IF(M2=L2,1,0))) -> 1
A3: SQUADRE | D3: CS RIPOSA | F3: 439.5 | J3: =A7 -> AC DENTI | K3: =A8 -> BRIGATA GURREN | L3: =IF('1° GIORNATA'!$K$18=1,"",'1° GIORNATA'!$K$5) -> 7 | M3: =IF('1° GIORNATA'!$M$18=0,"",'1° GIORNATA'!$M$5) -> 6 | O3: =IF(L3="",0,IF(L3>M3,3,IF(L3=M3,1,0))) -> 3 | P3: =IF(M3="",0,IF(M3>L3,3,IF(M3=L3,1,0))) -> 0
D4: EVRIBADI | F4: 416
A5: CS RIPOSA | B5: A | D5: FLYBEARD | F5: 446 | J5: 2° GIORNATA
A6: INTERFOGAT | B6: B | D6: INTERFOGAT | F6: 446 | J6: =A5 -> CS RIPOSA | K6: =A7 -> AC DENTI | L6: =IF('2° GIORNATA'!$B$18=1,"",'2° GIORNATA'!$B$5) -> 3 | M6: =IF('2° GIORNATA'!$D$18=0,"",'2° GIORNATA'!$D$5) -> 1 | O6: =IF(L6="",0,IF(L6>M6,3,IF(L6=M6,1,0))) -> 3 | P6: =IF(M6="",0,IF(M6>L6,3,IF(M6=L6,1,0))) -> 0
A7: AC DENTI | B7: C | D7: MARCELLONA | F7: 435.5 | J7: =A6 -> INTERFOGAT | K7: =A8 -> BRIGATA GURREN | L7: =IF('2° GIORNATA'!$K$18=1,"",'2° GIORNATA'!$K$5) -> 3 | M7: =IF('2° GIORNATA'!$M$18=0,"",'2° GIORNATA'!$M$5) -> 3 | O7: =IF(L7="",0,IF(L7>M7,3,IF(L7=M7,1,0))) -> 1 | P7: =IF(M7="",0,IF(M7>L7,3,IF(M7=L7,1,0))) -> 1
A8: BRIGATA GURREN | B8: D | D8: NUMBERS | F8: 453.5
D9: AC DENTI | F9: 432.5 | J9: 3° GIORNATA
J10: =A5 -> CS RIPOSA | K10: =A8 -> BRIGATA GURREN | L10: =IF('3° GIORNATA'!$B$18=1,"",'3° GIORNATA'!$B$5) -> 4 | M10: =IF('3° GIORNATA'!$D$18=0,"",'3° GIORNATA'!$D$5) -> 1 | O10: =IF(L10="",0,IF(L10>M10,3,IF(L10=M10,1,0))) -> 3 | P10: =IF(M10="",0,IF(M10>L10,3,IF(M10=L10,1,0))) -> 0
J11: =A7 -> AC DENTI | K11: =A6 -> INTERFOGAT | L11: =IF('3° GIORNATA'!$K$18=1,"",'3° GIORNATA'!$K$5) -> 4 | M11: =IF('3° GIORNATA'!$M$18=0,"",'3° GIORNATA'!$M$5) -> 3 | O11: =IF(L11="",0,IF(L11>M11,3,IF(L11=M11,1,0))) -> 3 | P11: =IF(M11="",0,IF(M11>L11,3,IF(M11=L11,1,0))) -> 0
A12: CLASSIFICA
J13: 4° GIORNATA
B14: pts | C14: g.f. | D14: g.s. | E14: diff. | F14: fantaPts | J14: =K2 -> INTERFOGAT | K14: =J2 -> CS RIPOSA | L14: =IF('4° GIORNATA'!$B$18=1,"",'4° GIORNATA'!$B$5) -> 2 | M14: =IF('4° GIORNATA'!$D$18=0,"",'4° GIORNATA'!$D$5) -> 0 | O14: =IF(L14="",0,IF(L14>M14,3,IF(L14=M14,1,0))) -> 3 | P14: =IF(M14="",0,IF(M14>L14,3,IF(M14=L14,1,0))) -> 0
A15: CS RIPOSA | B15: =$O$2+$O$6+$O$10+$P$14+$P$18+$P$22 -> 11 | C15: =IF($L$2="",0,$L$2)+IF($L$6="",0,$L$6)+IF($L$10="",0,$L$10)+IF($M$14="",0,$M$14)+IF($M$18="",0,$M$18)+IF($M$22="",0,$M$22) -> 14 | D15: =IF($M$2="",0,$M$2)+IF($M$6="",0,$M$6)+IF($M$10="",0,$M$10)+IF($L$14="",0,$L$14)+IF($L$18="",0,$L$18)+IF($L$22="",0,$L$22) -> 10 | E15: =C15-D15 -> 4 | F15: ='1° GIORNATA'!$B$18+'2° GIORNATA'!$B$18+'3° GIORNATA'!$B$18+'4° GIORNATA'!$D$18+'5° GIORNATA'!$D$18+'6° GIORNATA'!$D$18 -> 439.5 | G15: A1 | J15: =K3 -> BRIGATA GURREN | K15: =J3 -> AC DENTI | L15: =IF('4° GIORNATA'!$K$18=1,"",'4° GIORNATA'!$K$5) -> 1 | M15: =IF('4° GIORNATA'!$M$18=0,"",'4° GIORNATA'!$M$5) -> 1 | N15: 1 | O15: =IF(L15="",0,IF(L15>M15,3,IF(L15=M15,1,0))) -> 1 | P15: =IF(M15="",0,IF(M15>L15,3,IF(M15=L15,1,0))) -> 1
A16: INTERFOGAT | B16: =$P$2+$O$7+$P$11+$O$14+$P$19+$O$23 -> 8 | C16: =IF($M$2="",0,$M$2)+IF($L$7="",0,$L$7)+IF($M$11="",0,$M$11)+IF($L$14="",0,$L$14)+IF($M$19="",0,$M$19)+IF($L$23="",0,$L$23) -> 16 | D16: =IF($L$2="",0,$L$2)+IF($M$7="",0,$M$7)+IF($L$11="",0,$L$11)+IF($M$14="",0,$M$14)+IF($L$19="",0,$L$19)+IF($M$23="",0,$M$23) -> 12 | E16: =C16-D16 -> 4 | F16: =+'1° GIORNATA'!D18+'2° GIORNATA'!K18+'3° GIORNATA'!M18+'4° GIORNATA'!B18+'5° GIORNATA'!M18+'6° GIORNATA'!K18 -> 446 | G16: A2 | N16: 2
A17: AC DENTI | B17: =$O$3+$P$6+$O$11+$P$15+$O$18+$P$23 -> 8 | C17: =IF($L$3="",0,$L$3)+IF($M$6="",0,$M$6)+IF($L$11="",0,$L$11)+IF($M$15="",0,$M$15)+IF($L$18="",0,$L$18)+IF($M$23="",0,$M$23) -> 15 | D17: =IF($M$3="",0,$M$3)+IF($L$6="",0,$L$6)+IF($M$11="",0,$M$11)+IF($L$15="",0,$L$15)+IF($M$18="",0,$M$18)+IF($L$23="",0,$L$23) -> 19 | E17: =C17-D17 -> -4 | F17: =+'1° GIORNATA'!$K$18+'2° GIORNATA'!$D$18+'3° GIORNATA'!$K$18+'4° GIORNATA'!$M$18+'5° GIORNATA'!$B$18+'6° GIORNATA'!$M$18 -> 432.5 | J17: 5° GIORNATA | N17: 3
A18: BRIGATA GURREN | B18: =$P$3+$P$7+$P$10+$O$15+$O$19+$O$22 -> 5 | C18: =IF($M$3="",0,$M$3)+IF($M$7="",0,$M$7)+IF($M$10="",0,$M$10)+IF($L$15="",0,$L$15)+IF($L$19="",0,$L$19)+IF($L$22="",0,$L$22) -> 12 | D18: =IF($L$3="",0,$L$3)+IF($L$7="",0,$L$7)+IF($L$10="",0,$L$10)+IF($M$15="",0,$M$15)+IF($M$19="",0,$M$19)+IF($M$22="",0,$M$22) -> 16 | E18: =C18-D18 -> -4 | F18: =+'1° GIORNATA'!$M$18+'2° GIORNATA'!$M$18+'3° GIORNATA'!$D$18+'4° GIORNATA'!$K$18+'5° GIORNATA'!$K$18+'6° GIORNATA'!$B$18 -> 433 | J18: =K6 -> AC DENTI | K18: =J6 -> CS RIPOSA | L18: =IF('5° GIORNATA'!$B$18=1,"",'5° GIORNATA'!$B$5) -> 2 | M18: =IF('5° GIORNATA'!$D$18=0,"",'5° GIORNATA'!$D$5) -> 2 | N18: 4 | O18: =IF(L18="",0,IF(L18>M18,3,IF(L18=M18,1,0))) -> 1 | P18: =IF(M18="",0,IF(M18>L18,3,IF(M18=L18,1,0))) -> 1
J19: =K7 -> BRIGATA GURREN | K19: =J7 -> INTERFOGAT | L19: =IF('5° GIORNATA'!$K$18=1,"",'5° GIORNATA'!$K$5) -> 1 | M19: =IF('5° GIORNATA'!$M$18=0,"",'5° GIORNATA'!$M$5) -> 0 | O19: =IF(L19="",0,IF(L19>M19,3,IF(L19=M19,1,0))) -> 3 | P19: =IF(M19="",0,IF(M19>L19,3,IF(M19=L19,1,0))) -> 0
J21: 6° GIORNATA
J22: =K10 -> BRIGATA GURREN | K22: =J10 -> CS RIPOSA | L22: =IF('6° GIORNATA'!$B$18=1,"",'6° GIORNATA'!$B$5) -> 0 | M22: =IF('6° GIORNATA'!$D$18=0,"",'6° GIORNATA'!$D$5) -> 1 | O22: =IF(L22="",0,IF(L22>M22,3,IF(L22=M22,1,0))) -> 0 | P22: =IF(M22="",0,IF(M22>L22,3,IF(M22=L22,1,0))) -> 3
J23: =K11 -> INTERFOGAT | K23: =J11 -> AC DENTI | L23: =IF('6° GIORNATA'!$K$18=1,"",'6° GIORNATA'!$K$5) -> 4 | M23: =IF('6° GIORNATA'!$M$18=0,"",'6° GIORNATA'!$M$5) -> 0 | O23: =IF(L23="",0,IF(L23>M23,3,IF(L23=M23,1,0))) -> 3 | P23: =IF(M23="",0,IF(M23>L23,3,IF(M23=L23,1,0))) -> 0
A27: GIRONE B | J27: 1° GIORNATA
J28: =A31 -> EVRIBADI | K28: =A32 -> SCARSENAL | L28: =IF('1° GIORNATA'!$B$48=1,"",'1° GIORNATA'!$B$35) -> 5 | M28: =IF('1° GIORNATA'!$D$48=0,"",'1° GIORNATA'!$D$35) -> 3 | O28: =IF(L28="",0,IF(L28>M28,3,IF(L28=M28,1,0))) -> 3 | P28: =IF(M28="",0,IF(M28>L28,3,IF(M28=L28,1,0))) -> 0
A29: SQUADRE | J29: =A33 -> AC CONTE | K29: =A34 -> MARCELLONA | L29: =IF('1° GIORNATA'!$K$48=1,"",'1° GIORNATA'!$K$35) -> 1 | M29: =IF('1° GIORNATA'!$M$48=0,"",'1° GIORNATA'!$M$35) -> 2 | O29: =IF(L29="",0,IF(L29>M29,3,IF(L29=M29,1,0))) -> 0 | P29: =IF(M29="",0,IF(M29>L29,3,IF(M29=L29,1,0))) -> 3
A31: EVRIBADI | B31: E | J31: 2° GIORNATA
A32: SCARSENAL | B32: F | J32: =A31 -> EVRIBADI | K32: =A33 -> AC CONTE | L32: =IF('2° GIORNATA'!$B$48=1,"",'2° GIORNATA'!$B$35) -> 2 | M32: =IF('2° GIORNATA'!$D$48=0,"",'2° GIORNATA'!$D$35) -> 3 | O32: =IF(L32="",0,IF(L32>M32,3,IF(L32=M32,1,0))) -> 0 | P32: =IF(M32="",0,IF(M32>L32,3,IF(M32=L32,1,0))) -> 3
A33: AC CONTE | B33: G | J33: =A32 -> SCARSENAL | K33: =A34 -> MARCELLONA | L33: =IF('2° GIORNATA'!$K$48=1,"",'2° GIORNATA'!$K$35) -> 0 | M33: =IF('2° GIORNATA'!$M$48=0,"",'2° GIORNATA'!$M$35) -> 3 | O33: =IF(L33="",0,IF(L33>M33,3,IF(L33=M33,1,0))) -> 0 | P33: =IF(M33="",0,IF(M33>L33,3,IF(M33=L33,1,0))) -> 3
A34: MARCELLONA | B34: H
J35: 3° GIORNATA
J36: =A31 -> EVRIBADI | K36: =A34 -> MARCELLONA | L36: =IF('3° GIORNATA'!$B$48=1,"",'3° GIORNATA'!$B$35) -> 3 | M36: =IF('3° GIORNATA'!$D$48=0,"",'3° GIORNATA'!$D$35) -> 1 | O36: =IF(L36="",0,IF(L36>M36,3,IF(L36=M36,1,0))) -> 3 | P36: =IF(M36="",0,IF(M36>L36,3,IF(M36=L36,1,0))) -> 0
J37: =A33 -> AC CONTE | K37: =A32 -> SCARSENAL | L37: =IF('3° GIORNATA'!$K$48=1,"",'3° GIORNATA'!$K$35) -> 1 | M37: =IF('3° GIORNATA'!$M$48=0,"",'3° GIORNATA'!$M$35) -> 0 | O37: =IF(L37="",0,IF(L37>M37,3,IF(L37=M37,1,0))) -> 3 | P37: =IF(M37="",0,IF(M37>L37,3,IF(M37=L37,1,0))) -> 0
A38: CLASSIFICA
J39: 4° GIORNATA
B40: pts | C40: g.f. | D40: g.s. | E40: diff. | F40: fantaPts | J40: =K28 -> SCARSENAL | K40: =J28 -> EVRIBADI | L40: =IF('4° GIORNATA'!$B$48=1,"",'4° GIORNATA'!$B$35) -> 0 | M40: =IF('4° GIORNATA'!$D$48=0,"",'4° GIORNATA'!$D$35) -> 1 | O40: =IF(L40="",0,IF(L40>M40,3,IF(L40=M40,1,0))) -> 0 | P40: =IF(M40="",0,IF(M40>L40,3,IF(M40=L40,1,0))) -> 3
A41: EVRIBADI | B41: =$O$28+$O$32+$O$36+$P$40+$P$44+$P$48 -> 11 | C41: =IF($L$28="",0,$L$28)+IF($L$32="",0,$L$32)+IF($L$36="",0,$L$36)+IF($M$40="",0,$M$40)+IF($M$44="",0,$M$44)+IF($M$48="",0,$M$48) -> 12 | D41: =IF($M$28="",0,$M$28)+IF($M$32="",0,$M$32)+IF($M$36="",0,$M$36)+IF($L$40="",0,$L$40)+IF($L$44="",0,$L$44)+IF($L$48="",0,$L$48) -> 8 | E41: =C41-D41 -> 4 | F41: =+'1° GIORNATA'!$B$48+'2° GIORNATA'!$B$48+'3° GIORNATA'!$B$48+'4° GIORNATA'!$D$48+'5° GIORNATA'!$D$48+'6° GIORNATA'!$D$48 -> 416 | G41: B1 | J41: =K29 -> MARCELLONA | K41: =J29 -> AC CONTE | L41: =IF('4° GIORNATA'!$K$48=1,"",'4° GIORNATA'!$K$35) -> 4 | M41: =IF('4° GIORNATA'!$M$48=0,"",'4° GIORNATA'!$M$35) -> 3 | N41: 1 | O41: =IF(L41="",0,IF(L41>M41,3,IF(L41=M41,1,0))) -> 3 | P41: =IF(M41="",0,IF(M41>L41,3,IF(M41=L41,1,0))) -> 0
A42: MARCELLONA | B42: =$P$29+$P$33+$P$36+$O$41+$O$45+$O$48 -> 10 | C42: =IF($M$29="",0,$M$29)+IF($M$33="",0,$M$33)+IF($M$36="",0,$M$36)+IF($L$41="",0,$L$41)+IF($L$45="",0,$L$45)+IF($L$48="",0,$L$48) -> 13 | D42: =IF($L$29="",0,$L$29)+IF($L$33="",0,$L$33)+IF($L$36="",0,$L$36)+IF($M$41="",0,$M$41)+IF(M$45="",0,$M$45)+IF($M$48="",0,$M$48) -> 11 | E42: =C42-D42 -> 2 | F42: =+'1° GIORNATA'!$M$48+'2° GIORNATA'!$M$48+'3° GIORNATA'!$D$48+'4° GIORNATA'!$K$48+'5° GIORNATA'!$K$48+'6° GIORNATA'!$B$48 -> 435.5 | G42: B2 | N42: 2
A43: AC CONTE | B43: =$O$29+$P$32+$O$37+$P$41+$O$44+$P$49 -> 10 | C43: =IF($L$29="",0,$L$29)+IF($M$32="",0,$M$32)+IF($L$37="",0,$L$37)+IF($M$41="",0,$M$41)+IF($L$44="",0,$L$44)+IF($M$49="",0,$M$49) -> 12 | D43: =IF($M$29="",0,$M$29)+IF($L$32="",0,$L$32)+IF($M$37="",0,$M$37)+IF($L$41="",0,$L$41)+IF($M$44="",0,$M$44)+IF($L$49="",0,$L$49) -> 9 | E43: =C43-D43 -> 3 | F43: =+'1° GIORNATA'!$K$48+'2° GIORNATA'!$D$48+'3° GIORNATA'!$K$48+'4° GIORNATA'!$M$48+'5° GIORNATA'!$B$48+'6° GIORNATA'!$M$48 -> 429 | J43: 5° GIORNATA | N43: 3
A44: SCARSENAL | B44: =$P$28+$O$33+$P$37+$O$40+$P$45+$O$49 -> 3 | C44: =IF($M$28="",0,$M$28)+IF($L$33="",0,$L$33)+IF($M$37="",0,$M$37)+IF($L$40="",0,$L$40)+IF($M$45="",0,$M$45)+IF($L$49="",0,$L$49) -> 7 | D44: =IF($L$28="",0,$L$28)+IF($M$33="",0,$M$33)+IF($L$37="",0,$L$37)+IF($M$40="",0,$M$40)+IF($L$45="",0,$L$45)+IF($M$49="",0,$M$49) -> 16 | E44: =C44-D44 -> -9 | F44: =+'1° GIORNATA'!$D$48+'2° GIORNATA'!$K$48+'3° GIORNATA'!$M$48+'4° GIORNATA'!$B$48+'5° GIORNATA'!$M$48+'6° GIORNATA'!$K$48 -> 390 | J44: =K32 -> AC CONTE | K44: =J32 -> EVRIBADI | L44: =IF('5° GIORNATA'!$B$48=1,"",'5° GIORNATA'!$B$35) -> 1 | M44: =IF('5° GIORNATA'!$D$48=0,"",'5° GIORNATA'!$D$35) -> 1 | N44: 4 | O44: =IF(L44="",0,IF(L44>M44,3,IF(L44=M44,1,0))) -> 1 | P44: =IF(M44="",0,IF(M44>L44,3,IF(M44=L44,1,0))) -> 1
J45: =K33 -> MARCELLONA | K45: =J33 -> SCARSENAL | L45: =IF('5° GIORNATA'!$K$48=1,"",'5° GIORNATA'!$K$35) -> 3 | M45: =IF('5° GIORNATA'!$M$48=0,"",'5° GIORNATA'!$M$35) -> 4 | O45: =IF(L45="",0,IF(L45>M45,3,IF(L45=M45,1,0))) -> 0 | P45: =IF(M45="",0,IF(M45>L45,3,IF(M45=L45,1,0))) -> 3
J47: 6° GIORNATA
J48: =K36 -> MARCELLONA | K48: =J36 -> EVRIBADI | L48: =IF('6° GIORNATA'!$B$48=1,"",'6° GIORNATA'!$B$35) -> 0 | M48: =IF('6° GIORNATA'!$D$48=0,"",'6° GIORNATA'!$D$35) -> 0 | O48: =IF(L48="",0,IF(L48>M48,3,IF(L48=M48,1,0))) -> 1 | P48: =IF(M48="",0,IF(M48>L48,3,IF(M48=L48,1,0))) -> 1
J49: =K37 -> SCARSENAL | K49: =J37 -> AC CONTE | L49: =IF('6° GIORNATA'!$K$48=1,"",'6° GIORNATA'!$K$35) -> 0 | M49: =IF('6° GIORNATA'!$M$48=0,"",'6° GIORNATA'!$M$35) -> 3 | O49: =IF(L49="",0,IF(L49>M49,3,IF(L49=M49,1,0))) -> 0 | P49: =IF(M49="",0,IF(M49>L49,3,IF(M49=L49,1,0))) -> 3
A53: GIRONE C | J53: 1° GIORNATA
J54: =A57 -> FLYBEARD | K54: =A58 -> MC TOWN | L54: =IF('1° GIORNATA'!$B$76=0,"",'1° GIORNATA'!$B$63) -> 0 | M54: =IF('1° GIORNATA'!$D$76=0,"",'1° GIORNATA'!$D$63) -> 4 | O54: =IF(L54="",0,IF(L54>M54,3,IF(L54=M54,1,0))) -> 0 | P54: =IF(M54="",0,IF(M54>L54,3,IF(M54=L54,1,0))) -> 3
A55: SQUADRE | J55: =A59 -> SKIACCIAK MOSCA | K55: =A60 -> AC NUMBERS | L55: =IF('1° GIORNATA'!$K$76=0,"",'1° GIORNATA'!$K$63) -> 4 | M55: =IF('1° GIORNATA'!$M$76=0,"",'1° GIORNATA'!$M$63) -> 5 | O55: =IF(L55="",0,IF(L55>M55,3,IF(L55=M55,1,0))) -> 0 | P55: =IF(M55="",0,IF(M55>L55,3,IF(M55=L55,1,0))) -> 3
A57: FLYBEARD | B57: I | J57: 2° GIORNATA
A58: MC TOWN | B58: L | J58: =A57 -> FLYBEARD | K58: =A59 -> SKIACCIAK MOSCA | L58: =IF('2° GIORNATA'!$B$76=1,"",'2° GIORNATA'!$B$63) -> 3 | M58: =IF('2° GIORNATA'!$D$76=0,"",'2° GIORNATA'!$D$63) -> 1 | O58: =IF(L58="",0,IF(L58>M58,3,IF(L58=M58,1,0))) -> 3 | P58: =IF(M58="",0,IF(M58>L58,3,IF(M58=L58,1,0))) -> 0
A59: SKIACCIAK MOSCA | B59: M | J59: =A58 -> MC TOWN | K59: =A60 -> AC NUMBERS | L59: =IF('2° GIORNATA'!$K$76=1,"",'2° GIORNATA'!$K$63) -> 4 | M59: =IF('2° GIORNATA'!$M$76=0,"",'2° GIORNATA'!$M$63) -> 0 | O59: =IF(L59="",0,IF(L59>M59,3,IF(L59=M59,1,0))) -> 3 | P59: =IF(M59="",0,IF(M59>L59,3,IF(M59=L59,1,0))) -> 0
A60: AC NUMBERS | B60: N
J61: 3° GIORNATA
J62: =A57 -> FLYBEARD | K62: =A60 -> AC NUMBERS | L62: =IF('3° GIORNATA'!$B$76=1,"",'3° GIORNATA'!$B$63) -> 4 | M62: =IF('3° GIORNATA'!$D$76=0,"",'3° GIORNATA'!$D$63) -> 4 | O62: =IF(L62="",0,IF(L62>M62,3,IF(L62=M62,1,0))) -> 1 | P62: =IF(M62="",0,IF(M62>L62,3,IF(M62=L62,1,0))) -> 1
J63: =A59 -> SKIACCIAK MOSCA | K63: =A58 -> MC TOWN | L63: =IF('3° GIORNATA'!$K$76=1,"",'3° GIORNATA'!$K$63) -> 3 | M63: =IF('3° GIORNATA'!$M$76=0,"",'3° GIORNATA'!$M$63) -> 4 | O63: =IF(L63="",0,IF(L63>M63,3,IF(L63=M63,1,0))) -> 0 | P63: =IF(M63="",0,IF(M63>L63,3,IF(M63=L63,1,0))) -> 3
A64: CLASSIFICA
J65: 4° GIORNATA
B66: pts | C66: g.f. | D66: g.s. | E66: diff. | F66: fantaPts | J66: =K54 -> MC TOWN | K66: =J54 -> FLYBEARD | L66: =IF('4° GIORNATA'!$B$78=1,"",'4° GIORNATA'!$B$65) -> 1 | M66: =IF('4° GIORNATA'!$D$78=0,"",'4° GIORNATA'!$D$65) -> 4 | O66: =IF(L66="",0,IF(L66>M66,3,IF(L66=M66,1,0))) -> 0 | P66: =IF(M66="",0,IF(M66>L66,3,IF(M66=L66,1,0))) -> 3
A67: MC TOWN | B67: =$P$54+$O$59+$P$63+$O$66+$P$71+$O$75 -> 12 | C67: =IF($M$54="",0,$M$54)+IF($L$59="",0,$L$59)+IF($M$63="",0,$M$63)+IF($L$66="",0,$L$66)+IF($M$71="",0,$M$71)+IF($L$75="",0,$L$75) -> 19 | D67: =IF($L$54="",0,$L$54)+IF($M$59="",0,$M$59)+IF($L$63="",0,$L$63)+IF($M$66="",0,$M$66)+IF($L$71="",0,$L$71)+IF($M$75="",0,$M$75) -> 11 | E67: =C67-D67 -> 8 | F67: =+'1° GIORNATA'!D76+'2° GIORNATA'!K76+'3° GIORNATA'!M76+'4° GIORNATA'!B78+'5° GIORNATA'!M76+'6° GIORNATA'!K76 -> 462.5 | G67: C1 | J67: =K55 -> AC NUMBERS | K67: =J55 -> SKIACCIAK MOSCA | L67: =IF('4° GIORNATA'!$K$78=1,"",'4° GIORNATA'!$K$65) -> 2 | M67: =IF('4° GIORNATA'!$M$78=0,"",'4° GIORNATA'!$M$65) -> 4 | N67: 1 | O67: =IF(L67="",0,IF(L67>M67,3,IF(L67=M67,1,0))) -> 0 | P67: =IF(M67="",0,IF(M67>L67,3,IF(M67=L67,1,0))) -> 3
A68: FLYBEARD | B68: =$O$54+$O$58+$O$62+$P$66+$P$70+$P$74 -> 10 | C68: =IF($L$54="",0,$L$54)+IF($L$58="",0,$L$58)+IF($L$62="",0,$L$62)+IF($M$66="",0,$M$66)+IF($M$70="",0,$M$70)+IF($M$74="",0,$M$74) -> 16 | D68: =IF($M$54="",0,$M$54)+IF($M$58="",0,$M$58)+IF($M$62="",0,$M$62)+IF($L$66="",0,$L$66)+IF($L$70="",0,$L$70)+IF($L$74="",0,$L$74) -> 14 | E68: =C68-D68 -> 2 | F68: =+'1° GIORNATA'!B76+'2° GIORNATA'!B76+'3° GIORNATA'!B76+'4° GIORNATA'!D78+'5° GIORNATA'!D76+'6° GIORNATA'!D76 -> 446 | G68: C2 | N68: 2
A69: AC NUMBERS | B69: =$P$55+$P$59+$P$62+$O$67+$O$71+$O$74 -> 7 | C69: =IF($M$55="",0,$M$55)+IF($M$59="",0,$M$59)+IF($M$62="",0,$M$62)+IF($L$67="",0,$L$67)+IF($L$71="",0,$L$71)+IF($L$74="",0,$L$74) -> 17 | D69: =IF($L$55="",0,$L$55)+IF($L$59="",0,$L$59)+IF($L$62="",0,$L$62)+IF($M$67="",0,$M$67)+IF($M$71="",0,$M$71)+IF($M$74="",0,$M$74) -> 23 | E69: =C69-D69 -> -6 | F69: =+'1° GIORNATA'!M76+'2° GIORNATA'!M76+'3° GIORNATA'!D76+'4° GIORNATA'!K78+'5° GIORNATA'!K76+'6° GIORNATA'!B76 -> 453.5 | J69: 5° GIORNATA | N69: 3
A70: SKIACCIAK MOSCA | B70: =$O$55+$P$58+$O$63+$P$67+$O$70+$P$75 -> 6 | C70: =IF($L$55="",0,$L$55)+IF($M$58="",0,$M$58)+IF($L$63="",0,$L$63)+IF($M$67="",0,$M$67)+IF($L$70="",0,$L$70)+IF($M$75="",0,$M$75) -> 14 | D70: =IF($M$55="",0,$M$55)+IF($L$58="",0,$L$58)+IF($M$63="",0,$M$63)+IF($L$67="",0,$L$67)+IF($M$70="",0,$M$70)+IF($L$75="",0,$L$75) -> 18 | E70: =C70-D70 -> -4 | F70: =+'1° GIORNATA'!K76+'2° GIORNATA'!D76+'3° GIORNATA'!K76+'4° GIORNATA'!M78+'5° GIORNATA'!B76+'6° GIORNATA'!M76 -> 441.5 | J70: =K58 -> SKIACCIAK MOSCA | K70: =J58 -> FLYBEARD | L70: =IF('5° GIORNATA'!$B$76=1,"",'5° GIORNATA'!$B$63) -> 1 | M70: =IF('5° GIORNATA'!$D$76=0,"",'5° GIORNATA'!$D$63) -> 0 | N70: 4 | O70: =IF(L70="",0,IF(L70>M70,3,IF(L70=M70,1,0))) -> 3 | P70: =IF(M70="",0,IF(M70>L70,3,IF(M70=L70,1,0))) -> 0
J71: =K59 -> AC NUMBERS | K71: =J59 -> MC TOWN | L71: =IF('5° GIORNATA'!$K$76=1,"",'5° GIORNATA'!$K$63) -> 3 | M71: =IF('5° GIORNATA'!$M$76=0,"",'5° GIORNATA'!$M$63) -> 2 | O71: =IF(L71="",0,IF(L71>M71,3,IF(L71=M71,1,0))) -> 3 | P71: =IF(M71="",0,IF(M71>L71,3,IF(M71=L71,1,0))) -> 0
J73: 6° GIORNATA
J74: =K62 -> AC NUMBERS | K74: =J62 -> FLYBEARD | L74: =IF('6° GIORNATA'!$B$76=1,"",'6° GIORNATA'!$B$63) -> 3 | M74: =IF('6° GIORNATA'!$D$76=0,"",'6° GIORNATA'!$D$63) -> 5 | O74: =IF(L74="",0,IF(L74>M74,3,IF(L74=M74,1,0))) -> 0 | P74: =IF(M74="",0,IF(M74>L74,3,IF(M74=L74,1,0))) -> 3
J75: =K63 -> MC TOWN | K75: =J63 -> SKIACCIAK MOSCA | L75: =IF('6° GIORNATA'!$K$76=1,"",'6° GIORNATA'!$K$63) -> 4 | M75: =IF('6° GIORNATA'!$M$76=0,"",'6° GIORNATA'!$M$63) -> 1 | O75: =IF(L75="",0,IF(L75>M75,3,IF(L75=M75,1,0))) -> 3 | P75: =IF(M75="",0,IF(M75>L75,3,IF(M75=L75,1,0))) -> 0
A79: QUARTI
E80: ANDATA | G80: RITORNO | R80: ORDINE CHIAMATA SEMIFINALI
A81: =D2 -> MC TOWN | B81: =D9 -> AC DENTI | I81: D1
A82: =D4 -> EVRIBADI | B82: =D7 -> MARCELLONA | I82: E1
A83: =D3 -> CS RIPOSA | B83: =D8 -> NUMBERS | I83: F1
A84: =D5 -> FLYBEARD | B84: =D6 -> INTERFOGAT | I84: G1
A87: SEMIFINALI
E88: ANDATA | G88: RITORNO
A89: =IF(E81+G81>F81+H81,A81,IF(E81+G81=F81+H81,IF(G81>F81,A81,IF(F81>G81,B81,IF(F81=G81,"rigori"))),B81)) -> rigori | B89: =IF(E82+G82>F82+H82,A82,IF(E82+G82=F82+H82,IF(G82>F82,A82,IF(F82>G82,B82,IF(F82=G82,"rigori"))),B82)) -> rigori | I89: H1 | R89: ORDINE CHIAMATA FINALI
A90: =IF(E83+G83>F83+H83,A83,IF(E83+G83=F83+H83,IF(G83>F83,A83,IF(F83>G83,B83,IF(F83=G83,"rigori"))),B83)) -> rigori | B90: =IF(E84+G84>F84+H84,A84,IF(E84+G84=F84+H84,IF(G84>F84,A84,IF(F84>G84,B84,IF(F84=G84,"rigori"))),B84)) -> rigori | I90: K1
A93: FINALE
E94: ANDATA | G94: RITORNO
A98: VINCENTE

Sheet 1° GIORNATA
A1: 1° GIORNATA
A3: GIRONE A
A5: =+TABELLONE!J2 -> CS RIPOSA | B5: =IF(B18<66,0,IF(B18<70,1,IF(B18<74,2,IF(B18<78,3,IF(B18<82,4,IF(B18<86,5,IF(B18<90,6,IF(B18<94,7,IF(B18<98,8,IF(B18<101,9,10)))))))))) -> 4 | C5: =+TABELLONE!K2 -> INTERFOGAT | D5: =IF(D18<66,0,IF(D18<70,1,IF(D18<74,2,IF(D18<78,3,IF(D18<82,4,IF(D18<86,5,IF(D18<90,6,IF(D18<94,7,IF(D18<98,8,IF(D18<101,9,10)))))))))) -> 4 | J5: =+TABELLONE!J3 -> AC DENTI | K5: =IF(K18<66,0,IF(K18<70,1,IF(K18<74,2,IF(K18<78,3,IF(K18<82,4,IF(K18<86,5,IF(K18<90,6,IF(K18<94,7,IF(K18<98,8,IF(K18<101,9,10)))))))))) -> 7 | L5: =+TABELLONE!K3 -> BRIGATA GURREN | M5: =IF(M18<66,0,IF(M18<70,1,IF(M18<74,2,IF(M18<78,3,IF(M18<82,4,IF(M18<86,5,IF(M18<90,6,IF(M18<94,7,IF(M18<98,8,IF(M18<101,9,10)))))))))) -> 6
A6: TOTTHENAM | B6: 5 | C6: PSG | D6: 5.5 | J6: MANCHESTER CITY | K6: 7 | L6: BAYER MONACO | M6: 6
A7: CARVAJAL | B7: 6.5 | C7: DANI ALVES | D7: 6.5 | J7: SERGIO RAMOS | K7: 6 | L7: HUMMELS | M7: 6.5
A8: GHOULAM | B8: 8 | C8: TELLES | D8: 5 | J8: PIQUE | K8: 6 | L8: OTAMENDI | M8: 6.5
A9: BARTRA | B9: 10 | C9: JAVI MARTINEZ | D9: 6.5 | J9: VARANE | K9: 6.5 | L9: MORGAN | M9: 6.5
A10: MOUTINHO | B10: 6 | C10: DE BRUYNE | D10: 7 | J10: MAHREZ | K10: 13.5 | L10: LISANDRO | M10: 6
A11: KROOS | B11: 4.5 | C11: MODRIC | D11: 5.5 | J11: KOKE | K11: 6.5 | L11: STERLING | M11: 8
A12: D.COSTA | B12: 8 | C12: INIESTA | D12: 10 | J12: CHAMBERLAIN | K12: 5 | L12: PJANIC | M12: 6.5
A13: NASRI | B13: 5.5 | C13: ANDRE ANDRE | D13: 9.5 | J13: DEMBELE | K13: 7.5 | L13: SAUL NIGUEZ | M13: 10.5
A14: MORATA | B14: 10 | C14: RONALDO | D14: 10 | J14: SUAREZ | K14: 14.5 | L14: MARTINS | M14: 7
A15: SON | B15: 5.5 | C15: A. SILVA | D15: 9.5 | J15: MILIK | K15: 13.5 | L15: NEYMAR | M15: 15
A16: MULLER | B16: 9.5 | C16: LUCAS | D16: 5 | J16: VIETTO | K16: 6 | L16: AUBAMEYANG | M16: 10
A17: FATTORE CAMPO | B17: 1 | J17: FATTORE CAMPO | K17: 1
B18: =SUM(B6:B17) -> 79.5 | D18: =SUM(D6:D17) -> 80 | K18: =SUM(K6:K17) -> 93 | M18: =SUM(M6:M17) -> 88.5
A19: PANCHINA | C19: PANCHINA | J19: PANCHINA | L19: PANCHINA
A20: TOTTHENAM | B20: 6 | C20: PSG | D20: 6.5 | J20: MANCHESTER CITY | K20: 7 | L20: BAYER MONACO
A21: WENDELL | B21: 4.5 | C21: KOULIBALY | D21: 7 | J21: PISZCZEK | K21: 6 | L21: GLIK | M21: 7
A22: SCHENNIKOV | B22: 5 | C22: MARCANO | D22: 6 | J22: TOPRAK | K22: 6 | L22: MARQUINOS | M22: 7.5
A23: RAMI | B23: 6 | C23: VERTONGHEN | D23: 4.5 | J23: VIDA | K23: 5 | L23: IGNASHEVICH | M23: 6
A24: GABI | B24: 5.5 | C24: OTAVIO | D24: 9.5 | J24: BUSQUETS | K24: 7 | L24: EREMENKO | M24: 9.5
A25: DRINKWATER | B25: 6.5 | C25: KOVACIC | D25: sv | J25: ASENSIO | K25: sv | L25: JORGINHO | M25: 6
A26: LEMINA | B26: 5 | C26: DIER | D26: 5.5 | J26: VALBUENA | K26: sv | L26: CASTRO | M26: 10.5
A27: NOLITO | B27: sv | C27: GABBIADINI | D27: sv | J27: FALCAO | K27: 6 | L27: TRAORE | M27: 7
A28: GERMAIN | B28: sv | C28: DEPOITRE | D28: 5 | J28: ABOUBAKAR | K28: 4.5 | L28: MORALES | M28: 5
A29: DOST | B29: 5.5 | C29: DIABY | D29: 5.5 | L29: JIMENEZ | M29: sv
A33: GIRONE B
A35: =+TABELLONE!J28 -> EVRIBADI | B35: =IF(B48<66,0,IF(B48<70,1,IF(B48<74,2,IF(B48<78,3,IF(B48<82,4,IF(B48<86,5,IF(B48<90,6,IF(B48<94,7,IF(B48<98,8,IF(B48<101,9,10)))))))))) -> 5 | C35: SCARSENAL | D35: =IF(D48<66,0,IF(D48<70,1,IF(D48<74,2,IF(D48<78,3,IF(D48<82,4,IF(D48<86,5,IF(D48<90,6,IF(D48<94,7,IF(D48<98,8,IF(D48<101,9,10)))))))))) -> 3 | J35: AC CONTE | K35: =IF(K48<66,0,IF(K48<70,1,IF(K48<74,2,IF(K48<78,3,IF(K48<82,4,IF(K48<86,5,IF(K48<90,6,IF(K48<94,7,IF(K48<98,8,IF(K48<101,9,10)))))))))) -> 1 | L35: MARCELLONA | M35: =IF(M48<66,0,IF(M48<70,1,IF(M48<74,2,IF(M48<78,3,IF(M48<82,4,IF(M48<86,5,IF(M48<90,6,IF(M48<94,7,IF(M48<98,8,IF(M48<101,9,10)))))))))) -> 2
A36: ATLETICO MADRID | B36: 11 | C36: REAL MADRID | D36: 5 | J36: PORTO | K36: 4.5 | L36: NAPOLI | M36: 5
A37: FILIPE LUIS | B37: 7 | C37: BONUCCI | D37: 6 | J37: SERGI ROBERTO | K37: 7 | L37: THIAGO SILVA | M37: 7
A38: KIMMICH | B38: 14 | C38: HYSAJ | D38: 6 | J38: PEPE | K38: 5.5 | L38: ALBIOL | M38: 6
A39: KOLAROV | B39: 8 | C39: BRENET | D39: 6 | J39: LAHM | K39: 6 | L39: ALDERWEIRELED | M39: 9.5
A40: KHEDIRA | B40: 5.5 | C40: KALULU | D40: 6 | J40: VIDAL | K40: 6.5 | L40: SILVA D. | M40: 10.5
A41: LAMELA | B41: 7 | C41: XABI ALONSO | D41: 6.5 | J41: GAITAN | K41: 6 | L41: HAMSIK | M41: 7
A42: T. ALCANTARA | B42: 6.5 | C42: KAGAWA | D42: 10 | J42: ARDA TURAN | K42: 5.5 | L42: RAMSEY | M42: 6
A43: MATUIDI | B43: 6.5 | C43: CALHANOGLU | D43: 9 | J43: SALVIO | K43: 5 | L43: VAZQUEZ F. | M43: 5
A44: KIESSLING | B44: 6 | C44: DOUMBIA | D44: 5.5 | J44: HIGUAIN | K44: 5.5 | L44: WALCOTT | M44: 5
A45: VARDY | B45: 6.5 | C45: DE JONG | D45: 5 | J45: MEHMEDI | K45: 9 | L45: KANE | M45: 5
A46: BALE | B46: 6 | C46: CAVANI | D46: 9 | J46: YARMOLENKO | K46: 6.5 | L46: GRIEZMANN | M46: 5
A47: FATTORE CAMPO | B47: 1 | J47: FATTORE CAMPO | K47: 1
B48: =SUM(B36:B47) -> 85 | D48: =SUM(D36:D47) -> 74 | K48: =SUM(K36:K47) -> 68 | M48: =SUM(M36:M47) -> 71
A49: PANCHINA | C49: PANCHINA | J49: PANCHINA | L49: PANCHINA
A50: ATLETICO MADRID | B50: 11 | C50: REAL | D50: 5 | J50: PORTO | L50: NAPOLI | M50: 6
A51: HUTH | B51: 6.5 | C51: MATIHEU | D51: sv | J51: FELIPE | K51: 5.5 | L51: GIMENEZ | M51: 6.5
A52: SIMPSON | B52: sv | C52: YANGA MBIWA | D52: 7 | J52: CHIELLINI | K52: 6 | L52: ROSE | M52: sv
A53: FUCHS | B53: 6.5 | J53: STONES | K53: 7 | L53: MUSTAFI | M53: 5.5
A54: RABIOT | B54: 6.5 | C54: VAZQUEZ | D54: 6.5 | J54: CORONA | K54: 5.5 | L54: SILVA B. | M54: 10.5
A55: DZAGOEV | B55: 10.5 | C55: FERRI | D55: 10 | J55: CARRASCO | K55: 5.5 | L55: CASEMIRO | M55: 6
A56: ASAMOAH | B56: 5.5 | C56: CAZORLA | D56: 5.5 | J56: GUARDADO | K56: 2 | L56: GANSO | M56: sv
A57: JESE’ | B57: sv | C57: INSIGNE | D57: 6 | J57: MANDZUKIC | K57: sv | L57: BEN ARFA | M57: sv
A58: OKAZAKI | B58: sv | C58: CAFU’ | D58: 9.5 | J58: GIROUD | K58: 3 | L58: RUIZ | M58: 5
A59: ULLOA | B59: 6 | J59: NARSINGH | K59: 7 | L59: CORREA | M59: 6.5
A61: GIRONE C
A63: =+TABELLONE!J54 -> FLYBEARD | B63: =IF(B76<66,0,IF(B76<70,1,IF(B76<74,2,IF(B76<78,3,IF(B76<82,4,IF(B76<86,5,IF(B76<90,6,IF(B76<94,7,IF(B76<98,8,IF(B76<101,9,10)))))))))) -> 0 | C63: MC TOWN | D63: =IF(D76<66,0,IF(D76<70,1,IF(D76<74,2,IF(D76<78,3,IF(D76<82,4,IF(D76<86,5,IF(D76<90,6,IF(D76<94,7,IF(D76<98,8,IF(D76<101,9,10)))))))))) -> 4 | J63: SKIACCIAK MOSCA | K63: =IF(K76<66,0,IF(K76<70,1,IF(K76<74,2,IF(K76<78,3,IF(K76<82,4,IF(K76<86,5,IF(K76<90,6,IF(K76<94,7,IF(K76<98,8,IF(K76<101,9,10)))))))))) -> 4 | L63: AC NUMBERS | M63: =IF(M76<66,0,IF(M76<70,1,IF(M76<74,2,IF(M76<78,3,IF(M76<82,4,IF(M76<86,5,IF(M76<90,6,IF(M76<94,7,IF(M76<98,8,IF(M76<101,9,10)))))))))) -> 5
A64: ARSENAL | B64: 6 | C64: JUVENTUS | D64: 6 | J64: LEICESTER | K64: 6 | L64: BARCELLONA | M64: 9
A65: JEDVAJ | B65: 5 | C65: MARCELO | D65: 5 | J65: ALEX SANDRO | K65: 6.5 | L65: ALABA | M65: 8
A66: BARZAGLI | B66: 6 | C66: WALKER | D66: 6 | J66: JORDI ALBA | K66: 7 | L66: ZABALETA | M66: 7
A67: GODIN | B67: 6 | C67: BOLINGOLI MBOMBO | D67: 6 | J67: GUERREIRO | K67: 11.5 | L67: SIDIBE | M67: 6.5
A68: OZIL | B68: 6 | C68: RIBERY | D68: 7.5 | J68: RAKITIC | K68: 6 | L68: DI MARIA | M68: 6.5
A69: VERRATTI | B69: 6 | C69: ERIKSEN | D69: 5.5 | J69: RODE | K69: 5.5 | L69: GOTZE | M69: 9.5
A70: SANCHES | B70: 6 | C70: MERTENS | D70: 6.5 | J70: BJARNASON | K70: 6 | L70: BRAHIMI | M70: 5.5
A71: BRANDT | B71: 6 | C71: HERRERA | D71: 5 | J71: ALLAN | K71: 7 | L71: DELGADO | M71: 6
A72: DYBALA | B72: 6.5 | C72: PIZZI | D72: 5.5 | J72: LEWANDOWSKY | K72: 9.5 | L72: MESSI | M72: 18
A73: BENZEMA | B73: 5 | C73: AGUERO | D73: 17 | J73: CALLEJON | K73: 6.5 | L73: HERNANDEZ | M73: 5
A74: GAMEIRO | B74: 5 | C74: SANCHEZ | D74: 9.5 | J74: SCHURRLE | K74: 6.5 | L74: LACAZETTE | M74: 2
A75: FATTORE CAMPO | B75: 1 | J75: FATTORE CAMPO | K75: 1
B76: =SUM(B64:B75) -> 64.5 | D76: =SUM(D64:D75) -> 79.5 | K76: =SUM(K64:K75) -> 79 | M76: =SUM(M64:M75) -> 83
A77: PANCHINA | C77: PANCHINA | J77: PANCHINA | L77: PANCHINA
A78: ARSENAL | B78: 7 | C78: JUVENTUS | D78: 6 | J78: LEICESTER | K78: 6 | L78: BARCELLONA | M78: 9
A79: BENATIA | B79: sv | C79: JUANFRAN | D79: 6 | J79: LAYUN | K79: 5.5 | L79: KOSCIELNY | M79: 5.5
A80: BELLERIN | B80: 5 | C80: MASCHERANO | D80: sv | J80: EVRA | K80: 5.5 | L80: M. FERNANDES | M80: 6
A81: BALANTA | B81: 6 | C81: TAH | D81: 5 | J81: RAGGI | K81: 6.5 | L81: UMTITI | M81: 6
A82: ALLI | B82: 6 | C82: FERNANDINHO | D82: 7 | J82: THIAGO MOTTA | K82: 5.5 | L82: G. PEREIRO | M82: sv
A83: ARANGUIZ | B83: 5 | C83: D. GONZALES | D83: sv | J83: FABINHO | K83: 6.5 | L83: ALBRIGHTON | M83: 10
A84: HAZARD | B84: 5 | C84: STINDL | D84: 5.5 | J84: QUARESMA | K84: 5.5 | L84: D. SUAREZ | M84: sv
A85: TORRES | B85: sv | C85: REUS | D85: sv | J85: SLIMANI | K85: 6.5 | L85: COMAN | M85: sv
A86: PJACA | B86: sv | C86: IHEANACHO | D86: 9 | J86: TOSUN | K86: 5.5 | L86: DEMBELE M. | M86: 2
A87: JONAS | B87: sv | C87: RAFFAEL | D87: 4 | J87: BEN YEDDER | K87: sv | L87: ALCACER | M87: sv

Sheet 2° GIORNATA
A1: 2° GIORNATA
A3: GIRONE A
A5: =+TABELLONE!J6 -> CS RIPOSA | B5: =IF(B18<66,0,IF(B18<70,1,IF(B18<74,2,IF(B18<78,3,IF(B18<82,4,IF(B18<86,5,IF(B18<90,6,IF(B18<94,7,IF(B18<98,8,IF(B18<101,9,10)))))))))) -> 3 | C5: =+TABELLONE!K6 -> AC DENTI | D5: =IF(D18<66,0,IF(D18<70,1,IF(D18<74,2,IF(D18<78,3,IF(D18<82,4,IF(D18<86,5,IF(D18<90,6,IF(D18<94,7,IF(D18<98,8,IF(D18<101,9,10)))))))))) -> 1 | J5: =+TABELLONE!J7 -> INTERFOGAT | K5: =IF(K18<66,0,IF(K18<70,1,IF(K18<74,2,IF(K18<78,3,IF(K18<82,4,IF(K18<86,5,IF(K18<90,6,IF(K18<94,7,IF(K18<98,8,IF(K18<101,9,10)))))))))) -> 3 | L5: =+TABELLONE!K7 -> BRIGATA GURREN | M5: =IF(M18<66,0,IF(M18<70,1,IF(M18<74,2,IF(M18<78,3,IF(M18<82,4,IF(M18<86,5,IF(M18<90,6,IF(M18<94,7,IF(M18<98,8,IF(M18<101,9,10)))))))))) -> 3
A6: TOTTENHAM | B6: 6 | C6: MANCHESTER CITY | D6: 2.5 | J6: PSG | K6: 9 | L6: BAYERN MONACO | M6: 5
A7: GHOULAM | B7: 8 | C7: SERGIO RAMOS | D7: 5.5 | J7: DANI ALVES | K7: 9.5 | L7: MORGAN | M7: 6.5
A8: KURZAWA | B8: 5.5 | C8: PIQUE | D8: 9 | J8: VERTONGHEN | K8: 6 | L8: MARQUINHOS | M8: 6
A9: CARVAJAL | B9: 6 | C9: BOATENG | D9: 5 | J9: KOULIBALY | K9: 6.5 | L9: OTAMENDI | M9: 5.5
A10: D. COSTA | B10: 6 | C10: MAHREZ | D10: 8 | F10: Bale | J10: JAVI MARTINEZ | K10: 5 | L10: PJANIC | M10: 11.5
A11: MOUTINHO | B11: 5 | C11: KOKE | D11: 6 | F11: Lamela | J11: MODRIC | K11: 6.5 | L11: STERLING | M11: 8
A12: KROOS | B12: 6 | C12: DEMBELE | D12: 6 | F12: Vietto | J12: INIESTA | K12: 5.5 | L12: MARTINS | M12: 5.5
A13: NASRI | B13: 7 | C13: BUSQUETS | D13: 5 | F13: Mehmedi | J13: JAMES RODRIGUEZ | K13: 6 | L13: SAUL NIGUEZ | M13: 6.5
A14: MULLER | B14: 5 | C14: SUAREZ | D14: 6.5 | F14: Mahrez | J14: RONALDO | K14: 10 | L14: NEYMAR | M14: 7.5
A15: SON | B15: 10 | C15: MILIK | D15: 10 | F15: Pjanic | J15: A. SILVA | K15: 6.5 | L15: AUBAMEYANG | M15: 9.5
A16: DOST | B16: 10 | C16: VIETTO | D16: 3 | F16: Sanchez x2 | J16: LUCAS | K16: 6 | L16: TRAORE | M16: 5.5
A17: FATTORE CAMPO | B17: 1 | F17: Verratti | J17: FATTORE CAMPO | K17: 1
B18: =SUM(B6:B17) -> 75.5 | D18: =SUM(D6:D17) -> 66.5 | F18: Di Maria | K18: =SUM(K6:K17) -> 77.5 | M18: =SUM(M6:M17) -> 77
A19: PANCHINA | C19: PANCHINA | F19: Lucas | J19: PANCHINA | L19: PANCHINA
A20: TOTTENHAM | B20: 6 | C20: MANCHESTER CITY | D20: 2.5 | F20: L. De Jong | J20: PSG | K20: 9 | L20: BAYERN MONACO | M20: 5
A21: BARTRA | B21: sv | C21: VARANE | D21: 10 | F21: Neymar | J21: MARCANO | K21: 5.5 | L21: GLIK | M21: 9.5
A22: SCHENNIKOV | B22: 5.5 | C22: PISZCZEK | D22: 6 | F22: Ghoulam | J22: TELLES | K22: 6 | L22: IGNASHEVICH | M22: 5.5
A23: WENDELL | B23: sv | C23: TOPRAK | D23: 5.5 | J23: GRIMALDO | K23: 5.5 | L23: LISANDRO | M23: 5
A24: LEMINA | B24: sv | C24: VALBUENA | D24: 5.5 | J24: OTAVIO | K24: 6.5 | L24: EREMENKO | M24: 5
A25: GABI | B25: 6 | C25: CHAMBERLAIN | D25: 6 | J25: KOVACIC | K25: 5 | L25: VITOLO | M25: 6
A26: DRINKWATER | B26: 6.5 | C26: ASENSIO | D26: sv | J26: ANDRE ANDRE | K26: 6 | L26: JORGINHO | M26: 5.5
A27: MORATA | B27: sv | C27: FALCAO | D27: sv | J27: GABBIADINI | K27: sv | L27: MORAES | M27: 4.5
A28: NOLITO | B28: 9 | C28: ABOUBAKAR | D28: 5.5 | J28: DIABY | K28: sv | L28: FEKIR | M28: 7
A29: GERMAIN | B29: 5 | C29: LOCADIA | D29: sv | J29: DEPOITRE | K29: sv | L29: JIMENEZ | M29: sv
A33: GIRONE B
A35: =+TABELLONE!J32 -> EVRIBADI | B35: =IF(B48<66,0,IF(B48<70,1,IF(B48<74,2,IF(B48<78,3,IF(B48<82,4,IF(B48<86,5,IF(B48<90,6,IF(B48<94,7,IF(B48<98,8,IF(B48<101,9,10)))))))))) -> 2 | C35: =+TABELLONE!K32 -> AC CONTE | D35: =IF(D48<66,0,IF(D48<70,1,IF(D48<74,2,IF(D48<78,3,IF(D48<82,4,IF(D48<86,5,IF(D48<90,6,IF(D48<94,7,IF(D48<98,8,IF(D48<101,9,10)))))))))) -> 3 | J35: =+TABELLONE!J33 -> SCARSENAL | K35: =IF(K48<66,0,IF(K48<70,1,IF(K48<74,2,IF(K48<78,3,IF(K48<82,4,IF(K48<86,5,IF(K48<90,6,IF(K48<94,7,IF(K48<98,8,IF(K48<101,9,10)))))))))) -> 0 | L35: =+TABELLONE!K33 -> MARCELLONA | M35: =IF(M48<66,0,IF(M48<70,1,IF(M48<74,2,IF(M48<78,3,IF(M48<82,4,IF(M48<86,5,IF(M48<90,6,IF(M48<94,7,IF(M48<98,8,IF(M48<101,9,10)))))))))) -> 3
A36: ATLETICO MADRID | B36: 6.5 | C36: PORTO | D36: 5 | J36: REAL MADRID | K36: 4 | L36: NAPOLI | M36: 4
A37: AURIER | B37: 4.5 | C37: STONES | D37: 6 | J37: BONUCCI | K37: 6.5 | L37: THIAGO SILVA | M37: 6
A38: FILIPE LUIS | B38: 7 | C38: CHIELLINI | D38: 6.5 | J38: HYSAI | K38: 7 | L38: ALDERWEIRELD | M38: 6.5
A39: KIMMICH | B39: 5.5 | C39: SERGI ROBERTO | D39: 6.5 | J39: BRENET | K39: 4 | L39: MUSTAFI | M39: 6
A40: KOLAROV | B40: 5 | C40: VIDAL | D40: 5 | J40: DIGNE | K40: 0 | L40: SILVA D. | M40: 7
A41: KHEDIRA | B41: 7 | C41: ARDA TURAN | D41: 10 | J41: XABI ALONSO | K41: 5 | L41: HAMSIK | M41: 10.5
A42: LAMELA | B42: 7 | C42: XHAKA | D42: 6.5 | J42: CAZORLA | K42: 7 | L42: F. VAZQUEZ | M42: 5
A43: MATUIDI | B43: 9 | C43: CARRASCO | D43: 10 | J43: FERRI | K43: 0 | L43: SILVA B. | M43: 6
A44: T. ALCANTARA | B44: 6 | C44: HIGUAIN | D44: 10.5 | J44: CAVANI | K44: 12.5 | L44: WALCOTT | M44: 13.5
A45: BALE | B45: 7 | C45: YARMOLENKO | D45: 5 | J45: DE JONG | K45: 11 | L45: GRIEZMANN | M45: 3
A46: VARDY | B46: 6 | C46: MANDZUKIC | D46: 6 | J46: DOUMBIA | K46: 5 | L46: RUIZ | M46: 10
A47: FATTORE CAMPO | B47: 1 | J47: FATTORE CAMPO | K47: 1
B48: =SUM(B36:B47) -> 71.5 | D48: =SUM(D36:D47) -> 77 | K48: =SUM(K36:K47) -> 63 | M48: =SUM(M36:M47) -> 77.5
A49: PANCHINA | C49: PANCHINA | J49: PANCHINA | L49: PANCHINA
A50: ATLETICO MADRID | B50: 6.5 | C50: PORTO | D50: 5 | J50: REAL MADRID | K50: 4 | L50: NAPOLI | M50: 4
A51: HUTH | B51: 5 | C51: LAHM | D51: 5 | J51: SAGNA | K51: sv | L51: SEMEDO | M51: sv
A52: FUCHS | B52: 6 | C52: MORENO | D52: 6 | J52: YANGA MBIWA | K52: 4 | L52: ALBIOL | M52: sv
A53: PAPASTATHOPOULUS | B53: 6.5 | C53: FELIPE | D53: 6 | L53: GIMENEZ | M53: sv
A54: CUADRADO | B54: 6.5 | C54: GAITAN | D54: sv | J54: KALULU | K54: sv | L54: GANSO | M54: sv
A55: RABIOT | B55: sv | C55: GUARDADO | D55: 5.5 | J55: CORREA | K55: sv | L55: KING | M55: sv
A56: DZAGOEV | B56: sv | C56: SALVIO | D56: 9 | J56: KAGAWA | K56: sv | L56: RAMSEY | M56: sv
A57: JESÈ | B57: sv | C57: NARSINGH | D57: 6 | J57: INSIGNE | K57: 6 | L57: CORREA | M57: sv
A58: OKAZAKI | B58: sv | C58: MEHMEDI | D58: 8 | J58: CAFU | K58: 5.5 | L58: BEN ARFA | M58: sv
A59: ULLOA | B59: sv | L59: KANE
A61: GIRONE C
A63: =+TABELLONE!J58 -> FLYBEARD | B63: =IF(B76<66,0,IF(B76<70,1,IF(B76<74,2,IF(B76<78,3,IF(B76<82,4,IF(B76<86,5,IF(B76<90,6,IF(B76<94,7,IF(B76<98,8,IF(B76<101,9,10)))))))))) -> 3 | C63: =+TABELLONE!K58 -> SKIACCIAK MOSCA | D63: =IF(D76<66,0,IF(D76<70,1,IF(D76<74,2,IF(D76<78,3,IF(D76<82,4,IF(D76<86,5,IF(D76<90,6,IF(D76<94,7,IF(D76<98,8,IF(D76<101,9,10)))))))))) -> 1 | J63: =+TABELLONE!J59 -> MC TOWN | K63: =IF(K76<66,0,IF(K76<70,1,IF(K76<74,2,IF(K76<78,3,IF(K76<82,4,IF(K76<86,5,IF(K76<90,6,IF(K76<94,7,IF(K76<98,8,IF(K76<101,9,10)))))))))) -> 4 | L63: =+TABELLONE!K59 -> AC NUMBERS | M63: =IF(M76<66,0,IF(M76<70,1,IF(M76<74,2,IF(M76<78,3,IF(M76<82,4,IF(M76<86,5,IF(M76<90,6,IF(M76<94,7,IF(M76<98,8,IF(M76<101,9,10)))))))))) -> 0
A64: ARSENAL | B64: 6 | C64: LEICESTER | D64: 6.5 | J64: JUVENTUS | K64: 6 | L64: BARCELLONA | M64: 5
A65: BARZAGLI | B65: 6.5 | C65: GUERREIRO | D65: 6.5 | J65: MASCHERANO | K65: 5.5 | L65: ALABA | M65: 6
A66: BELLERIN | B66: 7 | C66: ALEX SANDRO | D66: 6 | J66: JUANFRAN | K66: 6.5 | L66: ZABALETA | M66: 6
A67: GODIN | B67: 6.5 | C67: JORDI ALBA | D67: 5 | J67: TAH | K67: 5.5 | L67: SIDIBE | M67: 5
A68: GUNDOGAN | B68: 7 | C68: RAKITIC | D68: 6.5 | J68: RIBERY | K68: 6 | L68: GOTZE | M68: 6
A69: OZIL | B69: 6 | C69: QUARESMA | D69: 10.5 | J69: ERIKSEN | K69: 6 | L69: DELGADO | M69: 0
A70: ALLI | B70: 6.5 | C70: FABINHO | D70: 5 | J70: MERTENS | K70: 13.5 | L70: BRAHIMI | M70: 0
A71: BRANDT | B71: 6 | C71: RODE | D71: 6 | J71: FERNANDINHO | K71: 10 | L71: ALBRIGHTON | M71: 6.5
A72: DYBALA | B72: 10.5 | C72: LEWANDOWSKY | D72: 5 | J72: AGUERO | K72: 5.5 | L72: DI MARIA | M72: 6.5
A73: BENZEMA | B73: 5.5 | C73: CALLEJON | D73: 6.5 | J73: SANCHEZ | K73: 9.5 | L73: DEMBELE | M73: 13
A74: GAMEIRO | B74: 5.5 | C74: TOSUN | D74: 5 | J74: ROBBEN | K74: 6.5 | L74: HERNANDEZ | M74: 9.5
A75: FATTORE CAMPO | B75: 1 | J75: FATTORE CAMPO | K75: 1
B76: =SUM(B64:B75) -> 74 | D76: =SUM(D64:D75) -> 68.5 | K76: =SUM(K64:K75) -> 81.5 | M76: =SUM(M64:M75) -> 63.5
A77: PANCHINA | C77: PANCHINA | J77: PANCHINA | L77: PANCHINA
A78: ARSENAL | B78: 6 | C78: LEICESTER | D78: 6.5 | J78: JUVENTUS | K78: 6 | L78: BARCELLONA | M78: 5
A79: JEDVAJ | B79: sv | C79: EVRA | D79: 6 | J79: WALKER | K79: sv | L79: KOSCIELNY | M79: 6
A80: BALANTA | B80: 4.5 | C80: RAGGI | D80: 5.5 | J80: BOLINGOLI MBOMBO | K80: sv | L80: FERNANDES | M80: 6
A81: ANTUNES | B81: 5 | C81: LAYUN | D81: 6 | J81: ARIAS | K81: 6 | L81: NKOLOU | M81: 5
A82: ARANGUIZ | B82: 6 | C82: MOTTA | D82: 6 | J82: D. GONZALES | K82: 4 | L82: G. PEREIRO | M82: sv
A83: SANCHES | B83: sv | C83: N'ZONZI | D83: 7 | J83: PIZZI | K83: 5.5 | L83: D. SUAREZ | M83: sv
A84: HAZARD | B84: 10 | C84: ALLAN | D84: 6.5 | J84: STINDL | K84: 6 | L84: A. GOMES | M84: sv
A85: PJACA | B85: 6 | C85: SLIMANI | D85: 10 | J85: REUS | K85: sv | L85: COMAN | M85: sv
A86: TORRES | B86: 5.5 | C86: SCHURRLE | D86: 10 | J86: IHEANACHO | K86: sv | L86: ALCACER | M86: 5
A87: JONAS | B87: sv | J87: RAFFAEL | K87: 6.5 | L87: MESSI | M87: sv

Sheet 3° GIORNATA
A1: 3° GIORNATA
A3: GIRONE A
A5: =+TABELLONE!J10 -> CS RIPOSA | B5: =IF(B18<66,0,IF(B18<70,1,IF(B18<74,2,IF(B18<78,3,IF(B18<82,4,IF(B18<86,5,IF(B18<90,6,IF(B18<94,7,IF(B18<98,8,IF(B18<101,9,10)))))))))) -> 4 | C5: =+TABELLONE!K10 -> BRIGATA GURREN | D5: =IF(D18<66,0,IF(D18<70,1,IF(D18<74,2,IF(D18<78,3,IF(D18<82,4,IF(D18<86,5,IF(D18<90,6,IF(D18<94,7,IF(D18<98,8,IF(D18<101,9,10)))))))))) -> 1 | J5: =+TABELLONE!J11 -> AC DENTI | K5: =IF(K18<66,0,IF(K18<70,1,IF(K18<74,2,IF(K18<78,3,IF(K18<82,4,IF(K18<86,5,IF(K18<90,6,IF(K18<94,7,IF(K18<98,8,IF(K18<101,9,10)))))))))) -> 4 | L5: =+TABELLONE!K11 -> INTERFOGAT | M5: =IF(M18<66,0,IF(M18<70,1,IF(M18<74,2,IF(M18<78,3,IF(M18<82,4,IF(M18<86,5,IF(M18<90,6,IF(M18<94,7,IF(M18<98,8,IF(M18<101,9,10)))))))))) -> 3
A6: TOTTENHAM | B6: 7.5 | C6: BAYER MONACO | D6: 5 | J6: MANCHESTER CITY | K6: 2 | L6: PSG | M6: 6
A7: BARTRA | B7: 5.5 | C7: MORGAN | D7: 6 | J7: PIQUE | K7: 6 | L7: DANI ALVES | M7: 5.5
A8: GHOULAM | B8: 5 | C8: HUMMELS | D8: 6 | F8: Assist | J8: BOATENG | K8: 5.5 | L8: KOULIBALY | M8: 5.5
A9: CARVAJAL | B9: 6 | C9: MARQUINHOS | D9: 6.5 | F9: Ronaldo 2 | J9: VARANE | K9: 6 | L9: TELLES | M9: 5.5
A10: MOUTINHO | B10: 5.5 | C10: STERLING | D10: 5.5 | F10: Morata | J10: MAHREZ | K10: 10 | L10: JAMES RODRIGUEZ | M10: 6
A11: KROOS | B11: 6.5 | C11: PJANIC | D11: 6 | F11: Slimani | J11: KOKE | K11: 6.5 | L11: KOVACIC | M11: 6
A12: NASRI | B12: 10 | C12: VITOLO | D12: 6 | F12: Cazorla | J12: DEMBELE | K12: 6 | L12: DE BRUYNE | M12: 5
A13: D.COSTA | B13: 6 | C13: MARTINS | D13: 6 | F13: Perez 2 | J13: ASENSIO | K13: 10 | L13: INIESTA | M13: 8
A14: MULLER | B14: 10 | C14: AUBAMEYANG | D14: 9.5 | F14: Quaresma 2 | J14: SUAREZ | K14: 8 | L14: RONALDO | M14: 8
A15: SON | B15: 5 | C15: NEYMAR | D15: 6.5 | F15: Callejon | J15: VIETTO | K15: 6 | L15: LUCAS | M15: 9.5
A16: MORATA | B16: 11 | C16: FEKIR | D16: 6.5 | F16: G. Pereiro | J16: ABOUBAKAR | K16: 13 | L16: GABBIADINI | M16: 9
A17: FATTORE CAMPO | B17: 1 | F17: Thiago Alcantara | J17: FATTORE CAMPO | K17: 1
B18: =SUM(B6:B17) -> 79 | D18: =SUM(D6:D17) -> 69.5 | F18: Iniesta | K18: =SUM(K6:K17) -> 80 | M18: =SUM(M6:M17) -> 74
A19: PANCHINA | C19: PANCHINA | F19: Suarez | J19: PANCHINA | L19: PANCHINA
A20: TOTTENHAM | B20: 7.5 | C20: BAYER MONACO | D20: 5 | F20: Cavani | J20: MANCHESTER CITY | K20: 2 | L20: PSG | M20: 6
A21: KURZAWA | B21: 6 | C21: GLIK | D21: 5.5 | J21: PISZCZEK | K21: 5 | L21: MARCANO | M21: 6
A22: SCHENNIKOV | B22: 6 | C22: OTAMENDI | D22: 5 | J22: TOPRAK | K22: 6 | L22: GRIMALDO | M22: 6
A23: DANILO | B23: 5.5 | C23: LISANDRO | D23: sv | J23: VIDA | K23: 5.5 | L23: VERTONGHEN | M23: 6
A24: GABI | B24: 7 | C24: SAUL | D24: sv | J24: CHAMBERLAIN | K24: 9.5 | L24: OTAVIO | M24: 6.5
A25: DRINKWATER | B25: 6.5 | C25: CASTRO | D25: sv | J25: VALBUENA | K25: sv | L25: ANDRE ANDRE | M25: sv
A26: LEMINA | B26: 4.5 | C26: JORGINHO | D26: 4.5 | J26: BUSQUETS | K26: 6.5 | L26: DIER | M26: 5.5
A27: DOST | B27: 5.5 | C27: TRAORE | D27: 9.5 | J27: LOCADIA | K27: sv | L27: A. SILVA | M27: 9
A28: NOLITO | B28: sv | C28: MORALES | D28: 5.5 | J28: FALCAO | K28: sv | L28: DEPOITRE | M28: sv
A29: GERMAIN | B29: 6 | C29: JIMENEZ | D29: 5.5 | J29: MILIK | K29: sv | L29: DIABY | M29: sv
A33: GIRONE B
A35: =+TABELLONE!J36 -> EVRIBADI | B35: =IF(B48<66,0,IF(B48<70,1,IF(B48<74,2,IF(B48<78,3,IF(B48<82,4,IF(B48<86,5,IF(B48<90,6,IF(B48<94,7,IF(B48<98,8,IF(B48<101,9,10)))))))))) -> 3 | C35: =+TABELLONE!K36 -> MARCELLONA | D35: =IF(D48<66,0,IF(D48<70,1,IF(D48<74,2,IF(D48<78,3,IF(D48<82,4,IF(D48<86,5,IF(D48<90,6,IF(D48<94,7,IF(D48<98,8,IF(D48<101,9,10)))))))))) -> 1 | J35: =+TABELLONE!J37 -> AC CONTE | K35: =IF(K48<66,0,IF(K48<70,1,IF(K48<74,2,IF(K48<78,3,IF(K48<82,4,IF(K48<86,5,IF(K48<90,6,IF(K48<94,7,IF(K48<98,8,IF(K48<101,9,10)))))))))) -> 1 | L35: =+TABELLONE!K37 -> SCARSENAL | M35: =IF(M48<66,0,IF(M48<70,1,IF(M48<74,2,IF(M48<78,3,IF(M48<82,4,IF(M48<86,5,IF(M48<90,6,IF(M48<94,7,IF(M48<98,8,IF(M48<101,9,10)))))))))) -> 0
A36: ATLETICO MADRID | B36: 6 | C36: NAPOLI | D36: 2 | J36: PORTO | K36: 5 | L36: REAL MADRID | M36: 5
A37: AURIER | B37: 6 | C37: THIAGO SILVA | D37: 6 | J37: PEPE | K37: 5.5 | L37: BONUCCI | M37: 5
A38: KIMMICH | B38: 9.5 | C38: MUSTAFI | D38: 6 | J38: LAHM | K38: 5.5 | L38: HYSAI | M38: 6
A39: FILIPE LUIS | B39: 6.5 | C39: MONREAL | D39: 6 | J39: SERGI ROBERTO | K39: 6 | L39: BRENET | M39: 5
A40: HUTH | B40: 6 | C40: HAMSIK | D40: 5 | J40: VIDAL | K40: 7 | L40: ALONSO | M40: 6
A41: KHEDIRA | B41: 5 | C41: SILVA D. | D41: 5.5 | J41: CARRASCO | K41: 10 | L41: CALHANOGLU | M41: 4.5
A42: MATUIDI | B42: 6 | C42: SILVA B. | D42: 9.5 | J42: SALVIO | K42: 10 | L42: CAZORLA | M42: 8
A43: LAMELA | B43: 5.5 | C43: VAZQUEZ | D43: 6.5 | J43: GAITAN | K43: 0 | L43: KAGAWA | M43: 5.5
A44: T. ALCANTARA | B44: 7.5 | C44: WALCOTT | D44: 10 | J44: HIGUAIN | K44: 6.5 | L44: CAVANI | M44: 10
A45: VARDY | B45: 6.5 | C45: GRIEZMANN | D45: 6.5 | J45: YARMOLENKO | K45: 5.5 | L45: CAFU | M45: 4
A46: BALE | B46: 9 | C46: CORREA | D46: 5.5 | J46: GIROUD | K46: 6 | L46: INSIGNE | M46: 1.5
A47: FATTORE CAMPO | B47: 1 | K47: 1
B48: =SUM(B36:B47) -> 74.5 | D48: =SUM(D36:D47) -> 68.5 | K48: =SUM(K36:K47) -> 68 | M48: =SUM(M36:M47) -> 60.5
A49: PANCHINA | C49: PANCHINA | L49: PANCHINA
A50: ATLETICO MADRID | B50: 6 | C50: NAPOLI | D50: 2 | J50: PORTO | K50: 5 | L50: REAL MADRID | M50: 5
A51: FUCHS | B51: 5.5 | C51: ROSE | D51: 6 | J51: FELIPE | K51: sv | L51: YANGA MBIWA | M51: 6
A52: KOLAROV | B52: 4 | C52: SEMEDO | D52: 6 | J52: LINDELOF | K52: 6 | L52: CLICHY | M52: 5
A53: SIMPSON | B53: 6.5 | C53: ALBIOL | D53: sv | J53: STONES | K53: 5.5 | L53: SAGNA | M53: sv
A54: RABIOT | B54: 7 | C54: GANSO | D54: sv | J54: G. XHAKA | K54: sv | L54: FERRI | M54: 5
A55: CUADRADO | B55: 10 | C55: KING | D55: 6 | J55: CORONA | K55: 7 | L55: KALULU | M55: sv
A56: DZAGOEV | B56: sv | C56: RAMSEY | D56: sv | J56: ARDA TURAN | K56: sv | L56: CORREA | M56: sv
A57: JESE’ | B57: sv | C57: RUIZ | D57: 5 | J57: MEHMEDI | K57: 6 | L57: DE JONG | M57: 6
A58: OKAZAKI | B58: sv | C58: BEN ARFA | D58: sv | J58: NARSINGH | K58: 9 | L58: DOUMBIA | M58: 6
A59: ULLOA | B59: sv | C59: KANE | D59: sv | J59: MANDZUKIC | K59: sv | L59: PEREZ | M59: 8
A61: GIRONE C
A63: =+TABELLONE!J62 -> FLYBEARD | B63: =IF(B76<66,0,IF(B76<70,1,IF(B76<74,2,IF(B76<78,3,IF(B76<82,4,IF(B76<86,5,IF(B76<90,6,IF(B76<94,7,IF(B76<98,8,IF(B76<101,9,10)))))))))) -> 4 | C63: =+TABELLONE!K62 -> AC NUMBERS | D63: =IF(D76<66,0,IF(D76<70,1,IF(D76<74,2,IF(D76<78,3,IF(D76<82,4,IF(D76<86,5,IF(D76<90,6,IF(D76<94,7,IF(D76<98,8,IF(D76<101,9,10)))))))))) -> 4 | J63: =+TABELLONE!J63 -> SKIACCIAK MOSCA | K63: =IF(K76<66,0,IF(K76<70,1,IF(K76<74,2,IF(K76<78,3,IF(K76<82,4,IF(K76<86,5,IF(K76<90,6,IF(K76<94,7,IF(K76<98,8,IF(K76<101,9,10)))))))))) -> 3 | L63: =+TABELLONE!K63 -> MC TOWN | M63: =IF(M76<66,0,IF(M76<70,1,IF(M76<74,2,IF(M76<78,3,IF(M76<82,4,IF(M76<86,5,IF(M76<90,6,IF(M76<94,7,IF(M76<98,8,IF(M76<101,9,10)))))))))) -> 4
A64: ARSENAL | B64: 7 | C64: BARCELLONA | D64: 7 | J64: LEICESTER | K64: 7 | L64: JUVENTUS | M64: 12
A65: BENATIA | B65: 6 | C65: ALABA | D65: 7 | J65: ALEXSANDRO | K65: 6.5 | L65: MARCELO | M65: 6
A66: GODIN | B66: 7 | C66: KOSCIELNY | D66: 6 | J66: LAYUN | K66: 9.5 | L66: JUANFRAN | M66: 6
A67: BELLERIN | B67: 7 | C67: SIDIBE | D67: 6 | J67: GUERREIRO | K67: 6 | L67: TAH | M67: 5.5
A68: OZIL | B68: 17 | C68: DI MARIA | D68: 9.5 | J68: RAKITIC | K68: 6 | L68: ERIKSEN | M68: 6
A69: BRANDT | B69: 6 | C69: GOTZE | D69: 6 | J69: ALLAN | K69: 6 | L69: MERTENS | M69: 10
A70: ALLI | B70: 6 | C70: ALBRIGHTON | D70: 6 | J70: MOTTA | K70: 4.5 | L70: HERRERA | M70: 5
A71: VERRATTI | B71: 6.5 | C71: DELGADO | D71: 6 | J71: NZONZI | K71: 6.5 | L71: STINDL | M71: 10
A72: DYBALA | B72: 5.5 | C72: MESSI | D72: 17.5 | J72: BEN YEDDER | K72: 6 | L72: AGUERO | M72: 0
A73: BENZEMA | B73: 7 | C73: DEMBELE | D73: 5 | J73: SLIMANI | K73: 7.5 | L73: SANCHEZ | M73: 10
A74: TORRES | B74: 5.5 | C74: HERNANDEZ | D74: 5 | J74: LEWANDOWSKY | K74: 9.5 | L74: ROBBEN | M74: 10.5
A75: FATTORE CAMPO | B75: 1 | J75: FATTORE CAMPO | K75: 1
B76: =SUM(B64:B75) -> 81.5 | D76: =SUM(D64:D75) -> 81 | K76: =SUM(K64:K75) -> 76 | M76: =SUM(M64:M75) -> 81
A77: PANCHINA | C77: PANCHINA | J77: PANCHINA | L77: PANCHINA
A78: ARSENAL | B78: 7 | C78: BARCELLONA | D78: 7 | J78: LEICESTER | K78: 7 | L78: JUVENTUS | M78: 12
A79: BARZAGLI | B79: 6 | C79: ZABALETA | D79: 6 | J79: JORDI ALBA | K79: sv | L79: WALKER | M79: sv
A80: BALANTA | B80: 5 | C80: FERNANDES | D80: 6 | J80: RAGGI | K80: 6 | L80: BOLINGOLI MBOMBO | M80: sv
A81: ANTUNES | B81: 5 | C81: NKOLOU | D81: 6.5 | J81: EVRA | K81: 6 | L81: MASCHERANO | M81: 6.5
A82: GUNDOGAN | B82: 5.5 | C82: BRAHIMI | D82: 7 | J82: FABINHO | K82: 6 | L82: D. GONZALES | M82: 6
A83: HAZARD | B83: sv | C83: SUAREZ D. | D83: sv | J83: RODE | K83: 4.5 | L83: PIZZI | M83: 6.5
A84: ARANGUIZ | B84: 6 | C84: A. GOMES | D84: 6 | J84: QUARESMA | K84: 8.5 | L84: FERNANDINHO | M84: 4
A85: GAMEIRO | B85: 6 | C85: LACAZETTE | D85: 1.5 | J85: CALLEJON | K85: 6.5 | L85: REUS | M85: sv
A86: JONAS | B86: sv | C86: COMAN | D86: sv | J86: SCHURRLE | K86: sv | L86: IHEANACHO | M86: sv
A87: PJACA | B87: sv | C87: ALCACER | D87: sv | J87: TOSUN | K87: 6 | L87: RAFFAEL | M87: sv

Sheet 4° GIORNATA
A1: 4° GIORNATA
A3: GIRONE A
A5: =+[1]TABELLONE!J14 -> INTERFOGAT | B5: =IF(B18<66,0,IF(B18<70,1,IF(B18<74,2,IF(B18<78,3,IF(B18<82,4,IF(B18<86,5,IF(B18<90,6,IF(B18<94,7,IF(B18<98,8,IF(B18<101,9,10)))))))))) -> 2 | C5: =+[1]TABELLONE!K14 -> CS RIPOSA | D5: =IF(D18<66,0,IF(D18<70,1,IF(D18<74,2,IF(D18<78,3,IF(D18<82,4,IF(D18<86,5,IF(D18<90,6,IF(D18<94,7,IF(D18<98,8,IF(D18<101,9,10)))))))))) -> 0 | J5: =+[1]TABELLONE!J15 -> BRIGATA GURREN | K5: =IF(K18<66,0,IF(K18<70,1,IF(K18<74,2,IF(K18<78,3,IF(K18<82,4,IF(K18<86,5,IF(K18<90,6,IF(K18<94,7,IF(K18<98,8,IF(K18<101,9,10)))))))))) -> 1 | L5: =+[1]TABELLONE!K15 -> AC DENTI | M5: =IF(M18<66,0,IF(M18<70,1,IF(M18<74,2,IF(M18<78,3,IF(M18<82,4,IF(M18<86,5,IF(M18<90,6,IF(M18<94,7,IF(M18<98,8,IF(M18<101,9,10)))))))))) -> 1
A6: PSG | B6: 4.5 | C6: TOTTHENAM | D6: 5 | J6: BAYERN MONACO | K6: 5.5 | L6: MANCHESTER CITY | M6: 5.5
A7: DANI ALVES | B7: 5.5 | C7: CARVAJAL | D7: 7.5 | J7: HUMMELS | K7: 7 | L7: BOATENG | M7: 6.5
A8: KOULIBALY | B8: 5.5 | C8: GHOULAM | D8: 6.5 | F8: Assist | J8: GLIK | K8: 6 | L8: VARANE | M8: 5.5
A9: TELLES | B9: 7.5 | C9: SCHENNIKOV | D9: 5 | J9: MORGAN | K9: 5.5 | L9: PISZCZEK | M9: 5.5
A10: JAMES RODRIGUEZ | B10: 6 | C10: GABI | D10: 6.5 | J10: PJANIC | K10: 4.5 | L10: MAHREZ | M10: 6
A11: KOVACIC | B11: 9.5 | C11: MARCHISIO | D11: 5.5 | J11: VITOLO | K11: 7.5 | L11: CHAMBERLAIN | M11: 6
A12: DE BRUYNE | B12: 10 | C12: KROOS | D12: 5.5 | J12: SAUL | K12: 5.5 | L12: DEMBELE | M12: 5
A13: OTAVIO | B13: 5.5 | C13: D.COSTA | D13: 6.5 | J13: MARTINS | K13: 6.5 | L13: ASENSIO | M13: 6
A14: RONALDO | B14: 6 | C14: MULLER | D14: 5.5 | J14: STERLING | K14: 7 | L14: SUAREZ | M14: 5
A15: A. SILVA | B15: 6 | C15: MORATA | D15: 5.5 | J15: AUBAMEYANG | K15: 5 | L15: VIETTO | M15: 10
A16: GABBIADINI | B16: 5.5 | C16: SON | D16: 5 | J16: NEYMAR | K16: 6.5 | L16: ABOUBAKAR | M16: 6.5
A17: FATTORE CAMPO | B17: 1 | J17: FATTORE CAMPO | K17: 1
B18: =SUM(B6:B17) -> 72.5 | D18: =SUM(D6:D17) -> 64 | K18: =SUM(K6:K17) -> 67.5 | M18: =SUM(M6:M17) -> 67.5
A19: PANCHINA | C19: PANCHINA | J19: PANCHINA | L19: PANCHINA
A20: PSG | B20: 4.5 | C20: TOTTHENAM | D20: 5 | J20: BAYERN MONACO | K20: 5.5 | L20: MANCHESTER CITY | M20: 5.5
A21: MARCANO | B21: 6.5 | C21: BARTRA | D21: 6 | J21: MARQUINOS | K21: 7 | L21: TOPRAK | M21: 6
A22: GRIMALDO | B22: 5.5 | C22: KURZAWA | D22: 4.5 | J22: OTAMENDI | K22: 6.5 | L22: VIDA | M22: 4.5
A23: VERTONGHEN | B23: 5 | C23: DANILO | D23: 6 | J23: LISANDRO | K23: sv | L23: MAXI PEREIRA | M23: 5.5
A24: ANDRE ANDRE | B24: sv | C24: MOUTINHO | D24: sv | J24: CASTRO | K24: 5.5 | L24: KOKE | M24: 6
A25: DIER | B25: 6 | C25: LEMINA | D25: sv | J25: JORGINHO | K25: 4.5 | L25: BOUSQUETS | M25: 5.5
A26: INIESTA | B26: sv | J26: EREMENKO | K26: sv | L26: VALBUENA | M26: sv
A27: LUCAS | B27: 5 | C27: NOLITO | D27: sv | J27: TRAORE | K27: 5 | L27: FALCAO | M27: 13
A28: DEPOITRE | B28: sv | C28: DOST | D28: 5 | J28: FEKIR | K28: 5 | L28: LOCADIA | M28: sv
A29: DIABY | B29: 4.5 | C29: GERMAIN | D29: 10 | J29: MORALES | K29: sv | L29: MILIK | M29: sv
A33: GIRONE B
A35: =+[1]TABELLONE!J40 -> SCARSENAL | B35: =IF(B48<66,0,IF(B48<70,1,IF(B48<74,2,IF(B48<78,3,IF(B48<82,4,IF(B48<86,5,IF(B48<90,6,IF(B48<94,7,IF(B48<98,8,IF(B48<101,9,10)))))))))) -> 0 | C35: =+[1]TABELLONE!K40 -> EVRIBADI | D35: =IF(D48<66,0,IF(D48<70,1,IF(D48<74,2,IF(D48<78,3,IF(D48<82,4,IF(D48<86,5,IF(D48<90,6,IF(D48<94,7,IF(D48<98,8,IF(D48<101,9,10)))))))))) -> 1 | J35: =+[1]TABELLONE!J41 -> MARCELLONA | K35: =IF(K48<66,0,IF(K48<70,1,IF(K48<74,2,IF(K48<78,3,IF(K48<82,4,IF(K48<86,5,IF(K48<90,6,IF(K48<94,7,IF(K48<98,8,IF(K48<101,9,10)))))))))) -> 4 | L35: =+[1]TABELLONE!K41 -> AC CONTE | M35: =IF(M48<66,0,IF(M48<70,1,IF(M48<74,2,IF(M48<78,3,IF(M48<82,4,IF(M48<86,5,IF(M48<90,6,IF(M48<94,7,IF(M48<98,8,IF(M48<101,9,10)))))))))) -> 3
A36: REAL MADRID | B36: 2 | C36: ATLETICO MADRID | D36: 5 | J36: NAPOLI | K36: 5 | L36: PORTO | M36: 7
A37: BONUCCI | B37: 6 | C37: FILIPE LUIS | D37: 5.5 | J37: THIAGO SILVA | K37: 7 | L37: SERGI ROBERTO | M37: 4
A38: HYSAI | B38: 6.5 | C38: KIMMICH | D38: 7 | J38: MUSTAFI | K38: 5.5 | L38: LINDELOF | M38: 6
A39: DIGNE | B39: 6 | C39: KOLAROV | D39: 6.5 | J39: ROSE | K39: 6.5 | L39: LAHM | M39: 6
A40: CAZORLA | B40: 6 | C40: HUTH | D40: 5.5 | J40: HAMSIK | K40: 9.5 | L40: CARRASCO | M40: 6
A41: ALONSO | B41: 6 | C41: KHEDIRA | D41: 5.5 | J41: SILVA D. | K41: 6.5 | L41: VIDAL | M41: 6
A42: KAGAWA | B42: sv | C42: CUADRADO | D42: 7 | J42: VAZQUEZ F. | K42: 6.5 | L42: SALVIO | M42: 10
A43: CHALANOGLU | B43: 6 | C43: T. ALCANTARA | D43: sv | J43: RAMSEY | K43: 7.5 | L43: GAITAN | M43: 5.5
A44: INSIGNE | B44: 6 | C44: MATUIDI | D44: 10 | J44: SILVA B. | K44: 6.5 | L44: GIROUD | M44: 9.5
A45: CAVANI | B45: 5 | C45: VARDY | D45: 5.5 | J45: GRIEZMANN | K45: 14 | L45: HIGUAIN | M45: 9
A46: DE JONG | B46: 5 | C46: BALE | D46: 11 | J46: CORREA | K46: 5 | L46: MANDZUKIC | M46: 6
A47: FATTORE CAMPO | B47: 1 | J47: FATTORE CAMPO | K47: 1
B48: =SUM(B36:B47) -> 55.5 | D48: =SUM(D36:D47) -> 68.5 | K48: =SUM(K36:K47) -> 80.5 | M48: =SUM(M36:M47) -> 75
A49: PANCHINA | C49: PANCHINA | J49: PANCHINA | L49: PANCHINA
A50: REAL MADRID | B50: 2 | C50: ATLETICO MADRID | D50: 5 | J50: NAPOLI | K50: 5 | L50: PORTO | M50: 7
A51: SAGNA | B51: sv | C51: PAPASTATHOPOULOS | D51: 6 | J51: GIMENEZ | K51: sv | L51: FELIPE | M51: 5.5
A52: BRENET | B52: 5.5 | C52: SIMPSON | D52: sv | J52: ALDERWEIRLD | K52: sv | L52: PEPE | M52: sv
A53: YANGA MBIWA | B53: sv | C53: FUCHS | D53: 7 | J53: SEMEDO | K53: 6.5 | L53: STONES | M53: 6
A54: VAZQUEZ | B54: 6 | C54: RABIOT | D54: 7 | J54: GANSO | K54: 7.5 | L54: CORONA | M54: 5.5
A55: FERRI | B55: sv | C55: LAMELA | D55: sv | J55: KING | K55: sv | L55: G.XHAKA | M55: 9.5
A56: KALULU | B56: sv | C56: ASAMOAH | D56: sv | L56: GUARDADO | M56: 6
A57: DOUMBIA | B57: 5 | C57: OKAZAKI | D57: 6 | J57: RUIZ | K57: 6 | L57: YARMOLENKO | M57: sv
A58: CAFU | C58: JESE’ | D58: sv | J58: BEN ARFA | K58: sv | L58: MEHMEDI | M58: 6.5
C59: ULLOA | D59: sv | J59: KANE | K59: sv | L59: NARSING | M59: sv
A63: GIRONE C
A65: =+[1]TABELLONE!J66 -> MC TOWN | B65: =IF(B78<66,0,IF(B78<70,1,IF(B78<74,2,IF(B78<78,3,IF(B78<82,4,IF(B78<86,5,IF(B78<90,6,IF(B78<94,7,IF(B78<98,8,IF(B78<101,9,10)))))))))) -> 1 | C65: =+[1]TABELLONE!K66 -> FLYBEARD | D65: =IF(D78<66,0,IF(D78<70,1,IF(D78<74,2,IF(D78<78,3,IF(D78<82,4,IF(D78<86,5,IF(D78<90,6,IF(D78<94,7,IF(D78<98,8,IF(D78<101,9,10)))))))))) -> 4 | J65: =+[1]TABELLONE!J67 -> AC NUMBERS | K65: =IF(K78<66,0,IF(K78<70,1,IF(K78<74,2,IF(K78<78,3,IF(K78<82,4,IF(K78<86,5,IF(K78<90,6,IF(K78<94,7,IF(K78<98,8,IF(K78<101,9,10)))))))))) -> 2 | L65: =+[1]TABELLONE!K67 -> SKIACCIAK MOSCA | M65: =IF(M78<66,0,IF(M78<70,1,IF(M78<74,2,IF(M78<78,3,IF(M78<82,4,IF(M78<86,5,IF(M78<90,6,IF(M78<94,7,IF(M78<98,8,IF(M78<101,9,10)))))))))) -> 4
A66: JUVENTUS | B66: 5 | C66: ARSENAL | D66: 4.5 | J66: BARCA | K66: 2.5 | L66: LEICESTER | M66: 6.5
A67: MARCELO | B67: 5 | C67: GODIN | D67: 5 | J67: KOSCIELNY | K67: 6 | L67: ALEX SANDRO | M67: 5
A68: JUANFRAN | B68: 6 | C68: BENATIA | D68: 5 | J68: ALABA | K68: 8 | L68: LAYUN | M68: 5.5
A69: WALKER | B69: 6 | C69: BARZAGLI | D69: 5.5 | J69: SIDIBE | K69: 7 | L69: RAGGI | M69: 5
A70: ERIKSEN | B70: 6.5 | C70: OZIL | D70: 12 | J70: GOTZE | K70: 6.5 | L70: RAKITIC | M70: 4.5
A71: MERTENS | B71: 6 | C71: VERRATTI | D71: 7 | J71: DI MARIA | K71: 7 | L71: FABINHO | M71: 6
A72: HERRERA | B72: 4.5 | C72: ALLI | D72: 6 | J72: DELGADO | K72: 5.5 | L72: NZONZI | M72: 10.5
A73: STINDL | B73: 10 | C73: GUNDOGAN | D73: 13.5 | J73: ALBRIGHTON | K73: 5 | L73: QUARESMA | M73: 9
A74: AGUERO | B74: 6.5 | C74: BRANDT | D74: 5.5 | J74: MESSI | K74: 9.5 | L74: LEWANDOWSKY | M74: 14
A75: SANCHEZ | B75: 6 | C75: TORRES | D75: 6 | J75: DEMBELE | K75: 9 | L75: CALLEJON | M75: 5.5
A76: ROBBEN | B76: 6 | C76: BENZEMA | D76: 9.5 | J76: HERNANDEZ. | K76: 6.5 | L76: BEN YEDDER | M76: 9.5
A77: FATTORE CAMPO | B77: 1 | J77: FATTORE CAMPO | K77: 1
B78: =SUM(B66:B77) -> 68.5 | D78: =SUM(D66:D77) -> 79.5 | K78: =SUM(K66:K77) -> 73.5 | M78: =SUM(M66:M77) -> 81
A79: PANCHINA | C79: PANCHINA | J79: PANCHINA | L79: PANCHINA
A80: JUVENTUS | B80: 5 | C80: ARSENAL | D80: 4.5 | J80: BARCA | K80: 2.5 | L80: LEICESTER | M80: 2
A81: BOLINGOLI MBOMBO | B81: 5 | C81: BELLERIN | D81: sv | J81: FERNANDES | K81: 5.5 | L81: JORDI ALBA | M81: sv
A82: MASCHERANO | B82: 6 | C82: JEDVAJ | D82: sv | J82: NKOLOU | K82: sv | L82: GUERREIRO | M82: 5.5
A83: KOMPANY | B83: sv | C83: BALANTA | D83: 6 | J83: ZABALETA | K83: 6 | L83: EVRA | M83: 5
A84: PIZZI | B84: 6 | C84: HAZARD | D84: 8 | J84: PEREIRO | K84: 5 | L84: MOTTA | M84: 7
A85: DERLIS GONZALES | B85: 5.5 | C85: SANCHES | D85: sv | J85: BRAHIMI | K85: sv | L85: ALLAN | M85: 6.5
A86: FERNANDINHO | B86: 7 | C86: ARANGUIZ | D86: 7 | J86: ANDRES GOMES | K86: 5 | L86: RODE | M86: 6
A87: RAFFAEL | B87: 6 | C87: GAMEIRO | D87: 6 | G87: =UPPER(F87) | J87: LACAZETTE | K87: 6 | L87: SCHURRLE | M87: 6.5
A88: REUS | B88: sv | C88: JONAS | D88: sv | J88: ALCACER | K88: sv | L88: SLIMANI | M88: sv
A89: IHEANACHO | B89: sv | C89: PJACA | D89: sv | J89: COMAN | K89: 5.5 | L89: TOSUN | M89: 5.5

Sheet 5° GIORNATA
A1: 5° GIORNATA | B1: http://www.gazzetta.it/calcio/fantanews/assist/champions-league-2016-17/giornata-5
A3: GIRONE A
A5: =+TABELLONE!J18 -> AC DENTI | B5: =IF(B18<66,0,IF(B18<70,1,IF(B18<74,2,IF(B18<78,3,IF(B18<82,4,IF(B18<86,5,IF(B18<90,6,IF(B18<94,7,IF(B18<98,8,IF(B18<101,9,10)))))))))) -> 2 | C5: =+TABELLONE!K18 -> CS RIPOSA | D5: =IF(D18<66,0,IF(D18<70,1,IF(D18<74,2,IF(D18<78,3,IF(D18<82,4,IF(D18<86,5,IF(D18<90,6,IF(D18<94,7,IF(D18<98,8,IF(D18<101,9,10)))))))))) -> 2 | J5: =+TABELLONE!J19 -> BRIGATA GURREN | K5: =IF(K18<66,0,IF(K18<70,1,IF(K18<74,2,IF(K18<78,3,IF(K18<82,4,IF(K18<86,5,IF(K18<90,6,IF(K18<94,7,IF(K18<98,8,IF(K18<101,9,10)))))))))) -> 1 | L5: =+TABELLONE!K19 -> INTERFOGAT | M5: =IF(M18<66,0,IF(M18<70,1,IF(M18<74,2,IF(M18<78,3,IF(M18<82,4,IF(M18<86,5,IF(M18<90,6,IF(M18<94,7,IF(M18<98,8,IF(M18<101,9,10)))))))))) -> 0
A6: MANCHESTER CITY | B6: 5.5 | C6: TOTTHENAM | D6: 8 | J6: BAYERN MONACO | K6: 2.5 | L6: PSG | M6: 4
A7: PIQUE | B7: 6.5 | C7: BARTRA | D7: 5 | J7: OTAMENDI | K7: 6 | L7: DANI ALVES | M7: 6
A8: BOATENG | B8: 4 | C8: CARVAJAL | D8: 6 | J8: GLIK | K8: 6 | L8: KOULIBALY | M8: 6
A9: SERGIO RAMOS | B9: 7.5 | C9: GHOULAM | D9: 6 | F9: Assist | J9: MORGAN | K9: 6 | L9: MARCANO | M9: 6.5
A10: MAHREZ | B10: 10 | C10: MARCHISIO | D10: 9.5 | F10: Sidibe | J10: STERLING | K10: 6.5 | L10: TELLES | M10: 5.5
A11: KOKE | B11: 6.5 | C11: GABI | D11: 6 | F11: Dembele (BOR) x2 | J11: SAUL NIGUEZ | K11: 6 | L11: DE BRUYNE | M11: 7.5
A12: ASENSIO | B12: 5.5 | C12: D.COSTA | D12: 9.5 | F12: Kagawa | J12: MARTINS | K12: 6.5 | L12: MODRIC | M12: 6
A13: DEMBELE | B13: 13 | C13: NASRI | D13: 6.5 | F13: Sergio Ramos | J13: PJANIC | K13: 6 | L13: KOVACIC | M13: 6.5
A14: SUAREZ | B14: 6 | C14: MULLER | D14: 6 | F14: Ribery | J14: NEYMAR | K14: 8 | L14: OTAVIO | M14: 5.5
A15: VIETTO | B15: 5 | C15: MORATA | D15: 6 | F15: Salvio | J15: AUBAMEYANG | K15: 6.5 | L15: RONALDO | M15: 6
A16: FALCAO | B16: 1.5 | C16: SON | D16: 4.5 | F16: Matuidi | J16: FEKIR | K16: 6 | L16: A. SILVA | M16: 4.5
A17: FATTORE CAMPO | B17: 1 | F17: Griezmann | J17: FATTORE CAMPO | K17: 1
B18: =SUM(B6:B17) -> 72 | D18: =SUM(D6:D17) -> 73 | F18: Tiago | K18: =SUM(K6:K17) -> 67 | M18: =SUM(M6:M17) -> 64
A19: PANCHINA | C19: PANCHINA | F19: De Bruyne | J19: PANCHINA | L19: PANCHINA
A20: MANCHESTER CITY | B20: 5.5 | C20: TOTTHENAM | D20: 6 | F20: Neymar | J20: BAYERN MONACO | K20: 2.5 | L20: PSG | M20: 4
A21: VARANE | B21: 10 | C21: WENDELL | D21: sv | J21: HUMMELS | K21: 5.5 | L21: JAVI MARTINEZ | M21: sv
A22: PISZCZEK | B22: sv | C22: KURZAWA | D22: sv | J22: LISANDRO | K22: sv | L22: MAKSIMOVIC | M22: sv
A23: TOPRAK | B23: 6 | C23: SCHENNIKOV | D23: 6 | J23: IGNASEVICH | K23: sv | L23: VERTONGHEN | M23: sv
A24: CHAMBERLAIN | B24: sv | C24: DRINKWATER | D24: 6.5 | J24: VITOLO | K24: 5 | L24: JAMES RODRIGUEZ | M24: sv
A25: BUSQUETS | B25: 6.5 | C25: MOUTINHO | D25: sv | J25: CASTRO | K25: 5.5 | L25: ANDRE ANDRE | M25: sv
A26: VALBUENA | B26: 6.5 | C26: LEMINA | D26: sv | J26: EREMENKO | K26: sv | L26: DIER | M26: 4.5
A27: ABOUBAKAR | B27: 9.5 | C27: GERMAIN | D27: 6 | J27: TRAORE | K27: sv | L27: GABBIADINI | M27: 6.5
A28: MILIK | B28: sv | C28: NOLITO | D28: sv | J28: MORAES | K28: sv | L28: LUCAS | M28: 10
A29: LOCADIA | B29: sv | C29: DOST | D29: 5.5 | J29: JIMENEZ | K29: sv | L29: DEPOITRE | M29: sv
A33: GIRONE B
A35: =+TABELLONE!J44 -> AC CONTE | B35: =IF(B48<66,0,IF(B48<70,1,IF(B48<74,2,IF(B48<78,3,IF(B48<82,4,IF(B48<86,5,IF(B48<90,6,IF(B48<94,7,IF(B48<98,8,IF(B48<101,9,10)))))))))) -> 1 | C35: =+TABELLONE!K44 -> EVRIBADI | D35: =IF(D48<66,0,IF(D48<70,1,IF(D48<74,2,IF(D48<78,3,IF(D48<82,4,IF(D48<86,5,IF(D48<90,6,IF(D48<94,7,IF(D48<98,8,IF(D48<101,9,10)))))))))) -> 1 | J35: =+TABELLONE!J45 -> MARCELLONA | K35: =IF(K48<66,0,IF(K48<70,1,IF(K48<74,2,IF(K48<78,3,IF(K48<82,4,IF(K48<86,5,IF(K48<90,6,IF(K48<94,7,IF(K48<98,8,IF(K48<101,9,10)))))))))) -> 3 | L35: =+TABELLONE!K45 -> SCARSENAL | M35: =IF(M48<66,0,IF(M48<70,1,IF(M48<74,2,IF(M48<78,3,IF(M48<82,4,IF(M48<86,5,IF(M48<90,6,IF(M48<94,7,IF(M48<98,8,IF(M48<101,9,10)))))))))) -> 4
A36: PORTO | B36: 6 | C36: ATLETICO MADRID | D36: 6 | J36: NAPOLI | K36: 6 | L36: REAL MADRID | M36: 5
A37: LAHM | B37: 5.5 | C37: FILIPE LUIS | D37: 6.5 | J37: THIAGO SILVA | K37: 6.5 | L37: BONUCCI | M37: 10
A38: SERGI ROBERTO | B38: 5.5 | C38: KOLAROV | D38: 6 | J38: GIMENEZ | K38: 6.5 | L38: HYSAI | M38: 6
A39: STONES | B39: 5.5 | C39: KIMMICH | D39: 6.5 | J39: ROSE | K39: 5 | L39: SAGNA | M39: 6
A40: CARRASCO | B40: 7 | C40: HUTH | D40: 6 | J40: HAMSIK | K40: 5.5 | L40: VAZQUEZ L. | M40: 6
A41: SALVIO | B41: 7 | C41: DZAGOEV | D41: 6.5 | J41: SILVA D. | K41: 9.5 | L41: ALONSO | M41: 15
A42: VIDAL | B42: 0 | C42: CUADRADO | D42: 6 | J42: SILVA B. | K42: 6.5 | L42: FERRI | M42: 5
A43: CORONA | B43: 5.5 | C43: MATUIDI | D43: 7 | J43: RAMSEY | K43: 5 | L43: CALHANOGLU | M43: 6
A44: GIROUD | B44: 8.5 | C44: T. ALCANTARA | D44: 6 | J44: GRIEZMANN | K44: 11 | L44: INSIGNE | M44: 5.5
A45: MANDZUKIC | B45: 9 | C45: BALE | D45: 5.5 | J45: KANE | K45: 8 | L45: CAVANI | M45: 9
A46: MEHMEDI | B46: 6 | C46: VARDY | D46: 5.5 | J46: WALCOTT | K46: 5 | L46: CAFU | M46: 6
A47: FATTORE CAMPO | B47: 1 | J47: FATTORE CAMPO | K47: 1
B48: =SUM(B36:B47) -> 66.5 | D48: =SUM(D36:D47) -> 67.5 | K48: =SUM(K36:K47) -> 75.5 | M48: =SUM(M36:M47) -> 79.5
A49: PANCHINA | C49: PANCHINA | J49: PANCHINA | L49: PANCHINA
A50: PORTO | B50: 6 | C50: ATLETICO MADRID | D50: 6 | J50: NAPOLI | K50: 6 | L50: REAL MADRID | M50: 5
A51: FELIPE | B51: 6 | C51: PAPASTATHOPOLUS | D51: sv | J51: MONREAL | K51: sv | L51: YANGA MBIWA | M51: 6
A52: LINDELOF | B52: 5 | C52: SIMPSON | D52: 6.5 | J52: MUSTAFI | K52: 5.5 | L52: BRENET | M52: sv
A53: MORENO | B53: 6 | C53: AURIER | D53: sv | J53: SEMEDO | K53: 6 | L53: KALULU | M53: sv
A54: ARDA TURAN | B54: sv | C54: KHEDIRA | D54: 6 | J54: VAZQUEZ F. | K54: 3 | L54: CAZORLA | M54: sv
A55: XHAKA | B55: sv | C55: RABIOT | D55: sv | J55: GANSO | K55: sv | L55: KAGAWA | M55: 15
A56: GUARDADO | B56: sv | C56: ASAMOAH | D56: sv | J56: KING | K56: 6 | L56: DE JONG | M56: sv
A57: YARMOLENKO | B57: 6 | C57: OKAZAKI | D57: 6.5 | J57: CORREA | K57: sv | L57: DOUMBIA | M57: 6
A58: NARSINGH | B58: 6 | C58: ULLOA | D58: sv | J58: RUIZ | K58: 5 | L58: PEREZ | M58: sv
A59: HIGUAIN | B59: sv | C59: JESE | D59: sv | J59: BEN ARFA | K59: 5.5
A61: GIRONE C
A63: =+TABELLONE!J70 -> SKIACCIAK MOSCA | B63: =IF(B76<66,0,IF(B76<70,1,IF(B76<74,2,IF(B76<78,3,IF(B76<82,4,IF(B76<86,5,IF(B76<90,6,IF(B76<94,7,IF(B76<98,8,IF(B76<101,9,10)))))))))) -> 1 | C63: =+TABELLONE!K70 -> FLYBEARD | D63: =IF(D76<66,0,IF(D76<70,1,IF(D76<74,2,IF(D76<78,3,IF(D76<82,4,IF(D76<86,5,IF(D76<90,6,IF(D76<94,7,IF(D76<98,8,IF(D76<101,9,10)))))))))) -> 0 | J63: =+TABELLONE!J71 -> AC NUMBERS | K63: =IF(K76<66,0,IF(K76<70,1,IF(K76<74,2,IF(K76<78,3,IF(K76<82,4,IF(K76<86,5,IF(K76<90,6,IF(K76<94,7,IF(K76<98,8,IF(K76<101,9,10)))))))))) -> 3 | L63: =+TABELLONE!K71 -> MC TOWN | M63: =IF(M76<66,0,IF(M76<70,1,IF(M76<74,2,IF(M76<78,3,IF(M76<82,4,IF(M76<86,5,IF(M76<90,6,IF(M76<94,7,IF(M76<98,8,IF(M76<101,9,10)))))))))) -> 2
A64: LEICESTER | B64: 5 | C64: ARSENAL | D64: 4.5 | J64: BARCELLONA | K64: 6 | L64: JUVENTUS | M64: 5
A65: GUERREIRO | B65: 5 | C65: GODIN | D65: 6 | J65: ALABA | K65: 6 | L65: MARCELO | M65: 5.5
A66: JORDI ALBA | B66: 5 | C66: BALANTA | D66: 5 | J66: ZABALETA | K66: 11 | L66: JUANFRAN | M66: 6
A67: ALEX SANDRO | B67: 6 | C67: ANTUNES | D67: 6 | J67: KOSCIELNY | K67: 5.5 | L67: WALKER | M67: 6
A68: RAKITIC | B68: 6 | C68: OZIL | D68: 6 | J68: GOTZE | K68: 5.5 | L68: ERIKSEN | M68: 5.5
A69: QUARESMA | B69: 10.5 | C69: VERRATTI | D69: 3.5 | J69: ALBRIGHTON | K69: 7 | L69: MERTENS | M69: 5.5
A70: BJARNASON | B70: 6 | C70: GUNDOGAN | D70: 6 | J70: DI MARIA | K70: 0 | L70: HERRERA | M70: 5
A71: ALLAN | B71: 7 | C71: ALLI | D71: 5 | J71: DELGADO | K71: 6.5 | L71: RIBERY | M71: 7
A72: LEWANDOWSKY | B72: 5.5 | C72: BRANDT | D72: 5.5 | J72: MESSI | K72: 13 | L72: AGUERO | M72: 5.5
A73: CALLEJON | B73: 5 | C73: HAZARD | D73: 6 | J73: LACAZETTE | K73: 9.5 | L73: REUS | M73: 14
A74: SCHURRLE | B74: 6 | C74: GAMEIRO | D74: 10 | J74: HERNANDEZ | K74: 5.5 | L74: SANCHEZ | M74: 6
A75: FATTORE CAMPO | B75: 1 | J75: FATTORE CAMPO | K75: 1
B76: =SUM(B64:B75) -> 68 | D76: =SUM(D64:D75) -> 63.5 | K76: =SUM(K64:K75) -> 76.5 | M76: =SUM(M64:M75) -> 71
A77: PANCHINA | C77: PANCHINA | J77: PANCHINA | L77: PANCHINA
A78: LEICESTER | B78: 5 | C78: ARSENAL | D78: 4.5 | J78: BARCELLONA | K78: 6 | L78: JUVENTUS | M78: 5
A79: LAYUN | B79: sv | C79: JEDVAJ | D79: 6 | J79: FERNANDES | K79: 6 | L79: BOLINGOLI MBOMBO | M79: sv
A80: EVRA | B80: 5 | C80: HOLDING | D80: sv | J80: SIDIBE | K80: 11 | L80: TAH | M80: 6
A81: RAGGI | B81: sv | C81: BELLERIN | D81: sv | J81: UMTITI | K81: sv | L81: ARIAS | M81: 5.5
A82: FABINHO | B82: 7 | C82: SANCHES | D82: 6 | J82: BRAHIMI | K82: sv | L82: PIZZI | M82: 5
A83: RODE | B83: 5.5 | C83: ARANGUIZ | D83: 5.5 | J83: SUAREZ D. | K83: sv | L83: FERNANDINHO | M83: 4
A84: NZONZI | B84: 6.5 | J84: PEREIRO | K84: 5.5 | L84: STINDL | M84: 4.5
A85: SLIMANI | B85: sv | C85: BENZEMA | D85: 9.5 | J85: DEMBELE MOUSSA | K85: 5.5 | L85: ROBBEN | M85: sv
A86: BEN YEDDER | B86: sv | C86: TORRES | D86: sv | J86: COMAN | K86: sv | L86: IHEANACHO | M86: sv
A87: TOSUN | B87: 10 | C87: JONAS | D87: sv | J87: ALCACER | K87: sv | L87: RAFFAEL | M87: 9.5

Sheet 6° GIORNATA
A1: 6° GIORNATA
A3: GIRONE A
A5: =+TABELLONE!J22 -> BRIGATA GURREN | B5: =IF(B18<66,0,IF(B18<70,1,IF(B18<74,2,IF(B18<78,3,IF(B18<82,4,IF(B18<86,5,IF(B18<90,6,IF(B18<94,7,IF(B18<98,8,IF(B18<101,9,10)))))))))) -> 0 | C5: =+TABELLONE!K22 -> CS RIPOSA | D5: =IF(D18<66,0,IF(D18<70,1,IF(D18<74,2,IF(D18<78,3,IF(D18<82,4,IF(D18<86,5,IF(D18<90,6,IF(D18<94,7,IF(D18<98,8,IF(D18<101,9,10)))))))))) -> 1 | J5: =+TABELLONE!J23 -> INTERFOGAT | K5: =IF(K18<66,0,IF(K18<70,1,IF(K18<74,2,IF(K18<78,3,IF(K18<82,4,IF(K18<86,5,IF(K18<90,6,IF(K18<94,7,IF(K18<98,8,IF(K18<101,9,10)))))))))) -> 4 | L5: =+TABELLONE!K23 -> AC DENTI | M5: =IF(M18<66,0,IF(M18<70,1,IF(M18<74,2,IF(M18<78,3,IF(M18<82,4,IF(M18<86,5,IF(M18<90,6,IF(M18<94,7,IF(M18<98,8,IF(M18<101,9,10)))))))))) -> 0
A6: BAYERN MONACO | B6: 6.5 | C6: TOTTENHAM | D6: 7 | J6: PSG | K6: 4 | L6: MANCHESTER CITY | M6: 6
A7: MORGAN | B7: 4.5 | C7: GHOULAM | D7: 6 | J7: VERTONGHEN | K7: 5.5 | L7: SERGIO RAMOS | M7: 6
A8: GLIK | B8: 6 | C8: RAMI | D8: 6 | J8: TELLES | K8: 8 | L8: MAXI PEREIRA | M8: 8
A9: OTAMENDI | B9: 0 | C9: CARVAJAL | D9: 7 | F9: Assist | J9: KOULIBALY | K9: 6 | L9: VARANE | M9: 6.5
A10: MARQUINOS | B10: 4.5 | C10: D. COSTA | D10: 7 | F10: Arda Turan | J10: DIER | K10: 6 | L10: PISZCZEK | M10: 5.5
A11: PJANIC | B11: 7 | C11: MARCHISIO | D11: 7 | F11: Alcacer | J11: MODRIC | K11: 5.5 | L11: MAHREZ | M11: 7
A12: SAUL | B12: 6 | C12: MOUTINHO | D12: 5 | F12: Mertens | J12: INIESTA | K12: 7 | L12: KOKE | M12: 6
A13: VITOLO | B13: 6 | C13: NASRI | D13: 5.5 | F13: Cafu | J13: KOVACIC | K13: 8 | L13: DEMBELE | M13: 5
A14: MARTINS | B14: 6 | C14: MULLER | D14: 6 | F14: Nolito | J14: RONALDO | K14: 7 | L14: SUAREZ | M14: 0
A15: CASTRO | B15: 5 | C15: DOST | D15: 5 | F15: Ozil | J15: A. SILVA | K15: 15 | L15: VIETTO | M15: 0
A16: AUBAMEYANG | B16: 11 | C16: NOLITO | D16: 7 | F16: Yarmolenko | J16: LUCAS | K16: 5 | L16: ABOUBAKAR | M16: 3.5
A17: FATTORE CAMPO | B17: 1 | F17: Calhanoglu | J17: FATTORE CAMPO | K17: 1
B18: =SUM(B6:B17) -> 63.5 | D18: =SUM(D6:D17) -> 68.5 | F18: Carvajal | K18: =SUM(K6:K17) -> 78 | M18: =SUM(M6:M17) -> 53.5
A19: PANCHINA | C19: PANCHINA | F19: James Rodriguez | J19: PANCHINA | L19: PANCHINA
A20: BAYERN MONACO | B20: 6.5 | C20: TOTTENHAM | D20: 6 | F20: Aubameyang | J20: PSG | K20: 4 | L20: MANCHESTER CITY | M20: 6
A21: HUMMELS | B21: 6 | C21: BARTRA | D21: 5.5 | F21: Pjanic | J21: MARCANO | K21: 6 | L21: TOPRAK | M21: sv
A22: LISANDRO | B22: sv | C22: SCHENNIKOV | D22: 4.5 | F22: Corona | J22: JAVI MARTINEZ | K22: sv | L22: VIDA | M22: 6.5
A23: IGNASHEVICH | B23: sv | C23: WENDELL | D23: 3 | F23: Telles | J23: MAKSIMOVIC | K23: sv | L23: PIQUE | M23: sv
A24: STERLING | B24: sv | C24: LEMINA | D24: 7 | F24: Maxi Pereira | J24: OTAVIO | K24: sv | L24: CHAMBERLAIN | M24: sv
A25: JORGINHO | B25: sv | C25: GABI | D25: 5.5 | F25: Adrien Silva | J25: JAMES RODRIGUEZ | K25: 8 | L25: ASENSIO | M25: sv
A26: EREMENKO | B26: sv | C26: DRINKWATER | D26: 5 | F26: Eriksen | J26: ANDRE ANDRE | K26: sv | L26: VALBUENA | M26: 7
A27: MORAES | B27: 6.5 | C27: MORATA | D27: sv | F27: Rose | J27: DEPOITRE | K27: sv | L27: FALCAO | M27: sv
A28: TRAORE | B28: 5 | C28: SON | D28: 6 | J28: DIABY | K28: sv | L28: MILIK | M28: sv
A29: JIMENEZ | B29: 9.5 | C29: GERMAIN | D29: 5.5 | J29: GABBIADINI | K29: 5.5 | L29: LOCADIA | M29: sv
A33: GIRONE B
A35: =+TABELLONE!J48 -> MARCELLONA | B35: =IF(B48<66,0,IF(B48<70,1,IF(B48<74,2,IF(B48<78,3,IF(B48<82,4,IF(B48<86,5,IF(B48<90,6,IF(B48<94,7,IF(B48<98,8,IF(B48<101,9,10)))))))))) -> 0 | C35: =+TABELLONE!K48 -> EVRIBADI | D35: =IF(D48<66,0,IF(D48<70,1,IF(D48<74,2,IF(D48<78,3,IF(D48<82,4,IF(D48<86,5,IF(D48<90,6,IF(D48<94,7,IF(D48<98,8,IF(D48<101,9,10)))))))))) -> 0 | J35: =+TABELLONE!J49 -> SCARSENAL | K35: =IF(K48<66,0,IF(K48<70,1,IF(K48<74,2,IF(K48<78,3,IF(K48<82,4,IF(K48<86,5,IF(K48<90,6,IF(K48<94,7,IF(K48<98,8,IF(K48<101,9,10)))))))))) -> 0 | L35: =+TABELLONE!K49 -> AC CONTE | M35: =IF(M48<66,0,IF(M48<70,1,IF(M48<74,2,IF(M48<78,3,IF(M48<82,4,IF(M48<86,5,IF(M48<90,6,IF(M48<94,7,IF(M48<98,8,IF(M48<101,9,10)))))))))) -> 3
A36: NAPOLI | B36: 5 | C36: ATLETICO MADRID | D36: 5.5 | J36: REAL MADRID | K36: 4.5 | L36: PORTO | M36: 6
A37: THIAGO SILVA | B37: 5.5 | C37: PAPASTATHOPULOS | D37: 5.5 | J37: BONUCCI | K37: 5.5 | L37: SERGI ROBERTO | M37: 6
A38: ALBIOL | B38: 5.5 | C38: HUTH | D38: 0 | J38: HYSAI | K38: 6.5 | L38: STONES | M38: 5
A39: ROSE | B39: 7.5 | C39: FUCHS | D39: 0 | J39: SAGNA | K39: 6 | L39: CHIELLINI | M39: 0
A40: MONREAL | B40: 5 | C40: KIMMICH | D40: 0 | J40: VAZQUEZ | K40: 5.5 | L40: VIDAL | M40: 6.5
A41: SILVA B. | B41: 0 | C41: T. ALCANTARA | D41: 6 | J41: ALONSO | K41: 0 | L41: SALVIO | M41: 6.5
A42: HAMSIK | B42: 6 | C42: CUADRADO | D42: 6.5 | J42: FERRI | K42: 0 | L42: CARRASCO | M42: 5
A43: RAMSEY | B43: 6.5 | C43: DZAGOEV | D43: 9 | J43: CALHANOGLU | K43: 8 | L43: ARDA TURAN | M43: 18
A44: BEN ARFA | B44: 5 | C44: MATUIDI | D44: 6 | J44: INSIGNE | K44: 7 | L44: HIGUAIN | M44: 9.5
A45: KANE | B45: 10 | C45: JESÈ | D45: 5.5 | J45: CAVANI | K45: 8.5 | L45: MANDZUKIC | M45: 6.5
A46: GRIEZMANN | B46: 5.5 | C46: ULLOA | D46: 5 | J46: DE JONG | K46: 5 | L46: GIROUD | M46: 5.5
A47: FATTORE CAMPO | B47: 1 | J47: FATTORE CAMPO | K47: 1
B48: =SUM(B36:B47) -> 62.5 | D48: =SUM(D36:D47) -> 49 | K48: =SUM(K36:K47) -> 57.5 | M48: =SUM(M36:M47) -> 74.5
A49: PANCHINA | C49: PANCHINA | J49: PANCHINA | L49: PANCHINA
A50: NAPOLI | B50: 5 | C50: ATLETICO MADRID | D50: 5.5 | J50: REAL MADRID | K50: 4.5 | L50: PORTO | M50: 6
A51: MUSTAFI | B51: sv | C51: AURIER | D51: sv | J51: YANGA MBIWA | K51: 5.5 | L51: LAHM | M51: sv
A52: SEMEDO | B52: 5 | C52: KOLAROV | D52: sv | J52: BRENET | K52: 4.5 | L52: FELIPE | M52: 6
A53: ALDERWEIRLD | B53: 6 | C53: SIMPSONS | D53: sv | L53: MORENO | M53: 5
C54: KHEDIRA | D54: sv | J54: KALULU | K54: sv | L54: CORONA | M54: 11.5
A55: GANSO | B55: sv | C55: ASAMOAH | D55: 5.5 | J55: CAZORLA | K55: sv | L55: XHAKA | M55: 6
A56: KING | B56: sv | C56: RABIOT | D56: sv | J56: KAGAWA | K56: sv | L56: GAITAN | M56: 5.5
A57: WALCOTT | B57: 6 | C57: BALE | D57: sv | J57: CAFU | K57: 8 | L57: NARSINGH | M57: sv
A58: RUIZ | B58: 5 | C58: VARDY | D58: sv | J58: DOUMBIA | K58: 10 | L58: YARMOLENKO | M58: 11.5
A59: CORREA | B59: 5.5 | C59: OKAZAKI | D59: 5.5 | J59: PEREZ | K59: 17 | L59: MEHMEDI | M59: sv
A61: GIRONE C
A63: =+TABELLONE!J74 -> AC NUMBERS | B63: =IF(B76<66,0,IF(B76<70,1,IF(B76<74,2,IF(B76<78,3,IF(B76<82,4,IF(B76<86,5,IF(B76<90,6,IF(B76<94,7,IF(B76<98,8,IF(B76<101,9,10)))))))))) -> 3 | C63: =+TABELLONE!K74 -> FLYBEARD | D63: =IF(D76<66,0,IF(D76<70,1,IF(D76<74,2,IF(D76<78,3,IF(D76<82,4,IF(D76<86,5,IF(D76<90,6,IF(D76<94,7,IF(D76<98,8,IF(D76<101,9,10)))))))))) -> 5 | J63: =+TABELLONE!J75 -> MC TOWN | K63: =IF(K76<66,0,IF(K76<70,1,IF(K76<74,2,IF(K76<78,3,IF(K76<82,4,IF(K76<86,5,IF(K76<90,6,IF(K76<94,7,IF(K76<98,8,IF(K76<101,9,10)))))))))) -> 4 | L63: =+TABELLONE!K75 -> SKIACCIAK MOSCA | M63: =IF(M76<66,0,IF(M76<70,1,IF(M76<74,2,IF(M76<78,3,IF(M76<82,4,IF(M76<86,5,IF(M76<90,6,IF(M76<94,7,IF(M76<98,8,IF(M76<101,9,10)))))))))) -> 1
A64: BARCELLONA | B64: 6 | C64: ARSENAL | D64: 5 | J64: JUVENTUS | K64: 6 | L64: LEICESTER | M64: 0
A65: KOSCIELNY | B65: 6 | C65: GODIN | D65: 6 | J65: MARCELO | K65: 5.5 | L65: ALEX SANDRO | M65: 5.5
A66: SIDIBE | B66: 6 | C66: BENATIA | D66: 6 | J66: MASCHERANO | K66: 6.5 | L66: JORDI ALBA | M66: 6
A67: ZABALETA | B67: 7 | C67: JEDVAJ | D67: 6 | J67: ARIAS | K67: 6 | L67: RUGANI | M67: 10
A68: DI MARIA | B68: 8.5 | C68: GUNDOGAN | D68: 6 | J68: ERIKSEN | K68: 7 | L68: RAKITIC | M68: 6
A69: PEREIRO | B69: 5 | C69: OZIL | D69: 8 | J69: MERTENS | K69: 11.5 | L69: T.MOTTA | M69: 5.5
A70: DELGADO | B70: 5.5 | C70: ALLI | D70: 10.5 | J70: D.GONZALES | K70: 10 | L70: QUARESMA | M70: 4.5
A71: BRAHIMI | B71: 10.5 | C71: BRANDT | D71: 10 | J71: RIBERY | K71: 5.5 | L71: NZONZI | M71: 6.5
A72: MESSI | B72: 9.5 | C72: BENZEMA | D72: 13.5 | J72: IHEANACHO | K72: 9.5 | L72: LEWANDOWSKY | M72: 10
A73: HERNANDEZ | B73: 5.5 | C73: DYBALA | D73: 6.5 | J73: SANCHEZ | K73: 6.5 | L73: CALLEJON | M73: 10
A74: LACAZETTE | B74: 5.5 | C74: GAMEIRO | D74: 5.5 | J74: ROBBEN | K74: 6 | L74: SCHURRLE | M74: 5
A75: FATTORE CAMPO | B75: 1 | J75: FATTORE CAMPO | K75: 1
B76: =SUM(B64:B75) -> 76 | D76: =SUM(D64:D75) -> 83 | K76: =SUM(K64:K75) -> 81 | M76: =SUM(M64:M75) -> 69
A77: PANCHINA | C77: PANCHINA | J77: PANCHINA | L77: PANCHINA
A78: BARCELLONA | B78: 6 | C78: ARSENAL | D78: 5 | J78: JUVENTUS | K78: 6 | L78: LEICESTER | M78: 0
A79: ALABA | B79: 6 | C79: BALANTA | D79: 4 | J79: WALKER | K79: 6 | L79: EVRA | M79: 5.5
A80: UMTITI | B80: 6 | C80: ANTUNES | D80: 6 | J80: TAH | K80: sv | L80: GUERREIRO | M80: sv
A81: FERNANDES | B81: sv | C81: HOLDING | D81: 6.5 | J81: JUANFRAN | K81: sv | L81: RAGGI | M81: 6
A82: GOTZE | B82: sv | C82: SANCHES | D82: 6 | J82: PIZZI | K82: 5.5 | L82: FABINHO | M82: sv
A83: GOMES | B83: 6 | C83: HAZARD | D83: 5 | J83: HERRERA | K83: 6 | L83: ALLAN | M83: 6
A84: ALBRIGHTON | B84: 5.5 | C84: ARANGUIZ | D84: 6 | J84: STINDL | K84: sv | L84: BJARNASON | M84: sv
A85: DEMBELE | B85: 5.5 | J85: AGUERO | K85: sv | L85: TOSUN | M85: 5
A86: COMAN | B86: sv | C86: TORRES | D86: sv | J86: REUS | K86: 9.5 | L86: BEN YEDDER | M86: 6
A87: ALCACER | B87: 6.5 | C87: JONAS | D87: sv | J87: RAFFAEL | K87: 6 | L87: SLIMANI | M87: sv

Sheet QUARTI andata
A1: QUARTI ritorno
G3: TABELLONE ALTO
A5: =+TABELLONE!A81 -> MC TOWN | B5: =IF(B17<66,0,IF(B17<70,1,IF(B17<74,2,IF(B17<78,3,IF(B17<82,4,IF(B17<86,5,IF(B17<90,6,IF(B17<94,7,IF(B17<98,8,IF(B17<101,9,10)))))))))) -> 0 | C5: =+TABELLONE!B81 -> AC DENTI | D5: =IF(D17<66,0,IF(D17<70,1,IF(D17<74,2,IF(D17<78,3,IF(D17<82,4,IF(D17<86,5,IF(D17<90,6,IF(D17<94,7,IF(D17<98,8,IF(D17<101,9,10)))))))))) -> 0 | F5: Assist | J5: =+TABELLONE!A82 -> EVRIBADI | K5: =IF(K17<66,0,IF(K17<70,1,IF(K17<74,2,IF(K17<78,3,IF(K17<82,4,IF(K17<86,5,IF(K17<90,6,IF(K17<94,7,IF(K17<98,8,IF(K17<101,9,10)))))))))) -> 0 | L5: =+TABELLONE!B82 -> MARCELLONA | M5: =IF(M17<66,0,IF(M17<70,1,IF(M17<74,2,IF(M17<78,3,IF(M17<82,4,IF(M17<86,5,IF(M17<90,6,IF(M17<94,7,IF(M17<98,8,IF(M17<101,9,10)))))))))) -> 0
A17: FATTORE CAMPO | B17: 1 | J17: FATTORE CAMPO | K17: 1
B18: =SUM(B6:B17) -> 1 | D18: =SUM(D6:D17) -> 0 | K18: =SUM(K6:K17) -> 1 | M18: =SUM(M6:M17) -> 0
A19: PANCHINA | C19: PANCHINA | J19: PANCHINA | L19: PANCHINA
A33: TABELLONE BASSO
A35: =+TABELLONE!A83 -> CS RIPOSA | B35: =IF(B47<66,0,IF(B47<70,1,IF(B47<74,2,IF(B47<78,3,IF(B47<82,4,IF(B47<86,5,IF(B47<90,6,IF(B47<94,7,IF(B47<98,8,IF(B47<101,9,10)))))))))) -> 0 | C35: =+TABELLONE!B83 -> NUMBERS | D35: =IF(D47<66,0,IF(D47<70,1,IF(D47<74,2,IF(D47<78,3,IF(D47<82,4,IF(D47<86,5,IF(D47<90,6,IF(D47<94,7,IF(D47<98,8,IF(D47<101,9,10)))))))))) -> 0 | J35: =+TABELLONE!A84 -> FLYBEARD | K35: =IF(K47<66,0,IF(K47<70,1,IF(K47<74,2,IF(K47<78,3,IF(K47<82,4,IF(K47<86,5,IF(K47<90,6,IF(K47<94,7,IF(K47<98,8,IF(K47<101,9,10)))))))))) -> 0 | L35: =+TABELLONE!B84 -> INTERFOGAT | M35: =IF(M47<66,0,IF(M47<70,1,IF(M47<74,2,IF(M47<78,3,IF(M47<82,4,IF(M47<86,5,IF(M47<90,6,IF(M47<94,7,IF(M47<98,8,IF(M47<101,9,10)))))))))) -> 0
A47: FATTORE CAMPO | B47: 1 | J47: FATTORE CAMPO | K47: 1
B48: =SUM(B36:B47) -> 1 | D48: =SUM(D36:D47) -> 0 | K48: =SUM(K36:K47) -> 1 | M48: =SUM(M36:M47) -> 0
A49: PANCHINA | C49: PANCHINA | J49: PANCHINA | L49: PANCHINA

Sheet QUARTI ritorno
A1: QUARTI ritorno
G3: TABELLONE ALTO
A5: =+TABELLONE!B81 -> AC DENTI | B5: =IF(B17<66,0,IF(B17<70,1,IF(B17<74,2,IF(B17<78,3,IF(B17<82,4,IF(B17<86,5,IF(B17<90,6,IF(B17<94,7,IF(B17<98,8,IF(B17<101,9,10)))))))))) -> 0 | C5: =+TABELLONE!A81 -> MC TOWN | D5: =IF(D17<66,0,IF(D17<70,1,IF(D17<74,2,IF(D17<78,3,IF(D17<82,4,IF(D17<86,5,IF(D17<90,6,IF(D17<94,7,IF(D17<98,8,IF(D17<101,9,10)))))))))) -> 0 | F5: Assist | J5: =+TABELLONE!B82 -> MARCELLONA | K5: =IF(K17<66,0,IF(K17<70,1,IF(K17<74,2,IF(K17<78,3,IF(K17<82,4,IF(K17<86,5,IF(K17<90,6,IF(K17<94,7,IF(K17<98,8,IF(K17<101,9,10)))))))))) -> 0 | L5: =+TABELLONE!A82 -> EVRIBADI | M5: =IF(M17<66,0,IF(M17<70,1,IF(M17<74,2,IF(M17<78,3,IF(M17<82,4,IF(M17<86,5,IF(M17<90,6,IF(M17<94,7,IF(M17<98,8,IF(M17<101,9,10)))))))))) -> 0
A17: FATTORE CAMPO | B17: 1 | J17: FATTORE CAMPO | K17: 1
B18: =SUM(B6:B17) -> 1 | D18: =SUM(D6:D17) -> 0 | K18: =SUM(K6:K17) -> 1 | M18: =SUM(M6:M17) -> 0
A19: PANCHINA | C19: PANCHINA | J19: PANCHINA | L19: PANCHINA
A33: TABELLONE BASSO
A35: =+TABELLONE!B83 -> NUMBERS | B35: =IF(B47<66,0,IF(B47<70,1,IF(B47<74,2,IF(B47<78,3,IF(B47<82,4,IF(B47<86,5,IF(B47<90,6,IF(B47<94,7,IF(B47<98,8,IF(B47<101,9,10)))))))))) -> 0 | C35: =+TABELLONE!A83 -> CS RIPOSA | D35: =IF(D47<66,0,IF(D47<70,1,IF(D47<74,2,IF(D47<78,3,IF(D47<82,4,IF(D47<86,5,IF(D47<90,6,IF(D47<94,7,IF(D47<98,8,IF(D47<101,9,10)))))))))) -> 0 | J35: =+TABELLONE!B84 -> INTERFOGAT | K35: =IF(K47<66,0,IF(K47<70,1,IF(K47<74,2,IF(K47<78,3,IF(K47<82,4,IF(K47<86,5,IF(K47<90,6,IF(K47<94,7,IF(K47<98,8,IF(K47<101,9,10)))))))))) -> 0 | L35: =+TABELLONE!A84 -> FLYBEARD | M35: =IF(M47<66,0,IF(M47<70,1,IF(M47<74,2,IF(M47<78,3,IF(M47<82,4,IF(M47<86,5,IF(M47<90,6,IF(M47<94,7,IF(M47<98,8,IF(M47<101,9,10)))))))))) -> 0
A47: FATTORE CAMPO | B47: 1 | J47: FATTORE CAMPO | K47: 1
B48: =SUM(B36:B47) -> 1 | D48: =SUM(D36:D47) -> 0 | K48: =SUM(K36:K47) -> 1 | M48: =SUM(M36:M47) -> 0
A49: PANCHINA | C49: PANCHINA | J49: PANCHINA | L49: PANCHINA

Sheet SEMIFINALE andata
A1: SEMIFINALE andata
G3: TABELLONE
A5: =TABELLONE!A89 -> rigori | B5: =IF(B18<66,0,IF(B18<70,1,IF(B18<74,2,IF(B18<78,3,IF(B18<82,4,IF(B18<86,5,IF(B18<90,6,IF(B18<94,7,IF(B18<98,8,IF(B18<101,9,10)))))))))) -> 0 | C5: =TABELLONE!B89 -> rigori | D5: =IF(D18<66,0,IF(D18<70,1,IF(D18<74,2,IF(D18<78,3,IF(D18<82,4,IF(D18<86,5,IF(D18<90,6,IF(D18<94,7,IF(D18<98,8,IF(D18<101,9,10)))))))))) -> 0 | J5: =TABELLONE!A90 -> rigori | K5: =IF(K18<66,0,IF(K18<70,1,IF(K18<74,2,IF(K18<78,3,IF(K18<82,4,IF(K18<86,5,IF(K18<90,6,IF(K18<94,7,IF(K18<98,8,IF(K18<101,9,10)))))))))) -> 0 | L5: =TABELLONE!B90 -> rigori | M5: =IF(M18<66,0,IF(M18<70,1,IF(M18<74,2,IF(M18<78,3,IF(M18<82,4,IF(M18<86,5,IF(M18<90,6,IF(M18<94,7,IF(M18<98,8,IF(M18<101,9,10)))))))))) -> 0
A17: FATTORE CAMPO | B17: 1 | J17: FATTORE CAMPO | K17: 1
B18: =SUM(B6:B17) -> 1 | D18: =SUM(D6:D17) -> 0 | K18: =SUM(K6:K17) -> 1 | M18: =SUM(M6:M17) -> 0
A19: PANCHINA | C19: PANCHINA | J19: PANCHINA | L19: PANCHINA

Sheet SEMIFINALE ritorno
A1: SEMIFINALE ritorno
G3: TABELLONE
A5: =TABELLONE!B89 -> rigori | B5: =IF(B18<66,0,IF(B18<70,1,IF(B18<74,2,IF(B18<78,3,IF(B18<82,4,IF(B18<86,5,IF(B18<90,6,IF(B18<94,7,IF(B18<98,8,IF(B18<101,9,10)))))))))) -> 0 | C5: =TABELLONE!A89 -> rigori | D5: =IF(D18<66,0,IF(D18<70,1,IF(D18<74,2,IF(D18<78,3,IF(D18<82,4,IF(D18<86,5,IF(D18<90,6,IF(D18<94,7,IF(D18<98,8,IF(D18<101,9,10)))))))))) -> 0 | F5: Assist | J5: =TABELLONE!B90 -> rigori | K5: =IF(K18<66,0,IF(K18<70,1,IF(K18<74,2,IF(K18<78,3,IF(K18<82,4,IF(K18<86,5,IF(K18<90,6,IF(K18<94,7,IF(K18<98,8,IF(K18<101,9,10)))))))))) -> 0 | L5: =TABELLONE!A90 -> rigori | M5: =IF(M18<66,0,IF(M18<70,1,IF(M18<74,2,IF(M18<78,3,IF(M18<82,4,IF(M18<86,5,IF(M18<90,6,IF(M18<94,7,IF(M18<98,8,IF(M18<101,9,10)))))))))) -> 0
A17: FATTORE CAMPO | B17: 1 | J17: FATTORE CAMPO | K17: 1
B18: =SUM(B6:B17) -> 1 | D18: =SUM(D6:D17) -> 0 | K18: =SUM(K6:K17) -> 1 | M18: =SUM(M6:M17) -> 0
A19: PANCHINA | C19: PANCHINA | J19: PANCHINA | L19: PANCHINA

Sheet FINALE
A1: FINALE
B3: ANDATA | K3: RITORNO
A5: =TABELLONE!A95 -> 0 | B5: =IF(B18<66,0,IF(B18<70,1,IF(B18<74,2,IF(B18<78,3,IF(B18<82,4,IF(B18<86,5,IF(B18<90,6,IF(B18<94,7,IF(B18<98,8,IF(B18<101,9,10)))))))))) -> 0 | C5: =TABELLONE!B95 -> 0 | D5: =IF(D18<66,0,IF(D18<70,1,IF(D18<74,2,IF(D18<78,3,IF(D18<82,4,IF(D18<86,5,IF(D18<90,6,IF(D18<94,7,IF(D18<98,8,IF(D18<101,9,10)))))))))) -> 0 | J5: =TABELLONE!B95 -> 0 | K5: =IF(K18<66,0,IF(K18<70,1,IF(K18<74,2,IF(K18<78,3,IF(K18<82,4,IF(K18<86,5,IF(K18<90,6,IF(K18<94,7,IF(K18<98,8,IF(K18<101,9,10)))))))))) -> 0 | L5: =TABELLONE!A95 -> 0 | M5: =IF(M18<66,0,IF(M18<70,1,IF(M18<74,2,IF(M18<78,3,IF(M18<82,4,IF(M18<86,5,IF(M18<90,6,IF(M18<94,7,IF(M18<98,8,IF(M18<101,9,10)))))))))) -> 0
A17: FATTORE CAMPO | B17: 1 | J17: FATTORE CAMPO | K17: 1
B18: =SUM(B6:B17) -> 1 | D18: =SUM(D6:D17) -> 0 | K18: =SUM(K6:K17) -> 1 | M18: =SUM(M6:M17) -> 0
A19: PANCHINA | C19: PANCHINA | J19: PANCHINA | L19: PANCHINA

Sheet lista giocatori
A1: RUOLO | B1: NOME | C1: SQUADRA | D1: QUOTAZIONE
A2: P | B2: DORTMUND | C2: DORTMUND
A3: P | B3: BENFICA | C3: BENFICA
A4: P | B4: MONACO | C4: MONACO
A5: P | B5: SIVIGLIA | C5: SIVIGLIA
A6: P | B6: LEVERKUSEN | C6: LEVERKUSEN
A7: P | B7: CSKA MOSCA | C7: CSKA MOSCA
A8: P | B8: LIONE | C8: LIONE
A9: P | B9: PSV | C9: PSV
A10: P | B10: BESIKTAS | C10: BESIKTAS
A11: P | B11: BORUSSIA MONCHENGLADBACH | C11: BORUSSIA MONCHENGLADBACH
A12: P | B12: SPORTING LISBONA | C12: SPORTING LISBONA
A13: P | B13: BASILEA | C13: BASILEA
... A21: P | B21: DINAMO ZAGABRIA | C21: DINAMO ZAGABRIA
A22: D | B22: BERNAT | C22: BAY | D22: 12
A23: D | B23: ELISEU | C23: BEN | D23: 12
A24: D | B24: SAVIC | C24: ATL | D24: 11
A25: D | B25: ENGELS | C25: BRU | D25: 11
A26: D | B26: MENDY B. | C26: MON | D26: 11
A27: D | B27: WILLEMS | C27: PSV | D27: 11
A28: D | B28: GINTER | C28: DOR | D28: 10
A29: D | B29: DRAGOVIC | C29: LEV | D29: 10
A30: D | B30: JEMERSON | C30: MON | D30: 10
A31: D | B31: KOLODZIEJCZAK | C31: SIV | D31: 10
A32: D | B32: COATES | C32: SPO | D32: 10
A33: D | B33: GIBBS | C33: ARS | D33: 9
... A360: A | B360: INSIGNE R | C360: NAP | D360: 1

Sheet interfogat
A1: Squadra | B1: Luca Valli
A3: Portiere | B3: Squadra
A4: PSG | B4: PSG
A6: Difensori
A7: DANI ALVES | B7: JUV
A8: VERTONGHEN | B8: TOT
A9: TELLES | B9: POR
A10: KOULIBALY | B10: NAP
A11: JAVI MARTINEZ | B11: BAY
A12: MARCANO | B12: POR
A13: MAKSIMOVIC | B13: NAP
A14: GRIMALDO | B14: SIV
A16: Centrocampisti
A17: DE BRUYNE | B17: MAC
A18: MODRIC | B18: RMA
A19: INIESTA | B19: BAR
A20: DIER | B20: TOT
A21: OTAVIO | B21: POR
A22: JAMES RODRIGUEZ | B22: RMA
A23: KOVACIC | B23: RMA
A24: ANDRE ANDRE | B24: POR
A26: Attaccanti
A27: RONALDO | B27: RMA
A28: A. SILVA | B28: POR
A29: LUCAS | B29: PSG
A30: GABBIADINI | B30: NAP
A31: DEPOITRE | B31: POR
A32: DIABY | B32: BRU

Sheet skiacciak
A1: Squadra | B1: Fabrizio Rapetti
A3: Portiere | B3: Squadra
A4: LEICESTER | B4: LEI
A6: Difensori
A7: ALEXSANDRO | B7: JUV
A8: JORDI ALBA | B8: BAR
A9: GUERREIRO | B9: DOR
A10: LAYUN | B10: POR
A11: RAGGI | B11: MON
A12: EVRA | B12: JUV
A13: ERKIN | B13: BES
A14: RUGANI | B14: JUV
A16: Centrocampisti
A17: RAKITIC | B17: BAR
A18: FABINHO | B18: MON
A19: ALLAN | B19: NAP
A20: RODE | B20: DOR
A21: QUARESMA | B21: BES
A22: NZONZI | B22: SIV
A23: MOTTA | B23: PSG
A24: BJARNASON | B24: BAS
A26: Attaccanti
A27: LEWANDOWSKI | B27: BAY
A28: CALLEJON | B28: NAP
A29: SCHURRLE | B29: DOR
A30: BEN YEDDER | B30: SIV
A31: TOSUN | B31: BES
A32: SLIMANI | B32: LEI

Sheet numbers
A1: Squadra | B1: Andrea Martino
A3: Portiere | B3: Squadra
A4: BARCELLONA | B4: BAR
A6: Difensori
A7: ALABA | B7: BAY
A8: KOSCIELNY | B8: ARS
A9: SCHMELZER | B9: DOR
A10: UMTITI | B10: BAR
A11: ZABALETA | B11: MAC
A12: SIDIBE | B12: MON
A13: NKOULOU | B13: LYO
A14: FERNANDES M. | B14: CSK
A16: Centrocampisti
A17: DI MARIA | B17: PSG
A18: GOTZE | B18: DOR
A19: BRAHIMI | B19: POR
A20: ALBRIGHTON | B20: LEI
A21: DELGADO | B21: BAS
A22: D. SUAREZ | B22: BAR
A23: G. PEREIRO | B23: PSV
A24: A. GOMES | B24: BAR
A26: Attaccanti
A27: MESSI | B27: BAR
A28: HERNANDEZ | B28: BAL
A29: LACAZETTE | B29: LIO
A30: DEMBELÉ M | B30: CEL
A31: ALCACER | B31: BAR
A32: COMAN | B32: BAY

Sheet cs riposa
A1: Squadra | B1: Leonardo Berti e Matteo Serani
A3: Portiere | B3: Squadra
A4: TOTTENHAM | B4: TOT
A6: Difensori
A7: CARVAHAL | B7: RMA
A8: GHOULAM | B8: NAP
A9: KURZAWA | B9: PSG
A10: RAMI | B10: SIV
A11: BARTRA | B11: DOR
A12: DANILO | B12: RMA
A13: SCHENNIKOV | B13: CSK
A14: WENDELL | B14: BAL
A16: Centrocampisti
A17: DOUGLAS COSTA | B17: BAY
A18: KROOS | B18: RMA
A19: NASRI | B19: SIV
A20: MOUTINHO | B20: MON
A21: GABI | B21: ATL
A22: MARCHISIO | B22: JUV
A23: DRINKWATER | B23: LEI
A24: LEMINA | B24: JUV
A26: Attaccanti
A27: MULLER | B27: BAY
A28: MORATA | B28: RMA
A29: NOLITO | B29: MAC
A30: SON | B30: TOT
A31: DOST | B31: SPO
A32: GERMAIN | B32: MON

Sheet ac denti
A1: Squadra | B1: Luca Serani
A3: Portiere | B3: Squadra
A4: MANCHESTER CITY | B4: MAC
A6: Difensori
A7: SERGIO RAMOS | B7: RMA
A8: PIQUE | B8: BAR
A9: BOATENG | B9: BAY
A10: MAXI PEREIRA | B10: POR
A11: VARANE | B11: RMA
A12: PISZCZEK | B12: DOR
A13: TOPRAK | B13: BAL
A14: VIDA | B14: DYN
A16: Centrocampisti
A17: MAHREZ | B17: LEI
A18: BELLARABI | B18: BAL
A19: KOKE | B19: ATL
A20: CHAMBERLAIN | B20: ARS
A21: DEMBELE | B21: DOR
A22: BOUSQUETS | B22: BAR
A23: ASENSIO | B23: RMA
A24: VALBUENA | B24: LIO
A26: Attaccanti
A27: SUAREZ | B27: BAR
A28: MILIK | B28: NAP
A29: VIETTO | B29: SIV
A30: FALCAO | B30: MON
A31: ABOUBAKAR | B31: BES
A32: LOCADIA | B32: PSV

Sheet ac conte
A1: Squadra | B1: Marco Mannucci
A3: Portiere | B3: Squadra
A4: PORTO | B4: POR
A6: Difensori
A7: LAHM | B7: BAY
A8: PEPE | B8: RMA
A9: SERGI ROBERTO | B9: BAR
A10: STONES | B10: MAC
A11: CHIELLINI | B11: JUV
A12: LINDELOF | B12: BEN
A13: MORENO | B13: PSV
A14: FELIPE | B14: POR
A16: Centrocampisti
A17: VIDAL | B17: BAY
A18: CARRASCO | B18: ATL
A19: SALVIO | B19: BEN
A20: ARDA TURAN | B20: BAR
A21: CORONA | B21: POR
A22: GAITAN | B22: ATL
A23: GUARDADO | B23: PSV
A24: G. XHAKA | B24: ARS
A26: Attaccanti
A27: HIGUAIN | B27: JUV
A28: GIROUD | B28: ARS
A29: YARMOLENKO | B29: DIN
A30: MEHMEDI | B30: BAL
A31: MANDZUKIC | B31: JUV
A32: NARSINGH | B32: PSV

Sheet flybeard
A1: Squadra | B1: Federico Corradi e Luca Frongia
A3: Portiere | B3: Squadra
A4: ARSENAL | B4: ARS
A6: Difensori
A7: GODIN | B7: ATL
A8: BARZAGLI | B8: JUV
A9: BENATIA | B9: JUV
A10: BELLERIN | B10: ARS
A11: JEDVAJ | B11: BAL
A12: BALANTA | B12: BAS
A13: HOLDING | B13: ARS
A14: ANTUNES | B14: DYN
A16: Centrocampisti
A17: OZIL | B17: ARS
A18: VERRATTI | B18: PSG
A19: ARANGUIZ | B19: BAL
A20: ALLI | B20: TOT
A21: BRANDT | B21: BAL
A22: SANCHES | B22: BAY
A23: HAZARD | B23: BOM
A24: GUNDOGAN | B24: MAC
A26: Attaccanti
A27: DYBALA | B27: JUV
A28: BENZEMA | B28: RMA
A29: GAMEIRO | B29: ATL
A30: JONAS | B30: BEN
A31: F. TORRES | B31: ATL
A32: PJACA | B32: JUV

Sheet marcellona
A1: Squadra | B1: Giovanni Aquino
A3: Portiere | B3: Squadra
A4: NAPOLI | B4: NAP
A6: Difensori
A7: THIAGO SILVA | B7: PSG
A8: GIMENEZ | B8: ATL
A9: ALBIOL | B9: NAP
A10: ALDERWEIRELED | B10: TOT
A11: MONREAL | B11: ARS
A12: ROSE | B12: TOT
A13: MUSTAFI | B13: ARS
A14: SEMEDO | B14: BEN
A16: Centrocampisti
A17: HAMSIK | B17: NAP
A18: D. SILVA | B18: MAC
A19: VAZQUEZ F. | B19: SIV
A20: B. SILVA | B20: MON
A21: RAMSEY | B21: ARS
A22: CASEMIRO | B22: RMA
A23: GANSO | B23: SIV
A24: KING | B24: LEI
A26: Attaccanti
A27: GRIEZMANN | B27: ATL
A28: KANE | B28: TOT
A29: WALCOTT | B29: ARS
A30: BEN ARFA | B30: PSG
A31: RUIZ | B31: SPO
A32: CORREA | B32: ATL

Sheet evribadi
A1: Squadra | B1: Fabio Nepi
A3: Portiere | B3: Squadra
A4: ATLETICO MADRID | B4: ATL
A6: Difensori
A7: KOLAROV | B7: MAC
A8: FILIPE LUIS | B8: ATL
A9: KIMMICH | B9: BAY
A10: HUTH | B10: LEI
A11: FUCHS | B11: LEI
A12: AURIER | B12: PSG
A13: PAPASTATHOPOULOS | B13: DOR
A14: SIMPSON | B14: LEI
A16: Centrocampisti
A17: LAMELA | B17: TOT
A18: KHEDIRA | B18: JUV
A19: THIAGO ALCANTARA | B19: BAY
A20: DZAGOEV | B20: CSK
A21: RABIOT | B21: PSG
A22: MATUIDI | B22: PSG
A23: CUADRADO | B23: JUV
A24: ASAMOAH | B24: JUV
A26: Attaccanti
A27: BALE | B27: RMA
A28: VARDY | B28: LEI
A29: KIESSLING | B29: BAL
A30: JESE | B30: PSG
A31: OKAZAKI | B31: LEI
A32: ULLOA | B32: LEI

Sheet scarsenal
A1: Squadra | B1: Marco Di Florio
A3: Portiere | B3: Squadra
A4: REAL MADRID | B4: RMA
A6: Difensori
A7: BONUCCI | B7: JUV
A8: MATHIEU | B8: BAR
A9: DIGNE | B9: BAR
A10: HYSAJ | B10: NAP
A11: CLICHY | B11: MAC
A12: SAGNA | B12: MAC
A13: BRENET | B13: PSV
A14: YAMGA MBIWA | B14: LIO
A16: Centrocampisti
A17: CALHANOGLU | B17: BAL
A18: CAZORLA | B18: ARS
A19: KAGAWA | B19: DOR
A20: XABI ALONSO | B20: BAY
A21: LUCAS VAZQUEZ | B21: RMA
A22: FERRI | B22: LIO
A23: KALULU | B23: LIO
A24: CORREA J. | B24: SIV
A26: Attaccanti
A27: CAVANI | B27: PSG
A28: DE JONG | B28: PSV
A29: INSIGNE | B29: NAP
A30: DOUMBIA | B30: BAS
A31: LUCAS PEREZ | B31: ARS
A32: CAFU | B32: LUD

Sheet mc town
A1: Squadra | B1: Davide Pizzuto
A3: Portiere | B3: Squadra
A4: JUVENTUS | B4: JUV
A6: Difensori
A7: MARCELO | B7: RMA
A8: JUANFRAN | B8: ATL
A9: WALKER | B9: TOT
A10: MASCHERANO | B10: BAR
A11: TAH | B11: BAL
A12: KOMPANY | B12: MAC
A13: ARIAS | B13: PSV
A14: BOLINGOLI-MBOMBO | B14: BRU
A16: Centrocampisti
A17: RIBERY | B17: BAY
A18: ERIKSEN | B18: TOT
A19: MERTENS | B19: NAP
A20: HERRERA | B20: POR
A21: FERNANDINHO | B21: MAC
A22: PIZZI | B22: BEN
A23: STINDL | B23: BOM
A24: GONZALEZ | B24: DYN
A26: Attaccanti
A27: AGUERO | B27: MAC
A28: SANCHEZ | B28: ARS
A29: ROBBEN | B29: BAY
A30: REUS | B30: DOR
A31: RAFFAEL | B31: BOM
A32: IHEANACHO | B32: MAC

Sheet brigata gurren
A1: Squadra | B1: Alessandro Bianchi
A3: Portiere | B3: Squadra
A4: BAYERN MONACO | B4: BAY
A6: Difensori
A7: HUMMELS | B7: BAY
A8: MARQUINHOS | B8: PSG
A9: GLIK | B9: MON
A10: OTAMENDI | B10: MAC
A11: MORGAN | B11: LEI
A12: LOPEZ | B12: BEN
A13: IGNASHEVICH | B13: CSK
A14: SCHELOTTO | B14: SPO
A16: Centrocampisti
A17: PJANIC | B17: JUV
A18: STERLING | B18: MAC
A19: MARTINS | B19: SPO
A20: SAUL | B20: ATL
A21: VITOLO | B21: SIV
A22: CASTRO | B22: DOR
A23: EREMENKO | B23: CSK
A24: JORGINHO | B24: NAP
A26: Attaccanti
A27: AUBAMEYANG | B27: BOR
A28: NEYMAR | B28: BAR
A29: JIMENEZ | B29: BEN
A30: MORAES | B30: DIN
A31: TRAORE | B31: CSK
A32: FEKIR | B32: LIO
